{"text_format":"1","workbook":"xlsx","n_sheets":9,"sheets":["Weekly Meals","Grocery List","Inventory","Meal Input","Online Meal Input","Add Ingredient","Sides","Dessert","Recipes"],"not_rendered":{"charts":0,"images":0,"macros":1,"external_links":0,"defined_names":5,"comments":0,"pivot_tables":0},"unopened":[],"bounds":{"document_bytes":16777216,"sheet_cells":100000,"rows_first":2000,"rows_last":500,"rows_between":2000,"halvings":0,"cell_chars":16384,"cell_head_chars":4096},"cells_cut":0,"cells_raw":0,"read":"whole","date_system":"1900"}

{"sheet":"Weekly Meals","index":0,"n_rows":13,"n_cols":6,"rows_kept":13,"cut":false,"hidden":false,"merged":[]}
[null,"Main","Side 1","Side 2","Side 3","Dessert"]
["Meal 1"]
["Meal 2"]
["Meal 3"]
["Meal 4"]
["Meal 5"]
["Meal 6"]
["Meal 7"]
["Meal 8"]
[]
[]
[null,null,"Main","Side","Dessert"]
[null,"Delete Meal"]

{"sheet":"Grocery List","index":1,"n_rows":22,"n_cols":4,"rows_kept":22,"cut":false,"hidden":false,"merged":[]}
["Item","Qty","Category","Price"]
["Fennel Seeds",1,"Baking",3.5]
["Olive Oil",1,"Baking",5]
["(28 ounce) Can Crushed Tomatoes",3,"Canned",2]
["Almond Milk",1,"Dairy",3.5]
["Butter",2,"Dairy",2.5]
["Cheddar",1,"Dairy",13]
["Eggs",9,"Dairy",2]
["Milk (whole)",1,"Dairy",2.99]
["Peach Yogurt",1,"Dairy",3]
["String Cheese",1,"Dairy",9]
["Yogurt (Plain)",1,"Dairy",2.5]
["Pop",1,"extra",4]
["Bananas",4,"Fruit",0.6]
["Grapes",2,"Fruit",4]
["Strawberries",1,"Fruit",3.5]
["Bread",2,"Grain",2]
["Hamburger Buns",1,"Grain",1.78]
["Lasagna Noodles",1,"Grain",3]
["Fish",9,"Meat",3]
["Lettuce",1,"Vegetable",1.68]
["20 Items","Total Price","=",126.84999847412109]

{"sheet":"Inventory","index":2,"n_rows":209,"n_cols":33,"rows_kept":209,"cut":false,"hidden":false,"merged":[]}
[null,null,null,null,null,null,null,null,null,null,null,null,1]
["Current Inventory","QTY","Price","Additional","x","X","Category","BUY","Req","Min. Inventory","Meal Req","BBQ Chicken","Fish","Spaghetti","Pancakes","Beef Stroganoff","Broccoli Cheese Soup","Oven Fajitas","Grilled Cheese","Hamburgers","Crepes","Turkey","Shoyu Chicken","Classic Spicy Meatloaf Recipe ","Baked Teriyaki Chicken Recipe ","Sweet, Sticky and Spicy Chicken Recipe ","Mom's Chicken Pot Pie","Old Fashioned Beef Stew","Slow Cooker Beef Stroganoff","Slow Cooker Buffalo Chicken Sandwiches Recipe ","Jamie's Minestrone Recipe ","Slow Cooker Ground Beef Barbecue","World's Best Lasagna Recipe "]
["Cake Mix",0,3,null,1,"Each","Baking",{"$f":"ROUNDUP(IF(B3>I3,0+D3,I3-B3+D3),0)","v":0},{"$f":"J3+K3/E3","v":0},0,{"$f":"SUMPRODUCT($L$1:$XFD$1,L3:XFD3)+SUMPRODUCT(Sides!$C$1:$XFD$1,Sides!C3:XFD3)+SUMPRODUCT(Dessert!$C$1:$XFD$1,Dessert!C3:XFD3)","v":0}]
["Frosting",0,3,null,1,"Each","Baking",{"$f":"ROUNDUP(IF(B4>I4,0+D4,I4-B4+D4),0)","v":0},{"$f":"J4+K4/E4","v":0},0,{"$f":"SUMPRODUCT($L$1:$XFD$1,L4:XFD4)+SUMPRODUCT(Sides!$C$1:$XFD$1,Sides!C4:XFD4)+SUMPRODUCT(Dessert!$C$1:$XFD$1,Dessert!C4:XFD4)","v":0}]
["Pam",1.2,2.5,null,1,"Each","Baking",0,{"$f":"J5+K5/E5","v":1},1,{"$f":"SUMPRODUCT($L$1:$XFD$1,L5:XFD5)+SUMPRODUCT(Sides!$C$1:$XFD$1,Sides!C5:XFD5)+SUMPRODUCT(Dessert!$C$1:$XFD$1,Dessert!C5:XFD5)","v":0}]
["Eggo Waffles",0,3,null,1,"Each","Boxed",0,0,0,{"$f":"SUMPRODUCT($L$1:$XFD$1,L6:XFD6)+SUMPRODUCT(Sides!$C$1:$XFD$1,Sides!C6:XFD6)+SUMPRODUCT(Dessert!$C$1:$XFD$1,Dessert!C6:XFD6)","v":0}]
["Fajita Sauce Packet",0,0.98,null,1,"Each","Boxed",0,0,0,{"$f":"SUMPRODUCT($L$1:$XFD$1,L7:XFD7)+SUMPRODUCT(Sides!$C$1:$XFD$1,Sides!C7:XFD7)+SUMPRODUCT(Dessert!$C$1:$XFD$1,Dessert!C7:XFD7)","v":0}]
["Frozen Pizza",1,5,null,1,"Each","Boxed",0,0,0,{"$f":"SUMPRODUCT($L$1:$XFD$1,L8:XFD8)+SUMPRODUCT(Sides!$C$1:$XFD$1,Sides!C8:XFD8)+SUMPRODUCT(Dessert!$C$1:$XFD$1,Dessert!C8:XFD8)","v":0}]
["Fruit Snacks",2,3,null,1,"Each","Boxed",0,2,2,{"$f":"SUMPRODUCT($L$1:$XFD$1,L9:XFD9)+SUMPRODUCT(Sides!$C$1:$XFD$1,Sides!C9:XFD9)+SUMPRODUCT(Dessert!$C$1:$XFD$1,Dessert!C9:XFD9)","v":0}]
["Gold Fish",3,8,null,1,"Each","Boxed",0,1,1,{"$f":"SUMPRODUCT($L$1:$XFD$1,L10:XFD10)+SUMPRODUCT(Sides!$C$1:$XFD$1,Sides!C10:XFD10)+SUMPRODUCT(Dessert!$C$1:$XFD$1,Dessert!C10:XFD10)","v":0}]
["Mac & Cheese",0,1,null,1,"Each","Boxed",0,0,0,{"$f":"SUMPRODUCT($L$1:$XFD$1,L11:XFD11)+SUMPRODUCT(Sides!$C$1:$XFD$1,Sides!C11:XFD11)+SUMPRODUCT(Dessert!$C$1:$XFD$1,Dessert!C11:XFD11)","v":0}]
["Shakenbake",0,1.38,null,1,"Each","Boxed",0,0,0,{"$f":"SUMPRODUCT($L$1:$XFD$1,L12:XFD12)+SUMPRODUCT(Sides!$C$1:$XFD$1,Sides!C12:XFD12)+SUMPRODUCT(Dessert!$C$1:$XFD$1,Dessert!C12:XFD12)","v":0}]
["Stroganoff",0,3,null,1,"Each","Boxed",0,0,0,{"$f":"SUMPRODUCT($L$1:$XFD$1,L13:XFD13)+SUMPRODUCT(Sides!$C$1:$XFD$1,Sides!C13:XFD13)+SUMPRODUCT(Dessert!$C$1:$XFD$1,Dessert!C13:XFD13)","v":0}]
["Teriyaki Sauce",1,3,null,1,"Each","Boxed",0,0,0,{"$f":"SUMPRODUCT($L$1:$XFD$1,L14:XFD14)+SUMPRODUCT(Sides!$C$1:$XFD$1,Sides!C14:XFD14)+SUMPRODUCT(Dessert!$C$1:$XFD$1,Dessert!C14:XFD14)","v":0}]
["Black Olives",2,2.5,null,1,"Each","Canned",0,2,2,{"$f":"SUMPRODUCT($L$1:$XFD$1,L15:XFD15)+SUMPRODUCT(Sides!$C$1:$XFD$1,Sides!C15:XFD15)+SUMPRODUCT(Dessert!$C$1:$XFD$1,Dessert!C15:XFD15)","v":0}]
["Chicken Noodle Soup",2,1,null,1,"Each","Canned",0,2,2,{"$f":"SUMPRODUCT($L$1:$XFD$1,L16:XFD16)+SUMPRODUCT(Sides!$C$1:$XFD$1,Sides!C16:XFD16)+SUMPRODUCT(Dessert!$C$1:$XFD$1,Dessert!C16:XFD16)","v":0}]
["Cream of Mushroom",6,1,null,1,"Each","Canned",0,2,2,{"$f":"SUMPRODUCT($L$1:$XFD$1,L17:XFD17)+SUMPRODUCT(Sides!$C$1:$XFD$1,Sides!C17:XFD17)+SUMPRODUCT(Dessert!$C$1:$XFD$1,Dessert!C17:XFD17)","v":0},null,null,null,null,1,null,null,null,null,null,null,null,null,null,null,null,null,1]
["Pork & Beans",0,1.62,null,1,"Each","Canned",0,0,0,{"$f":"SUMPRODUCT($L$1:$XFD$1,L18:XFD18)+SUMPRODUCT(Sides!$C$1:$XFD$1,Sides!C18:XFD18)+SUMPRODUCT(Dessert!$C$1:$XFD$1,Dessert!C18:XFD18)","v":0}]
["Raviolis",0,1,null,1,"Each","Canned",0,0,0,{"$f":"SUMPRODUCT($L$1:$XFD$1,L19:XFD19)+SUMPRODUCT(Sides!$C$1:$XFD$1,Sides!C19:XFD19)+SUMPRODUCT(Dessert!$C$1:$XFD$1,Dessert!C19:XFD19)","v":0}]
["Refried Beans",3,0.88,null,1,"Each","Canned",0,2,2,{"$f":"SUMPRODUCT($L$1:$XFD$1,L20:XFD20)+SUMPRODUCT(Sides!$C$1:$XFD$1,Sides!C20:XFD20)+SUMPRODUCT(Dessert!$C$1:$XFD$1,Dessert!C20:XFD20)","v":0}]
["Tomato Sauce",7,1,null,1,"Each","Canned",{"$f":"ROUNDUP(IF(B21>I21,0+D21,I21-B21+D21),0)","v":0},2,2,{"$f":"SUMPRODUCT($L$1:$XFD$1,L21:XFD21)+SUMPRODUCT(Sides!$C$1:$XFD$1,Sides!C21:XFD21)+SUMPRODUCT(Dessert!$C$1:$XFD$1,Dessert!C21:XFD21)","v":0},null,null,1,null,null,null,null,null,null,null,null,null,null,null,null,null,null,null,null,2,null,2]
["Tomato Soup",4,2,null,1,"Each","Canned",0,2,2,{"$f":"SUMPRODUCT($L$1:$XFD$1,L22:XFD22)+SUMPRODUCT(Sides!$C$1:$XFD$1,Sides!C22:XFD22)+SUMPRODUCT(Dessert!$C$1:$XFD$1,Dessert!C22:XFD22)","v":0}]
["Crushed Red Pepper",0.75,3,null,0.5,"Cups","Condiments",0,0.5,0.5,{"$f":"SUMPRODUCT($L$1:$XFD$1,L23:XFD23)+SUMPRODUCT(Sides!$C$1:$XFD$1,Sides!C23:XFD23)+SUMPRODUCT(Dessert!$C$1:$XFD$1,Dessert!C23:XFD23)","v":0},null,null,null,null,null,null,null,null,null,null,null,0.1]
["Italian Dressing Mix",1,1.5,null,1,"Each","Condiments",0,0,0,{"$f":"SUMPRODUCT($L$1:$XFD$1,L24:XFD24)+SUMPRODUCT(Sides!$C$1:$XFD$1,Sides!C24:XFD24)+SUMPRODUCT(Dessert!$C$1:$XFD$1,Dessert!C24:XFD24)","v":0}]
["Italian Seasoning",0.8,3,null,0.25,"Cups","Condiments",0,0,0,{"$f":"SUMPRODUCT($L$1:$XFD$1,L25:XFD25)+SUMPRODUCT(Sides!$C$1:$XFD$1,Sides!C25:XFD25)+SUMPRODUCT(Dessert!$C$1:$XFD$1,Dessert!C25:XFD25)","v":0},null,null,null,null,null,null,null,null,null,null,null,null,null,null,null,null,null,null,null,null,null,2.0833299999999999E-2]
["Ketchup",2,3,null,4,"Cups","Condiments",0,1,1,{"$f":"SUMPRODUCT($L$1:$XFD$1,L26:XFD26)+SUMPRODUCT(Sides!$C$1:$XFD$1,Sides!C26:XFD26)+SUMPRODUCT(Dessert!$C$1:$XFD$1,Dessert!C26:XFD26)","v":0},null,null,null,null,null,null,null,null,0.25,null,null,null,0.66666668653488159,null,null,null,null,null,null,null,3.5]
["Mayo",1.5,3.5,null,3,"Cups","Condiments",0,1,1,{"$f":"SUMPRODUCT($L$1:$XFD$1,L27:XFD27)+SUMPRODUCT(Sides!$C$1:$XFD$1,Sides!C27:XFD27)+SUMPRODUCT(Dessert!$C$1:$XFD$1,Dessert!C27:XFD27)","v":0},null,null,null,null,null,null,null,null,0.125]
["Mustard",3,2.5,null,3,"Cups","Condiments",0,1,1,{"$f":"SUMPRODUCT($L$1:$XFD$1,L28:XFD28)+SUMPRODUCT(Sides!$C$1:$XFD$1,Sides!C28:XFD28)+SUMPRODUCT(Dessert!$C$1:$XFD$1,Dessert!C28:XFD28)","v":0},null,null,null,null,null,null,null,null,0.125,null,null,null,null,null,null,null,null,null,null,null,0.125]
["Salsa",0.5,2.5,null,2,"Cups","Condiments",0,0,0,{"$f":"SUMPRODUCT($L$1:$XFD$1,L29:XFD29)+SUMPRODUCT(Sides!$C$1:$XFD$1,Sides!C29:XFD29)+SUMPRODUCT(Dessert!$C$1:$XFD$1,Dessert!C29:XFD29)","v":0}]
["Butter",3,2.5,null,2,"Cups","Dairy",2,4.05,4,{"$f":"SUMPRODUCT($L$1:$XFD$1,L30:XFD30)+SUMPRODUCT(Sides!$C$1:$XFD$1,Sides!C30:XFD30)+SUMPRODUCT(Dessert!$C$1:$XFD$1,Dessert!C30:XFD30)","v":0.1},null,0.1,null,null,null,0.5,null,0.25,null,0.125,null,null,0.125,null,null,0.3333333432674408,null,null,0.125]
["Cheddar",2,13,1,6,"Cups","Dairy",1,{"$f":"J31+K31/E31","v":1.25},1.25,{"$f":"SUMPRODUCT($L$1:$XFD$1,L31:XFD31)+SUMPRODUCT(Sides!$C$1:$XFD$1,Sides!C31:XFD31)+SUMPRODUCT(Dessert!$C$1:$XFD$1,Dessert!C31:XFD31)","v":0},null,null,null,null,null,null,null,1.5]
["Cottage Cheese",0,1.92,null,3,"Cups","Dairy",0,0,0,{"$f":"SUMPRODUCT($L$1:$XFD$1,L32:XFD32)+SUMPRODUCT(Sides!$C$1:$XFD$1,Sides!C32:XFD32)+SUMPRODUCT(Dessert!$C$1:$XFD$1,Dessert!C32:XFD32)","v":0}]
["Eggs",1,2,6,12,"Each","Dairy",9,4,4,{"$f":"SUMPRODUCT($L$1:$XFD$1,L33:XFD33)+SUMPRODUCT(Sides!$C$1:$XFD$1,Sides!C33:XFD33)+SUMPRODUCT(Dessert!$C$1:$XFD$1,Dessert!C33:XFD33)","v":0},null,null,null,1,null,null,null,null,null,2,null,null,2,null,null,null,null,null,null,null,null,1]
["Heavy Whipping Cream",2,8,null,3,"Cups","Dairy",0,1,1,{"$f":"SUMPRODUCT($L$1:$XFD$1,L34:XFD34)+SUMPRODUCT(Sides!$C$1:$XFD$1,Sides!C34:XFD34)+SUMPRODUCT(Dessert!$C$1:$XFD$1,Dessert!C34:XFD34)","v":0}]
["Ice Cream",1,3.5,null,8,"Cups","Dairy",0,0,0,{"$f":"SUMPRODUCT($L$1:$XFD$1,L35:XFD35)+SUMPRODUCT(Sides!$C$1:$XFD$1,Sides!C35:XFD35)+SUMPRODUCT(Dessert!$C$1:$XFD$1,Dessert!C35:XFD35)","v":0}]
["Milk (whole)",0.4,2.99,null,16,"Cups","Dairy",1,0.5,0.5,{"$f":"SUMPRODUCT($L$1:$XFD$1,L36:XFD36)+SUMPRODUCT(Sides!$C$1:$XFD$1,Sides!C36:XFD36)+SUMPRODUCT(Dessert!$C$1:$XFD$1,Dessert!C36:XFD36)","v":0}]
["MILK 2%",0.5,2.99,-2,16,"Cups","Dairy",-1,1.75,1.75,{"$f":"SUMPRODUCT($L$1:$XFD$1,L37:XFD37)+SUMPRODUCT(Sides!$C$1:$XFD$1,Sides!C37:XFD37)+SUMPRODUCT(Dessert!$C$1:$XFD$1,Dessert!C37:XFD37)","v":0},null,null,null,0.1,0.25,2,null,null,null,0.5,null,null,null,null,null,0.66666668653488159]
["Parmesan cheese",1.5,3,null,2,"Cups","Dairy",0,1,1,{"$f":"SUMPRODUCT($L$1:$XFD$1,L38:XFD38)+SUMPRODUCT(Sides!$C$1:$XFD$1,Sides!C38:XFD38)+SUMPRODUCT(Dessert!$C$1:$XFD$1,Dessert!C38:XFD38)","v":0},null,null,null,null,null,null,null,null,null,null,null,null,null,null,null,null,null,null,null,0.125,null,0.75]
["Peach Yogurt",0,3,null,4,"Cups","Dairy",1,0.5,0.5,{"$f":"SUMPRODUCT($L$1:$XFD$1,L39:XFD39)+SUMPRODUCT(Sides!$C$1:$XFD$1,Sides!C39:XFD39)+SUMPRODUCT(Dessert!$C$1:$XFD$1,Dessert!C39:XFD39)","v":0}]
["Provolone Cheese",0,4,null,1,"lb","Dairy",0,0,0,{"$f":"SUMPRODUCT($L$1:$XFD$1,L40:XFD40)+SUMPRODUCT(Sides!$C$1:$XFD$1,Sides!C40:XFD40)+SUMPRODUCT(Dessert!$C$1:$XFD$1,Dessert!C40:XFD40)","v":0}]
["Shredded Cheddar",0,6,null,2,"lb","Dairy",0,0,0,{"$f":"SUMPRODUCT($L$1:$XFD$1,L41:XFD41)+SUMPRODUCT(Sides!$C$1:$XFD$1,Sides!C41:XFD41)+SUMPRODUCT(Dessert!$C$1:$XFD$1,Dessert!C41:XFD41)","v":0}]
["Sour Cream",0.75,3,null,2,"Cups","Dairy",0,0.5,0.5,{"$f":"SUMPRODUCT($L$1:$XFD$1,L42:XFD42)+SUMPRODUCT(Sides!$C$1:$XFD$1,Sides!C42:XFD42)+SUMPRODUCT(Dessert!$C$1:$XFD$1,Dessert!C42:XFD42)","v":0},null,null,null,null,1,null,0.5]
["String Cheese",0,9,null,60,"Each","Dairy",1,1,1,{"$f":"SUMPRODUCT($L$1:$XFD$1,L43:XFD43)+SUMPRODUCT(Sides!$C$1:$XFD$1,Sides!C43:XFD43)+SUMPRODUCT(Dessert!$C$1:$XFD$1,Dessert!C43:XFD43)","v":0}]
["Yogurt",1,3,null,3,"Cups","Dairy",0,0.5,0.5,{"$f":"SUMPRODUCT($L$1:$XFD$1,L44:XFD44)+SUMPRODUCT(Sides!$C$1:$XFD$1,Sides!C44:XFD44)+SUMPRODUCT(Dessert!$C$1:$XFD$1,Dessert!C44:XFD44)","v":0}]
["Yogurt (Plain)",0.2,2.5,null,3,"Cups","Dairy",1,0.5,0.5,{"$f":"SUMPRODUCT($L$1:$XFD$1,L45:XFD45)+SUMPRODUCT(Sides!$C$1:$XFD$1,Sides!C45:XFD45)+SUMPRODUCT(Dessert!$C$1:$XFD$1,Dessert!C45:XFD45)","v":0}]
["Aluminum Foil",1.25,4,null,1,"Each","extra",0,1,1,{"$f":"SUMPRODUCT($L$1:$XFD$1,L46:XFD46)+SUMPRODUCT(Sides!$C$1:$XFD$1,Sides!C46:XFD46)+SUMPRODUCT(Dessert!$C$1:$XFD$1,Dessert!C46:XFD46)","v":0},null,null,null,null,null,null,null,null,null,null,0.05]
["Candy",0,5,null,1,"Each","extra",0,0,0,{"$f":"SUMPRODUCT($L$1:$XFD$1,L47:XFD47)+SUMPRODUCT(Sides!$C$1:$XFD$1,Sides!C47:XFD47)+SUMPRODUCT(Dessert!$C$1:$XFD$1,Dessert!C47:XFD47)","v":0}]
["Chips",0,1,null,1,"Each","extra",0,0,0,{"$f":"SUMPRODUCT($L$1:$XFD$1,L48:XFD48)+SUMPRODUCT(Sides!$C$1:$XFD$1,Sides!C48:XFD48)+SUMPRODUCT(Dessert!$C$1:$XFD$1,Dessert!C48:XFD48)","v":0}]
["Chocolate Cookies",0,2.5,null,1,"Each","extra",0,0,0,{"$f":"SUMPRODUCT($L$1:$XFD$1,L49:XFD49)+SUMPRODUCT(Sides!$C$1:$XFD$1,Sides!C49:XFD49)+SUMPRODUCT(Dessert!$C$1:$XFD$1,Dessert!C49:XFD49)","v":0}]
["French Fries",1.5,3,null,2,"lb","extra",0,0.5,0.5,{"$f":"SUMPRODUCT($L$1:$XFD$1,L50:XFD50)+SUMPRODUCT(Sides!$C$1:$XFD$1,Sides!C50:XFD50)+SUMPRODUCT(Dessert!$C$1:$XFD$1,Dessert!C50:XFD50)","v":0}]
["Marshmallows",0,2.5,null,1,"Each","extra",0,0,0,{"$f":"SUMPRODUCT($L$1:$XFD$1,L51:XFD51)+SUMPRODUCT(Sides!$C$1:$XFD$1,Sides!C51:XFD51)+SUMPRODUCT(Dessert!$C$1:$XFD$1,Dessert!C51:XFD51)","v":0}]
["Paper Plates",1,12,null,1,"Each","extra",0,0.25,0.25,{"$f":"SUMPRODUCT($L$1:$XFD$1,L52:XFD52)+SUMPRODUCT(Sides!$C$1:$XFD$1,Sides!C52:XFD52)+SUMPRODUCT(Dessert!$C$1:$XFD$1,Dessert!C52:XFD52)","v":0}]
["Peanut Butter",2,3,null,3,"Cups","extra",0,2,2,{"$f":"SUMPRODUCT($L$1:$XFD$1,L53:XFD53)+SUMPRODUCT(Sides!$C$1:$XFD$1,Sides!C53:XFD53)+SUMPRODUCT(Dessert!$C$1:$XFD$1,Dessert!C53:XFD53)","v":0}]
["Plastic Bowls",1,5,null,1,"Each","extra",0,1,1,{"$f":"SUMPRODUCT($L$1:$XFD$1,L54:XFD54)+SUMPRODUCT(Sides!$C$1:$XFD$1,Sides!C54:XFD54)+SUMPRODUCT(Dessert!$C$1:$XFD$1,Dessert!C54:XFD54)","v":0}]
["Plastic Cups",1,12,null,1,"Each","extra",0,0.25,0.25,{"$f":"SUMPRODUCT($L$1:$XFD$1,L55:XFD55)+SUMPRODUCT(Sides!$C$1:$XFD$1,Sides!C55:XFD55)+SUMPRODUCT(Dessert!$C$1:$XFD$1,Dessert!C55:XFD55)","v":0}]
["Plastic Wrap",1,1.26,null,1,"Each","extra",0,0.5,0.5,{"$f":"SUMPRODUCT($L$1:$XFD$1,L56:XFD56)+SUMPRODUCT(Sides!$C$1:$XFD$1,Sides!C56:XFD56)+SUMPRODUCT(Dessert!$C$1:$XFD$1,Dessert!C56:XFD56)","v":0}]
["Pop",1,4,1,12,"Each","extra",1,{"$f":"J57+K57/E57","v":0},0,{"$f":"SUMPRODUCT($L$1:$XFD$1,L57:XFD57)+SUMPRODUCT(Sides!$C$1:$XFD$1,Sides!C57:XFD57)+SUMPRODUCT(Dessert!$C$1:$XFD$1,Dessert!C57:XFD57)","v":0}]
["Tortilla Chips",0,2,null,1,"Each","extra",0,0,0,{"$f":"SUMPRODUCT($L$1:$XFD$1,L58:XFD58)+SUMPRODUCT(Sides!$C$1:$XFD$1,Sides!C58:XFD58)+SUMPRODUCT(Dessert!$C$1:$XFD$1,Dessert!C58:XFD58)","v":0}]
["Wrapping Paper",0,2,null,1,"Each","extra",0,0,0,{"$f":"SUMPRODUCT($L$1:$XFD$1,L59:XFD59)+SUMPRODUCT(Sides!$C$1:$XFD$1,Sides!C59:XFD59)+SUMPRODUCT(Dessert!$C$1:$XFD$1,Dessert!C59:XFD59)","v":0}]
["Apple Juice",0,2.5,null,8,"Cups","Fruit",0,0,0,{"$f":"SUMPRODUCT($L$1:$XFD$1,L60:XFD60)+SUMPRODUCT(Sides!$C$1:$XFD$1,Sides!C60:XFD60)+SUMPRODUCT(Dessert!$C$1:$XFD$1,Dessert!C60:XFD60)","v":0}]
["Apple Sauce",2,2.5,null,3,"Cups","Fruit",0,0,0,{"$f":"SUMPRODUCT($L$1:$XFD$1,L61:XFD61)+SUMPRODUCT(Sides!$C$1:$XFD$1,Sides!C61:XFD61)+SUMPRODUCT(Dessert!$C$1:$XFD$1,Dessert!C61:XFD61)","v":0}]
["Apples",3,1.88,null,1,"lb","Fruit",0,2,2,{"$f":"SUMPRODUCT($L$1:$XFD$1,L62:XFD62)+SUMPRODUCT(Sides!$C$1:$XFD$1,Sides!C62:XFD62)+SUMPRODUCT(Dessert!$C$1:$XFD$1,Dessert!C62:XFD62)","v":0}]
["Bananas",0,0.6,null,1,"lb","Fruit",4,4,4,{"$f":"SUMPRODUCT($L$1:$XFD$1,L63:XFD63)+SUMPRODUCT(Sides!$C$1:$XFD$1,Sides!C63:XFD63)+SUMPRODUCT(Dessert!$C$1:$XFD$1,Dessert!C63:XFD63)","v":0}]
["Canned Oranges",0,1.62,null,1,"Each","Fruit",0,0,0,{"$f":"SUMPRODUCT($L$1:$XFD$1,L64:XFD64)+SUMPRODUCT(Sides!$C$1:$XFD$1,Sides!C64:XFD64)+SUMPRODUCT(Dessert!$C$1:$XFD$1,Dessert!C64:XFD64)","v":0}]
["Canned Pineapple",0,2,null,1,"Each","Fruit",0,0,0,{"$f":"SUMPRODUCT($L$1:$XFD$1,L65:XFD65)+SUMPRODUCT(Sides!$C$1:$XFD$1,Sides!C65:XFD65)+SUMPRODUCT(Dessert!$C$1:$XFD$1,Dessert!C65:XFD65)","v":0}]
["Frozen Fruit",1,5,null,2,"lb","Fruit",0,1,1,{"$f":"SUMPRODUCT($L$1:$XFD$1,L66:XFD66)+SUMPRODUCT(Sides!$C$1:$XFD$1,Sides!C66:XFD66)+SUMPRODUCT(Dessert!$C$1:$XFD$1,Dessert!C66:XFD66)","v":0}]
["Grapes",0,4,null,1,"lb","Fruit",2,2,2,{"$f":"SUMPRODUCT($L$1:$XFD$1,L67:XFD67)+SUMPRODUCT(Sides!$C$1:$XFD$1,Sides!C67:XFD67)+SUMPRODUCT(Dessert!$C$1:$XFD$1,Dessert!C67:XFD67)","v":0}]
["Jam",1.8,3,null,3,"Cups","Fruit",{"$f":"ROUNDUP(IF(B68>I68,0+D68,I68-B68+D68),0)","v":0},{"$f":"J68+K68/E68","v":1},1,{"$f":"SUMPRODUCT($L$1:$XFD$1,L68:XFD68)+SUMPRODUCT(Sides!$C$1:$XFD$1,Sides!C68:XFD68)+SUMPRODUCT(Dessert!$C$1:$XFD$1,Dessert!C68:XFD68)","v":0}]
["Orange Juice",3,2,null,8,"Cups","Fruit",0,0,0,{"$f":"SUMPRODUCT($L$1:$XFD$1,L69:XFD69)+SUMPRODUCT(Sides!$C$1:$XFD$1,Sides!C69:XFD69)+SUMPRODUCT(Dessert!$C$1:$XFD$1,Dessert!C69:XFD69)","v":0}]
["Oranges",2,0.87,null,1,"lb","Fruit",0,0,0,{"$f":"SUMPRODUCT($L$1:$XFD$1,L70:XFD70)+SUMPRODUCT(Sides!$C$1:$XFD$1,Sides!C70:XFD70)+SUMPRODUCT(Dessert!$C$1:$XFD$1,Dessert!C70:XFD70)","v":0}]
["Peaches",0,1.62,null,1,"lb","Fruit",0,0,0,{"$f":"SUMPRODUCT($L$1:$XFD$1,L71:XFD71)+SUMPRODUCT(Sides!$C$1:$XFD$1,Sides!C71:XFD71)+SUMPRODUCT(Dessert!$C$1:$XFD$1,Dessert!C71:XFD71)","v":0}]
["Strawberries",0,3.5,1,2,"lb","Fruit",1,0,0,{"$f":"SUMPRODUCT($L$1:$XFD$1,L72:XFD72)+SUMPRODUCT(Sides!$C$1:$XFD$1,Sides!C72:XFD72)+SUMPRODUCT(Dessert!$C$1:$XFD$1,Dessert!C72:XFD72)","v":0}]
["Bread",1,2,null,16,"Each","Grain",2,2.5,2.5,{"$f":"SUMPRODUCT($L$1:$XFD$1,L73:XFD73)+SUMPRODUCT(Sides!$C$1:$XFD$1,Sides!C73:XFD73)+SUMPRODUCT(Dessert!$C$1:$XFD$1,Dessert!C73:XFD73)","v":0},null,null,null,null,null,null,null,10]
["Cereal",3,6,null,1,"Each","Grain",0,1.5,1.5,{"$f":"SUMPRODUCT($L$1:$XFD$1,L74:XFD74)+SUMPRODUCT(Sides!$C$1:$XFD$1,Sides!C74:XFD74)+SUMPRODUCT(Dessert!$C$1:$XFD$1,Dessert!C74:XFD74)","v":0}]
["Crackers",2,3,null,1,"Each","Grain",0,2,2,{"$f":"SUMPRODUCT($L$1:$XFD$1,L75:XFD75)+SUMPRODUCT(Sides!$C$1:$XFD$1,Sides!C75:XFD75)+SUMPRODUCT(Dessert!$C$1:$XFD$1,Dessert!C75:XFD75)","v":0}]
["Graham Crackers",3,3.5,null,1,"Each","Grain",0,0.5,0.5,{"$f":"SUMPRODUCT($L$1:$XFD$1,L76:XFD76)+SUMPRODUCT(Sides!$C$1:$XFD$1,Sides!C76:XFD76)+SUMPRODUCT(Dessert!$C$1:$XFD$1,Dessert!C76:XFD76)","v":0}]
["Hamburger Buns",0,1.78,1,12,"Each","Grain",1,0,0,{"$f":"SUMPRODUCT($L$1:$XFD$1,L77:XFD77)+SUMPRODUCT(Sides!$C$1:$XFD$1,Sides!C77:XFD77)+SUMPRODUCT(Dessert!$C$1:$XFD$1,Dessert!C77:XFD77)","v":0}]
["Hotdog buns",0,1.5,null,12,"Each","Grain",0,0,0,{"$f":"SUMPRODUCT($L$1:$XFD$1,L78:XFD78)+SUMPRODUCT(Sides!$C$1:$XFD$1,Sides!C78:XFD78)+SUMPRODUCT(Dessert!$C$1:$XFD$1,Dessert!C78:XFD78)","v":0}]
["Macaroni Noodles",3,2,null,4,"Cups","Grain",0,2,2,{"$f":"SUMPRODUCT($L$1:$XFD$1,L79:XFD79)+SUMPRODUCT(Sides!$C$1:$XFD$1,Sides!C79:XFD79)+SUMPRODUCT(Dessert!$C$1:$XFD$1,Dessert!C79:XFD79)","v":0}]
["Rice",3,3,null,8,"Cups","Grain",0,2,2,{"$f":"SUMPRODUCT($L$1:$XFD$1,L80:XFD80)+SUMPRODUCT(Sides!$C$1:$XFD$1,Sides!C80:XFD80)+SUMPRODUCT(Dessert!$C$1:$XFD$1,Dessert!C80:XFD80)","v":0}]
["Rolls",0,1.5,null,12,"Each","Grain",0,0,0,{"$f":"SUMPRODUCT($L$1:$XFD$1,L81:XFD81)+SUMPRODUCT(Sides!$C$1:$XFD$1,Sides!C81:XFD81)+SUMPRODUCT(Dessert!$C$1:$XFD$1,Dessert!C81:XFD81)","v":0}]
["Shells (Corn)",0,2,null,12,"Each","Grain",0,0,0,{"$f":"SUMPRODUCT($L$1:$XFD$1,L82:XFD82)+SUMPRODUCT(Sides!$C$1:$XFD$1,Sides!C82:XFD82)+SUMPRODUCT(Dessert!$C$1:$XFD$1,Dessert!C82:XFD82)","v":0}]
["Spaghetti Noodles",3,1.28,null,4,"Cups","Grain",0,2,2,{"$f":"SUMPRODUCT($L$1:$XFD$1,L83:XFD83)+SUMPRODUCT(Sides!$C$1:$XFD$1,Sides!C83:XFD83)+SUMPRODUCT(Dessert!$C$1:$XFD$1,Dessert!C83:XFD83)","v":0},null,null,0.5]
["Tortilla (Flour)",0,2,null,12,"Each","Grain",0,0,0,{"$f":"SUMPRODUCT($L$1:$XFD$1,L84:XFD84)+SUMPRODUCT(Sides!$C$1:$XFD$1,Sides!C84:XFD84)+SUMPRODUCT(Dessert!$C$1:$XFD$1,Dessert!C84:XFD84)","v":0}]
["Bacon",0.5,15,null,3,"lb","Meat",0,0.5,0.5,{"$f":"SUMPRODUCT($L$1:$XFD$1,L85:XFD85)+SUMPRODUCT(Sides!$C$1:$XFD$1,Sides!C85:XFD85)+SUMPRODUCT(Dessert!$C$1:$XFD$1,Dessert!C85:XFD85)","v":0}]
["Beef Patties",1.75,6,null,3,"lb","Meat",0,1,1,{"$f":"SUMPRODUCT($L$1:$XFD$1,L86:XFD86)+SUMPRODUCT(Sides!$C$1:$XFD$1,Sides!C86:XFD86)+SUMPRODUCT(Dessert!$C$1:$XFD$1,Dessert!C86:XFD86)","v":0},null,null,null,null,null,null,null,null,2]
["Bologna",0,2,null,1,"lb","Meat",0,0,0,{"$f":"SUMPRODUCT($L$1:$XFD$1,L87:XFD87)+SUMPRODUCT(Sides!$C$1:$XFD$1,Sides!C87:XFD87)+SUMPRODUCT(Dessert!$C$1:$XFD$1,Dessert!C87:XFD87)","v":0}]
["Chicken",5,15,null,4,"lb","Meat",0,1,1,{"$f":"SUMPRODUCT($L$1:$XFD$1,L88:XFD88)+SUMPRODUCT(Sides!$C$1:$XFD$1,Sides!C88:XFD88)+SUMPRODUCT(Dessert!$C$1:$XFD$1,Dessert!C88:XFD88)","v":0},2,null,null,null,null,null,1,null,null,null,null,5,null,2.5,4,1,null,null,3]
["Chicken Can (ff)",2,2,null,1,"Each","Meat",0,2,2,{"$f":"SUMPRODUCT($L$1:$XFD$1,L89:XFD89)+SUMPRODUCT(Sides!$C$1:$XFD$1,Sides!C89:XFD89)+SUMPRODUCT(Dessert!$C$1:$XFD$1,Dessert!C89:XFD89)","v":0}]
["Corn Beef",0,7,null,2,"lb","Meat",0,0,0,{"$f":"SUMPRODUCT($L$1:$XFD$1,L90:XFD90)+SUMPRODUCT(Sides!$C$1:$XFD$1,Sides!C90:XFD90)+SUMPRODUCT(Dessert!$C$1:$XFD$1,Dessert!C90:XFD90)","v":0}]
["Ground Beef",11,3.5,null,1,"lb","Meat",0,2,2,{"$f":"SUMPRODUCT($L$1:$XFD$1,L91:XFD91)+SUMPRODUCT(Sides!$C$1:$XFD$1,Sides!C91:XFD91)+SUMPRODUCT(Dessert!$C$1:$XFD$1,Dessert!C91:XFD91)","v":0},null,null,1,null,1,null,null,null,null,null,null,null,1.5,null,null,null,null,null,null,null,3,0.75]
["Ground Turkey",0,4,null,1,"lb","Meat",0,0,0,{"$f":"SUMPRODUCT($L$1:$XFD$1,L92:XFD92)+SUMPRODUCT(Sides!$C$1:$XFD$1,Sides!C92:XFD92)+SUMPRODUCT(Dessert!$C$1:$XFD$1,Dessert!C92:XFD92)","v":0}]
["Hotdogs",0,3,null,8,"Each","Meat",0,0,0,{"$f":"SUMPRODUCT($L$1:$XFD$1,L93:XFD93)+SUMPRODUCT(Sides!$C$1:$XFD$1,Sides!C93:XFD93)+SUMPRODUCT(Dessert!$C$1:$XFD$1,Dessert!C93:XFD93)","v":0}]
["Lunch Meat",1,4,null,1,"lb","Meat",0,1,1,{"$f":"SUMPRODUCT($L$1:$XFD$1,L94:XFD94)+SUMPRODUCT(Sides!$C$1:$XFD$1,Sides!C94:XFD94)+SUMPRODUCT(Dessert!$C$1:$XFD$1,Dessert!C94:XFD94)","v":0}]
["Pork",5,3,null,1,"lb","Meat",0,0,0,{"$f":"SUMPRODUCT($L$1:$XFD$1,L95:XFD95)+SUMPRODUCT(Sides!$C$1:$XFD$1,Sides!C95:XFD95)+SUMPRODUCT(Dessert!$C$1:$XFD$1,Dessert!C95:XFD95)","v":0}]
["Roast Beef",0,3,null,1,"lb","Meat",0,0,0,{"$f":"SUMPRODUCT($L$1:$XFD$1,L96:XFD96)+SUMPRODUCT(Sides!$C$1:$XFD$1,Sides!C96:XFD96)+SUMPRODUCT(Dessert!$C$1:$XFD$1,Dessert!C96:XFD96)","v":0}]
["Rotisserie Chicken",0,5,null,2,"lb","Meat",0,0,0,{"$f":"SUMPRODUCT($L$1:$XFD$1,L97:XFD97)+SUMPRODUCT(Sides!$C$1:$XFD$1,Sides!C97:XFD97)+SUMPRODUCT(Dessert!$C$1:$XFD$1,Dessert!C97:XFD97)","v":0}]
["Sausage",2,4,null,3,"lb","Meat",0,2,2,{"$f":"SUMPRODUCT($L$1:$XFD$1,L98:XFD98)+SUMPRODUCT(Sides!$C$1:$XFD$1,Sides!C98:XFD98)+SUMPRODUCT(Dessert!$C$1:$XFD$1,Dessert!C98:XFD98)","v":0},null,null,null,null,null,null,null,null,null,null,null,null,0.75,null,null,null,null,null,null,null,null,1]
["Tri Tip",0,4.5,null,1,"lb","Meat",0,0,0,{"$f":"SUMPRODUCT($L$1:$XFD$1,L99:XFD99)+SUMPRODUCT(Sides!$C$1:$XFD$1,Sides!C99:XFD99)+SUMPRODUCT(Dessert!$C$1:$XFD$1,Dessert!C99:XFD99)","v":0}]
["Tuna",7,0.57999999999999996,null,0.5,"Cups","Meat",0,4,4,{"$f":"SUMPRODUCT($L$1:$XFD$1,L100:XFD100)+SUMPRODUCT(Sides!$C$1:$XFD$1,Sides!C100:XFD100)+SUMPRODUCT(Dessert!$C$1:$XFD$1,Dessert!C100:XFD100)","v":0}]
["Diapers 4",0.4,50,null,60,"Each","Toiletries",0,0.25,0.25,{"$f":"SUMPRODUCT($L$1:$XFD$1,L101:XFD101)+SUMPRODUCT(Sides!$C$1:$XFD$1,Sides!C101:XFD101)+SUMPRODUCT(Dessert!$C$1:$XFD$1,Dessert!C101:XFD101)","v":0}]
["Dishwasher Detergent",1.2,10,null,60,"Each","Toiletries",0,0.25,0.25,{"$f":"SUMPRODUCT($L$1:$XFD$1,L102:XFD102)+SUMPRODUCT(Sides!$C$1:$XFD$1,Sides!C102:XFD102)+SUMPRODUCT(Dessert!$C$1:$XFD$1,Dessert!C102:XFD102)","v":0}]
["Dryer Sheets",1,4.88,null,60,"Each","Toiletries",0,0.25,0.25,{"$f":"SUMPRODUCT($L$1:$XFD$1,L103:XFD103)+SUMPRODUCT(Sides!$C$1:$XFD$1,Sides!C103:XFD103)+SUMPRODUCT(Dessert!$C$1:$XFD$1,Dessert!C103:XFD103)","v":0}]
["Garbage Bags",2,6,null,60,"Each","Toiletries",0,0.25,0.25,{"$f":"SUMPRODUCT($L$1:$XFD$1,L104:XFD104)+SUMPRODUCT(Sides!$C$1:$XFD$1,Sides!C104:XFD104)+SUMPRODUCT(Dessert!$C$1:$XFD$1,Dessert!C104:XFD104)","v":0}]
["Kids Shampoo",3,3,null,1,"Each","Toiletries",0,3,3,{"$f":"SUMPRODUCT($L$1:$XFD$1,L105:XFD105)+SUMPRODUCT(Sides!$C$1:$XFD$1,Sides!C105:XFD105)+SUMPRODUCT(Dessert!$C$1:$XFD$1,Dessert!C105:XFD105)","v":0}]
["Kitchen Cleaner",1,1.97,null,1,"Each","Toiletries",0,0.5,0.5,{"$f":"SUMPRODUCT($L$1:$XFD$1,L106:XFD106)+SUMPRODUCT(Sides!$C$1:$XFD$1,Sides!C106:XFD106)+SUMPRODUCT(Dessert!$C$1:$XFD$1,Dessert!C106:XFD106)","v":0}]
["Laundry Detergent",0.25,15,null,1,"Each","Toiletries",0,0.25,0.25,{"$f":"SUMPRODUCT($L$1:$XFD$1,L107:XFD107)+SUMPRODUCT(Sides!$C$1:$XFD$1,Sides!C107:XFD107)+SUMPRODUCT(Dessert!$C$1:$XFD$1,Dessert!C107:XFD107)","v":0}]
["Tampons",1,6,null,25,"Each","Toiletries",0,0.5,0.5,{"$f":"SUMPRODUCT($L$1:$XFD$1,L108:XFD108)+SUMPRODUCT(Sides!$C$1:$XFD$1,Sides!C108:XFD108)+SUMPRODUCT(Dessert!$C$1:$XFD$1,Dessert!C108:XFD108)","v":0}]
["Toilet paper",0.8,10,null,16,"Each","Toiletries",0,0.75,0.75,{"$f":"SUMPRODUCT($L$1:$XFD$1,L109:XFD109)+SUMPRODUCT(Sides!$C$1:$XFD$1,Sides!C109:XFD109)+SUMPRODUCT(Dessert!$C$1:$XFD$1,Dessert!C109:XFD109)","v":0}]
["Toothpaste",3,2.5,null,1,"Each","Toiletries",0,3,3,{"$f":"SUMPRODUCT($L$1:$XFD$1,L110:XFD110)+SUMPRODUCT(Sides!$C$1:$XFD$1,Sides!C110:XFD110)+SUMPRODUCT(Dessert!$C$1:$XFD$1,Dessert!C110:XFD110)","v":0}]
["Wipes",3,6,null,500,"Each","Toiletries",0,0.75,0.75,{"$f":"SUMPRODUCT($L$1:$XFD$1,L111:XFD111)+SUMPRODUCT(Sides!$C$1:$XFD$1,Sides!C111:XFD111)+SUMPRODUCT(Dessert!$C$1:$XFD$1,Dessert!C111:XFD111)","v":0}]
["Ziploc Bags",2,3,null,60,"Each","Toiletries",0,2,2,{"$f":"SUMPRODUCT($L$1:$XFD$1,L112:XFD112)+SUMPRODUCT(Sides!$C$1:$XFD$1,Sides!C112:XFD112)+SUMPRODUCT(Dessert!$C$1:$XFD$1,Dessert!C112:XFD112)","v":0}]
["Avocado",0,0.97,null,1,"lb","Vegetable",0,0,0,{"$f":"SUMPRODUCT($L$1:$XFD$1,L113:XFD113)+SUMPRODUCT(Sides!$C$1:$XFD$1,Sides!C113:XFD113)+SUMPRODUCT(Dessert!$C$1:$XFD$1,Dessert!C113:XFD113)","v":0}]
["Broccoli",0,2,null,1,"lb","Vegetable",0,0,0,{"$f":"SUMPRODUCT($L$1:$XFD$1,L114:XFD114)+SUMPRODUCT(Sides!$C$1:$XFD$1,Sides!C114:XFD114)+SUMPRODUCT(Dessert!$C$1:$XFD$1,Dessert!C114:XFD114)","v":0},null,null,null,null,null,1]
["Cabbage",0,2,null,6,"Cups","Vegetable",0,0,0,{"$f":"SUMPRODUCT($L$1:$XFD$1,L115:XFD115)+SUMPRODUCT(Sides!$C$1:$XFD$1,Sides!C115:XFD115)+SUMPRODUCT(Dessert!$C$1:$XFD$1,Dessert!C115:XFD115)","v":0}]
["Carrots",1,3,null,4,"Cups","Vegetable",0,0,0,{"$f":"SUMPRODUCT($L$1:$XFD$1,L116:XFD116)+SUMPRODUCT(Sides!$C$1:$XFD$1,Sides!C116:XFD116)+SUMPRODUCT(Dessert!$C$1:$XFD$1,Dessert!C116:XFD116)","v":0},null,null,null,null,null,null,null,null,null,null,null,null,1,null,null,null,1,null,null,5]
["Celery",0,1.32,null,4,"Cups","Vegetable",0,0,0,{"$f":"SUMPRODUCT($L$1:$XFD$1,L117:XFD117)+SUMPRODUCT(Sides!$C$1:$XFD$1,Sides!C117:XFD117)+SUMPRODUCT(Dessert!$C$1:$XFD$1,Dessert!C117:XFD117)","v":0},null,null,null,null,null,null,null,null,null,null,4,null,1,null,null,null,0.5,null,null,2,2]
["Cilantro",0,1.5,null,1,"Cups","Vegetable",0,0,0,{"$f":"SUMPRODUCT($L$1:$XFD$1,L118:XFD118)+SUMPRODUCT(Sides!$C$1:$XFD$1,Sides!C118:XFD118)+SUMPRODUCT(Dessert!$C$1:$XFD$1,Dessert!C118:XFD118)","v":0},null,null,null,null,null,null,0.25]
["Cole Slaw",0,1.88,null,1,"Each","Vegetable",0,0,0,{"$f":"SUMPRODUCT($L$1:$XFD$1,L119:XFD119)+SUMPRODUCT(Sides!$C$1:$XFD$1,Sides!C119:XFD119)+SUMPRODUCT(Dessert!$C$1:$XFD$1,Dessert!C119:XFD119)","v":0}]
["Corn",25,0.5,null,1,"lb","Vegetable",0,6,6,{"$f":"SUMPRODUCT($L$1:$XFD$1,L120:XFD120)+SUMPRODUCT(Sides!$C$1:$XFD$1,Sides!C120:XFD120)+SUMPRODUCT(Dessert!$C$1:$XFD$1,Dessert!C120:XFD120)","v":0}]
["Cucumbers",0,0.78,null,1,"Each","Vegetable",0,0,0,{"$f":"SUMPRODUCT($L$1:$XFD$1,L121:XFD121)+SUMPRODUCT(Sides!$C$1:$XFD$1,Sides!C121:XFD121)+SUMPRODUCT(Dessert!$C$1:$XFD$1,Dessert!C121:XFD121)","v":0}]
["Green Beans",22,0.5,null,1,"Each","Vegetable",0,6,6,{"$f":"SUMPRODUCT($L$1:$XFD$1,L122:XFD122)+SUMPRODUCT(Sides!$C$1:$XFD$1,Sides!C122:XFD122)+SUMPRODUCT(Dessert!$C$1:$XFD$1,Dessert!C122:XFD122)","v":0},null,null,null,null,null,null,null,null,null,null,null,null,null,null,null,null,null,null,null,1]
["Kale",0,4,null,5,"Cups","Vegetable",0,0,0,{"$f":"SUMPRODUCT($L$1:$XFD$1,L123:XFD123)+SUMPRODUCT(Sides!$C$1:$XFD$1,Sides!C123:XFD123)+SUMPRODUCT(Dessert!$C$1:$XFD$1,Dessert!C123:XFD123)","v":0}]
["Lettuce",0.5,1.68,null,5,"Cups","Vegetable",1,1,1,{"$f":"SUMPRODUCT($L$1:$XFD$1,L124:XFD124)+SUMPRODUCT(Sides!$C$1:$XFD$1,Sides!C124:XFD124)+SUMPRODUCT(Dessert!$C$1:$XFD$1,Dessert!C124:XFD124)","v":0}]
["Lime",0,1,null,1,"Each","Vegetable",0,0,0,{"$f":"SUMPRODUCT($L$1:$XFD$1,L125:XFD125)+SUMPRODUCT(Sides!$C$1:$XFD$1,Sides!C125:XFD125)+SUMPRODUCT(Dessert!$C$1:$XFD$1,Dessert!C125:XFD125)","v":0},null,null,null,null,null,null,1]
["Lime Juice",2,2,null,1,"Each","Vegetable",0,0,0,{"$f":"SUMPRODUCT($L$1:$XFD$1,L126:XFD126)+SUMPRODUCT(Sides!$C$1:$XFD$1,Sides!C126:XFD126)+SUMPRODUCT(Dessert!$C$1:$XFD$1,Dessert!C126:XFD126)","v":0}]
["Onion",6,0.71,null,1,"Cups","Vegetable",0,3,3,{"$f":"SUMPRODUCT($L$1:$XFD$1,L127:XFD127)+SUMPRODUCT(Sides!$C$1:$XFD$1,Sides!C127:XFD127)+SUMPRODUCT(Dessert!$C$1:$XFD$1,Dessert!C127:XFD127)","v":0},null,null,null,null,0.5,1,2,null,null,null,null,1,1,null,null,0.3333333432674408,2,0.5,null,2,1,1]
["Potato Salad",0,2.5,null,1,"lb","Vegetable",0,0,0,{"$f":"SUMPRODUCT($L$1:$XFD$1,L128:XFD128)+SUMPRODUCT(Sides!$C$1:$XFD$1,Sides!C128:XFD128)+SUMPRODUCT(Dessert!$C$1:$XFD$1,Dessert!C128:XFD128)","v":0}]
["Potatoes",1,4,null,10,"lb","Vegetable",0,0.25,0.25,{"$f":"SUMPRODUCT($L$1:$XFD$1,L129:XFD129)+SUMPRODUCT(Sides!$C$1:$XFD$1,Sides!C129:XFD129)+SUMPRODUCT(Dessert!$C$1:$XFD$1,Dessert!C129:XFD129)","v":0},null,null,null,null,null,null,null,null,null,null,null,null,null,null,null,1,3]
["Red Onion",0,1,null,1,"Cups","Vegetable",0,0,0,{"$f":"SUMPRODUCT($L$1:$XFD$1,L130:XFD130)+SUMPRODUCT(Sides!$C$1:$XFD$1,Sides!C130:XFD130)+SUMPRODUCT(Dessert!$C$1:$XFD$1,Dessert!C130:XFD130)","v":0}]
["Red Pepper",0,2.1800000000000002,null,1,"Each","Vegetable",0,0,0,{"$f":"SUMPRODUCT($L$1:$XFD$1,L131:XFD131)+SUMPRODUCT(Sides!$C$1:$XFD$1,Sides!C131:XFD131)+SUMPRODUCT(Dessert!$C$1:$XFD$1,Dessert!C131:XFD131)","v":0}]
["Salad Mix",0,3,null,1,"Each","Vegetable",{"$f":"ROUNDUP(IF(B132>I132,0+D132,I132-B132+D132),0)","v":0},{"$f":"J132+K132/E132","v":0},0,{"$f":"SUMPRODUCT($L$1:$XFD$1,L132:XFD132)+SUMPRODUCT(Sides!$C$1:$XFD$1,Sides!C132:XFD132)+SUMPRODUCT(Dessert!$C$1:$XFD$1,Dessert!C132:XFD132)","v":0}]
["Vine Ripe Tomatoes",0,1,null,1,"Each","Vegetable",0,0,0,{"$f":"SUMPRODUCT($L$1:$XFD$1,L133:XFD133)+SUMPRODUCT(Sides!$C$1:$XFD$1,Sides!C133:XFD133)+SUMPRODUCT(Dessert!$C$1:$XFD$1,Dessert!C133:XFD133)","v":0}]
["BBQ Sauce",2,3,null,1,"Each","Condiments",0,1,1,{"$f":"SUMPRODUCT($L$1:$XFD$1,L134:XFD134)+SUMPRODUCT(Sides!$C$1:$XFD$1,Sides!C134:XFD134)+SUMPRODUCT(Dessert!$C$1:$XFD$1,Dessert!C134:XFD134)","v":0},1]
["Fish",0,3,6,1,"lb","Meat",9,3,1,{"$f":"SUMPRODUCT($L$1:$XFD$1,L135:XFD135)+SUMPRODUCT(Sides!$C$1:$XFD$1,Sides!C135:XFD135)+SUMPRODUCT(Dessert!$C$1:$XFD$1,Dessert!C135:XFD135)","v":2},null,2]
["Garlic Salt",1.75,3,null,1,"Each","Condiments",0,1.01,1,{"$f":"SUMPRODUCT($L$1:$XFD$1,L136:XFD136)+SUMPRODUCT(Sides!$C$1:$XFD$1,Sides!C136:XFD136)+SUMPRODUCT(Dessert!$C$1:$XFD$1,Dessert!C136:XFD136)","v":0.01},null,0.01,0.01]
["Garlic",0.9,3.5,null,3,"Cups","Condiments",0,0.25333333333333335,0.25,{"$f":"SUMPRODUCT($L$1:$XFD$1,L137:XFD137)+SUMPRODUCT(Sides!$C$1:$XFD$1,Sides!C137:XFD137)+SUMPRODUCT(Dessert!$C$1:$XFD$1,Dessert!C137:XFD137)","v":0.01},null,0.01,null,null,null,null,null,null,null,null,null,0.125,6.25E-2,6.25E-2,4.1666599999999998E-2,null,null,null,null,3,6.25E-2,6.25E-2]
["Salt",1,2.5,null,3,"Cups","Condiments",0,0.25,0.25,{"$f":"SUMPRODUCT($L$1:$XFD$1,L138:XFD138)+SUMPRODUCT(Sides!$C$1:$XFD$1,Sides!C138:XFD138)+SUMPRODUCT(Dessert!$C$1:$XFD$1,Dessert!C138:XFD138)","v":0},null,null,null,0.01,2.6041624999999999E-3,null,1.041665E-2,null,null,5.2083249999999998E-3,0.1875,null,4.1666599999999998E-2,null,null,1.041665E-2,2.0833299999999999E-2,null,null,null,3.1249949999999999E-2,7.291665E-2]
["Flour",4,2.5,null,8,"Cups","Baking",0,2,2,{"$f":"SUMPRODUCT($L$1:$XFD$1,L139:XFD139)+SUMPRODUCT(Sides!$C$1:$XFD$1,Sides!C139:XFD139)+SUMPRODUCT(Dessert!$C$1:$XFD$1,Dessert!C139:XFD139)","v":0},null,null,null,0.1,null,null,null,null,null,1,null,null,null,null,null,0.3333333432674408,0.6875]
["Sugar",5,3,null,8,"Cups","Baking",0,2,2,{"$f":"SUMPRODUCT($L$1:$XFD$1,L140:XFD140)+SUMPRODUCT(Sides!$C$1:$XFD$1,Sides!C140:XFD140)+SUMPRODUCT(Dessert!$C$1:$XFD$1,Dessert!C140:XFD140)","v":0},0.75,null,null,0.05,null,null,2.0833299999999999E-2,null,null,null,null,null,null,0.5,null,null,null,null,null,null,null,0.125]
["Yeast",1.2,4,null,2,"Cups","Baking",0,0.5,0.5,{"$f":"SUMPRODUCT($L$1:$XFD$1,L141:XFD141)+SUMPRODUCT(Sides!$C$1:$XFD$1,Sides!C141:XFD141)+SUMPRODUCT(Dessert!$C$1:$XFD$1,Dessert!C141:XFD141)","v":0}]
["White Vinegar",0.8,3,null,2,"Cups","Baking",0,0.25,0.25,{"$f":"SUMPRODUCT($L$1:$XFD$1,L142:XFD142)+SUMPRODUCT(Sides!$C$1:$XFD$1,Sides!C142:XFD142)+SUMPRODUCT(Dessert!$C$1:$XFD$1,Dessert!C142:XFD142)","v":0},null,null,null,0.1]
["Baking Powder",3,3.5,null,2,"Cups","Baking",0,0.75,0.75,{"$f":"SUMPRODUCT($L$1:$XFD$1,L143:XFD143)+SUMPRODUCT(Sides!$C$1:$XFD$1,Sides!C143:XFD143)+SUMPRODUCT(Dessert!$C$1:$XFD$1,Dessert!C143:XFD143)","v":0},null,null,null,0.05]
["Baking Soda",3,3,null,2,"Cups","Baking",0,0.75,0.75,{"$f":"SUMPRODUCT($L$1:$XFD$1,L144:XFD144)+SUMPRODUCT(Sides!$C$1:$XFD$1,Sides!C144:XFD144)+SUMPRODUCT(Dessert!$C$1:$XFD$1,Dessert!C144:XFD144)","v":0},null,null,null,0.05]
["Brown Sugar",4,3,null,3,"Cups","Baking",0,2.25,2,{"$f":"SUMPRODUCT($L$1:$XFD$1,L145:XFD145)+SUMPRODUCT(Sides!$C$1:$XFD$1,Sides!C145:XFD145)+SUMPRODUCT(Dessert!$C$1:$XFD$1,Dessert!C145:XFD145)","v":0.75},null,0.75,null,null,null,null,null,null,null,null,null,1,null,null,6.25E-2,null,null,null,null,null,0.25]
["Vanilla",2.75,3,null,1,"Cups","Baking",0,2,2,{"$f":"SUMPRODUCT($L$1:$XFD$1,L146:XFD146)+SUMPRODUCT(Sides!$C$1:$XFD$1,Sides!C146:XFD146)+SUMPRODUCT(Dessert!$C$1:$XFD$1,Dessert!C146:XFD146)","v":0},null,null,2.0833299999999999E-2]
["Garlic Powder",1.25,3,null,1,"Cups","Baking",0,1,1,{"$f":"SUMPRODUCT($L$1:$XFD$1,L147:XFD147)+SUMPRODUCT(Sides!$C$1:$XFD$1,Sides!C147:XFD147)+SUMPRODUCT(Dessert!$C$1:$XFD$1,Dessert!C147:XFD147)","v":0},null,null,null,null,5.2083249999999998E-3,6.25E-2,5.2083249999999998E-3,null,null,null,null,null,null,null,null,null,6.25E-2]
["Pepper",6,2.5,null,1,"Cups","Baking",0,1,1,{"$f":"SUMPRODUCT($L$1:$XFD$1,L148:XFD148)+SUMPRODUCT(Sides!$C$1:$XFD$1,Sides!C148:XFD148)+SUMPRODUCT(Dessert!$C$1:$XFD$1,Dessert!C148:XFD148)","v":0},null,null,null,null,2.6041624999999999E-3,null,null,null,null,null,null,6.25E-2,3.1249949999999999E-2,5.2083249999999998E-3,null,5.2083249999999998E-3,2.0833299999999999E-2,null,null,null,1.041665E-2,5.2083249999999998E-3]
["Egg Noodles",3,3,null,3,"Cups","Grain",0,1.5,1.5,{"$f":"SUMPRODUCT($L$1:$XFD$1,L149:XFD149)+SUMPRODUCT(Sides!$C$1:$XFD$1,Sides!C149:XFD149)+SUMPRODUCT(Dessert!$C$1:$XFD$1,Dessert!C149:XFD149)","v":0},null,null,null,null,2]
["Cocoa Powder",2.2000000000000002,4,null,3,"Cups","Baking",0,{"$f":"J150+K150/E150","v":1.5},1.5,{"$f":"SUMPRODUCT($L$1:$XFD$1,L150:XFD150)+SUMPRODUCT(Sides!$C$1:$XFD$1,Sides!C150:XFD150)+SUMPRODUCT(Dessert!$C$1:$XFD$1,Dessert!C150:XFD150)","v":0}]
["Sweet Chocolate Chips",3,3,null,2,"Cups","Baking",0,3,3,{"$f":"SUMPRODUCT($L$1:$XFD$1,L151:XFD151)+SUMPRODUCT(Sides!$C$1:$XFD$1,Sides!C151:XFD151)+SUMPRODUCT(Dessert!$C$1:$XFD$1,Dessert!C151:XFD151)","v":0}]
["Chicken-Broth",4,1,null,1,"Each","Canned",0,0,0,{"$f":"SUMPRODUCT($L$1:$XFD$1,L152:XFD152)+SUMPRODUCT(Sides!$C$1:$XFD$1,Sides!C152:XFD152)+SUMPRODUCT(Dessert!$C$1:$XFD$1,Dessert!C152:XFD152)","v":0},null,null,null,null,null,4,null,null,null,null,null,null,null,null,null,1,null,null,null,2]
["Velveeta",1,4,null,1,"lb","Dairy",0,0,0,{"$f":"SUMPRODUCT($L$1:$XFD$1,L153:XFD153)+SUMPRODUCT(Sides!$C$1:$XFD$1,Sides!C153:XFD153)+SUMPRODUCT(Dessert!$C$1:$XFD$1,Dessert!C153:XFD153)","v":0},null,null,null,null,null,1]
["Cornstarch",1.75,3,null,2,"Cups","Baking",0,0.5,0.5,{"$f":"SUMPRODUCT($L$1:$XFD$1,L154:XFD154)+SUMPRODUCT(Sides!$C$1:$XFD$1,Sides!C154:XFD154)+SUMPRODUCT(Dessert!$C$1:$XFD$1,Dessert!C154:XFD154)","v":0},null,null,null,null,null,0.67,1.041665E-2,null,null,null,null,null,null,6.25E-2]
["Water",1000,0.01,null,100,"Cups","Dairy",0,0,0,{"$f":"SUMPRODUCT($L$1:$XFD$1,L155:XFD155)+SUMPRODUCT(Sides!$C$1:$XFD$1,Sides!C155:XFD155)+SUMPRODUCT(Dessert!$C$1:$XFD$1,Dessert!C155:XFD155)","v":0},null,null,null,null,null,1,null,null,null,0.5,null,1,null,6.25E-2,null,null,6.25E-2,0.25,null,2,null,0.5]
["Chili Powder",1,3,null,0.25,"Cups","Baking",0,0.25,0.25,{"$f":"SUMPRODUCT($L$1:$XFD$1,L156:XFD156)+SUMPRODUCT(Sides!$C$1:$XFD$1,Sides!C156:XFD156)+SUMPRODUCT(Dessert!$C$1:$XFD$1,Dessert!C156:XFD156)","v":0},null,null,null,null,null,null,6.25E-2]
["Paprika",1.25,3,null,0.25,"Cups","Baking",0,0.25,0.25,{"$f":"SUMPRODUCT($L$1:$XFD$1,L157:XFD157)+SUMPRODUCT(Sides!$C$1:$XFD$1,Sides!C157:XFD157)+SUMPRODUCT(Dessert!$C$1:$XFD$1,Dessert!C157:XFD157)","v":0},null,null,null,null,null,null,3.125E-2,null,null,null,null,2.0833299999999999E-2]
["Onion Powder",1,3,null,0.25,"Cups","Baking",0,0.25,0.25,{"$f":"SUMPRODUCT($L$1:$XFD$1,L158:XFD158)+SUMPRODUCT(Sides!$C$1:$XFD$1,Sides!C158:XFD158)+SUMPRODUCT(Dessert!$C$1:$XFD$1,Dessert!C158:XFD158)","v":0},null,null,null,null,null,null,1.041665E-2]
["Cumin",0.5,3,null,0.25,"Cups","Baking",0,0.25,0.25,{"$f":"SUMPRODUCT($L$1:$XFD$1,L159:XFD159)+SUMPRODUCT(Sides!$C$1:$XFD$1,Sides!C159:XFD159)+SUMPRODUCT(Dessert!$C$1:$XFD$1,Dessert!C159:XFD159)","v":0}]
["Cayenne Pepper",1,3,null,0.25,"Cups","Baking",0,0.25,0.25,{"$f":"SUMPRODUCT($L$1:$XFD$1,L160:XFD160)+SUMPRODUCT(Sides!$C$1:$XFD$1,Sides!C160:XFD160)+SUMPRODUCT(Dessert!$C$1:$XFD$1,Dessert!C160:XFD160)","v":0},null,null,null,null,null,null,2.6041624999999999E-3]
["Red Bell Pepper",0,1.5,null,1,"Each","Vegetable",0,0,0,{"$f":"SUMPRODUCT($L$1:$XFD$1,L161:XFD161)+SUMPRODUCT(Sides!$C$1:$XFD$1,Sides!C161:XFD161)+SUMPRODUCT(Dessert!$C$1:$XFD$1,Dessert!C161:XFD161)","v":0},null,null,null,null,null,null,1]
["Green Bell Pepper",0,1.5,null,1,"Each","Vegetable",0,0,0,{"$f":"SUMPRODUCT($L$1:$XFD$1,L162:XFD162)+SUMPRODUCT(Sides!$C$1:$XFD$1,Sides!C162:XFD162)+SUMPRODUCT(Dessert!$C$1:$XFD$1,Dessert!C162:XFD162)","v":0},null,null,null,null,null,null,2]
["Olive Oil",0.9,5,null,2,"Cups","Baking",1,1,1,{"$f":"SUMPRODUCT($L$1:$XFD$1,L163:XFD163)+SUMPRODUCT(Sides!$C$1:$XFD$1,Sides!C163:XFD163)+SUMPRODUCT(Dessert!$C$1:$XFD$1,Dessert!C163:XFD163)","v":0},null,null,null,null,null,null,0.125,null,null,null,0.25,null,null,null,null,null,null,null,null,0.25]
["Mapleine",3,4,null,0.25,"Cups","Baking",{"$f":"ROUNDUP(IF(B164>I164,0+D164,I164-B164+D164),0)","v":0},2,2,{"$f":"SUMPRODUCT($L$1:$XFD$1,L164:XFD164)+SUMPRODUCT(Sides!$C$1:$XFD$1,Sides!C164:XFD164)+SUMPRODUCT(Dessert!$C$1:$XFD$1,Dessert!C164:XFD164)","v":0}]
["Body Wash",3,2.5,null,1,"Each","extra",0,3,3,{"$f":"SUMPRODUCT($L$1:$XFD$1,L165:XFD165)+SUMPRODUCT(Sides!$C$1:$XFD$1,Sides!C165:XFD165)+SUMPRODUCT(Dessert!$C$1:$XFD$1,Dessert!C165:XFD165)","v":0}]
["Hand Wash",3,3,null,1,"Each","extra",0,3,3,{"$f":"SUMPRODUCT($L$1:$XFD$1,L166:XFD166)+SUMPRODUCT(Sides!$C$1:$XFD$1,Sides!C166:XFD166)+SUMPRODUCT(Dessert!$C$1:$XFD$1,Dessert!C166:XFD166)","v":0}]
["Dish Detergent",1,3,null,1,"Each","extra",0,1,1,{"$f":"SUMPRODUCT($L$1:$XFD$1,L167:XFD167)+SUMPRODUCT(Sides!$C$1:$XFD$1,Sides!C167:XFD167)+SUMPRODUCT(Dessert!$C$1:$XFD$1,Dessert!C167:XFD167)","v":0}]
["Cream Cheese",1,3,null,1,"Each","Dairy",0,1,1,{"$f":"SUMPRODUCT($L$1:$XFD$1,L168:XFD168)+SUMPRODUCT(Sides!$C$1:$XFD$1,Sides!C168:XFD168)+SUMPRODUCT(Dessert!$C$1:$XFD$1,Dessert!C168:XFD168)","v":0},null,null,null,null,null,null,null,null,null,null,null,null,null,null,null,null,null,1]
["Lemon Juice",1,2.5,null,1,"Cups","Vegetable",0,0.5,0.5,{"$f":"SUMPRODUCT($L$1:$XFD$1,L169:XFD169)+SUMPRODUCT(Sides!$C$1:$XFD$1,Sides!C169:XFD169)+SUMPRODUCT(Dessert!$C$1:$XFD$1,Dessert!C169:XFD169)","v":0}]
["Powdered Sugar",3,3,null,3,"Cups","Baking",0,2,2,{"$f":"SUMPRODUCT($L$1:$XFD$1,L170:XFD170)+SUMPRODUCT(Sides!$C$1:$XFD$1,Sides!C170:XFD170)+SUMPRODUCT(Dessert!$C$1:$XFD$1,Dessert!C170:XFD170)","v":0}]
["Turkey (whole)",1,15,null,1,"Each","Meat",0,0,0,{"$f":"SUMPRODUCT($L$1:$XFD$1,L171:XFD171)+SUMPRODUCT(Sides!$C$1:$XFD$1,Sides!C171:XFD171)+SUMPRODUCT(Dessert!$C$1:$XFD$1,Dessert!C171:XFD171)","v":0},null,null,null,null,null,null,null,null,null,null,1]
["Soy Sauce",1.5,3,null,2,"Cups","Condiments",0,0.9,0.9,{"$f":"SUMPRODUCT($L$1:$XFD$1,L172:XFD172)+SUMPRODUCT(Sides!$C$1:$XFD$1,Sides!C172:XFD172)+SUMPRODUCT(Dessert!$C$1:$XFD$1,Dessert!C172:XFD172)","v":0},null,null,null,null,null,null,null,null,null,null,null,1,null,0.5,0.25]
["Worcestershire Sauce",1,3.5,null,2,"Cups","Condiments",0,0.9,0.9,{"$f":"SUMPRODUCT($L$1:$XFD$1,L173:XFD173)+SUMPRODUCT(Sides!$C$1:$XFD$1,Sides!C173:XFD173)+SUMPRODUCT(Dessert!$C$1:$XFD$1,Dessert!C173:XFD173)","v":0},null,null,null,null,null,null,null,null,null,null,null,null,4.1666599999999998E-2,null,null,null,null,6.25E-2]
["Ginger",1,3.5,null,1,"Cups","Vegetable",0,0.5,0.5,{"$f":"SUMPRODUCT($L$1:$XFD$1,L174:XFD174)+SUMPRODUCT(Sides!$C$1:$XFD$1,Sides!C174:XFD174)+SUMPRODUCT(Dessert!$C$1:$XFD$1,Dessert!C174:XFD174)","v":0},null,null,null,null,null,null,null,null,null,null,null,6.25E-2,null,1.041665E-2,4.1666599999999998E-2]
["Oregano",2,3,null,0.25,"Cups","Condiments",0,1.5,1.5,{"$f":"SUMPRODUCT($L$1:$XFD$1,L175:XFD175)+SUMPRODUCT(Sides!$C$1:$XFD$1,Sides!C175:XFD175)+SUMPRODUCT(Dessert!$C$1:$XFD$1,Dessert!C175:XFD175)","v":0},null,null,null,null,null,null,null,null,null,null,null,6.25E-2,null,null,null,null,null,null,null,6.25E-2]
["Chicken Bouillon",4,4,null,3,"Cups","Baking",0,1.25,1.25,{"$f":"SUMPRODUCT($L$1:$XFD$1,L176:XFD176)+SUMPRODUCT(Sides!$C$1:$XFD$1,Sides!C176:XFD176)+SUMPRODUCT(Dessert!$C$1:$XFD$1,Dessert!C176:XFD176)","v":0}]
["Evaporated Milk",3,1.5,null,1,"Cups","Dairy",0,3,3,{"$f":"SUMPRODUCT($L$1:$XFD$1,L177:XFD177)+SUMPRODUCT(Sides!$C$1:$XFD$1,Sides!C177:XFD177)+SUMPRODUCT(Dessert!$C$1:$XFD$1,Dessert!C177:XFD177)","v":0}]
["Plastic Silverwear",2,5,null,1,"Each","extra",0,1,1,{"$f":"SUMPRODUCT($L$1:$XFD$1,L178:XFD178)+SUMPRODUCT(Sides!$C$1:$XFD$1,Sides!C178:XFD178)+SUMPRODUCT(Dessert!$C$1:$XFD$1,Dessert!C178:XFD178)","v":0}]
["Green Onions",0,1.5,null,0.25,"Cups","Vegetable",0,0,0,{"$f":"SUMPRODUCT($L$1:$XFD$1,L179:XFD179)+SUMPRODUCT(Sides!$C$1:$XFD$1,Sides!C179:XFD179)+SUMPRODUCT(Dessert!$C$1:$XFD$1,Dessert!C179:XFD179)","v":0},null,null,null,null,null,null,null,null,null,null,null,null,0.5]
["Bread Crumbs",1,3,null,2,"Cups","Baking",0,1,1,{"$f":"SUMPRODUCT($L$1:$XFD$1,L180:XFD180)+SUMPRODUCT(Sides!$C$1:$XFD$1,Sides!C180:XFD180)+SUMPRODUCT(Dessert!$C$1:$XFD$1,Dessert!C180:XFD180)","v":0},null,null,null,null,null,null,null,null,null,null,null,null,1]
["Parsley",1,2,null,0.5,"Cups","Baking",0,0.5,0.5,{"$f":"SUMPRODUCT($L$1:$XFD$1,L181:XFD181)+SUMPRODUCT(Sides!$C$1:$XFD$1,Sides!C181:XFD181)+SUMPRODUCT(Dessert!$C$1:$XFD$1,Dessert!C181:XFD181)","v":0},null,null,null,null,null,null,null,null,null,null,null,null,0.3333333432674408,null,null,null,null,null,null,null,null,0.01]
["Cinnamon",2,3,null,1,"Cups","Baking",0,1,1,{"$f":"SUMPRODUCT($L$1:$XFD$1,L182:XFD182)+SUMPRODUCT(Sides!$C$1:$XFD$1,Sides!C182:XFD182)+SUMPRODUCT(Dessert!$C$1:$XFD$1,Dessert!C182:XFD182)","v":0}]
["Nutmeg",1,3,null,0.5,"Cups","Baking",0,1,1,{"$f":"SUMPRODUCT($L$1:$XFD$1,L183:XFD183)+SUMPRODUCT(Sides!$C$1:$XFD$1,Sides!C183:XFD183)+SUMPRODUCT(Dessert!$C$1:$XFD$1,Dessert!C183:XFD183)","v":0}]
["Vegetable Oil",5,3,null,4,"Cups","Baking",0,1.5,1.5,{"$f":"SUMPRODUCT($L$1:$XFD$1,L184:XFD184)+SUMPRODUCT(Sides!$C$1:$XFD$1,Sides!C184:XFD184)+SUMPRODUCT(Dessert!$C$1:$XFD$1,Dessert!C184:XFD184)","v":0},null,null,null,null,null,null,null,null,null,null,null,null,null,null,6.25E-2,null,0.25]
["Apple Cider Vinegar",1.2,3.5,null,2,"Cups","Baking",0,0.75,0.75,{"$f":"SUMPRODUCT($L$1:$XFD$1,L185:XFD185)+SUMPRODUCT(Sides!$C$1:$XFD$1,Sides!C185:XFD185)+SUMPRODUCT(Dessert!$C$1:$XFD$1,Dessert!C185:XFD185)","v":0},null,null,null,null,null,null,null,null,null,null,null,null,null,0.25,null,null,null,null,null,null,6.25E-2]
["Honey",2,4,null,2,"Cups","Baking",0,1.25,1.25,{"$f":"SUMPRODUCT($L$1:$XFD$1,L186:XFD186)+SUMPRODUCT(Sides!$C$1:$XFD$1,Sides!C186:XFD186)+SUMPRODUCT(Dessert!$C$1:$XFD$1,Dessert!C186:XFD186)","v":0},null,null,null,null,null,null,null,null,null,null,null,null,null,null,0.125]
["Hot Sauce",1,3,null,2,"Cups","Condiments",0,0.5,0.5,{"$f":"SUMPRODUCT($L$1:$XFD$1,L187:XFD187)+SUMPRODUCT(Sides!$C$1:$XFD$1,Sides!C187:XFD187)+SUMPRODUCT(Dessert!$C$1:$XFD$1,Dessert!C187:XFD187)","v":0},null,null,null,null,null,null,null,null,null,null,null,null,null,null,0.125]
["Lemon",0,1.5,null,1,"Each","Fruit",0,0,0,{"$f":"SUMPRODUCT($L$1:$XFD$1,L188:XFD188)+SUMPRODUCT(Sides!$C$1:$XFD$1,Sides!C188:XFD188)+SUMPRODUCT(Dessert!$C$1:$XFD$1,Dessert!C188:XFD188)","v":0}]
["Peas (Can)",2,1.5,null,1,"Each","Vegetable",0,2,2,{"$f":"SUMPRODUCT($L$1:$XFD$1,L189:XFD189)+SUMPRODUCT(Sides!$C$1:$XFD$1,Sides!C189:XFD189)+SUMPRODUCT(Dessert!$C$1:$XFD$1,Dessert!C189:XFD189)","v":0},null,null,null,null,null,null,null,null,null,null,null,null,null,null,null,1]
["Almond Milk",0.7,3.5,null,8,"Cups","Dairy",1,1,1,{"$f":"SUMPRODUCT($L$1:$XFD$1,L190:XFD190)+SUMPRODUCT(Sides!$C$1:$XFD$1,Sides!C190:XFD190)+SUMPRODUCT(Dessert!$C$1:$XFD$1,Dessert!C190:XFD190)","v":0}]
["Chuck Steak",2,3.5,null,1,"lb","Meat",0,0,0,{"$f":"SUMPRODUCT($L$1:$XFD$1,L191:XFD191)+SUMPRODUCT(Sides!$C$1:$XFD$1,Sides!C191:XFD191)+SUMPRODUCT(Dessert!$C$1:$XFD$1,Dessert!C191:XFD191)","v":0},null,null,null,null,null,null,null,null,null,null,null,null,null,null,null,null,2,1]
["Beef Broth",1,2,null,2,"Cups","Baking",0,0.5,0.5,{"$f":"SUMPRODUCT($L$1:$XFD$1,L192:XFD192)+SUMPRODUCT(Sides!$C$1:$XFD$1,Sides!C192:XFD192)+SUMPRODUCT(Dessert!$C$1:$XFD$1,Dessert!C192:XFD192)","v":0},null,null,null,null,null,null,null,null,null,null,null,null,null,null,null,null,0.05]
["Wax Paper",1,3.5,null,1,"Each","extra",0,0.5,0.5,{"$f":"SUMPRODUCT($L$1:$XFD$1,L193:XFD193)+SUMPRODUCT(Sides!$C$1:$XFD$1,Sides!C193:XFD193)+SUMPRODUCT(Dessert!$C$1:$XFD$1,Dessert!C193:XFD193)","v":0}]
["Parchment Paper",1,3.5,null,1,"Each","extra",0,0.5,0.5,{"$f":"SUMPRODUCT($L$1:$XFD$1,L194:XFD194)+SUMPRODUCT(Sides!$C$1:$XFD$1,Sides!C194:XFD194)+SUMPRODUCT(Dessert!$C$1:$XFD$1,Dessert!C194:XFD194)","v":0}]
["Buffalo Wing Sauce",2,4,null,2,"Cups","Baking",0,0,0,{"$f":"SUMPRODUCT($L$1:$XFD$1,L195:XFD195)+SUMPRODUCT(Sides!$C$1:$XFD$1,Sides!C195:XFD195)+SUMPRODUCT(Dessert!$C$1:$XFD$1,Dessert!C195:XFD195)","v":0},null,null,null,null,null,null,null,null,null,null,null,null,null,null,null,null,null,null,1.5]
["Ranch Salad Dressing Mix",1,2.5,null,1,"Each","Condiments",0,0,0,{"$f":"SUMPRODUCT($L$1:$XFD$1,L196:XFD196)+SUMPRODUCT(Sides!$C$1:$XFD$1,Sides!C196:XFD196)+SUMPRODUCT(Dessert!$C$1:$XFD$1,Dessert!C196:XFD196)","v":0},null,null,null,null,null,null,null,null,null,null,null,null,null,null,null,null,null,null,1]
["Kidney Beans",8,2,null,1,"Each","Vegetable",0,2,2,{"$f":"SUMPRODUCT($L$1:$XFD$1,L197:XFD197)+SUMPRODUCT(Sides!$C$1:$XFD$1,Sides!C197:XFD197)+SUMPRODUCT(Dessert!$C$1:$XFD$1,Dessert!C197:XFD197)","v":0},null,null,null,null,null,null,null,null,null,null,null,null,null,null,null,null,null,null,null,1]
["Spinach",0,4,null,4,"Cups","Vegetable",0,0,0,{"$f":"SUMPRODUCT($L$1:$XFD$1,L198:XFD198)+SUMPRODUCT(Sides!$C$1:$XFD$1,Sides!C198:XFD198)+SUMPRODUCT(Dessert!$C$1:$XFD$1,Dessert!C198:XFD198)","v":0},null,null,null,null,null,null,null,null,null,null,null,null,null,null,null,null,null,null,null,2]
["Zucchini",0,1.5,null,1,"Each","Vegetable",0,0,0,{"$f":"SUMPRODUCT($L$1:$XFD$1,L199:XFD199)+SUMPRODUCT(Sides!$C$1:$XFD$1,Sides!C199:XFD199)+SUMPRODUCT(Dessert!$C$1:$XFD$1,Dessert!C199:XFD199)","v":0},null,null,null,null,null,null,null,null,null,null,null,null,null,null,null,null,null,null,null,3]
["Basil",1,3.5,null,1,"Cups","Baking",0,0.9,0.9,{"$f":"SUMPRODUCT($L$1:$XFD$1,L200:XFD200)+SUMPRODUCT(Sides!$C$1:$XFD$1,Sides!C200:XFD200)+SUMPRODUCT(Dessert!$C$1:$XFD$1,Dessert!C200:XFD200)","v":0},null,null,null,null,null,null,null,null,null,null,null,null,null,null,null,null,null,null,null,0.125,null,3.1249949999999999E-2]
["Seashell Pasta",2,3,null,4,"Cups","Grain",0,1,1,{"$f":"SUMPRODUCT($L$1:$XFD$1,L201:XFD201)+SUMPRODUCT(Sides!$C$1:$XFD$1,Sides!C201:XFD201)+SUMPRODUCT(Dessert!$C$1:$XFD$1,Dessert!C201:XFD201)","v":0},null,null,null,null,null,null,null,null,null,null,null,null,null,null,null,null,null,null,null,0.5]
["(28 ounce) Can Crushed Tomatoes",0,2,null,1,"Each","Canned",3,3,3,{"$f":"SUMPRODUCT($L$1:$XFD$1,L202:XFD202)+SUMPRODUCT(Sides!$C$1:$XFD$1,Sides!C202:XFD202)+SUMPRODUCT(Dessert!$C$1:$XFD$1,Dessert!C202:XFD202)","v":0},null,null,null,null,null,null,null,null,null,null,null,null,null,null,null,null,null,null,null,null,null,1]
["(6 ounce) Can Tomato Paste",3,1,null,1,"Each","Canned",0,3,3,{"$f":"SUMPRODUCT($L$1:$XFD$1,L203:XFD203)+SUMPRODUCT(Sides!$C$1:$XFD$1,Sides!C203:XFD203)+SUMPRODUCT(Dessert!$C$1:$XFD$1,Dessert!C203:XFD203)","v":0},null,null,null,null,null,null,null,null,null,null,null,null,null,null,null,null,null,null,null,null,null,2]
["Fennel Seeds",0,3.5,null,0.5,"Cups","Baking",1,0.5,0.5,{"$f":"SUMPRODUCT($L$1:$XFD$1,L204:XFD204)+SUMPRODUCT(Sides!$C$1:$XFD$1,Sides!C204:XFD204)+SUMPRODUCT(Dessert!$C$1:$XFD$1,Dessert!C204:XFD204)","v":0},null,null,null,null,null,null,null,null,null,null,null,null,null,null,null,null,null,null,null,null,null,1.041665E-2]
["Lasagna Noodles",1,3,null,1,"Each","Grain",1,2,2,{"$f":"SUMPRODUCT($L$1:$XFD$1,L205:XFD205)+SUMPRODUCT(Sides!$C$1:$XFD$1,Sides!C205:XFD205)+SUMPRODUCT(Dessert!$C$1:$XFD$1,Dessert!C205:XFD205)","v":0},null,null,null,null,null,null,null,null,null,null,null,null,null,null,null,null,null,null,null,null,null,1]
["Ricotta Cheese",0,4,null,2,"Cups","Dairy",0,0,0,{"$f":"SUMPRODUCT($L$1:$XFD$1,L206:XFD206)+SUMPRODUCT(Sides!$C$1:$XFD$1,Sides!C206:XFD206)+SUMPRODUCT(Dessert!$C$1:$XFD$1,Dessert!C206:XFD206)","v":0},null,null,null,null,null,null,null,null,null,null,null,null,null,null,null,null,null,null,null,null,null,1]
["Mozzarella Cheese",0,6,null,3,"Cups","Dairy",0,0,0,{"$f":"SUMPRODUCT($L$1:$XFD$1,L207:XFD207)+SUMPRODUCT(Sides!$C$1:$XFD$1,Sides!C207:XFD207)+SUMPRODUCT(Dessert!$C$1:$XFD$1,Dessert!C207:XFD207)","v":0},null,null,null,null,null,null,null,null,null,null,null,null,null,null,null,null,null,null,null,null,null,0.75]
["Light Corn Syrup",0.5,4,null,3,"Cups","Baking",1,1,1,{"$f":"SUMPRODUCT($L$1:$XFD$1,L208:XFD208)+SUMPRODUCT(Sides!$C$1:$XFD$1,Sides!C208:XFD208)+SUMPRODUCT(Dessert!$C$1:$XFD$1,Dessert!C208:XFD208)","v":0}]
["Pecans",0,5,null,2,"Cups","Baking",1,1,1,{"$f":"SUMPRODUCT($L$1:$XFD$1,L209:XFD209)+SUMPRODUCT(Sides!$C$1:$XFD$1,Sides!C209:XFD209)+SUMPRODUCT(Dessert!$C$1:$XFD$1,Dessert!C209:XFD209)","v":0}]

{"sheet":"Meal Input","index":3,"n_rows":40,"n_cols":9,"rows_kept":40,"cut":false,"hidden":false,"merged":[]}
["Dessert",null,"Qty","Units of Measure"]
["Ingredient 1",null,null,null,null,null,null,"Cups","Main"]
["Ingredient 2",null,null,null,null,null,null,"Each","Side"]
["Ingredient 3",null,null,null,null,null,null,"tsp","Dessert"]
["Ingredient 4",null,null,null,null,null,null,"tbsp"]
["Ingredient 5",null,null,null,null,null,null,"lb"]
["Ingredient 6",null,null,null,null,null,null,"quarts"]
["Ingredient 7",null,null,null,null,null,null,"gallons"]
["Ingredient 8"]
["Ingredient 9"]
["Ingredient 10"]
["Ingredient 11"]
["Ingredient 12"]
["Ingredient 13"]
["Ingredient 14"]
["Ingredient 15"]
["Ingredient 16"]
["Ingredient 17"]
["Ingredient 18"]
["Ingredient 19"]
["Ingredient 20"]
["Ingredient 21"]
["Ingredient 22"]
["Ingredient 23"]
["Ingredient 24"]
["Instructions 1"]
["Instructions 2"]
["Instructions 3"]
["Instructions 4"]
["Instructions 5"]
["Instructions 6"]
["Instructions 7"]
["Instructions 8"]
["Instructions 9"]
["Instructions 10"]
["Instructions 11"]
["Instructions 12"]
["Instructions 13"]
["Instructions 14"]
["Instructions 15"]

{"sheet":"Online Meal Input","index":4,"n_rows":60,"n_cols":5,"rows_kept":60,"cut":false,"hidden":false,"merged":[]}
["Web Address:","http://allrecipes.com/recipe/54513/grandmother-stougaards-caramel-pecan-sweet-rolls/?internalSource=search%20result&referringContentType=search%20results"]
[]
[null,null,"Qty","Units of Measure","Mapped Ingredient"]
["Ingredient 1"]
["Ingredient 2"]
["Ingredient 3"]
["Ingredient 4"]
["Ingredient 5"]
["Ingredient 6"]
["Ingredient 7"]
["Ingredient 8"]
["Ingredient 9"]
["Ingredient 10"]
["Ingredient 11"]
["Ingredient 12"]
["Ingredient 13"]
["Ingredient 14"]
["Ingredient 15"]
["Ingredient 16"]
["Ingredient 17"]
["Ingredient 18"]
["Ingredient 19"]
["Ingredient 20"]
["Ingredient 21"]
["Ingredient 22"]
["Ingredient 23"]
["Ingredient 24"]
["Instructions 1"]
["Instructions 2"]
["Instructions 3"]
["Instructions 4"]
["Instructions 5"]
["Instructions 6"]
["Instructions 7"]
["Instructions 8"]
["Instructions 9"]
["Instructions 10"]
["Instructions 11"]
["Instructions 12"]
["Instructions 13"]
["Instructions 14"]
["Instructions 15"]
[]
[]
[]
[]
[]
[]
[]
[]
[]
[]
[]
[]
[]
[]
[]
[null,"http://allrecipes.com/recipe/25805/churros-ii/?internalSource=previously%20saved&referringContentType=home%20page"]
[null,"http://allrecipes.com/recipe/18128/sopapillas/"]
[null,"http://allrecipes.com/recipe/33625/cake-doughnuts/"]

{"sheet":"Add Ingredient","index":5,"n_rows":19,"n_cols":14,"rows_kept":19,"cut":false,"hidden":false,"merged":[]}
[]
[null,"Item","Current QTY","Price","Units","QTY per package","Category","Minimum Inventory"]
[1]
[2]
[3]
[4]
[5]
[6]
[7,null,null,null,null,null,null,null,null,null,null,null,"Each","Baking"]
[8,null,null,null,null,null,null,null,null,null,null,null,"Cups","Boxed"]
[9,null,null,null,null,null,null,null,null,null,null,null,"lb","Canned"]
[10,null,null,null,null,null,null,null,null,null,null,null,null,"Condiments"]
[null,null,null,null,null,null,null,null,null,null,null,null,null,"Dairy"]
[null,null,null,null,null,null,null,null,null,null,null,null,null,"extra"]
[null,null,null,null,null,null,null,null,null,null,null,null,null,"Fruit"]
[null,null,null,null,null,null,null,null,null,null,null,null,null,"Grain"]
[null,null,null,null,null,null,null,null,null,null,null,null,null,"Meat"]
[null,null,null,null,null,null,null,null,null,null,null,null,null,"Toiletries"]
[null,null,null,null,null,null,null,null,null,null,null,null,null,"Vegetable"]

{"sheet":"Sides","index":6,"n_rows":1458,"n_cols":16,"rows_kept":1458,"cut":false,"hidden":false,"merged":[]}
[]
[{"$f":"Inventory!A2","v":"Current Inventory"},{"$f":"Inventory!G2","v":"Category"},"Broccoli","Mashed Potatoes","Green Beans","Rice","Mashed Potatoes","Rolls","Classic Biscuits","Maple Syrup","Tomato Soup","Corn","Supreme Strawberry Topping","Cream Cheese Filling","Tortilla","Tomato Soup"]
[{"$f":"Inventory!A3","v":"Cake Mix"},{"$f":"Inventory!G3","v":"Baking"}]
[{"$f":"Inventory!A4","v":"Frosting"},{"$f":"Inventory!G4","v":"Baking"}]
[{"$f":"Inventory!A5","v":"Pam"},{"$f":"Inventory!G5","v":"Baking"}]
[{"$f":"Inventory!A6","v":"Eggo Waffles"},{"$f":"Inventory!G6","v":"Boxed"}]
[{"$f":"Inventory!A7","v":"Fajita Sauce Packet"},{"$f":"Inventory!G7","v":"Boxed"}]
[{"$f":"Inventory!A8","v":"Frozen Pizza"},{"$f":"Inventory!G8","v":"Boxed"}]
[{"$f":"Inventory!A9","v":"Fruit Snacks"},{"$f":"Inventory!G9","v":"Boxed"}]
[{"$f":"Inventory!A10","v":"Gold Fish"},{"$f":"Inventory!G10","v":"Boxed"}]
[{"$f":"Inventory!A11","v":"Mac & Cheese"},{"$f":"Inventory!G11","v":"Boxed"}]
[{"$f":"Inventory!A12","v":"Shakenbake"},{"$f":"Inventory!G12","v":"Boxed"}]
[{"$f":"Inventory!A13","v":"Stroganoff"},{"$f":"Inventory!G13","v":"Boxed"}]
[{"$f":"Inventory!A14","v":"Teriyaki Sauce"},{"$f":"Inventory!G14","v":"Boxed"}]
[{"$f":"Inventory!A15","v":"Black Olives"},{"$f":"Inventory!G15","v":"Canned"}]
[{"$f":"Inventory!A16","v":"Chicken Noodle Soup"},{"$f":"Inventory!G16","v":"Canned"}]
[{"$f":"Inventory!A17","v":"Cream of Mushroom"},{"$f":"Inventory!G17","v":"Canned"}]
[{"$f":"Inventory!A18","v":"Pork & Beans"},{"$f":"Inventory!G18","v":"Canned"}]
[{"$f":"Inventory!A19","v":"Raviolis"},{"$f":"Inventory!G19","v":"Canned"}]
[{"$f":"Inventory!A20","v":"Refried Beans"},{"$f":"Inventory!G20","v":"Canned"}]
[{"$f":"Inventory!A21","v":"Tomato Sauce"},{"$f":"Inventory!G21","v":"Canned"}]
[{"$f":"Inventory!A22","v":"Tomato Soup"},{"$f":"Inventory!G22","v":"Canned"},null,null,null,null,null,null,null,null,2,null,null,null,null,2]
[{"$f":"Inventory!A23","v":"Crushed Red Pepper"},{"$f":"Inventory!G23","v":"Condiments"}]
[{"$f":"Inventory!A24","v":"Italian Dressing Mix"},{"$f":"Inventory!G24","v":"Condiments"}]
[{"$f":"Inventory!A25","v":"Italian Seasoning"},{"$f":"Inventory!G25","v":"Condiments"}]
[{"$f":"Inventory!A26","v":"Ketchup"},{"$f":"Inventory!G26","v":"Condiments"}]
[{"$f":"Inventory!A27","v":"Mayo"},{"$f":"Inventory!G27","v":"Condiments"}]
[{"$f":"Inventory!A28","v":"Mustard"},{"$f":"Inventory!G28","v":"Condiments"}]
[{"$f":"Inventory!A29","v":"Salsa"},{"$f":"Inventory!G29","v":"Condiments"}]
[{"$f":"Inventory!A30","v":"Butter"},{"$f":"Inventory!G30","v":"Dairy"},null,0.1,null,null,0.25,0.25,0.5,null,null,null,null,0.25]
[{"$f":"Inventory!A31","v":"Cheddar"},{"$f":"Inventory!G31","v":"Dairy"}]
[{"$f":"Inventory!A32","v":"Cottage Cheese"},{"$f":"Inventory!G32","v":"Dairy"}]
[{"$f":"Inventory!A33","v":"Eggs"},{"$f":"Inventory!G33","v":"Dairy"}]
[{"$f":"Inventory!A34","v":"Heavy Whipping Cream"},{"$f":"Inventory!G34","v":"Dairy"},null,null,null,null,null,null,null,null,null,null,null,null,1]
[{"$f":"Inventory!A35","v":"Ice Cream"},{"$f":"Inventory!G35","v":"Dairy"}]
[{"$f":"Inventory!A36","v":"Milk (whole)"},{"$f":"Inventory!G36","v":"Dairy"}]
[{"$f":"Inventory!A37","v":"MILK 2%"},{"$f":"Inventory!G37","v":"Dairy"},null,0.1,null,null,null,0.1,0.75]
[{"$f":"Inventory!A38","v":"Parmesan cheese"},{"$f":"Inventory!G38","v":"Dairy"}]
[{"$f":"Inventory!A39","v":"Peach Yogurt"},{"$f":"Inventory!G39","v":"Dairy"}]
[{"$f":"Inventory!A40","v":"Provolone Cheese"},{"$f":"Inventory!G40","v":"Dairy"}]
[{"$f":"Inventory!A41","v":"Shredded Cheddar"},{"$f":"Inventory!G41","v":"Dairy"}]
[{"$f":"Inventory!A42","v":"Sour Cream"},{"$f":"Inventory!G42","v":"Dairy"},null,null,null,null,0.2]
[{"$f":"Inventory!A43","v":"String Cheese"},{"$f":"Inventory!G43","v":"Dairy"}]
[{"$f":"Inventory!A44","v":"Yogurt"},{"$f":"Inventory!G44","v":"Dairy"},null,null,null,null,null,null,null,null,null,null,null,null,1]
[{"$f":"Inventory!A45","v":"Yogurt (Plain)"},{"$f":"Inventory!G45","v":"Dairy"}]
[{"$f":"Inventory!A46","v":"Aluminum Foil"},{"$f":"Inventory!G46","v":"extra"}]
[{"$f":"Inventory!A47","v":"Candy"},{"$f":"Inventory!G47","v":"extra"}]
[{"$f":"Inventory!A48","v":"Chips"},{"$f":"Inventory!G48","v":"extra"}]
[{"$f":"Inventory!A49","v":"Chocolate Cookies"},{"$f":"Inventory!G49","v":"extra"}]
[{"$f":"Inventory!A50","v":"French Fries"},{"$f":"Inventory!G50","v":"extra"}]
[{"$f":"Inventory!A51","v":"Marshmallows"},{"$f":"Inventory!G51","v":"extra"}]
[{"$f":"Inventory!A52","v":"Paper Plates"},{"$f":"Inventory!G52","v":"extra"}]
[{"$f":"Inventory!A53","v":"Peanut Butter"},{"$f":"Inventory!G53","v":"extra"}]
[{"$f":"Inventory!A54","v":"Plastic Bowls"},{"$f":"Inventory!G54","v":"extra"}]
[{"$f":"Inventory!A55","v":"Plastic Cups"},{"$f":"Inventory!G55","v":"extra"}]
[{"$f":"Inventory!A56","v":"Plastic Wrap"},{"$f":"Inventory!G56","v":"extra"}]
[{"$f":"Inventory!A57","v":"Pop"},{"$f":"Inventory!G57","v":"extra"}]
[{"$f":"Inventory!A58","v":"Tortilla Chips"},{"$f":"Inventory!G58","v":"extra"}]
[{"$f":"Inventory!A59","v":"Wrapping Paper"},{"$f":"Inventory!G59","v":"extra"}]
[{"$f":"Inventory!A60","v":"Apple Juice"},{"$f":"Inventory!G60","v":"Fruit"}]
[{"$f":"Inventory!A61","v":"Apple Sauce"},{"$f":"Inventory!G61","v":"Fruit"}]
[{"$f":"Inventory!A62","v":"Apples"},{"$f":"Inventory!G62","v":"Fruit"}]
[{"$f":"Inventory!A63","v":"Bananas"},{"$f":"Inventory!G63","v":"Fruit"}]
[{"$f":"Inventory!A64","v":"Canned Oranges"},{"$f":"Inventory!G64","v":"Fruit"}]
[{"$f":"Inventory!A65","v":"Canned Pineapple"},{"$f":"Inventory!G65","v":"Fruit"}]
[{"$f":"Inventory!A66","v":"Frozen Fruit"},{"$f":"Inventory!G66","v":"Fruit"}]
[{"$f":"Inventory!A67","v":"Grapes"},{"$f":"Inventory!G67","v":"Fruit"}]
[{"$f":"Inventory!A68","v":"Jam"},{"$f":"Inventory!G68","v":"Fruit"}]
[{"$f":"Inventory!A69","v":"Orange Juice"},{"$f":"Inventory!G69","v":"Fruit"}]
[{"$f":"Inventory!A70","v":"Oranges"},{"$f":"Inventory!G70","v":"Fruit"}]
[{"$f":"Inventory!A71","v":"Peaches"},{"$f":"Inventory!G71","v":"Fruit"}]
[{"$f":"Inventory!A72","v":"Strawberries"},{"$f":"Inventory!G72","v":"Fruit"},null,null,null,null,null,null,null,null,null,null,2]
[{"$f":"Inventory!A73","v":"Bread"},{"$f":"Inventory!G73","v":"Grain"}]
[{"$f":"Inventory!A74","v":"Cereal"},{"$f":"Inventory!G74","v":"Grain"}]
[{"$f":"Inventory!A75","v":"Crackers"},{"$f":"Inventory!G75","v":"Grain"}]
[{"$f":"Inventory!A76","v":"Graham Crackers"},{"$f":"Inventory!G76","v":"Grain"}]
[{"$f":"Inventory!A77","v":"Hamburger Buns"},{"$f":"Inventory!G77","v":"Grain"}]
[{"$f":"Inventory!A78","v":"Hotdog buns"},{"$f":"Inventory!G78","v":"Grain"}]
[{"$f":"Inventory!A79","v":"Macaroni Noodles"},{"$f":"Inventory!G79","v":"Grain"}]
[{"$f":"Inventory!A80","v":"Rice"},{"$f":"Inventory!G80","v":"Grain"},null,null,null,1]
[{"$f":"Inventory!A81","v":"Rolls"},{"$f":"Inventory!G81","v":"Grain"},null,null,null," "]
[{"$f":"Inventory!A82","v":"Shells (Corn)"},{"$f":"Inventory!G82","v":"Grain"}]
[{"$f":"Inventory!A83","v":"Spaghetti Noodles"},{"$f":"Inventory!G83","v":"Grain"}]
[{"$f":"Inventory!A84","v":"Tortilla (Flour)"},{"$f":"Inventory!G84","v":"Grain"}]
[{"$f":"Inventory!A85","v":"Bacon"},{"$f":"Inventory!G85","v":"Meat"}]
[{"$f":"Inventory!A86","v":"Beef Patties"},{"$f":"Inventory!G86","v":"Meat"}]
[{"$f":"Inventory!A87","v":"Bologna"},{"$f":"Inventory!G87","v":"Meat"}]
[{"$f":"Inventory!A88","v":"Chicken"},{"$f":"Inventory!G88","v":"Meat"}]
[{"$f":"Inventory!A89","v":"Chicken Can (ff)"},{"$f":"Inventory!G89","v":"Meat"}]
[{"$f":"Inventory!A90","v":"Corn Beef"},{"$f":"Inventory!G90","v":"Meat"}]
[{"$f":"Inventory!A91","v":"Ground Beef"},{"$f":"Inventory!G91","v":"Meat"}]
[{"$f":"Inventory!A92","v":"Ground Turkey"},{"$f":"Inventory!G92","v":"Meat"}]
[{"$f":"Inventory!A93","v":"Hotdogs"},{"$f":"Inventory!G93","v":"Meat"}]
[{"$f":"Inventory!A94","v":"Lunch Meat"},{"$f":"Inventory!G94","v":"Meat"}]
[{"$f":"Inventory!A95","v":"Pork"},{"$f":"Inventory!G95","v":"Meat"}]
[{"$f":"Inventory!A96","v":"Roast Beef"},{"$f":"Inventory!G96","v":"Meat"}]
[{"$f":"Inventory!A97","v":"Rotisserie Chicken"},{"$f":"Inventory!G97","v":"Meat"}]
[{"$f":"Inventory!A98","v":"Sausage"},{"$f":"Inventory!G98","v":"Meat"}]
[{"$f":"Inventory!A99","v":"Tri Tip"},{"$f":"Inventory!G99","v":"Meat"}]
[{"$f":"Inventory!A100","v":"Tuna"},{"$f":"Inventory!G100","v":"Meat"}]
[{"$f":"Inventory!A101","v":"Diapers 4"},{"$f":"Inventory!G101","v":"Toiletries"}]
[{"$f":"Inventory!A102","v":"Dishwasher Detergent"},{"$f":"Inventory!G102","v":"Toiletries"}]
[{"$f":"Inventory!A103","v":"Dryer Sheets"},{"$f":"Inventory!G103","v":"Toiletries"}]
[{"$f":"Inventory!A104","v":"Garbage Bags"},{"$f":"Inventory!G104","v":"Toiletries"}]
[{"$f":"Inventory!A105","v":"Kids Shampoo"},{"$f":"Inventory!G105","v":"Toiletries"}]
[{"$f":"Inventory!A106","v":"Kitchen Cleaner"},{"$f":"Inventory!G106","v":"Toiletries"}]
[{"$f":"Inventory!A107","v":"Laundry Detergent"},{"$f":"Inventory!G107","v":"Toiletries"}]
[{"$f":"Inventory!A108","v":"Tampons"},{"$f":"Inventory!G108","v":"Toiletries"}]
[{"$f":"Inventory!A109","v":"Toilet paper"},{"$f":"Inventory!G109","v":"Toiletries"}]
[{"$f":"Inventory!A110","v":"Toothpaste"},{"$f":"Inventory!G110","v":"Toiletries"}]
[{"$f":"Inventory!A111","v":"Wipes"},{"$f":"Inventory!G111","v":"Toiletries"}]
[{"$f":"Inventory!A112","v":"Ziploc Bags"},{"$f":"Inventory!G112","v":"Toiletries"}]
[{"$f":"Inventory!A113","v":"Avocado"},{"$f":"Inventory!G113","v":"Vegetable"}]
[{"$f":"Inventory!A114","v":"Broccoli"},{"$f":"Inventory!G114","v":"Vegetable"},1]
[{"$f":"Inventory!A115","v":"Cabbage"},{"$f":"Inventory!G115","v":"Vegetable"}]
[{"$f":"Inventory!A116","v":"Carrots"},{"$f":"Inventory!G116","v":"Vegetable"}]
[{"$f":"Inventory!A117","v":"Celery"},{"$f":"Inventory!G117","v":"Vegetable"}]
[{"$f":"Inventory!A118","v":"Cilantro"},{"$f":"Inventory!G118","v":"Vegetable"}]
[{"$f":"Inventory!A119","v":"Cole Slaw"},{"$f":"Inventory!G119","v":"Vegetable"}]
[{"$f":"Inventory!A120","v":"Corn"},{"$f":"Inventory!G120","v":"Vegetable"},null,null,null,null,null,null,null,null,null,1]
[{"$f":"Inventory!A121","v":"Cucumbers"},{"$f":"Inventory!G121","v":"Vegetable"}]
[{"$f":"Inventory!A122","v":"Green Beans"},{"$f":"Inventory!G122","v":"Vegetable"},null,null,1]
[{"$f":"Inventory!A123","v":"Kale"},{"$f":"Inventory!G123","v":"Vegetable"}]
[{"$f":"Inventory!A124","v":"Lettuce"},{"$f":"Inventory!G124","v":"Vegetable"}]
[{"$f":"Inventory!A125","v":"Lime"},{"$f":"Inventory!G125","v":"Vegetable"}]
[{"$f":"Inventory!A126","v":"Lime Juice"},{"$f":"Inventory!G126","v":"Vegetable"}]
[{"$f":"Inventory!A127","v":"Onion"},{"$f":"Inventory!G127","v":"Vegetable"}]
[{"$f":"Inventory!A128","v":"Potato Salad"},{"$f":"Inventory!G128","v":"Vegetable"}]
[{"$f":"Inventory!A129","v":"Potatoes"},{"$f":"Inventory!G129","v":"Vegetable"},null,0.25,null,null,0.25,0.1]
[{"$f":"Inventory!A130","v":"Red Onion"},{"$f":"Inventory!G130","v":"Vegetable"}]
[{"$f":"Inventory!A131","v":"Red Pepper"},{"$f":"Inventory!G131","v":"Vegetable"}]
[{"$f":"Inventory!A132","v":"Salad Mix"},{"$f":"Inventory!G132","v":"Vegetable"}]
[{"$f":"Inventory!A133","v":"Vine Ripe Tomatoes"},{"$f":"Inventory!G133","v":"Vegetable"}]
[{"$f":"Inventory!A134","v":"BBQ Sauce"},{"$f":"Inventory!G134","v":"Condiments"}]
[{"$f":"Inventory!A135","v":"Fish"},{"$f":"Inventory!G135","v":"Meat"}]
[{"$f":"Inventory!A136","v":"Garlic Salt"},{"$f":"Inventory!G136","v":"Condiments"}]
[{"$f":"Inventory!A137","v":"Garlic"},{"$f":"Inventory!G137","v":"Condiments"}]
[{"$f":"Inventory!A138","v":"Salt"},{"$f":"Inventory!G138","v":"Condiments"},null,null,null,null,null,0.01,null,null,null,null,null,null,2.0833299999999999E-2]
[{"$f":"Inventory!A139","v":"Flour"},{"$f":"Inventory!G139","v":"Baking"},null,null,null,null,null,0.25,2,null,null,null,null,null,4]
[{"$f":"Inventory!A140","v":"Sugar"},{"$f":"Inventory!G140","v":"Baking"},null,null,null,null,null,0.1,6.25E-2,2,null,null,0.33300000000000002]
[{"$f":"Inventory!A141","v":"Yeast"},{"$f":"Inventory!G141","v":"Baking"},null,null,null,null,null,0.1]
[{"$f":"Inventory!A142","v":"White Vinegar"},{"$f":"Inventory!G142","v":"Baking"}]
[{"$f":"Inventory!A143","v":"Baking Powder"},{"$f":"Inventory!G143","v":"Baking"},null,null,null,null,null,null,6.2499899999999997E-2,null,null,null,null,null,2.0833299999999999E-2]
[{"$f":"Inventory!A144","v":"Baking Soda"},{"$f":"Inventory!G144","v":"Baking"}]
[{"$f":"Inventory!A145","v":"Brown Sugar"},{"$f":"Inventory!G145","v":"Baking"}]
[{"$f":"Inventory!A146","v":"Vanilla"},{"$f":"Inventory!G146","v":"Baking"},null,null,null,null,null,null,null,null,null,null,2.0833299999999999E-2]
[{"$f":"Inventory!A147","v":"Garlic Powder"},{"$f":"Inventory!G147","v":"Baking"}]
[{"$f":"Inventory!A148","v":"Pepper"},{"$f":"Inventory!G148","v":"Baking"}]
[{"$f":"Inventory!A149","v":"Egg Noodles"},{"$f":"Inventory!G149","v":"Grain"}]
[{"$f":"Inventory!A150","v":"Cocoa Powder"},{"$f":"Inventory!G150","v":"Baking"}]
[{"$f":"Inventory!A151","v":"Sweet Chocolate Chips"},{"$f":"Inventory!G151","v":"Baking"}]
[{"$f":"Inventory!A152","v":"Chicken-Broth"},{"$f":"Inventory!G152","v":"Canned"}]
[{"$f":"Inventory!A153","v":"Velveeta"},{"$f":"Inventory!G153","v":"Dairy"}]
[{"$f":"Inventory!A154","v":"Cornstarch"},{"$f":"Inventory!G154","v":"Baking"}]
[{"$f":"Inventory!A155","v":"Water"},{"$f":"Inventory!G155","v":"Dairy"},null,null,null,null,null,null,null,1]
[{"$f":"Inventory!A156","v":"Chili Powder"},{"$f":"Inventory!G156","v":"Baking"}]
[{"$f":"Inventory!A157","v":"Paprika"},{"$f":"Inventory!G157","v":"Baking"}]
[{"$f":"Inventory!A158","v":"Onion Powder"},{"$f":"Inventory!G158","v":"Baking"}]
[{"$f":"Inventory!A159","v":"Cumin"},{"$f":"Inventory!G159","v":"Baking"}]
[{"$f":"Inventory!A160","v":"Cayenne Pepper"},{"$f":"Inventory!G160","v":"Baking"}]
[{"$f":"Inventory!A161","v":"Red Bell Pepper"},{"$f":"Inventory!G161","v":"Vegetable"}]
[{"$f":"Inventory!A162","v":"Green Bell Pepper"},{"$f":"Inventory!G162","v":"Vegetable"}]
[{"$f":"Inventory!A163","v":"Olive Oil"},{"$f":"Inventory!G163","v":"Baking"}]
[{"$f":"Inventory!A164","v":"Mapleine"},{"$f":"Inventory!G164","v":"Baking"},null,null,null,null,null,null,null,0.125]
[{"$f":"Inventory!A165","v":"Body Wash"},{"$f":"Inventory!G165","v":"extra"}]
[{"$f":"Inventory!A166","v":"Hand Wash"},{"$f":"Inventory!G166","v":"extra"}]
[{"$f":"Inventory!A167","v":"Dish Detergent"},{"$f":"Inventory!G167","v":"extra"}]
[{"$f":"Inventory!A168","v":"Cream Cheese"},{"$f":"Inventory!G168","v":"Dairy"},null,null,null,null,null,null,null,null,null,null,null,1]
[{"$f":"Inventory!A169","v":"Lemon Juice"},{"$f":"Inventory!G169","v":"Vegetable"},null,null,null,null,null,null,null,null,null,null,null,0.125]
[{"$f":"Inventory!A170","v":"Powdered Sugar"},{"$f":"Inventory!G170","v":"Baking"},null,null,null,null,null,null,null,null,null,null,null,3.75]
[{"$f":"Inventory!A171","v":"Turkey (whole)"},{"$f":"Inventory!G171","v":"Meat"}]
[{"$f":"Inventory!A172","v":"Soy Sauce"},{"$f":"Inventory!G172","v":"Condiments"}]
[{"$f":"Inventory!A173","v":"Worcestershire Sauce"},{"$f":"Inventory!G173","v":"Condiments"}]
[{"$f":"Inventory!A174","v":"Ginger"},{"$f":"Inventory!G174","v":"Vegetable"}]
[{"$f":"Inventory!A175","v":"Oregano"},{"$f":"Inventory!G175","v":"Condiments"}]
[{"$f":"Inventory!A176","v":"Chicken Bouillon"},{"$f":"Inventory!G176","v":"Baking"}]
[{"$f":"Inventory!A177","v":"Evaporated Milk"},{"$f":"Inventory!G177","v":"Dairy"}]
[{"$f":"Inventory!A178","v":"Plastic Silverwear"},{"$f":"Inventory!G178","v":"extra"}]
[{"$f":"Inventory!A179","v":"Green Onions"},{"$f":"Inventory!G179","v":"Vegetable"}]
[{"$f":"Inventory!A180","v":"Bread Crumbs"},{"$f":"Inventory!G180","v":"Baking"}]
[{"$f":"Inventory!A181","v":"Parsley"},{"$f":"Inventory!G181","v":"Baking"}]
[{"$f":"Inventory!A182","v":"Cinnamon"},{"$f":"Inventory!G182","v":"Baking"}]
[{"$f":"Inventory!A183","v":"Nutmeg"},{"$f":"Inventory!G183","v":"Baking"}]
[{"$f":"Inventory!A184","v":"Vegetable Oil"},{"$f":"Inventory!G184","v":"Baking"}]
[{"$f":"Inventory!A185","v":"Apple Cider Vinegar"},{"$f":"Inventory!G185","v":"Baking"}]
[{"$f":"Inventory!A186","v":"Honey"},{"$f":"Inventory!G186","v":"Baking"}]
[{"$f":"Inventory!A187","v":"Hot Sauce"},{"$f":"Inventory!G187","v":"Condiments"}]
[{"$f":"Inventory!A188","v":"Lemon"},{"$f":"Inventory!G188","v":"Fruit"}]
[{"$f":"Inventory!A189","v":"Peas (Can)"},{"$f":"Inventory!G189","v":"Vegetable"}]
[{"$f":"Inventory!A190","v":"Almond Milk"},{"$f":"Inventory!G190","v":"Dairy"}]
[{"$f":"Inventory!A191","v":"Chuck Steak"},{"$f":"Inventory!G191","v":"Meat"}]
[{"$f":"Inventory!A192","v":"Beef Broth"},{"$f":"Inventory!G192","v":"Baking"}]
[{"$f":"Inventory!A193","v":"Wax Paper"},{"$f":"Inventory!G193","v":"extra"}]
[{"$f":"Inventory!A194","v":"Parchment Paper"},{"$f":"Inventory!G194","v":"extra"}]
[{"$f":"Inventory!A195","v":"Buffalo Wing Sauce"},{"$f":"Inventory!G195","v":"Baking"}]
[{"$f":"Inventory!A196","v":"Ranch Salad Dressing Mix"},{"$f":"Inventory!G196","v":"Condiments"}]
[{"$f":"Inventory!A197","v":"Kidney Beans"},{"$f":"Inventory!G197","v":"Vegetable"}]
[{"$f":"Inventory!A198","v":"Spinach"},{"$f":"Inventory!G198","v":"Vegetable"}]
[{"$f":"Inventory!A199","v":"Zucchini"},{"$f":"Inventory!G199","v":"Vegetable"}]
[{"$f":"Inventory!A200","v":"Basil"},{"$f":"Inventory!G200","v":"Baking"}]
[{"$f":"Inventory!A201","v":"Seashell Pasta"},{"$f":"Inventory!G201","v":"Grain"}]
[{"$f":"Inventory!A202","v":"(28 ounce) Can Crushed Tomatoes"},{"$f":"Inventory!G202","v":"Canned"}]
[{"$f":"Inventory!A203","v":"(6 ounce) Can Tomato Paste"},{"$f":"Inventory!G203","v":"Canned"}]
[{"$f":"Inventory!A204","v":"Fennel Seeds"},{"$f":"Inventory!G204","v":"Baking"}]
[{"$f":"Inventory!A205","v":"Lasagna Noodles"},{"$f":"Inventory!G205","v":"Grain"}]
[{"$f":"Inventory!A206","v":"Ricotta Cheese"},{"$f":"Inventory!G206","v":"Dairy"}]
[{"$f":"Inventory!A207","v":"Mozzarella Cheese"},{"$f":"Inventory!G207","v":"Dairy"}]
[{"$f":"Inventory!A208","v":"Light Corn Syrup"},{"$f":"Inventory!G208","v":"Baking"}]
[{"$f":"Inventory!A209","v":"Pecans"},{"$f":"Inventory!G209","v":"Baking"}]
[{"$f":"Inventory!A210","v":0},{"$f":"Inventory!G210","v":0}]
[{"$f":"Inventory!A211","v":0},{"$f":"Inventory!G211","v":0}]
[{"$f":"Inventory!A212","v":0},{"$f":"Inventory!G212","v":0}]
[{"$f":"Inventory!A213","v":0},{"$f":"Inventory!G213","v":0}]
[{"$f":"Inventory!A214","v":0},{"$f":"Inventory!G214","v":0}]
[{"$f":"Inventory!A215","v":0},{"$f":"Inventory!G215","v":0}]
[{"$f":"Inventory!A216","v":0},{"$f":"Inventory!G216","v":0}]
[{"$f":"Inventory!A217","v":0},{"$f":"Inventory!G217","v":0}]
[{"$f":"Inventory!A218","v":0},{"$f":"Inventory!G218","v":0}]
[{"$f":"Inventory!A219","v":0},{"$f":"Inventory!G219","v":0}]
[{"$f":"Inventory!A220","v":0},{"$f":"Inventory!G220","v":0}]
[{"$f":"Inventory!A221","v":0},{"$f":"Inventory!G221","v":0}]
[{"$f":"Inventory!A222","v":0},{"$f":"Inventory!G222","v":0}]
[{"$f":"Inventory!A223","v":0},{"$f":"Inventory!G223","v":0}]
[{"$f":"Inventory!A224","v":0},{"$f":"Inventory!G224","v":0}]
[{"$f":"Inventory!A225","v":0},{"$f":"Inventory!G225","v":0}]
[{"$f":"Inventory!A226","v":0},{"$f":"Inventory!G226","v":0}]
[{"$f":"Inventory!A227","v":0},{"$f":"Inventory!G227","v":0}]
[{"$f":"Inventory!A228","v":0},{"$f":"Inventory!G228","v":0}]
[{"$f":"Inventory!A229","v":0},{"$f":"Inventory!G229","v":0}]
[{"$f":"Inventory!A230","v":0},{"$f":"Inventory!G230","v":0}]
[{"$f":"Inventory!A231","v":0},{"$f":"Inventory!G231","v":0}]
[{"$f":"Inventory!A232","v":0},{"$f":"Inventory!G232","v":0}]
[{"$f":"Inventory!A233","v":0},{"$f":"Inventory!G233","v":0}]
[{"$f":"Inventory!A234","v":0},{"$f":"Inventory!G234","v":0}]
[{"$f":"Inventory!A235","v":0},{"$f":"Inventory!G235","v":0}]
[{"$f":"Inventory!A236","v":0},{"$f":"Inventory!G236","v":0}]
[{"$f":"Inventory!A237","v":0},{"$f":"Inventory!G237","v":0}]
[{"$f":"Inventory!A238","v":0},{"$f":"Inventory!G238","v":0}]
[{"$f":"Inventory!A239","v":0},{"$f":"Inventory!G239","v":0}]
[{"$f":"Inventory!A240","v":0},{"$f":"Inventory!G240","v":0}]
[{"$f":"Inventory!A241","v":0},{"$f":"Inventory!G241","v":0}]
[{"$f":"Inventory!A242","v":0},{"$f":"Inventory!G242","v":0}]
[{"$f":"Inventory!A243","v":0},{"$f":"Inventory!G243","v":0}]
[{"$f":"Inventory!A244","v":0},{"$f":"Inventory!G244","v":0}]
[{"$f":"Inventory!A245","v":0},{"$f":"Inventory!G245","v":0}]
[{"$f":"Inventory!A246","v":0},{"$f":"Inventory!G246","v":0}]
[{"$f":"Inventory!A247","v":0},{"$f":"Inventory!G247","v":0}]
[{"$f":"Inventory!A248","v":0},{"$f":"Inventory!G248","v":0}]
[{"$f":"Inventory!A249","v":0},{"$f":"Inventory!G249","v":0}]
[{"$f":"Inventory!A250","v":0},{"$f":"Inventory!G250","v":0}]
[{"$f":"Inventory!A251","v":0},{"$f":"Inventory!G251","v":0}]
[{"$f":"Inventory!A252","v":0},{"$f":"Inventory!G252","v":0}]
[{"$f":"Inventory!A253","v":0},{"$f":"Inventory!G253","v":0}]
[{"$f":"Inventory!A254","v":0},{"$f":"Inventory!G254","v":0}]
[{"$f":"Inventory!A255","v":0},{"$f":"Inventory!G255","v":0}]
[{"$f":"Inventory!A256","v":0},{"$f":"Inventory!G256","v":0}]
[{"$f":"Inventory!A257","v":0},{"$f":"Inventory!G257","v":0}]
[{"$f":"Inventory!A258","v":0},{"$f":"Inventory!G258","v":0}]
[{"$f":"Inventory!A259","v":0},{"$f":"Inventory!G259","v":0}]
[{"$f":"Inventory!A260","v":0},{"$f":"Inventory!G260","v":0}]
[{"$f":"Inventory!A261","v":0},{"$f":"Inventory!G261","v":0}]
[{"$f":"Inventory!A262","v":0},{"$f":"Inventory!G262","v":0}]
[{"$f":"Inventory!A263","v":0},{"$f":"Inventory!G263","v":0}]
[{"$f":"Inventory!A264","v":0},{"$f":"Inventory!G264","v":0}]
[{"$f":"Inventory!A265","v":0},{"$f":"Inventory!G265","v":0}]
[{"$f":"Inventory!A266","v":0},{"$f":"Inventory!G266","v":0}]
[{"$f":"Inventory!A267","v":0},{"$f":"Inventory!G267","v":0}]
[{"$f":"Inventory!A268","v":0},{"$f":"Inventory!G268","v":0}]
[{"$f":"Inventory!A269","v":0},{"$f":"Inventory!G269","v":0}]
[{"$f":"Inventory!A270","v":0},{"$f":"Inventory!G270","v":0}]
[{"$f":"Inventory!A271","v":0},{"$f":"Inventory!G271","v":0}]
[{"$f":"Inventory!A272","v":0},{"$f":"Inventory!G272","v":0}]
[{"$f":"Inventory!A273","v":0},{"$f":"Inventory!G273","v":0}]
[{"$f":"Inventory!A274","v":0},{"$f":"Inventory!G274","v":0}]
[{"$f":"Inventory!A275","v":0},{"$f":"Inventory!G275","v":0}]
[{"$f":"Inventory!A276","v":0},{"$f":"Inventory!G276","v":0}]
[{"$f":"Inventory!A277","v":0},{"$f":"Inventory!G277","v":0}]
[{"$f":"Inventory!A278","v":0},{"$f":"Inventory!G278","v":0}]
[{"$f":"Inventory!A279","v":0},{"$f":"Inventory!G279","v":0}]
[{"$f":"Inventory!A280","v":0},{"$f":"Inventory!G280","v":0}]
[{"$f":"Inventory!A281","v":0},{"$f":"Inventory!G281","v":0}]
[{"$f":"Inventory!A282","v":0},{"$f":"Inventory!G282","v":0}]
[{"$f":"Inventory!A283","v":0},{"$f":"Inventory!G283","v":0}]
[{"$f":"Inventory!A284","v":0},{"$f":"Inventory!G284","v":0}]
[{"$f":"Inventory!A285","v":0},{"$f":"Inventory!G285","v":0}]
[{"$f":"Inventory!A286","v":0},{"$f":"Inventory!G286","v":0}]
[{"$f":"Inventory!A287","v":0},{"$f":"Inventory!G287","v":0}]
[{"$f":"Inventory!A288","v":0},{"$f":"Inventory!G288","v":0}]
[{"$f":"Inventory!A289","v":0},{"$f":"Inventory!G289","v":0}]
[{"$f":"Inventory!A290","v":0},{"$f":"Inventory!G290","v":0}]
[{"$f":"Inventory!A291","v":0},{"$f":"Inventory!G291","v":0}]
[{"$f":"Inventory!A292","v":0},{"$f":"Inventory!G292","v":0}]
[{"$f":"Inventory!A293","v":0},{"$f":"Inventory!G293","v":0}]
[{"$f":"Inventory!A294","v":0},{"$f":"Inventory!G294","v":0}]
[{"$f":"Inventory!A295","v":0},{"$f":"Inventory!G295","v":0}]
[{"$f":"Inventory!A296","v":0},{"$f":"Inventory!G296","v":0}]
[{"$f":"Inventory!A297","v":0},{"$f":"Inventory!G297","v":0}]
[{"$f":"Inventory!A298","v":0},{"$f":"Inventory!G298","v":0}]
[{"$f":"Inventory!A299","v":0},{"$f":"Inventory!G299","v":0}]
[{"$f":"Inventory!A300","v":0},{"$f":"Inventory!G300","v":0}]
[{"$f":"Inventory!A301","v":0},{"$f":"Inventory!G301","v":0}]
[{"$f":"Inventory!A302","v":0},{"$f":"Inventory!G302","v":0}]
[{"$f":"Inventory!A303","v":0},{"$f":"Inventory!G303","v":0}]
[{"$f":"Inventory!A304","v":0},{"$f":"Inventory!G304","v":0}]
[{"$f":"Inventory!A305","v":0},{"$f":"Inventory!G305","v":0}]
[{"$f":"Inventory!A306","v":0},{"$f":"Inventory!G306","v":0}]
[{"$f":"Inventory!A307","v":0},{"$f":"Inventory!G307","v":0}]
[{"$f":"Inventory!A308","v":0},{"$f":"Inventory!G308","v":0}]
[{"$f":"Inventory!A309","v":0},{"$f":"Inventory!G309","v":0}]
[{"$f":"Inventory!A310","v":0},{"$f":"Inventory!G310","v":0}]
[{"$f":"Inventory!A311","v":0},{"$f":"Inventory!G311","v":0}]
[{"$f":"Inventory!A312","v":0},{"$f":"Inventory!G312","v":0}]
[{"$f":"Inventory!A313","v":0},{"$f":"Inventory!G313","v":0}]
[{"$f":"Inventory!A314","v":0},{"$f":"Inventory!G314","v":0}]
[{"$f":"Inventory!A315","v":0},{"$f":"Inventory!G315","v":0}]
[{"$f":"Inventory!A316","v":0},{"$f":"Inventory!G316","v":0}]
[{"$f":"Inventory!A317","v":0},{"$f":"Inventory!G317","v":0}]
[{"$f":"Inventory!A318","v":0},{"$f":"Inventory!G318","v":0}]
[{"$f":"Inventory!A319","v":0},{"$f":"Inventory!G319","v":0}]
[{"$f":"Inventory!A320","v":0},{"$f":"Inventory!G320","v":0}]
[{"$f":"Inventory!A321","v":0},{"$f":"Inventory!G321","v":0}]
[{"$f":"Inventory!A322","v":0},{"$f":"Inventory!G322","v":0}]
[{"$f":"Inventory!A323","v":0},{"$f":"Inventory!G323","v":0}]
[{"$f":"Inventory!A324","v":0},{"$f":"Inventory!G324","v":0}]
[{"$f":"Inventory!A325","v":0},{"$f":"Inventory!G325","v":0}]
[{"$f":"Inventory!A326","v":0},{"$f":"Inventory!G326","v":0}]
[{"$f":"Inventory!A327","v":0},{"$f":"Inventory!G327","v":0}]
[{"$f":"Inventory!A328","v":0},{"$f":"Inventory!G328","v":0}]
[{"$f":"Inventory!A329","v":0},{"$f":"Inventory!G329","v":0}]
[{"$f":"Inventory!A330","v":0},{"$f":"Inventory!G330","v":0}]
[{"$f":"Inventory!A331","v":0},{"$f":"Inventory!G331","v":0}]
[{"$f":"Inventory!A332","v":0},{"$f":"Inventory!G332","v":0}]
[{"$f":"Inventory!A333","v":0},{"$f":"Inventory!G333","v":0}]
[{"$f":"Inventory!A334","v":0},{"$f":"Inventory!G334","v":0}]
[{"$f":"Inventory!A335","v":0},{"$f":"Inventory!G335","v":0}]
[{"$f":"Inventory!A336","v":0},{"$f":"Inventory!G336","v":0}]
[{"$f":"Inventory!A337","v":0},{"$f":"Inventory!G337","v":0}]
[{"$f":"Inventory!A338","v":0},{"$f":"Inventory!G338","v":0}]
[{"$f":"Inventory!A339","v":0},{"$f":"Inventory!G339","v":0}]
[{"$f":"Inventory!A340","v":0},{"$f":"Inventory!G340","v":0}]
[{"$f":"Inventory!A341","v":0},{"$f":"Inventory!G341","v":0}]
[{"$f":"Inventory!A342","v":0},{"$f":"Inventory!G342","v":0}]
[{"$f":"Inventory!A343","v":0},{"$f":"Inventory!G343","v":0}]
[{"$f":"Inventory!A344","v":0},{"$f":"Inventory!G344","v":0}]
[{"$f":"Inventory!A345","v":0},{"$f":"Inventory!G345","v":0}]
[{"$f":"Inventory!A346","v":0},{"$f":"Inventory!G346","v":0}]
[{"$f":"Inventory!A347","v":0},{"$f":"Inventory!G347","v":0}]
[{"$f":"Inventory!A348","v":0},{"$f":"Inventory!G348","v":0}]
[{"$f":"Inventory!A349","v":0},{"$f":"Inventory!G349","v":0}]
[{"$f":"Inventory!A350","v":0},{"$f":"Inventory!G350","v":0}]
[{"$f":"Inventory!A351","v":0},{"$f":"Inventory!G351","v":0}]
[{"$f":"Inventory!A352","v":0},{"$f":"Inventory!G352","v":0}]
[{"$f":"Inventory!A353","v":0},{"$f":"Inventory!G353","v":0}]
[{"$f":"Inventory!A354","v":0},{"$f":"Inventory!G354","v":0}]
[{"$f":"Inventory!A355","v":0},{"$f":"Inventory!G355","v":0}]
[{"$f":"Inventory!A356","v":0},{"$f":"Inventory!G356","v":0}]
[{"$f":"Inventory!A357","v":0},{"$f":"Inventory!G357","v":0}]
[{"$f":"Inventory!A358","v":0},{"$f":"Inventory!G358","v":0}]
[{"$f":"Inventory!A359","v":0},{"$f":"Inventory!G359","v":0}]
[{"$f":"Inventory!A360","v":0},{"$f":"Inventory!G360","v":0}]
[{"$f":"Inventory!A361","v":0},{"$f":"Inventory!G361","v":0}]
[{"$f":"Inventory!A362","v":0},{"$f":"Inventory!G362","v":0}]
[{"$f":"Inventory!A363","v":0},{"$f":"Inventory!G363","v":0}]
[{"$f":"Inventory!A364","v":0},{"$f":"Inventory!G364","v":0}]
[{"$f":"Inventory!A365","v":0},{"$f":"Inventory!G365","v":0}]
[{"$f":"Inventory!A366","v":0},{"$f":"Inventory!G366","v":0}]
[{"$f":"Inventory!A367","v":0},{"$f":"Inventory!G367","v":0}]
[{"$f":"Inventory!A368","v":0},{"$f":"Inventory!G368","v":0}]
[{"$f":"Inventory!A369","v":0},{"$f":"Inventory!G369","v":0}]
[{"$f":"Inventory!A370","v":0},{"$f":"Inventory!G370","v":0}]
[{"$f":"Inventory!A371","v":0},{"$f":"Inventory!G371","v":0}]
[{"$f":"Inventory!A372","v":0},{"$f":"Inventory!G372","v":0}]
[{"$f":"Inventory!A373","v":0},{"$f":"Inventory!G373","v":0}]
[{"$f":"Inventory!A374","v":0},{"$f":"Inventory!G374","v":0}]
[{"$f":"Inventory!A375","v":0},{"$f":"Inventory!G375","v":0}]
[{"$f":"Inventory!A376","v":0},{"$f":"Inventory!G376","v":0}]
[{"$f":"Inventory!A377","v":0},{"$f":"Inventory!G377","v":0}]
[{"$f":"Inventory!A378","v":0},{"$f":"Inventory!G378","v":0}]
[{"$f":"Inventory!A379","v":0},{"$f":"Inventory!G379","v":0}]
[{"$f":"Inventory!A380","v":0},{"$f":"Inventory!G380","v":0}]
[{"$f":"Inventory!A381","v":0},{"$f":"Inventory!G381","v":0}]
[{"$f":"Inventory!A382","v":0},{"$f":"Inventory!G382","v":0}]
[{"$f":"Inventory!A383","v":0},{"$f":"Inventory!G383","v":0}]
[{"$f":"Inventory!A384","v":0},{"$f":"Inventory!G384","v":0}]
[{"$f":"Inventory!A385","v":0},{"$f":"Inventory!G385","v":0}]
[{"$f":"Inventory!A386","v":0},{"$f":"Inventory!G386","v":0}]
[{"$f":"Inventory!A387","v":0},{"$f":"Inventory!G387","v":0}]
[{"$f":"Inventory!A388","v":0},{"$f":"Inventory!G388","v":0}]
[{"$f":"Inventory!A389","v":0},{"$f":"Inventory!G389","v":0}]
[{"$f":"Inventory!A390","v":0},{"$f":"Inventory!G390","v":0}]
[{"$f":"Inventory!A391","v":0},{"$f":"Inventory!G391","v":0}]
[{"$f":"Inventory!A392","v":0},{"$f":"Inventory!G392","v":0}]
[{"$f":"Inventory!A393","v":0},{"$f":"Inventory!G393","v":0}]
[{"$f":"Inventory!A394","v":0},{"$f":"Inventory!G394","v":0}]
[{"$f":"Inventory!A395","v":0},{"$f":"Inventory!G395","v":0}]
[{"$f":"Inventory!A396","v":0},{"$f":"Inventory!G396","v":0}]
[{"$f":"Inventory!A397","v":0},{"$f":"Inventory!G397","v":0}]
[{"$f":"Inventory!A398","v":0},{"$f":"Inventory!G398","v":0}]
[{"$f":"Inventory!A399","v":0},{"$f":"Inventory!G399","v":0}]
[{"$f":"Inventory!A400","v":0},{"$f":"Inventory!G400","v":0}]
[{"$f":"Inventory!A401","v":0},{"$f":"Inventory!G401","v":0}]
[{"$f":"Inventory!A402","v":0},{"$f":"Inventory!G402","v":0}]
[{"$f":"Inventory!A403","v":0},{"$f":"Inventory!G403","v":0}]
[{"$f":"Inventory!A404","v":0},{"$f":"Inventory!G404","v":0}]
[{"$f":"Inventory!A405","v":0},{"$f":"Inventory!G405","v":0}]
[{"$f":"Inventory!A406","v":0},{"$f":"Inventory!G406","v":0}]
[{"$f":"Inventory!A407","v":0},{"$f":"Inventory!G407","v":0}]
[{"$f":"Inventory!A408","v":0},{"$f":"Inventory!G408","v":0}]
[{"$f":"Inventory!A409","v":0},{"$f":"Inventory!G409","v":0}]
[{"$f":"Inventory!A410","v":0},{"$f":"Inventory!G410","v":0}]
[{"$f":"Inventory!A411","v":0},{"$f":"Inventory!G411","v":0}]
[{"$f":"Inventory!A412","v":0},{"$f":"Inventory!G412","v":0}]
[{"$f":"Inventory!A413","v":0},{"$f":"Inventory!G413","v":0}]
[{"$f":"Inventory!A414","v":0},{"$f":"Inventory!G414","v":0}]
[{"$f":"Inventory!A415","v":0},{"$f":"Inventory!G415","v":0}]
[{"$f":"Inventory!A416","v":0},{"$f":"Inventory!G416","v":0}]
[{"$f":"Inventory!A417","v":0},{"$f":"Inventory!G417","v":0}]
[{"$f":"Inventory!A418","v":0},{"$f":"Inventory!G418","v":0}]
[{"$f":"Inventory!A419","v":0},{"$f":"Inventory!G419","v":0}]
[{"$f":"Inventory!A420","v":0},{"$f":"Inventory!G420","v":0}]
[{"$f":"Inventory!A421","v":0},{"$f":"Inventory!G421","v":0}]
[{"$f":"Inventory!A422","v":0},{"$f":"Inventory!G422","v":0}]
[{"$f":"Inventory!A423","v":0},{"$f":"Inventory!G423","v":0}]
[{"$f":"Inventory!A424","v":0},{"$f":"Inventory!G424","v":0}]
[{"$f":"Inventory!A425","v":0},{"$f":"Inventory!G425","v":0}]
[{"$f":"Inventory!A426","v":0},{"$f":"Inventory!G426","v":0}]
[{"$f":"Inventory!A427","v":0},{"$f":"Inventory!G427","v":0}]
[{"$f":"Inventory!A428","v":0},{"$f":"Inventory!G428","v":0}]
[{"$f":"Inventory!A429","v":0},{"$f":"Inventory!G429","v":0}]
[{"$f":"Inventory!A430","v":0},{"$f":"Inventory!G430","v":0}]
[{"$f":"Inventory!A431","v":0},{"$f":"Inventory!G431","v":0}]
[{"$f":"Inventory!A432","v":0},{"$f":"Inventory!G432","v":0}]
[{"$f":"Inventory!A433","v":0},{"$f":"Inventory!G433","v":0}]
[{"$f":"Inventory!A434","v":0},{"$f":"Inventory!G434","v":0}]
[{"$f":"Inventory!A435","v":0},{"$f":"Inventory!G435","v":0}]
[{"$f":"Inventory!A436","v":0},{"$f":"Inventory!G436","v":0}]
[{"$f":"Inventory!A437","v":0},{"$f":"Inventory!G437","v":0}]
[{"$f":"Inventory!A438","v":0},{"$f":"Inventory!G438","v":0}]
[{"$f":"Inventory!A439","v":0},{"$f":"Inventory!G439","v":0}]
[{"$f":"Inventory!A440","v":0},{"$f":"Inventory!G440","v":0}]
[{"$f":"Inventory!A441","v":0},{"$f":"Inventory!G441","v":0}]
[{"$f":"Inventory!A442","v":0},{"$f":"Inventory!G442","v":0}]
[{"$f":"Inventory!A443","v":0},{"$f":"Inventory!G443","v":0}]
[{"$f":"Inventory!A444","v":0},{"$f":"Inventory!G444","v":0}]
[{"$f":"Inventory!A445","v":0},{"$f":"Inventory!G445","v":0}]
[{"$f":"Inventory!A446","v":0},{"$f":"Inventory!G446","v":0}]
[{"$f":"Inventory!A447","v":0},{"$f":"Inventory!G447","v":0}]
[{"$f":"Inventory!A448","v":0},{"$f":"Inventory!G448","v":0}]
[{"$f":"Inventory!A449","v":0},{"$f":"Inventory!G449","v":0}]
[{"$f":"Inventory!A450","v":0},{"$f":"Inventory!G450","v":0}]
[{"$f":"Inventory!A451","v":0},{"$f":"Inventory!G451","v":0}]
[{"$f":"Inventory!A452","v":0},{"$f":"Inventory!G452","v":0}]
[{"$f":"Inventory!A453","v":0},{"$f":"Inventory!G453","v":0}]
[{"$f":"Inventory!A454","v":0},{"$f":"Inventory!G454","v":0}]
[{"$f":"Inventory!A455","v":0},{"$f":"Inventory!G455","v":0}]
[{"$f":"Inventory!A456","v":0},{"$f":"Inventory!G456","v":0}]
[{"$f":"Inventory!A457","v":0},{"$f":"Inventory!G457","v":0}]
[{"$f":"Inventory!A458","v":0},{"$f":"Inventory!G458","v":0}]
[{"$f":"Inventory!A459","v":0},{"$f":"Inventory!G459","v":0}]
[{"$f":"Inventory!A460","v":0},{"$f":"Inventory!G460","v":0}]
[{"$f":"Inventory!A461","v":0},{"$f":"Inventory!G461","v":0}]
[{"$f":"Inventory!A462","v":0},{"$f":"Inventory!G462","v":0}]
[{"$f":"Inventory!A463","v":0},{"$f":"Inventory!G463","v":0}]
[{"$f":"Inventory!A464","v":0},{"$f":"Inventory!G464","v":0}]
[{"$f":"Inventory!A465","v":0},{"$f":"Inventory!G465","v":0}]
[{"$f":"Inventory!A466","v":0},{"$f":"Inventory!G466","v":0}]
[{"$f":"Inventory!A467","v":0},{"$f":"Inventory!G467","v":0}]
[{"$f":"Inventory!A468","v":0},{"$f":"Inventory!G468","v":0}]
[{"$f":"Inventory!A469","v":0},{"$f":"Inventory!G469","v":0}]
[{"$f":"Inventory!A470","v":0},{"$f":"Inventory!G470","v":0}]
[{"$f":"Inventory!A471","v":0},{"$f":"Inventory!G471","v":0}]
[{"$f":"Inventory!A472","v":0},{"$f":"Inventory!G472","v":0}]
[{"$f":"Inventory!A473","v":0},{"$f":"Inventory!G473","v":0}]
[{"$f":"Inventory!A474","v":0},{"$f":"Inventory!G474","v":0}]
[{"$f":"Inventory!A475","v":0},{"$f":"Inventory!G475","v":0}]
[{"$f":"Inventory!A476","v":0},{"$f":"Inventory!G476","v":0}]
[{"$f":"Inventory!A477","v":0},{"$f":"Inventory!G477","v":0}]
[{"$f":"Inventory!A478","v":0},{"$f":"Inventory!G478","v":0}]
[{"$f":"Inventory!A479","v":0},{"$f":"Inventory!G479","v":0}]
[{"$f":"Inventory!A480","v":0},{"$f":"Inventory!G480","v":0}]
[{"$f":"Inventory!A481","v":0},{"$f":"Inventory!G481","v":0}]
[{"$f":"Inventory!A482","v":0},{"$f":"Inventory!G482","v":0}]
[{"$f":"Inventory!A483","v":0},{"$f":"Inventory!G483","v":0}]
[{"$f":"Inventory!A484","v":0},{"$f":"Inventory!G484","v":0}]
[{"$f":"Inventory!A485","v":0},{"$f":"Inventory!G485","v":0}]
[{"$f":"Inventory!A486","v":0},{"$f":"Inventory!G486","v":0}]
[{"$f":"Inventory!A487","v":0},{"$f":"Inventory!G487","v":0}]
[{"$f":"Inventory!A488","v":0},{"$f":"Inventory!G488","v":0}]
[{"$f":"Inventory!A489","v":0},{"$f":"Inventory!G489","v":0}]
[{"$f":"Inventory!A490","v":0},{"$f":"Inventory!G490","v":0}]
[{"$f":"Inventory!A491","v":0},{"$f":"Inventory!G491","v":0}]
[{"$f":"Inventory!A492","v":0},{"$f":"Inventory!G492","v":0}]
[{"$f":"Inventory!A493","v":0},{"$f":"Inventory!G493","v":0}]
[{"$f":"Inventory!A494","v":0},{"$f":"Inventory!G494","v":0}]
[{"$f":"Inventory!A495","v":0},{"$f":"Inventory!G495","v":0}]
[{"$f":"Inventory!A496","v":0},{"$f":"Inventory!G496","v":0}]
[{"$f":"Inventory!A497","v":0},{"$f":"Inventory!G497","v":0}]
[{"$f":"Inventory!A498","v":0},{"$f":"Inventory!G498","v":0}]
[{"$f":"Inventory!A499","v":0},{"$f":"Inventory!G499","v":0}]
[{"$f":"Inventory!A500","v":0},{"$f":"Inventory!G500","v":0}]
[{"$f":"Inventory!A501","v":0},{"$f":"Inventory!G501","v":0}]
[{"$f":"Inventory!A502","v":0},{"$f":"Inventory!G502","v":0}]
[{"$f":"Inventory!A503","v":0},{"$f":"Inventory!G503","v":0}]
[{"$f":"Inventory!A504","v":0},{"$f":"Inventory!G504","v":0}]
[{"$f":"Inventory!A505","v":0},{"$f":"Inventory!G505","v":0}]
[{"$f":"Inventory!A506","v":0},{"$f":"Inventory!G506","v":0}]
[{"$f":"Inventory!A507","v":0},{"$f":"Inventory!G507","v":0}]
[{"$f":"Inventory!A508","v":0},{"$f":"Inventory!G508","v":0}]
[{"$f":"Inventory!A509","v":0},{"$f":"Inventory!G509","v":0}]
[{"$f":"Inventory!A510","v":0},{"$f":"Inventory!G510","v":0}]
[{"$f":"Inventory!A511","v":0},{"$f":"Inventory!G511","v":0}]
[{"$f":"Inventory!A512","v":0},{"$f":"Inventory!G512","v":0}]
[{"$f":"Inventory!A513","v":0},{"$f":"Inventory!G513","v":0}]
[{"$f":"Inventory!A514","v":0},{"$f":"Inventory!G514","v":0}]
[{"$f":"Inventory!A515","v":0},{"$f":"Inventory!G515","v":0}]
[{"$f":"Inventory!A516","v":0},{"$f":"Inventory!G516","v":0}]
[{"$f":"Inventory!A517","v":0},{"$f":"Inventory!G517","v":0}]
[{"$f":"Inventory!A518","v":0},{"$f":"Inventory!G518","v":0}]
[{"$f":"Inventory!A519","v":0},{"$f":"Inventory!G519","v":0}]
[{"$f":"Inventory!A520","v":0},{"$f":"Inventory!G520","v":0}]
[{"$f":"Inventory!A521","v":0},{"$f":"Inventory!G521","v":0}]
[{"$f":"Inventory!A522","v":0},{"$f":"Inventory!G522","v":0}]
[{"$f":"Inventory!A523","v":0},{"$f":"Inventory!G523","v":0}]
[{"$f":"Inventory!A524","v":0},{"$f":"Inventory!G524","v":0}]
[{"$f":"Inventory!A525","v":0},{"$f":"Inventory!G525","v":0}]
[{"$f":"Inventory!A526","v":0},{"$f":"Inventory!G526","v":0}]
[{"$f":"Inventory!A527","v":0},{"$f":"Inventory!G527","v":0}]
[{"$f":"Inventory!A528","v":0},{"$f":"Inventory!G528","v":0}]
[{"$f":"Inventory!A529","v":0},{"$f":"Inventory!G529","v":0}]
[{"$f":"Inventory!A530","v":0},{"$f":"Inventory!G530","v":0}]
[{"$f":"Inventory!A531","v":0},{"$f":"Inventory!G531","v":0}]
[{"$f":"Inventory!A532","v":0},{"$f":"Inventory!G532","v":0}]
[{"$f":"Inventory!A533","v":0},{"$f":"Inventory!G533","v":0}]
[{"$f":"Inventory!A534","v":0},{"$f":"Inventory!G534","v":0}]
[{"$f":"Inventory!A535","v":0},{"$f":"Inventory!G535","v":0}]
[{"$f":"Inventory!A536","v":0},{"$f":"Inventory!G536","v":0}]
[{"$f":"Inventory!A537","v":0},{"$f":"Inventory!G537","v":0}]
[{"$f":"Inventory!A538","v":0},{"$f":"Inventory!G538","v":0}]
[{"$f":"Inventory!A539","v":0},{"$f":"Inventory!G539","v":0}]
[{"$f":"Inventory!A540","v":0},{"$f":"Inventory!G540","v":0}]
[{"$f":"Inventory!A541","v":0},{"$f":"Inventory!G541","v":0}]
[{"$f":"Inventory!A542","v":0},{"$f":"Inventory!G542","v":0}]
[{"$f":"Inventory!A543","v":0},{"$f":"Inventory!G543","v":0}]
[{"$f":"Inventory!A544","v":0},{"$f":"Inventory!G544","v":0}]
[{"$f":"Inventory!A545","v":0},{"$f":"Inventory!G545","v":0}]
[{"$f":"Inventory!A546","v":0},{"$f":"Inventory!G546","v":0}]
[{"$f":"Inventory!A547","v":0},{"$f":"Inventory!G547","v":0}]
[{"$f":"Inventory!A548","v":0},{"$f":"Inventory!G548","v":0}]
[{"$f":"Inventory!A549","v":0},{"$f":"Inventory!G549","v":0}]
[{"$f":"Inventory!A550","v":0},{"$f":"Inventory!G550","v":0}]
[{"$f":"Inventory!A551","v":0},{"$f":"Inventory!G551","v":0}]
[{"$f":"Inventory!A552","v":0},{"$f":"Inventory!G552","v":0}]
[{"$f":"Inventory!A553","v":0},{"$f":"Inventory!G553","v":0}]
[{"$f":"Inventory!A554","v":0},{"$f":"Inventory!G554","v":0}]
[{"$f":"Inventory!A555","v":0},{"$f":"Inventory!G555","v":0}]
[{"$f":"Inventory!A556","v":0},{"$f":"Inventory!G556","v":0}]
[{"$f":"Inventory!A557","v":0},{"$f":"Inventory!G557","v":0}]
[{"$f":"Inventory!A558","v":0},{"$f":"Inventory!G558","v":0}]
[{"$f":"Inventory!A559","v":0},{"$f":"Inventory!G559","v":0}]
[{"$f":"Inventory!A560","v":0},{"$f":"Inventory!G560","v":0}]
[{"$f":"Inventory!A561","v":0},{"$f":"Inventory!G561","v":0}]
[{"$f":"Inventory!A562","v":0},{"$f":"Inventory!G562","v":0}]
[{"$f":"Inventory!A563","v":0},{"$f":"Inventory!G563","v":0}]
[{"$f":"Inventory!A564","v":0},{"$f":"Inventory!G564","v":0}]
[{"$f":"Inventory!A565","v":0},{"$f":"Inventory!G565","v":0}]
[{"$f":"Inventory!A566","v":0},{"$f":"Inventory!G566","v":0}]
[{"$f":"Inventory!A567","v":0},{"$f":"Inventory!G567","v":0}]
[{"$f":"Inventory!A568","v":0},{"$f":"Inventory!G568","v":0}]
[{"$f":"Inventory!A569","v":0},{"$f":"Inventory!G569","v":0}]
[{"$f":"Inventory!A570","v":0},{"$f":"Inventory!G570","v":0}]
[{"$f":"Inventory!A571","v":0},{"$f":"Inventory!G571","v":0}]
[{"$f":"Inventory!A572","v":0},{"$f":"Inventory!G572","v":0}]
[{"$f":"Inventory!A573","v":0},{"$f":"Inventory!G573","v":0}]
[{"$f":"Inventory!A574","v":0},{"$f":"Inventory!G574","v":0}]
[{"$f":"Inventory!A575","v":0},{"$f":"Inventory!G575","v":0}]
[{"$f":"Inventory!A576","v":0},{"$f":"Inventory!G576","v":0}]
[{"$f":"Inventory!A577","v":0},{"$f":"Inventory!G577","v":0}]
[{"$f":"Inventory!A578","v":0},{"$f":"Inventory!G578","v":0}]
[{"$f":"Inventory!A579","v":0},{"$f":"Inventory!G579","v":0}]
[{"$f":"Inventory!A580","v":0},{"$f":"Inventory!G580","v":0}]
[{"$f":"Inventory!A581","v":0},{"$f":"Inventory!G581","v":0}]
[{"$f":"Inventory!A582","v":0},{"$f":"Inventory!G582","v":0}]
[{"$f":"Inventory!A583","v":0},{"$f":"Inventory!G583","v":0}]
[{"$f":"Inventory!A584","v":0},{"$f":"Inventory!G584","v":0}]
[{"$f":"Inventory!A585","v":0},{"$f":"Inventory!G585","v":0}]
[{"$f":"Inventory!A586","v":0},{"$f":"Inventory!G586","v":0}]
[{"$f":"Inventory!A587","v":0},{"$f":"Inventory!G587","v":0}]
[{"$f":"Inventory!A588","v":0},{"$f":"Inventory!G588","v":0}]
[{"$f":"Inventory!A589","v":0},{"$f":"Inventory!G589","v":0}]
[{"$f":"Inventory!A590","v":0},{"$f":"Inventory!G590","v":0}]
[{"$f":"Inventory!A591","v":0},{"$f":"Inventory!G591","v":0}]
[{"$f":"Inventory!A592","v":0},{"$f":"Inventory!G592","v":0}]
[{"$f":"Inventory!A593","v":0},{"$f":"Inventory!G593","v":0}]
[{"$f":"Inventory!A594","v":0},{"$f":"Inventory!G594","v":0}]
[{"$f":"Inventory!A595","v":0},{"$f":"Inventory!G595","v":0}]
[{"$f":"Inventory!A596","v":0},{"$f":"Inventory!G596","v":0}]
[{"$f":"Inventory!A597","v":0},{"$f":"Inventory!G597","v":0}]
[{"$f":"Inventory!A598","v":0},{"$f":"Inventory!G598","v":0}]
[{"$f":"Inventory!A599","v":0},{"$f":"Inventory!G599","v":0}]
[{"$f":"Inventory!A600","v":0},{"$f":"Inventory!G600","v":0}]
[{"$f":"Inventory!A601","v":0},{"$f":"Inventory!G601","v":0}]
[{"$f":"Inventory!A602","v":0},{"$f":"Inventory!G602","v":0}]
[{"$f":"Inventory!A603","v":0},{"$f":"Inventory!G603","v":0}]
[{"$f":"Inventory!A604","v":0},{"$f":"Inventory!G604","v":0}]
[{"$f":"Inventory!A605","v":0},{"$f":"Inventory!G605","v":0}]
[{"$f":"Inventory!A606","v":0},{"$f":"Inventory!G606","v":0}]
[{"$f":"Inventory!A607","v":0},{"$f":"Inventory!G607","v":0}]
[{"$f":"Inventory!A608","v":0},{"$f":"Inventory!G608","v":0}]
[{"$f":"Inventory!A609","v":0},{"$f":"Inventory!G609","v":0}]
[{"$f":"Inventory!A610","v":0},{"$f":"Inventory!G610","v":0}]
[{"$f":"Inventory!A611","v":0},{"$f":"Inventory!G611","v":0}]
[{"$f":"Inventory!A612","v":0},{"$f":"Inventory!G612","v":0}]
[{"$f":"Inventory!A613","v":0},{"$f":"Inventory!G613","v":0}]
[{"$f":"Inventory!A614","v":0},{"$f":"Inventory!G614","v":0}]
[{"$f":"Inventory!A615","v":0},{"$f":"Inventory!G615","v":0}]
[{"$f":"Inventory!A616","v":0},{"$f":"Inventory!G616","v":0}]
[{"$f":"Inventory!A617","v":0},{"$f":"Inventory!G617","v":0}]
[{"$f":"Inventory!A618","v":0},{"$f":"Inventory!G618","v":0}]
[{"$f":"Inventory!A619","v":0},{"$f":"Inventory!G619","v":0}]
[{"$f":"Inventory!A620","v":0},{"$f":"Inventory!G620","v":0}]
[{"$f":"Inventory!A621","v":0},{"$f":"Inventory!G621","v":0}]
[{"$f":"Inventory!A622","v":0},{"$f":"Inventory!G622","v":0}]
[{"$f":"Inventory!A623","v":0},{"$f":"Inventory!G623","v":0}]
[{"$f":"Inventory!A624","v":0},{"$f":"Inventory!G624","v":0}]
[{"$f":"Inventory!A625","v":0},{"$f":"Inventory!G625","v":0}]
[{"$f":"Inventory!A626","v":0},{"$f":"Inventory!G626","v":0}]
[{"$f":"Inventory!A627","v":0},{"$f":"Inventory!G627","v":0}]
[{"$f":"Inventory!A628","v":0},{"$f":"Inventory!G628","v":0}]
[{"$f":"Inventory!A629","v":0},{"$f":"Inventory!G629","v":0}]
[{"$f":"Inventory!A630","v":0},{"$f":"Inventory!G630","v":0}]
[{"$f":"Inventory!A631","v":0},{"$f":"Inventory!G631","v":0}]
[{"$f":"Inventory!A632","v":0},{"$f":"Inventory!G632","v":0}]
[{"$f":"Inventory!A633","v":0},{"$f":"Inventory!G633","v":0}]
[{"$f":"Inventory!A634","v":0},{"$f":"Inventory!G634","v":0}]
[{"$f":"Inventory!A635","v":0},{"$f":"Inventory!G635","v":0}]
[{"$f":"Inventory!A636","v":0},{"$f":"Inventory!G636","v":0}]
[{"$f":"Inventory!A637","v":0},{"$f":"Inventory!G637","v":0}]
[{"$f":"Inventory!A638","v":0},{"$f":"Inventory!G638","v":0}]
[{"$f":"Inventory!A639","v":0},{"$f":"Inventory!G639","v":0}]
[{"$f":"Inventory!A640","v":0},{"$f":"Inventory!G640","v":0}]
[{"$f":"Inventory!A641","v":0},{"$f":"Inventory!G641","v":0}]
[{"$f":"Inventory!A642","v":0},{"$f":"Inventory!G642","v":0}]
[{"$f":"Inventory!A643","v":0},{"$f":"Inventory!G643","v":0}]
[{"$f":"Inventory!A644","v":0},{"$f":"Inventory!G644","v":0}]
[{"$f":"Inventory!A645","v":0},{"$f":"Inventory!G645","v":0}]
[{"$f":"Inventory!A646","v":0},{"$f":"Inventory!G646","v":0}]
[{"$f":"Inventory!A647","v":0},{"$f":"Inventory!G647","v":0}]
[{"$f":"Inventory!A648","v":0},{"$f":"Inventory!G648","v":0}]
[{"$f":"Inventory!A649","v":0},{"$f":"Inventory!G649","v":0}]
[{"$f":"Inventory!A650","v":0},{"$f":"Inventory!G650","v":0}]
[{"$f":"Inventory!A651","v":0},{"$f":"Inventory!G651","v":0}]
[{"$f":"Inventory!A652","v":0},{"$f":"Inventory!G652","v":0}]
[{"$f":"Inventory!A653","v":0},{"$f":"Inventory!G653","v":0}]
[{"$f":"Inventory!A654","v":0},{"$f":"Inventory!G654","v":0}]
[{"$f":"Inventory!A655","v":0},{"$f":"Inventory!G655","v":0}]
[{"$f":"Inventory!A656","v":0},{"$f":"Inventory!G656","v":0}]
[{"$f":"Inventory!A657","v":0},{"$f":"Inventory!G657","v":0}]
[{"$f":"Inventory!A658","v":0},{"$f":"Inventory!G658","v":0}]
[{"$f":"Inventory!A659","v":0},{"$f":"Inventory!G659","v":0}]
[{"$f":"Inventory!A660","v":0},{"$f":"Inventory!G660","v":0}]
[{"$f":"Inventory!A661","v":0},{"$f":"Inventory!G661","v":0}]
[{"$f":"Inventory!A662","v":0},{"$f":"Inventory!G662","v":0}]
[{"$f":"Inventory!A663","v":0},{"$f":"Inventory!G663","v":0}]
[{"$f":"Inventory!A664","v":0},{"$f":"Inventory!G664","v":0}]
[{"$f":"Inventory!A665","v":0},{"$f":"Inventory!G665","v":0}]
[{"$f":"Inventory!A666","v":0},{"$f":"Inventory!G666","v":0}]
[{"$f":"Inventory!A667","v":0},{"$f":"Inventory!G667","v":0}]
[{"$f":"Inventory!A668","v":0},{"$f":"Inventory!G668","v":0}]
[{"$f":"Inventory!A669","v":0},{"$f":"Inventory!G669","v":0}]
[{"$f":"Inventory!A670","v":0},{"$f":"Inventory!G670","v":0}]
[{"$f":"Inventory!A671","v":0},{"$f":"Inventory!G671","v":0}]
[{"$f":"Inventory!A672","v":0},{"$f":"Inventory!G672","v":0}]
[{"$f":"Inventory!A673","v":0},{"$f":"Inventory!G673","v":0}]
[{"$f":"Inventory!A674","v":0},{"$f":"Inventory!G674","v":0}]
[{"$f":"Inventory!A675","v":0},{"$f":"Inventory!G675","v":0}]
[{"$f":"Inventory!A676","v":0},{"$f":"Inventory!G676","v":0}]
[{"$f":"Inventory!A677","v":0},{"$f":"Inventory!G677","v":0}]
[{"$f":"Inventory!A678","v":0},{"$f":"Inventory!G678","v":0}]
[{"$f":"Inventory!A679","v":0},{"$f":"Inventory!G679","v":0}]
[{"$f":"Inventory!A680","v":0},{"$f":"Inventory!G680","v":0}]
[{"$f":"Inventory!A681","v":0},{"$f":"Inventory!G681","v":0}]
[{"$f":"Inventory!A682","v":0},{"$f":"Inventory!G682","v":0}]
[{"$f":"Inventory!A683","v":0},{"$f":"Inventory!G683","v":0}]
[{"$f":"Inventory!A684","v":0},{"$f":"Inventory!G684","v":0}]
[{"$f":"Inventory!A685","v":0},{"$f":"Inventory!G685","v":0}]
[{"$f":"Inventory!A686","v":0},{"$f":"Inventory!G686","v":0}]
[{"$f":"Inventory!A687","v":0},{"$f":"Inventory!G687","v":0}]
[{"$f":"Inventory!A688","v":0},{"$f":"Inventory!G688","v":0}]
[{"$f":"Inventory!A689","v":0},{"$f":"Inventory!G689","v":0}]
[{"$f":"Inventory!A690","v":0},{"$f":"Inventory!G690","v":0}]
[{"$f":"Inventory!A691","v":0},{"$f":"Inventory!G691","v":0}]
[{"$f":"Inventory!A692","v":0},{"$f":"Inventory!G692","v":0}]
[{"$f":"Inventory!A693","v":0},{"$f":"Inventory!G693","v":0}]
[{"$f":"Inventory!A694","v":0},{"$f":"Inventory!G694","v":0}]
[{"$f":"Inventory!A695","v":0},{"$f":"Inventory!G695","v":0}]
[{"$f":"Inventory!A696","v":0},{"$f":"Inventory!G696","v":0}]
[{"$f":"Inventory!A697","v":0},{"$f":"Inventory!G697","v":0}]
[{"$f":"Inventory!A698","v":0},{"$f":"Inventory!G698","v":0}]
[{"$f":"Inventory!A699","v":0},{"$f":"Inventory!G699","v":0}]
[{"$f":"Inventory!A700","v":0},{"$f":"Inventory!G700","v":0}]
[{"$f":"Inventory!A701","v":0},{"$f":"Inventory!G701","v":0}]
[{"$f":"Inventory!A702","v":0},{"$f":"Inventory!G702","v":0}]
[{"$f":"Inventory!A703","v":0},{"$f":"Inventory!G703","v":0}]
[{"$f":"Inventory!A704","v":0},{"$f":"Inventory!G704","v":0}]
[{"$f":"Inventory!A705","v":0},{"$f":"Inventory!G705","v":0}]
[{"$f":"Inventory!A706","v":0},{"$f":"Inventory!G706","v":0}]
[{"$f":"Inventory!A707","v":0},{"$f":"Inventory!G707","v":0}]
[{"$f":"Inventory!A708","v":0},{"$f":"Inventory!G708","v":0}]
[{"$f":"Inventory!A709","v":0},{"$f":"Inventory!G709","v":0}]
[{"$f":"Inventory!A710","v":0},{"$f":"Inventory!G710","v":0}]
[{"$f":"Inventory!A711","v":0},{"$f":"Inventory!G711","v":0}]
[{"$f":"Inventory!A712","v":0},{"$f":"Inventory!G712","v":0}]
[{"$f":"Inventory!A713","v":0},{"$f":"Inventory!G713","v":0}]
[{"$f":"Inventory!A714","v":0},{"$f":"Inventory!G714","v":0}]
[{"$f":"Inventory!A715","v":0},{"$f":"Inventory!G715","v":0}]
[{"$f":"Inventory!A716","v":0},{"$f":"Inventory!G716","v":0}]
[{"$f":"Inventory!A717","v":0},{"$f":"Inventory!G717","v":0}]
[{"$f":"Inventory!A718","v":0},{"$f":"Inventory!G718","v":0}]
[{"$f":"Inventory!A719","v":0},{"$f":"Inventory!G719","v":0}]
[{"$f":"Inventory!A720","v":0},{"$f":"Inventory!G720","v":0}]
[{"$f":"Inventory!A721","v":0},{"$f":"Inventory!G721","v":0}]
[{"$f":"Inventory!A722","v":0},{"$f":"Inventory!G722","v":0}]
[{"$f":"Inventory!A723","v":0},{"$f":"Inventory!G723","v":0}]
[{"$f":"Inventory!A724","v":0},{"$f":"Inventory!G724","v":0}]
[{"$f":"Inventory!A725","v":0},{"$f":"Inventory!G725","v":0}]
[{"$f":"Inventory!A726","v":0},{"$f":"Inventory!G726","v":0}]
[{"$f":"Inventory!A727","v":0},{"$f":"Inventory!G727","v":0}]
[{"$f":"Inventory!A728","v":0},{"$f":"Inventory!G728","v":0}]
[{"$f":"Inventory!A729","v":0},{"$f":"Inventory!G729","v":0}]
[{"$f":"Inventory!A730","v":0},{"$f":"Inventory!G730","v":0}]
[{"$f":"Inventory!A731","v":0},{"$f":"Inventory!G731","v":0}]
[{"$f":"Inventory!A732","v":0},{"$f":"Inventory!G732","v":0}]
[{"$f":"Inventory!A733","v":0},{"$f":"Inventory!G733","v":0}]
[{"$f":"Inventory!A734","v":0},{"$f":"Inventory!G734","v":0}]
[{"$f":"Inventory!A735","v":0},{"$f":"Inventory!G735","v":0}]
[{"$f":"Inventory!A736","v":0},{"$f":"Inventory!G736","v":0}]
[{"$f":"Inventory!A737","v":0},{"$f":"Inventory!G737","v":0}]
[{"$f":"Inventory!A738","v":0},{"$f":"Inventory!G738","v":0}]
[{"$f":"Inventory!A739","v":0},{"$f":"Inventory!G739","v":0}]
[{"$f":"Inventory!A740","v":0},{"$f":"Inventory!G740","v":0}]
[{"$f":"Inventory!A741","v":0},{"$f":"Inventory!G741","v":0}]
[{"$f":"Inventory!A742","v":0},{"$f":"Inventory!G742","v":0}]
[{"$f":"Inventory!A743","v":0},{"$f":"Inventory!G743","v":0}]
[{"$f":"Inventory!A744","v":0},{"$f":"Inventory!G744","v":0}]
[{"$f":"Inventory!A745","v":0},{"$f":"Inventory!G745","v":0}]
[{"$f":"Inventory!A746","v":0},{"$f":"Inventory!G746","v":0}]
[{"$f":"Inventory!A747","v":0},{"$f":"Inventory!G747","v":0}]
[{"$f":"Inventory!A748","v":0},{"$f":"Inventory!G748","v":0}]
[{"$f":"Inventory!A749","v":0},{"$f":"Inventory!G749","v":0}]
[{"$f":"Inventory!A750","v":0},{"$f":"Inventory!G750","v":0}]
[{"$f":"Inventory!A751","v":0},{"$f":"Inventory!G751","v":0}]
[{"$f":"Inventory!A752","v":0},{"$f":"Inventory!G752","v":0}]
[{"$f":"Inventory!A753","v":0},{"$f":"Inventory!G753","v":0}]
[{"$f":"Inventory!A754","v":0},{"$f":"Inventory!G754","v":0}]
[{"$f":"Inventory!A755","v":0},{"$f":"Inventory!G755","v":0}]
[{"$f":"Inventory!A756","v":0},{"$f":"Inventory!G756","v":0}]
[{"$f":"Inventory!A757","v":0},{"$f":"Inventory!G757","v":0}]
[{"$f":"Inventory!A758","v":0},{"$f":"Inventory!G758","v":0}]
[{"$f":"Inventory!A759","v":0},{"$f":"Inventory!G759","v":0}]
[{"$f":"Inventory!A760","v":0},{"$f":"Inventory!G760","v":0}]
[{"$f":"Inventory!A761","v":0},{"$f":"Inventory!G761","v":0}]
[{"$f":"Inventory!A762","v":0},{"$f":"Inventory!G762","v":0}]
[{"$f":"Inventory!A763","v":0},{"$f":"Inventory!G763","v":0}]
[{"$f":"Inventory!A764","v":0},{"$f":"Inventory!G764","v":0}]
[{"$f":"Inventory!A765","v":0},{"$f":"Inventory!G765","v":0}]
[{"$f":"Inventory!A766","v":0},{"$f":"Inventory!G766","v":0}]
[{"$f":"Inventory!A767","v":0},{"$f":"Inventory!G767","v":0}]
[{"$f":"Inventory!A768","v":0},{"$f":"Inventory!G768","v":0}]
[{"$f":"Inventory!A769","v":0},{"$f":"Inventory!G769","v":0}]
[{"$f":"Inventory!A770","v":0},{"$f":"Inventory!G770","v":0}]
[{"$f":"Inventory!A771","v":0},{"$f":"Inventory!G771","v":0}]
[{"$f":"Inventory!A772","v":0},{"$f":"Inventory!G772","v":0}]
[{"$f":"Inventory!A773","v":0},{"$f":"Inventory!G773","v":0}]
[{"$f":"Inventory!A774","v":0},{"$f":"Inventory!G774","v":0}]
[{"$f":"Inventory!A775","v":0},{"$f":"Inventory!G775","v":0}]
[{"$f":"Inventory!A776","v":0},{"$f":"Inventory!G776","v":0}]
[{"$f":"Inventory!A777","v":0},{"$f":"Inventory!G777","v":0}]
[{"$f":"Inventory!A778","v":0},{"$f":"Inventory!G778","v":0}]
[{"$f":"Inventory!A779","v":0},{"$f":"Inventory!G779","v":0}]
[{"$f":"Inventory!A780","v":0},{"$f":"Inventory!G780","v":0}]
[{"$f":"Inventory!A781","v":0},{"$f":"Inventory!G781","v":0}]
[{"$f":"Inventory!A782","v":0},{"$f":"Inventory!G782","v":0}]
[{"$f":"Inventory!A783","v":0},{"$f":"Inventory!G783","v":0}]
[{"$f":"Inventory!A784","v":0},{"$f":"Inventory!G784","v":0}]
[{"$f":"Inventory!A785","v":0},{"$f":"Inventory!G785","v":0}]
[{"$f":"Inventory!A786","v":0},{"$f":"Inventory!G786","v":0}]
[{"$f":"Inventory!A787","v":0},{"$f":"Inventory!G787","v":0}]
[{"$f":"Inventory!A788","v":0},{"$f":"Inventory!G788","v":0}]
[{"$f":"Inventory!A789","v":0},{"$f":"Inventory!G789","v":0}]
[{"$f":"Inventory!A790","v":0},{"$f":"Inventory!G790","v":0}]
[{"$f":"Inventory!A791","v":0},{"$f":"Inventory!G791","v":0}]
[{"$f":"Inventory!A792","v":0},{"$f":"Inventory!G792","v":0}]
[{"$f":"Inventory!A793","v":0},{"$f":"Inventory!G793","v":0}]
[{"$f":"Inventory!A794","v":0},{"$f":"Inventory!G794","v":0}]
[{"$f":"Inventory!A795","v":0},{"$f":"Inventory!G795","v":0}]
[{"$f":"Inventory!A796","v":0},{"$f":"Inventory!G796","v":0}]
[{"$f":"Inventory!A797","v":0},{"$f":"Inventory!G797","v":0}]
[{"$f":"Inventory!A798","v":0},{"$f":"Inventory!G798","v":0}]
[{"$f":"Inventory!A799","v":0},{"$f":"Inventory!G799","v":0}]
[{"$f":"Inventory!A800","v":0},{"$f":"Inventory!G800","v":0}]
[{"$f":"Inventory!A801","v":0},{"$f":"Inventory!G801","v":0}]
[{"$f":"Inventory!A802","v":0},{"$f":"Inventory!G802","v":0}]
[{"$f":"Inventory!A803","v":0},{"$f":"Inventory!G803","v":0}]
[{"$f":"Inventory!A804","v":0},{"$f":"Inventory!G804","v":0}]
[{"$f":"Inventory!A805","v":0},{"$f":"Inventory!G805","v":0}]
[{"$f":"Inventory!A806","v":0},{"$f":"Inventory!G806","v":0}]
[{"$f":"Inventory!A807","v":0},{"$f":"Inventory!G807","v":0}]
[{"$f":"Inventory!A808","v":0},{"$f":"Inventory!G808","v":0}]
[{"$f":"Inventory!A809","v":0},{"$f":"Inventory!G809","v":0}]
[{"$f":"Inventory!A810","v":0},{"$f":"Inventory!G810","v":0}]
[{"$f":"Inventory!A811","v":0},{"$f":"Inventory!G811","v":0}]
[{"$f":"Inventory!A812","v":0},{"$f":"Inventory!G812","v":0}]
[{"$f":"Inventory!A813","v":0},{"$f":"Inventory!G813","v":0}]
[{"$f":"Inventory!A814","v":0},{"$f":"Inventory!G814","v":0}]
[{"$f":"Inventory!A815","v":0},{"$f":"Inventory!G815","v":0}]
[{"$f":"Inventory!A816","v":0},{"$f":"Inventory!G816","v":0}]
[{"$f":"Inventory!A817","v":0},{"$f":"Inventory!G817","v":0}]
[{"$f":"Inventory!A818","v":0},{"$f":"Inventory!G818","v":0}]
[{"$f":"Inventory!A819","v":0},{"$f":"Inventory!G819","v":0}]
[{"$f":"Inventory!A820","v":0},{"$f":"Inventory!G820","v":0}]
[{"$f":"Inventory!A821","v":0},{"$f":"Inventory!G821","v":0}]
[{"$f":"Inventory!A822","v":0},{"$f":"Inventory!G822","v":0}]
[{"$f":"Inventory!A823","v":0},{"$f":"Inventory!G823","v":0}]
[{"$f":"Inventory!A824","v":0},{"$f":"Inventory!G824","v":0}]
[{"$f":"Inventory!A825","v":0},{"$f":"Inventory!G825","v":0}]
[{"$f":"Inventory!A826","v":0},{"$f":"Inventory!G826","v":0}]
[{"$f":"Inventory!A827","v":0},{"$f":"Inventory!G827","v":0}]
[{"$f":"Inventory!A828","v":0},{"$f":"Inventory!G828","v":0}]
[{"$f":"Inventory!A829","v":0},{"$f":"Inventory!G829","v":0}]
[{"$f":"Inventory!A830","v":0},{"$f":"Inventory!G830","v":0}]
[{"$f":"Inventory!A831","v":0},{"$f":"Inventory!G831","v":0}]
[{"$f":"Inventory!A832","v":0},{"$f":"Inventory!G832","v":0}]
[{"$f":"Inventory!A833","v":0},{"$f":"Inventory!G833","v":0}]
[{"$f":"Inventory!A834","v":0},{"$f":"Inventory!G834","v":0}]
[{"$f":"Inventory!A835","v":0},{"$f":"Inventory!G835","v":0}]
[{"$f":"Inventory!A836","v":0},{"$f":"Inventory!G836","v":0}]
[{"$f":"Inventory!A837","v":0},{"$f":"Inventory!G837","v":0}]
[{"$f":"Inventory!A838","v":0},{"$f":"Inventory!G838","v":0}]
[{"$f":"Inventory!A839","v":0},{"$f":"Inventory!G839","v":0}]
[{"$f":"Inventory!A840","v":0},{"$f":"Inventory!G840","v":0}]
[{"$f":"Inventory!A841","v":0},{"$f":"Inventory!G841","v":0}]
[{"$f":"Inventory!A842","v":0},{"$f":"Inventory!G842","v":0}]
[{"$f":"Inventory!A843","v":0},{"$f":"Inventory!G843","v":0}]
[{"$f":"Inventory!A844","v":0},{"$f":"Inventory!G844","v":0}]
[{"$f":"Inventory!A845","v":0},{"$f":"Inventory!G845","v":0}]
[{"$f":"Inventory!A846","v":0},{"$f":"Inventory!G846","v":0}]
[{"$f":"Inventory!A847","v":0},{"$f":"Inventory!G847","v":0}]
[{"$f":"Inventory!A848","v":0},{"$f":"Inventory!G848","v":0}]
[{"$f":"Inventory!A849","v":0},{"$f":"Inventory!G849","v":0}]
[{"$f":"Inventory!A850","v":0},{"$f":"Inventory!G850","v":0}]
[{"$f":"Inventory!A851","v":0},{"$f":"Inventory!G851","v":0}]
[{"$f":"Inventory!A852","v":0},{"$f":"Inventory!G852","v":0}]
[{"$f":"Inventory!A853","v":0},{"$f":"Inventory!G853","v":0}]
[{"$f":"Inventory!A854","v":0},{"$f":"Inventory!G854","v":0}]
[{"$f":"Inventory!A855","v":0},{"$f":"Inventory!G855","v":0}]
[{"$f":"Inventory!A856","v":0},{"$f":"Inventory!G856","v":0}]
[{"$f":"Inventory!A857","v":0},{"$f":"Inventory!G857","v":0}]
[{"$f":"Inventory!A858","v":0},{"$f":"Inventory!G858","v":0}]
[{"$f":"Inventory!A859","v":0},{"$f":"Inventory!G859","v":0}]
[{"$f":"Inventory!A860","v":0},{"$f":"Inventory!G860","v":0}]
[{"$f":"Inventory!A861","v":0},{"$f":"Inventory!G861","v":0}]
[{"$f":"Inventory!A862","v":0},{"$f":"Inventory!G862","v":0}]
[{"$f":"Inventory!A863","v":0},{"$f":"Inventory!G863","v":0}]
[{"$f":"Inventory!A864","v":0},{"$f":"Inventory!G864","v":0}]
[{"$f":"Inventory!A865","v":0},{"$f":"Inventory!G865","v":0}]
[{"$f":"Inventory!A866","v":0},{"$f":"Inventory!G866","v":0}]
[{"$f":"Inventory!A867","v":0},{"$f":"Inventory!G867","v":0}]
[{"$f":"Inventory!A868","v":0},{"$f":"Inventory!G868","v":0}]
[{"$f":"Inventory!A869","v":0},{"$f":"Inventory!G869","v":0}]
[{"$f":"Inventory!A870","v":0},{"$f":"Inventory!G870","v":0}]
[{"$f":"Inventory!A871","v":0},{"$f":"Inventory!G871","v":0}]
[{"$f":"Inventory!A872","v":0},{"$f":"Inventory!G872","v":0}]
[{"$f":"Inventory!A873","v":0},{"$f":"Inventory!G873","v":0}]
[{"$f":"Inventory!A874","v":0},{"$f":"Inventory!G874","v":0}]
[{"$f":"Inventory!A875","v":0},{"$f":"Inventory!G875","v":0}]
[{"$f":"Inventory!A876","v":0},{"$f":"Inventory!G876","v":0}]
[{"$f":"Inventory!A877","v":0},{"$f":"Inventory!G877","v":0}]
[{"$f":"Inventory!A878","v":0},{"$f":"Inventory!G878","v":0}]
[{"$f":"Inventory!A879","v":0},{"$f":"Inventory!G879","v":0}]
[{"$f":"Inventory!A880","v":0},{"$f":"Inventory!G880","v":0}]
[{"$f":"Inventory!A881","v":0},{"$f":"Inventory!G881","v":0}]
[{"$f":"Inventory!A882","v":0},{"$f":"Inventory!G882","v":0}]
[{"$f":"Inventory!A883","v":0},{"$f":"Inventory!G883","v":0}]
[{"$f":"Inventory!A884","v":0},{"$f":"Inventory!G884","v":0}]
[{"$f":"Inventory!A885","v":0},{"$f":"Inventory!G885","v":0}]
[{"$f":"Inventory!A886","v":0},{"$f":"Inventory!G886","v":0}]
[{"$f":"Inventory!A887","v":0},{"$f":"Inventory!G887","v":0}]
[{"$f":"Inventory!A888","v":0},{"$f":"Inventory!G888","v":0}]
[{"$f":"Inventory!A889","v":0},{"$f":"Inventory!G889","v":0}]
[{"$f":"Inventory!A890","v":0},{"$f":"Inventory!G890","v":0}]
[{"$f":"Inventory!A891","v":0},{"$f":"Inventory!G891","v":0}]
[{"$f":"Inventory!A892","v":0},{"$f":"Inventory!G892","v":0}]
[{"$f":"Inventory!A893","v":0},{"$f":"Inventory!G893","v":0}]
[{"$f":"Inventory!A894","v":0},{"$f":"Inventory!G894","v":0}]
[{"$f":"Inventory!A895","v":0},{"$f":"Inventory!G895","v":0}]
[{"$f":"Inventory!A896","v":0},{"$f":"Inventory!G896","v":0}]
[{"$f":"Inventory!A897","v":0},{"$f":"Inventory!G897","v":0}]
[{"$f":"Inventory!A898","v":0},{"$f":"Inventory!G898","v":0}]
[{"$f":"Inventory!A899","v":0},{"$f":"Inventory!G899","v":0}]
[{"$f":"Inventory!A900","v":0},{"$f":"Inventory!G900","v":0}]
[{"$f":"Inventory!A901","v":0},{"$f":"Inventory!G901","v":0}]
[{"$f":"Inventory!A902","v":0},{"$f":"Inventory!G902","v":0}]
[{"$f":"Inventory!A903","v":0},{"$f":"Inventory!G903","v":0}]
[{"$f":"Inventory!A904","v":0},{"$f":"Inventory!G904","v":0}]
[{"$f":"Inventory!A905","v":0},{"$f":"Inventory!G905","v":0}]
[{"$f":"Inventory!A906","v":0},{"$f":"Inventory!G906","v":0}]
[{"$f":"Inventory!A907","v":0},{"$f":"Inventory!G907","v":0}]
[{"$f":"Inventory!A908","v":0},{"$f":"Inventory!G908","v":0}]
[{"$f":"Inventory!A909","v":0},{"$f":"Inventory!G909","v":0}]
[{"$f":"Inventory!A910","v":0},{"$f":"Inventory!G910","v":0}]
[{"$f":"Inventory!A911","v":0},{"$f":"Inventory!G911","v":0}]
[{"$f":"Inventory!A912","v":0},{"$f":"Inventory!G912","v":0}]
[{"$f":"Inventory!A913","v":0},{"$f":"Inventory!G913","v":0}]
[{"$f":"Inventory!A914","v":0},{"$f":"Inventory!G914","v":0}]
[{"$f":"Inventory!A915","v":0},{"$f":"Inventory!G915","v":0}]
[{"$f":"Inventory!A916","v":0},{"$f":"Inventory!G916","v":0}]
[{"$f":"Inventory!A917","v":0},{"$f":"Inventory!G917","v":0}]
[{"$f":"Inventory!A918","v":0},{"$f":"Inventory!G918","v":0}]
[{"$f":"Inventory!A919","v":0},{"$f":"Inventory!G919","v":0}]
[{"$f":"Inventory!A920","v":0},{"$f":"Inventory!G920","v":0}]
[{"$f":"Inventory!A921","v":0},{"$f":"Inventory!G921","v":0}]
[{"$f":"Inventory!A922","v":0},{"$f":"Inventory!G922","v":0}]
[{"$f":"Inventory!A923","v":0},{"$f":"Inventory!G923","v":0}]
[{"$f":"Inventory!A924","v":0},{"$f":"Inventory!G924","v":0}]
[{"$f":"Inventory!A925","v":0},{"$f":"Inventory!G925","v":0}]
[{"$f":"Inventory!A926","v":0},{"$f":"Inventory!G926","v":0}]
[{"$f":"Inventory!A927","v":0},{"$f":"Inventory!G927","v":0}]
[{"$f":"Inventory!A928","v":0},{"$f":"Inventory!G928","v":0}]
[{"$f":"Inventory!A929","v":0},{"$f":"Inventory!G929","v":0}]
[{"$f":"Inventory!A930","v":0},{"$f":"Inventory!G930","v":0}]
[{"$f":"Inventory!A931","v":0},{"$f":"Inventory!G931","v":0}]
[{"$f":"Inventory!A932","v":0},{"$f":"Inventory!G932","v":0}]
[{"$f":"Inventory!A933","v":0},{"$f":"Inventory!G933","v":0}]
[{"$f":"Inventory!A934","v":0},{"$f":"Inventory!G934","v":0}]
[{"$f":"Inventory!A935","v":0},{"$f":"Inventory!G935","v":0}]
[{"$f":"Inventory!A936","v":0},{"$f":"Inventory!G936","v":0}]
[{"$f":"Inventory!A937","v":0},{"$f":"Inventory!G937","v":0}]
[{"$f":"Inventory!A938","v":0},{"$f":"Inventory!G938","v":0}]
[{"$f":"Inventory!A939","v":0},{"$f":"Inventory!G939","v":0}]
[{"$f":"Inventory!A940","v":0},{"$f":"Inventory!G940","v":0}]
[{"$f":"Inventory!A941","v":0},{"$f":"Inventory!G941","v":0}]
[{"$f":"Inventory!A942","v":0},{"$f":"Inventory!G942","v":0}]
[{"$f":"Inventory!A943","v":0},{"$f":"Inventory!G943","v":0}]
[{"$f":"Inventory!A944","v":0},{"$f":"Inventory!G944","v":0}]
[{"$f":"Inventory!A945","v":0},{"$f":"Inventory!G945","v":0}]
[{"$f":"Inventory!A946","v":0},{"$f":"Inventory!G946","v":0}]
[{"$f":"Inventory!A947","v":0},{"$f":"Inventory!G947","v":0}]
[{"$f":"Inventory!A948","v":0},{"$f":"Inventory!G948","v":0}]
[{"$f":"Inventory!A949","v":0},{"$f":"Inventory!G949","v":0}]
[{"$f":"Inventory!A950","v":0},{"$f":"Inventory!G950","v":0}]
[{"$f":"Inventory!A951","v":0},{"$f":"Inventory!G951","v":0}]
[{"$f":"Inventory!A952","v":0},{"$f":"Inventory!G952","v":0}]
[{"$f":"Inventory!A953","v":0},{"$f":"Inventory!G953","v":0}]
[{"$f":"Inventory!A954","v":0},{"$f":"Inventory!G954","v":0}]
[{"$f":"Inventory!A955","v":0},{"$f":"Inventory!G955","v":0}]
[{"$f":"Inventory!A956","v":0},{"$f":"Inventory!G956","v":0}]
[{"$f":"Inventory!A957","v":0},{"$f":"Inventory!G957","v":0}]
[{"$f":"Inventory!A958","v":0},{"$f":"Inventory!G958","v":0}]
[{"$f":"Inventory!A959","v":0},{"$f":"Inventory!G959","v":0}]
[{"$f":"Inventory!A960","v":0},{"$f":"Inventory!G960","v":0}]
[{"$f":"Inventory!A961","v":0},{"$f":"Inventory!G961","v":0}]
[{"$f":"Inventory!A962","v":0},{"$f":"Inventory!G962","v":0}]
[{"$f":"Inventory!A963","v":0},{"$f":"Inventory!G963","v":0}]
[{"$f":"Inventory!A964","v":0},{"$f":"Inventory!G964","v":0}]
[{"$f":"Inventory!A965","v":0},{"$f":"Inventory!G965","v":0}]
[{"$f":"Inventory!A966","v":0},{"$f":"Inventory!G966","v":0}]
[{"$f":"Inventory!A967","v":0},{"$f":"Inventory!G967","v":0}]
[{"$f":"Inventory!A968","v":0},{"$f":"Inventory!G968","v":0}]
[{"$f":"Inventory!A969","v":0},{"$f":"Inventory!G969","v":0}]
[{"$f":"Inventory!A970","v":0},{"$f":"Inventory!G970","v":0}]
[{"$f":"Inventory!A971","v":0},{"$f":"Inventory!G971","v":0}]
[{"$f":"Inventory!A972","v":0},{"$f":"Inventory!G972","v":0}]
[{"$f":"Inventory!A973","v":0},{"$f":"Inventory!G973","v":0}]
[{"$f":"Inventory!A974","v":0},{"$f":"Inventory!G974","v":0}]
[{"$f":"Inventory!A975","v":0},{"$f":"Inventory!G975","v":0}]
[{"$f":"Inventory!A976","v":0},{"$f":"Inventory!G976","v":0}]
[{"$f":"Inventory!A977","v":0},{"$f":"Inventory!G977","v":0}]
[{"$f":"Inventory!A978","v":0},{"$f":"Inventory!G978","v":0}]
[{"$f":"Inventory!A979","v":0},{"$f":"Inventory!G979","v":0}]
[{"$f":"Inventory!A980","v":0},{"$f":"Inventory!G980","v":0}]
[{"$f":"Inventory!A981","v":0},{"$f":"Inventory!G981","v":0}]
[{"$f":"Inventory!A982","v":0},{"$f":"Inventory!G982","v":0}]
[{"$f":"Inventory!A983","v":0},{"$f":"Inventory!G983","v":0}]
[{"$f":"Inventory!A984","v":0},{"$f":"Inventory!G984","v":0}]
[{"$f":"Inventory!A985","v":0},{"$f":"Inventory!G985","v":0}]
[{"$f":"Inventory!A986","v":0},{"$f":"Inventory!G986","v":0}]
[{"$f":"Inventory!A987","v":0},{"$f":"Inventory!G987","v":0}]
[{"$f":"Inventory!A988","v":0},{"$f":"Inventory!G988","v":0}]
[{"$f":"Inventory!A989","v":0},{"$f":"Inventory!G989","v":0}]
[{"$f":"Inventory!A990","v":0},{"$f":"Inventory!G990","v":0}]
[{"$f":"Inventory!A991","v":0},{"$f":"Inventory!G991","v":0}]
[{"$f":"Inventory!A992","v":0},{"$f":"Inventory!G992","v":0}]
[{"$f":"Inventory!A993","v":0},{"$f":"Inventory!G993","v":0}]
[{"$f":"Inventory!A994","v":0},{"$f":"Inventory!G994","v":0}]
[{"$f":"Inventory!A995","v":0},{"$f":"Inventory!G995","v":0}]
[{"$f":"Inventory!A996","v":0},{"$f":"Inventory!G996","v":0}]
[{"$f":"Inventory!A997","v":0},{"$f":"Inventory!G997","v":0}]
[{"$f":"Inventory!A998","v":0},{"$f":"Inventory!G998","v":0}]
[{"$f":"Inventory!A999","v":0},{"$f":"Inventory!G999","v":0}]
[{"$f":"Inventory!A1000","v":0},{"$f":"Inventory!G1000","v":0}]
[{"$f":"Inventory!A1001","v":0},{"$f":"Inventory!G1001","v":0}]
[{"$f":"Inventory!A1002","v":0},{"$f":"Inventory!G1002","v":0}]
[{"$f":"Inventory!A1003","v":0},{"$f":"Inventory!G1003","v":0}]
[{"$f":"Inventory!A1004","v":0},{"$f":"Inventory!G1004","v":0}]
[{"$f":"Inventory!A1005","v":0},{"$f":"Inventory!G1005","v":0}]
[{"$f":"Inventory!A1006","v":0},{"$f":"Inventory!G1006","v":0}]
[{"$f":"Inventory!A1007","v":0},{"$f":"Inventory!G1007","v":0}]
[{"$f":"Inventory!A1008","v":0},{"$f":"Inventory!G1008","v":0}]
[{"$f":"Inventory!A1009","v":0},{"$f":"Inventory!G1009","v":0}]
[{"$f":"Inventory!A1010","v":0},{"$f":"Inventory!G1010","v":0}]
[{"$f":"Inventory!A1011","v":0},{"$f":"Inventory!G1011","v":0}]
[{"$f":"Inventory!A1012","v":0},{"$f":"Inventory!G1012","v":0}]
[{"$f":"Inventory!A1013","v":0},{"$f":"Inventory!G1013","v":0}]
[{"$f":"Inventory!A1014","v":0},{"$f":"Inventory!G1014","v":0}]
[{"$f":"Inventory!A1015","v":0},{"$f":"Inventory!G1015","v":0}]
[{"$f":"Inventory!A1016","v":0},{"$f":"Inventory!G1016","v":0}]
[{"$f":"Inventory!A1017","v":0},{"$f":"Inventory!G1017","v":0}]
[{"$f":"Inventory!A1018","v":0},{"$f":"Inventory!G1018","v":0}]
[{"$f":"Inventory!A1019","v":0},{"$f":"Inventory!G1019","v":0}]
[{"$f":"Inventory!A1020","v":0},{"$f":"Inventory!G1020","v":0}]
[{"$f":"Inventory!A1021","v":0},{"$f":"Inventory!G1021","v":0}]
[{"$f":"Inventory!A1022","v":0},{"$f":"Inventory!G1022","v":0}]
[{"$f":"Inventory!A1023","v":0},{"$f":"Inventory!G1023","v":0}]
[{"$f":"Inventory!A1024","v":0},{"$f":"Inventory!G1024","v":0}]
[{"$f":"Inventory!A1025","v":0},{"$f":"Inventory!G1025","v":0}]
[{"$f":"Inventory!A1026","v":0},{"$f":"Inventory!G1026","v":0}]
[{"$f":"Inventory!A1027","v":0},{"$f":"Inventory!G1027","v":0}]
[{"$f":"Inventory!A1028","v":0},{"$f":"Inventory!G1028","v":0}]
[{"$f":"Inventory!A1029","v":0},{"$f":"Inventory!G1029","v":0}]
[{"$f":"Inventory!A1030","v":0},{"$f":"Inventory!G1030","v":0}]
[{"$f":"Inventory!A1031","v":0},{"$f":"Inventory!G1031","v":0}]
[{"$f":"Inventory!A1032","v":0},{"$f":"Inventory!G1032","v":0}]
[{"$f":"Inventory!A1033","v":0},{"$f":"Inventory!G1033","v":0}]
[{"$f":"Inventory!A1034","v":0},{"$f":"Inventory!G1034","v":0}]
[{"$f":"Inventory!A1035","v":0},{"$f":"Inventory!G1035","v":0}]
[{"$f":"Inventory!A1036","v":0},{"$f":"Inventory!G1036","v":0}]
[{"$f":"Inventory!A1037","v":0},{"$f":"Inventory!G1037","v":0}]
[{"$f":"Inventory!A1038","v":0},{"$f":"Inventory!G1038","v":0}]
[{"$f":"Inventory!A1039","v":0},{"$f":"Inventory!G1039","v":0}]
[{"$f":"Inventory!A1040","v":0},{"$f":"Inventory!G1040","v":0}]
[{"$f":"Inventory!A1041","v":0},{"$f":"Inventory!G1041","v":0}]
[{"$f":"Inventory!A1042","v":0},{"$f":"Inventory!G1042","v":0}]
[{"$f":"Inventory!A1043","v":0},{"$f":"Inventory!G1043","v":0}]
[{"$f":"Inventory!A1044","v":0},{"$f":"Inventory!G1044","v":0}]
[{"$f":"Inventory!A1045","v":0},{"$f":"Inventory!G1045","v":0}]
[{"$f":"Inventory!A1046","v":0},{"$f":"Inventory!G1046","v":0}]
[{"$f":"Inventory!A1047","v":0},{"$f":"Inventory!G1047","v":0}]
[{"$f":"Inventory!A1048","v":0},{"$f":"Inventory!G1048","v":0}]
[{"$f":"Inventory!A1049","v":0},{"$f":"Inventory!G1049","v":0}]
[{"$f":"Inventory!A1050","v":0},{"$f":"Inventory!G1050","v":0}]
[{"$f":"Inventory!A1051","v":0},{"$f":"Inventory!G1051","v":0}]
[{"$f":"Inventory!A1052","v":0},{"$f":"Inventory!G1052","v":0}]
[{"$f":"Inventory!A1053","v":0},{"$f":"Inventory!G1053","v":0}]
[{"$f":"Inventory!A1054","v":0},{"$f":"Inventory!G1054","v":0}]
[{"$f":"Inventory!A1055","v":0},{"$f":"Inventory!G1055","v":0}]
[{"$f":"Inventory!A1056","v":0},{"$f":"Inventory!G1056","v":0}]
[{"$f":"Inventory!A1057","v":0},{"$f":"Inventory!G1057","v":0}]
[{"$f":"Inventory!A1058","v":0},{"$f":"Inventory!G1058","v":0}]
[{"$f":"Inventory!A1059","v":0},{"$f":"Inventory!G1059","v":0}]
[{"$f":"Inventory!A1060","v":0},{"$f":"Inventory!G1060","v":0}]
[{"$f":"Inventory!A1061","v":0},{"$f":"Inventory!G1061","v":0}]
[{"$f":"Inventory!A1062","v":0},{"$f":"Inventory!G1062","v":0}]
[{"$f":"Inventory!A1063","v":0},{"$f":"Inventory!G1063","v":0}]
[{"$f":"Inventory!A1064","v":0},{"$f":"Inventory!G1064","v":0}]
[{"$f":"Inventory!A1065","v":0},{"$f":"Inventory!G1065","v":0}]
[{"$f":"Inventory!A1066","v":0},{"$f":"Inventory!G1066","v":0}]
[{"$f":"Inventory!A1067","v":0},{"$f":"Inventory!G1067","v":0}]
[{"$f":"Inventory!A1068","v":0},{"$f":"Inventory!G1068","v":0}]
[{"$f":"Inventory!A1069","v":0},{"$f":"Inventory!G1069","v":0}]
[{"$f":"Inventory!A1070","v":0},{"$f":"Inventory!G1070","v":0}]
[{"$f":"Inventory!A1071","v":0},{"$f":"Inventory!G1071","v":0}]
[{"$f":"Inventory!A1072","v":0},{"$f":"Inventory!G1072","v":0}]
[{"$f":"Inventory!A1073","v":0},{"$f":"Inventory!G1073","v":0}]
[{"$f":"Inventory!A1074","v":0},{"$f":"Inventory!G1074","v":0}]
[{"$f":"Inventory!A1075","v":0},{"$f":"Inventory!G1075","v":0}]
[{"$f":"Inventory!A1076","v":0},{"$f":"Inventory!G1076","v":0}]
[{"$f":"Inventory!A1077","v":0},{"$f":"Inventory!G1077","v":0}]
[{"$f":"Inventory!A1078","v":0},{"$f":"Inventory!G1078","v":0}]
[{"$f":"Inventory!A1079","v":0},{"$f":"Inventory!G1079","v":0}]
[{"$f":"Inventory!A1080","v":0},{"$f":"Inventory!G1080","v":0}]
[{"$f":"Inventory!A1081","v":0},{"$f":"Inventory!G1081","v":0}]
[{"$f":"Inventory!A1082","v":0},{"$f":"Inventory!G1082","v":0}]
[{"$f":"Inventory!A1083","v":0},{"$f":"Inventory!G1083","v":0}]
[{"$f":"Inventory!A1084","v":0},{"$f":"Inventory!G1084","v":0}]
[{"$f":"Inventory!A1085","v":0},{"$f":"Inventory!G1085","v":0}]
[{"$f":"Inventory!A1086","v":0},{"$f":"Inventory!G1086","v":0}]
[{"$f":"Inventory!A1087","v":0},{"$f":"Inventory!G1087","v":0}]
[{"$f":"Inventory!A1088","v":0},{"$f":"Inventory!G1088","v":0}]
[{"$f":"Inventory!A1089","v":0},{"$f":"Inventory!G1089","v":0}]
[{"$f":"Inventory!A1090","v":0},{"$f":"Inventory!G1090","v":0}]
[{"$f":"Inventory!A1091","v":0},{"$f":"Inventory!G1091","v":0}]
[{"$f":"Inventory!A1092","v":0},{"$f":"Inventory!G1092","v":0}]
[{"$f":"Inventory!A1093","v":0},{"$f":"Inventory!G1093","v":0}]
[{"$f":"Inventory!A1094","v":0},{"$f":"Inventory!G1094","v":0}]
[{"$f":"Inventory!A1095","v":0},{"$f":"Inventory!G1095","v":0}]
[{"$f":"Inventory!A1096","v":0},{"$f":"Inventory!G1096","v":0}]
[{"$f":"Inventory!A1097","v":0},{"$f":"Inventory!G1097","v":0}]
[{"$f":"Inventory!A1098","v":0},{"$f":"Inventory!G1098","v":0}]
[{"$f":"Inventory!A1099","v":0},{"$f":"Inventory!G1099","v":0}]
[{"$f":"Inventory!A1100","v":0},{"$f":"Inventory!G1100","v":0}]
[{"$f":"Inventory!A1101","v":0},{"$f":"Inventory!G1101","v":0}]
[{"$f":"Inventory!A1102","v":0},{"$f":"Inventory!G1102","v":0}]
[{"$f":"Inventory!A1103","v":0},{"$f":"Inventory!G1103","v":0}]
[{"$f":"Inventory!A1104","v":0},{"$f":"Inventory!G1104","v":0}]
[{"$f":"Inventory!A1105","v":0},{"$f":"Inventory!G1105","v":0}]
[{"$f":"Inventory!A1106","v":0},{"$f":"Inventory!G1106","v":0}]
[{"$f":"Inventory!A1107","v":0},{"$f":"Inventory!G1107","v":0}]
[{"$f":"Inventory!A1108","v":0},{"$f":"Inventory!G1108","v":0}]
[{"$f":"Inventory!A1109","v":0},{"$f":"Inventory!G1109","v":0}]
[{"$f":"Inventory!A1110","v":0},{"$f":"Inventory!G1110","v":0}]
[{"$f":"Inventory!A1111","v":0},{"$f":"Inventory!G1111","v":0}]
[{"$f":"Inventory!A1112","v":0},{"$f":"Inventory!G1112","v":0}]
[{"$f":"Inventory!A1113","v":0},{"$f":"Inventory!G1113","v":0}]
[{"$f":"Inventory!A1114","v":0},{"$f":"Inventory!G1114","v":0}]
[{"$f":"Inventory!A1115","v":0},{"$f":"Inventory!G1115","v":0}]
[{"$f":"Inventory!A1116","v":0},{"$f":"Inventory!G1116","v":0}]
[{"$f":"Inventory!A1117","v":0},{"$f":"Inventory!G1117","v":0}]
[{"$f":"Inventory!A1118","v":0},{"$f":"Inventory!G1118","v":0}]
[{"$f":"Inventory!A1119","v":0},{"$f":"Inventory!G1119","v":0}]
[{"$f":"Inventory!A1120","v":0},{"$f":"Inventory!G1120","v":0}]
[{"$f":"Inventory!A1121","v":0},{"$f":"Inventory!G1121","v":0}]
[{"$f":"Inventory!A1122","v":0},{"$f":"Inventory!G1122","v":0}]
[{"$f":"Inventory!A1123","v":0},{"$f":"Inventory!G1123","v":0}]
[{"$f":"Inventory!A1124","v":0},{"$f":"Inventory!G1124","v":0}]
[{"$f":"Inventory!A1125","v":0},{"$f":"Inventory!G1125","v":0}]
[{"$f":"Inventory!A1126","v":0},{"$f":"Inventory!G1126","v":0}]
[{"$f":"Inventory!A1127","v":0},{"$f":"Inventory!G1127","v":0}]
[{"$f":"Inventory!A1128","v":0},{"$f":"Inventory!G1128","v":0}]
[{"$f":"Inventory!A1129","v":0},{"$f":"Inventory!G1129","v":0}]
[{"$f":"Inventory!A1130","v":0},{"$f":"Inventory!G1130","v":0}]
[{"$f":"Inventory!A1131","v":0},{"$f":"Inventory!G1131","v":0}]
[{"$f":"Inventory!A1132","v":0},{"$f":"Inventory!G1132","v":0}]
[{"$f":"Inventory!A1133","v":0},{"$f":"Inventory!G1133","v":0}]
[{"$f":"Inventory!A1134","v":0},{"$f":"Inventory!G1134","v":0}]
[{"$f":"Inventory!A1135","v":0},{"$f":"Inventory!G1135","v":0}]
[{"$f":"Inventory!A1136","v":0},{"$f":"Inventory!G1136","v":0}]
[{"$f":"Inventory!A1137","v":0},{"$f":"Inventory!G1137","v":0}]
[{"$f":"Inventory!A1138","v":0},{"$f":"Inventory!G1138","v":0}]
[{"$f":"Inventory!A1139","v":0},{"$f":"Inventory!G1139","v":0}]
[{"$f":"Inventory!A1140","v":0},{"$f":"Inventory!G1140","v":0}]
[{"$f":"Inventory!A1141","v":0},{"$f":"Inventory!G1141","v":0}]
[{"$f":"Inventory!A1142","v":0},{"$f":"Inventory!G1142","v":0}]
[{"$f":"Inventory!A1143","v":0},{"$f":"Inventory!G1143","v":0}]
[{"$f":"Inventory!A1144","v":0},{"$f":"Inventory!G1144","v":0}]
[{"$f":"Inventory!A1145","v":0},{"$f":"Inventory!G1145","v":0}]
[{"$f":"Inventory!A1146","v":0},{"$f":"Inventory!G1146","v":0}]
[{"$f":"Inventory!A1147","v":0},{"$f":"Inventory!G1147","v":0}]
[{"$f":"Inventory!A1148","v":0},{"$f":"Inventory!G1148","v":0}]
[{"$f":"Inventory!A1149","v":0},{"$f":"Inventory!G1149","v":0}]
[{"$f":"Inventory!A1150","v":0},{"$f":"Inventory!G1150","v":0}]
[{"$f":"Inventory!A1151","v":0},{"$f":"Inventory!G1151","v":0}]
[{"$f":"Inventory!A1152","v":0},{"$f":"Inventory!G1152","v":0}]
[{"$f":"Inventory!A1153","v":0},{"$f":"Inventory!G1153","v":0}]
[{"$f":"Inventory!A1154","v":0},{"$f":"Inventory!G1154","v":0}]
[{"$f":"Inventory!A1155","v":0},{"$f":"Inventory!G1155","v":0}]
[{"$f":"Inventory!A1156","v":0},{"$f":"Inventory!G1156","v":0}]
[{"$f":"Inventory!A1157","v":0},{"$f":"Inventory!G1157","v":0}]
[{"$f":"Inventory!A1158","v":0},{"$f":"Inventory!G1158","v":0}]
[{"$f":"Inventory!A1159","v":0},{"$f":"Inventory!G1159","v":0}]
[{"$f":"Inventory!A1160","v":0},{"$f":"Inventory!G1160","v":0}]
[{"$f":"Inventory!A1161","v":0},{"$f":"Inventory!G1161","v":0}]
[{"$f":"Inventory!A1162","v":0},{"$f":"Inventory!G1162","v":0}]
[{"$f":"Inventory!A1163","v":0},{"$f":"Inventory!G1163","v":0}]
[{"$f":"Inventory!A1164","v":0},{"$f":"Inventory!G1164","v":0}]
[{"$f":"Inventory!A1165","v":0},{"$f":"Inventory!G1165","v":0}]
[{"$f":"Inventory!A1166","v":0},{"$f":"Inventory!G1166","v":0}]
[{"$f":"Inventory!A1167","v":0},{"$f":"Inventory!G1167","v":0}]
[{"$f":"Inventory!A1168","v":0},{"$f":"Inventory!G1168","v":0}]
[{"$f":"Inventory!A1169","v":0},{"$f":"Inventory!G1169","v":0}]
[{"$f":"Inventory!A1170","v":0},{"$f":"Inventory!G1170","v":0}]
[{"$f":"Inventory!A1171","v":0},{"$f":"Inventory!G1171","v":0}]
[{"$f":"Inventory!A1172","v":0},{"$f":"Inventory!G1172","v":0}]
[{"$f":"Inventory!A1173","v":0},{"$f":"Inventory!G1173","v":0}]
[{"$f":"Inventory!A1174","v":0},{"$f":"Inventory!G1174","v":0}]
[{"$f":"Inventory!A1175","v":0},{"$f":"Inventory!G1175","v":0}]
[{"$f":"Inventory!A1176","v":0},{"$f":"Inventory!G1176","v":0}]
[{"$f":"Inventory!A1177","v":0},{"$f":"Inventory!G1177","v":0}]
[{"$f":"Inventory!A1178","v":0},{"$f":"Inventory!G1178","v":0}]
[{"$f":"Inventory!A1179","v":0},{"$f":"Inventory!G1179","v":0}]
[{"$f":"Inventory!A1180","v":0},{"$f":"Inventory!G1180","v":0}]
[{"$f":"Inventory!A1181","v":0},{"$f":"Inventory!G1181","v":0}]
[{"$f":"Inventory!A1182","v":0},{"$f":"Inventory!G1182","v":0}]
[{"$f":"Inventory!A1183","v":0},{"$f":"Inventory!G1183","v":0}]
[{"$f":"Inventory!A1184","v":0},{"$f":"Inventory!G1184","v":0}]
[{"$f":"Inventory!A1185","v":0},{"$f":"Inventory!G1185","v":0}]
[{"$f":"Inventory!A1186","v":0},{"$f":"Inventory!G1186","v":0}]
[{"$f":"Inventory!A1187","v":0},{"$f":"Inventory!G1187","v":0}]
[{"$f":"Inventory!A1188","v":0},{"$f":"Inventory!G1188","v":0}]
[{"$f":"Inventory!A1189","v":0},{"$f":"Inventory!G1189","v":0}]
[{"$f":"Inventory!A1190","v":0},{"$f":"Inventory!G1190","v":0}]
[{"$f":"Inventory!A1191","v":0},{"$f":"Inventory!G1191","v":0}]
[{"$f":"Inventory!A1192","v":0},{"$f":"Inventory!G1192","v":0}]
[{"$f":"Inventory!A1193","v":0},{"$f":"Inventory!G1193","v":0}]
[{"$f":"Inventory!A1194","v":0},{"$f":"Inventory!G1194","v":0}]
[{"$f":"Inventory!A1195","v":0},{"$f":"Inventory!G1195","v":0}]
[{"$f":"Inventory!A1196","v":0},{"$f":"Inventory!G1196","v":0}]
[{"$f":"Inventory!A1197","v":0},{"$f":"Inventory!G1197","v":0}]
[{"$f":"Inventory!A1198","v":0},{"$f":"Inventory!G1198","v":0}]
[{"$f":"Inventory!A1199","v":0},{"$f":"Inventory!G1199","v":0}]
[{"$f":"Inventory!A1200","v":0},{"$f":"Inventory!G1200","v":0}]
[{"$f":"Inventory!A1201","v":0},{"$f":"Inventory!G1201","v":0}]
[{"$f":"Inventory!A1202","v":0},{"$f":"Inventory!G1202","v":0}]
[{"$f":"Inventory!A1203","v":0},{"$f":"Inventory!G1203","v":0}]
[{"$f":"Inventory!A1204","v":0},{"$f":"Inventory!G1204","v":0}]
[{"$f":"Inventory!A1205","v":0},{"$f":"Inventory!G1205","v":0}]
[{"$f":"Inventory!A1206","v":0},{"$f":"Inventory!G1206","v":0}]
[{"$f":"Inventory!A1207","v":0},{"$f":"Inventory!G1207","v":0}]
[{"$f":"Inventory!A1208","v":0},{"$f":"Inventory!G1208","v":0}]
[{"$f":"Inventory!A1209","v":0},{"$f":"Inventory!G1209","v":0}]
[{"$f":"Inventory!A1210","v":0},{"$f":"Inventory!G1210","v":0}]
[{"$f":"Inventory!A1211","v":0},{"$f":"Inventory!G1211","v":0}]
[{"$f":"Inventory!A1212","v":0},{"$f":"Inventory!G1212","v":0}]
[{"$f":"Inventory!A1213","v":0},{"$f":"Inventory!G1213","v":0}]
[{"$f":"Inventory!A1214","v":0},{"$f":"Inventory!G1214","v":0}]
[{"$f":"Inventory!A1215","v":0},{"$f":"Inventory!G1215","v":0}]
[{"$f":"Inventory!A1216","v":0},{"$f":"Inventory!G1216","v":0}]
[{"$f":"Inventory!A1217","v":0},{"$f":"Inventory!G1217","v":0}]
[{"$f":"Inventory!A1218","v":0},{"$f":"Inventory!G1218","v":0}]
[{"$f":"Inventory!A1219","v":0},{"$f":"Inventory!G1219","v":0}]
[{"$f":"Inventory!A1220","v":0},{"$f":"Inventory!G1220","v":0}]
[{"$f":"Inventory!A1221","v":0},{"$f":"Inventory!G1221","v":0}]
[{"$f":"Inventory!A1222","v":0},{"$f":"Inventory!G1222","v":0}]
[{"$f":"Inventory!A1223","v":0},{"$f":"Inventory!G1223","v":0}]
[{"$f":"Inventory!A1224","v":0},{"$f":"Inventory!G1224","v":0}]
[{"$f":"Inventory!A1225","v":0},{"$f":"Inventory!G1225","v":0}]
[{"$f":"Inventory!A1226","v":0},{"$f":"Inventory!G1226","v":0}]
[{"$f":"Inventory!A1227","v":0},{"$f":"Inventory!G1227","v":0}]
[{"$f":"Inventory!A1228","v":0},{"$f":"Inventory!G1228","v":0}]
[{"$f":"Inventory!A1229","v":0},{"$f":"Inventory!G1229","v":0}]
[{"$f":"Inventory!A1230","v":0},{"$f":"Inventory!G1230","v":0}]
[{"$f":"Inventory!A1231","v":0},{"$f":"Inventory!G1231","v":0}]
[{"$f":"Inventory!A1232","v":0},{"$f":"Inventory!G1232","v":0}]
[{"$f":"Inventory!A1233","v":0},{"$f":"Inventory!G1233","v":0}]
[{"$f":"Inventory!A1234","v":0},{"$f":"Inventory!G1234","v":0}]
[{"$f":"Inventory!A1235","v":0},{"$f":"Inventory!G1235","v":0}]
[{"$f":"Inventory!A1236","v":0},{"$f":"Inventory!G1236","v":0}]
[{"$f":"Inventory!A1237","v":0},{"$f":"Inventory!G1237","v":0}]
[{"$f":"Inventory!A1238","v":0},{"$f":"Inventory!G1238","v":0}]
[{"$f":"Inventory!A1239","v":0},{"$f":"Inventory!G1239","v":0}]
[{"$f":"Inventory!A1240","v":0},{"$f":"Inventory!G1240","v":0}]
[{"$f":"Inventory!A1241","v":0},{"$f":"Inventory!G1241","v":0}]
[{"$f":"Inventory!A1242","v":0},{"$f":"Inventory!G1242","v":0}]
[{"$f":"Inventory!A1243","v":0},{"$f":"Inventory!G1243","v":0}]
[{"$f":"Inventory!A1244","v":0},{"$f":"Inventory!G1244","v":0}]
[{"$f":"Inventory!A1245","v":0},{"$f":"Inventory!G1245","v":0}]
[{"$f":"Inventory!A1246","v":0},{"$f":"Inventory!G1246","v":0}]
[{"$f":"Inventory!A1247","v":0},{"$f":"Inventory!G1247","v":0}]
[{"$f":"Inventory!A1248","v":0},{"$f":"Inventory!G1248","v":0}]
[{"$f":"Inventory!A1249","v":0},{"$f":"Inventory!G1249","v":0}]
[{"$f":"Inventory!A1250","v":0},{"$f":"Inventory!G1250","v":0}]
[{"$f":"Inventory!A1251","v":0},{"$f":"Inventory!G1251","v":0}]
[{"$f":"Inventory!A1252","v":0},{"$f":"Inventory!G1252","v":0}]
[{"$f":"Inventory!A1253","v":0},{"$f":"Inventory!G1253","v":0}]
[{"$f":"Inventory!A1254","v":0},{"$f":"Inventory!G1254","v":0}]
[{"$f":"Inventory!A1255","v":0},{"$f":"Inventory!G1255","v":0}]
[{"$f":"Inventory!A1256","v":0},{"$f":"Inventory!G1256","v":0}]
[{"$f":"Inventory!A1257","v":0},{"$f":"Inventory!G1257","v":0}]
[{"$f":"Inventory!A1258","v":0},{"$f":"Inventory!G1258","v":0}]
[{"$f":"Inventory!A1259","v":0},{"$f":"Inventory!G1259","v":0}]
[{"$f":"Inventory!A1260","v":0},{"$f":"Inventory!G1260","v":0}]
[{"$f":"Inventory!A1261","v":0},{"$f":"Inventory!G1261","v":0}]
[{"$f":"Inventory!A1262","v":0},{"$f":"Inventory!G1262","v":0}]
[{"$f":"Inventory!A1263","v":0},{"$f":"Inventory!G1263","v":0}]
[{"$f":"Inventory!A1264","v":0},{"$f":"Inventory!G1264","v":0}]
[{"$f":"Inventory!A1265","v":0},{"$f":"Inventory!G1265","v":0}]
[{"$f":"Inventory!A1266","v":0},{"$f":"Inventory!G1266","v":0}]
[{"$f":"Inventory!A1267","v":0},{"$f":"Inventory!G1267","v":0}]
[{"$f":"Inventory!A1268","v":0},{"$f":"Inventory!G1268","v":0}]
[{"$f":"Inventory!A1269","v":0},{"$f":"Inventory!G1269","v":0}]
[{"$f":"Inventory!A1270","v":0},{"$f":"Inventory!G1270","v":0}]
[{"$f":"Inventory!A1271","v":0},{"$f":"Inventory!G1271","v":0}]
[{"$f":"Inventory!A1272","v":0},{"$f":"Inventory!G1272","v":0}]
[{"$f":"Inventory!A1273","v":0},{"$f":"Inventory!G1273","v":0}]
[{"$f":"Inventory!A1274","v":0},{"$f":"Inventory!G1274","v":0}]
[{"$f":"Inventory!A1275","v":0},{"$f":"Inventory!G1275","v":0}]
[{"$f":"Inventory!A1276","v":0},{"$f":"Inventory!G1276","v":0}]
[{"$f":"Inventory!A1277","v":0},{"$f":"Inventory!G1277","v":0}]
[{"$f":"Inventory!A1278","v":0},{"$f":"Inventory!G1278","v":0}]
[{"$f":"Inventory!A1279","v":0},{"$f":"Inventory!G1279","v":0}]
[{"$f":"Inventory!A1280","v":0},{"$f":"Inventory!G1280","v":0}]
[{"$f":"Inventory!A1281","v":0},{"$f":"Inventory!G1281","v":0}]
[{"$f":"Inventory!A1282","v":0},{"$f":"Inventory!G1282","v":0}]
[{"$f":"Inventory!A1283","v":0},{"$f":"Inventory!G1283","v":0}]
[{"$f":"Inventory!A1284","v":0},{"$f":"Inventory!G1284","v":0}]
[{"$f":"Inventory!A1285","v":0},{"$f":"Inventory!G1285","v":0}]
[{"$f":"Inventory!A1286","v":0},{"$f":"Inventory!G1286","v":0}]
[{"$f":"Inventory!A1287","v":0},{"$f":"Inventory!G1287","v":0}]
[{"$f":"Inventory!A1288","v":0},{"$f":"Inventory!G1288","v":0}]
[{"$f":"Inventory!A1289","v":0},{"$f":"Inventory!G1289","v":0}]
[{"$f":"Inventory!A1290","v":0},{"$f":"Inventory!G1290","v":0}]
[{"$f":"Inventory!A1291","v":0},{"$f":"Inventory!G1291","v":0}]
[{"$f":"Inventory!A1292","v":0},{"$f":"Inventory!G1292","v":0}]
[{"$f":"Inventory!A1293","v":0},{"$f":"Inventory!G1293","v":0}]
[{"$f":"Inventory!A1294","v":0},{"$f":"Inventory!G1294","v":0}]
[{"$f":"Inventory!A1295","v":0},{"$f":"Inventory!G1295","v":0}]
[{"$f":"Inventory!A1296","v":0},{"$f":"Inventory!G1296","v":0}]
[{"$f":"Inventory!A1297","v":0},{"$f":"Inventory!G1297","v":0}]
[{"$f":"Inventory!A1298","v":0},{"$f":"Inventory!G1298","v":0}]
[{"$f":"Inventory!A1299","v":0},{"$f":"Inventory!G1299","v":0}]
[{"$f":"Inventory!A1300","v":0},{"$f":"Inventory!G1300","v":0}]
[{"$f":"Inventory!A1301","v":0},{"$f":"Inventory!G1301","v":0}]
[{"$f":"Inventory!A1302","v":0},{"$f":"Inventory!G1302","v":0}]
[{"$f":"Inventory!A1303","v":0},{"$f":"Inventory!G1303","v":0}]
[{"$f":"Inventory!A1304","v":0},{"$f":"Inventory!G1304","v":0}]
[{"$f":"Inventory!A1305","v":0},{"$f":"Inventory!G1305","v":0}]
[{"$f":"Inventory!A1306","v":0},{"$f":"Inventory!G1306","v":0}]
[{"$f":"Inventory!A1307","v":0},{"$f":"Inventory!G1307","v":0}]
[{"$f":"Inventory!A1308","v":0},{"$f":"Inventory!G1308","v":0}]
[{"$f":"Inventory!A1309","v":0},{"$f":"Inventory!G1309","v":0}]
[{"$f":"Inventory!A1310","v":0},{"$f":"Inventory!G1310","v":0}]
[{"$f":"Inventory!A1311","v":0},{"$f":"Inventory!G1311","v":0}]
[{"$f":"Inventory!A1312","v":0},{"$f":"Inventory!G1312","v":0}]
[{"$f":"Inventory!A1313","v":0},{"$f":"Inventory!G1313","v":0}]
[{"$f":"Inventory!A1314","v":0},{"$f":"Inventory!G1314","v":0}]
[{"$f":"Inventory!A1315","v":0},{"$f":"Inventory!G1315","v":0}]
[{"$f":"Inventory!A1316","v":0},{"$f":"Inventory!G1316","v":0}]
[{"$f":"Inventory!A1317","v":0},{"$f":"Inventory!G1317","v":0}]
[{"$f":"Inventory!A1318","v":0},{"$f":"Inventory!G1318","v":0}]
[{"$f":"Inventory!A1319","v":0},{"$f":"Inventory!G1319","v":0}]
[{"$f":"Inventory!A1320","v":0},{"$f":"Inventory!G1320","v":0}]
[{"$f":"Inventory!A1321","v":0},{"$f":"Inventory!G1321","v":0}]
[{"$f":"Inventory!A1322","v":0},{"$f":"Inventory!G1322","v":0}]
[{"$f":"Inventory!A1323","v":0},{"$f":"Inventory!G1323","v":0}]
[{"$f":"Inventory!A1324","v":0},{"$f":"Inventory!G1324","v":0}]
[{"$f":"Inventory!A1325","v":0},{"$f":"Inventory!G1325","v":0}]
[{"$f":"Inventory!A1326","v":0},{"$f":"Inventory!G1326","v":0}]
[{"$f":"Inventory!A1327","v":0},{"$f":"Inventory!G1327","v":0}]
[{"$f":"Inventory!A1328","v":0},{"$f":"Inventory!G1328","v":0}]
[{"$f":"Inventory!A1329","v":0},{"$f":"Inventory!G1329","v":0}]
[{"$f":"Inventory!A1330","v":0},{"$f":"Inventory!G1330","v":0}]
[{"$f":"Inventory!A1331","v":0},{"$f":"Inventory!G1331","v":0}]
[{"$f":"Inventory!A1332","v":0},{"$f":"Inventory!G1332","v":0}]
[{"$f":"Inventory!A1333","v":0},{"$f":"Inventory!G1333","v":0}]
[{"$f":"Inventory!A1334","v":0},{"$f":"Inventory!G1334","v":0}]
[{"$f":"Inventory!A1335","v":0},{"$f":"Inventory!G1335","v":0}]
[{"$f":"Inventory!A1336","v":0},{"$f":"Inventory!G1336","v":0}]
[{"$f":"Inventory!A1337","v":0},{"$f":"Inventory!G1337","v":0}]
[{"$f":"Inventory!A1338","v":0},{"$f":"Inventory!G1338","v":0}]
[{"$f":"Inventory!A1339","v":0},{"$f":"Inventory!G1339","v":0}]
[{"$f":"Inventory!A1340","v":0},{"$f":"Inventory!G1340","v":0}]
[{"$f":"Inventory!A1341","v":0},{"$f":"Inventory!G1341","v":0}]
[{"$f":"Inventory!A1342","v":0},{"$f":"Inventory!G1342","v":0}]
[{"$f":"Inventory!A1343","v":0},{"$f":"Inventory!G1343","v":0}]
[{"$f":"Inventory!A1344","v":0},{"$f":"Inventory!G1344","v":0}]
[{"$f":"Inventory!A1345","v":0},{"$f":"Inventory!G1345","v":0}]
[{"$f":"Inventory!A1346","v":0},{"$f":"Inventory!G1346","v":0}]
[{"$f":"Inventory!A1347","v":0},{"$f":"Inventory!G1347","v":0}]
[{"$f":"Inventory!A1348","v":0},{"$f":"Inventory!G1348","v":0}]
[{"$f":"Inventory!A1349","v":0},{"$f":"Inventory!G1349","v":0}]
[{"$f":"Inventory!A1350","v":0},{"$f":"Inventory!G1350","v":0}]
[{"$f":"Inventory!A1351","v":0},{"$f":"Inventory!G1351","v":0}]
[{"$f":"Inventory!A1352","v":0},{"$f":"Inventory!G1352","v":0}]
[{"$f":"Inventory!A1353","v":0},{"$f":"Inventory!G1353","v":0}]
[{"$f":"Inventory!A1354","v":0},{"$f":"Inventory!G1354","v":0}]
[{"$f":"Inventory!A1355","v":0},{"$f":"Inventory!G1355","v":0}]
[{"$f":"Inventory!A1356","v":0},{"$f":"Inventory!G1356","v":0}]
[{"$f":"Inventory!A1357","v":0},{"$f":"Inventory!G1357","v":0}]
[{"$f":"Inventory!A1358","v":0},{"$f":"Inventory!G1358","v":0}]
[{"$f":"Inventory!A1359","v":0},{"$f":"Inventory!G1359","v":0}]
[{"$f":"Inventory!A1360","v":0},{"$f":"Inventory!G1360","v":0}]
[{"$f":"Inventory!A1361","v":0},{"$f":"Inventory!G1361","v":0}]
[{"$f":"Inventory!A1362","v":0},{"$f":"Inventory!G1362","v":0}]
[{"$f":"Inventory!A1363","v":0},{"$f":"Inventory!G1363","v":0}]
[{"$f":"Inventory!A1364","v":0},{"$f":"Inventory!G1364","v":0}]
[{"$f":"Inventory!A1365","v":0},{"$f":"Inventory!G1365","v":0}]
[{"$f":"Inventory!A1366","v":0},{"$f":"Inventory!G1366","v":0}]
[{"$f":"Inventory!A1367","v":0},{"$f":"Inventory!G1367","v":0}]
[{"$f":"Inventory!A1368","v":0},{"$f":"Inventory!G1368","v":0}]
[{"$f":"Inventory!A1369","v":0},{"$f":"Inventory!G1369","v":0}]
[{"$f":"Inventory!A1370","v":0},{"$f":"Inventory!G1370","v":0}]
[{"$f":"Inventory!A1371","v":0},{"$f":"Inventory!G1371","v":0}]
[{"$f":"Inventory!A1372","v":0},{"$f":"Inventory!G1372","v":0}]
[{"$f":"Inventory!A1373","v":0},{"$f":"Inventory!G1373","v":0}]
[{"$f":"Inventory!A1374","v":0},{"$f":"Inventory!G1374","v":0}]
[{"$f":"Inventory!A1375","v":0},{"$f":"Inventory!G1375","v":0}]
[{"$f":"Inventory!A1376","v":0},{"$f":"Inventory!G1376","v":0}]
[{"$f":"Inventory!A1377","v":0},{"$f":"Inventory!G1377","v":0}]
[{"$f":"Inventory!A1378","v":0},{"$f":"Inventory!G1378","v":0}]
[{"$f":"Inventory!A1379","v":0},{"$f":"Inventory!G1379","v":0}]
[{"$f":"Inventory!A1380","v":0},{"$f":"Inventory!G1380","v":0}]
[{"$f":"Inventory!A1381","v":0},{"$f":"Inventory!G1381","v":0}]
[{"$f":"Inventory!A1382","v":0},{"$f":"Inventory!G1382","v":0}]
[{"$f":"Inventory!A1383","v":0},{"$f":"Inventory!G1383","v":0}]
[{"$f":"Inventory!A1384","v":0},{"$f":"Inventory!G1384","v":0}]
[{"$f":"Inventory!A1385","v":0},{"$f":"Inventory!G1385","v":0}]
[{"$f":"Inventory!A1386","v":0},{"$f":"Inventory!G1386","v":0}]
[{"$f":"Inventory!A1387","v":0},{"$f":"Inventory!G1387","v":0}]
[{"$f":"Inventory!A1388","v":0},{"$f":"Inventory!G1388","v":0}]
[{"$f":"Inventory!A1389","v":0},{"$f":"Inventory!G1389","v":0}]
[{"$f":"Inventory!A1390","v":0},{"$f":"Inventory!G1390","v":0}]
[{"$f":"Inventory!A1391","v":0},{"$f":"Inventory!G1391","v":0}]
[{"$f":"Inventory!A1392","v":0},{"$f":"Inventory!G1392","v":0}]
[{"$f":"Inventory!A1393","v":0},{"$f":"Inventory!G1393","v":0}]
[{"$f":"Inventory!A1394","v":0},{"$f":"Inventory!G1394","v":0}]
[{"$f":"Inventory!A1395","v":0},{"$f":"Inventory!G1395","v":0}]
[{"$f":"Inventory!A1396","v":0},{"$f":"Inventory!G1396","v":0}]
[{"$f":"Inventory!A1397","v":0},{"$f":"Inventory!G1397","v":0}]
[{"$f":"Inventory!A1398","v":0},{"$f":"Inventory!G1398","v":0}]
[{"$f":"Inventory!A1399","v":0},{"$f":"Inventory!G1399","v":0}]
[{"$f":"Inventory!A1400","v":0},{"$f":"Inventory!G1400","v":0}]
[{"$f":"Inventory!A1401","v":0},{"$f":"Inventory!G1401","v":0}]
[{"$f":"Inventory!A1402","v":0},{"$f":"Inventory!G1402","v":0}]
[{"$f":"Inventory!A1403","v":0},{"$f":"Inventory!G1403","v":0}]
[{"$f":"Inventory!A1404","v":0},{"$f":"Inventory!G1404","v":0}]
[{"$f":"Inventory!A1405","v":0},{"$f":"Inventory!G1405","v":0}]
[{"$f":"Inventory!A1406","v":0},{"$f":"Inventory!G1406","v":0}]
[{"$f":"Inventory!A1407","v":0},{"$f":"Inventory!G1407","v":0}]
[{"$f":"Inventory!A1408","v":0},{"$f":"Inventory!G1408","v":0}]
[{"$f":"Inventory!A1409","v":0},{"$f":"Inventory!G1409","v":0}]
[{"$f":"Inventory!A1410","v":0},{"$f":"Inventory!G1410","v":0}]
[{"$f":"Inventory!A1411","v":0},{"$f":"Inventory!G1411","v":0}]
[{"$f":"Inventory!A1412","v":0},{"$f":"Inventory!G1412","v":0}]
[{"$f":"Inventory!A1413","v":0},{"$f":"Inventory!G1413","v":0}]
[{"$f":"Inventory!A1414","v":0},{"$f":"Inventory!G1414","v":0}]
[{"$f":"Inventory!A1415","v":0},{"$f":"Inventory!G1415","v":0}]
[{"$f":"Inventory!A1416","v":0},{"$f":"Inventory!G1416","v":0}]
[{"$f":"Inventory!A1417","v":0},{"$f":"Inventory!G1417","v":0}]
[{"$f":"Inventory!A1418","v":0},{"$f":"Inventory!G1418","v":0}]
[{"$f":"Inventory!A1419","v":0},{"$f":"Inventory!G1419","v":0}]
[{"$f":"Inventory!A1420","v":0},{"$f":"Inventory!G1420","v":0}]
[{"$f":"Inventory!A1421","v":0},{"$f":"Inventory!G1421","v":0}]
[{"$f":"Inventory!A1422","v":0},{"$f":"Inventory!G1422","v":0}]
[{"$f":"Inventory!A1423","v":0},{"$f":"Inventory!G1423","v":0}]
[{"$f":"Inventory!A1424","v":0},{"$f":"Inventory!G1424","v":0}]
[{"$f":"Inventory!A1425","v":0},{"$f":"Inventory!G1425","v":0}]
[{"$f":"Inventory!A1426","v":0},{"$f":"Inventory!G1426","v":0}]
[{"$f":"Inventory!A1427","v":0},{"$f":"Inventory!G1427","v":0}]
[{"$f":"Inventory!A1428","v":0},{"$f":"Inventory!G1428","v":0}]
[{"$f":"Inventory!A1429","v":0},{"$f":"Inventory!G1429","v":0}]
[{"$f":"Inventory!A1430","v":0},{"$f":"Inventory!G1430","v":0}]
[{"$f":"Inventory!A1431","v":0},{"$f":"Inventory!G1431","v":0}]
[{"$f":"Inventory!A1432","v":0},{"$f":"Inventory!G1432","v":0}]
[{"$f":"Inventory!A1433","v":0},{"$f":"Inventory!G1433","v":0}]
[{"$f":"Inventory!A1434","v":0},{"$f":"Inventory!G1434","v":0}]
[{"$f":"Inventory!A1435","v":0},{"$f":"Inventory!G1435","v":0}]
[{"$f":"Inventory!A1436","v":0},{"$f":"Inventory!G1436","v":0}]
[{"$f":"Inventory!A1437","v":0},{"$f":"Inventory!G1437","v":0}]
[{"$f":"Inventory!A1438","v":0},{"$f":"Inventory!G1438","v":0}]
[{"$f":"Inventory!A1439","v":0},{"$f":"Inventory!G1439","v":0}]
[{"$f":"Inventory!A1440","v":0},{"$f":"Inventory!G1440","v":0}]
[{"$f":"Inventory!A1441","v":0},{"$f":"Inventory!G1441","v":0}]
[{"$f":"Inventory!A1442","v":0},{"$f":"Inventory!G1442","v":0}]
[{"$f":"Inventory!A1443","v":0},{"$f":"Inventory!G1443","v":0}]
[{"$f":"Inventory!A1444","v":0},{"$f":"Inventory!G1444","v":0}]
[{"$f":"Inventory!A1445","v":0},{"$f":"Inventory!G1445","v":0}]
[{"$f":"Inventory!A1446","v":0},{"$f":"Inventory!G1446","v":0}]
[{"$f":"Inventory!A1447","v":0},{"$f":"Inventory!G1447","v":0}]
[{"$f":"Inventory!A1448","v":0},{"$f":"Inventory!G1448","v":0}]
[{"$f":"Inventory!A1449","v":0},{"$f":"Inventory!G1449","v":0}]
[{"$f":"Inventory!A1450","v":0},{"$f":"Inventory!G1450","v":0}]
[{"$f":"Inventory!A1451","v":0},{"$f":"Inventory!G1451","v":0}]
[{"$f":"Inventory!A1452","v":0},{"$f":"Inventory!G1452","v":0}]
[{"$f":"Inventory!A1453","v":0},{"$f":"Inventory!G1453","v":0}]
[{"$f":"Inventory!A1454","v":0},{"$f":"Inventory!G1454","v":0}]
[{"$f":"Inventory!A1455","v":0},{"$f":"Inventory!G1455","v":0}]
[{"$f":"Inventory!A1456","v":0},{"$f":"Inventory!G1456","v":0}]
[{"$f":"Inventory!A1457","v":0},{"$f":"Inventory!G1457","v":0}]
[{"$f":"Inventory!A1458","v":0},{"$f":"Inventory!G1458","v":0}]

{"sheet":"Dessert","index":7,"n_rows":1458,"n_cols":7,"rows_kept":1458,"cut":false,"hidden":false,"merged":[]}
[]
[{"$f":"Inventory!A2","v":"Current Inventory"},{"$f":"Inventory!G2","v":"Category"},"Cookieman Cookies","Simple Vanilla Ice Cream","Cake Doughnuts Recipe ","Lemon Squares I Recipe ","Caramel Pecan Sweet Rolls "]
[{"$f":"Inventory!A3","v":"Cake Mix"},{"$f":"Inventory!G3","v":"Baking"}]
[{"$f":"Inventory!A4","v":"Frosting"},{"$f":"Inventory!G4","v":"Baking"}]
[{"$f":"Inventory!A5","v":"Pam"},{"$f":"Inventory!G5","v":"Baking"}]
[{"$f":"Inventory!A6","v":"Eggo Waffles"},{"$f":"Inventory!G6","v":"Boxed"}]
[{"$f":"Inventory!A7","v":"Fajita Sauce Packet"},{"$f":"Inventory!G7","v":"Boxed"}]
[{"$f":"Inventory!A8","v":"Frozen Pizza"},{"$f":"Inventory!G8","v":"Boxed"}]
[{"$f":"Inventory!A9","v":"Fruit Snacks"},{"$f":"Inventory!G9","v":"Boxed"}]
[{"$f":"Inventory!A10","v":"Gold Fish"},{"$f":"Inventory!G10","v":"Boxed"}]
[{"$f":"Inventory!A11","v":"Mac & Cheese"},{"$f":"Inventory!G11","v":"Boxed"}]
[{"$f":"Inventory!A12","v":"Shakenbake"},{"$f":"Inventory!G12","v":"Boxed"}]
[{"$f":"Inventory!A13","v":"Stroganoff"},{"$f":"Inventory!G13","v":"Boxed"}]
[{"$f":"Inventory!A14","v":"Teriyaki Sauce"},{"$f":"Inventory!G14","v":"Boxed"}]
[{"$f":"Inventory!A15","v":"Black Olives"},{"$f":"Inventory!G15","v":"Canned"}]
[{"$f":"Inventory!A16","v":"Chicken Noodle Soup"},{"$f":"Inventory!G16","v":"Canned"}]
[{"$f":"Inventory!A17","v":"Cream of Mushroom"},{"$f":"Inventory!G17","v":"Canned"}]
[{"$f":"Inventory!A18","v":"Pork & Beans"},{"$f":"Inventory!G18","v":"Canned"}]
[{"$f":"Inventory!A19","v":"Raviolis"},{"$f":"Inventory!G19","v":"Canned"}]
[{"$f":"Inventory!A20","v":"Refried Beans"},{"$f":"Inventory!G20","v":"Canned"}]
[{"$f":"Inventory!A21","v":"Tomato Sauce"},{"$f":"Inventory!G21","v":"Canned"}]
[{"$f":"Inventory!A22","v":"Tomato Soup"},{"$f":"Inventory!G22","v":"Canned"}]
[{"$f":"Inventory!A23","v":"Crushed Red Pepper"},{"$f":"Inventory!G23","v":"Condiments"}]
[{"$f":"Inventory!A24","v":"Italian Dressing Mix"},{"$f":"Inventory!G24","v":"Condiments"}]
[{"$f":"Inventory!A25","v":"Italian Seasoning"},{"$f":"Inventory!G25","v":"Condiments"}]
[{"$f":"Inventory!A26","v":"Ketchup"},{"$f":"Inventory!G26","v":"Condiments"}]
[{"$f":"Inventory!A27","v":"Mayo"},{"$f":"Inventory!G27","v":"Condiments"}]
[{"$f":"Inventory!A28","v":"Mustard"},{"$f":"Inventory!G28","v":"Condiments"}]
[{"$f":"Inventory!A29","v":"Salsa"},{"$f":"Inventory!G29","v":"Condiments"}]
[{"$f":"Inventory!A30","v":"Butter"},{"$f":"Inventory!G30","v":"Dairy"},1,null,0.25,1,0.5625]
[{"$f":"Inventory!A31","v":"Cheddar"},{"$f":"Inventory!G31","v":"Dairy"}]
[{"$f":"Inventory!A32","v":"Cottage Cheese"},{"$f":"Inventory!G32","v":"Dairy"}]
[{"$f":"Inventory!A33","v":"Eggs"},{"$f":"Inventory!G33","v":"Dairy"},1,null,1,4,1]
[{"$f":"Inventory!A34","v":"Heavy Whipping Cream"},{"$f":"Inventory!G34","v":"Dairy"},null,3]
[{"$f":"Inventory!A35","v":"Ice Cream"},{"$f":"Inventory!G35","v":"Dairy"}]
[{"$f":"Inventory!A36","v":"Milk (whole)"},{"$f":"Inventory!G36","v":"Dairy"},null,1.5]
[{"$f":"Inventory!A37","v":"MILK 2%"},{"$f":"Inventory!G37","v":"Dairy"},null,null,1,null,0.5]
[{"$f":"Inventory!A38","v":"Parmesan cheese"},{"$f":"Inventory!G38","v":"Dairy"}]
[{"$f":"Inventory!A39","v":"Peach Yogurt"},{"$f":"Inventory!G39","v":"Dairy"}]
[{"$f":"Inventory!A40","v":"Provolone Cheese"},{"$f":"Inventory!G40","v":"Dairy"}]
[{"$f":"Inventory!A41","v":"Shredded Cheddar"},{"$f":"Inventory!G41","v":"Dairy"}]
[{"$f":"Inventory!A42","v":"Sour Cream"},{"$f":"Inventory!G42","v":"Dairy"}]
[{"$f":"Inventory!A43","v":"String Cheese"},{"$f":"Inventory!G43","v":"Dairy"}]
[{"$f":"Inventory!A44","v":"Yogurt"},{"$f":"Inventory!G44","v":"Dairy"}]
[{"$f":"Inventory!A45","v":"Yogurt (Plain)"},{"$f":"Inventory!G45","v":"Dairy"}]
[{"$f":"Inventory!A46","v":"Aluminum Foil"},{"$f":"Inventory!G46","v":"extra"}]
[{"$f":"Inventory!A47","v":"Candy"},{"$f":"Inventory!G47","v":"extra"}]
[{"$f":"Inventory!A48","v":"Chips"},{"$f":"Inventory!G48","v":"extra"}]
[{"$f":"Inventory!A49","v":"Chocolate Cookies"},{"$f":"Inventory!G49","v":"extra"}]
[{"$f":"Inventory!A50","v":"French Fries"},{"$f":"Inventory!G50","v":"extra"}]
[{"$f":"Inventory!A51","v":"Marshmallows"},{"$f":"Inventory!G51","v":"extra"}]
[{"$f":"Inventory!A52","v":"Paper Plates"},{"$f":"Inventory!G52","v":"extra"}]
[{"$f":"Inventory!A53","v":"Peanut Butter"},{"$f":"Inventory!G53","v":"extra"}]
[{"$f":"Inventory!A54","v":"Plastic Bowls"},{"$f":"Inventory!G54","v":"extra"}]
[{"$f":"Inventory!A55","v":"Plastic Cups"},{"$f":"Inventory!G55","v":"extra"}]
[{"$f":"Inventory!A56","v":"Plastic Wrap"},{"$f":"Inventory!G56","v":"extra"}]
[{"$f":"Inventory!A57","v":"Pop"},{"$f":"Inventory!G57","v":"extra"}]
[{"$f":"Inventory!A58","v":"Tortilla Chips"},{"$f":"Inventory!G58","v":"extra"}]
[{"$f":"Inventory!A59","v":"Wrapping Paper"},{"$f":"Inventory!G59","v":"extra"}]
[{"$f":"Inventory!A60","v":"Apple Juice"},{"$f":"Inventory!G60","v":"Fruit"}]
[{"$f":"Inventory!A61","v":"Apple Sauce"},{"$f":"Inventory!G61","v":"Fruit"}]
[{"$f":"Inventory!A62","v":"Apples"},{"$f":"Inventory!G62","v":"Fruit"}]
[{"$f":"Inventory!A63","v":"Bananas"},{"$f":"Inventory!G63","v":"Fruit"}]
[{"$f":"Inventory!A64","v":"Canned Oranges"},{"$f":"Inventory!G64","v":"Fruit"}]
[{"$f":"Inventory!A65","v":"Canned Pineapple"},{"$f":"Inventory!G65","v":"Fruit"}]
[{"$f":"Inventory!A66","v":"Frozen Fruit"},{"$f":"Inventory!G66","v":"Fruit"}]
[{"$f":"Inventory!A67","v":"Grapes"},{"$f":"Inventory!G67","v":"Fruit"}]
[{"$f":"Inventory!A68","v":"Jam"},{"$f":"Inventory!G68","v":"Fruit"}]
[{"$f":"Inventory!A69","v":"Orange Juice"},{"$f":"Inventory!G69","v":"Fruit"}]
[{"$f":"Inventory!A70","v":"Oranges"},{"$f":"Inventory!G70","v":"Fruit"}]
[{"$f":"Inventory!A71","v":"Peaches"},{"$f":"Inventory!G71","v":"Fruit"}]
[{"$f":"Inventory!A72","v":"Strawberries"},{"$f":"Inventory!G72","v":"Fruit"}]
[{"$f":"Inventory!A73","v":"Bread"},{"$f":"Inventory!G73","v":"Grain"}]
[{"$f":"Inventory!A74","v":"Cereal"},{"$f":"Inventory!G74","v":"Grain"}]
[{"$f":"Inventory!A75","v":"Crackers"},{"$f":"Inventory!G75","v":"Grain"}]
[{"$f":"Inventory!A76","v":"Graham Crackers"},{"$f":"Inventory!G76","v":"Grain"}]
[{"$f":"Inventory!A77","v":"Hamburger Buns"},{"$f":"Inventory!G77","v":"Grain"}]
[{"$f":"Inventory!A78","v":"Hotdog buns"},{"$f":"Inventory!G78","v":"Grain"}]
[{"$f":"Inventory!A79","v":"Macaroni Noodles"},{"$f":"Inventory!G79","v":"Grain"}]
[{"$f":"Inventory!A80","v":"Rice"},{"$f":"Inventory!G80","v":"Grain"}]
[{"$f":"Inventory!A81","v":"Rolls"},{"$f":"Inventory!G81","v":"Grain"}]
[{"$f":"Inventory!A82","v":"Shells (Corn)"},{"$f":"Inventory!G82","v":"Grain"}]
[{"$f":"Inventory!A83","v":"Spaghetti Noodles"},{"$f":"Inventory!G83","v":"Grain"}]
[{"$f":"Inventory!A84","v":"Tortilla (Flour)"},{"$f":"Inventory!G84","v":"Grain"}]
[{"$f":"Inventory!A85","v":"Bacon"},{"$f":"Inventory!G85","v":"Meat"}]
[{"$f":"Inventory!A86","v":"Beef Patties"},{"$f":"Inventory!G86","v":"Meat"}]
[{"$f":"Inventory!A87","v":"Bologna"},{"$f":"Inventory!G87","v":"Meat"}]
[{"$f":"Inventory!A88","v":"Chicken"},{"$f":"Inventory!G88","v":"Meat"}]
[{"$f":"Inventory!A89","v":"Chicken Can (ff)"},{"$f":"Inventory!G89","v":"Meat"}]
[{"$f":"Inventory!A90","v":"Corn Beef"},{"$f":"Inventory!G90","v":"Meat"}]
[{"$f":"Inventory!A91","v":"Ground Beef"},{"$f":"Inventory!G91","v":"Meat"}]
[{"$f":"Inventory!A92","v":"Ground Turkey"},{"$f":"Inventory!G92","v":"Meat"}]
[{"$f":"Inventory!A93","v":"Hotdogs"},{"$f":"Inventory!G93","v":"Meat"}]
[{"$f":"Inventory!A94","v":"Lunch Meat"},{"$f":"Inventory!G94","v":"Meat"}]
[{"$f":"Inventory!A95","v":"Pork"},{"$f":"Inventory!G95","v":"Meat"}]
[{"$f":"Inventory!A96","v":"Roast Beef"},{"$f":"Inventory!G96","v":"Meat"}]
[{"$f":"Inventory!A97","v":"Rotisserie Chicken"},{"$f":"Inventory!G97","v":"Meat"}]
[{"$f":"Inventory!A98","v":"Sausage"},{"$f":"Inventory!G98","v":"Meat"}]
[{"$f":"Inventory!A99","v":"Tri Tip"},{"$f":"Inventory!G99","v":"Meat"}]
[{"$f":"Inventory!A100","v":"Tuna"},{"$f":"Inventory!G100","v":"Meat"}]
[{"$f":"Inventory!A101","v":"Diapers 4"},{"$f":"Inventory!G101","v":"Toiletries"}]
[{"$f":"Inventory!A102","v":"Dishwasher Detergent"},{"$f":"Inventory!G102","v":"Toiletries"}]
[{"$f":"Inventory!A103","v":"Dryer Sheets"},{"$f":"Inventory!G103","v":"Toiletries"}]
[{"$f":"Inventory!A104","v":"Garbage Bags"},{"$f":"Inventory!G104","v":"Toiletries"}]
[{"$f":"Inventory!A105","v":"Kids Shampoo"},{"$f":"Inventory!G105","v":"Toiletries"}]
[{"$f":"Inventory!A106","v":"Kitchen Cleaner"},{"$f":"Inventory!G106","v":"Toiletries"}]
[{"$f":"Inventory!A107","v":"Laundry Detergent"},{"$f":"Inventory!G107","v":"Toiletries"}]
[{"$f":"Inventory!A108","v":"Tampons"},{"$f":"Inventory!G108","v":"Toiletries"}]
[{"$f":"Inventory!A109","v":"Toilet paper"},{"$f":"Inventory!G109","v":"Toiletries"}]
[{"$f":"Inventory!A110","v":"Toothpaste"},{"$f":"Inventory!G110","v":"Toiletries"}]
[{"$f":"Inventory!A111","v":"Wipes"},{"$f":"Inventory!G111","v":"Toiletries"}]
[{"$f":"Inventory!A112","v":"Ziploc Bags"},{"$f":"Inventory!G112","v":"Toiletries"}]
[{"$f":"Inventory!A113","v":"Avocado"},{"$f":"Inventory!G113","v":"Vegetable"}]
[{"$f":"Inventory!A114","v":"Broccoli"},{"$f":"Inventory!G114","v":"Vegetable"}]
[{"$f":"Inventory!A115","v":"Cabbage"},{"$f":"Inventory!G115","v":"Vegetable"}]
[{"$f":"Inventory!A116","v":"Carrots"},{"$f":"Inventory!G116","v":"Vegetable"}]
[{"$f":"Inventory!A117","v":"Celery"},{"$f":"Inventory!G117","v":"Vegetable"}]
[{"$f":"Inventory!A118","v":"Cilantro"},{"$f":"Inventory!G118","v":"Vegetable"}]
[{"$f":"Inventory!A119","v":"Cole Slaw"},{"$f":"Inventory!G119","v":"Vegetable"}]
[{"$f":"Inventory!A120","v":"Corn"},{"$f":"Inventory!G120","v":"Vegetable"}]
[{"$f":"Inventory!A121","v":"Cucumbers"},{"$f":"Inventory!G121","v":"Vegetable"}]
[{"$f":"Inventory!A122","v":"Green Beans"},{"$f":"Inventory!G122","v":"Vegetable"}]
[{"$f":"Inventory!A123","v":"Kale"},{"$f":"Inventory!G123","v":"Vegetable"}]
[{"$f":"Inventory!A124","v":"Lettuce"},{"$f":"Inventory!G124","v":"Vegetable"}]
[{"$f":"Inventory!A125","v":"Lime"},{"$f":"Inventory!G125","v":"Vegetable"}]
[{"$f":"Inventory!A126","v":"Lime Juice"},{"$f":"Inventory!G126","v":"Vegetable"}]
[{"$f":"Inventory!A127","v":"Onion"},{"$f":"Inventory!G127","v":"Vegetable"}]
[{"$f":"Inventory!A128","v":"Potato Salad"},{"$f":"Inventory!G128","v":"Vegetable"}]
[{"$f":"Inventory!A129","v":"Potatoes"},{"$f":"Inventory!G129","v":"Vegetable"}]
[{"$f":"Inventory!A130","v":"Red Onion"},{"$f":"Inventory!G130","v":"Vegetable"}]
[{"$f":"Inventory!A131","v":"Red Pepper"},{"$f":"Inventory!G131","v":"Vegetable"}]
[{"$f":"Inventory!A132","v":"Salad Mix"},{"$f":"Inventory!G132","v":"Vegetable"}]
[{"$f":"Inventory!A133","v":"Vine Ripe Tomatoes"},{"$f":"Inventory!G133","v":"Vegetable"}]
[{"$f":"Inventory!A134","v":"BBQ Sauce"},{"$f":"Inventory!G134","v":"Condiments"}]
[{"$f":"Inventory!A135","v":"Fish"},{"$f":"Inventory!G135","v":"Meat"}]
[{"$f":"Inventory!A136","v":"Garlic Salt"},{"$f":"Inventory!G136","v":"Condiments"}]
[{"$f":"Inventory!A137","v":"Garlic"},{"$f":"Inventory!G137","v":"Condiments"}]
[{"$f":"Inventory!A138","v":"Salt"},{"$f":"Inventory!G138","v":"Condiments"},2.0833299999999999E-2,null,1.041665E-2,null,1.041665E-2]
[{"$f":"Inventory!A139","v":"Flour"},{"$f":"Inventory!G139","v":"Baking"},2.5,null,2.5,2.0625,2.5]
[{"$f":"Inventory!A140","v":"Sugar"},{"$f":"Inventory!G140","v":"Baking"},0.75,1.125,1,2,0.26041665000000003]
[{"$f":"Inventory!A141","v":"Yeast"},{"$f":"Inventory!G141","v":"Baking"},null,null,null,null,1]
[{"$f":"Inventory!A142","v":"White Vinegar"},{"$f":"Inventory!G142","v":"Baking"}]
[{"$f":"Inventory!A143","v":"Baking Powder"},{"$f":"Inventory!G143","v":"Baking"},null,null,6.25E-2,1.041665E-2]
[{"$f":"Inventory!A144","v":"Baking Soda"},{"$f":"Inventory!G144","v":"Baking"},2.0833299999999999E-2]
[{"$f":"Inventory!A145","v":"Brown Sugar"},{"$f":"Inventory!G145","v":"Baking"},0.75,null,null,null,0.75]
[{"$f":"Inventory!A146","v":"Vanilla"},{"$f":"Inventory!G146","v":"Baking"},2.0833299999999999E-2,9.375E-2,4.1666599999999998E-2]
[{"$f":"Inventory!A147","v":"Garlic Powder"},{"$f":"Inventory!G147","v":"Baking"}]
[{"$f":"Inventory!A148","v":"Pepper"},{"$f":"Inventory!G148","v":"Baking"}]
[{"$f":"Inventory!A149","v":"Egg Noodles"},{"$f":"Inventory!G149","v":"Grain"}]
[{"$f":"Inventory!A150","v":"Cocoa Powder"},{"$f":"Inventory!G150","v":"Baking"}]
[{"$f":"Inventory!A151","v":"Sweet Chocolate Chips"},{"$f":"Inventory!G151","v":"Baking"},2]
[{"$f":"Inventory!A152","v":"Chicken-Broth"},{"$f":"Inventory!G152","v":"Canned"}]
[{"$f":"Inventory!A153","v":"Velveeta"},{"$f":"Inventory!G153","v":"Dairy"}]
[{"$f":"Inventory!A154","v":"Cornstarch"},{"$f":"Inventory!G154","v":"Baking"}]
[{"$f":"Inventory!A155","v":"Water"},{"$f":"Inventory!G155","v":"Dairy"},null,null,null,null,0.21875]
[{"$f":"Inventory!A156","v":"Chili Powder"},{"$f":"Inventory!G156","v":"Baking"}]
[{"$f":"Inventory!A157","v":"Paprika"},{"$f":"Inventory!G157","v":"Baking"}]
[{"$f":"Inventory!A158","v":"Onion Powder"},{"$f":"Inventory!G158","v":"Baking"}]
[{"$f":"Inventory!A159","v":"Cumin"},{"$f":"Inventory!G159","v":"Baking"}]
[{"$f":"Inventory!A160","v":"Cayenne Pepper"},{"$f":"Inventory!G160","v":"Baking"}]
[{"$f":"Inventory!A161","v":"Red Bell Pepper"},{"$f":"Inventory!G161","v":"Vegetable"}]
[{"$f":"Inventory!A162","v":"Green Bell Pepper"},{"$f":"Inventory!G162","v":"Vegetable"}]
[{"$f":"Inventory!A163","v":"Olive Oil"},{"$f":"Inventory!G163","v":"Baking"}]
[{"$f":"Inventory!A164","v":"Mapleine"},{"$f":"Inventory!G164","v":"Baking"}]
[{"$f":"Inventory!A165","v":"Body Wash"},{"$f":"Inventory!G165","v":"extra"}]
[{"$f":"Inventory!A166","v":"Hand Wash"},{"$f":"Inventory!G166","v":"extra"}]
[{"$f":"Inventory!A167","v":"Dish Detergent"},{"$f":"Inventory!G167","v":"extra"}]
[{"$f":"Inventory!A168","v":"Cream Cheese"},{"$f":"Inventory!G168","v":"Dairy"}]
[{"$f":"Inventory!A169","v":"Lemon Juice"},{"$f":"Inventory!G169","v":"Vegetable"},null,null,null,0.375]
[{"$f":"Inventory!A170","v":"Powdered Sugar"},{"$f":"Inventory!G170","v":"Baking"},null,null,null,0.5]
[{"$f":"Inventory!A171","v":"Turkey (whole)"},{"$f":"Inventory!G171","v":"Meat"}]
[{"$f":"Inventory!A172","v":"Soy Sauce"},{"$f":"Inventory!G172","v":"Condiments"}]
[{"$f":"Inventory!A173","v":"Worcestershire Sauce"},{"$f":"Inventory!G173","v":"Condiments"}]
[{"$f":"Inventory!A174","v":"Ginger"},{"$f":"Inventory!G174","v":"Vegetable"}]
[{"$f":"Inventory!A175","v":"Oregano"},{"$f":"Inventory!G175","v":"Condiments"}]
[{"$f":"Inventory!A176","v":"Chicken Bouillon"},{"$f":"Inventory!G176","v":"Baking"}]
[{"$f":"Inventory!A177","v":"Evaporated Milk"},{"$f":"Inventory!G177","v":"Dairy"}]
[{"$f":"Inventory!A178","v":"Plastic Silverwear"},{"$f":"Inventory!G178","v":"extra"}]
[{"$f":"Inventory!A179","v":"Green Onions"},{"$f":"Inventory!G179","v":"Vegetable"}]
[{"$f":"Inventory!A180","v":"Bread Crumbs"},{"$f":"Inventory!G180","v":"Baking"}]
[{"$f":"Inventory!A181","v":"Parsley"},{"$f":"Inventory!G181","v":"Baking"}]
[{"$f":"Inventory!A182","v":"Cinnamon"},{"$f":"Inventory!G182","v":"Baking"},null,null,3.1249949999999999E-2,null,2.0833299999999999E-2]
[{"$f":"Inventory!A183","v":"Nutmeg"},{"$f":"Inventory!G183","v":"Baking"},null,null,5.2083249999999998E-3]
[{"$f":"Inventory!A184","v":"Vegetable Oil"},{"$f":"Inventory!G184","v":"Baking"},null,null,8]
[{"$f":"Inventory!A185","v":"Apple Cider Vinegar"},{"$f":"Inventory!G185","v":"Baking"}]
[{"$f":"Inventory!A186","v":"Honey"},{"$f":"Inventory!G186","v":"Baking"}]
[{"$f":"Inventory!A187","v":"Hot Sauce"},{"$f":"Inventory!G187","v":"Condiments"}]
[{"$f":"Inventory!A188","v":"Lemon"},{"$f":"Inventory!G188","v":"Fruit"},null,null,null,1]
[{"$f":"Inventory!A189","v":"Peas (Can)"},{"$f":"Inventory!G189","v":"Vegetable"}]
[{"$f":"Inventory!A190","v":"Almond Milk"},{"$f":"Inventory!G190","v":"Dairy"}]
[{"$f":"Inventory!A191","v":"Chuck Steak"},{"$f":"Inventory!G191","v":"Meat"}]
[{"$f":"Inventory!A192","v":"Beef Broth"},{"$f":"Inventory!G192","v":"Baking"}]
[{"$f":"Inventory!A193","v":"Wax Paper"},{"$f":"Inventory!G193","v":"extra"}]
[{"$f":"Inventory!A194","v":"Parchment Paper"},{"$f":"Inventory!G194","v":"extra"}]
[{"$f":"Inventory!A195","v":"Buffalo Wing Sauce"},{"$f":"Inventory!G195","v":"Baking"}]
[{"$f":"Inventory!A196","v":"Ranch Salad Dressing Mix"},{"$f":"Inventory!G196","v":"Condiments"}]
[{"$f":"Inventory!A197","v":"Kidney Beans"},{"$f":"Inventory!G197","v":"Vegetable"}]
[{"$f":"Inventory!A198","v":"Spinach"},{"$f":"Inventory!G198","v":"Vegetable"}]
[{"$f":"Inventory!A199","v":"Zucchini"},{"$f":"Inventory!G199","v":"Vegetable"}]
[{"$f":"Inventory!A200","v":"Basil"},{"$f":"Inventory!G200","v":"Baking"}]
[{"$f":"Inventory!A201","v":"Seashell Pasta"},{"$f":"Inventory!G201","v":"Grain"}]
[{"$f":"Inventory!A202","v":"(28 ounce) Can Crushed Tomatoes"},{"$f":"Inventory!G202","v":"Canned"}]
[{"$f":"Inventory!A203","v":"(6 ounce) Can Tomato Paste"},{"$f":"Inventory!G203","v":"Canned"}]
[{"$f":"Inventory!A204","v":"Fennel Seeds"},{"$f":"Inventory!G204","v":"Baking"}]
[{"$f":"Inventory!A205","v":"Lasagna Noodles"},{"$f":"Inventory!G205","v":"Grain"}]
[{"$f":"Inventory!A206","v":"Ricotta Cheese"},{"$f":"Inventory!G206","v":"Dairy"}]
[{"$f":"Inventory!A207","v":"Mozzarella Cheese"},{"$f":"Inventory!G207","v":"Dairy"}]
[{"$f":"Inventory!A208","v":"Light Corn Syrup"},{"$f":"Inventory!G208","v":"Baking"},null,null,null,null,0.125]
[{"$f":"Inventory!A209","v":"Pecans"},{"$f":"Inventory!G209","v":"Baking"},null,null,null,null,0.5]
[{"$f":"Inventory!A210","v":0},{"$f":"Inventory!G210","v":0}]
[{"$f":"Inventory!A211","v":0},{"$f":"Inventory!G211","v":0}]
[{"$f":"Inventory!A212","v":0},{"$f":"Inventory!G212","v":0}]
[{"$f":"Inventory!A213","v":0},{"$f":"Inventory!G213","v":0}]
[{"$f":"Inventory!A214","v":0},{"$f":"Inventory!G214","v":0}]
[{"$f":"Inventory!A215","v":0},{"$f":"Inventory!G215","v":0}]
[{"$f":"Inventory!A216","v":0},{"$f":"Inventory!G216","v":0}]
[{"$f":"Inventory!A217","v":0},{"$f":"Inventory!G217","v":0}]
[{"$f":"Inventory!A218","v":0},{"$f":"Inventory!G218","v":0}]
[{"$f":"Inventory!A219","v":0},{"$f":"Inventory!G219","v":0}]
[{"$f":"Inventory!A220","v":0},{"$f":"Inventory!G220","v":0}]
[{"$f":"Inventory!A221","v":0},{"$f":"Inventory!G221","v":0}]
[{"$f":"Inventory!A222","v":0},{"$f":"Inventory!G222","v":0}]
[{"$f":"Inventory!A223","v":0},{"$f":"Inventory!G223","v":0}]
[{"$f":"Inventory!A224","v":0},{"$f":"Inventory!G224","v":0}]
[{"$f":"Inventory!A225","v":0},{"$f":"Inventory!G225","v":0}]
[{"$f":"Inventory!A226","v":0},{"$f":"Inventory!G226","v":0}]
[{"$f":"Inventory!A227","v":0},{"$f":"Inventory!G227","v":0}]
[{"$f":"Inventory!A228","v":0},{"$f":"Inventory!G228","v":0}]
[{"$f":"Inventory!A229","v":0},{"$f":"Inventory!G229","v":0}]
[{"$f":"Inventory!A230","v":0},{"$f":"Inventory!G230","v":0}]
[{"$f":"Inventory!A231","v":0},{"$f":"Inventory!G231","v":0}]
[{"$f":"Inventory!A232","v":0},{"$f":"Inventory!G232","v":0}]
[{"$f":"Inventory!A233","v":0},{"$f":"Inventory!G233","v":0}]
[{"$f":"Inventory!A234","v":0},{"$f":"Inventory!G234","v":0}]
[{"$f":"Inventory!A235","v":0},{"$f":"Inventory!G235","v":0}]
[{"$f":"Inventory!A236","v":0},{"$f":"Inventory!G236","v":0}]
[{"$f":"Inventory!A237","v":0},{"$f":"Inventory!G237","v":0}]
[{"$f":"Inventory!A238","v":0},{"$f":"Inventory!G238","v":0}]
[{"$f":"Inventory!A239","v":0},{"$f":"Inventory!G239","v":0}]
[{"$f":"Inventory!A240","v":0},{"$f":"Inventory!G240","v":0}]
[{"$f":"Inventory!A241","v":0},{"$f":"Inventory!G241","v":0}]
[{"$f":"Inventory!A242","v":0},{"$f":"Inventory!G242","v":0}]
[{"$f":"Inventory!A243","v":0},{"$f":"Inventory!G243","v":0}]
[{"$f":"Inventory!A244","v":0},{"$f":"Inventory!G244","v":0}]
[{"$f":"Inventory!A245","v":0},{"$f":"Inventory!G245","v":0}]
[{"$f":"Inventory!A246","v":0},{"$f":"Inventory!G246","v":0}]
[{"$f":"Inventory!A247","v":0},{"$f":"Inventory!G247","v":0}]
[{"$f":"Inventory!A248","v":0},{"$f":"Inventory!G248","v":0}]
[{"$f":"Inventory!A249","v":0},{"$f":"Inventory!G249","v":0}]
[{"$f":"Inventory!A250","v":0},{"$f":"Inventory!G250","v":0}]
[{"$f":"Inventory!A251","v":0},{"$f":"Inventory!G251","v":0}]
[{"$f":"Inventory!A252","v":0},{"$f":"Inventory!G252","v":0}]
[{"$f":"Inventory!A253","v":0},{"$f":"Inventory!G253","v":0}]
[{"$f":"Inventory!A254","v":0},{"$f":"Inventory!G254","v":0}]
[{"$f":"Inventory!A255","v":0},{"$f":"Inventory!G255","v":0}]
[{"$f":"Inventory!A256","v":0},{"$f":"Inventory!G256","v":0}]
[{"$f":"Inventory!A257","v":0},{"$f":"Inventory!G257","v":0}]
[{"$f":"Inventory!A258","v":0},{"$f":"Inventory!G258","v":0}]
[{"$f":"Inventory!A259","v":0},{"$f":"Inventory!G259","v":0}]
[{"$f":"Inventory!A260","v":0},{"$f":"Inventory!G260","v":0}]
[{"$f":"Inventory!A261","v":0},{"$f":"Inventory!G261","v":0}]
[{"$f":"Inventory!A262","v":0},{"$f":"Inventory!G262","v":0}]
[{"$f":"Inventory!A263","v":0},{"$f":"Inventory!G263","v":0}]
[{"$f":"Inventory!A264","v":0},{"$f":"Inventory!G264","v":0}]
[{"$f":"Inventory!A265","v":0},{"$f":"Inventory!G265","v":0}]
[{"$f":"Inventory!A266","v":0},{"$f":"Inventory!G266","v":0}]
[{"$f":"Inventory!A267","v":0},{"$f":"Inventory!G267","v":0}]
[{"$f":"Inventory!A268","v":0},{"$f":"Inventory!G268","v":0}]
[{"$f":"Inventory!A269","v":0},{"$f":"Inventory!G269","v":0}]
[{"$f":"Inventory!A270","v":0},{"$f":"Inventory!G270","v":0}]
[{"$f":"Inventory!A271","v":0},{"$f":"Inventory!G271","v":0}]
[{"$f":"Inventory!A272","v":0},{"$f":"Inventory!G272","v":0}]
[{"$f":"Inventory!A273","v":0},{"$f":"Inventory!G273","v":0}]
[{"$f":"Inventory!A274","v":0},{"$f":"Inventory!G274","v":0}]
[{"$f":"Inventory!A275","v":0},{"$f":"Inventory!G275","v":0}]
[{"$f":"Inventory!A276","v":0},{"$f":"Inventory!G276","v":0}]
[{"$f":"Inventory!A277","v":0},{"$f":"Inventory!G277","v":0}]
[{"$f":"Inventory!A278","v":0},{"$f":"Inventory!G278","v":0}]
[{"$f":"Inventory!A279","v":0},{"$f":"Inventory!G279","v":0}]
[{"$f":"Inventory!A280","v":0},{"$f":"Inventory!G280","v":0}]
[{"$f":"Inventory!A281","v":0},{"$f":"Inventory!G281","v":0}]
[{"$f":"Inventory!A282","v":0},{"$f":"Inventory!G282","v":0}]
[{"$f":"Inventory!A283","v":0},{"$f":"Inventory!G283","v":0}]
[{"$f":"Inventory!A284","v":0},{"$f":"Inventory!G284","v":0}]
[{"$f":"Inventory!A285","v":0},{"$f":"Inventory!G285","v":0}]
[{"$f":"Inventory!A286","v":0},{"$f":"Inventory!G286","v":0}]
[{"$f":"Inventory!A287","v":0},{"$f":"Inventory!G287","v":0}]
[{"$f":"Inventory!A288","v":0},{"$f":"Inventory!G288","v":0}]
[{"$f":"Inventory!A289","v":0},{"$f":"Inventory!G289","v":0}]
[{"$f":"Inventory!A290","v":0},{"$f":"Inventory!G290","v":0}]
[{"$f":"Inventory!A291","v":0},{"$f":"Inventory!G291","v":0}]
[{"$f":"Inventory!A292","v":0},{"$f":"Inventory!G292","v":0}]
[{"$f":"Inventory!A293","v":0},{"$f":"Inventory!G293","v":0}]
[{"$f":"Inventory!A294","v":0},{"$f":"Inventory!G294","v":0}]
[{"$f":"Inventory!A295","v":0},{"$f":"Inventory!G295","v":0}]
[{"$f":"Inventory!A296","v":0},{"$f":"Inventory!G296","v":0}]
[{"$f":"Inventory!A297","v":0},{"$f":"Inventory!G297","v":0}]
[{"$f":"Inventory!A298","v":0},{"$f":"Inventory!G298","v":0}]
[{"$f":"Inventory!A299","v":0},{"$f":"Inventory!G299","v":0}]
[{"$f":"Inventory!A300","v":0},{"$f":"Inventory!G300","v":0}]
[{"$f":"Inventory!A301","v":0},{"$f":"Inventory!G301","v":0}]
[{"$f":"Inventory!A302","v":0},{"$f":"Inventory!G302","v":0}]
[{"$f":"Inventory!A303","v":0},{"$f":"Inventory!G303","v":0}]
[{"$f":"Inventory!A304","v":0},{"$f":"Inventory!G304","v":0}]
[{"$f":"Inventory!A305","v":0},{"$f":"Inventory!G305","v":0}]
[{"$f":"Inventory!A306","v":0},{"$f":"Inventory!G306","v":0}]
[{"$f":"Inventory!A307","v":0},{"$f":"Inventory!G307","v":0}]
[{"$f":"Inventory!A308","v":0},{"$f":"Inventory!G308","v":0}]
[{"$f":"Inventory!A309","v":0},{"$f":"Inventory!G309","v":0}]
[{"$f":"Inventory!A310","v":0},{"$f":"Inventory!G310","v":0}]
[{"$f":"Inventory!A311","v":0},{"$f":"Inventory!G311","v":0}]
[{"$f":"Inventory!A312","v":0},{"$f":"Inventory!G312","v":0}]
[{"$f":"Inventory!A313","v":0},{"$f":"Inventory!G313","v":0}]
[{"$f":"Inventory!A314","v":0},{"$f":"Inventory!G314","v":0}]
[{"$f":"Inventory!A315","v":0},{"$f":"Inventory!G315","v":0}]
[{"$f":"Inventory!A316","v":0},{"$f":"Inventory!G316","v":0}]
[{"$f":"Inventory!A317","v":0},{"$f":"Inventory!G317","v":0}]
[{"$f":"Inventory!A318","v":0},{"$f":"Inventory!G318","v":0}]
[{"$f":"Inventory!A319","v":0},{"$f":"Inventory!G319","v":0}]
[{"$f":"Inventory!A320","v":0},{"$f":"Inventory!G320","v":0}]
[{"$f":"Inventory!A321","v":0},{"$f":"Inventory!G321","v":0}]
[{"$f":"Inventory!A322","v":0},{"$f":"Inventory!G322","v":0}]
[{"$f":"Inventory!A323","v":0},{"$f":"Inventory!G323","v":0}]
[{"$f":"Inventory!A324","v":0},{"$f":"Inventory!G324","v":0}]
[{"$f":"Inventory!A325","v":0},{"$f":"Inventory!G325","v":0}]
[{"$f":"Inventory!A326","v":0},{"$f":"Inventory!G326","v":0}]
[{"$f":"Inventory!A327","v":0},{"$f":"Inventory!G327","v":0}]
[{"$f":"Inventory!A328","v":0},{"$f":"Inventory!G328","v":0}]
[{"$f":"Inventory!A329","v":0},{"$f":"Inventory!G329","v":0}]
[{"$f":"Inventory!A330","v":0},{"$f":"Inventory!G330","v":0}]
[{"$f":"Inventory!A331","v":0},{"$f":"Inventory!G331","v":0}]
[{"$f":"Inventory!A332","v":0},{"$f":"Inventory!G332","v":0}]
[{"$f":"Inventory!A333","v":0},{"$f":"Inventory!G333","v":0}]
[{"$f":"Inventory!A334","v":0},{"$f":"Inventory!G334","v":0}]
[{"$f":"Inventory!A335","v":0},{"$f":"Inventory!G335","v":0}]
[{"$f":"Inventory!A336","v":0},{"$f":"Inventory!G336","v":0}]
[{"$f":"Inventory!A337","v":0},{"$f":"Inventory!G337","v":0}]
[{"$f":"Inventory!A338","v":0},{"$f":"Inventory!G338","v":0}]
[{"$f":"Inventory!A339","v":0},{"$f":"Inventory!G339","v":0}]
[{"$f":"Inventory!A340","v":0},{"$f":"Inventory!G340","v":0}]
[{"$f":"Inventory!A341","v":0},{"$f":"Inventory!G341","v":0}]
[{"$f":"Inventory!A342","v":0},{"$f":"Inventory!G342","v":0}]
[{"$f":"Inventory!A343","v":0},{"$f":"Inventory!G343","v":0}]
[{"$f":"Inventory!A344","v":0},{"$f":"Inventory!G344","v":0}]
[{"$f":"Inventory!A345","v":0},{"$f":"Inventory!G345","v":0}]
[{"$f":"Inventory!A346","v":0},{"$f":"Inventory!G346","v":0}]
[{"$f":"Inventory!A347","v":0},{"$f":"Inventory!G347","v":0}]
[{"$f":"Inventory!A348","v":0},{"$f":"Inventory!G348","v":0}]
[{"$f":"Inventory!A349","v":0},{"$f":"Inventory!G349","v":0}]
[{"$f":"Inventory!A350","v":0},{"$f":"Inventory!G350","v":0}]
[{"$f":"Inventory!A351","v":0},{"$f":"Inventory!G351","v":0}]
[{"$f":"Inventory!A352","v":0},{"$f":"Inventory!G352","v":0}]
[{"$f":"Inventory!A353","v":0},{"$f":"Inventory!G353","v":0}]
[{"$f":"Inventory!A354","v":0},{"$f":"Inventory!G354","v":0}]
[{"$f":"Inventory!A355","v":0},{"$f":"Inventory!G355","v":0}]
[{"$f":"Inventory!A356","v":0},{"$f":"Inventory!G356","v":0}]
[{"$f":"Inventory!A357","v":0},{"$f":"Inventory!G357","v":0}]
[{"$f":"Inventory!A358","v":0},{"$f":"Inventory!G358","v":0}]
[{"$f":"Inventory!A359","v":0},{"$f":"Inventory!G359","v":0}]
[{"$f":"Inventory!A360","v":0},{"$f":"Inventory!G360","v":0}]
[{"$f":"Inventory!A361","v":0},{"$f":"Inventory!G361","v":0}]
[{"$f":"Inventory!A362","v":0},{"$f":"Inventory!G362","v":0}]
[{"$f":"Inventory!A363","v":0},{"$f":"Inventory!G363","v":0}]
[{"$f":"Inventory!A364","v":0},{"$f":"Inventory!G364","v":0}]
[{"$f":"Inventory!A365","v":0},{"$f":"Inventory!G365","v":0}]
[{"$f":"Inventory!A366","v":0},{"$f":"Inventory!G366","v":0}]
[{"$f":"Inventory!A367","v":0},{"$f":"Inventory!G367","v":0}]
[{"$f":"Inventory!A368","v":0},{"$f":"Inventory!G368","v":0}]
[{"$f":"Inventory!A369","v":0},{"$f":"Inventory!G369","v":0}]
[{"$f":"Inventory!A370","v":0},{"$f":"Inventory!G370","v":0}]
[{"$f":"Inventory!A371","v":0},{"$f":"Inventory!G371","v":0}]
[{"$f":"Inventory!A372","v":0},{"$f":"Inventory!G372","v":0}]
[{"$f":"Inventory!A373","v":0},{"$f":"Inventory!G373","v":0}]
[{"$f":"Inventory!A374","v":0},{"$f":"Inventory!G374","v":0}]
[{"$f":"Inventory!A375","v":0},{"$f":"Inventory!G375","v":0}]
[{"$f":"Inventory!A376","v":0},{"$f":"Inventory!G376","v":0}]
[{"$f":"Inventory!A377","v":0},{"$f":"Inventory!G377","v":0}]
[{"$f":"Inventory!A378","v":0},{"$f":"Inventory!G378","v":0}]
[{"$f":"Inventory!A379","v":0},{"$f":"Inventory!G379","v":0}]
[{"$f":"Inventory!A380","v":0},{"$f":"Inventory!G380","v":0}]
[{"$f":"Inventory!A381","v":0},{"$f":"Inventory!G381","v":0}]
[{"$f":"Inventory!A382","v":0},{"$f":"Inventory!G382","v":0}]
[{"$f":"Inventory!A383","v":0},{"$f":"Inventory!G383","v":0}]
[{"$f":"Inventory!A384","v":0},{"$f":"Inventory!G384","v":0}]
[{"$f":"Inventory!A385","v":0},{"$f":"Inventory!G385","v":0}]
[{"$f":"Inventory!A386","v":0},{"$f":"Inventory!G386","v":0}]
[{"$f":"Inventory!A387","v":0},{"$f":"Inventory!G387","v":0}]
[{"$f":"Inventory!A388","v":0},{"$f":"Inventory!G388","v":0}]
[{"$f":"Inventory!A389","v":0},{"$f":"Inventory!G389","v":0}]
[{"$f":"Inventory!A390","v":0},{"$f":"Inventory!G390","v":0}]
[{"$f":"Inventory!A391","v":0},{"$f":"Inventory!G391","v":0}]
[{"$f":"Inventory!A392","v":0},{"$f":"Inventory!G392","v":0}]
[{"$f":"Inventory!A393","v":0},{"$f":"Inventory!G393","v":0}]
[{"$f":"Inventory!A394","v":0},{"$f":"Inventory!G394","v":0}]
[{"$f":"Inventory!A395","v":0},{"$f":"Inventory!G395","v":0}]
[{"$f":"Inventory!A396","v":0},{"$f":"Inventory!G396","v":0}]
[{"$f":"Inventory!A397","v":0},{"$f":"Inventory!G397","v":0}]
[{"$f":"Inventory!A398","v":0},{"$f":"Inventory!G398","v":0}]
[{"$f":"Inventory!A399","v":0},{"$f":"Inventory!G399","v":0}]
[{"$f":"Inventory!A400","v":0},{"$f":"Inventory!G400","v":0}]
[{"$f":"Inventory!A401","v":0},{"$f":"Inventory!G401","v":0}]
[{"$f":"Inventory!A402","v":0},{"$f":"Inventory!G402","v":0}]
[{"$f":"Inventory!A403","v":0},{"$f":"Inventory!G403","v":0}]
[{"$f":"Inventory!A404","v":0},{"$f":"Inventory!G404","v":0}]
[{"$f":"Inventory!A405","v":0},{"$f":"Inventory!G405","v":0}]
[{"$f":"Inventory!A406","v":0},{"$f":"Inventory!G406","v":0}]
[{"$f":"Inventory!A407","v":0},{"$f":"Inventory!G407","v":0}]
[{"$f":"Inventory!A408","v":0},{"$f":"Inventory!G408","v":0}]
[{"$f":"Inventory!A409","v":0},{"$f":"Inventory!G409","v":0}]
[{"$f":"Inventory!A410","v":0},{"$f":"Inventory!G410","v":0}]
[{"$f":"Inventory!A411","v":0},{"$f":"Inventory!G411","v":0}]
[{"$f":"Inventory!A412","v":0},{"$f":"Inventory!G412","v":0}]
[{"$f":"Inventory!A413","v":0},{"$f":"Inventory!G413","v":0}]
[{"$f":"Inventory!A414","v":0},{"$f":"Inventory!G414","v":0}]
[{"$f":"Inventory!A415","v":0},{"$f":"Inventory!G415","v":0}]
[{"$f":"Inventory!A416","v":0},{"$f":"Inventory!G416","v":0}]
[{"$f":"Inventory!A417","v":0},{"$f":"Inventory!G417","v":0}]
[{"$f":"Inventory!A418","v":0},{"$f":"Inventory!G418","v":0}]
[{"$f":"Inventory!A419","v":0},{"$f":"Inventory!G419","v":0}]
[{"$f":"Inventory!A420","v":0},{"$f":"Inventory!G420","v":0}]
[{"$f":"Inventory!A421","v":0},{"$f":"Inventory!G421","v":0}]
[{"$f":"Inventory!A422","v":0},{"$f":"Inventory!G422","v":0}]
[{"$f":"Inventory!A423","v":0},{"$f":"Inventory!G423","v":0}]
[{"$f":"Inventory!A424","v":0},{"$f":"Inventory!G424","v":0}]
[{"$f":"Inventory!A425","v":0},{"$f":"Inventory!G425","v":0}]
[{"$f":"Inventory!A426","v":0},{"$f":"Inventory!G426","v":0}]
[{"$f":"Inventory!A427","v":0},{"$f":"Inventory!G427","v":0}]
[{"$f":"Inventory!A428","v":0},{"$f":"Inventory!G428","v":0}]
[{"$f":"Inventory!A429","v":0},{"$f":"Inventory!G429","v":0}]
[{"$f":"Inventory!A430","v":0},{"$f":"Inventory!G430","v":0}]
[{"$f":"Inventory!A431","v":0},{"$f":"Inventory!G431","v":0}]
[{"$f":"Inventory!A432","v":0},{"$f":"Inventory!G432","v":0}]
[{"$f":"Inventory!A433","v":0},{"$f":"Inventory!G433","v":0}]
[{"$f":"Inventory!A434","v":0},{"$f":"Inventory!G434","v":0}]
[{"$f":"Inventory!A435","v":0},{"$f":"Inventory!G435","v":0}]
[{"$f":"Inventory!A436","v":0},{"$f":"Inventory!G436","v":0}]
[{"$f":"Inventory!A437","v":0},{"$f":"Inventory!G437","v":0}]
[{"$f":"Inventory!A438","v":0},{"$f":"Inventory!G438","v":0}]
[{"$f":"Inventory!A439","v":0},{"$f":"Inventory!G439","v":0}]
[{"$f":"Inventory!A440","v":0},{"$f":"Inventory!G440","v":0}]
[{"$f":"Inventory!A441","v":0},{"$f":"Inventory!G441","v":0}]
[{"$f":"Inventory!A442","v":0},{"$f":"Inventory!G442","v":0}]
[{"$f":"Inventory!A443","v":0},{"$f":"Inventory!G443","v":0}]
[{"$f":"Inventory!A444","v":0},{"$f":"Inventory!G444","v":0}]
[{"$f":"Inventory!A445","v":0},{"$f":"Inventory!G445","v":0}]
[{"$f":"Inventory!A446","v":0},{"$f":"Inventory!G446","v":0}]
[{"$f":"Inventory!A447","v":0},{"$f":"Inventory!G447","v":0}]
[{"$f":"Inventory!A448","v":0},{"$f":"Inventory!G448","v":0}]
[{"$f":"Inventory!A449","v":0},{"$f":"Inventory!G449","v":0}]
[{"$f":"Inventory!A450","v":0},{"$f":"Inventory!G450","v":0}]
[{"$f":"Inventory!A451","v":0},{"$f":"Inventory!G451","v":0}]
[{"$f":"Inventory!A452","v":0},{"$f":"Inventory!G452","v":0}]
[{"$f":"Inventory!A453","v":0},{"$f":"Inventory!G453","v":0}]
[{"$f":"Inventory!A454","v":0},{"$f":"Inventory!G454","v":0}]
[{"$f":"Inventory!A455","v":0},{"$f":"Inventory!G455","v":0}]
[{"$f":"Inventory!A456","v":0},{"$f":"Inventory!G456","v":0}]
[{"$f":"Inventory!A457","v":0},{"$f":"Inventory!G457","v":0}]
[{"$f":"Inventory!A458","v":0},{"$f":"Inventory!G458","v":0}]
[{"$f":"Inventory!A459","v":0},{"$f":"Inventory!G459","v":0}]
[{"$f":"Inventory!A460","v":0},{"$f":"Inventory!G460","v":0}]
[{"$f":"Inventory!A461","v":0},{"$f":"Inventory!G461","v":0}]
[{"$f":"Inventory!A462","v":0},{"$f":"Inventory!G462","v":0}]
[{"$f":"Inventory!A463","v":0},{"$f":"Inventory!G463","v":0}]
[{"$f":"Inventory!A464","v":0},{"$f":"Inventory!G464","v":0}]
[{"$f":"Inventory!A465","v":0},{"$f":"Inventory!G465","v":0}]
[{"$f":"Inventory!A466","v":0},{"$f":"Inventory!G466","v":0}]
[{"$f":"Inventory!A467","v":0},{"$f":"Inventory!G467","v":0}]
[{"$f":"Inventory!A468","v":0},{"$f":"Inventory!G468","v":0}]
[{"$f":"Inventory!A469","v":0},{"$f":"Inventory!G469","v":0}]
[{"$f":"Inventory!A470","v":0},{"$f":"Inventory!G470","v":0}]
[{"$f":"Inventory!A471","v":0},{"$f":"Inventory!G471","v":0}]
[{"$f":"Inventory!A472","v":0},{"$f":"Inventory!G472","v":0}]
[{"$f":"Inventory!A473","v":0},{"$f":"Inventory!G473","v":0}]
[{"$f":"Inventory!A474","v":0},{"$f":"Inventory!G474","v":0}]
[{"$f":"Inventory!A475","v":0},{"$f":"Inventory!G475","v":0}]
[{"$f":"Inventory!A476","v":0},{"$f":"Inventory!G476","v":0}]
[{"$f":"Inventory!A477","v":0},{"$f":"Inventory!G477","v":0}]
[{"$f":"Inventory!A478","v":0},{"$f":"Inventory!G478","v":0}]
[{"$f":"Inventory!A479","v":0},{"$f":"Inventory!G479","v":0}]
[{"$f":"Inventory!A480","v":0},{"$f":"Inventory!G480","v":0}]
[{"$f":"Inventory!A481","v":0},{"$f":"Inventory!G481","v":0}]
[{"$f":"Inventory!A482","v":0},{"$f":"Inventory!G482","v":0}]
[{"$f":"Inventory!A483","v":0},{"$f":"Inventory!G483","v":0}]
[{"$f":"Inventory!A484","v":0},{"$f":"Inventory!G484","v":0}]
[{"$f":"Inventory!A485","v":0},{"$f":"Inventory!G485","v":0}]
[{"$f":"Inventory!A486","v":0},{"$f":"Inventory!G486","v":0}]
[{"$f":"Inventory!A487","v":0},{"$f":"Inventory!G487","v":0}]
[{"$f":"Inventory!A488","v":0},{"$f":"Inventory!G488","v":0}]
[{"$f":"Inventory!A489","v":0},{"$f":"Inventory!G489","v":0}]
[{"$f":"Inventory!A490","v":0},{"$f":"Inventory!G490","v":0}]
[{"$f":"Inventory!A491","v":0},{"$f":"Inventory!G491","v":0}]
[{"$f":"Inventory!A492","v":0},{"$f":"Inventory!G492","v":0}]
[{"$f":"Inventory!A493","v":0},{"$f":"Inventory!G493","v":0}]
[{"$f":"Inventory!A494","v":0},{"$f":"Inventory!G494","v":0}]
[{"$f":"Inventory!A495","v":0},{"$f":"Inventory!G495","v":0}]
[{"$f":"Inventory!A496","v":0},{"$f":"Inventory!G496","v":0}]
[{"$f":"Inventory!A497","v":0},{"$f":"Inventory!G497","v":0}]
[{"$f":"Inventory!A498","v":0},{"$f":"Inventory!G498","v":0}]
[{"$f":"Inventory!A499","v":0},{"$f":"Inventory!G499","v":0}]
[{"$f":"Inventory!A500","v":0},{"$f":"Inventory!G500","v":0}]
[{"$f":"Inventory!A501","v":0},{"$f":"Inventory!G501","v":0}]
[{"$f":"Inventory!A502","v":0},{"$f":"Inventory!G502","v":0}]
[{"$f":"Inventory!A503","v":0},{"$f":"Inventory!G503","v":0}]
[{"$f":"Inventory!A504","v":0},{"$f":"Inventory!G504","v":0}]
[{"$f":"Inventory!A505","v":0},{"$f":"Inventory!G505","v":0}]
[{"$f":"Inventory!A506","v":0},{"$f":"Inventory!G506","v":0}]
[{"$f":"Inventory!A507","v":0},{"$f":"Inventory!G507","v":0}]
[{"$f":"Inventory!A508","v":0},{"$f":"Inventory!G508","v":0}]
[{"$f":"Inventory!A509","v":0},{"$f":"Inventory!G509","v":0}]
[{"$f":"Inventory!A510","v":0},{"$f":"Inventory!G510","v":0}]
[{"$f":"Inventory!A511","v":0},{"$f":"Inventory!G511","v":0}]
[{"$f":"Inventory!A512","v":0},{"$f":"Inventory!G512","v":0}]
[{"$f":"Inventory!A513","v":0},{"$f":"Inventory!G513","v":0}]
[{"$f":"Inventory!A514","v":0},{"$f":"Inventory!G514","v":0}]
[{"$f":"Inventory!A515","v":0},{"$f":"Inventory!G515","v":0}]
[{"$f":"Inventory!A516","v":0},{"$f":"Inventory!G516","v":0}]
[{"$f":"Inventory!A517","v":0},{"$f":"Inventory!G517","v":0}]
[{"$f":"Inventory!A518","v":0},{"$f":"Inventory!G518","v":0}]
[{"$f":"Inventory!A519","v":0},{"$f":"Inventory!G519","v":0}]
[{"$f":"Inventory!A520","v":0},{"$f":"Inventory!G520","v":0}]
[{"$f":"Inventory!A521","v":0},{"$f":"Inventory!G521","v":0}]
[{"$f":"Inventory!A522","v":0},{"$f":"Inventory!G522","v":0}]
[{"$f":"Inventory!A523","v":0},{"$f":"Inventory!G523","v":0}]
[{"$f":"Inventory!A524","v":0},{"$f":"Inventory!G524","v":0}]
[{"$f":"Inventory!A525","v":0},{"$f":"Inventory!G525","v":0}]
[{"$f":"Inventory!A526","v":0},{"$f":"Inventory!G526","v":0}]
[{"$f":"Inventory!A527","v":0},{"$f":"Inventory!G527","v":0}]
[{"$f":"Inventory!A528","v":0},{"$f":"Inventory!G528","v":0}]
[{"$f":"Inventory!A529","v":0},{"$f":"Inventory!G529","v":0}]
[{"$f":"Inventory!A530","v":0},{"$f":"Inventory!G530","v":0}]
[{"$f":"Inventory!A531","v":0},{"$f":"Inventory!G531","v":0}]
[{"$f":"Inventory!A532","v":0},{"$f":"Inventory!G532","v":0}]
[{"$f":"Inventory!A533","v":0},{"$f":"Inventory!G533","v":0}]
[{"$f":"Inventory!A534","v":0},{"$f":"Inventory!G534","v":0}]
[{"$f":"Inventory!A535","v":0},{"$f":"Inventory!G535","v":0}]
[{"$f":"Inventory!A536","v":0},{"$f":"Inventory!G536","v":0}]
[{"$f":"Inventory!A537","v":0},{"$f":"Inventory!G537","v":0}]
[{"$f":"Inventory!A538","v":0},{"$f":"Inventory!G538","v":0}]
[{"$f":"Inventory!A539","v":0},{"$f":"Inventory!G539","v":0}]
[{"$f":"Inventory!A540","v":0},{"$f":"Inventory!G540","v":0}]
[{"$f":"Inventory!A541","v":0},{"$f":"Inventory!G541","v":0}]
[{"$f":"Inventory!A542","v":0},{"$f":"Inventory!G542","v":0}]
[{"$f":"Inventory!A543","v":0},{"$f":"Inventory!G543","v":0}]
[{"$f":"Inventory!A544","v":0},{"$f":"Inventory!G544","v":0}]
[{"$f":"Inventory!A545","v":0},{"$f":"Inventory!G545","v":0}]
[{"$f":"Inventory!A546","v":0},{"$f":"Inventory!G546","v":0}]
[{"$f":"Inventory!A547","v":0},{"$f":"Inventory!G547","v":0}]
[{"$f":"Inventory!A548","v":0},{"$f":"Inventory!G548","v":0}]
[{"$f":"Inventory!A549","v":0},{"$f":"Inventory!G549","v":0}]
[{"$f":"Inventory!A550","v":0},{"$f":"Inventory!G550","v":0}]
[{"$f":"Inventory!A551","v":0},{"$f":"Inventory!G551","v":0}]
[{"$f":"Inventory!A552","v":0},{"$f":"Inventory!G552","v":0}]
[{"$f":"Inventory!A553","v":0},{"$f":"Inventory!G553","v":0}]
[{"$f":"Inventory!A554","v":0},{"$f":"Inventory!G554","v":0}]
[{"$f":"Inventory!A555","v":0},{"$f":"Inventory!G555","v":0}]
[{"$f":"Inventory!A556","v":0},{"$f":"Inventory!G556","v":0}]
[{"$f":"Inventory!A557","v":0},{"$f":"Inventory!G557","v":0}]
[{"$f":"Inventory!A558","v":0},{"$f":"Inventory!G558","v":0}]
[{"$f":"Inventory!A559","v":0},{"$f":"Inventory!G559","v":0}]
[{"$f":"Inventory!A560","v":0},{"$f":"Inventory!G560","v":0}]
[{"$f":"Inventory!A561","v":0},{"$f":"Inventory!G561","v":0}]
[{"$f":"Inventory!A562","v":0},{"$f":"Inventory!G562","v":0}]
[{"$f":"Inventory!A563","v":0},{"$f":"Inventory!G563","v":0}]
[{"$f":"Inventory!A564","v":0},{"$f":"Inventory!G564","v":0}]
[{"$f":"Inventory!A565","v":0},{"$f":"Inventory!G565","v":0}]
[{"$f":"Inventory!A566","v":0},{"$f":"Inventory!G566","v":0}]
[{"$f":"Inventory!A567","v":0},{"$f":"Inventory!G567","v":0}]
[{"$f":"Inventory!A568","v":0},{"$f":"Inventory!G568","v":0}]
[{"$f":"Inventory!A569","v":0},{"$f":"Inventory!G569","v":0}]
[{"$f":"Inventory!A570","v":0},{"$f":"Inventory!G570","v":0}]
[{"$f":"Inventory!A571","v":0},{"$f":"Inventory!G571","v":0}]
[{"$f":"Inventory!A572","v":0},{"$f":"Inventory!G572","v":0}]
[{"$f":"Inventory!A573","v":0},{"$f":"Inventory!G573","v":0}]
[{"$f":"Inventory!A574","v":0},{"$f":"Inventory!G574","v":0}]
[{"$f":"Inventory!A575","v":0},{"$f":"Inventory!G575","v":0}]
[{"$f":"Inventory!A576","v":0},{"$f":"Inventory!G576","v":0}]
[{"$f":"Inventory!A577","v":0},{"$f":"Inventory!G577","v":0}]
[{"$f":"Inventory!A578","v":0},{"$f":"Inventory!G578","v":0}]
[{"$f":"Inventory!A579","v":0},{"$f":"Inventory!G579","v":0}]
[{"$f":"Inventory!A580","v":0},{"$f":"Inventory!G580","v":0}]
[{"$f":"Inventory!A581","v":0},{"$f":"Inventory!G581","v":0}]
[{"$f":"Inventory!A582","v":0},{"$f":"Inventory!G582","v":0}]
[{"$f":"Inventory!A583","v":0},{"$f":"Inventory!G583","v":0}]
[{"$f":"Inventory!A584","v":0},{"$f":"Inventory!G584","v":0}]
[{"$f":"Inventory!A585","v":0},{"$f":"Inventory!G585","v":0}]
[{"$f":"Inventory!A586","v":0},{"$f":"Inventory!G586","v":0}]
[{"$f":"Inventory!A587","v":0},{"$f":"Inventory!G587","v":0}]
[{"$f":"Inventory!A588","v":0},{"$f":"Inventory!G588","v":0}]
[{"$f":"Inventory!A589","v":0},{"$f":"Inventory!G589","v":0}]
[{"$f":"Inventory!A590","v":0},{"$f":"Inventory!G590","v":0}]
[{"$f":"Inventory!A591","v":0},{"$f":"Inventory!G591","v":0}]
[{"$f":"Inventory!A592","v":0},{"$f":"Inventory!G592","v":0}]
[{"$f":"Inventory!A593","v":0},{"$f":"Inventory!G593","v":0}]
[{"$f":"Inventory!A594","v":0},{"$f":"Inventory!G594","v":0}]
[{"$f":"Inventory!A595","v":0},{"$f":"Inventory!G595","v":0}]
[{"$f":"Inventory!A596","v":0},{"$f":"Inventory!G596","v":0}]
[{"$f":"Inventory!A597","v":0},{"$f":"Inventory!G597","v":0}]
[{"$f":"Inventory!A598","v":0},{"$f":"Inventory!G598","v":0}]
[{"$f":"Inventory!A599","v":0},{"$f":"Inventory!G599","v":0}]
[{"$f":"Inventory!A600","v":0},{"$f":"Inventory!G600","v":0}]
[{"$f":"Inventory!A601","v":0},{"$f":"Inventory!G601","v":0}]
[{"$f":"Inventory!A602","v":0},{"$f":"Inventory!G602","v":0}]
[{"$f":"Inventory!A603","v":0},{"$f":"Inventory!G603","v":0}]
[{"$f":"Inventory!A604","v":0},{"$f":"Inventory!G604","v":0}]
[{"$f":"Inventory!A605","v":0},{"$f":"Inventory!G605","v":0}]
[{"$f":"Inventory!A606","v":0},{"$f":"Inventory!G606","v":0}]
[{"$f":"Inventory!A607","v":0},{"$f":"Inventory!G607","v":0}]
[{"$f":"Inventory!A608","v":0},{"$f":"Inventory!G608","v":0}]
[{"$f":"Inventory!A609","v":0},{"$f":"Inventory!G609","v":0}]
[{"$f":"Inventory!A610","v":0},{"$f":"Inventory!G610","v":0}]
[{"$f":"Inventory!A611","v":0},{"$f":"Inventory!G611","v":0}]
[{"$f":"Inventory!A612","v":0},{"$f":"Inventory!G612","v":0}]
[{"$f":"Inventory!A613","v":0},{"$f":"Inventory!G613","v":0}]
[{"$f":"Inventory!A614","v":0},{"$f":"Inventory!G614","v":0}]
[{"$f":"Inventory!A615","v":0},{"$f":"Inventory!G615","v":0}]
[{"$f":"Inventory!A616","v":0},{"$f":"Inventory!G616","v":0}]
[{"$f":"Inventory!A617","v":0},{"$f":"Inventory!G617","v":0}]
[{"$f":"Inventory!A618","v":0},{"$f":"Inventory!G618","v":0}]
[{"$f":"Inventory!A619","v":0},{"$f":"Inventory!G619","v":0}]
[{"$f":"Inventory!A620","v":0},{"$f":"Inventory!G620","v":0}]
[{"$f":"Inventory!A621","v":0},{"$f":"Inventory!G621","v":0}]
[{"$f":"Inventory!A622","v":0},{"$f":"Inventory!G622","v":0}]
[{"$f":"Inventory!A623","v":0},{"$f":"Inventory!G623","v":0}]
[{"$f":"Inventory!A624","v":0},{"$f":"Inventory!G624","v":0}]
[{"$f":"Inventory!A625","v":0},{"$f":"Inventory!G625","v":0}]
[{"$f":"Inventory!A626","v":0},{"$f":"Inventory!G626","v":0}]
[{"$f":"Inventory!A627","v":0},{"$f":"Inventory!G627","v":0}]
[{"$f":"Inventory!A628","v":0},{"$f":"Inventory!G628","v":0}]
[{"$f":"Inventory!A629","v":0},{"$f":"Inventory!G629","v":0}]
[{"$f":"Inventory!A630","v":0},{"$f":"Inventory!G630","v":0}]
[{"$f":"Inventory!A631","v":0},{"$f":"Inventory!G631","v":0}]
[{"$f":"Inventory!A632","v":0},{"$f":"Inventory!G632","v":0}]
[{"$f":"Inventory!A633","v":0},{"$f":"Inventory!G633","v":0}]
[{"$f":"Inventory!A634","v":0},{"$f":"Inventory!G634","v":0}]
[{"$f":"Inventory!A635","v":0},{"$f":"Inventory!G635","v":0}]
[{"$f":"Inventory!A636","v":0},{"$f":"Inventory!G636","v":0}]
[{"$f":"Inventory!A637","v":0},{"$f":"Inventory!G637","v":0}]
[{"$f":"Inventory!A638","v":0},{"$f":"Inventory!G638","v":0}]
[{"$f":"Inventory!A639","v":0},{"$f":"Inventory!G639","v":0}]
[{"$f":"Inventory!A640","v":0},{"$f":"Inventory!G640","v":0}]
[{"$f":"Inventory!A641","v":0},{"$f":"Inventory!G641","v":0}]
[{"$f":"Inventory!A642","v":0},{"$f":"Inventory!G642","v":0}]
[{"$f":"Inventory!A643","v":0},{"$f":"Inventory!G643","v":0}]
[{"$f":"Inventory!A644","v":0},{"$f":"Inventory!G644","v":0}]
[{"$f":"Inventory!A645","v":0},{"$f":"Inventory!G645","v":0}]
[{"$f":"Inventory!A646","v":0},{"$f":"Inventory!G646","v":0}]
[{"$f":"Inventory!A647","v":0},{"$f":"Inventory!G647","v":0}]
[{"$f":"Inventory!A648","v":0},{"$f":"Inventory!G648","v":0}]
[{"$f":"Inventory!A649","v":0},{"$f":"Inventory!G649","v":0}]
[{"$f":"Inventory!A650","v":0},{"$f":"Inventory!G650","v":0}]
[{"$f":"Inventory!A651","v":0},{"$f":"Inventory!G651","v":0}]
[{"$f":"Inventory!A652","v":0},{"$f":"Inventory!G652","v":0}]
[{"$f":"Inventory!A653","v":0},{"$f":"Inventory!G653","v":0}]
[{"$f":"Inventory!A654","v":0},{"$f":"Inventory!G654","v":0}]
[{"$f":"Inventory!A655","v":0},{"$f":"Inventory!G655","v":0}]
[{"$f":"Inventory!A656","v":0},{"$f":"Inventory!G656","v":0}]
[{"$f":"Inventory!A657","v":0},{"$f":"Inventory!G657","v":0}]
[{"$f":"Inventory!A658","v":0},{"$f":"Inventory!G658","v":0}]
[{"$f":"Inventory!A659","v":0},{"$f":"Inventory!G659","v":0}]
[{"$f":"Inventory!A660","v":0},{"$f":"Inventory!G660","v":0}]
[{"$f":"Inventory!A661","v":0},{"$f":"Inventory!G661","v":0}]
[{"$f":"Inventory!A662","v":0},{"$f":"Inventory!G662","v":0}]
[{"$f":"Inventory!A663","v":0},{"$f":"Inventory!G663","v":0}]
[{"$f":"Inventory!A664","v":0},{"$f":"Inventory!G664","v":0}]
[{"$f":"Inventory!A665","v":0},{"$f":"Inventory!G665","v":0}]
[{"$f":"Inventory!A666","v":0},{"$f":"Inventory!G666","v":0}]
[{"$f":"Inventory!A667","v":0},{"$f":"Inventory!G667","v":0}]
[{"$f":"Inventory!A668","v":0},{"$f":"Inventory!G668","v":0}]
[{"$f":"Inventory!A669","v":0},{"$f":"Inventory!G669","v":0}]
[{"$f":"Inventory!A670","v":0},{"$f":"Inventory!G670","v":0}]
[{"$f":"Inventory!A671","v":0},{"$f":"Inventory!G671","v":0}]
[{"$f":"Inventory!A672","v":0},{"$f":"Inventory!G672","v":0}]
[{"$f":"Inventory!A673","v":0},{"$f":"Inventory!G673","v":0}]
[{"$f":"Inventory!A674","v":0},{"$f":"Inventory!G674","v":0}]
[{"$f":"Inventory!A675","v":0},{"$f":"Inventory!G675","v":0}]
[{"$f":"Inventory!A676","v":0},{"$f":"Inventory!G676","v":0}]
[{"$f":"Inventory!A677","v":0},{"$f":"Inventory!G677","v":0}]
[{"$f":"Inventory!A678","v":0},{"$f":"Inventory!G678","v":0}]
[{"$f":"Inventory!A679","v":0},{"$f":"Inventory!G679","v":0}]
[{"$f":"Inventory!A680","v":0},{"$f":"Inventory!G680","v":0}]
[{"$f":"Inventory!A681","v":0},{"$f":"Inventory!G681","v":0}]
[{"$f":"Inventory!A682","v":0},{"$f":"Inventory!G682","v":0}]
[{"$f":"Inventory!A683","v":0},{"$f":"Inventory!G683","v":0}]
[{"$f":"Inventory!A684","v":0},{"$f":"Inventory!G684","v":0}]
[{"$f":"Inventory!A685","v":0},{"$f":"Inventory!G685","v":0}]
[{"$f":"Inventory!A686","v":0},{"$f":"Inventory!G686","v":0}]
[{"$f":"Inventory!A687","v":0},{"$f":"Inventory!G687","v":0}]
[{"$f":"Inventory!A688","v":0},{"$f":"Inventory!G688","v":0}]
[{"$f":"Inventory!A689","v":0},{"$f":"Inventory!G689","v":0}]
[{"$f":"Inventory!A690","v":0},{"$f":"Inventory!G690","v":0}]
[{"$f":"Inventory!A691","v":0},{"$f":"Inventory!G691","v":0}]
[{"$f":"Inventory!A692","v":0},{"$f":"Inventory!G692","v":0}]
[{"$f":"Inventory!A693","v":0},{"$f":"Inventory!G693","v":0}]
[{"$f":"Inventory!A694","v":0},{"$f":"Inventory!G694","v":0}]
[{"$f":"Inventory!A695","v":0},{"$f":"Inventory!G695","v":0}]
[{"$f":"Inventory!A696","v":0},{"$f":"Inventory!G696","v":0}]
[{"$f":"Inventory!A697","v":0},{"$f":"Inventory!G697","v":0}]
[{"$f":"Inventory!A698","v":0},{"$f":"Inventory!G698","v":0}]
[{"$f":"Inventory!A699","v":0},{"$f":"Inventory!G699","v":0}]
[{"$f":"Inventory!A700","v":0},{"$f":"Inventory!G700","v":0}]
[{"$f":"Inventory!A701","v":0},{"$f":"Inventory!G701","v":0}]
[{"$f":"Inventory!A702","v":0},{"$f":"Inventory!G702","v":0}]
[{"$f":"Inventory!A703","v":0},{"$f":"Inventory!G703","v":0}]
[{"$f":"Inventory!A704","v":0},{"$f":"Inventory!G704","v":0}]
[{"$f":"Inventory!A705","v":0},{"$f":"Inventory!G705","v":0}]
[{"$f":"Inventory!A706","v":0},{"$f":"Inventory!G706","v":0}]
[{"$f":"Inventory!A707","v":0},{"$f":"Inventory!G707","v":0}]
[{"$f":"Inventory!A708","v":0},{"$f":"Inventory!G708","v":0}]
[{"$f":"Inventory!A709","v":0},{"$f":"Inventory!G709","v":0}]
[{"$f":"Inventory!A710","v":0},{"$f":"Inventory!G710","v":0}]
[{"$f":"Inventory!A711","v":0},{"$f":"Inventory!G711","v":0}]
[{"$f":"Inventory!A712","v":0},{"$f":"Inventory!G712","v":0}]
[{"$f":"Inventory!A713","v":0},{"$f":"Inventory!G713","v":0}]
[{"$f":"Inventory!A714","v":0},{"$f":"Inventory!G714","v":0}]
[{"$f":"Inventory!A715","v":0},{"$f":"Inventory!G715","v":0}]
[{"$f":"Inventory!A716","v":0},{"$f":"Inventory!G716","v":0}]
[{"$f":"Inventory!A717","v":0},{"$f":"Inventory!G717","v":0}]
[{"$f":"Inventory!A718","v":0},{"$f":"Inventory!G718","v":0}]
[{"$f":"Inventory!A719","v":0},{"$f":"Inventory!G719","v":0}]
[{"$f":"Inventory!A720","v":0},{"$f":"Inventory!G720","v":0}]
[{"$f":"Inventory!A721","v":0},{"$f":"Inventory!G721","v":0}]
[{"$f":"Inventory!A722","v":0},{"$f":"Inventory!G722","v":0}]
[{"$f":"Inventory!A723","v":0},{"$f":"Inventory!G723","v":0}]
[{"$f":"Inventory!A724","v":0},{"$f":"Inventory!G724","v":0}]
[{"$f":"Inventory!A725","v":0},{"$f":"Inventory!G725","v":0}]
[{"$f":"Inventory!A726","v":0},{"$f":"Inventory!G726","v":0}]
[{"$f":"Inventory!A727","v":0},{"$f":"Inventory!G727","v":0}]
[{"$f":"Inventory!A728","v":0},{"$f":"Inventory!G728","v":0}]
[{"$f":"Inventory!A729","v":0},{"$f":"Inventory!G729","v":0}]
[{"$f":"Inventory!A730","v":0},{"$f":"Inventory!G730","v":0}]
[{"$f":"Inventory!A731","v":0},{"$f":"Inventory!G731","v":0}]
[{"$f":"Inventory!A732","v":0},{"$f":"Inventory!G732","v":0}]
[{"$f":"Inventory!A733","v":0},{"$f":"Inventory!G733","v":0}]
[{"$f":"Inventory!A734","v":0},{"$f":"Inventory!G734","v":0}]
[{"$f":"Inventory!A735","v":0},{"$f":"Inventory!G735","v":0}]
[{"$f":"Inventory!A736","v":0},{"$f":"Inventory!G736","v":0}]
[{"$f":"Inventory!A737","v":0},{"$f":"Inventory!G737","v":0}]
[{"$f":"Inventory!A738","v":0},{"$f":"Inventory!G738","v":0}]
[{"$f":"Inventory!A739","v":0},{"$f":"Inventory!G739","v":0}]
[{"$f":"Inventory!A740","v":0},{"$f":"Inventory!G740","v":0}]
[{"$f":"Inventory!A741","v":0},{"$f":"Inventory!G741","v":0}]
[{"$f":"Inventory!A742","v":0},{"$f":"Inventory!G742","v":0}]
[{"$f":"Inventory!A743","v":0},{"$f":"Inventory!G743","v":0}]
[{"$f":"Inventory!A744","v":0},{"$f":"Inventory!G744","v":0}]
[{"$f":"Inventory!A745","v":0},{"$f":"Inventory!G745","v":0}]
[{"$f":"Inventory!A746","v":0},{"$f":"Inventory!G746","v":0}]
[{"$f":"Inventory!A747","v":0},{"$f":"Inventory!G747","v":0}]
[{"$f":"Inventory!A748","v":0},{"$f":"Inventory!G748","v":0}]
[{"$f":"Inventory!A749","v":0},{"$f":"Inventory!G749","v":0}]
[{"$f":"Inventory!A750","v":0},{"$f":"Inventory!G750","v":0}]
[{"$f":"Inventory!A751","v":0},{"$f":"Inventory!G751","v":0}]
[{"$f":"Inventory!A752","v":0},{"$f":"Inventory!G752","v":0}]
[{"$f":"Inventory!A753","v":0},{"$f":"Inventory!G753","v":0}]
[{"$f":"Inventory!A754","v":0},{"$f":"Inventory!G754","v":0}]
[{"$f":"Inventory!A755","v":0},{"$f":"Inventory!G755","v":0}]
[{"$f":"Inventory!A756","v":0},{"$f":"Inventory!G756","v":0}]
[{"$f":"Inventory!A757","v":0},{"$f":"Inventory!G757","v":0}]
[{"$f":"Inventory!A758","v":0},{"$f":"Inventory!G758","v":0}]
[{"$f":"Inventory!A759","v":0},{"$f":"Inventory!G759","v":0}]
[{"$f":"Inventory!A760","v":0},{"$f":"Inventory!G760","v":0}]
[{"$f":"Inventory!A761","v":0},{"$f":"Inventory!G761","v":0}]
[{"$f":"Inventory!A762","v":0},{"$f":"Inventory!G762","v":0}]
[{"$f":"Inventory!A763","v":0},{"$f":"Inventory!G763","v":0}]
[{"$f":"Inventory!A764","v":0},{"$f":"Inventory!G764","v":0}]
[{"$f":"Inventory!A765","v":0},{"$f":"Inventory!G765","v":0}]
[{"$f":"Inventory!A766","v":0},{"$f":"Inventory!G766","v":0}]
[{"$f":"Inventory!A767","v":0},{"$f":"Inventory!G767","v":0}]
[{"$f":"Inventory!A768","v":0},{"$f":"Inventory!G768","v":0}]
[{"$f":"Inventory!A769","v":0},{"$f":"Inventory!G769","v":0}]
[{"$f":"Inventory!A770","v":0},{"$f":"Inventory!G770","v":0}]
[{"$f":"Inventory!A771","v":0},{"$f":"Inventory!G771","v":0}]
[{"$f":"Inventory!A772","v":0},{"$f":"Inventory!G772","v":0}]
[{"$f":"Inventory!A773","v":0},{"$f":"Inventory!G773","v":0}]
[{"$f":"Inventory!A774","v":0},{"$f":"Inventory!G774","v":0}]
[{"$f":"Inventory!A775","v":0},{"$f":"Inventory!G775","v":0}]
[{"$f":"Inventory!A776","v":0},{"$f":"Inventory!G776","v":0}]
[{"$f":"Inventory!A777","v":0},{"$f":"Inventory!G777","v":0}]
[{"$f":"Inventory!A778","v":0},{"$f":"Inventory!G778","v":0}]
[{"$f":"Inventory!A779","v":0},{"$f":"Inventory!G779","v":0}]
[{"$f":"Inventory!A780","v":0},{"$f":"Inventory!G780","v":0}]
[{"$f":"Inventory!A781","v":0},{"$f":"Inventory!G781","v":0}]
[{"$f":"Inventory!A782","v":0},{"$f":"Inventory!G782","v":0}]
[{"$f":"Inventory!A783","v":0},{"$f":"Inventory!G783","v":0}]
[{"$f":"Inventory!A784","v":0},{"$f":"Inventory!G784","v":0}]
[{"$f":"Inventory!A785","v":0},{"$f":"Inventory!G785","v":0}]
[{"$f":"Inventory!A786","v":0},{"$f":"Inventory!G786","v":0}]
[{"$f":"Inventory!A787","v":0},{"$f":"Inventory!G787","v":0}]
[{"$f":"Inventory!A788","v":0},{"$f":"Inventory!G788","v":0}]
[{"$f":"Inventory!A789","v":0},{"$f":"Inventory!G789","v":0}]
[{"$f":"Inventory!A790","v":0},{"$f":"Inventory!G790","v":0}]
[{"$f":"Inventory!A791","v":0},{"$f":"Inventory!G791","v":0}]
[{"$f":"Inventory!A792","v":0},{"$f":"Inventory!G792","v":0}]
[{"$f":"Inventory!A793","v":0},{"$f":"Inventory!G793","v":0}]
[{"$f":"Inventory!A794","v":0},{"$f":"Inventory!G794","v":0}]
[{"$f":"Inventory!A795","v":0},{"$f":"Inventory!G795","v":0}]
[{"$f":"Inventory!A796","v":0},{"$f":"Inventory!G796","v":0}]
[{"$f":"Inventory!A797","v":0},{"$f":"Inventory!G797","v":0}]
[{"$f":"Inventory!A798","v":0},{"$f":"Inventory!G798","v":0}]
[{"$f":"Inventory!A799","v":0},{"$f":"Inventory!G799","v":0}]
[{"$f":"Inventory!A800","v":0},{"$f":"Inventory!G800","v":0}]
[{"$f":"Inventory!A801","v":0},{"$f":"Inventory!G801","v":0}]
[{"$f":"Inventory!A802","v":0},{"$f":"Inventory!G802","v":0}]
[{"$f":"Inventory!A803","v":0},{"$f":"Inventory!G803","v":0}]
[{"$f":"Inventory!A804","v":0},{"$f":"Inventory!G804","v":0}]
[{"$f":"Inventory!A805","v":0},{"$f":"Inventory!G805","v":0}]
[{"$f":"Inventory!A806","v":0},{"$f":"Inventory!G806","v":0}]
[{"$f":"Inventory!A807","v":0},{"$f":"Inventory!G807","v":0}]
[{"$f":"Inventory!A808","v":0},{"$f":"Inventory!G808","v":0}]
[{"$f":"Inventory!A809","v":0},{"$f":"Inventory!G809","v":0}]
[{"$f":"Inventory!A810","v":0},{"$f":"Inventory!G810","v":0}]
[{"$f":"Inventory!A811","v":0},{"$f":"Inventory!G811","v":0}]
[{"$f":"Inventory!A812","v":0},{"$f":"Inventory!G812","v":0}]
[{"$f":"Inventory!A813","v":0},{"$f":"Inventory!G813","v":0}]
[{"$f":"Inventory!A814","v":0},{"$f":"Inventory!G814","v":0}]
[{"$f":"Inventory!A815","v":0},{"$f":"Inventory!G815","v":0}]
[{"$f":"Inventory!A816","v":0},{"$f":"Inventory!G816","v":0}]
[{"$f":"Inventory!A817","v":0},{"$f":"Inventory!G817","v":0}]
[{"$f":"Inventory!A818","v":0},{"$f":"Inventory!G818","v":0}]
[{"$f":"Inventory!A819","v":0},{"$f":"Inventory!G819","v":0}]
[{"$f":"Inventory!A820","v":0},{"$f":"Inventory!G820","v":0}]
[{"$f":"Inventory!A821","v":0},{"$f":"Inventory!G821","v":0}]
[{"$f":"Inventory!A822","v":0},{"$f":"Inventory!G822","v":0}]
[{"$f":"Inventory!A823","v":0},{"$f":"Inventory!G823","v":0}]
[{"$f":"Inventory!A824","v":0},{"$f":"Inventory!G824","v":0}]
[{"$f":"Inventory!A825","v":0},{"$f":"Inventory!G825","v":0}]
[{"$f":"Inventory!A826","v":0},{"$f":"Inventory!G826","v":0}]
[{"$f":"Inventory!A827","v":0},{"$f":"Inventory!G827","v":0}]
[{"$f":"Inventory!A828","v":0},{"$f":"Inventory!G828","v":0}]
[{"$f":"Inventory!A829","v":0},{"$f":"Inventory!G829","v":0}]
[{"$f":"Inventory!A830","v":0},{"$f":"Inventory!G830","v":0}]
[{"$f":"Inventory!A831","v":0},{"$f":"Inventory!G831","v":0}]
[{"$f":"Inventory!A832","v":0},{"$f":"Inventory!G832","v":0}]
[{"$f":"Inventory!A833","v":0},{"$f":"Inventory!G833","v":0}]
[{"$f":"Inventory!A834","v":0},{"$f":"Inventory!G834","v":0}]
[{"$f":"Inventory!A835","v":0},{"$f":"Inventory!G835","v":0}]
[{"$f":"Inventory!A836","v":0},{"$f":"Inventory!G836","v":0}]
[{"$f":"Inventory!A837","v":0},{"$f":"Inventory!G837","v":0}]
[{"$f":"Inventory!A838","v":0},{"$f":"Inventory!G838","v":0}]
[{"$f":"Inventory!A839","v":0},{"$f":"Inventory!G839","v":0}]
[{"$f":"Inventory!A840","v":0},{"$f":"Inventory!G840","v":0}]
[{"$f":"Inventory!A841","v":0},{"$f":"Inventory!G841","v":0}]
[{"$f":"Inventory!A842","v":0},{"$f":"Inventory!G842","v":0}]
[{"$f":"Inventory!A843","v":0},{"$f":"Inventory!G843","v":0}]
[{"$f":"Inventory!A844","v":0},{"$f":"Inventory!G844","v":0}]
[{"$f":"Inventory!A845","v":0},{"$f":"Inventory!G845","v":0}]
[{"$f":"Inventory!A846","v":0},{"$f":"Inventory!G846","v":0}]
[{"$f":"Inventory!A847","v":0},{"$f":"Inventory!G847","v":0}]
[{"$f":"Inventory!A848","v":0},{"$f":"Inventory!G848","v":0}]
[{"$f":"Inventory!A849","v":0},{"$f":"Inventory!G849","v":0}]
[{"$f":"Inventory!A850","v":0},{"$f":"Inventory!G850","v":0}]
[{"$f":"Inventory!A851","v":0},{"$f":"Inventory!G851","v":0}]
[{"$f":"Inventory!A852","v":0},{"$f":"Inventory!G852","v":0}]
[{"$f":"Inventory!A853","v":0},{"$f":"Inventory!G853","v":0}]
[{"$f":"Inventory!A854","v":0},{"$f":"Inventory!G854","v":0}]
[{"$f":"Inventory!A855","v":0},{"$f":"Inventory!G855","v":0}]
[{"$f":"Inventory!A856","v":0},{"$f":"Inventory!G856","v":0}]
[{"$f":"Inventory!A857","v":0},{"$f":"Inventory!G857","v":0}]
[{"$f":"Inventory!A858","v":0},{"$f":"Inventory!G858","v":0}]
[{"$f":"Inventory!A859","v":0},{"$f":"Inventory!G859","v":0}]
[{"$f":"Inventory!A860","v":0},{"$f":"Inventory!G860","v":0}]
[{"$f":"Inventory!A861","v":0},{"$f":"Inventory!G861","v":0}]
[{"$f":"Inventory!A862","v":0},{"$f":"Inventory!G862","v":0}]
[{"$f":"Inventory!A863","v":0},{"$f":"Inventory!G863","v":0}]
[{"$f":"Inventory!A864","v":0},{"$f":"Inventory!G864","v":0}]
[{"$f":"Inventory!A865","v":0},{"$f":"Inventory!G865","v":0}]
[{"$f":"Inventory!A866","v":0},{"$f":"Inventory!G866","v":0}]
[{"$f":"Inventory!A867","v":0},{"$f":"Inventory!G867","v":0}]
[{"$f":"Inventory!A868","v":0},{"$f":"Inventory!G868","v":0}]
[{"$f":"Inventory!A869","v":0},{"$f":"Inventory!G869","v":0}]
[{"$f":"Inventory!A870","v":0},{"$f":"Inventory!G870","v":0}]
[{"$f":"Inventory!A871","v":0},{"$f":"Inventory!G871","v":0}]
[{"$f":"Inventory!A872","v":0},{"$f":"Inventory!G872","v":0}]
[{"$f":"Inventory!A873","v":0},{"$f":"Inventory!G873","v":0}]
[{"$f":"Inventory!A874","v":0},{"$f":"Inventory!G874","v":0}]
[{"$f":"Inventory!A875","v":0},{"$f":"Inventory!G875","v":0}]
[{"$f":"Inventory!A876","v":0},{"$f":"Inventory!G876","v":0}]
[{"$f":"Inventory!A877","v":0},{"$f":"Inventory!G877","v":0}]
[{"$f":"Inventory!A878","v":0},{"$f":"Inventory!G878","v":0}]
[{"$f":"Inventory!A879","v":0},{"$f":"Inventory!G879","v":0}]
[{"$f":"Inventory!A880","v":0},{"$f":"Inventory!G880","v":0}]
[{"$f":"Inventory!A881","v":0},{"$f":"Inventory!G881","v":0}]
[{"$f":"Inventory!A882","v":0},{"$f":"Inventory!G882","v":0}]
[{"$f":"Inventory!A883","v":0},{"$f":"Inventory!G883","v":0}]
[{"$f":"Inventory!A884","v":0},{"$f":"Inventory!G884","v":0}]
[{"$f":"Inventory!A885","v":0},{"$f":"Inventory!G885","v":0}]
[{"$f":"Inventory!A886","v":0},{"$f":"Inventory!G886","v":0}]
[{"$f":"Inventory!A887","v":0},{"$f":"Inventory!G887","v":0}]
[{"$f":"Inventory!A888","v":0},{"$f":"Inventory!G888","v":0}]
[{"$f":"Inventory!A889","v":0},{"$f":"Inventory!G889","v":0}]
[{"$f":"Inventory!A890","v":0},{"$f":"Inventory!G890","v":0}]
[{"$f":"Inventory!A891","v":0},{"$f":"Inventory!G891","v":0}]
[{"$f":"Inventory!A892","v":0},{"$f":"Inventory!G892","v":0}]
[{"$f":"Inventory!A893","v":0},{"$f":"Inventory!G893","v":0}]
[{"$f":"Inventory!A894","v":0},{"$f":"Inventory!G894","v":0}]
[{"$f":"Inventory!A895","v":0},{"$f":"Inventory!G895","v":0}]
[{"$f":"Inventory!A896","v":0},{"$f":"Inventory!G896","v":0}]
[{"$f":"Inventory!A897","v":0},{"$f":"Inventory!G897","v":0}]
[{"$f":"Inventory!A898","v":0},{"$f":"Inventory!G898","v":0}]
[{"$f":"Inventory!A899","v":0},{"$f":"Inventory!G899","v":0}]
[{"$f":"Inventory!A900","v":0},{"$f":"Inventory!G900","v":0}]
[{"$f":"Inventory!A901","v":0},{"$f":"Inventory!G901","v":0}]
[{"$f":"Inventory!A902","v":0},{"$f":"Inventory!G902","v":0}]
[{"$f":"Inventory!A903","v":0},{"$f":"Inventory!G903","v":0}]
[{"$f":"Inventory!A904","v":0},{"$f":"Inventory!G904","v":0}]
[{"$f":"Inventory!A905","v":0},{"$f":"Inventory!G905","v":0}]
[{"$f":"Inventory!A906","v":0},{"$f":"Inventory!G906","v":0}]
[{"$f":"Inventory!A907","v":0},{"$f":"Inventory!G907","v":0}]
[{"$f":"Inventory!A908","v":0},{"$f":"Inventory!G908","v":0}]
[{"$f":"Inventory!A909","v":0},{"$f":"Inventory!G909","v":0}]
[{"$f":"Inventory!A910","v":0},{"$f":"Inventory!G910","v":0}]
[{"$f":"Inventory!A911","v":0},{"$f":"Inventory!G911","v":0}]
[{"$f":"Inventory!A912","v":0},{"$f":"Inventory!G912","v":0}]
[{"$f":"Inventory!A913","v":0},{"$f":"Inventory!G913","v":0}]
[{"$f":"Inventory!A914","v":0},{"$f":"Inventory!G914","v":0}]
[{"$f":"Inventory!A915","v":0},{"$f":"Inventory!G915","v":0}]
[{"$f":"Inventory!A916","v":0},{"$f":"Inventory!G916","v":0}]
[{"$f":"Inventory!A917","v":0},{"$f":"Inventory!G917","v":0}]
[{"$f":"Inventory!A918","v":0},{"$f":"Inventory!G918","v":0}]
[{"$f":"Inventory!A919","v":0},{"$f":"Inventory!G919","v":0}]
[{"$f":"Inventory!A920","v":0},{"$f":"Inventory!G920","v":0}]
[{"$f":"Inventory!A921","v":0},{"$f":"Inventory!G921","v":0}]
[{"$f":"Inventory!A922","v":0},{"$f":"Inventory!G922","v":0}]
[{"$f":"Inventory!A923","v":0},{"$f":"Inventory!G923","v":0}]
[{"$f":"Inventory!A924","v":0},{"$f":"Inventory!G924","v":0}]
[{"$f":"Inventory!A925","v":0},{"$f":"Inventory!G925","v":0}]
[{"$f":"Inventory!A926","v":0},{"$f":"Inventory!G926","v":0}]
[{"$f":"Inventory!A927","v":0},{"$f":"Inventory!G927","v":0}]
[{"$f":"Inventory!A928","v":0},{"$f":"Inventory!G928","v":0}]
[{"$f":"Inventory!A929","v":0},{"$f":"Inventory!G929","v":0}]
[{"$f":"Inventory!A930","v":0},{"$f":"Inventory!G930","v":0}]
[{"$f":"Inventory!A931","v":0},{"$f":"Inventory!G931","v":0}]
[{"$f":"Inventory!A932","v":0},{"$f":"Inventory!G932","v":0}]
[{"$f":"Inventory!A933","v":0},{"$f":"Inventory!G933","v":0}]
[{"$f":"Inventory!A934","v":0},{"$f":"Inventory!G934","v":0}]
[{"$f":"Inventory!A935","v":0},{"$f":"Inventory!G935","v":0}]
[{"$f":"Inventory!A936","v":0},{"$f":"Inventory!G936","v":0}]
[{"$f":"Inventory!A937","v":0},{"$f":"Inventory!G937","v":0}]
[{"$f":"Inventory!A938","v":0},{"$f":"Inventory!G938","v":0}]
[{"$f":"Inventory!A939","v":0},{"$f":"Inventory!G939","v":0}]
[{"$f":"Inventory!A940","v":0},{"$f":"Inventory!G940","v":0}]
[{"$f":"Inventory!A941","v":0},{"$f":"Inventory!G941","v":0}]
[{"$f":"Inventory!A942","v":0},{"$f":"Inventory!G942","v":0}]
[{"$f":"Inventory!A943","v":0},{"$f":"Inventory!G943","v":0}]
[{"$f":"Inventory!A944","v":0},{"$f":"Inventory!G944","v":0}]
[{"$f":"Inventory!A945","v":0},{"$f":"Inventory!G945","v":0}]
[{"$f":"Inventory!A946","v":0},{"$f":"Inventory!G946","v":0}]
[{"$f":"Inventory!A947","v":0},{"$f":"Inventory!G947","v":0}]
[{"$f":"Inventory!A948","v":0},{"$f":"Inventory!G948","v":0}]
[{"$f":"Inventory!A949","v":0},{"$f":"Inventory!G949","v":0}]
[{"$f":"Inventory!A950","v":0},{"$f":"Inventory!G950","v":0}]
[{"$f":"Inventory!A951","v":0},{"$f":"Inventory!G951","v":0}]
[{"$f":"Inventory!A952","v":0},{"$f":"Inventory!G952","v":0}]
[{"$f":"Inventory!A953","v":0},{"$f":"Inventory!G953","v":0}]
[{"$f":"Inventory!A954","v":0},{"$f":"Inventory!G954","v":0}]
[{"$f":"Inventory!A955","v":0},{"$f":"Inventory!G955","v":0}]
[{"$f":"Inventory!A956","v":0},{"$f":"Inventory!G956","v":0}]
[{"$f":"Inventory!A957","v":0},{"$f":"Inventory!G957","v":0}]
[{"$f":"Inventory!A958","v":0},{"$f":"Inventory!G958","v":0}]
[{"$f":"Inventory!A959","v":0},{"$f":"Inventory!G959","v":0}]
[{"$f":"Inventory!A960","v":0},{"$f":"Inventory!G960","v":0}]
[{"$f":"Inventory!A961","v":0},{"$f":"Inventory!G961","v":0}]
[{"$f":"Inventory!A962","v":0},{"$f":"Inventory!G962","v":0}]
[{"$f":"Inventory!A963","v":0},{"$f":"Inventory!G963","v":0}]
[{"$f":"Inventory!A964","v":0},{"$f":"Inventory!G964","v":0}]
[{"$f":"Inventory!A965","v":0},{"$f":"Inventory!G965","v":0}]
[{"$f":"Inventory!A966","v":0},{"$f":"Inventory!G966","v":0}]
[{"$f":"Inventory!A967","v":0},{"$f":"Inventory!G967","v":0}]
[{"$f":"Inventory!A968","v":0},{"$f":"Inventory!G968","v":0}]
[{"$f":"Inventory!A969","v":0},{"$f":"Inventory!G969","v":0}]
[{"$f":"Inventory!A970","v":0},{"$f":"Inventory!G970","v":0}]
[{"$f":"Inventory!A971","v":0},{"$f":"Inventory!G971","v":0}]
[{"$f":"Inventory!A972","v":0},{"$f":"Inventory!G972","v":0}]
[{"$f":"Inventory!A973","v":0},{"$f":"Inventory!G973","v":0}]
[{"$f":"Inventory!A974","v":0},{"$f":"Inventory!G974","v":0}]
[{"$f":"Inventory!A975","v":0},{"$f":"Inventory!G975","v":0}]
[{"$f":"Inventory!A976","v":0},{"$f":"Inventory!G976","v":0}]
[{"$f":"Inventory!A977","v":0},{"$f":"Inventory!G977","v":0}]
[{"$f":"Inventory!A978","v":0},{"$f":"Inventory!G978","v":0}]
[{"$f":"Inventory!A979","v":0},{"$f":"Inventory!G979","v":0}]
[{"$f":"Inventory!A980","v":0},{"$f":"Inventory!G980","v":0}]
[{"$f":"Inventory!A981","v":0},{"$f":"Inventory!G981","v":0}]
[{"$f":"Inventory!A982","v":0},{"$f":"Inventory!G982","v":0}]
[{"$f":"Inventory!A983","v":0},{"$f":"Inventory!G983","v":0}]
[{"$f":"Inventory!A984","v":0},{"$f":"Inventory!G984","v":0}]
[{"$f":"Inventory!A985","v":0},{"$f":"Inventory!G985","v":0}]
[{"$f":"Inventory!A986","v":0},{"$f":"Inventory!G986","v":0}]
[{"$f":"Inventory!A987","v":0},{"$f":"Inventory!G987","v":0}]
[{"$f":"Inventory!A988","v":0},{"$f":"Inventory!G988","v":0}]
[{"$f":"Inventory!A989","v":0},{"$f":"Inventory!G989","v":0}]
[{"$f":"Inventory!A990","v":0},{"$f":"Inventory!G990","v":0}]
[{"$f":"Inventory!A991","v":0},{"$f":"Inventory!G991","v":0}]
[{"$f":"Inventory!A992","v":0},{"$f":"Inventory!G992","v":0}]
[{"$f":"Inventory!A993","v":0},{"$f":"Inventory!G993","v":0}]
[{"$f":"Inventory!A994","v":0},{"$f":"Inventory!G994","v":0}]
[{"$f":"Inventory!A995","v":0},{"$f":"Inventory!G995","v":0}]
[{"$f":"Inventory!A996","v":0},{"$f":"Inventory!G996","v":0}]
[{"$f":"Inventory!A997","v":0},{"$f":"Inventory!G997","v":0}]
[{"$f":"Inventory!A998","v":0},{"$f":"Inventory!G998","v":0}]
[{"$f":"Inventory!A999","v":0},{"$f":"Inventory!G999","v":0}]
[{"$f":"Inventory!A1000","v":0},{"$f":"Inventory!G1000","v":0}]
[{"$f":"Inventory!A1001","v":0},{"$f":"Inventory!G1001","v":0}]
[{"$f":"Inventory!A1002","v":0},{"$f":"Inventory!G1002","v":0}]
[{"$f":"Inventory!A1003","v":0},{"$f":"Inventory!G1003","v":0}]
[{"$f":"Inventory!A1004","v":0},{"$f":"Inventory!G1004","v":0}]
[{"$f":"Inventory!A1005","v":0},{"$f":"Inventory!G1005","v":0}]
[{"$f":"Inventory!A1006","v":0},{"$f":"Inventory!G1006","v":0}]
[{"$f":"Inventory!A1007","v":0},{"$f":"Inventory!G1007","v":0}]
[{"$f":"Inventory!A1008","v":0},{"$f":"Inventory!G1008","v":0}]
[{"$f":"Inventory!A1009","v":0},{"$f":"Inventory!G1009","v":0}]
[{"$f":"Inventory!A1010","v":0},{"$f":"Inventory!G1010","v":0}]
[{"$f":"Inventory!A1011","v":0},{"$f":"Inventory!G1011","v":0}]
[{"$f":"Inventory!A1012","v":0},{"$f":"Inventory!G1012","v":0}]
[{"$f":"Inventory!A1013","v":0},{"$f":"Inventory!G1013","v":0}]
[{"$f":"Inventory!A1014","v":0},{"$f":"Inventory!G1014","v":0}]
[{"$f":"Inventory!A1015","v":0},{"$f":"Inventory!G1015","v":0}]
[{"$f":"Inventory!A1016","v":0},{"$f":"Inventory!G1016","v":0}]
[{"$f":"Inventory!A1017","v":0},{"$f":"Inventory!G1017","v":0}]
[{"$f":"Inventory!A1018","v":0},{"$f":"Inventory!G1018","v":0}]
[{"$f":"Inventory!A1019","v":0},{"$f":"Inventory!G1019","v":0}]
[{"$f":"Inventory!A1020","v":0},{"$f":"Inventory!G1020","v":0}]
[{"$f":"Inventory!A1021","v":0},{"$f":"Inventory!G1021","v":0}]
[{"$f":"Inventory!A1022","v":0},{"$f":"Inventory!G1022","v":0}]
[{"$f":"Inventory!A1023","v":0},{"$f":"Inventory!G1023","v":0}]
[{"$f":"Inventory!A1024","v":0},{"$f":"Inventory!G1024","v":0}]
[{"$f":"Inventory!A1025","v":0},{"$f":"Inventory!G1025","v":0}]
[{"$f":"Inventory!A1026","v":0},{"$f":"Inventory!G1026","v":0}]
[{"$f":"Inventory!A1027","v":0},{"$f":"Inventory!G1027","v":0}]
[{"$f":"Inventory!A1028","v":0},{"$f":"Inventory!G1028","v":0}]
[{"$f":"Inventory!A1029","v":0},{"$f":"Inventory!G1029","v":0}]
[{"$f":"Inventory!A1030","v":0},{"$f":"Inventory!G1030","v":0}]
[{"$f":"Inventory!A1031","v":0},{"$f":"Inventory!G1031","v":0}]
[{"$f":"Inventory!A1032","v":0},{"$f":"Inventory!G1032","v":0}]
[{"$f":"Inventory!A1033","v":0},{"$f":"Inventory!G1033","v":0}]
[{"$f":"Inventory!A1034","v":0},{"$f":"Inventory!G1034","v":0}]
[{"$f":"Inventory!A1035","v":0},{"$f":"Inventory!G1035","v":0}]
[{"$f":"Inventory!A1036","v":0},{"$f":"Inventory!G1036","v":0}]
[{"$f":"Inventory!A1037","v":0},{"$f":"Inventory!G1037","v":0}]
[{"$f":"Inventory!A1038","v":0},{"$f":"Inventory!G1038","v":0}]
[{"$f":"Inventory!A1039","v":0},{"$f":"Inventory!G1039","v":0}]
[{"$f":"Inventory!A1040","v":0},{"$f":"Inventory!G1040","v":0}]
[{"$f":"Inventory!A1041","v":0},{"$f":"Inventory!G1041","v":0}]
[{"$f":"Inventory!A1042","v":0},{"$f":"Inventory!G1042","v":0}]
[{"$f":"Inventory!A1043","v":0},{"$f":"Inventory!G1043","v":0}]
[{"$f":"Inventory!A1044","v":0},{"$f":"Inventory!G1044","v":0}]
[{"$f":"Inventory!A1045","v":0},{"$f":"Inventory!G1045","v":0}]
[{"$f":"Inventory!A1046","v":0},{"$f":"Inventory!G1046","v":0}]
[{"$f":"Inventory!A1047","v":0},{"$f":"Inventory!G1047","v":0}]
[{"$f":"Inventory!A1048","v":0},{"$f":"Inventory!G1048","v":0}]
[{"$f":"Inventory!A1049","v":0},{"$f":"Inventory!G1049","v":0}]
[{"$f":"Inventory!A1050","v":0},{"$f":"Inventory!G1050","v":0}]
[{"$f":"Inventory!A1051","v":0},{"$f":"Inventory!G1051","v":0}]
[{"$f":"Inventory!A1052","v":0},{"$f":"Inventory!G1052","v":0}]
[{"$f":"Inventory!A1053","v":0},{"$f":"Inventory!G1053","v":0}]
[{"$f":"Inventory!A1054","v":0},{"$f":"Inventory!G1054","v":0}]
[{"$f":"Inventory!A1055","v":0},{"$f":"Inventory!G1055","v":0}]
[{"$f":"Inventory!A1056","v":0},{"$f":"Inventory!G1056","v":0}]
[{"$f":"Inventory!A1057","v":0},{"$f":"Inventory!G1057","v":0}]
[{"$f":"Inventory!A1058","v":0},{"$f":"Inventory!G1058","v":0}]
[{"$f":"Inventory!A1059","v":0},{"$f":"Inventory!G1059","v":0}]
[{"$f":"Inventory!A1060","v":0},{"$f":"Inventory!G1060","v":0}]
[{"$f":"Inventory!A1061","v":0},{"$f":"Inventory!G1061","v":0}]
[{"$f":"Inventory!A1062","v":0},{"$f":"Inventory!G1062","v":0}]
[{"$f":"Inventory!A1063","v":0},{"$f":"Inventory!G1063","v":0}]
[{"$f":"Inventory!A1064","v":0},{"$f":"Inventory!G1064","v":0}]
[{"$f":"Inventory!A1065","v":0},{"$f":"Inventory!G1065","v":0}]
[{"$f":"Inventory!A1066","v":0},{"$f":"Inventory!G1066","v":0}]
[{"$f":"Inventory!A1067","v":0},{"$f":"Inventory!G1067","v":0}]
[{"$f":"Inventory!A1068","v":0},{"$f":"Inventory!G1068","v":0}]
[{"$f":"Inventory!A1069","v":0},{"$f":"Inventory!G1069","v":0}]
[{"$f":"Inventory!A1070","v":0},{"$f":"Inventory!G1070","v":0}]
[{"$f":"Inventory!A1071","v":0},{"$f":"Inventory!G1071","v":0}]
[{"$f":"Inventory!A1072","v":0},{"$f":"Inventory!G1072","v":0}]
[{"$f":"Inventory!A1073","v":0},{"$f":"Inventory!G1073","v":0}]
[{"$f":"Inventory!A1074","v":0},{"$f":"Inventory!G1074","v":0}]
[{"$f":"Inventory!A1075","v":0},{"$f":"Inventory!G1075","v":0}]
[{"$f":"Inventory!A1076","v":0},{"$f":"Inventory!G1076","v":0}]
[{"$f":"Inventory!A1077","v":0},{"$f":"Inventory!G1077","v":0}]
[{"$f":"Inventory!A1078","v":0},{"$f":"Inventory!G1078","v":0}]
[{"$f":"Inventory!A1079","v":0},{"$f":"Inventory!G1079","v":0}]
[{"$f":"Inventory!A1080","v":0},{"$f":"Inventory!G1080","v":0}]
[{"$f":"Inventory!A1081","v":0},{"$f":"Inventory!G1081","v":0}]
[{"$f":"Inventory!A1082","v":0},{"$f":"Inventory!G1082","v":0}]
[{"$f":"Inventory!A1083","v":0},{"$f":"Inventory!G1083","v":0}]
[{"$f":"Inventory!A1084","v":0},{"$f":"Inventory!G1084","v":0}]
[{"$f":"Inventory!A1085","v":0},{"$f":"Inventory!G1085","v":0}]
[{"$f":"Inventory!A1086","v":0},{"$f":"Inventory!G1086","v":0}]
[{"$f":"Inventory!A1087","v":0},{"$f":"Inventory!G1087","v":0}]
[{"$f":"Inventory!A1088","v":0},{"$f":"Inventory!G1088","v":0}]
[{"$f":"Inventory!A1089","v":0},{"$f":"Inventory!G1089","v":0}]
[{"$f":"Inventory!A1090","v":0},{"$f":"Inventory!G1090","v":0}]
[{"$f":"Inventory!A1091","v":0},{"$f":"Inventory!G1091","v":0}]
[{"$f":"Inventory!A1092","v":0},{"$f":"Inventory!G1092","v":0}]
[{"$f":"Inventory!A1093","v":0},{"$f":"Inventory!G1093","v":0}]
[{"$f":"Inventory!A1094","v":0},{"$f":"Inventory!G1094","v":0}]
[{"$f":"Inventory!A1095","v":0},{"$f":"Inventory!G1095","v":0}]
[{"$f":"Inventory!A1096","v":0},{"$f":"Inventory!G1096","v":0}]
[{"$f":"Inventory!A1097","v":0},{"$f":"Inventory!G1097","v":0}]
[{"$f":"Inventory!A1098","v":0},{"$f":"Inventory!G1098","v":0}]
[{"$f":"Inventory!A1099","v":0},{"$f":"Inventory!G1099","v":0}]
[{"$f":"Inventory!A1100","v":0},{"$f":"Inventory!G1100","v":0}]
[{"$f":"Inventory!A1101","v":0},{"$f":"Inventory!G1101","v":0}]
[{"$f":"Inventory!A1102","v":0},{"$f":"Inventory!G1102","v":0}]
[{"$f":"Inventory!A1103","v":0},{"$f":"Inventory!G1103","v":0}]
[{"$f":"Inventory!A1104","v":0},{"$f":"Inventory!G1104","v":0}]
[{"$f":"Inventory!A1105","v":0},{"$f":"Inventory!G1105","v":0}]
[{"$f":"Inventory!A1106","v":0},{"$f":"Inventory!G1106","v":0}]
[{"$f":"Inventory!A1107","v":0},{"$f":"Inventory!G1107","v":0}]
[{"$f":"Inventory!A1108","v":0},{"$f":"Inventory!G1108","v":0}]
[{"$f":"Inventory!A1109","v":0},{"$f":"Inventory!G1109","v":0}]
[{"$f":"Inventory!A1110","v":0},{"$f":"Inventory!G1110","v":0}]
[{"$f":"Inventory!A1111","v":0},{"$f":"Inventory!G1111","v":0}]
[{"$f":"Inventory!A1112","v":0},{"$f":"Inventory!G1112","v":0}]
[{"$f":"Inventory!A1113","v":0},{"$f":"Inventory!G1113","v":0}]
[{"$f":"Inventory!A1114","v":0},{"$f":"Inventory!G1114","v":0}]
[{"$f":"Inventory!A1115","v":0},{"$f":"Inventory!G1115","v":0}]
[{"$f":"Inventory!A1116","v":0},{"$f":"Inventory!G1116","v":0}]
[{"$f":"Inventory!A1117","v":0},{"$f":"Inventory!G1117","v":0}]
[{"$f":"Inventory!A1118","v":0},{"$f":"Inventory!G1118","v":0}]
[{"$f":"Inventory!A1119","v":0},{"$f":"Inventory!G1119","v":0}]
[{"$f":"Inventory!A1120","v":0},{"$f":"Inventory!G1120","v":0}]
[{"$f":"Inventory!A1121","v":0},{"$f":"Inventory!G1121","v":0}]
[{"$f":"Inventory!A1122","v":0},{"$f":"Inventory!G1122","v":0}]
[{"$f":"Inventory!A1123","v":0},{"$f":"Inventory!G1123","v":0}]
[{"$f":"Inventory!A1124","v":0},{"$f":"Inventory!G1124","v":0}]
[{"$f":"Inventory!A1125","v":0},{"$f":"Inventory!G1125","v":0}]
[{"$f":"Inventory!A1126","v":0},{"$f":"Inventory!G1126","v":0}]
[{"$f":"Inventory!A1127","v":0},{"$f":"Inventory!G1127","v":0}]
[{"$f":"Inventory!A1128","v":0},{"$f":"Inventory!G1128","v":0}]
[{"$f":"Inventory!A1129","v":0},{"$f":"Inventory!G1129","v":0}]
[{"$f":"Inventory!A1130","v":0},{"$f":"Inventory!G1130","v":0}]
[{"$f":"Inventory!A1131","v":0},{"$f":"Inventory!G1131","v":0}]
[{"$f":"Inventory!A1132","v":0},{"$f":"Inventory!G1132","v":0}]
[{"$f":"Inventory!A1133","v":0},{"$f":"Inventory!G1133","v":0}]
[{"$f":"Inventory!A1134","v":0},{"$f":"Inventory!G1134","v":0}]
[{"$f":"Inventory!A1135","v":0},{"$f":"Inventory!G1135","v":0}]
[{"$f":"Inventory!A1136","v":0},{"$f":"Inventory!G1136","v":0}]
[{"$f":"Inventory!A1137","v":0},{"$f":"Inventory!G1137","v":0}]
[{"$f":"Inventory!A1138","v":0},{"$f":"Inventory!G1138","v":0}]
[{"$f":"Inventory!A1139","v":0},{"$f":"Inventory!G1139","v":0}]
[{"$f":"Inventory!A1140","v":0},{"$f":"Inventory!G1140","v":0}]
[{"$f":"Inventory!A1141","v":0},{"$f":"Inventory!G1141","v":0}]
[{"$f":"Inventory!A1142","v":0},{"$f":"Inventory!G1142","v":0}]
[{"$f":"Inventory!A1143","v":0},{"$f":"Inventory!G1143","v":0}]
[{"$f":"Inventory!A1144","v":0},{"$f":"Inventory!G1144","v":0}]
[{"$f":"Inventory!A1145","v":0},{"$f":"Inventory!G1145","v":0}]
[{"$f":"Inventory!A1146","v":0},{"$f":"Inventory!G1146","v":0}]
[{"$f":"Inventory!A1147","v":0},{"$f":"Inventory!G1147","v":0}]
[{"$f":"Inventory!A1148","v":0},{"$f":"Inventory!G1148","v":0}]
[{"$f":"Inventory!A1149","v":0},{"$f":"Inventory!G1149","v":0}]
[{"$f":"Inventory!A1150","v":0},{"$f":"Inventory!G1150","v":0}]
[{"$f":"Inventory!A1151","v":0},{"$f":"Inventory!G1151","v":0}]
[{"$f":"Inventory!A1152","v":0},{"$f":"Inventory!G1152","v":0}]
[{"$f":"Inventory!A1153","v":0},{"$f":"Inventory!G1153","v":0}]
[{"$f":"Inventory!A1154","v":0},{"$f":"Inventory!G1154","v":0}]
[{"$f":"Inventory!A1155","v":0},{"$f":"Inventory!G1155","v":0}]
[{"$f":"Inventory!A1156","v":0},{"$f":"Inventory!G1156","v":0}]
[{"$f":"Inventory!A1157","v":0},{"$f":"Inventory!G1157","v":0}]
[{"$f":"Inventory!A1158","v":0},{"$f":"Inventory!G1158","v":0}]
[{"$f":"Inventory!A1159","v":0},{"$f":"Inventory!G1159","v":0}]
[{"$f":"Inventory!A1160","v":0},{"$f":"Inventory!G1160","v":0}]
[{"$f":"Inventory!A1161","v":0},{"$f":"Inventory!G1161","v":0}]
[{"$f":"Inventory!A1162","v":0},{"$f":"Inventory!G1162","v":0}]
[{"$f":"Inventory!A1163","v":0},{"$f":"Inventory!G1163","v":0}]
[{"$f":"Inventory!A1164","v":0},{"$f":"Inventory!G1164","v":0}]
[{"$f":"Inventory!A1165","v":0},{"$f":"Inventory!G1165","v":0}]
[{"$f":"Inventory!A1166","v":0},{"$f":"Inventory!G1166","v":0}]
[{"$f":"Inventory!A1167","v":0},{"$f":"Inventory!G1167","v":0}]
[{"$f":"Inventory!A1168","v":0},{"$f":"Inventory!G1168","v":0}]
[{"$f":"Inventory!A1169","v":0},{"$f":"Inventory!G1169","v":0}]
[{"$f":"Inventory!A1170","v":0},{"$f":"Inventory!G1170","v":0}]
[{"$f":"Inventory!A1171","v":0},{"$f":"Inventory!G1171","v":0}]
[{"$f":"Inventory!A1172","v":0},{"$f":"Inventory!G1172","v":0}]
[{"$f":"Inventory!A1173","v":0},{"$f":"Inventory!G1173","v":0}]
[{"$f":"Inventory!A1174","v":0},{"$f":"Inventory!G1174","v":0}]
[{"$f":"Inventory!A1175","v":0},{"$f":"Inventory!G1175","v":0}]
[{"$f":"Inventory!A1176","v":0},{"$f":"Inventory!G1176","v":0}]
[{"$f":"Inventory!A1177","v":0},{"$f":"Inventory!G1177","v":0}]
[{"$f":"Inventory!A1178","v":0},{"$f":"Inventory!G1178","v":0}]
[{"$f":"Inventory!A1179","v":0},{"$f":"Inventory!G1179","v":0}]
[{"$f":"Inventory!A1180","v":0},{"$f":"Inventory!G1180","v":0}]
[{"$f":"Inventory!A1181","v":0},{"$f":"Inventory!G1181","v":0}]
[{"$f":"Inventory!A1182","v":0},{"$f":"Inventory!G1182","v":0}]
[{"$f":"Inventory!A1183","v":0},{"$f":"Inventory!G1183","v":0}]
[{"$f":"Inventory!A1184","v":0},{"$f":"Inventory!G1184","v":0}]
[{"$f":"Inventory!A1185","v":0},{"$f":"Inventory!G1185","v":0}]
[{"$f":"Inventory!A1186","v":0},{"$f":"Inventory!G1186","v":0}]
[{"$f":"Inventory!A1187","v":0},{"$f":"Inventory!G1187","v":0}]
[{"$f":"Inventory!A1188","v":0},{"$f":"Inventory!G1188","v":0}]
[{"$f":"Inventory!A1189","v":0},{"$f":"Inventory!G1189","v":0}]
[{"$f":"Inventory!A1190","v":0},{"$f":"Inventory!G1190","v":0}]
[{"$f":"Inventory!A1191","v":0},{"$f":"Inventory!G1191","v":0}]
[{"$f":"Inventory!A1192","v":0},{"$f":"Inventory!G1192","v":0}]
[{"$f":"Inventory!A1193","v":0},{"$f":"Inventory!G1193","v":0}]
[{"$f":"Inventory!A1194","v":0},{"$f":"Inventory!G1194","v":0}]
[{"$f":"Inventory!A1195","v":0},{"$f":"Inventory!G1195","v":0}]
[{"$f":"Inventory!A1196","v":0},{"$f":"Inventory!G1196","v":0}]
[{"$f":"Inventory!A1197","v":0},{"$f":"Inventory!G1197","v":0}]
[{"$f":"Inventory!A1198","v":0},{"$f":"Inventory!G1198","v":0}]
[{"$f":"Inventory!A1199","v":0},{"$f":"Inventory!G1199","v":0}]
[{"$f":"Inventory!A1200","v":0},{"$f":"Inventory!G1200","v":0}]
[{"$f":"Inventory!A1201","v":0},{"$f":"Inventory!G1201","v":0}]
[{"$f":"Inventory!A1202","v":0},{"$f":"Inventory!G1202","v":0}]
[{"$f":"Inventory!A1203","v":0},{"$f":"Inventory!G1203","v":0}]
[{"$f":"Inventory!A1204","v":0},{"$f":"Inventory!G1204","v":0}]
[{"$f":"Inventory!A1205","v":0},{"$f":"Inventory!G1205","v":0}]
[{"$f":"Inventory!A1206","v":0},{"$f":"Inventory!G1206","v":0}]
[{"$f":"Inventory!A1207","v":0},{"$f":"Inventory!G1207","v":0}]
[{"$f":"Inventory!A1208","v":0},{"$f":"Inventory!G1208","v":0}]
[{"$f":"Inventory!A1209","v":0},{"$f":"Inventory!G1209","v":0}]
[{"$f":"Inventory!A1210","v":0},{"$f":"Inventory!G1210","v":0}]
[{"$f":"Inventory!A1211","v":0},{"$f":"Inventory!G1211","v":0}]
[{"$f":"Inventory!A1212","v":0},{"$f":"Inventory!G1212","v":0}]
[{"$f":"Inventory!A1213","v":0},{"$f":"Inventory!G1213","v":0}]
[{"$f":"Inventory!A1214","v":0},{"$f":"Inventory!G1214","v":0}]
[{"$f":"Inventory!A1215","v":0},{"$f":"Inventory!G1215","v":0}]
[{"$f":"Inventory!A1216","v":0},{"$f":"Inventory!G1216","v":0}]
[{"$f":"Inventory!A1217","v":0},{"$f":"Inventory!G1217","v":0}]
[{"$f":"Inventory!A1218","v":0},{"$f":"Inventory!G1218","v":0}]
[{"$f":"Inventory!A1219","v":0},{"$f":"Inventory!G1219","v":0}]
[{"$f":"Inventory!A1220","v":0},{"$f":"Inventory!G1220","v":0}]
[{"$f":"Inventory!A1221","v":0},{"$f":"Inventory!G1221","v":0}]
[{"$f":"Inventory!A1222","v":0},{"$f":"Inventory!G1222","v":0}]
[{"$f":"Inventory!A1223","v":0},{"$f":"Inventory!G1223","v":0}]
[{"$f":"Inventory!A1224","v":0},{"$f":"Inventory!G1224","v":0}]
[{"$f":"Inventory!A1225","v":0},{"$f":"Inventory!G1225","v":0}]
[{"$f":"Inventory!A1226","v":0},{"$f":"Inventory!G1226","v":0}]
[{"$f":"Inventory!A1227","v":0},{"$f":"Inventory!G1227","v":0}]
[{"$f":"Inventory!A1228","v":0},{"$f":"Inventory!G1228","v":0}]
[{"$f":"Inventory!A1229","v":0},{"$f":"Inventory!G1229","v":0}]
[{"$f":"Inventory!A1230","v":0},{"$f":"Inventory!G1230","v":0}]
[{"$f":"Inventory!A1231","v":0},{"$f":"Inventory!G1231","v":0}]
[{"$f":"Inventory!A1232","v":0},{"$f":"Inventory!G1232","v":0}]
[{"$f":"Inventory!A1233","v":0},{"$f":"Inventory!G1233","v":0}]
[{"$f":"Inventory!A1234","v":0},{"$f":"Inventory!G1234","v":0}]
[{"$f":"Inventory!A1235","v":0},{"$f":"Inventory!G1235","v":0}]
[{"$f":"Inventory!A1236","v":0},{"$f":"Inventory!G1236","v":0}]
[{"$f":"Inventory!A1237","v":0},{"$f":"Inventory!G1237","v":0}]
[{"$f":"Inventory!A1238","v":0},{"$f":"Inventory!G1238","v":0}]
[{"$f":"Inventory!A1239","v":0},{"$f":"Inventory!G1239","v":0}]
[{"$f":"Inventory!A1240","v":0},{"$f":"Inventory!G1240","v":0}]
[{"$f":"Inventory!A1241","v":0},{"$f":"Inventory!G1241","v":0}]
[{"$f":"Inventory!A1242","v":0},{"$f":"Inventory!G1242","v":0}]
[{"$f":"Inventory!A1243","v":0},{"$f":"Inventory!G1243","v":0}]
[{"$f":"Inventory!A1244","v":0},{"$f":"Inventory!G1244","v":0}]
[{"$f":"Inventory!A1245","v":0},{"$f":"Inventory!G1245","v":0}]
[{"$f":"Inventory!A1246","v":0},{"$f":"Inventory!G1246","v":0}]
[{"$f":"Inventory!A1247","v":0},{"$f":"Inventory!G1247","v":0}]
[{"$f":"Inventory!A1248","v":0},{"$f":"Inventory!G1248","v":0}]
[{"$f":"Inventory!A1249","v":0},{"$f":"Inventory!G1249","v":0}]
[{"$f":"Inventory!A1250","v":0},{"$f":"Inventory!G1250","v":0}]
[{"$f":"Inventory!A1251","v":0},{"$f":"Inventory!G1251","v":0}]
[{"$f":"Inventory!A1252","v":0},{"$f":"Inventory!G1252","v":0}]
[{"$f":"Inventory!A1253","v":0},{"$f":"Inventory!G1253","v":0}]
[{"$f":"Inventory!A1254","v":0},{"$f":"Inventory!G1254","v":0}]
[{"$f":"Inventory!A1255","v":0},{"$f":"Inventory!G1255","v":0}]
[{"$f":"Inventory!A1256","v":0},{"$f":"Inventory!G1256","v":0}]
[{"$f":"Inventory!A1257","v":0},{"$f":"Inventory!G1257","v":0}]
[{"$f":"Inventory!A1258","v":0},{"$f":"Inventory!G1258","v":0}]
[{"$f":"Inventory!A1259","v":0},{"$f":"Inventory!G1259","v":0}]
[{"$f":"Inventory!A1260","v":0},{"$f":"Inventory!G1260","v":0}]
[{"$f":"Inventory!A1261","v":0},{"$f":"Inventory!G1261","v":0}]
[{"$f":"Inventory!A1262","v":0},{"$f":"Inventory!G1262","v":0}]
[{"$f":"Inventory!A1263","v":0},{"$f":"Inventory!G1263","v":0}]
[{"$f":"Inventory!A1264","v":0},{"$f":"Inventory!G1264","v":0}]
[{"$f":"Inventory!A1265","v":0},{"$f":"Inventory!G1265","v":0}]
[{"$f":"Inventory!A1266","v":0},{"$f":"Inventory!G1266","v":0}]
[{"$f":"Inventory!A1267","v":0},{"$f":"Inventory!G1267","v":0}]
[{"$f":"Inventory!A1268","v":0},{"$f":"Inventory!G1268","v":0}]
[{"$f":"Inventory!A1269","v":0},{"$f":"Inventory!G1269","v":0}]
[{"$f":"Inventory!A1270","v":0},{"$f":"Inventory!G1270","v":0}]
[{"$f":"Inventory!A1271","v":0},{"$f":"Inventory!G1271","v":0}]
[{"$f":"Inventory!A1272","v":0},{"$f":"Inventory!G1272","v":0}]
[{"$f":"Inventory!A1273","v":0},{"$f":"Inventory!G1273","v":0}]
[{"$f":"Inventory!A1274","v":0},{"$f":"Inventory!G1274","v":0}]
[{"$f":"Inventory!A1275","v":0},{"$f":"Inventory!G1275","v":0}]
[{"$f":"Inventory!A1276","v":0},{"$f":"Inventory!G1276","v":0}]
[{"$f":"Inventory!A1277","v":0},{"$f":"Inventory!G1277","v":0}]
[{"$f":"Inventory!A1278","v":0},{"$f":"Inventory!G1278","v":0}]
[{"$f":"Inventory!A1279","v":0},{"$f":"Inventory!G1279","v":0}]
[{"$f":"Inventory!A1280","v":0},{"$f":"Inventory!G1280","v":0}]
[{"$f":"Inventory!A1281","v":0},{"$f":"Inventory!G1281","v":0}]
[{"$f":"Inventory!A1282","v":0},{"$f":"Inventory!G1282","v":0}]
[{"$f":"Inventory!A1283","v":0},{"$f":"Inventory!G1283","v":0}]
[{"$f":"Inventory!A1284","v":0},{"$f":"Inventory!G1284","v":0}]
[{"$f":"Inventory!A1285","v":0},{"$f":"Inventory!G1285","v":0}]
[{"$f":"Inventory!A1286","v":0},{"$f":"Inventory!G1286","v":0}]
[{"$f":"Inventory!A1287","v":0},{"$f":"Inventory!G1287","v":0}]
[{"$f":"Inventory!A1288","v":0},{"$f":"Inventory!G1288","v":0}]
[{"$f":"Inventory!A1289","v":0},{"$f":"Inventory!G1289","v":0}]
[{"$f":"Inventory!A1290","v":0},{"$f":"Inventory!G1290","v":0}]
[{"$f":"Inventory!A1291","v":0},{"$f":"Inventory!G1291","v":0}]
[{"$f":"Inventory!A1292","v":0},{"$f":"Inventory!G1292","v":0}]
[{"$f":"Inventory!A1293","v":0},{"$f":"Inventory!G1293","v":0}]
[{"$f":"Inventory!A1294","v":0},{"$f":"Inventory!G1294","v":0}]
[{"$f":"Inventory!A1295","v":0},{"$f":"Inventory!G1295","v":0}]
[{"$f":"Inventory!A1296","v":0},{"$f":"Inventory!G1296","v":0}]
[{"$f":"Inventory!A1297","v":0},{"$f":"Inventory!G1297","v":0}]
[{"$f":"Inventory!A1298","v":0},{"$f":"Inventory!G1298","v":0}]
[{"$f":"Inventory!A1299","v":0},{"$f":"Inventory!G1299","v":0}]
[{"$f":"Inventory!A1300","v":0},{"$f":"Inventory!G1300","v":0}]
[{"$f":"Inventory!A1301","v":0},{"$f":"Inventory!G1301","v":0}]
[{"$f":"Inventory!A1302","v":0},{"$f":"Inventory!G1302","v":0}]
[{"$f":"Inventory!A1303","v":0},{"$f":"Inventory!G1303","v":0}]
[{"$f":"Inventory!A1304","v":0},{"$f":"Inventory!G1304","v":0}]
[{"$f":"Inventory!A1305","v":0},{"$f":"Inventory!G1305","v":0}]
[{"$f":"Inventory!A1306","v":0},{"$f":"Inventory!G1306","v":0}]
[{"$f":"Inventory!A1307","v":0},{"$f":"Inventory!G1307","v":0}]
[{"$f":"Inventory!A1308","v":0},{"$f":"Inventory!G1308","v":0}]
[{"$f":"Inventory!A1309","v":0},{"$f":"Inventory!G1309","v":0}]
[{"$f":"Inventory!A1310","v":0},{"$f":"Inventory!G1310","v":0}]
[{"$f":"Inventory!A1311","v":0},{"$f":"Inventory!G1311","v":0}]
[{"$f":"Inventory!A1312","v":0},{"$f":"Inventory!G1312","v":0}]
[{"$f":"Inventory!A1313","v":0},{"$f":"Inventory!G1313","v":0}]
[{"$f":"Inventory!A1314","v":0},{"$f":"Inventory!G1314","v":0}]
[{"$f":"Inventory!A1315","v":0},{"$f":"Inventory!G1315","v":0}]
[{"$f":"Inventory!A1316","v":0},{"$f":"Inventory!G1316","v":0}]
[{"$f":"Inventory!A1317","v":0},{"$f":"Inventory!G1317","v":0}]
[{"$f":"Inventory!A1318","v":0},{"$f":"Inventory!G1318","v":0}]
[{"$f":"Inventory!A1319","v":0},{"$f":"Inventory!G1319","v":0}]
[{"$f":"Inventory!A1320","v":0},{"$f":"Inventory!G1320","v":0}]
[{"$f":"Inventory!A1321","v":0},{"$f":"Inventory!G1321","v":0}]
[{"$f":"Inventory!A1322","v":0},{"$f":"Inventory!G1322","v":0}]
[{"$f":"Inventory!A1323","v":0},{"$f":"Inventory!G1323","v":0}]
[{"$f":"Inventory!A1324","v":0},{"$f":"Inventory!G1324","v":0}]
[{"$f":"Inventory!A1325","v":0},{"$f":"Inventory!G1325","v":0}]
[{"$f":"Inventory!A1326","v":0},{"$f":"Inventory!G1326","v":0}]
[{"$f":"Inventory!A1327","v":0},{"$f":"Inventory!G1327","v":0}]
[{"$f":"Inventory!A1328","v":0},{"$f":"Inventory!G1328","v":0}]
[{"$f":"Inventory!A1329","v":0},{"$f":"Inventory!G1329","v":0}]
[{"$f":"Inventory!A1330","v":0},{"$f":"Inventory!G1330","v":0}]
[{"$f":"Inventory!A1331","v":0},{"$f":"Inventory!G1331","v":0}]
[{"$f":"Inventory!A1332","v":0},{"$f":"Inventory!G1332","v":0}]
[{"$f":"Inventory!A1333","v":0},{"$f":"Inventory!G1333","v":0}]
[{"$f":"Inventory!A1334","v":0},{"$f":"Inventory!G1334","v":0}]
[{"$f":"Inventory!A1335","v":0},{"$f":"Inventory!G1335","v":0}]
[{"$f":"Inventory!A1336","v":0},{"$f":"Inventory!G1336","v":0}]
[{"$f":"Inventory!A1337","v":0},{"$f":"Inventory!G1337","v":0}]
[{"$f":"Inventory!A1338","v":0},{"$f":"Inventory!G1338","v":0}]
[{"$f":"Inventory!A1339","v":0},{"$f":"Inventory!G1339","v":0}]
[{"$f":"Inventory!A1340","v":0},{"$f":"Inventory!G1340","v":0}]
[{"$f":"Inventory!A1341","v":0},{"$f":"Inventory!G1341","v":0}]
[{"$f":"Inventory!A1342","v":0},{"$f":"Inventory!G1342","v":0}]
[{"$f":"Inventory!A1343","v":0},{"$f":"Inventory!G1343","v":0}]
[{"$f":"Inventory!A1344","v":0},{"$f":"Inventory!G1344","v":0}]
[{"$f":"Inventory!A1345","v":0},{"$f":"Inventory!G1345","v":0}]
[{"$f":"Inventory!A1346","v":0},{"$f":"Inventory!G1346","v":0}]
[{"$f":"Inventory!A1347","v":0},{"$f":"Inventory!G1347","v":0}]
[{"$f":"Inventory!A1348","v":0},{"$f":"Inventory!G1348","v":0}]
[{"$f":"Inventory!A1349","v":0},{"$f":"Inventory!G1349","v":0}]
[{"$f":"Inventory!A1350","v":0},{"$f":"Inventory!G1350","v":0}]
[{"$f":"Inventory!A1351","v":0},{"$f":"Inventory!G1351","v":0}]
[{"$f":"Inventory!A1352","v":0},{"$f":"Inventory!G1352","v":0}]
[{"$f":"Inventory!A1353","v":0},{"$f":"Inventory!G1353","v":0}]
[{"$f":"Inventory!A1354","v":0},{"$f":"Inventory!G1354","v":0}]
[{"$f":"Inventory!A1355","v":0},{"$f":"Inventory!G1355","v":0}]
[{"$f":"Inventory!A1356","v":0},{"$f":"Inventory!G1356","v":0}]
[{"$f":"Inventory!A1357","v":0},{"$f":"Inventory!G1357","v":0}]
[{"$f":"Inventory!A1358","v":0},{"$f":"Inventory!G1358","v":0}]
[{"$f":"Inventory!A1359","v":0},{"$f":"Inventory!G1359","v":0}]
[{"$f":"Inventory!A1360","v":0},{"$f":"Inventory!G1360","v":0}]
[{"$f":"Inventory!A1361","v":0},{"$f":"Inventory!G1361","v":0}]
[{"$f":"Inventory!A1362","v":0},{"$f":"Inventory!G1362","v":0}]
[{"$f":"Inventory!A1363","v":0},{"$f":"Inventory!G1363","v":0}]
[{"$f":"Inventory!A1364","v":0},{"$f":"Inventory!G1364","v":0}]
[{"$f":"Inventory!A1365","v":0},{"$f":"Inventory!G1365","v":0}]
[{"$f":"Inventory!A1366","v":0},{"$f":"Inventory!G1366","v":0}]
[{"$f":"Inventory!A1367","v":0},{"$f":"Inventory!G1367","v":0}]
[{"$f":"Inventory!A1368","v":0},{"$f":"Inventory!G1368","v":0}]
[{"$f":"Inventory!A1369","v":0},{"$f":"Inventory!G1369","v":0}]
[{"$f":"Inventory!A1370","v":0},{"$f":"Inventory!G1370","v":0}]
[{"$f":"Inventory!A1371","v":0},{"$f":"Inventory!G1371","v":0}]
[{"$f":"Inventory!A1372","v":0},{"$f":"Inventory!G1372","v":0}]
[{"$f":"Inventory!A1373","v":0},{"$f":"Inventory!G1373","v":0}]
[{"$f":"Inventory!A1374","v":0},{"$f":"Inventory!G1374","v":0}]
[{"$f":"Inventory!A1375","v":0},{"$f":"Inventory!G1375","v":0}]
[{"$f":"Inventory!A1376","v":0},{"$f":"Inventory!G1376","v":0}]
[{"$f":"Inventory!A1377","v":0},{"$f":"Inventory!G1377","v":0}]
[{"$f":"Inventory!A1378","v":0},{"$f":"Inventory!G1378","v":0}]
[{"$f":"Inventory!A1379","v":0},{"$f":"Inventory!G1379","v":0}]
[{"$f":"Inventory!A1380","v":0},{"$f":"Inventory!G1380","v":0}]
[{"$f":"Inventory!A1381","v":0},{"$f":"Inventory!G1381","v":0}]
[{"$f":"Inventory!A1382","v":0},{"$f":"Inventory!G1382","v":0}]
[{"$f":"Inventory!A1383","v":0},{"$f":"Inventory!G1383","v":0}]
[{"$f":"Inventory!A1384","v":0},{"$f":"Inventory!G1384","v":0}]
[{"$f":"Inventory!A1385","v":0},{"$f":"Inventory!G1385","v":0}]
[{"$f":"Inventory!A1386","v":0},{"$f":"Inventory!G1386","v":0}]
[{"$f":"Inventory!A1387","v":0},{"$f":"Inventory!G1387","v":0}]
[{"$f":"Inventory!A1388","v":0},{"$f":"Inventory!G1388","v":0}]
[{"$f":"Inventory!A1389","v":0},{"$f":"Inventory!G1389","v":0}]
[{"$f":"Inventory!A1390","v":0},{"$f":"Inventory!G1390","v":0}]
[{"$f":"Inventory!A1391","v":0},{"$f":"Inventory!G1391","v":0}]
[{"$f":"Inventory!A1392","v":0},{"$f":"Inventory!G1392","v":0}]
[{"$f":"Inventory!A1393","v":0},{"$f":"Inventory!G1393","v":0}]
[{"$f":"Inventory!A1394","v":0},{"$f":"Inventory!G1394","v":0}]
[{"$f":"Inventory!A1395","v":0},{"$f":"Inventory!G1395","v":0}]
[{"$f":"Inventory!A1396","v":0},{"$f":"Inventory!G1396","v":0}]
[{"$f":"Inventory!A1397","v":0},{"$f":"Inventory!G1397","v":0}]
[{"$f":"Inventory!A1398","v":0},{"$f":"Inventory!G1398","v":0}]
[{"$f":"Inventory!A1399","v":0},{"$f":"Inventory!G1399","v":0}]
[{"$f":"Inventory!A1400","v":0},{"$f":"Inventory!G1400","v":0}]
[{"$f":"Inventory!A1401","v":0},{"$f":"Inventory!G1401","v":0}]
[{"$f":"Inventory!A1402","v":0},{"$f":"Inventory!G1402","v":0}]
[{"$f":"Inventory!A1403","v":0},{"$f":"Inventory!G1403","v":0}]
[{"$f":"Inventory!A1404","v":0},{"$f":"Inventory!G1404","v":0}]
[{"$f":"Inventory!A1405","v":0},{"$f":"Inventory!G1405","v":0}]
[{"$f":"Inventory!A1406","v":0},{"$f":"Inventory!G1406","v":0}]
[{"$f":"Inventory!A1407","v":0},{"$f":"Inventory!G1407","v":0}]
[{"$f":"Inventory!A1408","v":0},{"$f":"Inventory!G1408","v":0}]
[{"$f":"Inventory!A1409","v":0},{"$f":"Inventory!G1409","v":0}]
[{"$f":"Inventory!A1410","v":0},{"$f":"Inventory!G1410","v":0}]
[{"$f":"Inventory!A1411","v":0},{"$f":"Inventory!G1411","v":0}]
[{"$f":"Inventory!A1412","v":0},{"$f":"Inventory!G1412","v":0}]
[{"$f":"Inventory!A1413","v":0},{"$f":"Inventory!G1413","v":0}]
[{"$f":"Inventory!A1414","v":0},{"$f":"Inventory!G1414","v":0}]
[{"$f":"Inventory!A1415","v":0},{"$f":"Inventory!G1415","v":0}]
[{"$f":"Inventory!A1416","v":0},{"$f":"Inventory!G1416","v":0}]
[{"$f":"Inventory!A1417","v":0},{"$f":"Inventory!G1417","v":0}]
[{"$f":"Inventory!A1418","v":0},{"$f":"Inventory!G1418","v":0}]
[{"$f":"Inventory!A1419","v":0},{"$f":"Inventory!G1419","v":0}]
[{"$f":"Inventory!A1420","v":0},{"$f":"Inventory!G1420","v":0}]
[{"$f":"Inventory!A1421","v":0},{"$f":"Inventory!G1421","v":0}]
[{"$f":"Inventory!A1422","v":0},{"$f":"Inventory!G1422","v":0}]
[{"$f":"Inventory!A1423","v":0},{"$f":"Inventory!G1423","v":0}]
[{"$f":"Inventory!A1424","v":0},{"$f":"Inventory!G1424","v":0}]
[{"$f":"Inventory!A1425","v":0},{"$f":"Inventory!G1425","v":0}]
[{"$f":"Inventory!A1426","v":0},{"$f":"Inventory!G1426","v":0}]
[{"$f":"Inventory!A1427","v":0},{"$f":"Inventory!G1427","v":0}]
[{"$f":"Inventory!A1428","v":0},{"$f":"Inventory!G1428","v":0}]
[{"$f":"Inventory!A1429","v":0},{"$f":"Inventory!G1429","v":0}]
[{"$f":"Inventory!A1430","v":0},{"$f":"Inventory!G1430","v":0}]
[{"$f":"Inventory!A1431","v":0},{"$f":"Inventory!G1431","v":0}]
[{"$f":"Inventory!A1432","v":0},{"$f":"Inventory!G1432","v":0}]
[{"$f":"Inventory!A1433","v":0},{"$f":"Inventory!G1433","v":0}]
[{"$f":"Inventory!A1434","v":0},{"$f":"Inventory!G1434","v":0}]
[{"$f":"Inventory!A1435","v":0},{"$f":"Inventory!G1435","v":0}]
[{"$f":"Inventory!A1436","v":0},{"$f":"Inventory!G1436","v":0}]
[{"$f":"Inventory!A1437","v":0},{"$f":"Inventory!G1437","v":0}]
[{"$f":"Inventory!A1438","v":0},{"$f":"Inventory!G1438","v":0}]
[{"$f":"Inventory!A1439","v":0},{"$f":"Inventory!G1439","v":0}]
[{"$f":"Inventory!A1440","v":0},{"$f":"Inventory!G1440","v":0}]
[{"$f":"Inventory!A1441","v":0},{"$f":"Inventory!G1441","v":0}]
[{"$f":"Inventory!A1442","v":0},{"$f":"Inventory!G1442","v":0}]
[{"$f":"Inventory!A1443","v":0},{"$f":"Inventory!G1443","v":0}]
[{"$f":"Inventory!A1444","v":0},{"$f":"Inventory!G1444","v":0}]
[{"$f":"Inventory!A1445","v":0},{"$f":"Inventory!G1445","v":0}]
[{"$f":"Inventory!A1446","v":0},{"$f":"Inventory!G1446","v":0}]
[{"$f":"Inventory!A1447","v":0},{"$f":"Inventory!G1447","v":0}]
[{"$f":"Inventory!A1448","v":0},{"$f":"Inventory!G1448","v":0}]
[{"$f":"Inventory!A1449","v":0},{"$f":"Inventory!G1449","v":0}]
[{"$f":"Inventory!A1450","v":0},{"$f":"Inventory!G1450","v":0}]
[{"$f":"Inventory!A1451","v":0},{"$f":"Inventory!G1451","v":0}]
[{"$f":"Inventory!A1452","v":0},{"$f":"Inventory!G1452","v":0}]
[{"$f":"Inventory!A1453","v":0},{"$f":"Inventory!G1453","v":0}]
[{"$f":"Inventory!A1454","v":0},{"$f":"Inventory!G1454","v":0}]
[{"$f":"Inventory!A1455","v":0},{"$f":"Inventory!G1455","v":0}]
[{"$f":"Inventory!A1456","v":0},{"$f":"Inventory!G1456","v":0}]
[{"$f":"Inventory!A1457","v":0},{"$f":"Inventory!G1457","v":0}]
[{"$f":"Inventory!A1458","v":0},{"$f":"Inventory!G1458","v":0}]

{"sheet":"Recipes","index":8,"n_rows":28,"n_cols":93,"rows_kept":28,"cut":false,"hidden":false,"merged":[]}
["Cookieman Cookies","Qty","Units of Measure","Beef Stroganoff","Qty","Units of Measure","Simple Vanilla Ice Cream","Qty","Units of Measure","Classic Biscuits","Qty","Units of Measure","Broccoli Cheese Soup","Qty","Units of Measure","Oven Fajitas","Qty","Units of Measure","Grilled Cheese","Qty","Units of Measure","Hamburgers","Qty","Units of Measure","Maple Syrup","Qty","Units of Measure","Corn","Qty","Units of Measure","Crepes","Qty","Units of Measure","Supreme Strawberry Topping","Qty","Units of Measure","Cream Cheese Filling","Qty","Units of Measure","Tortilla","Qty","Units of Measure","Turkey","Qty","Units of Measure","Shoyu Chicken","Qty","Units of Measure","Tomato Soup","Qty","Units of Measure","Tomato Soup","Qty","Units of Measure","Classic Spicy Meatloaf Recipe ","Qty","Units of Measure","Cake Doughnuts Recipe ","Qty","Units of Measure","Baked Teriyaki Chicken Recipe ","Qty","Units of Measure","Sweet, Sticky and Spicy Chicken Recipe ","Qty","Units of Measure","Lemon Squares I Recipe ","Qty","Units of Measure","Mom's Chicken Pot Pie","Qty","Units of Measure","Old Fashioned Beef Stew","Qty","Units of Measure","Slow Cooker Beef Stroganoff","Qty","Units of Measure","Slow Cooker Buffalo Chicken Sandwiches Recipe ","Qty","Units of Measure","Jamie's Minestrone Recipe ","Qty","Units of Measure","Slow Cooker Ground Beef Barbecue","Qty","Units of Measure","World's Best Lasagna Recipe ","Qty","Units of Measure","Caramel Pecan Sweet Rolls ","Qty","Units of Measure"]
["Flour",2.5,"Cups","Ground beef",1,"lb","Milk (whole)",1.5,"Cups","Flour",2,"Cups","Butter",0.5,"Cups","Chili Powder",1,"tbsp","Bread",10,"Each","Beef Patties",2,"lb","Sugar",2,"Cups","Corn",1,"Each","Flour",1,"Cups","Strawberries",2,"lb","Cream Cheese",1,"Each","Flour",4,"Cups","Turkey (whole)",1,"Each","Soy Sauce",1,"Cups","Tomato Soup",2,"Each","Tomato Soup",2,"Each","Butter",2,"tbsp","Flour",2.5,"Cups","Cornstarch",1,"tbsp","Brown Sugar",1,"tbsp","Butter",1,"Cups","Butter",0.3333333432674408,"Cups","Vegetable Oil",4,"tbsp","Chuck Steak",1,"lbs","Chicken",3,"lb","Olive Oil",3,"tbsp","Ground Beef",3,"lbs","Sausage",1,"lbs","MILK 2%",0.5,"Cups"]
["Salt",1,"tsp","Onion",0.5,"Cups","Sugar",1.125,"Cups","Sugar",1,"tbsp","Onion",1,"Each","Paprika",0.5,"tbsp","Cheddar",1.5,"Cups","Ketchup",0.25,"Cups","Water",1,"Cups",null,null,null,"Eggs",2,"Each","Sugar",0.33300000000000002,"Cups","Butter",0.25,"Cups","Baking Powder",1,"tsp","Celery",4,"Cups","Brown Sugar",1,"Cups",null,null,null,null,null,null,"Onion",1,"Cups","Sugar",0.5,"Cups","Water",1,"tbsp","Honey",2,"tbsp","Flour",2,"Cups","Onion",0.3333333432674408,"Cups","Flour",0.5,"Cups","Cream of Mushroom",1,"Each","Buffalo Wing Sauce",1.5,"Cups","Garlic",3,"Each","Onion",1,"Each","Ground Beef",0.75,"lbs","Sugar",0.5,"tsp"]
["Baking Soda",1,"tsp","Cream of Mushroom",1,"Each","Heavy Whipping Cream",3,"Cups","Baking Powder",3,"tsp","Broccoli",1,"lb","Onion Powder",0.5,"tsp","Butter",0.25,"Cups","Mayo",0.125,"Cups","Mapleine",2,"tbsp",null,null,null,"MILK 2%",0.5,"Cups","Vanilla",1,"tsp","Lemon Juice",2,"tbsp","Salt",1,"tsp","Olive Oil",0.25,"Cups","Water",1,"Cups",null,null,null,null,null,null,"Green Onions",0.5,"Cups","Baking Powder",1,"tbsp","Sugar",0.5,"Cups","Soy Sauce",0.25,"Cups","Powdered Sugar",0.5,"Cups","Flour",0.3333333432674408,"Cups","Garlic Powder",1,"tbsp","Onion",0.5,"Cups","Ranch Salad Dressing Mix",1,"Each","Onion",2,"Each","Garlic",1,"tbsp","Onion",1,"Each","Salt",0.5,"tsp"]
["Butter",1,"Cups","MILK 2%",0.25,"Cups","Vanilla",1.5,"tbsp","Butter",0.5,"Cups","Chicken-Broth",4,"Each","Garlic Powder",0.25,"tsp","Grill the sandwich",null,null,"Mustard",0.125,"Cups","Combine and boil water and sugar until clear",null,null,null,null,null,"Water",0.5,"Cups","Wash strawberries and remove stems; cut large berries in half or roughly chop them.",null,null,"Powdered Sugar",3.75,"Cups","Yogurt",1,"Cups","Salt",3,"tbsp","Garlic",2,"tbsp",null,null,null,null,null,null,"Carrots",1,"Each","Salt",0.5,"tsp","Soy Sauce",0.5,"Cups","Ginger",2,"tsp","Sugar",2,"Cups","Salt",0.5,"tsp","Salt",1,"tsp","Worcestershire Sauce",1,"tbsp","Butter",2,"tbsp","Celery",2,"Cups","Celery",2,"Cups","Garlic",1,"tbsp","Butter",0.25,"Cups"]
["Sugar",0.75,"Cups","Sour Cream",1,"Cups","Wisk milk and sugar",null,null,"MILK 2%",0.75,"Cups","Velveeta",1,"lb","Cayenne Pepper",0.125,"tsp",null,null,null,"Grill Patties",null,null,"add Mapleine",null,null,null,null,null,"Salt",0.25,"tsp","Combine strawberries, sugar, and vanilla in a saucepan. Cook over medium-high heat, stirring occasionally. The mixture will sizzle for a while, but then juice will begin to form. Continue stirring; mash a few strawberries with a wooden spoon or heat-proof spatula to help produce the syrup. Cook until sauce thickens, about 15 minutes.",null,null,"Beat cream cheese, butter and lemon juice in large bowl with mixer until well blended. Gradually add sugar, beating well after each addition",null,null,"Heavy Whipping Cream",1,"Cups","Aluminum Foil",0.05,"Each","Onion",1,"Each",null,null,null,null,null,null,"Celery",1,"Each","Cinnamon",1,"tsp","Apple Cider Vinegar",0.25,"Cups","Garlic",2,"tsp","Eggs",4,"Each","Pepper",0.25,"tsp","Pepper",1,"tsp","Water",0.25,"Cups","Place the chicken breasts into a slow cooker, and pour in 3/4 of the wing sauce and the ranch dressing mix. Cover, and cook on Low for 6 to 7 hours.",null,null,"Carrots",5,"Each","Salt",1.5,"tsp","(28 ounce) Can Crushed Tomatoes",1,"Each","Water",0.125,"Cups"]
["Brown Sugar",0.75,"Cups","Garlic Powder",0.25,"tsp","Stir in heavy cream and vanilla",null,null,"Heat the oven to 450°F. In a medium bowl, stir the flour, sugar, baking powder and salt until mixed. Cut in the shortening using a pastry blender or fork, until mixture looks like fine crumbs. Stir in the milk until mixture forms a soft dough and leaves the side of the bowl (dough will be soft and sticky).",null,null,"MILK 2%",2,"Cups","Sugar",1,"tsp",null,null,null,null,null,null,null,null,null,null,null,null,"Butter",2,"tbsp","Remove from heat. In a blender, puree about 1/3 of the sauce, then mix back into remaining topping. Store in refrigerator.",null,null,null,null,null,"Mix all togeather",null,null,"Thaw Turkey",null,null,"Ginger",1,"tbsp",null,null,null,null,null,null,"Garlic",1,"tbsp","Nutmeg",0.25,"tsp","Garlic",1,"tbsp","Hot Sauce",2,"tbsp","Lemon",1,"Each","Chicken-Broth",1,"Each","Chuck Steak",2,"lb","Cream Cheese",1,"Each","Once the chicken has cooked, add the butter, and shred the meat finely with two forks. Pile the meat onto the hoagie rolls, and splash with the remaining buffalo wing sauce to serve.",null,null,"Chicken-Broth",2,"Cups","Pepper",0.5,"tsp","(6 ounce) Can Tomato Paste",2,"Each","Yeast",1,"Each"]
["Vanilla",1,"tsp","Salt",0.125,"tsp","put into icream machine for 30min",null,null,"Lightly sprinkle flour over a cutting board or countertop. Place dough on floured surface; gently roll in the flour to coat. To knead dough, fold dough toward you. With the heels of your hands, lightly push dough away from you with a short rocking motion. Move dough a quarter turn and repeat 10 times. Dough will feel springy and smooth",null,null,"Garlic Powder",1,"tbsp","Salt",0.5,"tsp",null,null,null,null,null,null,null,null,null,null,null,null,"In a large mixing bowl, whisk together the flour and the eggs. Gradually add in the milk and water, stirring to combine. Add the salt and butter; beat until smooth.",null,null,null,null,null,null,null,null,"Pull off 1/4 cup balls",null,null,"Rub Turkey with olive oil and salt",null,null,"Pepper",1,"tbsp",null,null,null,null,null,null,"Ketchup",0.66666668653488159,"Cups","MILK 2%",1,"Cups","Ginger",0.5,"tsp","Chicken",4,"Each","Lemon Juice",6,"tbsp","MILK 2%",0.66666668653488159,"Cups","Onion",2,"Cups","In a slow cooker, combine the meat, soup, onion, Worcestershire sauce and water.",null,null,"http://allrecipes.com/recipe/176132/slow-cooker-buffalo-chicken-sandwiches/?internalSource=recipe%20hub&referringId=17253&referringContentType=recipe%20hub",null,null,"Water",2,"Cups","Apple Cider Vinegar",1,"tbsp","Tomato Sauce",2,"Each","Eggs",1,"Each"]
["Eggs",1,"Each","Pepper",0.125,"tsp",null,null,null,"On the floured surface, flatten dough evenly, using hands or a rolling pin, until dough is 1/2 inch thick.",null,null,"Cornstarch",0.67,"Cups","Cornstarch",0.5,"tsp",null,null,null,null,null,null,null,null,null,null,null,null,"Heat a lightly oiled griddle or frying pan over medium high heat. Pour or scoop the batter onto the griddle, using approximately 1/4 cup for each crepe. Tilt the pan with a circular motion so that the batter coats the surface evenly.",null,null,null,null,null,null,null,null,"Roll out",null,null,"Bake at 350 deg until inside temp is 165 deg",null,null,"Oregano",1,"tbsp",null,null,null,null,null,null,"Worcestershire Sauce",2,"tsp","Eggs",1,"Each","Pepper",0.25,"tsp","Vegetable Oil",1,"tbsp","Baking Powder",0.5,"tsp","Chicken",1,"lb","Potatoes",3,"lb","Cook on Low setting for 8 hours, or on High setting for about 5 hours. Stir in cream cheese just before serving.",null,null,null,null,null,"Tomato Sauce",4,"Cups","Mustard",2,"tbsp","Water",0.5,"Cups","Flour",2.5,"Cups"]
["Sweet Chocolate Chips",2,"Cups","Egg Noodles",2,"Cups",null,null,null,"Before cutting each biscuit, dip a 2 1/2-inch round cutter into flour to lightly coat it so it will cut cleanly through the dough without sticking. To cut, push the cutter straight down through the dough without twisting or turning. Cut the biscuits as close together as possible. On an ungreased cookie sheet, place biscuits about 1 inch apart for biscuits with crusty sides, or place with sides touching for biscuits with soft sides.",null,null,"Water",1,"Cups","Onion",2,"Each",null,null,null,null,null,null,null,null,null,null,null,null,"Cook the crepe for about 2 minutes, until the bottom is light brown. Loosen with a spatula, turn and cook the other side. Serve hot.",null,null,null,null,null,null,null,null,"Fry on both sides",null,null,"15 min per pound",null,null,"Red Pepper",1,"tsp",null,null,null,null,null,null,"Salt",2,"tsp","Butter",0.25,"Cups","Chicken",2.5,"lb","Mix together brown sugar, honey, soy sauce, ginger, garlic and hot sauce in a small bowl.",null,null,"Flour",1,"tbsp","Peas (Can)",1,"Each","Carrots",1,"Cups","http://allrecipes.com/recipe/16352/slow-cooker-beef-stroganoff-i/?internalSource=recipe%20hub&referringId=17253&referringContentType=recipe%20hub",null,null,null,null,null,"Kidney Beans",1,"Each","Brown Sugar",0.25,"Cups","Sugar",2,"tbsp","Butter",2,"tbsp"]
["Melt butter",null,null,"Boil egg noodles",null,null,null,null,null,"Bake 10 to 12 minutes or until golden brown. Immediately remove from cookie sheet. Serve warm.",null,null,"In a stockpot, melt butter over medium heat. Cook onion in butter until softened. Stir in broccoli, and cover with chicken broth. Simmer until broccoli is tender, 10 to 15 minutes.",null,null,"Green Bell Pepper",2,"Each",null,null,null,null,null,null,null,null,null,null,null,null,null,null,null,null,null,null,null,null,null,null,null,null,null,null,null,"Paprika",1,"tsp",null,null,null,null,null,null,"Pepper",1.5,"tsp","Vanilla",2,"tsp","In a small saucepan over low heat, combine the cornstarch, cold water, sugar, soy sauce, vinegar, garlic, ginger and ground black pepper. Let simmer, stirring frequently, until sauce thickens and bubbles.",null,null,"Lightly salt and pepper the chicken strips.",null,null,"Preheat oven to 325 degrees F (160 degrees C).  Grease a 9x13 inch pan.",null,null,"Potatoes",1,"lb","Celery",0.5,"Each",null,null,null,null,null,null,"Green Beans",1,"Each","Ketchup",3.5,"Cups","Basil",1.5,"tsp","Sugar",0.25,"Cups"]
["Cream togeather butter, sugar, brown sugar, sugar, eggs and Vanilla",null,null,"Brown beef and onion in olive over medium -high heat",null,null,null,null,null,null,null,null,"Reduce heat, and stir in cheese cubes until melted. Mix in milk and garlic powder.",null,null,"Red Bell Pepper",1,"Each",null,null,null,null,null,null,null,null,null,null,null,null,null,null,null,null,null,null,null,null,null,null,null,null,null,null,null,"Chicken",5,"lb",null,null,null,null,null,null,"Ground Beef",1.5,"lbs","Vegetable Oil",2,"quarts","Preheat oven to 425 degrees F (220 degrees C).",null,null,"Heat oil in a large skillet over medium heat. Add chicken strips and brown on both sides, about 1 minute per side. Pour the sauce over the chicken. Simmer uncovered until the sauce thickens, 8 to 10 minutes.",null,null,"To make crust:  In a large mixing bowl, beat together the butter, 2 cups of the flour, and confectioners&#39; sugar until fluffy. Scrape mixture into the pan and smooth. Bake 15 minutes.",null,null,"Preheat oven to 425 degrees F (220 degrees C).",null,null,"Beef Broth",3,"Each",null,null,null,null,null,null,"Spinach",2,"Cups","Place ground beef in a large skillet over medium heat, and cook until brown, breaking up the meat as it cooks, about 15 minutes. Drain excess grease.",null,null,"Fennel Seeds",0.5,"tsp","Cinnamon",1,"tsp"]
["Add dry ingredients and mix well",null,null,"Drain off Fat",null,null,null,null,null,null,null,null,"In a small bowl, stir cornstarch into water until dissolved. Stir into soup; cook, stirring frequently, until thick.",null,null,"Chicken",1,"lb",null,null,null,null,null,null,null,null,null,null,null,null,null,null,null,null,null,null,null,null,null,null,null,null,null,null,null,"Whisk together the soy sauce, brown sugar, water, garlic, onion, ginger, black pepper, oregano, red pepper flakes, cayenne pepper, and paprika in a large glass or ceramic bowl. Add the chicken thighs, and toss to evenly coat. Cover the bowl with plastic wrap, and marinate the chicken in the refrigerator for at least 1 hour.",null,null,null,null,null,null,null,null,"Sausage",0.75,"lbs","Cinnamon",0.5,"tsp","Place chicken pieces in a lightly greased 9x13 inch baking dish. Brush chicken with the sauce. Turn pieces over, and brush again.",null,null,"salt and pepper to taste",null,null,"In a  medium bowl, beat the eggs and sugar.  Grate the rind of the lemon and add the rind, along with 6 tablespoons of lemon juice,  to the egg mixture. Sprinkle 1 tablespoon of flour and the baking powder over the mixture.  Fold in the nuts and mix until well blended. Pour the lemon mixture into the crust.",null,null,"Melt butter in a large skillet over medium heat. Cook and stir onion, flour, salt, and pepper in melted butter until the onion is translucent, about 5 minutes.",null,null,"Flour",3,"tbsp",null,null,null,null,null,null,"Zucchini",3,"Each","Place the cooked meat, onion, garlic, celery, salt, black pepper, cider vinegar, mustard, brown sugar, and ketchup into a slow cooker, and stir to combine. Set the cooker on Low, and cook for 6 to 8 hours.",null,null,"Italian Seasoning",1,"tsp","Light Corn Syrup",2,"tbsp"]
["Fold in two chocolate chips",null,null,"add seasonings, soup and milk.",null,null,null,null,null,null,null,null,null,null,null,"Olive Oil",2,"tbsp",null,null,null,null,null,null,null,null,null,null,null,null,null,null,null,null,null,null,null,null,null,null,null,null,null,null,null,"Preheat an outdoor grill for medium heat, and lightly oil the grate.",null,null,null,null,null,null,null,null,"Bread Crumbs",1,"Cups","Sugar",0.5,"Cups","Bake in the preheated oven for 30 minutes. Turn pieces over, and bake for another 30 minutes, until no longer pink and juices run clear. Brush with sauce every 10 minutes during cooking.",null,null,"http://allrecipes.com/recipe/143082/sweet-sticky-and-spicy-chicken/?internalSource=previously%20saved&referringContentType=home%20page",null,null,"Bake for another 35 minutes, until filling is set.  Let cool before cutting.",null,null,"Remove skillet from heat and pour chicken broth and milk into the skillet; bring the mixture to a boil and cook to thicken slightly, about 1 minute.",null,null,"Water",1,"tbsp",null,null,null,null,null,null,"Oregano",1,"tbsp","http://allrecipes.com/recipe/217123/slow-cooker-ground-beef-barbecue/?internalSource=search%20result&referringContentType=search%20results",null,null,"Salt",1,"tbsp","Water",1.5,"tbsp"]
["Mix last part by hand",null,null,"Cook over mediu, heat about 20 min, stirring frequently.",null,null,null,null,null,null,null,null,null,null,null,"Lime",1,"Each",null,null,null,null,null,null,null,null,null,null,null,null,null,null,null,null,null,null,null,null,null,null,null,null,null,null,null,"Remove the chicken thighs from the marinade. Discard the remaining marinade. Grill the chicken thighs on the preheated grill until cooked through, about 15 minutes per side.",null,null,null,null,null,null,null,null,"Parsley",0.3333333432674408,"Cups","In a large bowl, stir together the flour, 1/2 cup sugar, baking powder, salt, 1 teaspoon of cinnamon and nutmeg. Make a well in the center and pour in the milk, egg, butter, and vanilla. Mix until well blended. Cover and refrigerate for 1 hour.",null,null,"http://allrecipes.com/recipe/9023/baked-teriyaki-chicken/?internalSource=previously%20saved&referringContentType=home%20page",null,null,null,null,null,"http://allrecipes.com/recipe/9735/lemon-squares-i/?internalSource=previously%20saved&referringContentType=home%20page",null,null,"Remove skillet from heat and stir chicken, peas and carrots, and potatoes into the broth mixture.",null,null,"In a large pot heat oil over medium high heat. In a resealable plastic bag mix together the flour, garlic powder, salt and pepper. Add a small handful of meat at a time and shake until well coated; brown in hot oil, about 1 minute per side. Remove the browned meat and continue until all the meat is browned.",null,null,null,null,null,null,null,null,"Basil",2,"tbsp",null,null,null,"Pepper",0.25,"tsp","Butter",3,"tbsp"]
["Bake at 350 deg until cracked on top",null,null,"add sour cream and heat through",null,null,null,null,null,null,null,null,null,null,null,"Sour Cream",0.5,"Cups",null,null,null,null,null,null,null,null,null,null,null,null,null,null,null,null,null,null,null,null,null,null,null,null,null,null,null,"Tip\nAluminum foil can be used to keep food moist, cook it evenly, and make clean-up easier.",null,null,null,null,null,null,null,null,"Eggs",2,"Each","Heat oil in a deep heavy skillet or deep-fryer to 370 degrees F (185 degrees C). On a floured board, roll chilled dough out to 1/2 inch thickness. Use a 3 inch round cutter to cut out doughnuts. Use a smaller cutter to cut holes from center. If you do not have a small cutter, use the mouth of a bottle.",null,null,null,null,null,null,null,null,null,null,null,"Press one pie pastry into the bottom of a deep-dish pie pan. Pour the broth mixture into the pie pastry. Top with remaining pastry and press edges together to form a seal. Cut several slits into the top pastry. Place pie plate on a baking sheet.",null,null,"Lower heat to medium and add onions. Brown onions on both sides, about 3 minutes per side, then remove from pot and set aside. Drain excess fat from pot.",null,null,null,null,null,null,null,null,"Seashell Pasta",0.5,"Cups",null,null,null,"Parsley",4,"tbsp","Brown Sugar",0.75,"Cups"]
["Make balls with 1/3 cup",null,null,"Serve over egg noodles",null,null,null,null,null,null,null,null,null,null,null,"Cilantro",0.25,"Each",null,null,null,null,null,null,null,null,null,null,null,null,null,null,null,null,null,null,null,null,null,null,null,null,null,null,null,null,null,null,null,null,null,null,null,null,"Preheat oven to 350 degrees F (175 degrees C).",null,null,"Fry doughnuts in hot oil until golden brown, turning once. Remove from oil to drain on paper plates. Combine the remaining 1/2 teaspoon cinnamon and 1/2 cup sugar in a large resealable bag. Place a few warm donuts into the bag at a time, seal and shake to coat.",null,null,null,null,null,null,null,null,null,null,null,"Bake in preheated oven until the crust is golden brown, about 30 minutes. Let pie cool and filling thicken at room temperature for 15 to 20 minutes before cutting.",null,null,"To pot add potatoes, carrots, celery, reserved onions, browned meat and broth. Stir all together and bring to a boil. Reduce heat to low, cover and simmer for 2 hours, stirring occasionally.",null,null,null,null,null,null,null,null,"Parm Cheese - Dry",2,"tbsp",null,null,null,"Lasagna Noodles",1,"Each","Pecans",0.5,"Cups"]
["Let cool for 5 min",null,null,null,null,null,null,null,null,null,null,null,null,null,null,"Preheat oven to 400 degrees",null,null,null,null,null,null,null,null,null,null,null,null,null,null,null,null,null,null,null,null,null,null,null,null,null,null,null,null,null,null,null,null,null,null,null,null,null,null,"Heat butter in a large heavy skillet over medium heat; cook and stir onion, green onions, carrot, celery, and garlic until fragrant, about 5 minutes. Cover skillet with a lid and cook, stirring occasionally, until carrot is tender, about 5 more minutes. Stir 1/3 cup ketchup, Worcestershire sauce, salt, and pepper into vegetable mixture; cook until warmed through, about 1 minute.",null,null,"http://allrecipes.com/recipe/33625/cake-doughnuts/",null,null,null,null,null,null,null,null,null,null,null,"Put the flour, salt and sugar into a food processor and pulse once or twice.",null,null,"For a thicker broth: 1/2 hour before stew is done, combine 3 tablespoons flour and water in a small bowl and mix well, then slowly stir mixture into stew.",null,null,null,null,null,null,null,null,"Olive Oil",1,"tbsp",null,null,null,"Ricotta Cheese",1,"Cups","Pour the milk into a small saucepan, and set over medium heat. Heat just until a skin starts to form on the top, then remove from the stove, and stir in salt and 1/4 cup margarine. Allow to cool to lukewarm."]
[null,null,null,null,null,null,null,null,null,null,null,null,null,null,null,"Mix ingrediants for the seasoning in a bowl and set aside",null,null,null,null,null,null,null,null,null,null,null,null,null,null,null,null,null,null,null,null,null,null,null,null,null,null,null,null,null,null,null,null,null,null,null,null,null,null,"Mix ground beef, sausage, vegetable mixture, bread crumbs, parsley, and eggs in a large bowl; form into a loaf and place in a rectangular baking pan with 2-inch high sides. Cover loaf with remaining 1/3 cup ketchup.",null,null,null,null,null,null,null,null,null,null,null,null,null,null,"Add the butter and process until the mixture looks grainy.",null,null,"http://allrecipes.com/recipe/23890/angels-old-fashioned-beef-stew/?internalSource=staff%20pick&referringId=14730&referringContentType=recipe%20hub",null,null,null,null,null,null,null,null,"In a large stock pot, over medium-low heat,  heat olive oil and saute garlic for 2 to 3 minutes.  Add onion and saute for 4 to 5 minutes.  Add celery and carrots, saute for 1 to 2 minutes.",null,null,null,null,null,"Eggs",1,"Each","Place 1/8 cup of  warm water in a small bowl. Stir in 1/2 teaspoon sugar. Sprinkle yeast over the surface, and let stand until foamy, 5 to 10 minutes."]
[null,null,null,null,null,null,null,null,null,null,null,null,null,null,null,"Cut onions and peppers and place them in a casserol dish",null,null,null,null,null,null,null,null,null,null,null,null,null,null,null,null,null,null,null,null,null,null,null,null,null,null,null,null,null,null,null,null,null,null,null,null,null,null,"Bake in the preheated oven until no longer pink in the center, about 1 hour. An instant-read thermometer inserted into the center should read at least 160 degrees F (70 degrees C).",null,null,null,null,null,null,null,null,null,null,null,null,null,null,"Then slowly, while pulsing, add the water until you can form the dough by pressing it between your fingers.",null,null,null,null,null,null,null,null,null,null,null,"Add chicken broth, water and tomato sauce, bring to boil, stirring frequently. If desired add red wine at this point.  Reduce heat to low and add kidney beans, green beans, spinach leaves, zucchini, oregano, basil, salt and pepper.  Simmer for 30 to 40 minutes, the longer the better.",null,null,null,null,null,"Salt",0.5,"tsp","In a large bowl, stir together the cooled milk mixture and the yeast for 2 minutes using an electric mixer on medium speed. Add egg, and mix well. Use a large wooden spoon to stir in flour 1/2 cup at a time, mixing well after each addition until the mixture forms a dough. Knead on a floured surface, adding more flour if necessary, until dough is smooth and elastic, about 8 minutes. Place in an oiled bowl, and turn once to coat the top. Cover, and let rise until doubled in size, 1 to 2 hours."]
[null,null,null,null,null,null,null,null,null,null,null,null,null,null,null,"Slice chicken breast into thin strips and sdd to the casserol dish",null,null,null,null,null,null,null,null,null,null,null,null,null,null,null,null,null,null,null,null,null,null,null,null,null,null,null,null,null,null,null,null,null,null,null,null,null,null,"http://allrecipes.com/recipe/235250/classic-spicy-meatloaf/?internalSource=staff%20pick&referringContentType=home%20page",null,null,null,null,null,null,null,null,null,null,null,null,null,null,"Decant the loose dough onto a piece of plastic wrap.",null,null,null,null,null,null,null,null,null,null,null,"Fill a medium saucepan with water and bring to a boil.  Add macaroni and cook until tender.  Drain water and set aside.",null,null,null,null,null,"Mozzarella Cheese",0.75,"Cups","Punch down dough, and let rest on the counter while you prepare the caramel topping. In a medium bowl, mix together the corn syrup, 1 1/2 tablespoons of water, 3 tablespoons of margarine and brown sugar until smooth. Spread an even layer onto the bottom of a 9x9 inch baking dish. Place pecan halves upside down in rows over the sugar mixture.  Set aside."]
[null,null,null,null,null,null,null,null,null,null,null,null,null,null,null,"Sprinkle seasoning over the meat",null,null,null,null,null,null,null,null,null,null,null,null,null,null,null,null,null,null,null,null,null,null,null,null,null,null,null,null,null,null,null,null,null,null,null,null,null,null,null,null,null,null,null,null,null,null,null,null,null,null,null,null,null,"Using the wrap, fold the loose dough towards the middle and press with the back of your hands to form dough.",null,null,null,null,null,null,null,null,null,null,null,"Once pasta is cooked and soup is heated through place 2 tablespoons cooked pasta into individual serving bowls.  Ladle soup on top of pasta and sprinkle Parmesan cheese on top.  Spray with olive oil and serve.",null,null,null,null,null,"Parmesan cheese",0.75,"Cups","On a lightly floured surface, roll dough out to a 9x12 inch rectangle Spread with 2 tablespoons of margarine. Mix together 1/4 cup of sugar with the cinnamon; sprinkle over the margarine. Roll the dough up starting at the long end to form a log. Pinch the seam together to seal. Cut the roll into 1 inch rounds. Place the rounds into the prepared baking dish. Set in a warm place to rise until doubled, about 30 minutes."]
[null,null,null,null,null,null,null,null,null,null,null,null,null,null,null,"Drizzle olive oil over the meat",null,null,null,null,null,null,null,null,null,null,null,null,null,null,null,null,null,null,null,null,null,null,null,null,null,null,null,null,null,null,null,null,null,null,null,null,null,null,null,null,null,null,null,null,null,null,null,null,null,null,null,null,null,"Split into two pieces and wrap each and chill for at least 4 hours before using.",null,null,null,null,null,null,null,null,null,null,null,"salt and pepper to taste",null,null,null,null,null,"In a Dutch oven, cook sausage, ground beef, onion, and garlic over medium heat until well browned. Stir in crushed tomatoes, tomato paste, tomato sauce, and water. Season with sugar, basil, fennel seeds, Italian seasoning, 1 tablespoon salt, pepper, and 2 tablespoons parsley. Simmer, covered, for about 1 1/2 hours, stirring occasionally.",null,null,"Preheat the oven to 350 degrees F (175 degrees C). Bake rolls for 20 to 25 minutes in the oven, until golden brown. Invert baking pan onto a cutting board or a clean cookie sheet while still warm so the caramel topping is on top."]
[null,null,null,null,null,null,null,null,null,null,null,null,null,null,null,"toss the ingredients and coat well with the oil",null,null,null,null,null,null,null,null,null,null,null,null,null,null,null,null,null,null,null,null,null,null,null,null,null,null,null,null,null,null,null,null,null,null,null,null,null,null,null,null,null,null,null,null,null,null,null,null,null,null,null,null,null,"Dough can be made ahead for up to one week.",null,null,null,null,null,null,null,null,null,null,null,"http://allrecipes.com/recipe/13333/jamies-minestrone/?internalSource=recipe%20hub&referringId=17038&referringContentType=recipe%20hub",null,null,null,null,null,"Bring a large pot of lightly salted water to a boil. Cook lasagna noodles in boiling water for 8 to 10 minutes. Drain noodles, and rinse with cold water.  In a mixing bowl, combine ricotta cheese with egg, remaining parsley, and 1/2 teaspoon salt.",null,null,"http://allrecipes.com/recipe/54513/grandmother-stougaards-caramel-pecan-sweet-rolls/?internalSource=search%20result&referringContentType=search%20results"]
[null,null,null,null,null,null,null,null,null,null,null,null,null,null,null,"Bake for 35-40 min, stirring once halfway through",null,null,null,null,null,null,null,null,null,null,null,null,null,null,null,null,null,null,null,null,null,null,null,null,null,null,null,null,null,null,null,null,null,null,null,null,null,null,null,null,null,null,null,null,null,null,null,null,null,null,null,null,null,"http://www.food.com/recipe/martha-stewarts-foolproof-pie-crust-59026",null,null,null,null,null,null,null,null,null,null,null,null,null,null,null,null,null,"Preheat oven to 375  degrees F (190 degrees C)."]
[null,null,null,null,null,null,null,null,null,null,null,null,null,null,null,"Squeeze lime juice over the top",null,null,null,null,null,null,null,null,null,null,null,null,null,null,null,null,null,null,null,null,null,null,null,null,null,null,null,null,null,null,null,null,null,null,null,null,null,null,null,null,null,null,null,null,null,null,null,null,null,null,null,null,null,"http://allrecipes.com/recipe/234974/moms-chicken-pot-pie/",null,null,null,null,null,null,null,null,null,null,null,null,null,null,null,null,null,"To assemble, spread 1 1/2 cups of meat sauce in the bottom of a 9x13 inch baking dish.  Arrange 6 noodles lengthwise over meat sauce. Spread with one half of the ricotta cheese mixture. Top with a third of mozzarella cheese slices. Spoon 1 1/2 cups meat sauce over mozzarella, and sprinkle with 1/4 cup Parmesan cheese.  Repeat layers, and top with remaining mozzarella and Parmesan cheese. Cover with foil: to prevent sticking, either spray foil with cooking spray, or make sure the foil does not touch the cheese."]
[null,null,null,null,null,null,null,null,null,null,null,null,null,null,null,null,null,null,null,null,null,null,null,null,null,null,null,null,null,null,null,null,null,null,null,null,null,null,null,null,null,null,null,null,null,null,null,null,null,null,null,null,null,null,null,null,null,null,null,null,null,null,null,null,null,null,null,null,null,null,null,null,null,null,null,null,null,null,null,null,null,null,null,null,null,null,null,"Bake in preheated oven for 25 minutes. Remove foil, and bake an additional 25 minutes. Cool for 15 minutes before serving."]
[null,null,null,null,null,null,null,null,null,null,null,null,null,null,null,null,null,null,null,null,null,null,null,null,null,null,null,null,null,null,null,null,null,null,null,null,null,null,null,null,null,null,null,null,null,null,null,null,null,null,null,null,null,null,null,null,null,null,null,null,null,null,null,null,null,null,null,null,null,null,null,null,null,null,null,null,null,null,null,null,null,null,null,null,null,null,null,"http://allrecipes.com/recipe/23600/worlds-best-lasagna/?internalSource=search%20result&referringContentType=search%20results"]