{"text_format":"1","workbook":"xlsx","n_sheets":3,"sheets":["Projects P&L","SpringAheadData","Hourly rates"],"not_rendered":{"charts":0,"images":0,"macros":1,"external_links":0,"defined_names":1,"comments":0,"pivot_tables":3},"unopened":[],"bounds":{"document_bytes":16777216,"sheet_cells":100000,"rows_first":2000,"rows_last":500,"rows_between":2000,"halvings":0,"cell_chars":16384,"cell_head_chars":4096},"cells_cut":0,"cells_raw":0,"read":"whole","date_system":"1900"}

{"sheet":"Projects P&L","index":0,"n_rows":77,"n_cols":97,"rows_kept":77,"cut":false,"hidden":false,"merged":[]}
[null,"BIZ Intern Program"]
[null,{"$f":"MID(CELL(\"filename\",$A$1),SEARCH(\"[\",CELL(\"filename\",$A$1))+1,SEARCH(\"]\",CELL(\"filename\",$A$1))-SEARCH(\"[\",CELL(\"filename\",$A$1))-6)","v":"MoffatCole_VBAFinal_ProjectPL"}]
[]
[]
[null,null,"Sum of Extended Costs"," "]
[null,null,"Row Labels","2016-03-26","2016-03-19","2016-03-12","2016-03-05","2016-02-27","2016-02-20","2016-02-13","2016-02-06","2016-01-30","2016-01-23","2016-01-16","2016-01-09","2016-01-02","2015-12-19","2015-12-12","2015-12-05","2015-11-28","2015-11-21","2015-11-14","2015-11-07","2015-10-31","2015-10-24","2015-10-17","2015-10-10","2015-10-03","2015-09-26","2015-09-19","2015-09-12","2015-09-05","2015-08-29","2015-08-22","2015-08-15","2015-08-08","2015-08-01","2015-07-25","2015-07-18","2015-07-11","2015-07-04","2015-06-27","2015-06-20","2015-06-13","2015-06-06","2015-05-30","2015-05-23","2015-05-16","2015-05-09","2015-05-02","2015-04-25","2015-04-18","2015-04-11","2015-04-04","2015-03-28","2015-03-21","2015-03-14","2015-03-07","2015-02-28","2015-02-21","2015-02-14","2015-02-07","2015-01-31","2015-01-24","2015-01-17","2015-01-10","2015-01-03","2014-12-27","2014-12-20","2014-12-13","2014-12-06","2014-11-29","2014-11-22","2014-11-15","2014-11-08","2014-11-01","2014-10-25","2014-10-18","2014-10-11","2014-10-04","2014-09-27","2014-09-20","2014-09-13","2014-09-06","2014-08-30","2014-08-23","2014-08-16","2014-08-09","2014-08-02","2014-07-26","2014-07-19","2014-07-12","2014-07-05","2014-06-28","2014-06-21","2014-06-14","Grand Total"]
[null,null,"Business Firm billable",0,0,0,0,0,0,0,0,0,0,165.625,215.3125,0,0,0,0,0,0,0,0,0,0,0,207.5,684.75,0,373.5,518.75,249,83,0,892.25,1058.25,871.5,643.25,2282.5,1826,933.75,2676.75,2054.25,622.5,103.75,0,0,0,332,0,0,0,0,0,0,0,0,0,0,0,0,0,0,726.25,664,1120.5,1867.5,0,664,0,103.75,996,664,1743,4648,1743,3154,1162,1162,1494,1992,1826,996,166,1162,1597.75,1328,2344.75,684.75,2282.5,2469.25,2490,0,1971.25,1245,1826,63087.4375]
[null,null,"Special Projects",42,225,429,456,351,156,339,522,387,366,372,354,60,120,216,255,86.1875,195,462.4375,387,405,420,405,645,468,702,559.5,405,102,81,132,174,69,237,255,255,504,381,324,510,585,489,711,633,744,1065,870,576,468,834,801,663,690,831,720,735,681,780,765,732,780,1332,1110,243,30,426,489,933,225,507,519,291,510,435,657,540,546,576,264,678,798,525,495,414,684,414,531,462,537,459,393,306,243,44539.125]
[null,null,"Grand Total",42,225,429,456,351,156,339,522,387,366,537.625,569.3125,60,120,216,255,86.1875,195,462.4375,387,405,420,405,852.5,1152.75,702,933,923.75,351,164,132,1066.25,1127.25,1108.5,898.25,2537.5,2330,1314.75,3000.75,2564.25,1207.5,592.75,711,633,744,1397,870,576,468,834,801,663,690,831,720,735,681,780,765,732,1506.25,1996,2230.5,2110.5,30,1090,489,1036.75,1221,1171,2262,4939,2253,3589,1819,1702,2040,2568,2090,1674,964,1687,2092.75,1742,3028.75,1098.75,2813.5,2931.25,3027,459,2364.25,1551,2069,107626.5625]
[]
[]
[null,null,null,{"$f":"D6","v":"2016-03-26"},{"$f":"E6","v":"2016-03-19"},{"$f":"F6","v":"2016-03-12"},"2016-03-05","2016-02-27","2016-02-20","2016-02-13","2016-02-06","2016-01-30","2016-01-23","2016-01-16","2016-01-09","2016-01-02","2015-12-19","2015-12-12","2015-12-05","2015-11-28","2015-11-21","2015-11-14","2015-11-07","2015-10-31","2015-10-24","2015-10-17","2015-10-10","2015-10-03","2015-09-26","2015-09-19","2015-09-12","2015-09-05","2015-08-29","2015-08-22","2015-08-15","2015-08-08","2015-08-01","2015-07-25","2015-07-18","2015-07-11","2015-07-04","2015-06-27","2015-06-20","2015-06-13","2015-06-06","2015-05-30","2015-05-23","2015-05-16","2015-05-09","2015-05-02","2015-04-25","2015-04-18","2015-04-11","2015-04-04","2015-03-28","2015-03-21","2015-03-14","2015-03-07","2015-02-28","2015-02-21","2015-02-14","2015-02-07","2015-01-31","2015-01-24","2015-01-17","2015-01-10","2015-01-03","2014-12-27","2014-12-20",{"$f":"BR6","v":"2014-12-13"},"2014-12-06","2014-11-29","2014-11-22","2014-11-15","2014-11-08","2014-11-01","2014-10-25","2014-10-18","2014-10-11","2014-10-04","2014-09-27","2014-09-20","2014-09-13","2014-09-06","2014-08-30","2014-08-23","2014-08-16","2014-08-09","2014-08-02","2014-07-26","2014-07-19","2014-07-12","2014-07-05","2014-06-28","2014-06-21","2014-06-14","Grand Total"]
[null,null,"Cash outflows:"]
[null,null,"Special Project",{"$f":"-GETPIVOTDATA(\"Extended\",$C$5,\"Week ended\",D$6,\"IS Mapping\",$C8)","v":-42},{"$f":"-GETPIVOTDATA(\"Extended\",$C$5,\"Week ended\",E$6,\"IS Mapping\",$C8)","v":-225},{"$f":"-GETPIVOTDATA(\"Extended\",$C$5,\"Week ended\",F$6,\"IS Mapping\",$C8)","v":-429},-456,-351,-156,-339,-522,-387,-366,-372,-354,-60,-120,-216,-255,-86.1875,-195,-462.4375,-387,-405,-420,-405,-645,-468,-702,-559.5,-405,-102,-81,-132,-174,-69,-237,-255,-255,-504,-381,-324,-510,-585,-489,-711,-633,-744,-1065,-870,-576,-468,-834,-801,-663,-690,-831,-720,-735,-681,-780,-765,-732,-780,-1332,-1110,-243,-30,-426,{"$f":"-GETPIVOTDATA(\"Extended\",$C$5,\"Week ended\",BR$6,\"IS Mapping\",$C8)","v":-489},-933,-225,-507,-519,-291,-510,-435,-657,-540,-546,-576,-264,-678,-798,-525,-495,-414,-684,-414,-531,-462,-537,-459,-393,-306,-243,{"$f":"-CS8","v":-44539.125}]
[null,null,"Total outflows",{"$f":"SUM(D14)","v":-42},{"$f":"SUM(E14)","v":-225},{"$f":"SUM(F14)","v":-429},-456,-351,-156,-339,-522,-387,-366,-372,-354,-60,-120,-216,-255,-86.1875,-195,-462.4375,-387,-405,-420,-405,-645,-468,-702,-559.5,-405,-102,-81,-132,-174,-69,-237,-255,-255,-504,-381,-324,-510,-585,-489,-711,-633,-744,-1065,-870,-576,-468,-834,-801,-663,-690,-831,-720,-735,-681,-780,-765,-732,-780,-1332,-1110,-243,-30,-426,{"$f":"SUM(BR14)","v":-489},-933,-225,-507,-519,-291,-510,-435,-657,-540,-546,-576,-264,-678,-798,-525,-495,-414,-684,-414,-531,-462,-537,-459,-393,-306,-243,{"$f":"CS14","v":-44539.125}]
[]
[null,null,"Cash inflows:"]
[null,null,"Business Firm Billable",{"$f":"GETPIVOTDATA(\"Extended\",$C$5,\"Week ended\",D$6,\"IS Mapping\",$C7)","v":0},{"$f":"GETPIVOTDATA(\"Extended\",$C$5,\"Week ended\",E$6,\"IS Mapping\",$C7)","v":0},{"$f":"GETPIVOTDATA(\"Extended\",$C$5,\"Week ended\",F$6,\"IS Mapping\",$C7)","v":0},0,0,0,0,0,0,0,165.625,215.3125,0,0,0,0,0,0,0,0,0,0,0,207.5,684.75,0,373.5,518.75,249,83,0,892.25,1058.25,871.5,643.25,2282.5,1826,933.75,2676.75,2054.25,622.5,103.75,0,0,0,332,0,0,0,0,0,0,0,0,0,0,0,0,0,0,726.25,664,1120.5,1867.5,0,664,{"$f":"GETPIVOTDATA(\"Extended\",$C$5,\"Week ended\",BR$6,\"IS Mapping\",$C7)","v":0},103.75,996,664,1743,4648,1743,3154,1162,1162,1494,1992,1826,996,166,1162,1597.75,1328,2344.75,684.75,2282.5,2469.25,2490,0,1971.25,1245,1826,{"$f":"CS7","v":63087.4375}]
[null,null,"Total inflows",{"$f":"SUM(D18:D18)","v":0},{"$f":"SUM(E18:E18)","v":0},{"$f":"SUM(F18:F18)","v":0},0,0,0,0,0,0,0,165.625,215.3125,0,0,0,0,0,0,0,0,0,0,0,207.5,684.75,0,373.5,518.75,249,83,0,892.25,1058.25,871.5,643.25,2282.5,1826,933.75,2676.75,2054.25,622.5,103.75,0,0,0,332,0,0,0,0,0,0,0,0,0,0,0,0,0,0,726.25,664,1120.5,1867.5,0,664,{"$f":"SUM(BR18:BR18)","v":0},103.75,996,664,1743,4648,1743,3154,1162,1162,1494,1992,1826,996,166,1162,1597.75,1328,2344.75,684.75,2282.5,2469.25,2490,0,1971.25,1245,1826,{"$f":"CS18","v":63087.4375}]
[]
[null,null,"Net cash inflow (outflow)",{"$f":"D15+D19","v":-42},{"$f":"E15+E19","v":-225},{"$f":"F15+F19","v":-429},-456,-351,-156,-339,-522,-387,-366,-206.375,-138.6875,-60,-120,-216,-255,-86.1875,-195,-462.4375,-387,-405,-420,-405,-437.5,216.75,-702,-186,113.75,147,2,-132,718.25,989.25,634.5,388.25,2027.5,1322,552.75,2352.75,1544.25,37.5,-385.25,-711,-633,-744,-733,-870,-576,-468,-834,-801,-663,-690,-831,-720,-735,-681,-780,-765,-732,-53.75,-668,10.5,1624.5,-30,238,{"$f":"BR15+BR19","v":-489},-829.25,771,157,1224,4357,1233,2719,505,622,948,1416,1562,318,-632,637,1102.75,914,1660.75,270.75,1751.5,2007.25,1953,-459,1578.25,939,1583,{"$f":"CS15+CS19","v":18548.3125}]
[]
[]
[]
[null,null,"Sum of Hours (by type)"," "]
[null,null,"Row Labels","2016-03-26","2016-03-19","2016-03-12","2016-03-05","2016-02-27","2016-02-20","2016-02-13","2016-02-06","2016-01-30","2016-01-23","2016-01-16","2016-01-09","2016-01-02","2015-12-19","2015-12-12","2015-12-05","2015-11-28","2015-11-21","2015-11-14","2015-11-07","2015-10-31","2015-10-24","2015-10-17","2015-10-10","2015-10-03","2015-09-26","2015-09-19","2015-09-12","2015-09-05","2015-08-29","2015-08-22","2015-08-15","2015-08-08","2015-08-01","2015-07-25","2015-07-18","2015-07-11","2015-07-04","2015-06-27","2015-06-20","2015-06-13","2015-06-06","2015-05-30","2015-05-23","2015-05-16","2015-05-09","2015-05-02","2015-04-25","2015-04-18","2015-04-11","2015-04-04","2015-03-28","2015-03-21","2015-03-14","2015-03-07","2015-02-28","2015-02-21","2015-02-14","2015-02-07","2015-01-31","2015-01-24","2015-01-17","2015-01-10","2015-01-03","2014-12-27","2014-12-20","2014-12-13","2014-12-06","2014-11-29","2014-11-22","2014-11-15","2014-11-08","2014-11-01","2014-10-25","2014-10-18","2014-10-11","2014-10-04","2014-09-27","2014-09-20","2014-09-13","2014-09-06","2014-08-30","2014-08-23","2014-08-16","2014-08-09","2014-08-02","2014-07-26","2014-07-19","2014-07-12","2014-07-05","2014-06-28","2014-06-21","2014-06-14","Grand Total"]
[null,null,"Special Projects",3.5,18.75,35.75,38,29.25,13,28.25,43.5,32.25,30.5,31,29.5,5,10,18,21.25,7,16.25,38.25,32.25,33.75,35,33.75,53.75,39,58.5,46,33.75,8.5,6.75,11,14.5,5.75,19.75,21.25,21.25,42,31.75,27,42.5,48.75,40.75,59.25,52.75,62,88.75,72.5,48,39,69.5,66.75,55.25,57.5,69.25,60,61.25,56.75,65,63.75,61,65,111,92.5,20.25,2.5,35.5,40.75,77.75,18.75,42.25,43.25,24.25,42.5,36.25,54.75,45,45.5,48,22,56.5,66.5,43.75,41.25,34.5,57,34.5,44.25,38.5,44.75,38.25,32.75,25.5,20.25,3710.5]
[null,null,"Business Firm billable",0,0,0,0,0,0,0,0,0,0,2.5,3.25,0,0,0,0,0,0,0,0,0,0,0,2.5,8.25,0,4.5,6.25,3,1,0,10.75,12.75,10.5,7.75,27.5,22,11.25,32.25,24.75,7.5,1.25,0,0,0,4,0,0,0,0,0,0,0,0,0,0,0,0,0,0,8.75,8,13.5,22.5,0,8,0,1.25,12,8,21,56,21,38,14,14,18,24,22,12,2,14,19.25,16,28.25,8.25,27.5,29.75,30,0,23.75,15,22,761.25]
[null,null,"Grand Total",3.5,18.75,35.75,38,29.25,13,28.25,43.5,32.25,30.5,33.5,32.75,5,10,18,21.25,7,16.25,38.25,32.25,33.75,35,33.75,56.25,47.25,58.5,50.5,40,11.5,7.75,11,25.25,18.5,30.25,29,48.75,64,43,59.25,67.25,56.25,42,59.25,52.75,62,92.75,72.5,48,39,69.5,66.75,55.25,57.5,69.25,60,61.25,56.75,65,63.75,61,73.75,119,106,42.75,2.5,43.5,40.75,79,30.75,50.25,64.25,80.25,63.5,74.25,68.75,59,63.5,72,44,68.5,68.5,57.75,60.5,50.5,85.25,42.75,71.75,68.25,74.75,38.25,56.5,40.5,42.25,4471.75]
[]
[]
[]
[null,null,"Sum of Hours (by user)"," "]
[null,null,"Row Labels","2016-03-26","2016-03-19","2016-03-12","2016-03-05","2016-02-27","2016-02-20","2016-02-13","2016-02-06","2016-01-30","2016-01-23","2016-01-16","2016-01-09","2016-01-02","2015-12-19","2015-12-12","2015-12-05","2015-11-28","2015-11-21","2015-11-14","2015-11-07","2015-10-31","2015-10-24","2015-10-17","2015-10-10","2015-10-03","2015-09-26","2015-09-19","2015-09-12","2015-09-05","2015-08-29","2015-08-22","2015-08-15","2015-08-08","2015-08-01","2015-07-25","2015-07-18","2015-07-11","2015-07-04","2015-06-27","2015-06-20","2015-06-13","2015-06-06","2015-05-30","2015-05-23","2015-05-16","2015-05-09","2015-05-02","2015-04-25","2015-04-18","2015-04-11","2015-04-04","2015-03-28","2015-03-21","2015-03-14","2015-03-07","2015-02-28","2015-02-21","2015-02-14","2015-02-07","2015-01-31","2015-01-24","2015-01-17","2015-01-10","2015-01-03","2014-12-27","2014-12-20","2014-12-13","2014-12-06","2014-11-29","2014-11-22","2014-11-15","2014-11-08","2014-11-01","2014-10-25","2014-10-18","2014-10-11","2014-10-04","2014-09-27","2014-09-20","2014-09-13","2014-09-06","2014-08-30","2014-08-23","2014-08-16","2014-08-09","2014-08-02","2014-07-26","2014-07-19","2014-07-12","2014-07-05","2014-06-28","2014-06-21","2014-06-14","Grand Total"]
[null,null,"Almeida, Tony",0,0,0,0,0,0,0,0,0,0,0,0,0,0,2,1,0,1,1.25,2.5,0,4.75,3,9.25,18.25,3.5,9.25,8.5,6.25,1,0,7,12.75,11.5,12,24.75,24.5,12.5,32.25,24.75,8.5,2.25,1.75,2.5,1.25,6,2,0,0,0,0,0,0,0,0,0,0,0,0,0,2,0,0,0,0,0,0,0,0,0,0,0,2.5,2,0,4.25,4.25,6.25,4,0,0,0,0,0,0,0,0,0,0,0,0,0,0,283]
[null,null,"Business Firm billable",0,0,0,0,0,0,0,0,0,0,0,0,0,0,0,0,0,0,0,0,0,0,0,2.5,8.25,0,4.5,6.25,3,1,0,5.75,12.75,10.5,7.75,23.5,22,11.25,32.25,24.75,7.5,1.25,0,0,0,0,0,0,0,0,0,0,0,0,0,0,0,0,0,0,0,0,0,0,0,0,0,0,0,0,0,0,0,0,0,0,0,0,0,0,0,0,0,0,0,0,0,0,0,0,0,0,0,184.75]
[null,null,"Special Projects",0,0,0,0,0,0,0,0,0,0,0,0,0,0,2,1,0,1,1.25,2.5,0,4.75,3,6.75,10,3.5,4.75,2.25,3.25,0,0,1.25,0,1,4.25,1.25,2.5,1.25,0,0,1,1,1.75,2.5,1.25,6,2,0,0,0,0,0,0,0,0,0,0,0,0,0,2,0,0,0,0,0,0,0,0,0,0,0,2.5,2,0,4.25,4.25,6.25,4,0,0,0,0,0,0,0,0,0,0,0,0,0,0,98.25]
[null,null,"Bauer, Jack",0,3.75,6.75,1.25,0,0,0,0,0,0,0,0,0,0,0,0,0,0,0,0,0,0,0,0,0,0,0,0,0,0,0,0,0,0,0,0,0,0,0,0,0,0,0,0,0,0,0,0,0,0,0,0,0,0,0,0,0,0,0,0,0,0,0,0,0,0,0,0,0,0,0,0,0,0,0,0,0,0,0,0,0,0,0,0,0,0,0,0,0,0,0,0,0,11.75]
[null,null,"Special Projects",0,3.75,6.75,1.25,0,0,0,0,0,0,0,0,0,0,0,0,0,0,0,0,0,0,0,0,0,0,0,0,0,0,0,0,0,0,0,0,0,0,0,0,0,0,0,0,0,0,0,0,0,0,0,0,0,0,0,0,0,0,0,0,0,0,0,0,0,0,0,0,0,0,0,0,0,0,0,0,0,0,0,0,0,0,0,0,0,0,0,0,0,0,0,0,0,11.75]
[null,null,"Delgado, Gloria",0,0,0,0,0,0,0,0,0,0,0,0,0,0,0,0,0,0,0,0,0,0,0,0,0,0,0,0,0,0,0,0,0,0,0,0,0,0,0,0,0,0,0,0,0,0,0,0,0,0,0,0,0,0,0,0,0,0,0,0,0,0,0,0,0,28,16,24.5,12,18,28,33,29,45,35,22,28,40,31,40,40,30,28,30,40,10,38.5,32.5,38,8,21,15,15,775.5]
[null,null,"Business Firm billable",0,0,0,0,0,0,0,0,0,0,0,0,0,0,0,0,0,0,0,0,0,0,0,0,0,0,0,0,0,0,0,0,0,0,0,0,0,0,0,0,0,0,0,0,0,0,0,0,0,0,0,0,0,0,0,0,0,0,0,0,0,0,0,0,0,8,0,1.25,12,8,10,31,16,38,14,14,18,24,22,12,2,14,18,16,23,0,27.5,27.5,30,0,21,15,15,437.25]
[null,null,"Special Projects",0,0,0,0,0,0,0,0,0,0,0,0,0,0,0,0,0,0,0,0,0,0,0,0,0,0,0,0,0,0,0,0,0,0,0,0,0,0,0,0,0,0,0,0,0,0,0,0,0,0,0,0,0,0,0,0,0,0,0,0,0,0,0,0,0,20,16,23.25,0,10,18,2,13,7,21,8,10,16,9,28,38,16,10,14,17,10,11,5,8,8,0,0,0,338.25]
[null,null,"Delgado, Manny",0,4,6.5,15.5,0,0,0,4.5,6,0,0,0,0,10,7.5,6,0,0,10,9.75,7.75,8,7,6,9.75,7.5,8.5,10,0,0,0,0,0,0,0,0,0,0,0,0,0,2.5,5,10,10,10,10,10,7.25,9.75,10,10,7.5,10.75,8.5,9.5,6.5,8.75,10,10,10,22,16,0,0,0,0,0,0,0,0,0,0,0,0,0,0,0,0,0,0,0,0,0,0,0,0,0,0,0,0,0,0,358.25]
[null,null,"Special Projects",0,4,6.5,15.5,0,0,0,4.5,6,0,0,0,0,10,7.5,6,0,0,10,9.75,7.75,8,7,6,9.75,7.5,8.5,10,0,0,0,0,0,0,0,0,0,0,0,0,0,2.5,5,10,10,10,10,10,7.25,9.75,10,10,7.5,10.75,8.5,9.5,6.5,8.75,10,10,10,22,16,0,0,0,0,0,0,0,0,0,0,0,0,0,0,0,0,0,0,0,0,0,0,0,0,0,0,0,0,0,0,358.25]
[null,null,"Dessler, Michelle",0,0,0,0,0,0,0,0,0,0,0,0,0,0,0,0,1.75,0,2.75,0,0,0,0,0,0,0,1.25,0,0,0,0,0,0,0,0,0,0,0,0,0,0,0,0,0,0,0,0,0,0,0,0,0,0,0,0,0,0,0,0,0,0,0,0,0,0,0,0,0,0,0,0,0,0,0,0,0,0,0,0,0,0,0,0,0,0,0,0,0,0,0,0,0,0,5.75]
[null,null,"Special Projects",0,0,0,0,0,0,0,0,0,0,0,0,0,0,0,0,1.75,0,2.75,0,0,0,0,0,0,0,1.25,0,0,0,0,0,0,0,0,0,0,0,0,0,0,0,0,0,0,0,0,0,0,0,0,0,0,0,0,0,0,0,0,0,0,0,0,0,0,0,0,0,0,0,0,0,0,0,0,0,0,0,0,0,0,0,0,0,0,0,0,0,0,0,0,0,0,5.75]
[null,null,"Dunphy, Phil",0,5.25,7.75,8.5,8.75,6.5,7.75,7,7.25,6,6.75,5.75,0,0,0,0,0,0,0,0,0,0,0,0,0,0,0,0,1.25,2.5,5.25,6,3.25,3,6.25,6.25,5.5,4.25,7.5,11.75,8.75,6,5.75,8.75,6,7.75,6.5,6.75,0,0,0,0,0,0,0,0,0,0,0,0,0,0,0,0,0,0,0,0,0,0,0,0,0,0,0,0,0,0,0,0,0,0,0,0,0,0,0,0,0,0,0,0,0,196.25]
[null,null,"Business Firm billable",0,0,0,0,0,0,0,0,0,0,2.5,3.25,0,0,0,0,0,0,0,0,0,0,0,0,0,0,0,0,0,0,0,0,0,0,0,0,0,0,0,0,0,0,0,0,0,0,0,0,0,0,0,0,0,0,0,0,0,0,0,0,0,0,0,0,0,0,0,0,0,0,0,0,0,0,0,0,0,0,0,0,0,0,0,0,0,0,0,0,0,0,0,0,0,5.75]
[null,null,"Special Projects",0,5.25,7.75,8.5,8.75,6.5,7.75,7,7.25,6,4.25,2.5,0,0,0,0,0,0,0,0,0,0,0,0,0,0,0,0,1.25,2.5,5.25,6,3.25,3,6.25,6.25,5.5,4.25,7.5,11.75,8.75,6,5.75,8.75,6,7.75,6.5,6.75,0,0,0,0,0,0,0,0,0,0,0,0,0,0,0,0,0,0,0,0,0,0,0,0,0,0,0,0,0,0,0,0,0,0,0,0,0,0,0,0,0,0,0,0,0,190.5]
[null,null,"Dwyer, Andy",0,0,0,0,0,0,0,0,0,0,0,0,0,0,0,0,0,0,0,0,0,0,0,0,0,0,0,0,0,0,0,0,0,0,0,0,0,0,0,5.5,7.5,1,3.5,4.25,7.75,10.5,4,5.5,3.75,13,7.25,4.75,7.75,9.5,5.5,6.25,4.75,10.75,4.75,6.5,9,21,25.5,29.5,0,2.5,8.25,13.5,7,6.5,5.75,0,3,3,5.25,5.5,2.5,2.25,3.75,5,4.5,5,7.5,7.75,10.75,12.75,9.75,8.5,10,1,1,8.25,9,388.5]
[null,null,"Business Firm billable",0,0,0,0,0,0,0,0,0,0,0,0,0,0,0,0,0,0,0,0,0,0,0,0,0,0,0,0,0,0,0,0,0,0,0,0,0,0,0,0,0,0,0,0,0,4,0,0,0,0,0,0,0,0,0,0,0,0,0,0,1.75,8,13.5,22.5,0,0,0,0,0,0,0,0,0,0,0,0,0,0,0,0,0,0,1.25,0,0,8.25,0,2.25,0,0,0,0,0,61.5]
[null,null,"Special Projects",0,0,0,0,0,0,0,0,0,0,0,0,0,0,0,0,0,0,0,0,0,0,0,0,0,0,0,0,0,0,0,0,0,0,0,0,0,0,0,5.5,7.5,1,3.5,4.25,7.75,6.5,4,5.5,3.75,13,7.25,4.75,7.75,9.5,5.5,6.25,4.75,10.75,4.75,6.5,7.25,13,12,7,0,2.5,8.25,13.5,7,6.5,5.75,0,3,3,5.25,5.5,2.5,2.25,3.75,5,4.5,5,6.25,7.75,10.75,4.5,9.75,6.25,10,1,1,8.25,9,327]
[null,null,"Haverford, Tom",0,0,0,0,0,0,0,0,0,0,0,0,0,0,0,0,0,0,0,0,0,0,0,0,0,0,0,0,0,0,0,0,0,0,0,0,0,0,0,0,0,0,0,0,0,0,0,0,0,8,10,10,10,10,10,10,10,10,10,10,10,10,10,0,0,0,10,13,0,10,21,29,10,10,9,10,10,10,0,9,10,10,13,7.5,11,6,12,10,10,10,8.5,8.25,5.25,410.5]
[null,null,"Business Firm billable",0,0,0,0,0,0,0,0,0,0,0,0,0,0,0,0,0,0,0,0,0,0,0,0,0,0,0,0,0,0,0,0,0,0,0,0,0,0,0,0,0,0,0,0,0,0,0,0,0,0,0,0,0,0,0,0,0,0,0,0,0,0,0,0,0,0,0,0,0,0,11,19,0,0,0,0,0,0,0,0,0,0,0,0,0,0,0,0,0,0,0,0,0,30]
[null,null,"Special Projects",0,0,0,0,0,0,0,0,0,0,0,0,0,0,0,0,0,0,0,0,0,0,0,0,0,0,0,0,0,0,0,0,0,0,0,0,0,0,0,0,0,0,0,0,0,0,0,0,0,8,10,10,10,10,10,10,10,10,10,10,10,10,10,0,0,0,10,13,0,10,10,10,10,10,9,10,10,10,0,9,10,10,13,7.5,11,6,12,10,10,10,8.5,8.25,5.25,380.5]
[null,null,"Knope, Leslie",0,0,0,0,0,0,0,11,0,0,0,0,0,0,0,0,0,0,0,0,8.25,2.25,0,7.25,0,9.25,10,5.25,0,0,5.75,5,0,4.25,0,4,7,4.25,0,2,0,0,3,2.25,7.5,7.25,8,0,0,0,0,0,0,0,0,0,0,0,0,0,0,0,0,0,0,0,0,0,0,0,0,0,0,0,0,0,0,0,0,0,0,0,0,0,0,0,0,0,0,0,0,0,0,113.5]
[null,null,"Special Projects",0,0,0,0,0,0,0,11,0,0,0,0,0,0,0,0,0,0,0,0,8.25,2.25,0,7.25,0,9.25,10,5.25,0,0,5.75,5,0,4.25,0,4,7,4.25,0,2,0,0,3,2.25,7.5,7.25,8,0,0,0,0,0,0,0,0,0,0,0,0,0,0,0,0,0,0,0,0,0,0,0,0,0,0,0,0,0,0,0,0,0,0,0,0,0,0,0,0,0,0,0,0,0,0,113.5]
[null,null,"Meagle, Donna",0,0,0,0,0,0,0,0,0,0,0,0,0,0,0,0,0,0,0,0,0,0,0,0,0,0,0,0,0,0,0,0,0,0,0,0,2,10,10,12,13,5,0,3,10,9,10,5,9,9,12,6,9,10,10,10,10,10,10,10,10,10,20,6,0,10,0,13,10,9,5,8,10,9,10,10,9,7,0,8,8,0,12,0,10,7,8,10,8,10,10,7,13,471]
[null,null,"Business Firm billable",0,0,0,0,0,0,0,0,0,0,0,0,0,0,0,0,0,0,0,0,0,0,0,0,0,0,0,0,0,0,0,0,0,0,0,0,0,0,0,0,0,0,0,0,0,0,0,0,0,0,0,0,0,0,0,0,0,0,0,0,0,0,0,0,0,0,0,0,0,0,0,2,5,0,0,0,0,0,0,0,0,0,0,0,0,0,0,0,0,0,0,0,7,14]
[null,null,"Special Projects",0,0,0,0,0,0,0,0,0,0,0,0,0,0,0,0,0,0,0,0,0,0,0,0,0,0,0,0,0,0,0,0,0,0,0,0,2,10,10,12,13,5,0,3,10,9,10,5,9,9,12,6,9,10,10,10,10,10,10,10,10,10,20,6,0,10,0,13,10,9,5,6,5,9,10,10,9,7,0,8,8,0,12,0,10,7,8,10,8,10,10,7,6,457]
[null,null,"Myers, Nina",0,0,0,0,0,0,0,0,0,0,0,0,0,0,0,0,0,0,0,0,0,0,0,0,0,0,0,0,0,0,0,0,0,0,0,0,0,0,0,0,0,0,0,0,0,0,0,0,0,0,0,0,0,0,0,0,0,0,0,0,0,0,0,0,0,0,0,0,0,0,0,0,0,0,0,0,0,0,0,0,0,0,0,0,0,3,1.25,3.5,3.25,3,5,0,0,19]
[null,null,"Special Projects",0,0,0,0,0,0,0,0,0,0,0,0,0,0,0,0,0,0,0,0,0,0,0,0,0,0,0,0,0,0,0,0,0,0,0,0,0,0,0,0,0,0,0,0,0,0,0,0,0,0,0,0,0,0,0,0,0,0,0,0,0,0,0,0,0,0,0,0,0,0,0,0,0,0,0,0,0,0,0,0,0,0,0,0,0,3,1.25,3.5,3.25,3,5,0,0,19]
[null,null,"Pritchett, Jay",0,5.75,4.25,4.25,3.5,2.5,0,1,3,7,7.25,6,0,0,5.5,0,1.75,5,7,7.5,7.5,13,4.25,8.25,5,16.25,6.5,0,4,4.25,0,7.25,2.5,7.25,5,6.25,12.5,7.75,4.5,3.75,4.25,9.5,10.25,5.5,5.5,10.5,10.25,2.25,0,0,0,0,0,0,0,0,0,0,0,0,0,0,0,0,0,0,0,0,0,0,0,0,0,0,0,0,0,0,0,0,0,0,0,0,0,0,0,0,0,0,0,0,0,255]
[null,null,"Business Firm billable",0,0,0,0,0,0,0,0,0,0,0,0,0,0,0,0,0,0,0,0,0,0,0,0,0,0,0,0,0,0,0,5,0,0,0,0,0,0,0,0,0,0,0,0,0,0,0,0,0,0,0,0,0,0,0,0,0,0,0,0,0,0,0,0,0,0,0,0,0,0,0,0,0,0,0,0,0,0,0,0,0,0,0,0,0,0,0,0,0,0,0,0,0,5]
[null,null,"Special Projects",0,5.75,4.25,4.25,3.5,2.5,0,1,3,7,7.25,6,0,0,5.5,0,1.75,5,7,7.5,7.5,13,4.25,8.25,5,16.25,6.5,0,4,4.25,0,2.25,2.5,7.25,5,6.25,12.5,7.75,4.5,3.75,4.25,9.5,10.25,5.5,5.5,10.5,10.25,2.25,0,0,0,0,0,0,0,0,0,0,0,0,0,0,0,0,0,0,0,0,0,0,0,0,0,0,0,0,0,0,0,0,0,0,0,0,0,0,0,0,0,0,0,0,0,250]
[null,null,"Raines, Audrey",0,0,0,0,0,0,0,0,0,0,0,0,0,0,0,0,0,0,0,0,0,0,0,0,0,0,0,0,0,0,0,0,0,0,0,0,0,0,0,1.25,7.25,10,8,3.5,6.25,6.5,8,4.25,0,0,0,0,0,0,0,0,0,0,0,0,0,0,0,0,0,0,0,0,0,0,0,0,0,0,0,0,0,0,0,0,0,0,0,0,0,0,0,0,0,0,0,0,0,55]
[null,null,"Special Projects",0,0,0,0,0,0,0,0,0,0,0,0,0,0,0,0,0,0,0,0,0,0,0,0,0,0,0,0,0,0,0,0,0,0,0,0,0,0,0,1.25,7.25,10,8,3.5,6.25,6.5,8,4.25,0,0,0,0,0,0,0,0,0,0,0,0,0,0,0,0,0,0,0,0,0,0,0,0,0,0,0,0,0,0,0,0,0,0,0,0,0,0,0,0,0,0,0,0,0,55]
[null,null,"Swanson, Ron",0,0,10.5,5.25,7.5,0,10,10,7,10,10,10,5,0,0,5,0,1.25,8,6,5,0,9,7.5,5.5,8,9,4.5,0,0,0,0,0,0,0,0,0,0,0,0,0,0,18,5,2.25,19,7.25,2,2,10,7,10,9,9.5,11,10,9,10,9,5.5,10,14,6,0,0,0,0,0,0,0,0,0,0,0,0,0,0,0,0,0,0,0,0,0,0,0,0,0,0,0,0,0,0,339.5]
[null,null,"Special Projects",0,0,10.5,5.25,7.5,0,10,10,7,10,10,10,5,0,0,5,0,1.25,8,6,5,0,9,7.5,5.5,8,9,4.5,0,0,0,0,0,0,0,0,0,0,0,0,0,0,18,5,2.25,19,7.25,2,2,10,7,10,9,9.5,11,10,9,10,9,5.5,10,14,6,0,0,0,0,0,0,0,0,0,0,0,0,0,0,0,0,0,0,0,0,0,0,0,0,0,0,0,0,0,0,339.5]
[null,null,"Tucker, Cameron",0,0,0,0,0,0,0,0,0,0,0,0,0,0,0,0,0,0,0,0,0,0,0,0,0,0,0,0,0,0,0,0,0,0,0,0,0,0,0,0,0,0,0,0,0,0,0,0,0,0,0,0,0,0,0,0,0,0,0,0,0,0,0,0,0,0,1.25,0,0,0,0,0,0,0,0,0,0,0,0,0,0,0,0,0,0,0,0,0,0,0,0,0,0,1.25]
[null,null,"Special Projects",0,0,0,0,0,0,0,0,0,0,0,0,0,0,0,0,0,0,0,0,0,0,0,0,0,0,0,0,0,0,0,0,0,0,0,0,0,0,0,0,0,0,0,0,0,0,0,0,0,0,0,0,0,0,0,0,0,0,0,0,0,0,0,0,0,0,1.25,0,0,0,0,0,0,0,0,0,0,0,0,0,0,0,0,0,0,0,0,0,0,0,0,0,0,1.25]
[null,null,"Walker, Renee",3.5,0,0,3.25,9.5,4,10.5,10,9,7.5,9.5,11,0,0,3,9.25,3.5,9,9.25,6.5,5.25,7,10.5,18,8.75,14,6,11.75,0,0,0,0,0,0,0,0,0,0,0,0,0,0,0,0,0,0,0,4,3,10,11,11,8.25,9.25,10,7.5,9.5,7,10.5,10,9,18,13,0,0,0,0,0,0,0,0,0,0,0,0,0,0,0,0,0,0,0,0,0,0,0,0,0,0,0,0,0,0,350.5]
[null,null,"Special Projects",3.5,0,0,3.25,9.5,4,10.5,10,9,7.5,9.5,11,0,0,3,9.25,3.5,9,9.25,6.5,5.25,7,10.5,18,8.75,14,6,11.75,0,0,0,0,0,0,0,0,0,0,0,0,0,0,0,0,0,0,0,4,3,10,11,11,8.25,9.25,10,7.5,9.5,7,10.5,10,9,18,13,0,0,0,0,0,0,0,0,0,0,0,0,0,0,0,0,0,0,0,0,0,0,0,0,0,0,0,0,0,0,350.5]
[null,null,"Wyatt, Ben",0,0,0,0,0,0,0,0,0,0,0,0,0,0,0,0,0,0,0,0,0,0,0,0,0,0,0,0,0,0,0,0,0,4.25,5.75,7.5,12.5,4.25,5,6.25,7,5.75,4,8,5.5,6.25,6.5,8.25,14,9.75,9.5,3.5,6,10.25,5,8,7,8.5,9.5,9,13.75,24,15.5,7.25,2.5,3,5.25,15,1.75,6.75,4.5,10.25,9,5.25,9.5,7.25,9.75,6.5,5.25,6.5,6,12.75,0,5.25,13.5,4,2.25,3.75,5.5,6.25,11,2,0,437.5]
[null,null,"Business Firm billable",0,0,0,0,0,0,0,0,0,0,0,0,0,0,0,0,0,0,0,0,0,0,0,0,0,0,0,0,0,0,0,0,0,0,0,4,0,0,0,0,0,0,0,0,0,0,0,0,0,0,0,0,0,0,0,0,0,0,0,0,7,0,0,0,0,0,0,0,0,0,0,4,0,0,0,0,0,0,0,0,0,0,0,0,5.25,0,0,0,0,0,2.75,0,0,23]
[null,null,"Special Projects",0,0,0,0,0,0,0,0,0,0,0,0,0,0,0,0,0,0,0,0,0,0,0,0,0,0,0,0,0,0,0,0,0,4.25,5.75,3.5,12.5,4.25,5,6.25,7,5.75,4,8,5.5,6.25,6.5,8.25,14,9.75,9.5,3.5,6,10.25,5,8,7,8.5,9.5,9,6.75,24,15.5,7.25,2.5,3,5.25,15,1.75,6.75,4.5,6.25,9,5.25,9.5,7.25,9.75,6.5,5.25,6.5,6,12.75,0,5.25,8.25,4,2.25,3.75,5.5,6.25,8.25,2,0,414.5]
[null,null,"Grand Total",3.5,18.75,35.75,38,29.25,13,28.25,43.5,32.25,30.5,33.5,32.75,5,10,18,21.25,7,16.25,38.25,32.25,33.75,35,33.75,56.25,47.25,58.5,50.5,40,11.5,7.75,11,25.25,18.5,30.25,29,48.75,64,43,59.25,67.25,56.25,42,59.25,52.75,62,92.75,72.5,48,39,69.5,66.75,55.25,57.5,69.25,60,61.25,56.75,65,63.75,61,73.75,119,106,42.75,2.5,43.5,40.75,79,30.75,50.25,64.25,80.25,63.5,74.25,68.75,59,63.5,72,44,68.5,68.5,57.75,60.5,50.5,85.25,42.75,71.75,68.25,74.75,38.25,56.5,40.5,42.25,4471.75]

{"sheet":"SpringAheadData","index":1,"n_rows":2652,"n_cols":21,"rows_kept":2652,"cut":false,"hidden":false,"merged":[]}
["User","Project","Payroll ID","Type","Billname","Hours","Date","Week ended","DOW","Task","Type","Approver","Status","Description","IS Mapping","BIZ Research Project","Hourly Rate","Extended",null,"Concatenated Key"]
["O'Brian, Chloe","Business Firm:Administration","Staff",1099,null,4,"2014-05-05",{"$f":"G2+7-WEEKDAY(G2)","v":"2014-05-10"},"Mon",null,"NonBill","ZZ","2014-05-16","S-1 Research Projects","BIZ Research Projects",null,{"$f":"IF(O2=\"Business Firm billable\",VLOOKUP(A2,'Hourly rates'!$B$2:$E$40,4,FALSE),VLOOKUP(A2,'Hourly rates'!$B$2:$E$40,2,FALSE))","v":12},{"$f":"Q2*F2","v":48}]
["O'Brian, Chloe","Business Firm:Administration","Staff",1099,null,4,"2014-05-06","2014-05-10","Tue",null,"NonBill","ZZ","2014-05-16","S-1 Research Projects","BIZ Research Projects",null,{"$f":"IF(O3=\"Business Firm billable\",VLOOKUP(A3,'Hourly rates'!$B$2:$E$40,4,FALSE),VLOOKUP(A3,'Hourly rates'!$B$2:$E$40,2,FALSE))","v":12},48]
["O'Brian, Chloe","Business Firm:Administration","Staff",1099,null,4,"2014-05-08","2014-05-10","Thu",null,"NonBill","ZZ","2014-05-16","S-1 Research Projects","BIZ Research Projects",null,{"$f":"IF(O4=\"Business Firm billable\",VLOOKUP(A4,'Hourly rates'!$B$2:$E$40,4,FALSE),VLOOKUP(A4,'Hourly rates'!$B$2:$E$40,2,FALSE))","v":12},48]
["O'Brian, Chloe","Business Firm:Administration","Staff",1099,null,4,"2014-05-09","2014-05-10","Fri",null,"NonBill","ZZ","2014-05-16","S-1 Research Projects","BIZ Research Projects",null,{"$f":"IF(O5=\"Business Firm billable\",VLOOKUP(A5,'Hourly rates'!$B$2:$E$40,4,FALSE),VLOOKUP(A5,'Hourly rates'!$B$2:$E$40,2,FALSE))","v":12},48]
["O'Brian, Chloe","Business Firm:Administration","Staff",1099,null,4,"2014-05-10","2014-05-10","Sat",null,"NonBill","ZZ","2014-05-16","S-1 Research Projects","BIZ Research Projects",null,{"$f":"IF(O6=\"Business Firm billable\",VLOOKUP(A6,'Hourly rates'!$B$2:$E$40,4,FALSE),VLOOKUP(A6,'Hourly rates'!$B$2:$E$40,2,FALSE))","v":12},48]
["O'Brian, Chloe","Business Firm:Administration","Staff",1099,null,1.75,"2014-05-12","2014-05-17","Mon",null,"NonBill","ZZ","2014-06-09","S-1 Research Projects","BIZ Research Projects",null,{"$f":"IF(O7=\"Business Firm billable\",VLOOKUP(A7,'Hourly rates'!$B$2:$E$40,4,FALSE),VLOOKUP(A7,'Hourly rates'!$B$2:$E$40,2,FALSE))","v":12},21]
["O'Brian, Chloe","Business Firm:Administration","Staff",1099,null,1.25,"2014-05-13","2014-05-17","Tue",null,"NonBill","ZZ","2014-06-09","S-1 Research Projects","BIZ Research Projects",null,{"$f":"IF(O8=\"Business Firm billable\",VLOOKUP(A8,'Hourly rates'!$B$2:$E$40,4,FALSE),VLOOKUP(A8,'Hourly rates'!$B$2:$E$40,2,FALSE))","v":12},15]
["O'Brian, Chloe","Business Firm:Administration","Staff",1099,null,1.25,"2014-05-14","2014-05-17","Wed",null,"NonBill","ZZ","2014-06-09","S-1 Research Projects","BIZ Research Projects",null,{"$f":"IF(O9=\"Business Firm billable\",VLOOKUP(A9,'Hourly rates'!$B$2:$E$40,4,FALSE),VLOOKUP(A9,'Hourly rates'!$B$2:$E$40,2,FALSE))","v":12},15]
["O'Brian, Chloe","Business Firm:Administration","Staff",1099,null,1.75,"2014-05-15","2014-05-17","Thu",null,"NonBill","ZZ","2014-06-09","S-1 Research Projects","BIZ Research Projects",null,{"$f":"IF(O10=\"Business Firm billable\",VLOOKUP(A10,'Hourly rates'!$B$2:$E$40,4,FALSE),VLOOKUP(A10,'Hourly rates'!$B$2:$E$40,2,FALSE))","v":12},21]
["O'Brian, Chloe","Business Firm:Administration","Staff",1099,null,1.25,"2014-05-16","2014-05-17","Fri",null,"NonBill","ZZ","2014-06-09","S-1 Research Projects","BIZ Research Projects",null,{"$f":"IF(O11=\"Business Firm billable\",VLOOKUP(A11,'Hourly rates'!$B$2:$E$40,4,FALSE),VLOOKUP(A11,'Hourly rates'!$B$2:$E$40,2,FALSE))","v":12},15]
["O'Brian, Chloe","Business Firm:Administration","Staff",1099,null,2.75,"2014-05-17","2014-05-17","Sat",null,"NonBill","ZZ","2014-06-09","S-1 Research Projects","BIZ Research Projects",null,{"$f":"IF(O12=\"Business Firm billable\",VLOOKUP(A12,'Hourly rates'!$B$2:$E$40,4,FALSE),VLOOKUP(A12,'Hourly rates'!$B$2:$E$40,2,FALSE))","v":12},33]
["O'Brian, Chloe","Business Firm:Administration","Staff",1099,null,1,"2014-05-19","2014-05-24","Mon",null,"NonBill","ZZ","2014-06-09","S-1 Research Projects","BIZ Research Projects",null,{"$f":"IF(O13=\"Business Firm billable\",VLOOKUP(A13,'Hourly rates'!$B$2:$E$40,4,FALSE),VLOOKUP(A13,'Hourly rates'!$B$2:$E$40,2,FALSE))","v":12},12]
["O'Brian, Chloe","Business Firm:Administration","Staff",1099,null,2.25,"2014-05-20","2014-05-24","Tue",null,"NonBill","ZZ","2014-06-09","S-1 Research Projects","BIZ Research Projects",null,{"$f":"IF(O14=\"Business Firm billable\",VLOOKUP(A14,'Hourly rates'!$B$2:$E$40,4,FALSE),VLOOKUP(A14,'Hourly rates'!$B$2:$E$40,2,FALSE))","v":12},27]
["O'Brian, Chloe","Business Firm:Administration","Staff",1099,null,2.75,"2014-05-22","2014-05-24","Thu",null,"NonBill","ZZ","2014-06-09","S-1 Research Projects","BIZ Research Projects",null,{"$f":"IF(O15=\"Business Firm billable\",VLOOKUP(A15,'Hourly rates'!$B$2:$E$40,4,FALSE),VLOOKUP(A15,'Hourly rates'!$B$2:$E$40,2,FALSE))","v":12},33]
["O'Brian, Chloe","Business Firm:Administration","Staff",1099,null,6.75,"2014-05-24","2014-05-24","Sat",null,"NonBill","ZZ","2014-06-09","S-1 Research Projects","BIZ Research Projects",null,{"$f":"IF(O16=\"Business Firm billable\",VLOOKUP(A16,'Hourly rates'!$B$2:$E$40,4,FALSE),VLOOKUP(A16,'Hourly rates'!$B$2:$E$40,2,FALSE))","v":12},81]
["O'Brian, Chloe","Business Firm:Administration","Staff",1099,null,4,"2014-05-26","2014-05-31","Mon",null,"NonBill","ZZ","2014-06-09","S-1 Research Projects","BIZ Research Projects",null,{"$f":"IF(O17=\"Business Firm billable\",VLOOKUP(A17,'Hourly rates'!$B$2:$E$40,4,FALSE),VLOOKUP(A17,'Hourly rates'!$B$2:$E$40,2,FALSE))","v":12},48]
["O'Brian, Chloe","Business Firm:Administration","Staff",1099,null,3.25,"2014-05-28","2014-05-31","Wed",null,"NonBill","ZZ","2014-06-09","S-1 Research Projects","BIZ Research Projects",null,{"$f":"IF(O18=\"Business Firm billable\",VLOOKUP(A18,'Hourly rates'!$B$2:$E$40,4,FALSE),VLOOKUP(A18,'Hourly rates'!$B$2:$E$40,2,FALSE))","v":12},39]
["O'Brian, Chloe","Business Firm:Administration","Staff",1099,null,2,"2014-05-29","2014-05-31","Thu",null,"NonBill","ZZ","2014-06-09","S-1 Research Projects","BIZ Research Projects",null,{"$f":"IF(O19=\"Business Firm billable\",VLOOKUP(A19,'Hourly rates'!$B$2:$E$40,4,FALSE),VLOOKUP(A19,'Hourly rates'!$B$2:$E$40,2,FALSE))","v":12},24]
["O'Brian, Chloe","Business Firm:Administration","Staff",1099,null,1.25,"2014-05-30","2014-05-31","Fri",null,"NonBill","ZZ","2014-06-09","S-1 Research Projects","BIZ Research Projects",null,{"$f":"IF(O20=\"Business Firm billable\",VLOOKUP(A20,'Hourly rates'!$B$2:$E$40,4,FALSE),VLOOKUP(A20,'Hourly rates'!$B$2:$E$40,2,FALSE))","v":12},15]
["O'Brian, Chloe","Business Firm:Administration","Staff",1099,null,1.25,"2014-05-31","2014-05-31","Sat",null,"NonBill","ZZ","2014-06-09","S-1 Research Projects","BIZ Research Projects",null,{"$f":"IF(O21=\"Business Firm billable\",VLOOKUP(A21,'Hourly rates'!$B$2:$E$40,4,FALSE),VLOOKUP(A21,'Hourly rates'!$B$2:$E$40,2,FALSE))","v":12},15]
["O'Brian, Chloe","Business Firm:Administration","Staff",1099,null,3,"2014-06-03","2014-06-07","Tue",null,"NonBill","ZZ","2014-06-26","S-1 Research Projects","BIZ Research Projects",null,{"$f":"IF(O22=\"Business Firm billable\",VLOOKUP(A22,'Hourly rates'!$B$2:$E$40,4,FALSE),VLOOKUP(A22,'Hourly rates'!$B$2:$E$40,2,FALSE))","v":12},36]
["O'Brian, Chloe","Business Firm:Administration","Staff",1099,null,2.25,"2014-06-04","2014-06-07","Wed",null,"NonBill","ZZ","2014-06-26","S-1 Research Projects","BIZ Research Projects",null,{"$f":"IF(O23=\"Business Firm billable\",VLOOKUP(A23,'Hourly rates'!$B$2:$E$40,4,FALSE),VLOOKUP(A23,'Hourly rates'!$B$2:$E$40,2,FALSE))","v":12},27]
["O'Brian, Chloe","Business Firm:Administration","Staff",1099,null,2.25,"2014-06-05","2014-06-07","Thu",null,"NonBill","ZZ","2014-06-26","S-1 Research Projects","BIZ Research Projects",null,{"$f":"IF(O24=\"Business Firm billable\",VLOOKUP(A24,'Hourly rates'!$B$2:$E$40,4,FALSE),VLOOKUP(A24,'Hourly rates'!$B$2:$E$40,2,FALSE))","v":12},27]
["O'Brian, Chloe","Business Firm:Administration","Staff",1099,null,8,"2014-06-07","2014-06-07","Sat",null,"NonBill","ZZ","2014-06-26","S-1 Research Projects","BIZ Research Projects",null,{"$f":"IF(O25=\"Business Firm billable\",VLOOKUP(A25,'Hourly rates'!$B$2:$E$40,4,FALSE),VLOOKUP(A25,'Hourly rates'!$B$2:$E$40,2,FALSE))","v":12},96]
["Delgado, Gloria","Some Client:IPO","Intern",1099,null,4,"2014-06-09","2014-06-14","Mon",null,"Admin 9%","ZZ","Pending",null,"Business Firm billable",null,{"$f":"IF(O26=\"Business Firm billable\",VLOOKUP(A26,'Hourly rates'!$B$2:$E$40,4,FALSE),VLOOKUP(A26,'Hourly rates'!$B$2:$E$40,2,FALSE))","v":83},332]
["O'Brian, Chloe","Business Firm:Administration","Staff",1099,null,1.25,"2014-06-09","2014-06-14","Mon",null,"NonBill","ZZ","2014-06-26","S-1 Research Projects","BIZ Research Projects",null,{"$f":"IF(O27=\"Business Firm billable\",VLOOKUP(A27,'Hourly rates'!$B$2:$E$40,4,FALSE),VLOOKUP(A27,'Hourly rates'!$B$2:$E$40,2,FALSE))","v":12},15]
["Dwyer, Andy","Business Firm:Admin SP","Intern",1099,null,1.75,"2014-06-09","2014-06-14","Mon",null,"NonBill","ZZ","2014-06-26",null,"Special Projects",null,{"$f":"IF(O28=\"Business Firm billable\",VLOOKUP(A28,'Hourly rates'!$B$2:$E$40,4,FALSE),VLOOKUP(A28,'Hourly rates'!$B$2:$E$40,2,FALSE))","v":12},21]
["Delgado, Gloria","Some Client:IPO","Intern",1099,null,5,"2014-06-10","2014-06-14","Tue",null,"Admin 9%","ZZ","Pending",null,"Business Firm billable",null,{"$f":"IF(O29=\"Business Firm billable\",VLOOKUP(A29,'Hourly rates'!$B$2:$E$40,4,FALSE),VLOOKUP(A29,'Hourly rates'!$B$2:$E$40,2,FALSE))","v":83},415]
["Haverford, Tom","Business Firm:Admin SP","Staff",1099,null,1,"2014-06-10","2014-06-14","Tue",null,"NonBill","ZZ","2014-06-26","Special Projects","Special Projects",null,{"$f":"IF(O30=\"Business Firm billable\",VLOOKUP(A30,'Hourly rates'!$B$2:$E$40,4,FALSE),VLOOKUP(A30,'Hourly rates'!$B$2:$E$40,2,FALSE))","v":12},12]
["O'Brian, Chloe","Business Firm:Administration","Staff",1099,null,2.75,"2014-06-10","2014-06-14","Tue",null,"NonBill","ZZ","2014-06-26","S-1 Research Projects","BIZ Research Projects",null,{"$f":"IF(O31=\"Business Firm billable\",VLOOKUP(A31,'Hourly rates'!$B$2:$E$40,4,FALSE),VLOOKUP(A31,'Hourly rates'!$B$2:$E$40,2,FALSE))","v":12},33]
["Dwyer, Andy","Business Firm:Admin SP","Intern",1099,null,1.25,"2014-06-10","2014-06-14","Tue",null,"NonBill","ZZ","2014-06-26",null,"Special Projects",null,{"$f":"IF(O32=\"Business Firm billable\",VLOOKUP(A32,'Hourly rates'!$B$2:$E$40,4,FALSE),VLOOKUP(A32,'Hourly rates'!$B$2:$E$40,2,FALSE))","v":12},15]
["Delgado, Gloria","Some Client:IPO","Intern",1099,null,3,"2014-06-11","2014-06-14","Wed",null,"Admin 9%","ZZ","Pending",null,"Business Firm billable",null,{"$f":"IF(O33=\"Business Firm billable\",VLOOKUP(A33,'Hourly rates'!$B$2:$E$40,4,FALSE),VLOOKUP(A33,'Hourly rates'!$B$2:$E$40,2,FALSE))","v":83},249]
["Meagle, Donna","Some Client:CAS Various","Intern",1099,null,2,"2014-06-11","2014-06-14","Wed",null,"Admin 9%","ZZ","2014-06-26",null,"Business Firm billable",null,{"$f":"IF(O34=\"Business Firm billable\",VLOOKUP(A34,'Hourly rates'!$B$2:$E$40,4,FALSE),VLOOKUP(A34,'Hourly rates'!$B$2:$E$40,2,FALSE))","v":83},166]
["Haverford, Tom","Business Firm:Admin SP","Staff",1099,null,1.25,"2014-06-11","2014-06-14","Wed",null,"NonBill","ZZ","2014-06-26","Special Projects","Special Projects",null,{"$f":"IF(O35=\"Business Firm billable\",VLOOKUP(A35,'Hourly rates'!$B$2:$E$40,4,FALSE),VLOOKUP(A35,'Hourly rates'!$B$2:$E$40,2,FALSE))","v":12},15]
["Dwyer, Andy","Business Firm:Admin SP","Intern",1099,null,2,"2014-06-11","2014-06-14","Wed",null,"NonBill","ZZ","2014-06-26",null,"Special Projects",null,{"$f":"IF(O36=\"Business Firm billable\",VLOOKUP(A36,'Hourly rates'!$B$2:$E$40,4,FALSE),VLOOKUP(A36,'Hourly rates'!$B$2:$E$40,2,FALSE))","v":12},24]
["Delgado, Gloria","Some Client:IPO","Intern",1099,null,3,"2014-06-12","2014-06-14","Thu",null,"Admin 9%","ZZ","Pending",null,"Business Firm billable",null,{"$f":"IF(O37=\"Business Firm billable\",VLOOKUP(A37,'Hourly rates'!$B$2:$E$40,4,FALSE),VLOOKUP(A37,'Hourly rates'!$B$2:$E$40,2,FALSE))","v":83},249]
["Meagle, Donna","Some Client:CAS Various","Intern",1099,null,1,"2014-06-12","2014-06-14","Thu",null,"Admin 9%","ZZ","2014-06-26",null,"Business Firm billable",null,{"$f":"IF(O38=\"Business Firm billable\",VLOOKUP(A38,'Hourly rates'!$B$2:$E$40,4,FALSE),VLOOKUP(A38,'Hourly rates'!$B$2:$E$40,2,FALSE))","v":83},83]
["Haverford, Tom","Business Firm:Admin SP","Staff",1099,null,1,"2014-06-12","2014-06-14","Thu",null,"NonBill","ZZ","2014-06-26","Special Projects","Special Projects",null,{"$f":"IF(O39=\"Business Firm billable\",VLOOKUP(A39,'Hourly rates'!$B$2:$E$40,4,FALSE),VLOOKUP(A39,'Hourly rates'!$B$2:$E$40,2,FALSE))","v":12},12]
["O'Brian, Chloe","Business Firm:Administration","Staff",1099,null,2,"2014-06-12","2014-06-14","Thu",null,"NonBill","ZZ","2014-06-26","S-1 Research Projects","BIZ Research Projects",null,{"$f":"IF(O40=\"Business Firm billable\",VLOOKUP(A40,'Hourly rates'!$B$2:$E$40,4,FALSE),VLOOKUP(A40,'Hourly rates'!$B$2:$E$40,2,FALSE))","v":12},24]
["Dwyer, Andy","Business Firm:Admin SP","Intern",1099,null,2,"2014-06-12","2014-06-14","Thu",null,"NonBill","ZZ","2014-06-26",null,"Special Projects",null,{"$f":"IF(O41=\"Business Firm billable\",VLOOKUP(A41,'Hourly rates'!$B$2:$E$40,4,FALSE),VLOOKUP(A41,'Hourly rates'!$B$2:$E$40,2,FALSE))","v":12},24]
["Meagle, Donna","Some Client:CAS Various","Intern",1099,null,2,"2014-06-13","2014-06-14","Fri",null,"Admin 9%","ZZ","2014-06-26",null,"Business Firm billable",null,{"$f":"IF(O42=\"Business Firm billable\",VLOOKUP(A42,'Hourly rates'!$B$2:$E$40,4,FALSE),VLOOKUP(A42,'Hourly rates'!$B$2:$E$40,2,FALSE))","v":83},166]
["Meagle, Donna","Business Firm:Admin SP","Intern",1099,null,3,"2014-06-13","2014-06-14","Fri",null,"NonBill","ZZ","2014-06-26",null,"Special Projects",null,{"$f":"IF(O43=\"Business Firm billable\",VLOOKUP(A43,'Hourly rates'!$B$2:$E$40,4,FALSE),VLOOKUP(A43,'Hourly rates'!$B$2:$E$40,2,FALSE))","v":12},36]
["Meagle, Donna","Business Firm:Administration","Intern",1099,null,2,"2014-06-13","2014-06-14","Fri",null,"NonBill","ZZ","2014-06-26","Learned about additional work opportunities with BIZ and divided research projects among teammates","BIZ Research Projects",null,{"$f":"IF(O44=\"Business Firm billable\",VLOOKUP(A44,'Hourly rates'!$B$2:$E$40,4,FALSE),VLOOKUP(A44,'Hourly rates'!$B$2:$E$40,2,FALSE))","v":12},24]
["Haverford, Tom","Business Firm:Admin SP","Staff",1099,null,2,"2014-06-13","2014-06-14","Fri",null,"NonBill","ZZ","2014-06-26","Special Projects","Special Projects",null,{"$f":"IF(O45=\"Business Firm billable\",VLOOKUP(A45,'Hourly rates'!$B$2:$E$40,4,FALSE),VLOOKUP(A45,'Hourly rates'!$B$2:$E$40,2,FALSE))","v":12},24]
["O'Brian, Chloe","Business Firm:Administration","Staff",1099,null,1.25,"2014-06-13","2014-06-14","Fri",null,"NonBill","ZZ","2014-06-26","S-1 Research Projects","BIZ Research Projects",null,{"$f":"IF(O46=\"Business Firm billable\",VLOOKUP(A46,'Hourly rates'!$B$2:$E$40,4,FALSE),VLOOKUP(A46,'Hourly rates'!$B$2:$E$40,2,FALSE))","v":12},15]
["Dwyer, Andy","Business Firm:Admin SP","Intern",1099,null,2,"2014-06-13","2014-06-14","Fri",null,"NonBill","ZZ","2014-06-26",null,"Special Projects",null,{"$f":"IF(O47=\"Business Firm billable\",VLOOKUP(A47,'Hourly rates'!$B$2:$E$40,4,FALSE),VLOOKUP(A47,'Hourly rates'!$B$2:$E$40,2,FALSE))","v":12},24]
["Dwyer, Andy","Business Firm:Administration","Intern",1099,null,1.75,"2014-06-13","2014-06-14","Fri",null,"NonBill","ZZ","2014-06-26","mfile configuration","Strat Firm",null,{"$f":"IF(O48=\"Business Firm billable\",VLOOKUP(A48,'Hourly rates'!$B$2:$E$40,4,FALSE),VLOOKUP(A48,'Hourly rates'!$B$2:$E$40,2,FALSE))","v":12},21]
["Dwyer, Andy","Business Firm:Training - trainee","Intern",1099,null,2,"2014-06-13","2014-06-14","Fri",null,"NonBill","ZZ","2014-06-26",null,"Administration",null,{"$f":"IF(O49=\"Business Firm billable\",VLOOKUP(A49,'Hourly rates'!$B$2:$E$40,4,FALSE),VLOOKUP(A49,'Hourly rates'!$B$2:$E$40,2,FALSE))","v":12},24]
["Meagle, Donna","Some Client:CAS Various","Intern",1099,null,2,"2014-06-14","2014-06-14","Sat",null,"Admin 9%","ZZ","2014-06-26",null,"Business Firm billable",null,{"$f":"IF(O50=\"Business Firm billable\",VLOOKUP(A50,'Hourly rates'!$B$2:$E$40,4,FALSE),VLOOKUP(A50,'Hourly rates'!$B$2:$E$40,2,FALSE))","v":83},166]
["Meagle, Donna","Business Firm:Admin SP","Intern",1099,null,3,"2014-06-14","2014-06-14","Sat",null,"NonBill","ZZ","2014-06-26",null,"Special Projects",null,{"$f":"IF(O51=\"Business Firm billable\",VLOOKUP(A51,'Hourly rates'!$B$2:$E$40,4,FALSE),VLOOKUP(A51,'Hourly rates'!$B$2:$E$40,2,FALSE))","v":12},36]
["O'Brian, Chloe","Business Firm:Administration","Staff",1099,null,3.75,"2014-06-14","2014-06-14","Sat",null,"NonBill","ZZ","2014-06-26","S-1 Research Projects","BIZ Research Projects",null,{"$f":"IF(O52=\"Business Firm billable\",VLOOKUP(A52,'Hourly rates'!$B$2:$E$40,4,FALSE),VLOOKUP(A52,'Hourly rates'!$B$2:$E$40,2,FALSE))","v":12},45]
["Dwyer, Andy","Business Firm:Administration","Intern",1099,null,3,"2014-06-14","2014-06-14","Sat",null,"NonBill","ZZ","2014-06-26","mfile configuration","Strat Firm",null,{"$f":"IF(O53=\"Business Firm billable\",VLOOKUP(A53,'Hourly rates'!$B$2:$E$40,4,FALSE),VLOOKUP(A53,'Hourly rates'!$B$2:$E$40,2,FALSE))","v":12},36]
["Delgado, Gloria","Some Client:IPO","Intern",1099,null,3,"2014-06-16","2014-06-21","Mon",null,"Admin 9%","ZZ","Pending",null,"Business Firm billable",null,{"$f":"IF(O54=\"Business Firm billable\",VLOOKUP(A54,'Hourly rates'!$B$2:$E$40,4,FALSE),VLOOKUP(A54,'Hourly rates'!$B$2:$E$40,2,FALSE))","v":83},249]
["Wyatt, Ben","Business Firm:Admin SP","Staff",1099,null,2,"2014-06-16","2014-06-21","Mon",null,"NonBill","ZZ","2014-06-26","Special Projects","Special Projects",null,{"$f":"IF(O55=\"Business Firm billable\",VLOOKUP(A55,'Hourly rates'!$B$2:$E$40,4,FALSE),VLOOKUP(A55,'Hourly rates'!$B$2:$E$40,2,FALSE))","v":12},24]
["Haverford, Tom","Business Firm:Admin SP","Staff",1099,null,2,"2014-06-16","2014-06-21","Mon",null,"NonBill","ZZ","2014-06-26","BIZ Project - Special Projects","Special Projects",null,{"$f":"IF(O56=\"Business Firm billable\",VLOOKUP(A56,'Hourly rates'!$B$2:$E$40,4,FALSE),VLOOKUP(A56,'Hourly rates'!$B$2:$E$40,2,FALSE))","v":12},24]
["Haverford, Tom","Business Firm:Administration","Staff",1099,null,1,"2014-06-16","2014-06-21","Mon",null,"NonBill","ZZ","2014-06-26","BIZ Research Project - SEC Comment Letter Training","BIZ Research Projects",null,{"$f":"IF(O57=\"Business Firm billable\",VLOOKUP(A57,'Hourly rates'!$B$2:$E$40,4,FALSE),VLOOKUP(A57,'Hourly rates'!$B$2:$E$40,2,FALSE))","v":12},12]
["O'Brian, Chloe","Business Firm:Administration","Staff",1099,null,1.25,"2014-06-16","2014-06-21","Mon",null,"NonBill","ZZ","2014-06-26","BIZ Research Project - CFO Compensation - Maintenance","BIZ Research Projects",null,{"$f":"IF(O58=\"Business Firm billable\",VLOOKUP(A58,'Hourly rates'!$B$2:$E$40,4,FALSE),VLOOKUP(A58,'Hourly rates'!$B$2:$E$40,2,FALSE))","v":12},15]
["O'Brian, Chloe","Business Firm:Counseling, performance reviews, coaching, onboarding","Staff",1099,null,1.75,"2014-06-16","2014-06-21","Mon",null,"NonBill","ZZ","2014-06-26","General Onboarding of New Interns","Administration",null,{"$f":"IF(O59=\"Business Firm billable\",VLOOKUP(A59,'Hourly rates'!$B$2:$E$40,4,FALSE),VLOOKUP(A59,'Hourly rates'!$B$2:$E$40,2,FALSE))","v":12},21]
["Dwyer, Andy","Business Firm:Admin SP","Intern",1099,null,1.25,"2014-06-16","2014-06-21","Mon",null,"NonBill","ZZ","2014-06-26","special projects","Special Projects",null,{"$f":"IF(O60=\"Business Firm billable\",VLOOKUP(A60,'Hourly rates'!$B$2:$E$40,4,FALSE),VLOOKUP(A60,'Hourly rates'!$B$2:$E$40,2,FALSE))","v":12},15]
["Dwyer, Andy","Business Firm:Administration","Intern",1099,null,2.75,"2014-06-16","2014-06-21","Mon",null,"NonBill","ZZ","2014-06-26","mfile research project","Strat Firm",null,{"$f":"IF(O61=\"Business Firm billable\",VLOOKUP(A61,'Hourly rates'!$B$2:$E$40,4,FALSE),VLOOKUP(A61,'Hourly rates'!$B$2:$E$40,2,FALSE))","v":12},33]
["Delgado, Gloria","Some Client:IPO","Intern",1099,null,3,"2014-06-17","2014-06-21","Tue",null,"Admin 9%","ZZ","Pending",null,"Business Firm billable",null,{"$f":"IF(O62=\"Business Firm billable\",VLOOKUP(A62,'Hourly rates'!$B$2:$E$40,4,FALSE),VLOOKUP(A62,'Hourly rates'!$B$2:$E$40,2,FALSE))","v":83},249]
["Wyatt, Ben","Business Firm:Administration","Staff",1099,null,1.75,"2014-06-17","2014-06-21","Tue",null,"NonBill","ZZ","2014-06-26"," BIZ Research Project-IPO Metrics-Traiing","BIZ Research Projects",null,{"$f":"IF(O63=\"Business Firm billable\",VLOOKUP(A63,'Hourly rates'!$B$2:$E$40,4,FALSE),VLOOKUP(A63,'Hourly rates'!$B$2:$E$40,2,FALSE))","v":12},21]
["Wyatt, Ben","Business Firm:Administration","Staff",1099,null,1,"2014-06-17","2014-06-21","Tue",null,"NonBill","ZZ","2014-06-26","BIZ Research Project - Jobs Act-Training","BIZ Research Projects",null,{"$f":"IF(O64=\"Business Firm billable\",VLOOKUP(A64,'Hourly rates'!$B$2:$E$40,4,FALSE),VLOOKUP(A64,'Hourly rates'!$B$2:$E$40,2,FALSE))","v":12},12]
["Wyatt, Ben","Business Firm:Administration","Staff",1099,null,1.75,"2014-06-17","2014-06-21","Tue",null,"NonBill","ZZ","2014-06-26","Word Tables","Strat Firm",null,{"$f":"IF(O65=\"Business Firm billable\",VLOOKUP(A65,'Hourly rates'!$B$2:$E$40,4,FALSE),VLOOKUP(A65,'Hourly rates'!$B$2:$E$40,2,FALSE))","v":12},21]
["Haverford, Tom","Business Firm:Admin SP","Staff",1099,null,1.25,"2014-06-17",{"$f":"G66+7-WEEKDAY(G66)","v":"2014-06-21"},"Tue",null,"NonBill","ZZ","2014-06-26","BIZ Project - Special Projects","Special Projects",null,{"$f":"IF(O66=\"Business Firm billable\",VLOOKUP(A66,'Hourly rates'!$B$2:$E$40,4,FALSE),VLOOKUP(A66,'Hourly rates'!$B$2:$E$40,2,FALSE))","v":12},{"$f":"Q66*F66","v":15}]
["O'Brian, Chloe","Business Firm:Administration","Staff",1099,null,1.75,"2014-06-17","2014-06-21","Tue",null,"NonBill","ZZ","2014-06-26","BIZ Research Project - CFO Compensation - Training","BIZ Research Projects",null,{"$f":"IF(O67=\"Business Firm billable\",VLOOKUP(A67,'Hourly rates'!$B$2:$E$40,4,FALSE),VLOOKUP(A67,'Hourly rates'!$B$2:$E$40,2,FALSE))","v":12},21]
["O'Brian, Chloe","Business Firm:Administration","Staff",1099,null,1.75,"2014-06-17","2014-06-21","Tue",null,"NonBill","ZZ","2014-06-26","BIZ Research Project - JOBS Act Impact/IPO Metrics - Training","BIZ Research Projects",null,{"$f":"IF(O68=\"Business Firm billable\",VLOOKUP(A68,'Hourly rates'!$B$2:$E$40,4,FALSE),VLOOKUP(A68,'Hourly rates'!$B$2:$E$40,2,FALSE))","v":12},21]
["Dwyer, Andy","Business Firm:Administration","Intern",1099,null,1.25,"2014-06-17","2014-06-21","Tue",null,"NonBill","ZZ","2014-06-26","mfile research project","Strat Firm",null,{"$f":"IF(O69=\"Business Firm billable\",VLOOKUP(A69,'Hourly rates'!$B$2:$E$40,4,FALSE),VLOOKUP(A69,'Hourly rates'!$B$2:$E$40,2,FALSE))","v":12},15]
["Dwyer, Andy","Business Firm:Administration","Intern",1099,null,2,"2014-06-17","2014-06-21","Tue",null,"NonBill","ZZ","2014-06-26","CFO Compensation Research Project","BIZ Research Projects",null,{"$f":"IF(O70=\"Business Firm billable\",VLOOKUP(A70,'Hourly rates'!$B$2:$E$40,4,FALSE),VLOOKUP(A70,'Hourly rates'!$B$2:$E$40,2,FALSE))","v":12},24]
["Dwyer, Andy","Business Firm:Administration","Intern",1099,null,4,"2014-06-17","2014-06-21","Tue",null,"NonBill","ZZ","2014-06-26","CFO Compensation Research Project","BIZ Research Projects",null,{"$f":"IF(O71=\"Business Firm billable\",VLOOKUP(A71,'Hourly rates'!$B$2:$E$40,4,FALSE),VLOOKUP(A71,'Hourly rates'!$B$2:$E$40,2,FALSE))","v":12},48]
["Delgado, Gloria","Some Client:IPO","Intern",1099,null,3,"2014-06-18","2014-06-21","Wed",null,"Admin 9%","ZZ","Pending",null,"Business Firm billable",null,{"$f":"IF(O72=\"Business Firm billable\",VLOOKUP(A72,'Hourly rates'!$B$2:$E$40,4,FALSE),VLOOKUP(A72,'Hourly rates'!$B$2:$E$40,2,FALSE))","v":83},249]
["Meagle, Donna","Business Firm:Admin SP","Intern",1099,null,1,"2014-06-18","2014-06-21","Wed",null,"NonBill","ZZ","2014-06-26","BIZ Research Project - Special Projects","Special Projects",null,{"$f":"IF(O73=\"Business Firm billable\",VLOOKUP(A73,'Hourly rates'!$B$2:$E$40,4,FALSE),VLOOKUP(A73,'Hourly rates'!$B$2:$E$40,2,FALSE))","v":12},12]
["Haverford, Tom","Business Firm:Admin SP","Staff",1099,null,4,"2014-06-18","2014-06-21","Wed",null,"NonBill","ZZ","2014-06-26","BIZ Project - Special Projects","Special Projects",null,{"$f":"IF(O74=\"Business Firm billable\",VLOOKUP(A74,'Hourly rates'!$B$2:$E$40,4,FALSE),VLOOKUP(A74,'Hourly rates'!$B$2:$E$40,2,FALSE))","v":12},48]
["O'Brian, Chloe","Business Firm:Administration","Staff",1099,null,1.25,"2014-06-18","2014-06-21","Wed",null,"NonBill","ZZ","2014-06-26","BIZ Research Project - CFO Compensation - Training","BIZ Research Projects",null,{"$f":"IF(O75=\"Business Firm billable\",VLOOKUP(A75,'Hourly rates'!$B$2:$E$40,4,FALSE),VLOOKUP(A75,'Hourly rates'!$B$2:$E$40,2,FALSE))","v":12},15]
["O'Brian, Chloe","Business Firm:Administration","Staff",1099,null,1.25,"2014-06-18","2014-06-21","Wed",null,"NonBill","ZZ","2014-06-26","BIZ Research Project - Material Weakness - Training","BIZ Research Projects",null,{"$f":"IF(O76=\"Business Firm billable\",VLOOKUP(A76,'Hourly rates'!$B$2:$E$40,4,FALSE),VLOOKUP(A76,'Hourly rates'!$B$2:$E$40,2,FALSE))","v":12},15]
["Dwyer, Andy","Business Firm:Admin SP","Intern",1099,null,4,"2014-06-18","2014-06-21","Wed",null,"NonBill","ZZ","2014-06-26","special projects","Special Projects",null,{"$f":"IF(O77=\"Business Firm billable\",VLOOKUP(A77,'Hourly rates'!$B$2:$E$40,4,FALSE),VLOOKUP(A77,'Hourly rates'!$B$2:$E$40,2,FALSE))","v":12},48]
["Dwyer, Andy","Business Firm:Administration","Intern",1099,null,1.25,"2014-06-18","2014-06-21","Wed",null,"NonBill","ZZ","2014-06-26","mfile research project","Strat Firm",null,{"$f":"IF(O78=\"Business Firm billable\",VLOOKUP(A78,'Hourly rates'!$B$2:$E$40,4,FALSE),VLOOKUP(A78,'Hourly rates'!$B$2:$E$40,2,FALSE))","v":12},15]
["Dwyer, Andy","Business Firm:Administration","Intern",1099,null,1.75,"2014-06-18","2014-06-21","Wed",null,"NonBill","ZZ","2014-06-26","CFO Compensation Research Project","BIZ Research Projects",null,{"$f":"IF(O79=\"Business Firm billable\",VLOOKUP(A79,'Hourly rates'!$B$2:$E$40,4,FALSE),VLOOKUP(A79,'Hourly rates'!$B$2:$E$40,2,FALSE))","v":12},21]
["Delgado, Gloria","Some Client:IPO","Intern",1099,null,3,"2014-06-19","2014-06-21","Thu",null,"Admin 9%","ZZ","Pending",null,"Business Firm billable",null,{"$f":"IF(O80=\"Business Firm billable\",VLOOKUP(A80,'Hourly rates'!$B$2:$E$40,4,FALSE),VLOOKUP(A80,'Hourly rates'!$B$2:$E$40,2,FALSE))","v":83},249]
["Wyatt, Ben","Business Firm:Administration","Staff",1099,null,1.25,"2014-06-19","2014-06-21","Thu",null,"NonBill","ZZ","2014-06-26","Word Tables","Strat Firm",null,{"$f":"IF(O81=\"Business Firm billable\",VLOOKUP(A81,'Hourly rates'!$B$2:$E$40,4,FALSE),VLOOKUP(A81,'Hourly rates'!$B$2:$E$40,2,FALSE))","v":12},15]
["Wyatt, Ben","Business Firm:Administration","Staff",1099,null,1,"2014-06-19","2014-06-21","Thu",null,"NonBill","ZZ","2014-06-26","BIZ Business Firm - Material Weakness-Training","BIZ Research Projects",null,{"$f":"IF(O82=\"Business Firm billable\",VLOOKUP(A82,'Hourly rates'!$B$2:$E$40,4,FALSE),VLOOKUP(A82,'Hourly rates'!$B$2:$E$40,2,FALSE))","v":12},12]
["Meagle, Donna","Business Firm:Admin SP","Intern",1099,null,1,"2014-06-19","2014-06-21","Thu",null,"NonBill","ZZ","2014-06-26","BIZ Research Project - Special Projects","Special Projects",null,{"$f":"IF(O83=\"Business Firm billable\",VLOOKUP(A83,'Hourly rates'!$B$2:$E$40,4,FALSE),VLOOKUP(A83,'Hourly rates'!$B$2:$E$40,2,FALSE))","v":12},12]
["Haverford, Tom","Business Firm:Admin SP","Staff",1099,null,1,"2014-06-19","2014-06-21","Thu",null,"NonBill","ZZ","2014-06-26","BIZ Project - Special Projects","Special Projects",null,{"$f":"IF(O84=\"Business Firm billable\",VLOOKUP(A84,'Hourly rates'!$B$2:$E$40,4,FALSE),VLOOKUP(A84,'Hourly rates'!$B$2:$E$40,2,FALSE))","v":12},12]
["Haverford, Tom","Business Firm:Administration","Staff",1099,null,1,"2014-06-19","2014-06-21","Thu",null,"NonBill","ZZ","2014-06-26","BIZ Research Project - Maintenance","BIZ Research Projects",null,{"$f":"IF(O85=\"Business Firm billable\",VLOOKUP(A85,'Hourly rates'!$B$2:$E$40,4,FALSE),VLOOKUP(A85,'Hourly rates'!$B$2:$E$40,2,FALSE))","v":12},12]
["O'Brian, Chloe","Business Firm:Administration","Staff",1099,null,1,"2014-06-19","2014-06-21","Thu",null,"NonBill","ZZ","2014-06-26","BIZ Research Project - Material Weakness - Training","BIZ Research Projects",null,{"$f":"IF(O86=\"Business Firm billable\",VLOOKUP(A86,'Hourly rates'!$B$2:$E$40,4,FALSE),VLOOKUP(A86,'Hourly rates'!$B$2:$E$40,2,FALSE))","v":12},12]
["Dwyer, Andy","Business Firm:Admin SP","Intern",1099,null,1.75,"2014-06-19","2014-06-21","Thu",null,"NonBill","ZZ","2014-06-26","special projects","Special Projects",null,{"$f":"IF(O87=\"Business Firm billable\",VLOOKUP(A87,'Hourly rates'!$B$2:$E$40,4,FALSE),VLOOKUP(A87,'Hourly rates'!$B$2:$E$40,2,FALSE))","v":12},21]
["Dwyer, Andy","Business Firm:Administration","Intern",1099,null,1.75,"2014-06-19","2014-06-21","Thu",null,"NonBill","ZZ","2014-06-26","mfile research project","Strat Firm",null,{"$f":"IF(O88=\"Business Firm billable\",VLOOKUP(A88,'Hourly rates'!$B$2:$E$40,4,FALSE),VLOOKUP(A88,'Hourly rates'!$B$2:$E$40,2,FALSE))","v":12},21]
["Delgado, Gloria","Some Client:IPO","Intern",1099,null,3,"2014-06-20","2014-06-21","Fri",null,"Admin 9%","ZZ","Pending",null,"Business Firm billable",null,{"$f":"IF(O89=\"Business Firm billable\",VLOOKUP(A89,'Hourly rates'!$B$2:$E$40,4,FALSE),VLOOKUP(A89,'Hourly rates'!$B$2:$E$40,2,FALSE))","v":83},249]
["Meagle, Donna","Business Firm:Admin SP","Intern",1099,null,1,"2014-06-20","2014-06-21","Fri",null,"NonBill","ZZ","2014-06-26","BIZ Research Project - Special Projects","Special Projects",null,{"$f":"IF(O90=\"Business Firm billable\",VLOOKUP(A90,'Hourly rates'!$B$2:$E$40,4,FALSE),VLOOKUP(A90,'Hourly rates'!$B$2:$E$40,2,FALSE))","v":12},12]
["O'Brian, Chloe","Business Firm:Administration","Staff",1099,null,1.75,"2014-06-20","2014-06-21","Fri",null,"NonBill","ZZ","2014-06-26","BIZ Research Project - CFO Compensation - Modifications","BIZ Research Projects",null,{"$f":"IF(O91=\"Business Firm billable\",VLOOKUP(A91,'Hourly rates'!$B$2:$E$40,4,FALSE),VLOOKUP(A91,'Hourly rates'!$B$2:$E$40,2,FALSE))","v":12},21]
["O'Brian, Chloe","Business Firm:Counseling, performance reviews, coaching, onboarding","Staff",1099,null,1.75,"2014-06-20","2014-06-21","Fri",null,"NonBill","ZZ","2014-06-26","General Onboarding of New Interns","Administration",null,{"$f":"IF(O92=\"Business Firm billable\",VLOOKUP(A92,'Hourly rates'!$B$2:$E$40,4,FALSE),VLOOKUP(A92,'Hourly rates'!$B$2:$E$40,2,FALSE))","v":12},21]
["Dwyer, Andy","Business Firm:Admin SP","Intern",1099,null,1.25,"2014-06-20","2014-06-21","Fri",null,"NonBill","ZZ","2014-06-26","special projects","Special Projects",null,{"$f":"IF(O93=\"Business Firm billable\",VLOOKUP(A93,'Hourly rates'!$B$2:$E$40,4,FALSE),VLOOKUP(A93,'Hourly rates'!$B$2:$E$40,2,FALSE))","v":12},15]
["Dwyer, Andy","Business Firm:Administration","Intern",1099,null,1.75,"2014-06-20","2014-06-21","Fri",null,"NonBill","ZZ","2014-06-26","mfile research project","Strat Firm",null,{"$f":"IF(O94=\"Business Firm billable\",VLOOKUP(A94,'Hourly rates'!$B$2:$E$40,4,FALSE),VLOOKUP(A94,'Hourly rates'!$B$2:$E$40,2,FALSE))","v":12},21]
["Meagle, Donna","Business Firm:Admin SP","Intern",1099,null,4,"2014-06-21","2014-06-21","Sat",null,"NonBill","ZZ","2014-06-26","BIZ Research Project - Special Projects","Special Projects",null,{"$f":"IF(O95=\"Business Firm billable\",VLOOKUP(A95,'Hourly rates'!$B$2:$E$40,4,FALSE),VLOOKUP(A95,'Hourly rates'!$B$2:$E$40,2,FALSE))","v":12},48]
["O'Brian, Chloe","Business Firm:Administration","Staff",1099,null,2.25,"2014-06-21","2014-06-21","Sat",null,"NonBill","ZZ","2014-06-26","BIZ Research Project - CFO Compensation - Modifications","BIZ Research Projects",null,{"$f":"IF(O96=\"Business Firm billable\",VLOOKUP(A96,'Hourly rates'!$B$2:$E$40,4,FALSE),VLOOKUP(A96,'Hourly rates'!$B$2:$E$40,2,FALSE))","v":12},27]
["O'Brian, Chloe","Business Firm:Administration","Staff",1099,null,1.25,"2014-06-21","2014-06-21","Sat",null,"NonBill","ZZ","2014-06-26","BIZ Research Project - JOBS ACt Impact/IPO Metrics - Modifications","BIZ Research Projects",null,{"$f":"IF(O97=\"Business Firm billable\",VLOOKUP(A97,'Hourly rates'!$B$2:$E$40,4,FALSE),VLOOKUP(A97,'Hourly rates'!$B$2:$E$40,2,FALSE))","v":12},15]
["Dwyer, Andy","Business Firm:Administration","Intern",1099,null,2.25,"2014-06-21","2014-06-21","Sat",null,"NonBill","ZZ","2014-06-26","mfile research project","Strat Firm",null,{"$f":"IF(O98=\"Business Firm billable\",VLOOKUP(A98,'Hourly rates'!$B$2:$E$40,4,FALSE),VLOOKUP(A98,'Hourly rates'!$B$2:$E$40,2,FALSE))","v":12},27]
["Delgado, Gloria","Some Client:IPO","Intern",1099,null,2,"2014-06-23","2014-06-28","Mon",null,"Admin 9%","ZZ","Pending",null,"Business Firm billable",null,{"$f":"IF(O99=\"Business Firm billable\",VLOOKUP(A99,'Hourly rates'!$B$2:$E$40,4,FALSE),VLOOKUP(A99,'Hourly rates'!$B$2:$E$40,2,FALSE))","v":83},166]
["Wyatt, Ben","Business Firm:Admin SP","Staff",1099,null,1.25,"2014-06-23","2014-06-28","Mon",null,"NonBill","ZZ","Pending","Special Projects","Special Projects",null,{"$f":"IF(O100=\"Business Firm billable\",VLOOKUP(A100,'Hourly rates'!$B$2:$E$40,4,FALSE),VLOOKUP(A100,'Hourly rates'!$B$2:$E$40,2,FALSE))","v":12},15]
["Wyatt, Ben","Business Firm:Administration","Staff",1099,null,1.25,"2014-06-23","2014-06-28","Mon",null,"NonBill","ZZ","Pending"," BIZ Research Project-IPO Metrics-Updating","BIZ Research Projects",null,{"$f":"IF(O101=\"Business Firm billable\",VLOOKUP(A101,'Hourly rates'!$B$2:$E$40,4,FALSE),VLOOKUP(A101,'Hourly rates'!$B$2:$E$40,2,FALSE))","v":12},15]
["Wyatt, Ben","Business Firm:Administration","Staff",1099,null,1.25,"2014-06-23","2014-06-28","Mon",null,"NonBill","ZZ","Pending","BIZ Research Project - Jobs Act-Updating","BIZ Research Projects",null,{"$f":"IF(O102=\"Business Firm billable\",VLOOKUP(A102,'Hourly rates'!$B$2:$E$40,4,FALSE),VLOOKUP(A102,'Hourly rates'!$B$2:$E$40,2,FALSE))","v":12},15]
["Haverford, Tom","Business Firm:Admin SP","Staff",1099,null,3,"2014-06-23","2014-06-28","Mon",null,"NonBill","ZZ","Pending","BIZ Project - Special Projects","Special Projects",null,{"$f":"IF(O103=\"Business Firm billable\",VLOOKUP(A103,'Hourly rates'!$B$2:$E$40,4,FALSE),VLOOKUP(A103,'Hourly rates'!$B$2:$E$40,2,FALSE))","v":12},36]
["Myers, Nina","Business Firm:Administration","Intern",1099,null,1.25,"2014-06-23","2014-06-28","Mon",null,"NonBill","ZZ","Pending","BIZ Research Project - Comment Letters - Training","BIZ Research Projects",null,{"$f":"IF(O104=\"Business Firm billable\",VLOOKUP(A104,'Hourly rates'!$B$2:$E$40,4,FALSE),VLOOKUP(A104,'Hourly rates'!$B$2:$E$40,2,FALSE))","v":12},15]
["Myers, Nina","Business Firm:Administration","Intern",1099,null,1.75,"2014-06-23","2014-06-28","Mon",null,"NonBill","ZZ","Pending","BIZ Research Project - Comment Letters - Maintenance","BIZ Research Projects",null,{"$f":"IF(O105=\"Business Firm billable\",VLOOKUP(A105,'Hourly rates'!$B$2:$E$40,4,FALSE),VLOOKUP(A105,'Hourly rates'!$B$2:$E$40,2,FALSE))","v":12},21]
["O'Brian, Chloe","Business Firm:Administration","Staff",1099,null,1.75,"2014-06-23","2014-06-28","Mon",null,"NonBill","ZZ","Pending","BIZ Research Projects - CFO Compensation - Modifications","BIZ Research Projects",null,{"$f":"IF(O106=\"Business Firm billable\",VLOOKUP(A106,'Hourly rates'!$B$2:$E$40,4,FALSE),VLOOKUP(A106,'Hourly rates'!$B$2:$E$40,2,FALSE))","v":12},21]
["Dwyer, Andy","Business Firm:Administration","Intern",1099,null,1.25,"2014-06-23","2014-06-28","Mon",null,"NonBill","ZZ","Pending","mfile configuration","Strat Firm",null,{"$f":"IF(O107=\"Business Firm billable\",VLOOKUP(A107,'Hourly rates'!$B$2:$E$40,4,FALSE),VLOOKUP(A107,'Hourly rates'!$B$2:$E$40,2,FALSE))","v":12},15]
["Dwyer, Andy","Business Firm:Administration","Intern",1099,null,1.25,"2014-06-23","2014-06-28","Mon",null,"NonBill","ZZ","Pending","CFO Compensation Research Project","BIZ Research Projects",null,{"$f":"IF(O108=\"Business Firm billable\",VLOOKUP(A108,'Hourly rates'!$B$2:$E$40,4,FALSE),VLOOKUP(A108,'Hourly rates'!$B$2:$E$40,2,FALSE))","v":12},15]
["Delgado, Gloria","Some Client:IPO","Intern",1099,null,4,"2014-06-24","2014-06-28","Tue",null,"Admin 9%","ZZ","Pending",null,"Business Firm billable",null,{"$f":"IF(O109=\"Business Firm billable\",VLOOKUP(A109,'Hourly rates'!$B$2:$E$40,4,FALSE),VLOOKUP(A109,'Hourly rates'!$B$2:$E$40,2,FALSE))","v":83},332]
["Wyatt, Ben","Business Firm:Admin SP","Staff",1099,null,5.75,"2014-06-24","2014-06-28","Tue",null,"NonBill","ZZ","Pending","Special Projects","Special Projects",null,{"$f":"IF(O110=\"Business Firm billable\",VLOOKUP(A110,'Hourly rates'!$B$2:$E$40,4,FALSE),VLOOKUP(A110,'Hourly rates'!$B$2:$E$40,2,FALSE))","v":12},69]
["Meagle, Donna","Business Firm:Admin SP","Intern",1099,null,2,"2014-06-24","2014-06-28","Tue",null,"NonBill","ZZ","Pending","BIZ Research Project - Special Projects","Special Projects",null,{"$f":"IF(O111=\"Business Firm billable\",VLOOKUP(A111,'Hourly rates'!$B$2:$E$40,4,FALSE),VLOOKUP(A111,'Hourly rates'!$B$2:$E$40,2,FALSE))","v":12},24]
["Haverford, Tom","Business Firm:Admin SP","Staff",1099,null,3,"2014-06-24","2014-06-28","Tue",null,"NonBill","ZZ","Pending","BIZ Project - Special Projects","Special Projects",null,{"$f":"IF(O112=\"Business Firm billable\",VLOOKUP(A112,'Hourly rates'!$B$2:$E$40,4,FALSE),VLOOKUP(A112,'Hourly rates'!$B$2:$E$40,2,FALSE))","v":12},36]
["Myers, Nina","Business Firm:Admin SP","Intern",1099,null,1,"2014-06-24","2014-06-28","Tue",null,"NonBill","ZZ","Pending","Special Projects","Special Projects",null,{"$f":"IF(O113=\"Business Firm billable\",VLOOKUP(A113,'Hourly rates'!$B$2:$E$40,4,FALSE),VLOOKUP(A113,'Hourly rates'!$B$2:$E$40,2,FALSE))","v":12},12]
["O'Brian, Chloe","Business Firm:Administration","Staff",1099,null,2,"2014-06-24","2014-06-28","Tue",null,"NonBill","ZZ","Pending","BIZ Research Projects - CFO Compensation - Modifications","BIZ Research Projects",null,{"$f":"IF(O114=\"Business Firm billable\",VLOOKUP(A114,'Hourly rates'!$B$2:$E$40,4,FALSE),VLOOKUP(A114,'Hourly rates'!$B$2:$E$40,2,FALSE))","v":12},24]
["Delgado, Gloria","Some Client:IPO","Intern",1099,null,4,"2014-06-25","2014-06-28","Wed",null,"Admin 9%","ZZ","Pending",null,"Business Firm billable",null,{"$f":"IF(O115=\"Business Firm billable\",VLOOKUP(A115,'Hourly rates'!$B$2:$E$40,4,FALSE),VLOOKUP(A115,'Hourly rates'!$B$2:$E$40,2,FALSE))","v":83},332]
["Wyatt, Ben","Business Firm:Admin SP","Staff",1099,null,1.25,"2014-06-25","2014-06-28","Wed",null,"NonBill","ZZ","Pending","Special Projects","Special Projects",null,{"$f":"IF(O116=\"Business Firm billable\",VLOOKUP(A116,'Hourly rates'!$B$2:$E$40,4,FALSE),VLOOKUP(A116,'Hourly rates'!$B$2:$E$40,2,FALSE))","v":12},15]
["Wyatt, Ben","Business Firm:Administration","Staff",1099,null,1.25,"2014-06-25","2014-06-28","Wed",null,"NonBill","ZZ","Pending"," BIZ Research Project-IPO Metrics-Updating","BIZ Research Projects",null,{"$f":"IF(O117=\"Business Firm billable\",VLOOKUP(A117,'Hourly rates'!$B$2:$E$40,4,FALSE),VLOOKUP(A117,'Hourly rates'!$B$2:$E$40,2,FALSE))","v":12},15]
["Wyatt, Ben","Business Firm:Administration","Staff",1099,null,1.75,"2014-06-25","2014-06-28","Wed",null,"NonBill","ZZ","Pending","BIZ Business Firm - Material Weakness-Updating","BIZ Research Projects",null,{"$f":"IF(O118=\"Business Firm billable\",VLOOKUP(A118,'Hourly rates'!$B$2:$E$40,4,FALSE),VLOOKUP(A118,'Hourly rates'!$B$2:$E$40,2,FALSE))","v":12},21]
["Meagle, Donna","Business Firm:Admin SP","Intern",1099,null,2,"2014-06-25","2014-06-28","Wed",null,"NonBill","ZZ","Pending","BIZ Research Project - Special Projects","Special Projects",null,{"$f":"IF(O119=\"Business Firm billable\",VLOOKUP(A119,'Hourly rates'!$B$2:$E$40,4,FALSE),VLOOKUP(A119,'Hourly rates'!$B$2:$E$40,2,FALSE))","v":12},24]
["Haverford, Tom","Business Firm:Admin SP","Staff",1099,null,1.25,"2014-06-25","2014-06-28","Wed",null,"NonBill","ZZ","Pending","BIZ Project - Special Projects","Special Projects",null,{"$f":"IF(O120=\"Business Firm billable\",VLOOKUP(A120,'Hourly rates'!$B$2:$E$40,4,FALSE),VLOOKUP(A120,'Hourly rates'!$B$2:$E$40,2,FALSE))","v":12},15]
["O'Brian, Chloe","Business Firm:Administration","Staff",1099,null,4,"2014-06-25","2014-06-28","Wed",null,"NonBill","ZZ","Pending","BIZ Research Projects - CFO Compensation - Modifications","BIZ Research Projects",null,{"$f":"IF(O121=\"Business Firm billable\",VLOOKUP(A121,'Hourly rates'!$B$2:$E$40,4,FALSE),VLOOKUP(A121,'Hourly rates'!$B$2:$E$40,2,FALSE))","v":12},48]
["O'Brian, Chloe","Business Firm:Administration","Staff",1099,null,1.25,"2014-06-25","2014-06-28","Wed",null,"NonBill","ZZ","Pending","BIZ Research Projects - Material Weakness - Training","BIZ Research Projects",null,{"$f":"IF(O122=\"Business Firm billable\",VLOOKUP(A122,'Hourly rates'!$B$2:$E$40,4,FALSE),VLOOKUP(A122,'Hourly rates'!$B$2:$E$40,2,FALSE))","v":12},15]
["O'Brian, Chloe","Business Firm:Administration","Staff",1099,null,1.25,"2014-06-25","2014-06-28","Wed",null,"NonBill","ZZ","Pending","BIZ Research Projects - JOBS Act Impact/IPO Metrics - Training","BIZ Research Projects",null,{"$f":"IF(O123=\"Business Firm billable\",VLOOKUP(A123,'Hourly rates'!$B$2:$E$40,4,FALSE),VLOOKUP(A123,'Hourly rates'!$B$2:$E$40,2,FALSE))","v":12},15]
["Dwyer, Andy","Business Firm:Admin SP","Intern",1099,null,1,"2014-06-25","2014-06-28","Wed",null,"NonBill","ZZ","Pending",null,"Special Projects",null,{"$f":"IF(O124=\"Business Firm billable\",VLOOKUP(A124,'Hourly rates'!$B$2:$E$40,4,FALSE),VLOOKUP(A124,'Hourly rates'!$B$2:$E$40,2,FALSE))","v":12},12]
["Dwyer, Andy","Business Firm:Administration","Intern",1099,null,4,"2014-06-25","2014-06-28","Wed",null,"NonBill","ZZ","Pending","mfile configuration","Strat Firm",null,{"$f":"IF(O125=\"Business Firm billable\",VLOOKUP(A125,'Hourly rates'!$B$2:$E$40,4,FALSE),VLOOKUP(A125,'Hourly rates'!$B$2:$E$40,2,FALSE))","v":12},48]
["Dwyer, Andy","Business Firm:Administration","Intern",1099,null,1.75,"2014-06-25","2014-06-28","Wed",null,"NonBill","ZZ","Pending","CFO Compensation Research Project","BIZ Research Projects",null,{"$f":"IF(O126=\"Business Firm billable\",VLOOKUP(A126,'Hourly rates'!$B$2:$E$40,4,FALSE),VLOOKUP(A126,'Hourly rates'!$B$2:$E$40,2,FALSE))","v":12},21]
["Delgado, Gloria","Some Client:IPO","Intern",1099,null,6,"2014-06-26","2014-06-28","Thu",null,"Admin 9%","ZZ","Pending",null,"Business Firm billable",null,{"$f":"IF(O127=\"Business Firm billable\",VLOOKUP(A127,'Hourly rates'!$B$2:$E$40,4,FALSE),VLOOKUP(A127,'Hourly rates'!$B$2:$E$40,2,FALSE))","v":83},498]
["Wyatt, Ben","Business Firm:Administration","Staff",1099,null,1,"2014-06-26","2014-06-28","Thu",null,"NonBill","ZZ","Pending"," BIZ Research Project-IPO Metrics-Updating","BIZ Research Projects",null,{"$f":"IF(O128=\"Business Firm billable\",VLOOKUP(A128,'Hourly rates'!$B$2:$E$40,4,FALSE),VLOOKUP(A128,'Hourly rates'!$B$2:$E$40,2,FALSE))","v":12},12]
["Wyatt, Ben","Some Client:Tech Acctg","Staff",1099,null,1.75,"2014-06-26","2014-06-28","Thu",null,"Admin 9%","ZZ","Pending","Financial statement Word tables","Business Firm billable",null,{"$f":"IF(O129=\"Business Firm billable\",VLOOKUP(A129,'Hourly rates'!$B$2:$E$40,4,FALSE),VLOOKUP(A129,'Hourly rates'!$B$2:$E$40,2,FALSE))","v":83},145.25]
["Haverford, Tom","Business Firm:Admin SP","Staff",1099,null,1.25,"2014-06-26",{"$f":"G130+7-WEEKDAY(G130)","v":"2014-06-28"},"Thu",null,"NonBill","ZZ","Pending","BIZ Project - Special Projects","Special Projects",null,{"$f":"IF(O130=\"Business Firm billable\",VLOOKUP(A130,'Hourly rates'!$B$2:$E$40,4,FALSE),VLOOKUP(A130,'Hourly rates'!$B$2:$E$40,2,FALSE))","v":12},{"$f":"Q130*F130","v":15}]
["O'Brian, Chloe","Business Firm:Administration","Staff",1099,null,4,"2014-06-26","2014-06-28","Thu",null,"NonBill","ZZ","Pending","BIZ Research Projects - JOBS Act Impact/IPO Metrics - Training","BIZ Research Projects",null,{"$f":"IF(O131=\"Business Firm billable\",VLOOKUP(A131,'Hourly rates'!$B$2:$E$40,4,FALSE),VLOOKUP(A131,'Hourly rates'!$B$2:$E$40,2,FALSE))","v":12},48]
["Delgado, Gloria","Some Client:IPO","Intern",1099,null,5,"2014-06-27","2014-06-28","Fri",null,"Admin 9%","ZZ","Pending",null,"Business Firm billable",null,{"$f":"IF(O132=\"Business Firm billable\",VLOOKUP(A132,'Hourly rates'!$B$2:$E$40,4,FALSE),VLOOKUP(A132,'Hourly rates'!$B$2:$E$40,2,FALSE))","v":83},415]
["Wyatt, Ben","Business Firm:Administration","Staff",1099,null,1.25,"2014-06-27","2014-06-28","Fri",null,"NonBill","ZZ","Pending","BIZ Research Project - Jobs Act-Updating","BIZ Research Projects",null,{"$f":"IF(O133=\"Business Firm billable\",VLOOKUP(A133,'Hourly rates'!$B$2:$E$40,4,FALSE),VLOOKUP(A133,'Hourly rates'!$B$2:$E$40,2,FALSE))","v":12},15]
["Wyatt, Ben","Business Firm:Administration","Staff",1099,null,1.25,"2014-06-27","2014-06-28","Fri",null,"NonBill","ZZ","Pending","BIZ Business Firm - Material Weakness-Updating","BIZ Research Projects",null,{"$f":"IF(O134=\"Business Firm billable\",VLOOKUP(A134,'Hourly rates'!$B$2:$E$40,4,FALSE),VLOOKUP(A134,'Hourly rates'!$B$2:$E$40,2,FALSE))","v":12},15]
["Wyatt, Ben","Some Client:Tech Acctg","Staff",1099,null,1,"2014-06-27","2014-06-28","Fri",null,"Admin 9%","ZZ","Pending","Financial statement Word tables","Business Firm billable",null,{"$f":"IF(O135=\"Business Firm billable\",VLOOKUP(A135,'Hourly rates'!$B$2:$E$40,4,FALSE),VLOOKUP(A135,'Hourly rates'!$B$2:$E$40,2,FALSE))","v":83},83]
["Meagle, Donna","Business Firm:Admin SP","Intern",1099,null,3,"2014-06-27","2014-06-28","Fri",null,"NonBill","ZZ","Pending","BIZ Research Project - Special Projects","Special Projects",null,{"$f":"IF(O136=\"Business Firm billable\",VLOOKUP(A136,'Hourly rates'!$B$2:$E$40,4,FALSE),VLOOKUP(A136,'Hourly rates'!$B$2:$E$40,2,FALSE))","v":12},36]
["Myers, Nina","Business Firm:Admin SP","Intern",1099,null,4,"2014-06-27","2014-06-28","Fri",null,"NonBill","ZZ","Pending","Special Projects","Special Projects",null,{"$f":"IF(O137=\"Business Firm billable\",VLOOKUP(A137,'Hourly rates'!$B$2:$E$40,4,FALSE),VLOOKUP(A137,'Hourly rates'!$B$2:$E$40,2,FALSE))","v":12},48]
["O'Brian, Chloe","Business Firm:Administration","Staff",1099,null,1.25,"2014-06-27","2014-06-28","Fri",null,"NonBill","ZZ","Pending","BIZ Research Projects - JOBS Act Impact/IPO Metrics - Training","BIZ Research Projects",null,{"$f":"IF(O138=\"Business Firm billable\",VLOOKUP(A138,'Hourly rates'!$B$2:$E$40,4,FALSE),VLOOKUP(A138,'Hourly rates'!$B$2:$E$40,2,FALSE))","v":12},15]
["Meagle, Donna","Business Firm:Admin SP","Intern",1099,null,3,"2014-06-28","2014-06-28","Sat",null,"NonBill","ZZ","Pending","BIZ Research Project - Special Projects","Special Projects",null,{"$f":"IF(O139=\"Business Firm billable\",VLOOKUP(A139,'Hourly rates'!$B$2:$E$40,4,FALSE),VLOOKUP(A139,'Hourly rates'!$B$2:$E$40,2,FALSE))","v":12},36]
["O'Brian, Chloe","Business Firm:Administration","Staff",1099,null,1.25,"2014-06-28","2014-06-28","Sat",null,"NonBill","ZZ","Pending","BIZ Research Projects - Material Weakness - Training","BIZ Research Projects",null,{"$f":"IF(O140=\"Business Firm billable\",VLOOKUP(A140,'Hourly rates'!$B$2:$E$40,4,FALSE),VLOOKUP(A140,'Hourly rates'!$B$2:$E$40,2,FALSE))","v":12},15]
["O'Brian, Chloe","Business Firm:Administration","Staff",1099,null,2,"2014-06-28","2014-06-28","Sat",null,"NonBill","ZZ","Pending","BIZ Research Projects - JOBS Act Impact/IPO Metrics - Training","BIZ Research Projects",null,{"$f":"IF(O141=\"Business Firm billable\",VLOOKUP(A141,'Hourly rates'!$B$2:$E$40,4,FALSE),VLOOKUP(A141,'Hourly rates'!$B$2:$E$40,2,FALSE))","v":12},24]
["Delgado, Gloria","Business Firm:Admin SP","Intern",1099,null,4,"2014-06-29","2014-07-05","Sun",null,"NonBill","ZZ","2014-07-09","special projects","Special Projects",null,{"$f":"IF(O142=\"Business Firm billable\",VLOOKUP(A142,'Hourly rates'!$B$2:$E$40,4,FALSE),VLOOKUP(A142,'Hourly rates'!$B$2:$E$40,2,FALSE))","v":12},48]
["Delgado, Gloria","Business Firm:Admin SP","Intern",1099,null,4,"2014-06-30","2014-07-05","Mon",null,"NonBill","ZZ","2014-07-09","special projects","Special Projects",null,{"$f":"IF(O143=\"Business Firm billable\",VLOOKUP(A143,'Hourly rates'!$B$2:$E$40,4,FALSE),VLOOKUP(A143,'Hourly rates'!$B$2:$E$40,2,FALSE))","v":12},48]
["Wyatt, Ben","Business Firm:Admin SP","Staff",1099,null,1.25,"2014-06-30","2014-07-05","Mon",null,"NonBill","ZZ","2014-07-09","Special Projects","Special Projects",null,{"$f":"IF(O144=\"Business Firm billable\",VLOOKUP(A144,'Hourly rates'!$B$2:$E$40,4,FALSE),VLOOKUP(A144,'Hourly rates'!$B$2:$E$40,2,FALSE))","v":12},15]
["Wyatt, Ben","Some Client:Tech Acctg","Staff",1099,null,5.25,"2014-06-30","2014-07-05","Mon",null,"Admin 9%","ZZ","2014-07-09","Financial statement Word tables","Strat Firm",null,{"$f":"IF(O145=\"Business Firm billable\",VLOOKUP(A145,'Hourly rates'!$B$2:$E$40,4,FALSE),VLOOKUP(A145,'Hourly rates'!$B$2:$E$40,2,FALSE))","v":12},63]
["Haverford, Tom","Business Firm:Admin SP","Staff",1099,null,5,"2014-06-30","2014-07-05","Mon",null,"NonBill","ZZ","2014-07-09",null,"Special Projects",null,{"$f":"IF(O146=\"Business Firm billable\",VLOOKUP(A146,'Hourly rates'!$B$2:$E$40,4,FALSE),VLOOKUP(A146,'Hourly rates'!$B$2:$E$40,2,FALSE))","v":12},60]
["Myers, Nina","Business Firm:Admin SP","Intern",1099,null,3,"2014-06-30","2014-07-05","Mon",null,"NonBill","ZZ","2014-07-09","Special Projects","Special Projects",null,{"$f":"IF(O147=\"Business Firm billable\",VLOOKUP(A147,'Hourly rates'!$B$2:$E$40,4,FALSE),VLOOKUP(A147,'Hourly rates'!$B$2:$E$40,2,FALSE))","v":12},36]
["Wyatt, Ben","Business Firm:Admin SP","Staff",1099,null,3.25,"2014-07-01","2014-07-05","Tue",null,"NonBill","ZZ","2014-07-09","Special Projects","Special Projects",null,{"$f":"IF(O148=\"Business Firm billable\",VLOOKUP(A148,'Hourly rates'!$B$2:$E$40,4,FALSE),VLOOKUP(A148,'Hourly rates'!$B$2:$E$40,2,FALSE))","v":12},39]
["Meagle, Donna","Business Firm:Admin SP","Intern",1099,null,3,"2014-07-01","2014-07-05","Tue",null,"NonBill","ZZ","2014-07-09","BIZ Research Project - Special Projects","Special Projects",null,{"$f":"IF(O149=\"Business Firm billable\",VLOOKUP(A149,'Hourly rates'!$B$2:$E$40,4,FALSE),VLOOKUP(A149,'Hourly rates'!$B$2:$E$40,2,FALSE))","v":12},36]
["Haverford, Tom","Business Firm:Admin SP","Staff",1099,null,3,"2014-07-01","2014-07-05","Tue",null,"NonBill","ZZ","2014-07-09",null,"Special Projects",null,{"$f":"IF(O150=\"Business Firm billable\",VLOOKUP(A150,'Hourly rates'!$B$2:$E$40,4,FALSE),VLOOKUP(A150,'Hourly rates'!$B$2:$E$40,2,FALSE))","v":12},36]
["Wyatt, Ben","Business Firm:Administration","Staff",1099,null,1.25,"2014-07-02","2014-07-05","Wed",null,"NonBill","ZZ","2014-07-09"," BIZ Research Project-IPO Metrics-Training","BIZ Research Projects",null,{"$f":"IF(O151=\"Business Firm billable\",VLOOKUP(A151,'Hourly rates'!$B$2:$E$40,4,FALSE),VLOOKUP(A151,'Hourly rates'!$B$2:$E$40,2,FALSE))","v":12},15]
["Wyatt, Ben","Business Firm:Administration","Staff",1099,null,1.25,"2014-07-02","2014-07-05","Wed",null,"NonBill","ZZ","2014-07-09","BIZ Research Project - Jobs Act-","BIZ Research Projects",null,{"$f":"IF(O152=\"Business Firm billable\",VLOOKUP(A152,'Hourly rates'!$B$2:$E$40,4,FALSE),VLOOKUP(A152,'Hourly rates'!$B$2:$E$40,2,FALSE))","v":12},15]
["Wyatt, Ben","Business Firm:Administration","Staff",1099,null,1.75,"2014-07-02","2014-07-05","Wed",null,"NonBill","ZZ","2014-07-09","Word Tables Project","Strat Firm",null,{"$f":"IF(O153=\"Business Firm billable\",VLOOKUP(A153,'Hourly rates'!$B$2:$E$40,4,FALSE),VLOOKUP(A153,'Hourly rates'!$B$2:$E$40,2,FALSE))","v":12},21]
["Meagle, Donna","Business Firm:Admin SP","Intern",1099,null,3,"2014-07-02","2014-07-05","Wed",null,"NonBill","ZZ","2014-07-09","BIZ Research Project - Special Projects","Special Projects",null,{"$f":"IF(O154=\"Business Firm billable\",VLOOKUP(A154,'Hourly rates'!$B$2:$E$40,4,FALSE),VLOOKUP(A154,'Hourly rates'!$B$2:$E$40,2,FALSE))","v":12},36]
["Haverford, Tom","Business Firm:Admin SP","Staff",1099,null,2,"2014-07-02","2014-07-05","Wed",null,"NonBill","ZZ","2014-07-09",null,"Special Projects",null,{"$f":"IF(O155=\"Business Firm billable\",VLOOKUP(A155,'Hourly rates'!$B$2:$E$40,4,FALSE),VLOOKUP(A155,'Hourly rates'!$B$2:$E$40,2,FALSE))","v":12},24]
["O'Brian, Chloe","Business Firm:Administration","Staff",1099,null,1.25,"2014-07-02","2014-07-05","Wed",null,"NonBill","ZZ","2014-07-09","BIZ Research Projects - CFO Compensation - Modifications","BIZ Research Projects",null,{"$f":"IF(O156=\"Business Firm billable\",VLOOKUP(A156,'Hourly rates'!$B$2:$E$40,4,FALSE),VLOOKUP(A156,'Hourly rates'!$B$2:$E$40,2,FALSE))","v":12},15]
["O'Brian, Chloe","Business Firm:Administration","Staff",1099,null,1.25,"2014-07-02","2014-07-05","Wed",null,"NonBill","ZZ","2014-07-09","BIZ Research Projects - Material Weakness - Training","BIZ Research Projects",null,{"$f":"IF(O157=\"Business Firm billable\",VLOOKUP(A157,'Hourly rates'!$B$2:$E$40,4,FALSE),VLOOKUP(A157,'Hourly rates'!$B$2:$E$40,2,FALSE))","v":12},15]
["O'Brian, Chloe","Business Firm:Administration","Staff",1099,null,1.25,"2014-07-02","2014-07-05","Wed",null,"NonBill","ZZ","2014-07-09","BIZ Research Projects - JOBS Act Impact/IPO Metrics - Training","BIZ Research Projects",null,{"$f":"IF(O158=\"Business Firm billable\",VLOOKUP(A158,'Hourly rates'!$B$2:$E$40,4,FALSE),VLOOKUP(A158,'Hourly rates'!$B$2:$E$40,2,FALSE))","v":12},15]
["Wyatt, Ben","Business Firm:Admin SP","Staff",1099,null,1.75,"2014-07-03","2014-07-05","Thu",null,"NonBill","ZZ","2014-07-09","Special Projects","Special Projects",null,{"$f":"IF(O159=\"Business Firm billable\",VLOOKUP(A159,'Hourly rates'!$B$2:$E$40,4,FALSE),VLOOKUP(A159,'Hourly rates'!$B$2:$E$40,2,FALSE))","v":12},21]
["Wyatt, Ben","Business Firm:Administration","Staff",1099,null,1.25,"2014-07-03","2014-07-05","Thu",null,"NonBill","ZZ","2014-07-09","Word Tables Project","Strat Firm",null,{"$f":"IF(O160=\"Business Firm billable\",VLOOKUP(A160,'Hourly rates'!$B$2:$E$40,4,FALSE),VLOOKUP(A160,'Hourly rates'!$B$2:$E$40,2,FALSE))","v":12},15]
["Wyatt, Ben","Business Firm:Administration","Staff",1099,null,1.25,"2014-07-03","2014-07-05","Thu",null,"NonBill","ZZ","2014-07-09","BIZ Business Firm - Material Weakness-training","BIZ Research Projects",null,{"$f":"IF(O161=\"Business Firm billable\",VLOOKUP(A161,'Hourly rates'!$B$2:$E$40,4,FALSE),VLOOKUP(A161,'Hourly rates'!$B$2:$E$40,2,FALSE))","v":12},15]
["Meagle, Donna","Business Firm:Admin SP","Intern",1099,null,3,"2014-07-03","2014-07-05","Thu",null,"NonBill","ZZ","2014-07-09","BIZ Research Project - Special Projects","Special Projects",null,{"$f":"IF(O162=\"Business Firm billable\",VLOOKUP(A162,'Hourly rates'!$B$2:$E$40,4,FALSE),VLOOKUP(A162,'Hourly rates'!$B$2:$E$40,2,FALSE))","v":12},36]
["O'Brian, Chloe","Business Firm:Administration","Staff",1099,null,1.25,"2014-07-03","2014-07-05","Thu",null,"NonBill","ZZ","2014-07-09","BIZ Research Projects - CFO Compensation - Modifications","BIZ Research Projects",null,{"$f":"IF(O163=\"Business Firm billable\",VLOOKUP(A163,'Hourly rates'!$B$2:$E$40,4,FALSE),VLOOKUP(A163,'Hourly rates'!$B$2:$E$40,2,FALSE))","v":12},15]
["O'Brian, Chloe","Business Firm:Administration","Staff",1099,null,1.25,"2014-07-03","2014-07-05","Thu",null,"NonBill","ZZ","2014-07-09","BIZ Research Projects - Material Weakness - Training","BIZ Research Projects",null,{"$f":"IF(O164=\"Business Firm billable\",VLOOKUP(A164,'Hourly rates'!$B$2:$E$40,4,FALSE),VLOOKUP(A164,'Hourly rates'!$B$2:$E$40,2,FALSE))","v":12},15]
["O'Brian, Chloe","Business Firm:Administration","Staff",1099,null,2.25,"2014-07-03","2014-07-05","Thu",null,"NonBill","ZZ","2014-07-09","BIZ Research Projects - JOBS Act Impact/IPO Metrics (F-1's only) - Modifications","BIZ Research Projects",null,{"$f":"IF(O165=\"Business Firm billable\",VLOOKUP(A165,'Hourly rates'!$B$2:$E$40,4,FALSE),VLOOKUP(A165,'Hourly rates'!$B$2:$E$40,2,FALSE))","v":12},27]
["O'Brian, Chloe","Business Firm:Administration","Staff",1099,null,1.25,"2014-07-04","2014-07-05","Fri",null,"NonBill","ZZ","2014-07-09","BIZ Research Projects - JOBS Act Impact/IPO Metrics (F-1's only) - Modifications","BIZ Research Projects",null,{"$f":"IF(O166=\"Business Firm billable\",VLOOKUP(A166,'Hourly rates'!$B$2:$E$40,4,FALSE),VLOOKUP(A166,'Hourly rates'!$B$2:$E$40,2,FALSE))","v":12},15]
["Dwyer, Andy","Business Firm:Admin SP","Intern",1099,null,1,"2014-07-04","2014-07-05","Fri",null,"NonBill","ZZ","2014-07-09","special projects","Special Projects",null,{"$f":"IF(O167=\"Business Firm billable\",VLOOKUP(A167,'Hourly rates'!$B$2:$E$40,4,FALSE),VLOOKUP(A167,'Hourly rates'!$B$2:$E$40,2,FALSE))","v":12},12]
["Dwyer, Andy","Business Firm:Administration","Intern",1099,null,1.25,"2014-07-04","2014-07-05","Fri",null,"NonBill","ZZ","2014-07-09","mfile research project","Strat Firm",null,{"$f":"IF(O168=\"Business Firm billable\",VLOOKUP(A168,'Hourly rates'!$B$2:$E$40,4,FALSE),VLOOKUP(A168,'Hourly rates'!$B$2:$E$40,2,FALSE))","v":12},15]
["Meagle, Donna","Business Firm:Admin SP","Intern",1099,null,1,"2014-07-05","2014-07-05","Sat",null,"NonBill","ZZ","2014-07-09","BIZ Research Project - Special Projects","Special Projects",null,{"$f":"IF(O169=\"Business Firm billable\",VLOOKUP(A169,'Hourly rates'!$B$2:$E$40,4,FALSE),VLOOKUP(A169,'Hourly rates'!$B$2:$E$40,2,FALSE))","v":12},12]
["O'Brian, Chloe","Business Firm:Administration","Staff",1099,null,4,"2014-07-05","2014-07-05","Sat",null,"NonBill","ZZ","2014-07-09","BIZ Research Projects - JOBS Act Impact/IPO Metrics (F-1's only) - Modifications","BIZ Research Projects",null,{"$f":"IF(O170=\"Business Firm billable\",VLOOKUP(A170,'Hourly rates'!$B$2:$E$40,4,FALSE),VLOOKUP(A170,'Hourly rates'!$B$2:$E$40,2,FALSE))","v":12},48]
["Dwyer, Andy","Business Firm:Administration","Intern",1099,null,1.25,"2014-07-05","2014-07-05","Sat",null,"NonBill","ZZ","2014-07-09","mfile research project","Strat Firm",null,{"$f":"IF(O171=\"Business Firm billable\",VLOOKUP(A171,'Hourly rates'!$B$2:$E$40,4,FALSE),VLOOKUP(A171,'Hourly rates'!$B$2:$E$40,2,FALSE))","v":12},15]
["Dwyer, Andy","Business Firm:Administration","Intern",1099,null,1.25,"2014-07-05","2014-07-05","Sat",null,"NonBill","ZZ","2014-07-09","CFO Compensation Research Project","BIZ Research Projects",null,{"$f":"IF(O172=\"Business Firm billable\",VLOOKUP(A172,'Hourly rates'!$B$2:$E$40,4,FALSE),VLOOKUP(A172,'Hourly rates'!$B$2:$E$40,2,FALSE))","v":12},15]
["Delgado, Gloria","Some Client:IPO","Intern",1099,null,4,"2014-07-07","2014-07-12","Mon",null,"Admin 9%","ZZ","Pending","Fund XX","Business Firm billable",null,{"$f":"IF(O173=\"Business Firm billable\",VLOOKUP(A173,'Hourly rates'!$B$2:$E$40,4,FALSE),VLOOKUP(A173,'Hourly rates'!$B$2:$E$40,2,FALSE))","v":83},332]
["Haverford, Tom","Business Firm:Admin SP","Staff",1099,null,3,"2014-07-07","2014-07-12","Mon",null,"NonBill","ZZ","Pending","BIZ Project - Special Projects","Special Projects",null,{"$f":"IF(O174=\"Business Firm billable\",VLOOKUP(A174,'Hourly rates'!$B$2:$E$40,4,FALSE),VLOOKUP(A174,'Hourly rates'!$B$2:$E$40,2,FALSE))","v":12},36]
["O'Brian, Chloe","Business Firm:Administration","Staff",1099,null,4,"2014-07-07","2014-07-12","Mon",null,"NonBill","ZZ","Pending","BIZ Research Projects - CFO Compensation - Modifications","BIZ Research Projects",null,{"$f":"IF(O175=\"Business Firm billable\",VLOOKUP(A175,'Hourly rates'!$B$2:$E$40,4,FALSE),VLOOKUP(A175,'Hourly rates'!$B$2:$E$40,2,FALSE))","v":12},48]
["Dwyer, Andy","Business Firm:Admin SP","Intern",1099,null,1,"2014-07-07","2014-07-12","Mon",null,"NonBill","ZZ","Pending","special projects","Special Projects",null,{"$f":"IF(O176=\"Business Firm billable\",VLOOKUP(A176,'Hourly rates'!$B$2:$E$40,4,FALSE),VLOOKUP(A176,'Hourly rates'!$B$2:$E$40,2,FALSE))","v":12},12]
["Delgado, Gloria","Business Firm:Administration","Intern",1099,null,2,"2014-07-08","2014-07-12","Tue",null,"NonBill","ZZ","Pending","special projects","Special Projects",null,{"$f":"IF(O177=\"Business Firm billable\",VLOOKUP(A177,'Hourly rates'!$B$2:$E$40,4,FALSE),VLOOKUP(A177,'Hourly rates'!$B$2:$E$40,2,FALSE))","v":12},24]
["Delgado, Gloria","Some Client:IPO","Intern",1099,null,6,"2014-07-08","2014-07-12","Tue",null,"Admin 9%","ZZ","Pending","Fund XX","Business Firm billable",null,{"$f":"IF(O178=\"Business Firm billable\",VLOOKUP(A178,'Hourly rates'!$B$2:$E$40,4,FALSE),VLOOKUP(A178,'Hourly rates'!$B$2:$E$40,2,FALSE))","v":83},498]
["Wyatt, Ben","Business Firm:Admin SP","Staff",1099,null,1.25,"2014-07-08","2014-07-12","Tue",null,"NonBill","ZZ","Pending","Special Projects","Special Projects",null,{"$f":"IF(O179=\"Business Firm billable\",VLOOKUP(A179,'Hourly rates'!$B$2:$E$40,4,FALSE),VLOOKUP(A179,'Hourly rates'!$B$2:$E$40,2,FALSE))","v":12},15]
["Meagle, Donna","Business Firm:Admin SP","Intern",1099,null,2,"2014-07-08","2014-07-12","Tue",null,"NonBill","ZZ","Pending"," BIZ Research Project - Special Projects","Special Projects",null,{"$f":"IF(O180=\"Business Firm billable\",VLOOKUP(A180,'Hourly rates'!$B$2:$E$40,4,FALSE),VLOOKUP(A180,'Hourly rates'!$B$2:$E$40,2,FALSE))","v":12},24]
["Haverford, Tom","Business Firm:Admin SP","Staff",1099,null,4,"2014-07-08","2014-07-12","Tue",null,"NonBill","ZZ","Pending","BIZ Project - Special Projects","Special Projects",null,{"$f":"IF(O181=\"Business Firm billable\",VLOOKUP(A181,'Hourly rates'!$B$2:$E$40,4,FALSE),VLOOKUP(A181,'Hourly rates'!$B$2:$E$40,2,FALSE))","v":12},48]
["Myers, Nina","Business Firm:Admin SP","Intern",1099,null,1.25,"2014-07-08","2014-07-12","Tue",null,"NonBill","ZZ","Pending","Special Projects","Special Projects",null,{"$f":"IF(O182=\"Business Firm billable\",VLOOKUP(A182,'Hourly rates'!$B$2:$E$40,4,FALSE),VLOOKUP(A182,'Hourly rates'!$B$2:$E$40,2,FALSE))","v":12},15]
["O'Brian, Chloe","Business Firm:Administration","Staff",1099,null,1.25,"2014-07-08","2014-07-12","Tue",null,"NonBill","ZZ","Pending","BIZ Research Projects - CFO Compensation - Modifications","BIZ Research Projects",null,{"$f":"IF(O183=\"Business Firm billable\",VLOOKUP(A183,'Hourly rates'!$B$2:$E$40,4,FALSE),VLOOKUP(A183,'Hourly rates'!$B$2:$E$40,2,FALSE))","v":12},15]
["Dwyer, Andy","Business Firm:Admin SP","Intern",1099,null,3,"2014-07-08","2014-07-12","Tue",null,"NonBill","ZZ","Pending","special projects","Special Projects",null,{"$f":"IF(O184=\"Business Firm billable\",VLOOKUP(A184,'Hourly rates'!$B$2:$E$40,4,FALSE),VLOOKUP(A184,'Hourly rates'!$B$2:$E$40,2,FALSE))","v":12},36]
["Dwyer, Andy","Business Firm:Administration","Intern",1099,null,1.75,"2014-07-08","2014-07-12","Tue",null,"NonBill","ZZ","Pending","mfile research project","Strat Firm",null,{"$f":"IF(O185=\"Business Firm billable\",VLOOKUP(A185,'Hourly rates'!$B$2:$E$40,4,FALSE),VLOOKUP(A185,'Hourly rates'!$B$2:$E$40,2,FALSE))","v":12},21]
["Delgado, Gloria","Some Client:IPO","Intern",1099,null,8,"2014-07-09","2014-07-12","Wed",null,"Admin 9%","ZZ","Pending","Fund XX","Business Firm billable",null,{"$f":"IF(O186=\"Business Firm billable\",VLOOKUP(A186,'Hourly rates'!$B$2:$E$40,4,FALSE),VLOOKUP(A186,'Hourly rates'!$B$2:$E$40,2,FALSE))","v":83},664]
["Wyatt, Ben","Business Firm:Admin SP","Staff",1099,null,1,"2014-07-09","2014-07-12","Wed",null,"NonBill","ZZ","Pending","Special Projects","Special Projects",null,{"$f":"IF(O187=\"Business Firm billable\",VLOOKUP(A187,'Hourly rates'!$B$2:$E$40,4,FALSE),VLOOKUP(A187,'Hourly rates'!$B$2:$E$40,2,FALSE))","v":12},12]
["Haverford, Tom","Business Firm:Admin SP","Staff",1099,null,1,"2014-07-09","2014-07-12","Wed",null,"NonBill","ZZ","Pending","BIZ Project - Special Projects","Special Projects",null,{"$f":"IF(O188=\"Business Firm billable\",VLOOKUP(A188,'Hourly rates'!$B$2:$E$40,4,FALSE),VLOOKUP(A188,'Hourly rates'!$B$2:$E$40,2,FALSE))","v":12},12]
["O'Brian, Chloe","Business Firm:Administration","Staff",1099,null,3,"2014-07-09","2014-07-12","Wed",null,"NonBill","ZZ","Pending","BIZ Research Projects - CFO Compensation - Modifications","BIZ Research Projects",null,{"$f":"IF(O189=\"Business Firm billable\",VLOOKUP(A189,'Hourly rates'!$B$2:$E$40,4,FALSE),VLOOKUP(A189,'Hourly rates'!$B$2:$E$40,2,FALSE))","v":12},36]
["Dwyer, Andy","Business Firm:Admin SP","Intern",1099,null,1.25,"2014-07-09","2014-07-12","Wed",null,"NonBill","ZZ","Pending","special projects","Special Projects",null,{"$f":"IF(O190=\"Business Firm billable\",VLOOKUP(A190,'Hourly rates'!$B$2:$E$40,4,FALSE),VLOOKUP(A190,'Hourly rates'!$B$2:$E$40,2,FALSE))","v":12},15]
["Dwyer, Andy","Business Firm:Administration","Intern",1099,null,1.25,"2014-07-09","2014-07-12","Wed",null,"NonBill","ZZ","Pending","CFO Compensation Research Project","BIZ Research Projects",null,{"$f":"IF(O191=\"Business Firm billable\",VLOOKUP(A191,'Hourly rates'!$B$2:$E$40,4,FALSE),VLOOKUP(A191,'Hourly rates'!$B$2:$E$40,2,FALSE))","v":12},15]
["Delgado, Gloria","Some Client:IPO","Intern",1099,null,8,"2014-07-10","2014-07-12","Thu",null,"Admin 9%","ZZ","Pending","Fund XX","Business Firm billable",null,{"$f":"IF(O192=\"Business Firm billable\",VLOOKUP(A192,'Hourly rates'!$B$2:$E$40,4,FALSE),VLOOKUP(A192,'Hourly rates'!$B$2:$E$40,2,FALSE))","v":83},664]
["Wyatt, Ben","Business Firm:Admin SP","Staff",1099,null,2,"2014-07-10","2014-07-12","Thu",null,"NonBill","ZZ","Pending","Special Projects","Special Projects",null,{"$f":"IF(O193=\"Business Firm billable\",VLOOKUP(A193,'Hourly rates'!$B$2:$E$40,4,FALSE),VLOOKUP(A193,'Hourly rates'!$B$2:$E$40,2,FALSE))","v":12},24]
["Wyatt, Ben","Business Firm:Administration","Staff",1099,null,1.25,"2014-07-10",{"$f":"G194+7-WEEKDAY(G194)","v":"2014-07-12"},"Thu",null,"NonBill","ZZ","Pending"," BIZ Research Project-IPO Metrics-maintenance","BIZ Research Projects",null,{"$f":"IF(O194=\"Business Firm billable\",VLOOKUP(A194,'Hourly rates'!$B$2:$E$40,4,FALSE),VLOOKUP(A194,'Hourly rates'!$B$2:$E$40,2,FALSE))","v":12},{"$f":"Q194*F194","v":15}]
["Wyatt, Ben","Business Firm:Administration","Staff",1099,null,1.25,"2014-07-10","2014-07-12","Thu",null,"NonBill","ZZ","Pending","BIZ Research Project - Jobs Act-Maintenance","BIZ Research Projects",null,{"$f":"IF(O195=\"Business Firm billable\",VLOOKUP(A195,'Hourly rates'!$B$2:$E$40,4,FALSE),VLOOKUP(A195,'Hourly rates'!$B$2:$E$40,2,FALSE))","v":12},15]
["Wyatt, Ben","Business Firm:Administration","Staff",1099,null,1.25,"2014-07-10","2014-07-12","Thu",null,"NonBill","ZZ","Pending","BIZ Business Firm - Material Weakness-maintenance","BIZ Research Projects",null,{"$f":"IF(O196=\"Business Firm billable\",VLOOKUP(A196,'Hourly rates'!$B$2:$E$40,4,FALSE),VLOOKUP(A196,'Hourly rates'!$B$2:$E$40,2,FALSE))","v":12},15]
["Meagle, Donna","Business Firm:Admin SP","Intern",1099,null,2,"2014-07-10","2014-07-12","Thu",null,"NonBill","ZZ","Pending"," BIZ Research Project - Special Projects","Special Projects",null,{"$f":"IF(O197=\"Business Firm billable\",VLOOKUP(A197,'Hourly rates'!$B$2:$E$40,4,FALSE),VLOOKUP(A197,'Hourly rates'!$B$2:$E$40,2,FALSE))","v":12},24]
["Meagle, Donna","Business Firm:Administration","Intern",1099,null,1,"2014-07-10","2014-07-12","Thu",null,"NonBill","ZZ","Pending"," BIZ Research Project - Cheap Stock - training","BIZ Research Projects",null,{"$f":"IF(O198=\"Business Firm billable\",VLOOKUP(A198,'Hourly rates'!$B$2:$E$40,4,FALSE),VLOOKUP(A198,'Hourly rates'!$B$2:$E$40,2,FALSE))","v":12},12]
["Meagle, Donna","Business Firm:Administration","Intern",1099,null,1,"2014-07-10","2014-07-12","Thu",null,"NonBill","ZZ","Pending"," BIZ Research Project - Cheap Stock - maintenance","BIZ Research Projects",null,{"$f":"IF(O199=\"Business Firm billable\",VLOOKUP(A199,'Hourly rates'!$B$2:$E$40,4,FALSE),VLOOKUP(A199,'Hourly rates'!$B$2:$E$40,2,FALSE))","v":12},12]
["Haverford, Tom","Business Firm:Admin SP","Staff",1099,null,2,"2014-07-10","2014-07-12","Thu",null,"NonBill","ZZ","Pending","BIZ Project - Special Projects","Special Projects",null,{"$f":"IF(O200=\"Business Firm billable\",VLOOKUP(A200,'Hourly rates'!$B$2:$E$40,4,FALSE),VLOOKUP(A200,'Hourly rates'!$B$2:$E$40,2,FALSE))","v":12},24]
["Myers, Nina","Business Firm:Admin SP","Intern",1099,null,2,"2014-07-10","2014-07-12","Thu",null,"NonBill","ZZ","Pending","Special Projects","Special Projects",null,{"$f":"IF(O201=\"Business Firm billable\",VLOOKUP(A201,'Hourly rates'!$B$2:$E$40,4,FALSE),VLOOKUP(A201,'Hourly rates'!$B$2:$E$40,2,FALSE))","v":12},24]
["Myers, Nina","Business Firm:Administration","Intern",1099,null,1.75,"2014-07-10","2014-07-12","Thu",null,"NonBill","ZZ","Pending","Intern Research Projects - Cheap Stock Study - Training","BIZ Research Projects",null,{"$f":"IF(O202=\"Business Firm billable\",VLOOKUP(A202,'Hourly rates'!$B$2:$E$40,4,FALSE),VLOOKUP(A202,'Hourly rates'!$B$2:$E$40,2,FALSE))","v":12},21]
["O'Brian, Chloe","Business Firm:Administration","Staff",1099,null,4,"2014-07-10","2014-07-12","Thu",null,"NonBill","ZZ","Pending","BIZ Research Projects - CFO Compensation - Modifications","BIZ Research Projects",null,{"$f":"IF(O203=\"Business Firm billable\",VLOOKUP(A203,'Hourly rates'!$B$2:$E$40,4,FALSE),VLOOKUP(A203,'Hourly rates'!$B$2:$E$40,2,FALSE))","v":12},48]
["Delgado, Gloria","Business Firm:Administration","Intern",1099,null,2,"2014-07-11","2014-07-12","Fri",null,"NonBill","ZZ","Pending","special projects","Special Projects",null,{"$f":"IF(O204=\"Business Firm billable\",VLOOKUP(A204,'Hourly rates'!$B$2:$E$40,4,FALSE),VLOOKUP(A204,'Hourly rates'!$B$2:$E$40,2,FALSE))","v":12},24]
["Delgado, Gloria","Business Firm:Training - trainee","Intern",1099,null,2,"2014-07-11","2014-07-12","Fri",null,"NonBill","ZZ","Pending","round table training broadcast","Administration",null,{"$f":"IF(O205=\"Business Firm billable\",VLOOKUP(A205,'Hourly rates'!$B$2:$E$40,4,FALSE),VLOOKUP(A205,'Hourly rates'!$B$2:$E$40,2,FALSE))","v":12},24]
["Delgado, Gloria","Some Client:IPO","Intern",1099,null,4,"2014-07-11","2014-07-12","Fri",null,"Admin 9%","ZZ","Pending","Fund XX","Business Firm billable",null,{"$f":"IF(O206=\"Business Firm billable\",VLOOKUP(A206,'Hourly rates'!$B$2:$E$40,4,FALSE),VLOOKUP(A206,'Hourly rates'!$B$2:$E$40,2,FALSE))","v":83},332]
["Meagle, Donna","Business Firm:Admin SP","Intern",1099,null,2,"2014-07-11","2014-07-12","Fri",null,"NonBill","ZZ","Pending"," BIZ Research Project - Special Projects","Special Projects",null,{"$f":"IF(O207=\"Business Firm billable\",VLOOKUP(A207,'Hourly rates'!$B$2:$E$40,4,FALSE),VLOOKUP(A207,'Hourly rates'!$B$2:$E$40,2,FALSE))","v":12},24]
["O'Brian, Chloe","Business Firm:Administration","Staff",1099,null,1,"2014-07-11","2014-07-12","Fri",null,"NonBill","ZZ","Pending","BIZ Research Projects - CFO Compensation - Modifications","BIZ Research Projects",null,{"$f":"IF(O208=\"Business Firm billable\",VLOOKUP(A208,'Hourly rates'!$B$2:$E$40,4,FALSE),VLOOKUP(A208,'Hourly rates'!$B$2:$E$40,2,FALSE))","v":12},12]
["Dwyer, Andy","Business Firm:Admin SP","Intern",1099,null,3,"2014-07-11","2014-07-12","Fri",null,"NonBill","ZZ","Pending","special projects","Special Projects",null,{"$f":"IF(O209=\"Business Firm billable\",VLOOKUP(A209,'Hourly rates'!$B$2:$E$40,4,FALSE),VLOOKUP(A209,'Hourly rates'!$B$2:$E$40,2,FALSE))","v":12},36]
["Dwyer, Andy","Business Firm:Administration","Intern",1099,null,1,"2014-07-11","2014-07-12","Fri",null,"NonBill","ZZ","Pending","CFO Compensation Research Project","BIZ Research Projects",null,{"$f":"IF(O210=\"Business Firm billable\",VLOOKUP(A210,'Hourly rates'!$B$2:$E$40,4,FALSE),VLOOKUP(A210,'Hourly rates'!$B$2:$E$40,2,FALSE))","v":12},12]
["Delgado, Gloria","Business Firm:Administration","Intern",1099,null,4,"2014-07-12","2014-07-12","Sat",null,"NonBill","ZZ","Pending","special projects","Special Projects",null,{"$f":"IF(O211=\"Business Firm billable\",VLOOKUP(A211,'Hourly rates'!$B$2:$E$40,4,FALSE),VLOOKUP(A211,'Hourly rates'!$B$2:$E$40,2,FALSE))","v":12},48]
["Wyatt, Ben","Business Firm:Admin SP","Staff",1099,null,1.25,"2014-07-12","2014-07-12","Sat",null,"NonBill","ZZ","Pending","Special Projects","Special Projects",null,{"$f":"IF(O212=\"Business Firm billable\",VLOOKUP(A212,'Hourly rates'!$B$2:$E$40,4,FALSE),VLOOKUP(A212,'Hourly rates'!$B$2:$E$40,2,FALSE))","v":12},15]
["Meagle, Donna","Business Firm:Admin SP","Intern",1099,null,2,"2014-07-12","2014-07-12","Sat",null,"NonBill","ZZ","Pending"," BIZ Research Project - Special Projects","Special Projects",null,{"$f":"IF(O213=\"Business Firm billable\",VLOOKUP(A213,'Hourly rates'!$B$2:$E$40,4,FALSE),VLOOKUP(A213,'Hourly rates'!$B$2:$E$40,2,FALSE))","v":12},24]
["Meagle, Donna","Business Firm:Administration","Intern",1099,null,1,"2014-07-12","2014-07-12","Sat",null,"NonBill","ZZ","Pending"," BIZ Research Project - Cheap Stock - maintenance","BIZ Research Projects",null,{"$f":"IF(O214=\"Business Firm billable\",VLOOKUP(A214,'Hourly rates'!$B$2:$E$40,4,FALSE),VLOOKUP(A214,'Hourly rates'!$B$2:$E$40,2,FALSE))","v":12},12]
["O'Brian, Chloe","Business Firm:Administration","Staff",1099,null,2.25,"2014-07-12","2014-07-12","Sat",null,"NonBill","ZZ","Pending","BIZ Research Projects - CFO Compensation - Modifications","BIZ Research Projects",null,{"$f":"IF(O215=\"Business Firm billable\",VLOOKUP(A215,'Hourly rates'!$B$2:$E$40,4,FALSE),VLOOKUP(A215,'Hourly rates'!$B$2:$E$40,2,FALSE))","v":12},27]
["Dwyer, Andy","Business Firm:Admin SP","Intern",1099,null,1.75,"2014-07-12","2014-07-12","Sat",null,"NonBill","ZZ","Pending","special projects","Special Projects",null,{"$f":"IF(O216=\"Business Firm billable\",VLOOKUP(A216,'Hourly rates'!$B$2:$E$40,4,FALSE),VLOOKUP(A216,'Hourly rates'!$B$2:$E$40,2,FALSE))","v":12},21]
["Dwyer, Andy","Business Firm:Administration","Intern",1099,null,1.25,"2014-07-12","2014-07-12","Sat",null,"NonBill","ZZ","Pending","CFO Compensation Research Project","BIZ Research Projects",null,{"$f":"IF(O217=\"Business Firm billable\",VLOOKUP(A217,'Hourly rates'!$B$2:$E$40,4,FALSE),VLOOKUP(A217,'Hourly rates'!$B$2:$E$40,2,FALSE))","v":12},15]
["Delgado, Gloria","Some Client:IPO","Intern",1099,null,4.25,"2014-07-14","2014-07-19","Mon",null,"Admin 9%","ZZ","2014-08-05","Fund XX","Business Firm billable",null,{"$f":"IF(O218=\"Business Firm billable\",VLOOKUP(A218,'Hourly rates'!$B$2:$E$40,4,FALSE),VLOOKUP(A218,'Hourly rates'!$B$2:$E$40,2,FALSE))","v":83},352.75]
["Haverford, Tom","Business Firm:Admin SP","Staff",1099,null,5,"2014-07-14","2014-07-19","Mon",null,"NonBill","ZZ","2014-08-05","BIZ Project - Special Projects","Special Projects",null,{"$f":"IF(O219=\"Business Firm billable\",VLOOKUP(A219,'Hourly rates'!$B$2:$E$40,4,FALSE),VLOOKUP(A219,'Hourly rates'!$B$2:$E$40,2,FALSE))","v":12},60]
["Myers, Nina","Business Firm:Administration","Intern",1099,null,1.75,"2014-07-14","2014-07-19","Mon",null,"NonBill","ZZ","2014-08-05","Special Projects","Special Projects",null,{"$f":"IF(O220=\"Business Firm billable\",VLOOKUP(A220,'Hourly rates'!$B$2:$E$40,4,FALSE),VLOOKUP(A220,'Hourly rates'!$B$2:$E$40,2,FALSE))","v":12},21]
["Myers, Nina","Business Firm:Administration","Intern",1099,null,2,"2014-07-14","2014-07-19","Mon",null,"NonBill","ZZ","2014-08-05","Intern Research Projects - Cheap Stock Study - Maintenance","BIZ Research Projects",null,{"$f":"IF(O221=\"Business Firm billable\",VLOOKUP(A221,'Hourly rates'!$B$2:$E$40,4,FALSE),VLOOKUP(A221,'Hourly rates'!$B$2:$E$40,2,FALSE))","v":12},24]
["Dwyer, Andy","Business Firm:Administration","Intern",1099,null,1.25,"2014-07-14","2014-07-19","Mon",null,"NonBill","ZZ","2014-08-05","CFO Compensation Research Project","BIZ Research Projects",null,{"$f":"IF(O222=\"Business Firm billable\",VLOOKUP(A222,'Hourly rates'!$B$2:$E$40,4,FALSE),VLOOKUP(A222,'Hourly rates'!$B$2:$E$40,2,FALSE))","v":12},15]
["Dwyer, Andy","Some Client:IPO","Intern",1099,null,2.25,"2014-07-14","2014-07-19","Mon",null,"Admin 9%","ZZ","2014-08-05","Comparison of financial statements","Business Firm billable",null,{"$f":"IF(O223=\"Business Firm billable\",VLOOKUP(A223,'Hourly rates'!$B$2:$E$40,4,FALSE),VLOOKUP(A223,'Hourly rates'!$B$2:$E$40,2,FALSE))","v":83},186.75]
["Delgado, Gloria","Business Firm:Admin SP","Intern",1099,null,2,"2014-07-15","2014-07-19","Tue",null,"NonBill","ZZ","2014-08-05","special projects","Special Projects",null,{"$f":"IF(O224=\"Business Firm billable\",VLOOKUP(A224,'Hourly rates'!$B$2:$E$40,4,FALSE),VLOOKUP(A224,'Hourly rates'!$B$2:$E$40,2,FALSE))","v":12},24]
["Delgado, Gloria","Some Client:IPO","Intern",1099,null,6,"2014-07-15","2014-07-19","Tue",null,"Admin 9%","ZZ","2014-08-05","Fund XX","Business Firm billable",null,{"$f":"IF(O225=\"Business Firm billable\",VLOOKUP(A225,'Hourly rates'!$B$2:$E$40,4,FALSE),VLOOKUP(A225,'Hourly rates'!$B$2:$E$40,2,FALSE))","v":83},498]
["Wyatt, Ben","Business Firm:Admin SP","Intern",1099,null,1.25,"2014-07-15","2014-07-19","Tue",null,"NonBill","ZZ","2014-08-05","Special Projects","Special Projects",null,{"$f":"IF(O226=\"Business Firm billable\",VLOOKUP(A226,'Hourly rates'!$B$2:$E$40,4,FALSE),VLOOKUP(A226,'Hourly rates'!$B$2:$E$40,2,FALSE))","v":12},15]
["Meagle, Donna","Business Firm:Admin SP","Intern",1099,null,3,"2014-07-15","2014-07-19","Tue",null,"NonBill","ZZ","2014-08-05"," BIZ Research Project - Special Projects","Special Projects",null,{"$f":"IF(O227=\"Business Firm billable\",VLOOKUP(A227,'Hourly rates'!$B$2:$E$40,4,FALSE),VLOOKUP(A227,'Hourly rates'!$B$2:$E$40,2,FALSE))","v":12},36]
["Haverford, Tom","Business Firm:Admin SP","Staff",1099,null,3,"2014-07-15","2014-07-19","Tue",null,"NonBill","ZZ","2014-08-05","BIZ Project - Special Projects","Special Projects",null,{"$f":"IF(O228=\"Business Firm billable\",VLOOKUP(A228,'Hourly rates'!$B$2:$E$40,4,FALSE),VLOOKUP(A228,'Hourly rates'!$B$2:$E$40,2,FALSE))","v":12},36]
["Myers, Nina","Business Firm:Administration","Intern",1099,null,1.75,"2014-07-15","2014-07-19","Tue",null,"NonBill","ZZ","2014-08-05","Special Projects","Special Projects",null,{"$f":"IF(O229=\"Business Firm billable\",VLOOKUP(A229,'Hourly rates'!$B$2:$E$40,4,FALSE),VLOOKUP(A229,'Hourly rates'!$B$2:$E$40,2,FALSE))","v":12},21]
["O'Brian, Chloe","Business Firm:Administration","Staff",1099,null,1.75,"2014-07-15","2014-07-19","Tue",null,"NonBill","ZZ","2014-08-05","BIZ Research Projects - All Studies - Modifications","BIZ Research Projects",null,{"$f":"IF(O230=\"Business Firm billable\",VLOOKUP(A230,'Hourly rates'!$B$2:$E$40,4,FALSE),VLOOKUP(A230,'Hourly rates'!$B$2:$E$40,2,FALSE))","v":12},21]
["Dwyer, Andy","Business Firm:Admin SP","Intern",1099,null,1.25,"2014-07-15","2014-07-19","Tue",null,"NonBill","ZZ","2014-08-05","special projects","Special Projects",null,{"$f":"IF(O231=\"Business Firm billable\",VLOOKUP(A231,'Hourly rates'!$B$2:$E$40,4,FALSE),VLOOKUP(A231,'Hourly rates'!$B$2:$E$40,2,FALSE))","v":12},15]
["Dwyer, Andy","Business Firm:Administration","Intern",1099,null,1.25,"2014-07-15","2014-07-19","Tue",null,"NonBill","ZZ","2014-08-05","CFO Compensation Research Project","BIZ Research Projects",null,{"$f":"IF(O232=\"Business Firm billable\",VLOOKUP(A232,'Hourly rates'!$B$2:$E$40,4,FALSE),VLOOKUP(A232,'Hourly rates'!$B$2:$E$40,2,FALSE))","v":12},15]
["Delgado, Gloria","Some Client:IPO","Intern",1099,null,8,"2014-07-16","2014-07-19","Wed",null,"Admin 9%","ZZ","2014-08-05","Fund XX","Business Firm billable",null,{"$f":"IF(O233=\"Business Firm billable\",VLOOKUP(A233,'Hourly rates'!$B$2:$E$40,4,FALSE),VLOOKUP(A233,'Hourly rates'!$B$2:$E$40,2,FALSE))","v":83},664]
["Wyatt, Ben","Business Firm:Admin SP","Intern",1099,null,1.25,"2014-07-16","2014-07-19","Wed",null,"NonBill","ZZ","2014-08-05","Special Projects","Special Projects",null,{"$f":"IF(O234=\"Business Firm billable\",VLOOKUP(A234,'Hourly rates'!$B$2:$E$40,4,FALSE),VLOOKUP(A234,'Hourly rates'!$B$2:$E$40,2,FALSE))","v":12},15]
["Meagle, Donna","Business Firm:Admin SP","Intern",1099,null,2,"2014-07-16","2014-07-19","Wed",null,"NonBill","ZZ","2014-08-05"," BIZ Research Project - Special Projects","Special Projects",null,{"$f":"IF(O235=\"Business Firm billable\",VLOOKUP(A235,'Hourly rates'!$B$2:$E$40,4,FALSE),VLOOKUP(A235,'Hourly rates'!$B$2:$E$40,2,FALSE))","v":12},24]
["Myers, Nina","Business Firm:Administration","Intern",1099,null,1.25,"2014-07-16","2014-07-19","Wed",null,"NonBill","ZZ","2014-08-05","Intern Research Projects - Comment Letters - Maintenance","BIZ Research Projects",null,{"$f":"IF(O236=\"Business Firm billable\",VLOOKUP(A236,'Hourly rates'!$B$2:$E$40,4,FALSE),VLOOKUP(A236,'Hourly rates'!$B$2:$E$40,2,FALSE))","v":12},15]
["O'Brian, Chloe","Business Firm:Administration","Staff",1099,null,1.75,"2014-07-16","2014-07-19","Wed",null,"NonBill","ZZ","2014-08-05","BIZ Research Projects - All Studies - Modifications","BIZ Research Projects",null,{"$f":"IF(O237=\"Business Firm billable\",VLOOKUP(A237,'Hourly rates'!$B$2:$E$40,4,FALSE),VLOOKUP(A237,'Hourly rates'!$B$2:$E$40,2,FALSE))","v":12},21]
["O'Brian, Chloe","Business Firm:Administration","Staff",1099,null,1.25,"2014-07-16","2014-07-19","Wed",null,"NonBill","ZZ","2014-08-05","BIZ Research Projects - JOBS Act Impact/IPO Metrics (F-1's only) - Modifications","BIZ Research Projects",null,{"$f":"IF(O238=\"Business Firm billable\",VLOOKUP(A238,'Hourly rates'!$B$2:$E$40,4,FALSE),VLOOKUP(A238,'Hourly rates'!$B$2:$E$40,2,FALSE))","v":12},15]
["O'Brian, Chloe","Business Firm:Administration","Staff",1099,null,1.25,"2014-07-16","2014-07-19","Wed",null,"NonBill","ZZ","2014-08-05","BIZ Research Projects - CFO Compensation - Training","BIZ Research Projects",null,{"$f":"IF(O239=\"Business Firm billable\",VLOOKUP(A239,'Hourly rates'!$B$2:$E$40,4,FALSE),VLOOKUP(A239,'Hourly rates'!$B$2:$E$40,2,FALSE))","v":12},15]
["Dwyer, Andy","Business Firm:Admin SP","Intern",1099,null,1.25,"2014-07-16","2014-07-19","Wed",null,"NonBill","ZZ","2014-08-05","special projects","Special Projects",null,{"$f":"IF(O240=\"Business Firm billable\",VLOOKUP(A240,'Hourly rates'!$B$2:$E$40,4,FALSE),VLOOKUP(A240,'Hourly rates'!$B$2:$E$40,2,FALSE))","v":12},15]
["Dwyer, Andy","Business Firm:Administration","Intern",1099,null,1.75,"2014-07-16","2014-07-19","Wed",null,"NonBill","ZZ","2014-08-05","IPO metrics and JOBS act updates","BIZ Research Projects",null,{"$f":"IF(O241=\"Business Firm billable\",VLOOKUP(A241,'Hourly rates'!$B$2:$E$40,4,FALSE),VLOOKUP(A241,'Hourly rates'!$B$2:$E$40,2,FALSE))","v":12},21]
["Delgado, Gloria","Some Client:IPO","Intern",1099,null,3.25,"2014-07-17","2014-07-19","Thu",null,"Admin 9%","ZZ","2014-08-05","Fund XX","Business Firm billable",null,{"$f":"IF(O242=\"Business Firm billable\",VLOOKUP(A242,'Hourly rates'!$B$2:$E$40,4,FALSE),VLOOKUP(A242,'Hourly rates'!$B$2:$E$40,2,FALSE))","v":83},269.75]
["Wyatt, Ben","Business Firm:Admin SP","Intern",1099,null,1.25,"2014-07-17","2014-07-19","Thu",null,"NonBill","ZZ","2014-08-05","Special Projects","Special Projects",null,{"$f":"IF(O243=\"Business Firm billable\",VLOOKUP(A243,'Hourly rates'!$B$2:$E$40,4,FALSE),VLOOKUP(A243,'Hourly rates'!$B$2:$E$40,2,FALSE))","v":12},15]
["Meagle, Donna","Business Firm:Admin SP","Intern",1099,null,3,"2014-07-17","2014-07-19","Thu",null,"NonBill","ZZ","2014-08-05"," BIZ Research Project - Special Projects","Special Projects",null,{"$f":"IF(O244=\"Business Firm billable\",VLOOKUP(A244,'Hourly rates'!$B$2:$E$40,4,FALSE),VLOOKUP(A244,'Hourly rates'!$B$2:$E$40,2,FALSE))","v":12},36]
["Haverford, Tom","Business Firm:Admin SP","Staff",1099,null,2,"2014-07-17","2014-07-19","Thu",null,"NonBill","ZZ","2014-08-05","BIZ Project - Special Projects","Special Projects",null,{"$f":"IF(O245=\"Business Firm billable\",VLOOKUP(A245,'Hourly rates'!$B$2:$E$40,4,FALSE),VLOOKUP(A245,'Hourly rates'!$B$2:$E$40,2,FALSE))","v":12},24]
["O'Brian, Chloe","Business Firm:Administration","Staff",1099,null,1.75,"2014-07-17","2014-07-19","Thu",null,"NonBill","ZZ","2014-08-05","BIZ Research Projects - CFO Compensation - Training","BIZ Research Projects",null,{"$f":"IF(O246=\"Business Firm billable\",VLOOKUP(A246,'Hourly rates'!$B$2:$E$40,4,FALSE),VLOOKUP(A246,'Hourly rates'!$B$2:$E$40,2,FALSE))","v":12},21]
["O'Brian, Chloe","Business Firm:Administration","Staff",1099,null,1.25,"2014-07-17","2014-07-19","Thu",null,"NonBill","ZZ","2014-08-05","BIZ Research Projects - JOBS Act Impact/IPO Metrics - Modifications","BIZ Research Projects",null,{"$f":"IF(O247=\"Business Firm billable\",VLOOKUP(A247,'Hourly rates'!$B$2:$E$40,4,FALSE),VLOOKUP(A247,'Hourly rates'!$B$2:$E$40,2,FALSE))","v":12},15]
["Dwyer, Andy","Business Firm:Admin SP","Intern",1099,null,1.75,"2014-07-17","2014-07-19","Thu",null,"NonBill","ZZ","2014-08-05","special projects","Special Projects",null,{"$f":"IF(O248=\"Business Firm billable\",VLOOKUP(A248,'Hourly rates'!$B$2:$E$40,4,FALSE),VLOOKUP(A248,'Hourly rates'!$B$2:$E$40,2,FALSE))","v":12},21]
["Dwyer, Andy","Business Firm:Administration","Intern",1099,null,1.25,"2014-07-17","2014-07-19","Thu",null,"NonBill","ZZ","2014-08-05","IPO metrics and JOBS act updates","BIZ Research Projects",null,{"$f":"IF(O249=\"Business Firm billable\",VLOOKUP(A249,'Hourly rates'!$B$2:$E$40,4,FALSE),VLOOKUP(A249,'Hourly rates'!$B$2:$E$40,2,FALSE))","v":12},15]
["Delgado, Gloria","Some Client:IPO","Intern",1099,null,6,"2014-07-18","2014-07-19","Fri",null,"Admin 9%","ZZ","2014-08-05","Fund XX","Business Firm billable",null,{"$f":"IF(O250=\"Business Firm billable\",VLOOKUP(A250,'Hourly rates'!$B$2:$E$40,4,FALSE),VLOOKUP(A250,'Hourly rates'!$B$2:$E$40,2,FALSE))","v":83},498]
["Meagle, Donna","Business Firm:Admin SP","Intern",1099,null,2,"2014-07-18","2014-07-19","Fri",null,"NonBill","ZZ","2014-08-05"," BIZ Research Project - Special Projects","Special Projects",null,{"$f":"IF(O251=\"Business Firm billable\",VLOOKUP(A251,'Hourly rates'!$B$2:$E$40,4,FALSE),VLOOKUP(A251,'Hourly rates'!$B$2:$E$40,2,FALSE))","v":12},24]
["O'Brian, Chloe","Business Firm:Administration","Staff",1099,null,5.25,"2014-07-18","2014-07-19","Fri",null,"NonBill","ZZ","2014-08-05","BIZ Research Projects - JOBS Act Impact/IPO Metrics - Modifications","BIZ Research Projects",null,{"$f":"IF(O252=\"Business Firm billable\",VLOOKUP(A252,'Hourly rates'!$B$2:$E$40,4,FALSE),VLOOKUP(A252,'Hourly rates'!$B$2:$E$40,2,FALSE))","v":12},63]
["Dwyer, Andy","Business Firm:Admin SP","Intern",1099,null,2,"2014-07-18","2014-07-19","Fri",null,"NonBill","ZZ","2014-08-05","special projects","Special Projects",null,{"$f":"IF(O253=\"Business Firm billable\",VLOOKUP(A253,'Hourly rates'!$B$2:$E$40,4,FALSE),VLOOKUP(A253,'Hourly rates'!$B$2:$E$40,2,FALSE))","v":12},24]
["Dwyer, Andy","Business Firm:Administration","Intern",1099,null,2.25,"2014-07-18","2014-07-19","Fri",null,"NonBill","ZZ","2014-08-05","Updating Firm Guidance","Strat Firm",null,{"$f":"IF(O254=\"Business Firm billable\",VLOOKUP(A254,'Hourly rates'!$B$2:$E$40,4,FALSE),VLOOKUP(A254,'Hourly rates'!$B$2:$E$40,2,FALSE))","v":12},27]
["Delgado, Gloria","Business Firm:Admin SP","Intern",1099,null,3,"2014-07-19","2014-07-19","Sat",null,"NonBill","ZZ","2014-08-05","special projects","Special Projects",null,{"$f":"IF(O255=\"Business Firm billable\",VLOOKUP(A255,'Hourly rates'!$B$2:$E$40,4,FALSE),VLOOKUP(A255,'Hourly rates'!$B$2:$E$40,2,FALSE))","v":12},36]
["Dwyer, Andy","Business Firm:Administration","Intern",1099,null,1.75,"2014-07-19","2014-07-19","Sat",null,"NonBill","ZZ","2014-08-05","Updating Firm Guidance","Strat Firm",null,{"$f":"IF(O256=\"Business Firm billable\",VLOOKUP(A256,'Hourly rates'!$B$2:$E$40,4,FALSE),VLOOKUP(A256,'Hourly rates'!$B$2:$E$40,2,FALSE))","v":12},21]
["Delgado, Gloria","CTUTech Acctg","Intern",1099,null,4,"2014-07-21","2014-07-26","Mon",null,"Admin 6%","ZZ","2014-08-05","Flux Analysis","Business Firm billable",null,{"$f":"IF(O257=\"Business Firm billable\",VLOOKUP(A257,'Hourly rates'!$B$2:$E$40,4,FALSE),VLOOKUP(A257,'Hourly rates'!$B$2:$E$40,2,FALSE))","v":83},332]
["Delgado, Gloria","Some Client:IPO","Intern",1099,null,2.25,"2014-07-21","2014-07-26","Mon",null,"Admin 9%","ZZ","2014-08-05","Q2","Business Firm billable",null,{"$f":"IF(O258=\"Business Firm billable\",VLOOKUP(A258,'Hourly rates'!$B$2:$E$40,4,FALSE),VLOOKUP(A258,'Hourly rates'!$B$2:$E$40,2,FALSE))","v":83},{"$f":"Q258*F258","v":186.75}]
["Haverford, Tom","Business Firm:Admin SP","Staff",1099,null,8,"2014-07-21","2014-07-26","Mon",null,"NonBill","ZZ","2014-08-05","SpecialProjects","Special Projects",null,{"$f":"IF(O259=\"Business Firm billable\",VLOOKUP(A259,'Hourly rates'!$B$2:$E$40,4,FALSE),VLOOKUP(A259,'Hourly rates'!$B$2:$E$40,2,FALSE))","v":12},96]
["O'Brian, Chloe","Business Firm:Administration","Staff",1099,null,1.25,"2014-07-21","2014-07-26","Mon",null,"NonBill","ZZ","2014-08-05","BIZ Research Projects - JOBS Act Impact/IPO Metrics - Modifications","BIZ Research Projects",null,{"$f":"IF(O260=\"Business Firm billable\",VLOOKUP(A260,'Hourly rates'!$B$2:$E$40,4,FALSE),VLOOKUP(A260,'Hourly rates'!$B$2:$E$40,2,FALSE))","v":12},15]
["Dwyer, Andy","Business Firm:Admin SP","Intern",1099,null,1.25,"2014-07-21","2014-07-26","Mon",null,"NonBill","ZZ","2014-08-05","Special Projects","Special Projects",null,{"$f":"IF(O261=\"Business Firm billable\",VLOOKUP(A261,'Hourly rates'!$B$2:$E$40,4,FALSE),VLOOKUP(A261,'Hourly rates'!$B$2:$E$40,2,FALSE))","v":12},15]
["Dwyer, Andy","Business Firm:Administration","Intern",1099,null,1.25,"2014-07-21","2014-07-26","Mon",null,"NonBill","ZZ","2014-08-05","CFO Compensation Research Project","BIZ Research Projects",null,{"$f":"IF(O262=\"Business Firm billable\",VLOOKUP(A262,'Hourly rates'!$B$2:$E$40,4,FALSE),VLOOKUP(A262,'Hourly rates'!$B$2:$E$40,2,FALSE))","v":12},15]
["Dwyer, Andy","Business Firm:Administration","Intern",1099,null,2,"2014-07-21","2014-07-26","Mon",null,"NonBill","ZZ","2014-08-05","Updating BIZ guides","Strat Firm",null,{"$f":"IF(O263=\"Business Firm billable\",VLOOKUP(A263,'Hourly rates'!$B$2:$E$40,4,FALSE),VLOOKUP(A263,'Hourly rates'!$B$2:$E$40,2,FALSE))","v":12},24]
["Delgado, Gloria","Business Firm:Admin SP","Intern",1099,null,1,"2014-07-22","2014-07-26","Tue",null,"NonBill","ZZ","2014-08-05","special projects","Special Projects",null,{"$f":"IF(O264=\"Business Firm billable\",VLOOKUP(A264,'Hourly rates'!$B$2:$E$40,4,FALSE),VLOOKUP(A264,'Hourly rates'!$B$2:$E$40,2,FALSE))","v":12},12]
["Delgado, Gloria","Some Client:IPO","Intern",1099,null,9,"2014-07-22","2014-07-26","Tue",null,"Admin 9%","ZZ","2014-08-05","Q2","Business Firm billable",null,{"$f":"IF(O265=\"Business Firm billable\",VLOOKUP(A265,'Hourly rates'!$B$2:$E$40,4,FALSE),VLOOKUP(A265,'Hourly rates'!$B$2:$E$40,2,FALSE))","v":83},747]
["Wyatt, Ben","Business Firm:Admin SP","Intern",1099,null,2.25,"2014-07-22","2014-07-26","Tue",null,"NonBill","ZZ","2014-08-05","Special Projects","Special Projects",null,{"$f":"IF(O266=\"Business Firm billable\",VLOOKUP(A266,'Hourly rates'!$B$2:$E$40,4,FALSE),VLOOKUP(A266,'Hourly rates'!$B$2:$E$40,2,FALSE))","v":12},27]
["Meagle, Donna","Business Firm:Admin SP","Intern",1099,null,2,"2014-07-22","2014-07-26","Tue",null,"NonBill","ZZ","2014-08-05"," BIZ Research Project - Special Projects","Special Projects",null,{"$f":"IF(O267=\"Business Firm billable\",VLOOKUP(A267,'Hourly rates'!$B$2:$E$40,4,FALSE),VLOOKUP(A267,'Hourly rates'!$B$2:$E$40,2,FALSE))","v":12},24]
["Haverford, Tom","Business Firm:Admin SP","Staff",1099,null,2,"2014-07-22","2014-07-26","Tue",null,"NonBill","ZZ","2014-08-05","SpecialProjects","Special Projects",null,{"$f":"IF(O268=\"Business Firm billable\",VLOOKUP(A268,'Hourly rates'!$B$2:$E$40,4,FALSE),VLOOKUP(A268,'Hourly rates'!$B$2:$E$40,2,FALSE))","v":12},24]
["Myers, Nina","Business Firm:Admin SP","Intern",1099,null,1.25,"2014-07-22","2014-07-26","Tue",null,"NonBill","ZZ","2014-08-05","Special Projects","Special Projects",null,{"$f":"IF(O269=\"Business Firm billable\",VLOOKUP(A269,'Hourly rates'!$B$2:$E$40,4,FALSE),VLOOKUP(A269,'Hourly rates'!$B$2:$E$40,2,FALSE))","v":12},15]
["O'Brian, Chloe","Business Firm:Administration","Staff",1099,null,1.25,"2014-07-22","2014-07-26","Tue",null,"NonBill","ZZ","2014-08-05","BIZ Research Projects - JOBS Act Impact/IPO Metrics - Modifications","BIZ Research Projects",null,{"$f":"IF(O270=\"Business Firm billable\",VLOOKUP(A270,'Hourly rates'!$B$2:$E$40,4,FALSE),VLOOKUP(A270,'Hourly rates'!$B$2:$E$40,2,FALSE))","v":12},15]
["Dwyer, Andy","Business Firm:Admin SP","Intern",1099,null,1.75,"2014-07-22","2014-07-26","Tue",null,"NonBill","ZZ","2014-08-05","Special Projects","Special Projects",null,{"$f":"IF(O271=\"Business Firm billable\",VLOOKUP(A271,'Hourly rates'!$B$2:$E$40,4,FALSE),VLOOKUP(A271,'Hourly rates'!$B$2:$E$40,2,FALSE))","v":12},21]
["Dwyer, Andy","Business Firm:Administration","Intern",1099,null,1,"2014-07-22","2014-07-26","Tue",null,"NonBill","ZZ","2014-08-05","IPOmetrics/JOBS act","BIZ Research Projects",null,{"$f":"IF(O272=\"Business Firm billable\",VLOOKUP(A272,'Hourly rates'!$B$2:$E$40,4,FALSE),VLOOKUP(A272,'Hourly rates'!$B$2:$E$40,2,FALSE))","v":12},12]
["Delgado, Gloria","Business Firm:Admin SP","Intern",1099,null,2,"2014-07-23","2014-07-26","Wed",null,"NonBill","ZZ","2014-08-05","special projects","Special Projects",null,{"$f":"IF(O273=\"Business Firm billable\",VLOOKUP(A273,'Hourly rates'!$B$2:$E$40,4,FALSE),VLOOKUP(A273,'Hourly rates'!$B$2:$E$40,2,FALSE))","v":12},24]
["Delgado, Gloria","Some Client:IPO","Intern",1099,null,6,"2014-07-23","2014-07-26","Wed",null,"Admin 9%","ZZ","2014-08-05","Q2","Business Firm billable",null,{"$f":"IF(O274=\"Business Firm billable\",VLOOKUP(A274,'Hourly rates'!$B$2:$E$40,4,FALSE),VLOOKUP(A274,'Hourly rates'!$B$2:$E$40,2,FALSE))","v":83},498]
["Meagle, Donna","Business Firm:Admin SP","Intern",1099,null,2,"2014-07-23","2014-07-26","Wed",null,"NonBill","ZZ","2014-08-05"," BIZ Research Project - Special Projects","Special Projects",null,{"$f":"IF(O275=\"Business Firm billable\",VLOOKUP(A275,'Hourly rates'!$B$2:$E$40,4,FALSE),VLOOKUP(A275,'Hourly rates'!$B$2:$E$40,2,FALSE))","v":12},24]
["Haverford, Tom","Business Firm:Admin SP","Staff",1099,null,2,"2014-07-23","2014-07-26","Wed",null,"NonBill","ZZ","2014-08-05","SpecialProjects","Special Projects",null,{"$f":"IF(O276=\"Business Firm billable\",VLOOKUP(A276,'Hourly rates'!$B$2:$E$40,4,FALSE),VLOOKUP(A276,'Hourly rates'!$B$2:$E$40,2,FALSE))","v":12},24]
["Dwyer, Andy","Business Firm:Admin SP","Intern",1099,null,1.75,"2014-07-23","2014-07-26","Wed",null,"NonBill","ZZ","2014-08-05","Special Projects","Special Projects",null,{"$f":"IF(O277=\"Business Firm billable\",VLOOKUP(A277,'Hourly rates'!$B$2:$E$40,4,FALSE),VLOOKUP(A277,'Hourly rates'!$B$2:$E$40,2,FALSE))","v":12},21]
["Dwyer, Andy","Business Firm:Administration","Intern",1099,null,1.25,"2014-07-23","2014-07-26","Wed",null,"NonBill","ZZ","2014-08-05","CFO Compensation Research Project","BIZ Research Projects",null,{"$f":"IF(O278=\"Business Firm billable\",VLOOKUP(A278,'Hourly rates'!$B$2:$E$40,4,FALSE),VLOOKUP(A278,'Hourly rates'!$B$2:$E$40,2,FALSE))","v":12},15]
["Dwyer, Andy","Business Firm:Administration","Intern",1099,null,1.75,"2014-07-23","2014-07-26","Wed",null,"NonBill","ZZ","2014-08-05","Updating BIZ guides","Strat Firm",null,{"$f":"IF(O279=\"Business Firm billable\",VLOOKUP(A279,'Hourly rates'!$B$2:$E$40,4,FALSE),VLOOKUP(A279,'Hourly rates'!$B$2:$E$40,2,FALSE))","v":12},21]
["Dwyer, Andy","Business Firm:Administration","Intern",1099,null,1.75,"2014-07-23","2014-07-26","Wed",null,"NonBill","ZZ","2014-08-05","IPOmetrics/JOBS act","BIZ Research Projects",null,{"$f":"IF(O280=\"Business Firm billable\",VLOOKUP(A280,'Hourly rates'!$B$2:$E$40,4,FALSE),VLOOKUP(A280,'Hourly rates'!$B$2:$E$40,2,FALSE))","v":12},21]
["Delgado, Gloria","Business Firm:Admin SP","Intern",1099,null,3,"2014-07-24","2014-07-26","Thu",null,"NonBill","ZZ","2014-08-05","special projects","Special Projects",null,{"$f":"IF(O281=\"Business Firm billable\",VLOOKUP(A281,'Hourly rates'!$B$2:$E$40,4,FALSE),VLOOKUP(A281,'Hourly rates'!$B$2:$E$40,2,FALSE))","v":12},36]
["Delgado, Gloria","Some Client:IPO","Intern",1099,null,5,"2014-07-24","2014-07-26","Thu",null,"Admin 9%","ZZ","2014-08-05","Q2","Business Firm billable",null,{"$f":"IF(O282=\"Business Firm billable\",VLOOKUP(A282,'Hourly rates'!$B$2:$E$40,4,FALSE),VLOOKUP(A282,'Hourly rates'!$B$2:$E$40,2,FALSE))","v":83},415]
["Meagle, Donna","Business Firm:Admin SP","Intern",1099,null,2,"2014-07-24","2014-07-26","Thu",null,"NonBill","ZZ","2014-08-05"," BIZ Research Project - Special Projects","Special Projects",null,{"$f":"IF(O283=\"Business Firm billable\",VLOOKUP(A283,'Hourly rates'!$B$2:$E$40,4,FALSE),VLOOKUP(A283,'Hourly rates'!$B$2:$E$40,2,FALSE))","v":12},24]
["O'Brian, Chloe","Business Firm:Administration","Staff",1099,null,1.75,"2014-07-24","2014-07-26","Thu",null,"NonBill","ZZ","2014-08-05","BIZ Research Projects - JOBS Act Impact/IPO Metrics - Modifications","BIZ Research Projects",null,{"$f":"IF(O284=\"Business Firm billable\",VLOOKUP(A284,'Hourly rates'!$B$2:$E$40,4,FALSE),VLOOKUP(A284,'Hourly rates'!$B$2:$E$40,2,FALSE))","v":12},21]
["O'Brian, Chloe","Business Firm:Administration","Staff",1099,null,3,"2014-07-24","2014-07-26","Thu",null,"NonBill","ZZ","2014-08-05","BIZ Research Projects - JOBS Act Impact/IPO Metrics (F-1's only) - Modifications","BIZ Research Projects",null,{"$f":"IF(O285=\"Business Firm billable\",VLOOKUP(A285,'Hourly rates'!$B$2:$E$40,4,FALSE),VLOOKUP(A285,'Hourly rates'!$B$2:$E$40,2,FALSE))","v":12},36]
["O'Brian, Chloe","Business Firm:Administration","Staff",1099,null,1.25,"2014-07-24","2014-07-26","Thu",null,"NonBill","ZZ","2014-08-05","BIZ Research Projects - CFO Compensation - Training","BIZ Research Projects",null,{"$f":"IF(O286=\"Business Firm billable\",VLOOKUP(A286,'Hourly rates'!$B$2:$E$40,4,FALSE),VLOOKUP(A286,'Hourly rates'!$B$2:$E$40,2,FALSE))","v":12},15]
["Dwyer, Andy","Business Firm:Admin SP","Intern",1099,null,1.75,"2014-07-24","2014-07-26","Thu",null,"NonBill","ZZ","2014-08-05","Special Projects","Special Projects",null,{"$f":"IF(O287=\"Business Firm billable\",VLOOKUP(A287,'Hourly rates'!$B$2:$E$40,4,FALSE),VLOOKUP(A287,'Hourly rates'!$B$2:$E$40,2,FALSE))","v":12},21]
["Dwyer, Andy","Business Firm:Administration","Intern",1099,null,1.25,"2014-07-24","2014-07-26","Thu",null,"NonBill","ZZ","2014-08-05","IPOmetrics/JOBS act","BIZ Research Projects",null,{"$f":"IF(O288=\"Business Firm billable\",VLOOKUP(A288,'Hourly rates'!$B$2:$E$40,4,FALSE),VLOOKUP(A288,'Hourly rates'!$B$2:$E$40,2,FALSE))","v":12},15]
["Delgado, Gloria","Business Firm:Admin SP","Intern",1099,null,5,"2014-07-25","2014-07-26","Fri",null,"NonBill","ZZ","2014-08-05","special projects","Special Projects",null,{"$f":"IF(O289=\"Business Firm billable\",VLOOKUP(A289,'Hourly rates'!$B$2:$E$40,4,FALSE),VLOOKUP(A289,'Hourly rates'!$B$2:$E$40,2,FALSE))","v":12},60]
["Delgado, Gloria","Some Client:IPO","Intern",1099,null,1.25,"2014-07-25","2014-07-26","Fri",null,"Admin 9%","ZZ","2014-08-05","Q2","Business Firm billable",null,{"$f":"IF(O290=\"Business Firm billable\",VLOOKUP(A290,'Hourly rates'!$B$2:$E$40,4,FALSE),VLOOKUP(A290,'Hourly rates'!$B$2:$E$40,2,FALSE))","v":83},103.75]
["Meagle, Donna","Business Firm:Admin SP","Intern",1099,null,2,"2014-07-25","2014-07-26","Fri",null,"NonBill","ZZ","2014-08-05"," BIZ Research Project - Special Projects","Special Projects",null,{"$f":"IF(O291=\"Business Firm billable\",VLOOKUP(A291,'Hourly rates'!$B$2:$E$40,4,FALSE),VLOOKUP(A291,'Hourly rates'!$B$2:$E$40,2,FALSE))","v":12},24]
["Myers, Nina","Business Firm:Administration","Intern",1099,null,1.25,"2014-07-25","2014-07-26","Fri",null,"NonBill","ZZ","2014-08-05","Intern Research Projects - General","BIZ Research Projects",null,{"$f":"IF(O292=\"Business Firm billable\",VLOOKUP(A292,'Hourly rates'!$B$2:$E$40,4,FALSE),VLOOKUP(A292,'Hourly rates'!$B$2:$E$40,2,FALSE))","v":12},15]
["Myers, Nina","Business Firm:Administration","Intern",1099,null,5,"2014-07-25","2014-07-26","Fri",null,"NonBill","ZZ","2014-08-05","Intern Research Projects - Cheap Stock Study - Maintenance","BIZ Research Projects",null,{"$f":"IF(O293=\"Business Firm billable\",VLOOKUP(A293,'Hourly rates'!$B$2:$E$40,4,FALSE),VLOOKUP(A293,'Hourly rates'!$B$2:$E$40,2,FALSE))","v":12},60]
["O'Brian, Chloe","Business Firm:Administration","Staff",1099,null,7,"2014-07-25","2014-07-26","Fri",null,"NonBill","ZZ","2014-08-05","BIZ Research Projects - JOBS Act Impact/IPO Metrics (F-1's only) - Modifications","BIZ Research Projects",null,{"$f":"IF(O294=\"Business Firm billable\",VLOOKUP(A294,'Hourly rates'!$B$2:$E$40,4,FALSE),VLOOKUP(A294,'Hourly rates'!$B$2:$E$40,2,FALSE))","v":12},84]
["O'Brian, Chloe","Business Firm:Administration","Staff",1099,null,1.25,"2014-07-25","2014-07-26","Fri",null,"NonBill","ZZ","2014-08-05","BIZ Research Projects - All Studies - Modifications","BIZ Research Projects",null,{"$f":"IF(O295=\"Business Firm billable\",VLOOKUP(A295,'Hourly rates'!$B$2:$E$40,4,FALSE),VLOOKUP(A295,'Hourly rates'!$B$2:$E$40,2,FALSE))","v":12},15]
["Dwyer, Andy","Business Firm:Admin SP","Intern",1099,null,1.25,"2014-07-25","2014-07-26","Fri",null,"NonBill","ZZ","2014-08-05","Special Projects","Special Projects",null,{"$f":"IF(O296=\"Business Firm billable\",VLOOKUP(A296,'Hourly rates'!$B$2:$E$40,4,FALSE),VLOOKUP(A296,'Hourly rates'!$B$2:$E$40,2,FALSE))","v":12},15]
["O'Brian, Chloe","Business Firm:Administration","Staff",1099,null,1.25,"2014-07-26","2014-07-26","Sat",null,"NonBill","ZZ","2014-08-05","BIZ Research Projects - JOBS Act Impact/IPO Metrics (F-1's only) - Modifications","BIZ Research Projects",null,{"$f":"IF(O297=\"Business Firm billable\",VLOOKUP(A297,'Hourly rates'!$B$2:$E$40,4,FALSE),VLOOKUP(A297,'Hourly rates'!$B$2:$E$40,2,FALSE))","v":12},15]
["Dwyer, Andy","Business Firm:Admin SP","Intern",1099,null,2,"2014-07-26","2014-07-26","Sat",null,"NonBill","ZZ","2014-08-05","Special Projects","Special Projects",null,{"$f":"IF(O298=\"Business Firm billable\",VLOOKUP(A298,'Hourly rates'!$B$2:$E$40,4,FALSE),VLOOKUP(A298,'Hourly rates'!$B$2:$E$40,2,FALSE))","v":12},24]
["Dwyer, Andy","Business Firm:Administration","Intern",1099,null,1.25,"2014-07-26","2014-07-26","Sat",null,"NonBill","ZZ","2014-08-05","IPOmetrics/JOBS act","BIZ Research Projects",null,{"$f":"IF(O299=\"Business Firm billable\",VLOOKUP(A299,'Hourly rates'!$B$2:$E$40,4,FALSE),VLOOKUP(A299,'Hourly rates'!$B$2:$E$40,2,FALSE))","v":12},15]
["Delgado, Gloria","Business Firm:Admin SP","Intern",1099,null,2,"2014-07-27","2014-08-02","Sun",null,"NonBill","ZZ","2014-08-05",null,"Special Projects",null,{"$f":"IF(O300=\"Business Firm billable\",VLOOKUP(A300,'Hourly rates'!$B$2:$E$40,4,FALSE),VLOOKUP(A300,'Hourly rates'!$B$2:$E$40,2,FALSE))","v":12},24]
["O'Brian, Chloe","Business Firm:Administration","Staff",1099,null,5,"2014-07-27","2014-08-02","Sun",null,"NonBill","ZZ","2014-08-05","BIZ Research Projects - All Studies - Prepping for Call with Partners","BIZ Research Projects",null,{"$f":"IF(O301=\"Business Firm billable\",VLOOKUP(A301,'Hourly rates'!$B$2:$E$40,4,FALSE),VLOOKUP(A301,'Hourly rates'!$B$2:$E$40,2,FALSE))","v":12},60]
["Delgado, Gloria","Business Firm:Admin SP","Intern",1099,null,2,"2014-07-28","2014-08-02","Mon",null,"NonBill","ZZ","2014-08-05",null,"Special Projects",null,{"$f":"IF(O302=\"Business Firm billable\",VLOOKUP(A302,'Hourly rates'!$B$2:$E$40,4,FALSE),VLOOKUP(A302,'Hourly rates'!$B$2:$E$40,2,FALSE))","v":12},24]
["Wyatt, Ben","Business Firm:Admin SP","Intern",1099,null,1.25,"2014-07-28","2014-08-02","Mon",null,"NonBill","ZZ","2014-08-05","Special Projects","Special Projects",null,{"$f":"IF(O303=\"Business Firm billable\",VLOOKUP(A303,'Hourly rates'!$B$2:$E$40,4,FALSE),VLOOKUP(A303,'Hourly rates'!$B$2:$E$40,2,FALSE))","v":12},15]
["Meagle, Donna","Business Firm:Admin SP","Intern",1099,null,2,"2014-07-28","2014-08-02","Mon",null,"NonBill","ZZ","2014-08-05",null,"Special Projects",null,{"$f":"IF(O304=\"Business Firm billable\",VLOOKUP(A304,'Hourly rates'!$B$2:$E$40,4,FALSE),VLOOKUP(A304,'Hourly rates'!$B$2:$E$40,2,FALSE))","v":12},24]
["Haverford, Tom","Business Firm:Admin SP","Staff",1099,null,4,"2014-07-28","2014-08-02","Mon",null,"NonBill","ZZ","2014-08-05","BIZ Project - Special Projects","Special Projects",null,{"$f":"IF(O305=\"Business Firm billable\",VLOOKUP(A305,'Hourly rates'!$B$2:$E$40,4,FALSE),VLOOKUP(A305,'Hourly rates'!$B$2:$E$40,2,FALSE))","v":12},48]
["Myers, Nina","Business Firm:Admin SP","Intern",1099,null,1.25,"2014-07-28","2014-08-02","Mon",null,"NonBill","ZZ","2014-08-05","Special Projects","Special Projects",null,{"$f":"IF(O306=\"Business Firm billable\",VLOOKUP(A306,'Hourly rates'!$B$2:$E$40,4,FALSE),VLOOKUP(A306,'Hourly rates'!$B$2:$E$40,2,FALSE))","v":12},15]
["Myers, Nina","Business Firm:Administration","Intern",1099,null,1.25,"2014-07-28","2014-08-02","Mon",null,"NonBill","ZZ","2014-08-05","BIZ Research Project - General - Preparing Partner Presentation","BIZ Research Projects",null,{"$f":"IF(O307=\"Business Firm billable\",VLOOKUP(A307,'Hourly rates'!$B$2:$E$40,4,FALSE),VLOOKUP(A307,'Hourly rates'!$B$2:$E$40,2,FALSE))","v":12},15]
["O'Brian, Chloe","Business Firm:Administration","Staff",1099,null,3,"2014-07-28","2014-08-02","Mon",null,"NonBill","ZZ","2014-08-05","BIZ Research Projects - All Studies - Prepping for Call with Partners","BIZ Research Projects",null,{"$f":"IF(O308=\"Business Firm billable\",VLOOKUP(A308,'Hourly rates'!$B$2:$E$40,4,FALSE),VLOOKUP(A308,'Hourly rates'!$B$2:$E$40,2,FALSE))","v":12},36]
["O'Brian, Chloe","Business Firm:Administration","Staff",1099,null,1.75,"2014-07-28","2014-08-02","Mon",null,"NonBill","ZZ","2014-08-05","BIZ Research Projects - All Studies - Call with Partners","BIZ Research Projects",null,{"$f":"IF(O309=\"Business Firm billable\",VLOOKUP(A309,'Hourly rates'!$B$2:$E$40,4,FALSE),VLOOKUP(A309,'Hourly rates'!$B$2:$E$40,2,FALSE))","v":12},21]
["Dwyer, Andy","Business Firm:Administration","Intern",1099,null,1.25,"2014-07-28","2014-08-02","Mon",null,"NonBill","ZZ","2014-08-05","JOBS act modification","BIZ Research Projects",null,{"$f":"IF(O310=\"Business Firm billable\",VLOOKUP(A310,'Hourly rates'!$B$2:$E$40,4,FALSE),VLOOKUP(A310,'Hourly rates'!$B$2:$E$40,2,FALSE))","v":12},15]
["Dwyer, Andy","Business Firm:Administration","Intern",1099,null,1.25,"2014-07-28","2014-08-02","Mon",null,"NonBill","ZZ","2014-08-05","Updating BIZ guides","Strat Firm",null,{"$f":"IF(O311=\"Business Firm billable\",VLOOKUP(A311,'Hourly rates'!$B$2:$E$40,4,FALSE),VLOOKUP(A311,'Hourly rates'!$B$2:$E$40,2,FALSE))","v":12},15]
["Dwyer, Andy","Business Firm:Training - trainee","Intern",1099,null,1.75,"2014-07-28","2014-08-02","Mon",null,"NonBill","ZZ","2014-08-05","CFO Compensation Research Project-training","BIZ Research Projects",null,{"$f":"IF(O312=\"Business Firm billable\",VLOOKUP(A312,'Hourly rates'!$B$2:$E$40,4,FALSE),VLOOKUP(A312,'Hourly rates'!$B$2:$E$40,2,FALSE))","v":12},21]
["Wyatt, Ben","Business Firm:Admin SP","Intern",1099,null,1.75,"2014-07-29","2014-08-02","Tue",null,"NonBill","ZZ","2014-08-05","Special Projects","Special Projects",null,{"$f":"IF(O313=\"Business Firm billable\",VLOOKUP(A313,'Hourly rates'!$B$2:$E$40,4,FALSE),VLOOKUP(A313,'Hourly rates'!$B$2:$E$40,2,FALSE))","v":12},21]
["Meagle, Donna","Business Firm:Admin SP","Intern",1099,null,3,"2014-07-29","2014-08-02","Tue",null,"NonBill","ZZ","2014-08-05",null,"Special Projects",null,{"$f":"IF(O314=\"Business Firm billable\",VLOOKUP(A314,'Hourly rates'!$B$2:$E$40,4,FALSE),VLOOKUP(A314,'Hourly rates'!$B$2:$E$40,2,FALSE))","v":12},36]
["Myers, Nina","Business Firm:Admin SP","Intern",1099,null,1.75,"2014-07-29","2014-08-02","Tue",null,"NonBill","ZZ","2014-08-05","Special Projects","Special Projects",null,{"$f":"IF(O315=\"Business Firm billable\",VLOOKUP(A315,'Hourly rates'!$B$2:$E$40,4,FALSE),VLOOKUP(A315,'Hourly rates'!$B$2:$E$40,2,FALSE))","v":12},21]
["O'Brian, Chloe","Business Firm:Administration","Staff",1099,null,1.25,"2014-07-29","2014-08-02","Tue",null,"NonBill","ZZ","2014-08-05","BIZ Research Projects - All Studies - Modifications","BIZ Research Projects",null,{"$f":"IF(O316=\"Business Firm billable\",VLOOKUP(A316,'Hourly rates'!$B$2:$E$40,4,FALSE),VLOOKUP(A316,'Hourly rates'!$B$2:$E$40,2,FALSE))","v":12},15]
["Dwyer, Andy","Business Firm:Admin SP","Intern",1099,null,1.25,"2014-07-29","2014-08-02","Tue",null,"NonBill","ZZ","2014-08-05","Special Projects","Special Projects",null,{"$f":"IF(O317=\"Business Firm billable\",VLOOKUP(A317,'Hourly rates'!$B$2:$E$40,4,FALSE),VLOOKUP(A317,'Hourly rates'!$B$2:$E$40,2,FALSE))","v":12},15]
["Dwyer, Andy","Business Firm:Administration","Intern",1099,null,1.75,"2014-07-29","2014-08-02","Tue",null,"NonBill","ZZ","2014-08-05","Updating BIZ guides","Strat Firm",null,{"$f":"IF(O318=\"Business Firm billable\",VLOOKUP(A318,'Hourly rates'!$B$2:$E$40,4,FALSE),VLOOKUP(A318,'Hourly rates'!$B$2:$E$40,2,FALSE))","v":12},21]
["O'Brian, Chloe","Business Firm:Administration","Staff",1099,null,1.25,"2014-07-30","2014-08-02","Wed",null,"NonBill","ZZ","2014-08-05","BIZ Research Projects - All Studies - Modifications","BIZ Research Projects",null,{"$f":"IF(O319=\"Business Firm billable\",VLOOKUP(A319,'Hourly rates'!$B$2:$E$40,4,FALSE),VLOOKUP(A319,'Hourly rates'!$B$2:$E$40,2,FALSE))","v":12},15]
["O'Brian, Chloe","Business Firm:Administration","Staff",1099,null,1.25,"2014-07-30","2014-08-02","Wed",null,"NonBill","ZZ","2014-08-05","BIZ Research Projects - All Studies - Development of Review Guidelines","BIZ Research Projects",null,{"$f":"IF(O320=\"Business Firm billable\",VLOOKUP(A320,'Hourly rates'!$B$2:$E$40,4,FALSE),VLOOKUP(A320,'Hourly rates'!$B$2:$E$40,2,FALSE))","v":12},15]
["Dwyer, Andy","Business Firm:Administration","Intern",1099,null,1.25,"2014-07-30","2014-08-02","Wed",null,"NonBill","ZZ","2014-08-05","Updating BIZ guides","Strat Firm",null,{"$f":"IF(O321=\"Business Firm billable\",VLOOKUP(A321,'Hourly rates'!$B$2:$E$40,4,FALSE),VLOOKUP(A321,'Hourly rates'!$B$2:$E$40,2,FALSE))","v":12},15]
["O'Brian, Chloe","Business Firm:Administration","Staff",1099,null,1.25,"2014-07-31","2014-08-02","Thu",null,"NonBill","ZZ","2014-08-05","BIZ Research Projects - All Studies - Modifications","BIZ Research Projects",null,{"$f":"IF(O322=\"Business Firm billable\",VLOOKUP(A322,'Hourly rates'!$B$2:$E$40,4,FALSE),VLOOKUP(A322,'Hourly rates'!$B$2:$E$40,2,FALSE))","v":12},{"$f":"Q322*F322","v":15}]
["Dwyer, Andy","Anaconda:Tech Acctg","Intern",1099,null,4,"2014-07-31","2014-08-02","Thu",null,"Admin 6%","ZZ","2014-08-05",null,"Business Firm billable",null,{"$f":"IF(O323=\"Business Firm billable\",VLOOKUP(A323,'Hourly rates'!$B$2:$E$40,4,FALSE),VLOOKUP(A323,'Hourly rates'!$B$2:$E$40,2,FALSE))","v":83},332]
["Dwyer, Andy","Business Firm:Admin SP","Intern",1099,null,2,"2014-07-31","2014-08-02","Thu",null,"NonBill","ZZ","2014-08-05","Special Projects","Special Projects",null,{"$f":"IF(O324=\"Business Firm billable\",VLOOKUP(A324,'Hourly rates'!$B$2:$E$40,4,FALSE),VLOOKUP(A324,'Hourly rates'!$B$2:$E$40,2,FALSE))","v":12},24]
["Dwyer, Andy","Business Firm:Training - trainee","Intern",1099,null,1.25,"2014-07-31","2014-08-02","Thu",null,"NonBill","ZZ","2014-08-05","CFO Compensation Research Project-training","BIZ Research Projects",null,{"$f":"IF(O325=\"Business Firm billable\",VLOOKUP(A325,'Hourly rates'!$B$2:$E$40,4,FALSE),VLOOKUP(A325,'Hourly rates'!$B$2:$E$40,2,FALSE))","v":12},15]
["Delgado, Gloria","Business Firm:Admin SP","Intern",1099,null,4,"2014-08-01","2014-08-02","Fri",null,"NonBill","ZZ","2014-08-05",null,"Special Projects",null,{"$f":"IF(O326=\"Business Firm billable\",VLOOKUP(A326,'Hourly rates'!$B$2:$E$40,4,FALSE),VLOOKUP(A326,'Hourly rates'!$B$2:$E$40,2,FALSE))","v":12},48]
["Wyatt, Ben","Business Firm:Administration","Intern",1099,null,1.25,"2014-08-01","2014-08-02","Fri",null,"NonBill","ZZ","2014-08-05"," BIZ Research Project-IPO Metrics-modification","BIZ Research Projects",null,{"$f":"IF(O327=\"Business Firm billable\",VLOOKUP(A327,'Hourly rates'!$B$2:$E$40,4,FALSE),VLOOKUP(A327,'Hourly rates'!$B$2:$E$40,2,FALSE))","v":12},15]
["Wyatt, Ben","Business Firm:Administration","Intern",1099,null,1.25,"2014-08-01","2014-08-02","Fri",null,"NonBill","ZZ","2014-08-05","BIZ Research Project - Jobs Act-modification","BIZ Research Projects",null,{"$f":"IF(O328=\"Business Firm billable\",VLOOKUP(A328,'Hourly rates'!$B$2:$E$40,4,FALSE),VLOOKUP(A328,'Hourly rates'!$B$2:$E$40,2,FALSE))","v":12},15]
["Wyatt, Ben","Business Firm:Administration","Intern",1099,null,1.25,"2014-08-01","2014-08-02","Fri",null,"NonBill","ZZ","2014-08-05","BIZ Business Firm - Material Weakness-modification","BIZ Research Projects",null,{"$f":"IF(O329=\"Business Firm billable\",VLOOKUP(A329,'Hourly rates'!$B$2:$E$40,4,FALSE),VLOOKUP(A329,'Hourly rates'!$B$2:$E$40,2,FALSE))","v":12},15]
["Meagle, Donna","Business Firm:Admin SP","Intern",1099,null,2,"2014-08-01","2014-08-02","Fri",null,"NonBill","ZZ","2014-08-05",null,"Special Projects",null,{"$f":"IF(O330=\"Business Firm billable\",VLOOKUP(A330,'Hourly rates'!$B$2:$E$40,4,FALSE),VLOOKUP(A330,'Hourly rates'!$B$2:$E$40,2,FALSE))","v":12},24]
["O'Brian, Chloe","Business Firm:Administration","Staff",1099,null,1.25,"2014-08-01","2014-08-02","Fri",null,"NonBill","ZZ","2014-08-05","BIZ Research Projects - All Studies - Modifications","BIZ Research Projects",null,{"$f":"IF(O331=\"Business Firm billable\",VLOOKUP(A331,'Hourly rates'!$B$2:$E$40,4,FALSE),VLOOKUP(A331,'Hourly rates'!$B$2:$E$40,2,FALSE))","v":12},15]
["O'Brian, Chloe","Business Firm:Administration","Staff",1099,null,1,"2014-08-01","2014-08-02","Fri",null,"NonBill","ZZ","2014-08-05","BIZ Research Projects - All Studies - Development of Review Guidelines","BIZ Research Projects",null,{"$f":"IF(O332=\"Business Firm billable\",VLOOKUP(A332,'Hourly rates'!$B$2:$E$40,4,FALSE),VLOOKUP(A332,'Hourly rates'!$B$2:$E$40,2,FALSE))","v":12},12]
["Dwyer, Andy","Anaconda:Tech Acctg","Intern",1099,null,1.25,"2014-08-01","2014-08-02","Fri",null,"Admin 6%","ZZ","2014-08-05",null,"Business Firm billable",null,{"$f":"IF(O333=\"Business Firm billable\",VLOOKUP(A333,'Hourly rates'!$B$2:$E$40,4,FALSE),VLOOKUP(A333,'Hourly rates'!$B$2:$E$40,2,FALSE))","v":83},103.75]
["Delgado, Gloria","Business Firm:Admin SP","Intern",1099,null,2,"2014-08-02","2014-08-02","Sat",null,"NonBill","ZZ","2014-08-05",null,"Special Projects",null,{"$f":"IF(O334=\"Business Firm billable\",VLOOKUP(A334,'Hourly rates'!$B$2:$E$40,4,FALSE),VLOOKUP(A334,'Hourly rates'!$B$2:$E$40,2,FALSE))","v":12},24]
["Wyatt, Ben","Business Firm:Admin SP","Intern",1099,null,1,"2014-08-02","2014-08-02","Sat",null,"NonBill","ZZ","2014-08-05","Special Projects","Special Projects",null,{"$f":"IF(O335=\"Business Firm billable\",VLOOKUP(A335,'Hourly rates'!$B$2:$E$40,4,FALSE),VLOOKUP(A335,'Hourly rates'!$B$2:$E$40,2,FALSE))","v":12},12]
["Haverford, Tom","Business Firm:Admin SP","Staff",1099,null,2,"2014-08-02","2014-08-02","Sat",null,"NonBill","ZZ","2014-08-05","BIZ Project - Special Projects","Special Projects",null,{"$f":"IF(O336=\"Business Firm billable\",VLOOKUP(A336,'Hourly rates'!$B$2:$E$40,4,FALSE),VLOOKUP(A336,'Hourly rates'!$B$2:$E$40,2,FALSE))","v":12},24]
["Dwyer, Andy","Anaconda:Tech Acctg","Intern",1099,null,3,"2014-08-02","2014-08-02","Sat",null,"Admin 6%","ZZ","2014-08-05",null,"Business Firm billable",null,{"$f":"IF(O337=\"Business Firm billable\",VLOOKUP(A337,'Hourly rates'!$B$2:$E$40,4,FALSE),VLOOKUP(A337,'Hourly rates'!$B$2:$E$40,2,FALSE))","v":83},249]
["Dwyer, Andy","Business Firm:Admin SP","Intern",1099,null,1.25,"2014-08-02","2014-08-02","Sat",null,"NonBill","ZZ","2014-08-05","Special Projects","Special Projects",null,{"$f":"IF(O338=\"Business Firm billable\",VLOOKUP(A338,'Hourly rates'!$B$2:$E$40,4,FALSE),VLOOKUP(A338,'Hourly rates'!$B$2:$E$40,2,FALSE))","v":12},15]
["Delgado, Gloria","Business Firm:Admin SP","Intern",1099,null,5,"2014-08-04","2014-08-09","Mon",null,"NonBill","ZZ","Pending","special projects","Special Projects",null,{"$f":"IF(O339=\"Business Firm billable\",VLOOKUP(A339,'Hourly rates'!$B$2:$E$40,4,FALSE),VLOOKUP(A339,'Hourly rates'!$B$2:$E$40,2,FALSE))","v":12},60]
["Delgado, Gloria","Some Client:IPO","Intern",1099,null,4,"2014-08-04","2014-08-09","Mon",null,"Admin 9%","ZZ","Pending","Fund Financials","Business Firm billable",null,{"$f":"IF(O340=\"Business Firm billable\",VLOOKUP(A340,'Hourly rates'!$B$2:$E$40,4,FALSE),VLOOKUP(A340,'Hourly rates'!$B$2:$E$40,2,FALSE))","v":83},332]
["Wyatt, Ben","Business Firm:Admin SP","Intern",1099,null,5,"2014-08-04","2014-08-09","Mon",null,"NonBill","ZZ","Pending","Special Projects","Special Projects",null,{"$f":"IF(O341=\"Business Firm billable\",VLOOKUP(A341,'Hourly rates'!$B$2:$E$40,4,FALSE),VLOOKUP(A341,'Hourly rates'!$B$2:$E$40,2,FALSE))","v":12},60]
["Haverford, Tom","Business Firm:Admin SP","Staff",1099,null,4,"2014-08-04","2014-08-09","Mon",null,"NonBill","ZZ","Pending","BIZ Project - Special Projects","Special Projects",null,{"$f":"IF(O342=\"Business Firm billable\",VLOOKUP(A342,'Hourly rates'!$B$2:$E$40,4,FALSE),VLOOKUP(A342,'Hourly rates'!$B$2:$E$40,2,FALSE))","v":12},48]
["Dwyer, Andy","Business Firm:Admin SP","Intern",1099,null,1.25,"2014-08-04","2014-08-09","Mon",null,"NonBill","ZZ","Pending","Special Projects","Special Projects",null,{"$f":"IF(O343=\"Business Firm billable\",VLOOKUP(A343,'Hourly rates'!$B$2:$E$40,4,FALSE),VLOOKUP(A343,'Hourly rates'!$B$2:$E$40,2,FALSE))","v":12},15]
["Dwyer, Andy","Business Firm:Administration","Intern",1099,null,1.25,"2014-08-04","2014-08-09","Mon",null,"NonBill","ZZ","Pending","BIZ Research Projects-CFO Compensation-Maintenance","BIZ Research Projects",null,{"$f":"IF(O344=\"Business Firm billable\",VLOOKUP(A344,'Hourly rates'!$B$2:$E$40,4,FALSE),VLOOKUP(A344,'Hourly rates'!$B$2:$E$40,2,FALSE))","v":12},15]
["Delgado, Gloria","Business Firm:Admin SP","Intern",1099,null,7,"2014-08-05","2014-08-09","Tue",null,"NonBill","ZZ","Pending","special projects","Special Projects",null,{"$f":"IF(O345=\"Business Firm billable\",VLOOKUP(A345,'Hourly rates'!$B$2:$E$40,4,FALSE),VLOOKUP(A345,'Hourly rates'!$B$2:$E$40,2,FALSE))","v":12},84]
["Delgado, Gloria","Some Client:IPO","Intern",1099,null,2,"2014-08-05","2014-08-09","Tue",null,"Admin 9%","ZZ","Pending","Fund Financials","Business Firm billable",null,{"$f":"IF(O346=\"Business Firm billable\",VLOOKUP(A346,'Hourly rates'!$B$2:$E$40,4,FALSE),VLOOKUP(A346,'Hourly rates'!$B$2:$E$40,2,FALSE))","v":83},166]
["Meagle, Donna","Business Firm:Admin SP","Intern",1099,null,3,"2014-08-05","2014-08-09","Tue",null,"NonBill","ZZ","Pending"," BIZ Research Project - Special Projects","Special Projects",null,{"$f":"IF(O347=\"Business Firm billable\",VLOOKUP(A347,'Hourly rates'!$B$2:$E$40,4,FALSE),VLOOKUP(A347,'Hourly rates'!$B$2:$E$40,2,FALSE))","v":12},36]
["Haverford, Tom","Business Firm:Admin SP","Staff",1099,null,5,"2014-08-05","2014-08-09","Tue",null,"NonBill","ZZ","Pending","BIZ Project - Special Projects","Special Projects",null,{"$f":"IF(O348=\"Business Firm billable\",VLOOKUP(A348,'Hourly rates'!$B$2:$E$40,4,FALSE),VLOOKUP(A348,'Hourly rates'!$B$2:$E$40,2,FALSE))","v":12},60]
["Dwyer, Andy","Business Firm:Admin SP","Intern",1099,null,2,"2014-08-05","2014-08-09","Tue",null,"NonBill","ZZ","Pending","Special Projects","Special Projects",null,{"$f":"IF(O349=\"Business Firm billable\",VLOOKUP(A349,'Hourly rates'!$B$2:$E$40,4,FALSE),VLOOKUP(A349,'Hourly rates'!$B$2:$E$40,2,FALSE))","v":12},24]
["Dwyer, Andy","Business Firm:Administration","Intern",1099,null,1.25,"2014-08-05","2014-08-09","Tue",null,"NonBill","ZZ","Pending","BIZ Research Projects-CFO Compensation-Maintenance","BIZ Research Projects",null,{"$f":"IF(O350=\"Business Firm billable\",VLOOKUP(A350,'Hourly rates'!$B$2:$E$40,4,FALSE),VLOOKUP(A350,'Hourly rates'!$B$2:$E$40,2,FALSE))","v":12},15]
["Delgado, Gloria","Business Firm:Admin SP","Intern",1099,null,2,"2014-08-06","2014-08-09","Wed",null,"NonBill","ZZ","Pending","special projects","Special Projects",null,{"$f":"IF(O351=\"Business Firm billable\",VLOOKUP(A351,'Hourly rates'!$B$2:$E$40,4,FALSE),VLOOKUP(A351,'Hourly rates'!$B$2:$E$40,2,FALSE))","v":12},24]
["Delgado, Gloria","Some Client:IPO","Intern",1099,null,7,"2014-08-06","2014-08-09","Wed",null,"Admin 9%","ZZ","Pending","Fund Financials","Business Firm billable",null,{"$f":"IF(O352=\"Business Firm billable\",VLOOKUP(A352,'Hourly rates'!$B$2:$E$40,4,FALSE),VLOOKUP(A352,'Hourly rates'!$B$2:$E$40,2,FALSE))","v":83},581]
["Meagle, Donna","Business Firm:Admin SP","Intern",1099,null,3,"2014-08-06","2014-08-09","Wed",null,"NonBill","ZZ","Pending"," BIZ Research Project - Special Projects","Special Projects",null,{"$f":"IF(O353=\"Business Firm billable\",VLOOKUP(A353,'Hourly rates'!$B$2:$E$40,4,FALSE),VLOOKUP(A353,'Hourly rates'!$B$2:$E$40,2,FALSE))","v":12},36]
["Haverford, Tom","Business Firm:Admin SP","Staff",1099,null,2,"2014-08-06","2014-08-09","Wed",null,"NonBill","ZZ","Pending","BIZ Project - Special Projects","Special Projects",null,{"$f":"IF(O354=\"Business Firm billable\",VLOOKUP(A354,'Hourly rates'!$B$2:$E$40,4,FALSE),VLOOKUP(A354,'Hourly rates'!$B$2:$E$40,2,FALSE))","v":12},24]
["Dwyer, Andy","Business Firm:Admin SP","Intern",1099,null,1.25,"2014-08-06","2014-08-09","Wed",null,"NonBill","ZZ","Pending","Special Projects","Special Projects",null,{"$f":"IF(O355=\"Business Firm billable\",VLOOKUP(A355,'Hourly rates'!$B$2:$E$40,4,FALSE),VLOOKUP(A355,'Hourly rates'!$B$2:$E$40,2,FALSE))","v":12},15]
["Dwyer, Andy","Business Firm:Administration","Intern",1099,null,1.75,"2014-08-06","2014-08-09","Wed",null,"NonBill","ZZ","Pending","BIZ Research Projects-CFO Compensation-Maintenance","BIZ Research Projects",null,{"$f":"IF(O356=\"Business Firm billable\",VLOOKUP(A356,'Hourly rates'!$B$2:$E$40,4,FALSE),VLOOKUP(A356,'Hourly rates'!$B$2:$E$40,2,FALSE))","v":12},21]
["Delgado, Gloria","Business Firm:Admin SP","Intern",1099,null,1,"2014-08-07","2014-08-09","Thu",null,"NonBill","ZZ","Pending","special projects","Special Projects",null,{"$f":"IF(O357=\"Business Firm billable\",VLOOKUP(A357,'Hourly rates'!$B$2:$E$40,4,FALSE),VLOOKUP(A357,'Hourly rates'!$B$2:$E$40,2,FALSE))","v":12},12]
["Delgado, Gloria","Some Client:IPO","Intern",1099,null,8,"2014-08-07","2014-08-09","Thu",null,"Admin 9%","ZZ","Pending","Fund Financials","Business Firm billable",null,{"$f":"IF(O358=\"Business Firm billable\",VLOOKUP(A358,'Hourly rates'!$B$2:$E$40,4,FALSE),VLOOKUP(A358,'Hourly rates'!$B$2:$E$40,2,FALSE))","v":83},664]
["Wyatt, Ben","Business Firm:Admin SP","Intern",1099,null,2,"2014-08-07","2014-08-09","Thu",null,"NonBill","ZZ","Pending","Special Projects","Special Projects",null,{"$f":"IF(O359=\"Business Firm billable\",VLOOKUP(A359,'Hourly rates'!$B$2:$E$40,4,FALSE),VLOOKUP(A359,'Hourly rates'!$B$2:$E$40,2,FALSE))","v":12},24]
["Wyatt, Ben","Some Client:IPO","Intern",1099,null,5.25,"2014-08-07","2014-08-09","Thu",null,"Admin 9%","ZZ","Pending","Q2","Business Firm billable",null,{"$f":"IF(O360=\"Business Firm billable\",VLOOKUP(A360,'Hourly rates'!$B$2:$E$40,4,FALSE),VLOOKUP(A360,'Hourly rates'!$B$2:$E$40,2,FALSE))","v":83},435.75]
["Meagle, Donna","Business Firm:Admin SP","Intern",1099,null,2,"2014-08-07","2014-08-09","Thu",null,"NonBill","ZZ","Pending"," BIZ Research Project - Special Projects","Special Projects",null,{"$f":"IF(O361=\"Business Firm billable\",VLOOKUP(A361,'Hourly rates'!$B$2:$E$40,4,FALSE),VLOOKUP(A361,'Hourly rates'!$B$2:$E$40,2,FALSE))","v":12},24]
["Dwyer, Andy","Business Firm:Admin SP","Intern",1099,null,5,"2014-08-07","2014-08-09","Thu",null,"NonBill","ZZ","Pending","Special Projects","Special Projects",null,{"$f":"IF(O362=\"Business Firm billable\",VLOOKUP(A362,'Hourly rates'!$B$2:$E$40,4,FALSE),VLOOKUP(A362,'Hourly rates'!$B$2:$E$40,2,FALSE))","v":12},60]
["Dwyer, Andy","Business Firm:Administration","Intern",1099,null,1.25,"2014-08-07","2014-08-09","Thu",null,"NonBill","ZZ","Pending","BIZ Research Projects-CFO Compensation-Maintenance","BIZ Research Projects",null,{"$f":"IF(O363=\"Business Firm billable\",VLOOKUP(A363,'Hourly rates'!$B$2:$E$40,4,FALSE),VLOOKUP(A363,'Hourly rates'!$B$2:$E$40,2,FALSE))","v":12},15]
["Delgado, Gloria","Business Firm:Admin SP","Intern",1099,null,2,"2014-08-08","2014-08-09","Fri",null,"NonBill","ZZ","Pending","special projects","Special Projects",null,{"$f":"IF(O364=\"Business Firm billable\",VLOOKUP(A364,'Hourly rates'!$B$2:$E$40,4,FALSE),VLOOKUP(A364,'Hourly rates'!$B$2:$E$40,2,FALSE))","v":12},24]
["Delgado, Gloria","Some Client:IPO","Intern",1099,null,2,"2014-08-08","2014-08-09","Fri",null,"Admin 9%","ZZ","Pending","Fund Financials","Business Firm billable",null,{"$f":"IF(O365=\"Business Firm billable\",VLOOKUP(A365,'Hourly rates'!$B$2:$E$40,4,FALSE),VLOOKUP(A365,'Hourly rates'!$B$2:$E$40,2,FALSE))","v":83},166]
["Wyatt, Ben","Business Firm:Admin SP","Intern",1099,null,1.25,"2014-08-08","2014-08-09","Fri",null,"NonBill","ZZ","Pending","Special Projects","Special Projects",null,{"$f":"IF(O366=\"Business Firm billable\",VLOOKUP(A366,'Hourly rates'!$B$2:$E$40,4,FALSE),VLOOKUP(A366,'Hourly rates'!$B$2:$E$40,2,FALSE))","v":12},15]
["Meagle, Donna","Business Firm:Admin SP","Intern",1099,null,2,"2014-08-08","2014-08-09","Fri",null,"NonBill","ZZ","Pending"," BIZ Research Project - Special Projects","Special Projects",null,{"$f":"IF(O367=\"Business Firm billable\",VLOOKUP(A367,'Hourly rates'!$B$2:$E$40,4,FALSE),VLOOKUP(A367,'Hourly rates'!$B$2:$E$40,2,FALSE))","v":12},24]
["Dwyer, Andy","Business Firm:Admin SP","Intern",1099,null,1.25,"2014-08-08","2014-08-09","Fri",null,"NonBill","ZZ","Pending","Special Projects","Special Projects",null,{"$f":"IF(O368=\"Business Firm billable\",VLOOKUP(A368,'Hourly rates'!$B$2:$E$40,4,FALSE),VLOOKUP(A368,'Hourly rates'!$B$2:$E$40,2,FALSE))","v":12},15]
["Dwyer, Andy","Business Firm:**Strat","Intern",1099,null,2.75,"2014-08-09","2014-08-09","Sat",null,"NonBill","ZZ","Pending","Updating BIZ Guides","Strat Firm",null,{"$f":"IF(O369=\"Business Firm billable\",VLOOKUP(A369,'Hourly rates'!$B$2:$E$40,4,FALSE),VLOOKUP(A369,'Hourly rates'!$B$2:$E$40,2,FALSE))","v":12},33]
["Delgado, Gloria","Business Firm:Admin SP","Intern",1099,null,4,"2014-08-11","2014-08-16","Mon",null,"NonBill","ZZ","Pending",null,"Special Projects",null,{"$f":"IF(O370=\"Business Firm billable\",VLOOKUP(A370,'Hourly rates'!$B$2:$E$40,4,FALSE),VLOOKUP(A370,'Hourly rates'!$B$2:$E$40,2,FALSE))","v":12},48]
["Delgado, Gloria","Some Client:IPO","Intern",1099,null,4,"2014-08-11","2014-08-16","Mon",null,"Admin 9%","ZZ","Pending",null,"Business Firm billable",null,{"$f":"IF(O371=\"Business Firm billable\",VLOOKUP(A371,'Hourly rates'!$B$2:$E$40,4,FALSE),VLOOKUP(A371,'Hourly rates'!$B$2:$E$40,2,FALSE))","v":83},332]
["Wyatt, Ben","Business Firm:Admin SP","Intern",1099,null,1.25,"2014-08-11","2014-08-16","Mon",null,"NonBill","ZZ","Pending","Special Projects","Special Projects",null,{"$f":"IF(O372=\"Business Firm billable\",VLOOKUP(A372,'Hourly rates'!$B$2:$E$40,4,FALSE),VLOOKUP(A372,'Hourly rates'!$B$2:$E$40,2,FALSE))","v":12},15]
["Haverford, Tom","Business Firm:Admin SP","Staff",1099,null,2,"2014-08-11","2014-08-16","Mon",null,"NonBill","ZZ","Pending","BIZ Project - Special Projects","Special Projects",null,{"$f":"IF(O373=\"Business Firm billable\",VLOOKUP(A373,'Hourly rates'!$B$2:$E$40,4,FALSE),VLOOKUP(A373,'Hourly rates'!$B$2:$E$40,2,FALSE))","v":12},24]
["Dwyer, Andy","Business Firm:**Strat","Intern",1099,null,2.25,"2014-08-11","2014-08-16","Mon",null,"NonBill","ZZ","Pending","Updating BIZ guides","Strat Firm",null,{"$f":"IF(O374=\"Business Firm billable\",VLOOKUP(A374,'Hourly rates'!$B$2:$E$40,4,FALSE),VLOOKUP(A374,'Hourly rates'!$B$2:$E$40,2,FALSE))","v":12},27]
["Dwyer, Andy","Business Firm:Administration","Intern",1099,null,1.25,"2014-08-11","2014-08-16","Mon",null,"NonBill","ZZ","Pending","Special Projects","Special Projects",null,{"$f":"IF(O375=\"Business Firm billable\",VLOOKUP(A375,'Hourly rates'!$B$2:$E$40,4,FALSE),VLOOKUP(A375,'Hourly rates'!$B$2:$E$40,2,FALSE))","v":12},15]
["Delgado, Gloria","Business Firm:Admin SP","Intern",1099,null,2,"2014-08-12","2014-08-16","Tue",null,"NonBill","ZZ","Pending",null,"Special Projects",null,{"$f":"IF(O376=\"Business Firm billable\",VLOOKUP(A376,'Hourly rates'!$B$2:$E$40,4,FALSE),VLOOKUP(A376,'Hourly rates'!$B$2:$E$40,2,FALSE))","v":12},24]
["Delgado, Gloria","Some Client:IPO","Intern",1099,null,6,"2014-08-12","2014-08-16","Tue",null,"Admin 9%","ZZ","Pending",null,"Business Firm billable",null,{"$f":"IF(O377=\"Business Firm billable\",VLOOKUP(A377,'Hourly rates'!$B$2:$E$40,4,FALSE),VLOOKUP(A377,'Hourly rates'!$B$2:$E$40,2,FALSE))","v":83},498]
["Wyatt, Ben","Business Firm:Admin SP","Intern",1099,null,4,"2014-08-12","2014-08-16","Tue",null,"NonBill","ZZ","Pending","Special Projects","Special Projects",null,{"$f":"IF(O378=\"Business Firm billable\",VLOOKUP(A378,'Hourly rates'!$B$2:$E$40,4,FALSE),VLOOKUP(A378,'Hourly rates'!$B$2:$E$40,2,FALSE))","v":12},48]
["Haverford, Tom","Business Firm:Admin SP","Staff",1099,null,3,"2014-08-12","2014-08-16","Tue",null,"NonBill","ZZ","Pending","BIZ Project - Special Projects","Special Projects",null,{"$f":"IF(O379=\"Business Firm billable\",VLOOKUP(A379,'Hourly rates'!$B$2:$E$40,4,FALSE),VLOOKUP(A379,'Hourly rates'!$B$2:$E$40,2,FALSE))","v":12},36]
["Dwyer, Andy","Business Firm:**Strat","Intern",1099,null,1.25,"2014-08-12","2014-08-16","Tue",null,"NonBill","ZZ","Pending","Updating BIZ guides","Strat Firm",null,{"$f":"IF(O380=\"Business Firm billable\",VLOOKUP(A380,'Hourly rates'!$B$2:$E$40,4,FALSE),VLOOKUP(A380,'Hourly rates'!$B$2:$E$40,2,FALSE))","v":12},15]
["Dwyer, Andy","Business Firm:Administration","Intern",1099,null,1.25,"2014-08-12","2014-08-16","Tue",null,"NonBill","ZZ","Pending","Special Projects","Special Projects",null,{"$f":"IF(O381=\"Business Firm billable\",VLOOKUP(A381,'Hourly rates'!$B$2:$E$40,4,FALSE),VLOOKUP(A381,'Hourly rates'!$B$2:$E$40,2,FALSE))","v":12},15]
["Delgado, Gloria","Business Firm:Admin SP","Intern",1099,null,6,"2014-08-13","2014-08-16","Wed",null,"NonBill","ZZ","Pending",null,"Special Projects",null,{"$f":"IF(O382=\"Business Firm billable\",VLOOKUP(A382,'Hourly rates'!$B$2:$E$40,4,FALSE),VLOOKUP(A382,'Hourly rates'!$B$2:$E$40,2,FALSE))","v":12},72]
["Delgado, Gloria","Some Client:IPO","Intern",1099,null,2,"2014-08-13","2014-08-16","Wed",null,"Admin 9%","ZZ","Pending",null,"Business Firm billable",null,{"$f":"IF(O383=\"Business Firm billable\",VLOOKUP(A383,'Hourly rates'!$B$2:$E$40,4,FALSE),VLOOKUP(A383,'Hourly rates'!$B$2:$E$40,2,FALSE))","v":83},166]
["Haverford, Tom","Business Firm:Admin SP","Staff",1099,null,1.25,"2014-08-13","2014-08-16","Wed",null,"NonBill","ZZ","Pending","BIZ Project - Special Projects","Special Projects",null,{"$f":"IF(O384=\"Business Firm billable\",VLOOKUP(A384,'Hourly rates'!$B$2:$E$40,4,FALSE),VLOOKUP(A384,'Hourly rates'!$B$2:$E$40,2,FALSE))","v":12},15]
["Dwyer, Andy","Business Firm:**Strat","Intern",1099,null,1.25,"2014-08-13","2014-08-16","Wed",null,"NonBill","ZZ","Pending","Updating BIZ guides","Strat Firm",null,{"$f":"IF(O385=\"Business Firm billable\",VLOOKUP(A385,'Hourly rates'!$B$2:$E$40,4,FALSE),VLOOKUP(A385,'Hourly rates'!$B$2:$E$40,2,FALSE))","v":12},15]
["Dwyer, Andy","Business Firm:Administration","Intern",1099,null,1.75,"2014-08-13","2014-08-16","Wed",null,"NonBill","ZZ","Pending","Special Projects","Special Projects",null,{"$f":"IF(O386=\"Business Firm billable\",VLOOKUP(A386,'Hourly rates'!$B$2:$E$40,4,FALSE),VLOOKUP(A386,'Hourly rates'!$B$2:$E$40,2,FALSE))","v":12},{"$f":"Q386*F386","v":21}]
["Delgado, Gloria","Business Firm:Admin SP","Intern",1099,null,2,"2014-08-14","2014-08-16","Thu",null,"NonBill","ZZ","Pending",null,"Special Projects",null,{"$f":"IF(O387=\"Business Firm billable\",VLOOKUP(A387,'Hourly rates'!$B$2:$E$40,4,FALSE),VLOOKUP(A387,'Hourly rates'!$B$2:$E$40,2,FALSE))","v":12},24]
["Delgado, Gloria","Some Client:IPO","Intern",1099,null,4,"2014-08-14","2014-08-16","Thu",null,"Admin 9%","ZZ","Pending",null,"Business Firm billable",null,{"$f":"IF(O388=\"Business Firm billable\",VLOOKUP(A388,'Hourly rates'!$B$2:$E$40,4,FALSE),VLOOKUP(A388,'Hourly rates'!$B$2:$E$40,2,FALSE))","v":83},332]
["Wyatt, Ben","Business Firm:Administration","Intern",1099,null,1.75,"2014-08-14","2014-08-16","Thu",null,"NonBill","ZZ","Pending"," BIZ Research Project-IPO Metrics-modification","BIZ Research Projects",null,{"$f":"IF(O389=\"Business Firm billable\",VLOOKUP(A389,'Hourly rates'!$B$2:$E$40,4,FALSE),VLOOKUP(A389,'Hourly rates'!$B$2:$E$40,2,FALSE))","v":12},21]
["Wyatt, Ben","Business Firm:Administration","Intern",1099,null,1.25,"2014-08-14","2014-08-16","Thu",null,"NonBill","ZZ","Pending","BIZ Research Project - Jobs Act-modification","BIZ Research Projects",null,{"$f":"IF(O390=\"Business Firm billable\",VLOOKUP(A390,'Hourly rates'!$B$2:$E$40,4,FALSE),VLOOKUP(A390,'Hourly rates'!$B$2:$E$40,2,FALSE))","v":12},15]
["Haverford, Tom","Business Firm:Admin SP","Staff",1099,null,1.25,"2014-08-14","2014-08-16","Thu",null,"NonBill","ZZ","Pending","BIZ Project - Special Projects","Special Projects",null,{"$f":"IF(O391=\"Business Firm billable\",VLOOKUP(A391,'Hourly rates'!$B$2:$E$40,4,FALSE),VLOOKUP(A391,'Hourly rates'!$B$2:$E$40,2,FALSE))","v":12},15]
["Dwyer, Andy","Business Firm:Administration","Intern",1099,null,1.25,"2014-08-14","2014-08-16","Thu",null,"NonBill","ZZ","Pending","Special Projects","Special Projects",null,{"$f":"IF(O392=\"Business Firm billable\",VLOOKUP(A392,'Hourly rates'!$B$2:$E$40,4,FALSE),VLOOKUP(A392,'Hourly rates'!$B$2:$E$40,2,FALSE))","v":12},15]
["Wyatt, Ben","Business Firm:Administration","Intern",1099,null,1.25,"2014-08-15","2014-08-16","Fri",null,"NonBill","ZZ","Pending","BIZ Research Project - Jobs Act-modification","BIZ Research Projects",null,{"$f":"IF(O393=\"Business Firm billable\",VLOOKUP(A393,'Hourly rates'!$B$2:$E$40,4,FALSE),VLOOKUP(A393,'Hourly rates'!$B$2:$E$40,2,FALSE))","v":12},15]
["Wyatt, Ben","Business Firm:Administration","Intern",1099,null,1.25,"2014-08-15","2014-08-16","Fri",null,"NonBill","ZZ","Pending","BIZ Business Firm - Material Weakness-modification","BIZ Research Projects",null,{"$f":"IF(O394=\"Business Firm billable\",VLOOKUP(A394,'Hourly rates'!$B$2:$E$40,4,FALSE),VLOOKUP(A394,'Hourly rates'!$B$2:$E$40,2,FALSE))","v":12},15]
["Dwyer, Andy","Business Firm:**Strat","Intern",1099,null,2.25,"2014-08-15","2014-08-16","Fri",null,"NonBill","ZZ","Pending","Updating BIZ guides","Strat Firm",null,{"$f":"IF(O395=\"Business Firm billable\",VLOOKUP(A395,'Hourly rates'!$B$2:$E$40,4,FALSE),VLOOKUP(A395,'Hourly rates'!$B$2:$E$40,2,FALSE))","v":12},27]
["Dwyer, Andy","Business Firm:Administration","Intern",1099,null,1,"2014-08-15","2014-08-16","Fri",null,"NonBill","ZZ","Pending","Special Projects","Special Projects",null,{"$f":"IF(O396=\"Business Firm billable\",VLOOKUP(A396,'Hourly rates'!$B$2:$E$40,4,FALSE),VLOOKUP(A396,'Hourly rates'!$B$2:$E$40,2,FALSE))","v":12},12]
["Dwyer, Andy","Business Firm:Administration","Intern",1099,null,1.25,"2014-08-16","2014-08-16","Sat",null,"NonBill","ZZ","Pending","Special Projects","Special Projects",null,{"$f":"IF(O397=\"Business Firm billable\",VLOOKUP(A397,'Hourly rates'!$B$2:$E$40,4,FALSE),VLOOKUP(A397,'Hourly rates'!$B$2:$E$40,2,FALSE))","v":12},15]
["Haverford, Tom","Business Firm:Admin SP","Staff",1099,null,2,"2014-08-18",{"$f":"G398+7-WEEKDAY(G398)","v":"2014-08-23"},"Mon",null,"NonBill","ZZ","2014-08-26","BIZ Project - Special Projects","Special Projects",null,{"$f":"IF(O398=\"Business Firm billable\",VLOOKUP(A398,'Hourly rates'!$B$2:$E$40,4,FALSE),VLOOKUP(A398,'Hourly rates'!$B$2:$E$40,2,FALSE))","v":12},24]
["Dwyer, Andy","Business Firm:Administration","Intern",1099,null,5,"2014-08-18","2014-08-23","Mon",null,"NonBill","ZZ","2014-08-26","Updating BIZ guides","Strat Firm",null,{"$f":"IF(O399=\"Business Firm billable\",VLOOKUP(A399,'Hourly rates'!$B$2:$E$40,4,FALSE),VLOOKUP(A399,'Hourly rates'!$B$2:$E$40,2,FALSE))","v":12},60]
["Haverford, Tom","Business Firm:Admin SP","Staff",1099,null,1,"2014-08-19","2014-08-23","Tue",null,"NonBill","ZZ","2014-08-26","BIZ Project - Special Projects","Special Projects",null,{"$f":"IF(O400=\"Business Firm billable\",VLOOKUP(A400,'Hourly rates'!$B$2:$E$40,4,FALSE),VLOOKUP(A400,'Hourly rates'!$B$2:$E$40,2,FALSE))","v":12},12]
["Dwyer, Andy","Business Firm:Administration","Intern",1099,null,1.25,"2014-08-19","2014-08-23","Tue",null,"NonBill","ZZ","2014-08-26","Updating BIZ guides","Strat Firm",null,{"$f":"IF(O401=\"Business Firm billable\",VLOOKUP(A401,'Hourly rates'!$B$2:$E$40,4,FALSE),VLOOKUP(A401,'Hourly rates'!$B$2:$E$40,2,FALSE))","v":12},15]
["Delgado, Gloria","Business Firm:Admin SP","Intern",1099,null,3,"2014-08-20","2014-08-23","Wed",null,"NonBill","ZZ","2014-08-26","special projects","Special Projects",null,{"$f":"IF(O402=\"Business Firm billable\",VLOOKUP(A402,'Hourly rates'!$B$2:$E$40,4,FALSE),VLOOKUP(A402,'Hourly rates'!$B$2:$E$40,2,FALSE))","v":12},36]
["Delgado, Gloria","Some Client:IPO","Intern",1099,null,5,"2014-08-20","2014-08-23","Wed",null,"Admin 9%","ZZ","2014-08-26","Q2","Business Firm billable",null,{"$f":"IF(O403=\"Business Firm billable\",VLOOKUP(A403,'Hourly rates'!$B$2:$E$40,4,FALSE),VLOOKUP(A403,'Hourly rates'!$B$2:$E$40,2,FALSE))","v":83},415]
["Haverford, Tom","Business Firm:Admin SP","Staff",1099,null,6,"2014-08-20","2014-08-23","Wed",null,"NonBill","ZZ","2014-08-26","BIZ Project - Special Projects","Special Projects",null,{"$f":"IF(O404=\"Business Firm billable\",VLOOKUP(A404,'Hourly rates'!$B$2:$E$40,4,FALSE),VLOOKUP(A404,'Hourly rates'!$B$2:$E$40,2,FALSE))","v":12},72]
["Dwyer, Andy","Entertainment 720:Tech Acctg","Intern",1099,null,1.25,"2014-08-20","2014-08-23","Wed",null,"Admin 5%","ZZ","2014-08-26",null,"Business Firm billable",null,{"$f":"IF(O405=\"Business Firm billable\",VLOOKUP(A405,'Hourly rates'!$B$2:$E$40,4,FALSE),VLOOKUP(A405,'Hourly rates'!$B$2:$E$40,2,FALSE))","v":83},103.75]
["Dwyer, Andy","Business Firm:Admin SP","Intern",1099,null,1.75,"2014-08-20","2014-08-23","Wed",null,"NonBill","ZZ","2014-08-26","Special Projects","Special Projects",null,{"$f":"IF(O406=\"Business Firm billable\",VLOOKUP(A406,'Hourly rates'!$B$2:$E$40,4,FALSE),VLOOKUP(A406,'Hourly rates'!$B$2:$E$40,2,FALSE))","v":12},21]
["Dwyer, Andy","Business Firm:Administration","Intern",1099,null,1.75,"2014-08-20","2014-08-23","Wed",null,"NonBill","ZZ","2014-08-26","Updating BIZ guides","Strat Firm",null,{"$f":"IF(O407=\"Business Firm billable\",VLOOKUP(A407,'Hourly rates'!$B$2:$E$40,4,FALSE),VLOOKUP(A407,'Hourly rates'!$B$2:$E$40,2,FALSE))","v":12},21]
["Delgado, Gloria","Business Firm:Admin SP","Intern",1099,null,3,"2014-08-21","2014-08-23","Thu",null,"NonBill","ZZ","2014-08-26","special projects","Special Projects",null,{"$f":"IF(O408=\"Business Firm billable\",VLOOKUP(A408,'Hourly rates'!$B$2:$E$40,4,FALSE),VLOOKUP(A408,'Hourly rates'!$B$2:$E$40,2,FALSE))","v":12},36]
["Delgado, Gloria","Some Client:IPO","Intern",1099,null,7,"2014-08-21","2014-08-23","Thu",null,"Admin 9%","ZZ","2014-08-26","Q2","Business Firm billable",null,{"$f":"IF(O409=\"Business Firm billable\",VLOOKUP(A409,'Hourly rates'!$B$2:$E$40,4,FALSE),VLOOKUP(A409,'Hourly rates'!$B$2:$E$40,2,FALSE))","v":83},581]
["Meagle, Donna","Business Firm:Admin SP","Intern",1099,null,3,"2014-08-21","2014-08-23","Thu",null,"NonBill","ZZ","2014-08-26"," BIZ Research Project - Special Projects","Special Projects",null,{"$f":"IF(O410=\"Business Firm billable\",VLOOKUP(A410,'Hourly rates'!$B$2:$E$40,4,FALSE),VLOOKUP(A410,'Hourly rates'!$B$2:$E$40,2,FALSE))","v":12},36]
["Haverford, Tom","Business Firm:Admin SP","Staff",1099,null,4,"2014-08-21","2014-08-23","Thu",null,"NonBill","ZZ","2014-08-26","BIZ Project - Special Projects","Special Projects",null,{"$f":"IF(O411=\"Business Firm billable\",VLOOKUP(A411,'Hourly rates'!$B$2:$E$40,4,FALSE),VLOOKUP(A411,'Hourly rates'!$B$2:$E$40,2,FALSE))","v":12},48]
["Dwyer, Andy","Business Firm:Administration","Intern",1099,null,5,"2014-08-21","2014-08-23","Thu",null,"NonBill","ZZ","2014-08-26","Updating BIZ guides","Strat Firm",null,{"$f":"IF(O412=\"Business Firm billable\",VLOOKUP(A412,'Hourly rates'!$B$2:$E$40,4,FALSE),VLOOKUP(A412,'Hourly rates'!$B$2:$E$40,2,FALSE))","v":12},60]
["Delgado, Gloria","Business Firm:Admin SP","Intern",1099,null,2,"2014-08-22","2014-08-23","Fri",null,"NonBill","ZZ","2014-08-26","special projects","Special Projects",null,{"$f":"IF(O413=\"Business Firm billable\",VLOOKUP(A413,'Hourly rates'!$B$2:$E$40,4,FALSE),VLOOKUP(A413,'Hourly rates'!$B$2:$E$40,2,FALSE))","v":12},24]
["Delgado, Gloria","Some Client:IPO","Intern",1099,null,6,"2014-08-22","2014-08-23","Fri",null,"Admin 9%","ZZ","2014-08-26","Q2","Business Firm billable",null,{"$f":"IF(O414=\"Business Firm billable\",VLOOKUP(A414,'Hourly rates'!$B$2:$E$40,4,FALSE),VLOOKUP(A414,'Hourly rates'!$B$2:$E$40,2,FALSE))","v":83},498]
["Meagle, Donna","Business Firm:Admin SP","Intern",1099,null,5,"2014-08-22","2014-08-23","Fri",null,"NonBill","ZZ","2014-08-26"," BIZ Research Project - Special Projects","Special Projects",null,{"$f":"IF(O415=\"Business Firm billable\",VLOOKUP(A415,'Hourly rates'!$B$2:$E$40,4,FALSE),VLOOKUP(A415,'Hourly rates'!$B$2:$E$40,2,FALSE))","v":12},60]
["Dwyer, Andy","Business Firm:Admin SP","Intern",1099,null,1.25,"2014-08-22","2014-08-23","Fri",null,"NonBill","ZZ","2014-08-26","Special Projects","Special Projects",null,{"$f":"IF(O416=\"Business Firm billable\",VLOOKUP(A416,'Hourly rates'!$B$2:$E$40,4,FALSE),VLOOKUP(A416,'Hourly rates'!$B$2:$E$40,2,FALSE))","v":12},15]
["Delgado, Gloria","Business Firm:Admin SP","Intern",1099,null,2,"2014-08-23","2014-08-23","Sat",null,"NonBill","ZZ","2014-08-26","special projects","Special Projects",null,{"$f":"IF(O417=\"Business Firm billable\",VLOOKUP(A417,'Hourly rates'!$B$2:$E$40,4,FALSE),VLOOKUP(A417,'Hourly rates'!$B$2:$E$40,2,FALSE))","v":12},24]
["Meagle, Donna","Business Firm:Admin SP","Intern",1099,null,4,"2014-08-23","2014-08-23","Sat",null,"NonBill","ZZ","2014-08-26"," BIZ Research Project - Special Projects","Special Projects",null,{"$f":"IF(O418=\"Business Firm billable\",VLOOKUP(A418,'Hourly rates'!$B$2:$E$40,4,FALSE),VLOOKUP(A418,'Hourly rates'!$B$2:$E$40,2,FALSE))","v":12},48]
["Dwyer, Andy","Business Firm:Admin SP","Intern",1099,null,3.25,"2014-08-23","2014-08-23","Sat",null,"NonBill","ZZ","2014-08-26","Special Projects","Special Projects",null,{"$f":"IF(O419=\"Business Firm billable\",VLOOKUP(A419,'Hourly rates'!$B$2:$E$40,4,FALSE),VLOOKUP(A419,'Hourly rates'!$B$2:$E$40,2,FALSE))","v":12},39]
["Delgado, Gloria","Business Firm:Admin SP","Intern",1099,null,8,"2014-08-25","2014-08-30","Mon",null,"NonBill","ZZ","Pending","special projects","Special Projects",null,{"$f":"IF(O420=\"Business Firm billable\",VLOOKUP(A420,'Hourly rates'!$B$2:$E$40,4,FALSE),VLOOKUP(A420,'Hourly rates'!$B$2:$E$40,2,FALSE))","v":12},96]
["Wyatt, Ben","Business Firm:Admin SP","Intern",1099,null,5.25,"2014-08-25","2014-08-30","Mon",null,"NonBill","ZZ","Pending","Special Projects","Special Projects",null,{"$f":"IF(O421=\"Business Firm billable\",VLOOKUP(A421,'Hourly rates'!$B$2:$E$40,4,FALSE),VLOOKUP(A421,'Hourly rates'!$B$2:$E$40,2,FALSE))","v":12},63]
["Haverford, Tom","Business Firm:Admin SP","Staff",1099,null,2,"2014-08-25","2014-08-30","Mon",null,"NonBill","ZZ","Pending","BIZ Project - Special Projects","Special Projects",null,{"$f":"IF(O422=\"Business Firm billable\",VLOOKUP(A422,'Hourly rates'!$B$2:$E$40,4,FALSE),VLOOKUP(A422,'Hourly rates'!$B$2:$E$40,2,FALSE))","v":12},24]
["Dwyer, Andy","Business Firm:**Strat","Intern",1099,null,1.25,"2014-08-25","2014-08-30","Mon",null,"NonBill","ZZ","Pending","Updating BIZ guides","Strat Firm",null,{"$f":"IF(O423=\"Business Firm billable\",VLOOKUP(A423,'Hourly rates'!$B$2:$E$40,4,FALSE),VLOOKUP(A423,'Hourly rates'!$B$2:$E$40,2,FALSE))","v":12},15]
["Dwyer, Andy","Business Firm:Admin SP","Intern",1099,null,1.25,"2014-08-25","2014-08-30","Mon",null,"NonBill","ZZ","Pending","Special Projects","Special Projects",null,{"$f":"IF(O424=\"Business Firm billable\",VLOOKUP(A424,'Hourly rates'!$B$2:$E$40,4,FALSE),VLOOKUP(A424,'Hourly rates'!$B$2:$E$40,2,FALSE))","v":12},15]
["Delgado, Gloria","Business Firm:Admin SP","Intern",1099,null,4,"2014-08-26","2014-08-30","Tue",null,"NonBill","ZZ","Pending","special projects","Special Projects",null,{"$f":"IF(O425=\"Business Firm billable\",VLOOKUP(A425,'Hourly rates'!$B$2:$E$40,4,FALSE),VLOOKUP(A425,'Hourly rates'!$B$2:$E$40,2,FALSE))","v":12},48]
["Delgado, Gloria","Business Firm:Administration","Intern",1099,null,4,"2014-08-26","2014-08-30","Tue",null,"NonBill","ZZ","Pending","reviewing rev rec memo for potential client","Other",null,{"$f":"IF(O426=\"Business Firm billable\",VLOOKUP(A426,'Hourly rates'!$B$2:$E$40,4,FALSE),VLOOKUP(A426,'Hourly rates'!$B$2:$E$40,2,FALSE))","v":12},48]
["Wyatt, Ben","Business Firm:Admin SP","Intern",1099,null,3.25,"2014-08-26","2014-08-30","Tue",null,"NonBill","ZZ","Pending","Special Projects","Special Projects",null,{"$f":"IF(O427=\"Business Firm billable\",VLOOKUP(A427,'Hourly rates'!$B$2:$E$40,4,FALSE),VLOOKUP(A427,'Hourly rates'!$B$2:$E$40,2,FALSE))","v":12},39]
["Haverford, Tom","Business Firm:Admin SP","Staff",1099,null,4,"2014-08-26","2014-08-30","Tue",null,"NonBill","ZZ","Pending","BIZ Project - Special Projects","Special Projects",null,{"$f":"IF(O428=\"Business Firm billable\",VLOOKUP(A428,'Hourly rates'!$B$2:$E$40,4,FALSE),VLOOKUP(A428,'Hourly rates'!$B$2:$E$40,2,FALSE))","v":12},48]
["Dwyer, Andy","Business Firm:**Strat","Intern",1099,null,1.75,"2014-08-26","2014-08-30","Tue",null,"NonBill","ZZ","Pending","Updating BIZ guides","Strat Firm",null,{"$f":"IF(O429=\"Business Firm billable\",VLOOKUP(A429,'Hourly rates'!$B$2:$E$40,4,FALSE),VLOOKUP(A429,'Hourly rates'!$B$2:$E$40,2,FALSE))","v":12},21]
["Dwyer, Andy","Business Firm:Admin SP","Intern",1099,null,1.25,"2014-08-26",{"$f":"G430+7-WEEKDAY(G430)","v":"2014-08-30"},"Tue",null,"NonBill","ZZ","Pending","Special Projects","Special Projects",null,{"$f":"IF(O430=\"Business Firm billable\",VLOOKUP(A430,'Hourly rates'!$B$2:$E$40,4,FALSE),VLOOKUP(A430,'Hourly rates'!$B$2:$E$40,2,FALSE))","v":12},15]
["Dwyer, Andy","Business Firm:Administration","Intern",1099,null,1.25,"2014-08-26","2014-08-30","Tue",null,"NonBill","ZZ","Pending","CFO Comp-maintenance","BIZ Research Projects",null,{"$f":"IF(O431=\"Business Firm billable\",VLOOKUP(A431,'Hourly rates'!$B$2:$E$40,4,FALSE),VLOOKUP(A431,'Hourly rates'!$B$2:$E$40,2,FALSE))","v":12},15]
["Delgado, Gloria","Business Firm:Administration","Intern",1099,null,6,"2014-08-27","2014-08-30","Wed",null,"NonBill","ZZ","Pending","reviewing rev rec memo for potential client","Other",null,{"$f":"IF(O432=\"Business Firm billable\",VLOOKUP(A432,'Hourly rates'!$B$2:$E$40,4,FALSE),VLOOKUP(A432,'Hourly rates'!$B$2:$E$40,2,FALSE))","v":12},72]
["Delgado, Gloria","Some Client:Project Parks and Rec","Intern",1099,null,2,"2014-08-27","2014-08-30","Wed",null,"Admin 5%","ZZ","Pending","S1 Tie Out","Business Firm billable",null,{"$f":"IF(O433=\"Business Firm billable\",VLOOKUP(A433,'Hourly rates'!$B$2:$E$40,4,FALSE),VLOOKUP(A433,'Hourly rates'!$B$2:$E$40,2,FALSE))","v":83},166]
["Wyatt, Ben","Business Firm:Admin SP","Intern",1099,null,1.25,"2014-08-27","2014-08-30","Wed",null,"NonBill","ZZ","Pending","Special Projects","Special Projects",null,{"$f":"IF(O434=\"Business Firm billable\",VLOOKUP(A434,'Hourly rates'!$B$2:$E$40,4,FALSE),VLOOKUP(A434,'Hourly rates'!$B$2:$E$40,2,FALSE))","v":12},15]
["Haverford, Tom","Business Firm:Admin SP","Staff",1099,null,2,"2014-08-27","2014-08-30","Wed",null,"NonBill","ZZ","Pending","BIZ Project - Special Projects","Special Projects",null,{"$f":"IF(O435=\"Business Firm billable\",VLOOKUP(A435,'Hourly rates'!$B$2:$E$40,4,FALSE),VLOOKUP(A435,'Hourly rates'!$B$2:$E$40,2,FALSE))","v":12},24]
["Dwyer, Andy","Business Firm:**Strat","Intern",1099,null,4,"2014-08-27","2014-08-30","Wed",null,"NonBill","ZZ","Pending","Updating BIZ guides","Strat Firm",null,{"$f":"IF(O436=\"Business Firm billable\",VLOOKUP(A436,'Hourly rates'!$B$2:$E$40,4,FALSE),VLOOKUP(A436,'Hourly rates'!$B$2:$E$40,2,FALSE))","v":12},48]
["Delgado, Gloria","Some Client:Project Parks and Rec","Intern",1099,null,8,"2014-08-28","2014-08-30","Thu",null,"Admin 5%","ZZ","Pending","S1 Tie Out","Business Firm billable",null,{"$f":"IF(O437=\"Business Firm billable\",VLOOKUP(A437,'Hourly rates'!$B$2:$E$40,4,FALSE),VLOOKUP(A437,'Hourly rates'!$B$2:$E$40,2,FALSE))","v":83},664]
["Wyatt, Ben","Business Firm:Admin SP","Intern",1099,null,1.75,"2014-08-28","2014-08-30","Thu",null,"NonBill","ZZ","Pending","Special Projects","Special Projects",null,{"$f":"IF(O438=\"Business Firm billable\",VLOOKUP(A438,'Hourly rates'!$B$2:$E$40,4,FALSE),VLOOKUP(A438,'Hourly rates'!$B$2:$E$40,2,FALSE))","v":12},21]
["Haverford, Tom","Business Firm:Admin SP","Staff",1099,null,1,"2014-08-28","2014-08-30","Thu",null,"NonBill","ZZ","Pending","BIZ Project - Special Projects","Special Projects",null,{"$f":"IF(O439=\"Business Firm billable\",VLOOKUP(A439,'Hourly rates'!$B$2:$E$40,4,FALSE),VLOOKUP(A439,'Hourly rates'!$B$2:$E$40,2,FALSE))","v":12},12]
["Dwyer, Andy","Business Firm:**Strat","Intern",1099,null,5,"2014-08-28","2014-08-30","Thu",null,"NonBill","ZZ","Pending","Updating BIZ guides","Strat Firm",null,{"$f":"IF(O440=\"Business Firm billable\",VLOOKUP(A440,'Hourly rates'!$B$2:$E$40,4,FALSE),VLOOKUP(A440,'Hourly rates'!$B$2:$E$40,2,FALSE))","v":12},60]
["Dwyer, Andy","Business Firm:Admin SP","Intern",1099,null,1.25,"2014-08-28","2014-08-30","Thu",null,"NonBill","ZZ","Pending","Special Projects","Special Projects",null,{"$f":"IF(O441=\"Business Firm billable\",VLOOKUP(A441,'Hourly rates'!$B$2:$E$40,4,FALSE),VLOOKUP(A441,'Hourly rates'!$B$2:$E$40,2,FALSE))","v":12},15]
["Delgado, Gloria","Business Firm:Admin SP","Intern",1099,null,4,"2014-08-29","2014-08-30","Fri",null,"NonBill","ZZ","Pending","special projects","Special Projects",null,{"$f":"IF(O442=\"Business Firm billable\",VLOOKUP(A442,'Hourly rates'!$B$2:$E$40,4,FALSE),VLOOKUP(A442,'Hourly rates'!$B$2:$E$40,2,FALSE))","v":12},48]
["Delgado, Gloria","Some Client:Project Parks and Rec","Intern",1099,null,4,"2014-08-29","2014-08-30","Fri",null,"Admin 5%","ZZ","Pending","S1 Tie Out","Business Firm billable",null,{"$f":"IF(O443=\"Business Firm billable\",VLOOKUP(A443,'Hourly rates'!$B$2:$E$40,4,FALSE),VLOOKUP(A443,'Hourly rates'!$B$2:$E$40,2,FALSE))","v":83},332]
["Wyatt, Ben","Business Firm:Admin SP","Intern",1099,null,1.25,"2014-08-29","2014-08-30","Fri",null,"NonBill","ZZ","Pending","Special Projects","Special Projects",null,{"$f":"IF(O444=\"Business Firm billable\",VLOOKUP(A444,'Hourly rates'!$B$2:$E$40,4,FALSE),VLOOKUP(A444,'Hourly rates'!$B$2:$E$40,2,FALSE))","v":12},15]
["Wyatt, Ben","Business Firm:Administration","Intern",1099,null,1.75,"2014-08-29","2014-08-30","Fri",null,"NonBill","ZZ","Pending"," BIZ Research Project-IPO Metrics-Maintenance","BIZ Research Projects",null,{"$f":"IF(O445=\"Business Firm billable\",VLOOKUP(A445,'Hourly rates'!$B$2:$E$40,4,FALSE),VLOOKUP(A445,'Hourly rates'!$B$2:$E$40,2,FALSE))","v":12},21]
["Haverford, Tom","Business Firm:Admin SP","Staff",1099,null,1,"2014-08-29","2014-08-30","Fri",null,"NonBill","ZZ","Pending","BIZ Project - Special Projects","Special Projects",null,{"$f":"IF(O446=\"Business Firm billable\",VLOOKUP(A446,'Hourly rates'!$B$2:$E$40,4,FALSE),VLOOKUP(A446,'Hourly rates'!$B$2:$E$40,2,FALSE))","v":12},12]
["Dwyer, Andy","Business Firm:**Strat","Intern",1099,null,1.25,"2014-08-30","2014-08-30","Sat",null,"NonBill","ZZ","Pending","JOBS act-maintenance","BIZ Research Projects",null,{"$f":"IF(O447=\"Business Firm billable\",VLOOKUP(A447,'Hourly rates'!$B$2:$E$40,4,FALSE),VLOOKUP(A447,'Hourly rates'!$B$2:$E$40,2,FALSE))","v":12},15]
["Dwyer, Andy","Business Firm:Admin SP","Intern",1099,null,1.25,"2014-08-30","2014-08-30","Sat",null,"NonBill","ZZ","Pending","Special Projects","Special Projects",null,{"$f":"IF(O448=\"Business Firm billable\",VLOOKUP(A448,'Hourly rates'!$B$2:$E$40,4,FALSE),VLOOKUP(A448,'Hourly rates'!$B$2:$E$40,2,FALSE))","v":12},15]
["Delgado, Gloria","Business Firm:Admin SP","Intern",1099,null,6,"2014-09-01","2014-09-06","Mon",null,"NonBill","ZZ","2014-09-10","special projects","Special Projects",null,{"$f":"IF(O449=\"Business Firm billable\",VLOOKUP(A449,'Hourly rates'!$B$2:$E$40,4,FALSE),VLOOKUP(A449,'Hourly rates'!$B$2:$E$40,2,FALSE))","v":12},72]
["Delgado, Gloria","Some Client:Project Parks and Rec","Intern",1099,null,2,"2014-09-01","2014-09-06","Mon",null,"Admin 5%","ZZ","2014-09-10","S-1 Tie Out","Business Firm billable",null,{"$f":"IF(O450=\"Business Firm billable\",VLOOKUP(A450,'Hourly rates'!$B$2:$E$40,4,FALSE),VLOOKUP(A450,'Hourly rates'!$B$2:$E$40,2,FALSE))","v":83},{"$f":"Q450*F450","v":166}]
["Haverford, Tom","Business Firm:Admin SP","Staff",1099,null,5,"2014-09-01","2014-09-06","Mon",null,"NonBill","ZZ","2014-09-10",null,"Special Projects",null,{"$f":"IF(O451=\"Business Firm billable\",VLOOKUP(A451,'Hourly rates'!$B$2:$E$40,4,FALSE),VLOOKUP(A451,'Hourly rates'!$B$2:$E$40,2,FALSE))","v":12},60]
["Dwyer, Andy","Business Firm:Admin SP","Intern",1099,null,1.25,"2014-09-01","2014-09-06","Mon",null,"NonBill","ZZ","2014-09-10","Special Projects","Special Projects",null,{"$f":"IF(O452=\"Business Firm billable\",VLOOKUP(A452,'Hourly rates'!$B$2:$E$40,4,FALSE),VLOOKUP(A452,'Hourly rates'!$B$2:$E$40,2,FALSE))","v":12},15]
["Delgado, Gloria","Business Firm:Admin SP","Intern",1099,null,8,"2014-09-02","2014-09-06","Tue",null,"NonBill","ZZ","2014-09-10","special projects","Special Projects",null,{"$f":"IF(O453=\"Business Firm billable\",VLOOKUP(A453,'Hourly rates'!$B$2:$E$40,4,FALSE),VLOOKUP(A453,'Hourly rates'!$B$2:$E$40,2,FALSE))","v":12},96]
["Wyatt, Ben","Business Firm:Admin SP","Intern",1099,null,3,"2014-09-02","2014-09-06","Tue",null,"NonBill","ZZ","2014-09-08","Special Projects","Special Projects",null,{"$f":"IF(O454=\"Business Firm billable\",VLOOKUP(A454,'Hourly rates'!$B$2:$E$40,4,FALSE),VLOOKUP(A454,'Hourly rates'!$B$2:$E$40,2,FALSE))","v":12},36]
["Meagle, Donna","Business Firm:Admin SP","Intern",1099,null,2,"2014-09-02","2014-09-06","Tue",null,"NonBill","ZZ","2014-09-08"," BIZ Research Project - Special Projects","Special Projects",null,{"$f":"IF(O455=\"Business Firm billable\",VLOOKUP(A455,'Hourly rates'!$B$2:$E$40,4,FALSE),VLOOKUP(A455,'Hourly rates'!$B$2:$E$40,2,FALSE))","v":12},24]
["Haverford, Tom","Business Firm:Admin SP","Staff",1099,null,1,"2014-09-02","2014-09-06","Tue",null,"NonBill","ZZ","2014-09-10",null,"Special Projects",null,{"$f":"IF(O456=\"Business Firm billable\",VLOOKUP(A456,'Hourly rates'!$B$2:$E$40,4,FALSE),VLOOKUP(A456,'Hourly rates'!$B$2:$E$40,2,FALSE))","v":12},12]
["Dwyer, Andy","Business Firm:Admin SP","Intern",1099,null,1.25,"2014-09-02","2014-09-06","Tue",null,"NonBill","ZZ","2014-09-10","Special Projects","Special Projects",null,{"$f":"IF(O457=\"Business Firm billable\",VLOOKUP(A457,'Hourly rates'!$B$2:$E$40,4,FALSE),VLOOKUP(A457,'Hourly rates'!$B$2:$E$40,2,FALSE))","v":12},15]
["Delgado, Gloria","Business Firm:Admin SP","Intern",1099,null,8,"2014-09-03","2014-09-06","Wed",null,"NonBill","ZZ","2014-09-10","special projects","Special Projects",null,{"$f":"IF(O458=\"Business Firm billable\",VLOOKUP(A458,'Hourly rates'!$B$2:$E$40,4,FALSE),VLOOKUP(A458,'Hourly rates'!$B$2:$E$40,2,FALSE))","v":12},96]
["Wyatt, Ben","Business Firm:Admin SP","Intern",1099,null,2,"2014-09-03","2014-09-06","Wed",null,"NonBill","ZZ","2014-09-08","Special Projects","Special Projects",null,{"$f":"IF(O459=\"Business Firm billable\",VLOOKUP(A459,'Hourly rates'!$B$2:$E$40,4,FALSE),VLOOKUP(A459,'Hourly rates'!$B$2:$E$40,2,FALSE))","v":12},24]
["Haverford, Tom","Business Firm:Admin SP","Staff",1099,null,2,"2014-09-03","2014-09-06","Wed",null,"NonBill","ZZ","2014-09-10",null,"Special Projects",null,{"$f":"IF(O460=\"Business Firm billable\",VLOOKUP(A460,'Hourly rates'!$B$2:$E$40,4,FALSE),VLOOKUP(A460,'Hourly rates'!$B$2:$E$40,2,FALSE))","v":12},24]
["Dwyer, Andy","Business Firm:Admin SP","Intern",1099,null,2,"2014-09-03","2014-09-06","Wed",null,"NonBill","ZZ","2014-09-10","Special Projects","Special Projects",null,{"$f":"IF(O461=\"Business Firm billable\",VLOOKUP(A461,'Hourly rates'!$B$2:$E$40,4,FALSE),VLOOKUP(A461,'Hourly rates'!$B$2:$E$40,2,FALSE))","v":12},24]
["Delgado, Gloria","Business Firm:Admin SP","Intern",1099,null,8,"2014-09-04","2014-09-06","Thu",null,"NonBill","ZZ","2014-09-10","special projects","Special Projects",null,{"$f":"IF(O462=\"Business Firm billable\",VLOOKUP(A462,'Hourly rates'!$B$2:$E$40,4,FALSE),VLOOKUP(A462,'Hourly rates'!$B$2:$E$40,2,FALSE))","v":12},96]
["Wyatt, Ben","Business Firm:Admin SP","Intern",1099,null,1,"2014-09-04","2014-09-06","Thu",null,"NonBill","ZZ","2014-09-08","Special Projects","Special Projects",null,{"$f":"IF(O463=\"Business Firm billable\",VLOOKUP(A463,'Hourly rates'!$B$2:$E$40,4,FALSE),VLOOKUP(A463,'Hourly rates'!$B$2:$E$40,2,FALSE))","v":12},12]
["Meagle, Donna","Business Firm:Admin SP","Intern",1099,null,2,"2014-09-04","2014-09-06","Thu",null,"NonBill","ZZ","2014-09-08"," BIZ Research Project - Special Projects","Special Projects",null,{"$f":"IF(O464=\"Business Firm billable\",VLOOKUP(A464,'Hourly rates'!$B$2:$E$40,4,FALSE),VLOOKUP(A464,'Hourly rates'!$B$2:$E$40,2,FALSE))","v":12},24]
["Haverford, Tom","Business Firm:Admin SP","Staff",1099,null,2,"2014-09-04","2014-09-06","Thu",null,"NonBill","ZZ","2014-09-10",null,"Special Projects",null,{"$f":"IF(O465=\"Business Firm billable\",VLOOKUP(A465,'Hourly rates'!$B$2:$E$40,4,FALSE),VLOOKUP(A465,'Hourly rates'!$B$2:$E$40,2,FALSE))","v":12},24]
["Delgado, Gloria","Business Firm:Admin SP","Intern",1099,null,8,"2014-09-05","2014-09-06","Fri",null,"NonBill","ZZ","2014-09-10","special projects","Special Projects",null,{"$f":"IF(O466=\"Business Firm billable\",VLOOKUP(A466,'Hourly rates'!$B$2:$E$40,4,FALSE),VLOOKUP(A466,'Hourly rates'!$B$2:$E$40,2,FALSE))","v":12},96]
["Meagle, Donna","Business Firm:**Strat","Intern",1099,null,1.25,"2014-09-05","2014-09-06","Fri",null,"NonBill","ZZ","2014-09-08"," Statement 123(R) PIR Report","Strat Firm",null,{"$f":"IF(O467=\"Business Firm billable\",VLOOKUP(A467,'Hourly rates'!$B$2:$E$40,4,FALSE),VLOOKUP(A467,'Hourly rates'!$B$2:$E$40,2,FALSE))","v":12},15]
["Meagle, Donna","Business Firm:Admin SP","Intern",1099,null,2,"2014-09-05","2014-09-06","Fri",null,"NonBill","ZZ","2014-09-08"," BIZ Research Project - Special Projects","Special Projects",null,{"$f":"IF(O468=\"Business Firm billable\",VLOOKUP(A468,'Hourly rates'!$B$2:$E$40,4,FALSE),VLOOKUP(A468,'Hourly rates'!$B$2:$E$40,2,FALSE))","v":12},24]
["Meagle, Donna","Business Firm:Admin SP","Intern",1099,null,2,"2014-09-06","2014-09-06","Sat",null,"NonBill","ZZ","2014-09-08"," BIZ Research Project - Special Projects","Special Projects",null,{"$f":"IF(O469=\"Business Firm billable\",VLOOKUP(A469,'Hourly rates'!$B$2:$E$40,4,FALSE),VLOOKUP(A469,'Hourly rates'!$B$2:$E$40,2,FALSE))","v":12},24]
["Delgado, Gloria","Business Firm:Admin SP","Intern",1099,null,8,"2014-09-08","2014-09-13","Mon",null,"NonBill","ZZ","2014-09-19","special projects","Special Projects",null,{"$f":"IF(O470=\"Business Firm billable\",VLOOKUP(A470,'Hourly rates'!$B$2:$E$40,4,FALSE),VLOOKUP(A470,'Hourly rates'!$B$2:$E$40,2,FALSE))","v":12},96]
["Wyatt, Ben","Business Firm:Administration","Intern",1099,null,1,"2014-09-08","2014-09-13","Mon",null,"NonBill","ZZ","2014-09-19"," BIZ Research Project-IPO Metrics-Maintenance","BIZ Research Projects",null,{"$f":"IF(O471=\"Business Firm billable\",VLOOKUP(A471,'Hourly rates'!$B$2:$E$40,4,FALSE),VLOOKUP(A471,'Hourly rates'!$B$2:$E$40,2,FALSE))","v":12},12]
["Wyatt, Ben","Business Firm:Administration","Intern",1099,null,1,"2014-09-08","2014-09-13","Mon",null,"NonBill","ZZ","2014-09-19","BIZ Research Project - Jobs Act-Maintenance","BIZ Research Projects",null,{"$f":"IF(O472=\"Business Firm billable\",VLOOKUP(A472,'Hourly rates'!$B$2:$E$40,4,FALSE),VLOOKUP(A472,'Hourly rates'!$B$2:$E$40,2,FALSE))","v":12},12]
["Dwyer, Andy","Business Firm:Admin SP","Intern",1099,null,1.25,"2014-09-08","2014-09-13","Mon",null,"NonBill","ZZ","2014-09-19","Special Projects","Special Projects",null,{"$f":"IF(O473=\"Business Firm billable\",VLOOKUP(A473,'Hourly rates'!$B$2:$E$40,4,FALSE),VLOOKUP(A473,'Hourly rates'!$B$2:$E$40,2,FALSE))","v":12},15]
["Delgado, Gloria","Business Firm:Admin SP","Intern",1099,null,8,"2014-09-09","2014-09-13","Tue",null,"NonBill","ZZ","2014-09-19","special projects","Special Projects",null,{"$f":"IF(O474=\"Business Firm billable\",VLOOKUP(A474,'Hourly rates'!$B$2:$E$40,4,FALSE),VLOOKUP(A474,'Hourly rates'!$B$2:$E$40,2,FALSE))","v":12},96]
["Wyatt, Ben","Business Firm:Admin SP","Intern",1099,null,1,"2014-09-09","2014-09-13","Tue",null,"NonBill","ZZ","2014-09-19","Special Projects","Special Projects",null,{"$f":"IF(O475=\"Business Firm billable\",VLOOKUP(A475,'Hourly rates'!$B$2:$E$40,4,FALSE),VLOOKUP(A475,'Hourly rates'!$B$2:$E$40,2,FALSE))","v":12},12]
["Haverford, Tom","Business Firm:Administration","Staff",1099,null,2,"2014-09-09","2014-09-13","Tue",null,"NonBill","ZZ","2014-09-19","BIZ Project - Special Projects","Special Projects",null,{"$f":"IF(O476=\"Business Firm billable\",VLOOKUP(A476,'Hourly rates'!$B$2:$E$40,4,FALSE),VLOOKUP(A476,'Hourly rates'!$B$2:$E$40,2,FALSE))","v":12},24]
["Dwyer, Andy","Business Firm:Admin SP","Intern",1099,null,1.25,"2014-09-09","2014-09-13","Tue",null,"NonBill","ZZ","2014-09-19","Special Projects","Special Projects",null,{"$f":"IF(O477=\"Business Firm billable\",VLOOKUP(A477,'Hourly rates'!$B$2:$E$40,4,FALSE),VLOOKUP(A477,'Hourly rates'!$B$2:$E$40,2,FALSE))","v":12},15]
["Delgado, Gloria","Business Firm:Admin SP","Intern",1099,null,8,"2014-09-10","2014-09-13","Wed",null,"NonBill","ZZ","2014-09-19","special projects","Special Projects",null,{"$f":"IF(O478=\"Business Firm billable\",VLOOKUP(A478,'Hourly rates'!$B$2:$E$40,4,FALSE),VLOOKUP(A478,'Hourly rates'!$B$2:$E$40,2,FALSE))","v":12},96]
["Wyatt, Ben","Business Firm:Admin SP","Intern",1099,null,3,"2014-09-10","2014-09-13","Wed",null,"NonBill","ZZ","2014-09-19","Special Projects","Special Projects",null,{"$f":"IF(O479=\"Business Firm billable\",VLOOKUP(A479,'Hourly rates'!$B$2:$E$40,4,FALSE),VLOOKUP(A479,'Hourly rates'!$B$2:$E$40,2,FALSE))","v":12},36]
["Wyatt, Ben","Business Firm:Administration","Intern",1099,null,2,"2014-09-10","2014-09-13","Wed",null,"NonBill","ZZ","2014-09-19"," BIZ Research Project-IPO Metrics-Maintenance","BIZ Research Projects",null,{"$f":"IF(O480=\"Business Firm billable\",VLOOKUP(A480,'Hourly rates'!$B$2:$E$40,4,FALSE),VLOOKUP(A480,'Hourly rates'!$B$2:$E$40,2,FALSE))","v":12},24]
["Wyatt, Ben","Business Firm:Administration","Intern",1099,null,2,"2014-09-10","2014-09-13","Wed",null,"NonBill","ZZ","2014-09-19","BIZ Research Project - Jobs Act-Maintenance","BIZ Research Projects",null,{"$f":"IF(O481=\"Business Firm billable\",VLOOKUP(A481,'Hourly rates'!$B$2:$E$40,4,FALSE),VLOOKUP(A481,'Hourly rates'!$B$2:$E$40,2,FALSE))","v":12},24]
["Meagle, Donna","Business Firm:Admin SP","Intern",1099,null,3,"2014-09-10","2014-09-13","Wed",null,"NonBill","ZZ","2014-09-19"," BIZ Research Project - Special Projects","Special Projects",null,{"$f":"IF(O482=\"Business Firm billable\",VLOOKUP(A482,'Hourly rates'!$B$2:$E$40,4,FALSE),VLOOKUP(A482,'Hourly rates'!$B$2:$E$40,2,FALSE))","v":12},36]
["Dwyer, Andy","Business Firm:Administration","Intern",1099,null,1.25,"2014-09-10","2014-09-13","Wed",null,"NonBill","ZZ","2014-09-19","Research Studies-multiple","BIZ Research Projects",null,{"$f":"IF(O483=\"Business Firm billable\",VLOOKUP(A483,'Hourly rates'!$B$2:$E$40,4,FALSE),VLOOKUP(A483,'Hourly rates'!$B$2:$E$40,2,FALSE))","v":12},15]
["Delgado, Gloria","Business Firm:Admin SP","Intern",1099,null,2,"2014-09-11","2014-09-13","Thu",null,"NonBill","ZZ","2014-09-19","special projects","Special Projects",null,{"$f":"IF(O484=\"Business Firm billable\",VLOOKUP(A484,'Hourly rates'!$B$2:$E$40,4,FALSE),VLOOKUP(A484,'Hourly rates'!$B$2:$E$40,2,FALSE))","v":12},24]
["Delgado, Gloria","Some Client:IPO","Intern",1099,null,6,"2014-09-11","2014-09-13","Thu",null,"Admin 9%","ZZ","2014-09-19","Lease Fee Analysis","Business Firm billable",null,{"$f":"IF(O485=\"Business Firm billable\",VLOOKUP(A485,'Hourly rates'!$B$2:$E$40,4,FALSE),VLOOKUP(A485,'Hourly rates'!$B$2:$E$40,2,FALSE))","v":83},498]
["Wyatt, Ben","Business Firm:Admin SP","Intern",1099,null,1.25,"2014-09-11","2014-09-13","Thu",null,"NonBill","ZZ","2014-09-19","Special Projects","Special Projects",null,{"$f":"IF(O486=\"Business Firm billable\",VLOOKUP(A486,'Hourly rates'!$B$2:$E$40,4,FALSE),VLOOKUP(A486,'Hourly rates'!$B$2:$E$40,2,FALSE))","v":12},15]
["Meagle, Donna","Business Firm:Admin SP","Intern",1099,null,3,"2014-09-11","2014-09-13","Thu",null,"NonBill","ZZ","2014-09-19"," BIZ Research Project - Special Projects","Special Projects",null,{"$f":"IF(O487=\"Business Firm billable\",VLOOKUP(A487,'Hourly rates'!$B$2:$E$40,4,FALSE),VLOOKUP(A487,'Hourly rates'!$B$2:$E$40,2,FALSE))","v":12},36]
["Haverford, Tom","Business Firm:Administration","Staff",1099,null,2,"2014-09-11","2014-09-13","Thu",null,"NonBill","ZZ","2014-09-19","BIZ Project - Special Projects","Special Projects",null,{"$f":"IF(O488=\"Business Firm billable\",VLOOKUP(A488,'Hourly rates'!$B$2:$E$40,4,FALSE),VLOOKUP(A488,'Hourly rates'!$B$2:$E$40,2,FALSE))","v":12},24]
["Dwyer, Andy","Business Firm:Admin SP","Intern",1099,null,1.25,"2014-09-11","2014-09-13","Thu",null,"NonBill","ZZ","2014-09-19","Special Projects","Special Projects",null,{"$f":"IF(O489=\"Business Firm billable\",VLOOKUP(A489,'Hourly rates'!$B$2:$E$40,4,FALSE),VLOOKUP(A489,'Hourly rates'!$B$2:$E$40,2,FALSE))","v":12},15]
["Dwyer, Andy","Business Firm:Administration","Intern",1099,null,1.25,"2014-09-11","2014-09-13","Thu",null,"NonBill","ZZ","2014-09-19","Research Studies-multiple","BIZ Research Projects",null,{"$f":"IF(O490=\"Business Firm billable\",VLOOKUP(A490,'Hourly rates'!$B$2:$E$40,4,FALSE),VLOOKUP(A490,'Hourly rates'!$B$2:$E$40,2,FALSE))","v":12},15]
["Delgado, Gloria","Business Firm:Admin SP","Intern",1099,null,2,"2014-09-12","2014-09-13","Fri",null,"NonBill","ZZ","2014-09-19","special projects","Special Projects",null,{"$f":"IF(O491=\"Business Firm billable\",VLOOKUP(A491,'Hourly rates'!$B$2:$E$40,4,FALSE),VLOOKUP(A491,'Hourly rates'!$B$2:$E$40,2,FALSE))","v":12},24]
["Delgado, Gloria","Some Client:IPO","Intern",1099,null,6,"2014-09-12","2014-09-13","Fri",null,"Admin 9%","ZZ","2014-09-19","Lease Fee Analysis","Business Firm billable",null,{"$f":"IF(O492=\"Business Firm billable\",VLOOKUP(A492,'Hourly rates'!$B$2:$E$40,4,FALSE),VLOOKUP(A492,'Hourly rates'!$B$2:$E$40,2,FALSE))","v":83},498]
["Wyatt, Ben","Business Firm:Admin SP","Intern",1099,null,1.25,"2014-09-12","2014-09-13","Fri",null,"NonBill","ZZ","2014-09-19","Special Projects","Special Projects",null,{"$f":"IF(O493=\"Business Firm billable\",VLOOKUP(A493,'Hourly rates'!$B$2:$E$40,4,FALSE),VLOOKUP(A493,'Hourly rates'!$B$2:$E$40,2,FALSE))","v":12},15]
["Meagle, Donna","Business Firm:Admin SP","Intern",1099,null,2,"2014-09-12","2014-09-13","Fri",null,"NonBill","ZZ","2014-09-19"," BIZ Research Project - Special Projects","Special Projects",null,{"$f":"IF(O494=\"Business Firm billable\",VLOOKUP(A494,'Hourly rates'!$B$2:$E$40,4,FALSE),VLOOKUP(A494,'Hourly rates'!$B$2:$E$40,2,FALSE))","v":12},24]
["Dwyer, Andy","Business Firm:Admin SP","Intern",1099,null,1.25,"2014-09-12","2014-09-13","Fri",null,"NonBill","ZZ","2014-09-19","Special Projects","Special Projects",null,{"$f":"IF(O495=\"Business Firm billable\",VLOOKUP(A495,'Hourly rates'!$B$2:$E$40,4,FALSE),VLOOKUP(A495,'Hourly rates'!$B$2:$E$40,2,FALSE))","v":12},15]
["Dwyer, Andy","Business Firm:Administration","Intern",1099,null,1.25,"2014-09-12","2014-09-13","Fri",null,"NonBill","ZZ","2014-09-19","Research Studies-multiple","BIZ Research Projects",null,{"$f":"IF(O496=\"Business Firm billable\",VLOOKUP(A496,'Hourly rates'!$B$2:$E$40,4,FALSE),VLOOKUP(A496,'Hourly rates'!$B$2:$E$40,2,FALSE))","v":12},15]
["Haverford, Tom","Business Firm:Administration","Staff",1099,null,5,"2014-09-13","2014-09-13","Sat",null,"NonBill","ZZ","2014-09-19","BIZ Project - Special Projects","Special Projects",null,{"$f":"IF(O497=\"Business Firm billable\",VLOOKUP(A497,'Hourly rates'!$B$2:$E$40,4,FALSE),VLOOKUP(A497,'Hourly rates'!$B$2:$E$40,2,FALSE))","v":12},60]
["Delgado, Gloria","Some Client:IPO","Intern",1099,null,8,"2014-09-15","2014-09-20","Mon",null,"Admin 9%","ZZ","Pending","S-1 Tie Out","Business Firm billable",null,{"$f":"IF(O498=\"Business Firm billable\",VLOOKUP(A498,'Hourly rates'!$B$2:$E$40,4,FALSE),VLOOKUP(A498,'Hourly rates'!$B$2:$E$40,2,FALSE))","v":83},664]
["Wyatt, Ben","Business Firm:Admin SP","Intern",1099,null,1,"2014-09-15","2014-09-20","Mon",null,"NonBill","ZZ","Pending","Special Projects","Special Projects",null,{"$f":"IF(O499=\"Business Firm billable\",VLOOKUP(A499,'Hourly rates'!$B$2:$E$40,4,FALSE),VLOOKUP(A499,'Hourly rates'!$B$2:$E$40,2,FALSE))","v":12},12]
["Wyatt, Ben","Business Firm:Administration","Intern",1099,null,1,"2014-09-15","2014-09-20","Mon",null,"NonBill","ZZ","Pending"," BIZ Research Project-IPO Metrics-Maintenance","BIZ Research Projects",null,{"$f":"IF(O500=\"Business Firm billable\",VLOOKUP(A500,'Hourly rates'!$B$2:$E$40,4,FALSE),VLOOKUP(A500,'Hourly rates'!$B$2:$E$40,2,FALSE))","v":12},12]
["Wyatt, Ben","Business Firm:Administration","Intern",1099,null,1,"2014-09-15","2014-09-20","Mon",null,"NonBill","ZZ","Pending","BIZ Research Project - Jobs Act-Maintenance","BIZ Research Projects",null,{"$f":"IF(O501=\"Business Firm billable\",VLOOKUP(A501,'Hourly rates'!$B$2:$E$40,4,FALSE),VLOOKUP(A501,'Hourly rates'!$B$2:$E$40,2,FALSE))","v":12},12]
["Almeida, Tony","Business Firm:Admin SP","Intern",1099,null,1,"2014-09-15","2014-09-20","Mon",null,"NonBill","ZZ","Pending","Special Projects","Special Projects",null,{"$f":"IF(O502=\"Business Firm billable\",VLOOKUP(A502,'Hourly rates'!$B$2:$E$40,4,FALSE),VLOOKUP(A502,'Hourly rates'!$B$2:$E$40,2,FALSE))","v":12},12,null,{"$f":"A502&B502&C502&D502&E502&F502&G502&H502&I502&K502&N502&O502","v":"Almeida, TonyBusiness Firm:Admin SPIntern109914189741902MonNonBillSpecial ProjectsSpecial Projects"}," "]
["Dwyer, Andy","Business Firm:Admin SP","Intern",1099,null,1.25,"2014-09-15","2014-09-20","Mon",null,"NonBill","ZZ","Pending","Special Projects","Special Projects",null,{"$f":"IF(O503=\"Business Firm billable\",VLOOKUP(A503,'Hourly rates'!$B$2:$E$40,4,FALSE),VLOOKUP(A503,'Hourly rates'!$B$2:$E$40,2,FALSE))","v":12},15]
["Dwyer, Andy","Business Firm:Administration","Intern",1099,null,1.25,"2014-09-15","2014-09-20","Mon",null,"NonBill","ZZ","Pending","Research Studies-multiple","BIZ Research Projects",null,{"$f":"IF(O504=\"Business Firm billable\",VLOOKUP(A504,'Hourly rates'!$B$2:$E$40,4,FALSE),VLOOKUP(A504,'Hourly rates'!$B$2:$E$40,2,FALSE))","v":12},15]
["Delgado, Gloria","Business Firm:Admin SP","Intern",1099,null,3,"2014-09-16","2014-09-20","Tue",null,"NonBill","ZZ","Pending",null,"Special Projects",null,{"$f":"IF(O505=\"Business Firm billable\",VLOOKUP(A505,'Hourly rates'!$B$2:$E$40,4,FALSE),VLOOKUP(A505,'Hourly rates'!$B$2:$E$40,2,FALSE))","v":12},36]
["Delgado, Gloria","Some Client:IPO","Intern",1099,null,6,"2014-09-16","2014-09-20","Tue",null,"Admin 9%","ZZ","Pending","S-1 Tie Out","Business Firm billable",null,{"$f":"IF(O506=\"Business Firm billable\",VLOOKUP(A506,'Hourly rates'!$B$2:$E$40,4,FALSE),VLOOKUP(A506,'Hourly rates'!$B$2:$E$40,2,FALSE))","v":83},498]
["Wyatt, Ben","Business Firm:Admin SP","Intern",1099,null,1.25,"2014-09-16","2014-09-20","Tue",null,"NonBill","ZZ","Pending","Special Projects","Special Projects",null,{"$f":"IF(O507=\"Business Firm billable\",VLOOKUP(A507,'Hourly rates'!$B$2:$E$40,4,FALSE),VLOOKUP(A507,'Hourly rates'!$B$2:$E$40,2,FALSE))","v":12},15]
["Dwyer, Andy","Business Firm:Administration","Intern",1099,null,1.25,"2014-09-16","2014-09-20","Tue",null,"NonBill","ZZ","Pending","Research Studies-multiple","BIZ Research Projects",null,{"$f":"IF(O508=\"Business Firm billable\",VLOOKUP(A508,'Hourly rates'!$B$2:$E$40,4,FALSE),VLOOKUP(A508,'Hourly rates'!$B$2:$E$40,2,FALSE))","v":12},15]
["Delgado, Gloria","Business Firm:Admin SP","Intern",1099,null,2,"2014-09-17","2014-09-20","Wed",null,"NonBill","ZZ","Pending",null,"Special Projects",null,{"$f":"IF(O509=\"Business Firm billable\",VLOOKUP(A509,'Hourly rates'!$B$2:$E$40,4,FALSE),VLOOKUP(A509,'Hourly rates'!$B$2:$E$40,2,FALSE))","v":12},24]
["Delgado, Gloria","Business Firm:Administration","Intern",1099,null,10,"2014-09-17","2014-09-20","Wed",null,"NonBill","ZZ","Pending",null,"Other",null,{"$f":"IF(O510=\"Business Firm billable\",VLOOKUP(A510,'Hourly rates'!$B$2:$E$40,4,FALSE),VLOOKUP(A510,'Hourly rates'!$B$2:$E$40,2,FALSE))","v":12},120]
["Wyatt, Ben","Business Firm:Admin SP","Intern",1099,null,1.25,"2014-09-17","2014-09-20","Wed",null,"NonBill","ZZ","Pending","Special Projects","Special Projects",null,{"$f":"IF(O511=\"Business Firm billable\",VLOOKUP(A511,'Hourly rates'!$B$2:$E$40,4,FALSE),VLOOKUP(A511,'Hourly rates'!$B$2:$E$40,2,FALSE))","v":12},15]
["Wyatt, Ben","Business Firm:Administration","Intern",1099,null,1,"2014-09-17","2014-09-20","Wed",null,"NonBill","ZZ","Pending"," BIZ Research Project-IPO Metrics-Maintenance","BIZ Research Projects",null,{"$f":"IF(O512=\"Business Firm billable\",VLOOKUP(A512,'Hourly rates'!$B$2:$E$40,4,FALSE),VLOOKUP(A512,'Hourly rates'!$B$2:$E$40,2,FALSE))","v":12},12]
["Wyatt, Ben","Business Firm:Administration","Intern",1099,null,1,"2014-09-17","2014-09-20","Wed",null,"NonBill","ZZ","Pending","BIZ Research Project - Jobs Act-Maintenance","BIZ Research Projects",null,{"$f":"IF(O513=\"Business Firm billable\",VLOOKUP(A513,'Hourly rates'!$B$2:$E$40,4,FALSE),VLOOKUP(A513,'Hourly rates'!$B$2:$E$40,2,FALSE))","v":12},12]
["Almeida, Tony","Business Firm:Admin SP","Intern",1099,null,2,"2014-09-17","2014-09-20","Wed",null,"NonBill","ZZ","Pending","Special Projects","Special Projects",null,{"$f":"IF(O514=\"Business Firm billable\",VLOOKUP(A514,'Hourly rates'!$B$2:$E$40,4,FALSE),VLOOKUP(A514,'Hourly rates'!$B$2:$E$40,2,FALSE))","v":12},{"$f":"Q514*F514","v":24},null,{"$f":"A514&B514&C514&D514&E514&F514&G514&H514&I514&K514&N514&O514","v":"Almeida, TonyBusiness Firm:Admin SPIntern109924189941902WedNonBillSpecial ProjectsSpecial Projects"}," "]
["Dwyer, Andy","Business Firm:Admin SP","Intern",1099,null,1.25,"2014-09-17","2014-09-20","Wed",null,"NonBill","ZZ","Pending","Special Projects","Special Projects",null,{"$f":"IF(O515=\"Business Firm billable\",VLOOKUP(A515,'Hourly rates'!$B$2:$E$40,4,FALSE),VLOOKUP(A515,'Hourly rates'!$B$2:$E$40,2,FALSE))","v":12},15]
["Dwyer, Andy","Business Firm:Administration","Intern",1099,null,1.25,"2014-09-17","2014-09-20","Wed",null,"NonBill","ZZ","Pending","Research Studies-multiple","BIZ Research Projects",null,{"$f":"IF(O516=\"Business Firm billable\",VLOOKUP(A516,'Hourly rates'!$B$2:$E$40,4,FALSE),VLOOKUP(A516,'Hourly rates'!$B$2:$E$40,2,FALSE))","v":12},15]
["Delgado, Gloria","Business Firm:Admin SP","Intern",1099,null,2,"2014-09-18","2014-09-20","Thu",null,"NonBill","ZZ","Pending",null,"Special Projects",null,{"$f":"IF(O517=\"Business Firm billable\",VLOOKUP(A517,'Hourly rates'!$B$2:$E$40,4,FALSE),VLOOKUP(A517,'Hourly rates'!$B$2:$E$40,2,FALSE))","v":12},24]
["Delgado, Gloria","Business Firm:Administration","Intern",1099,null,4,"2014-09-18","2014-09-20","Thu",null,"NonBill","ZZ","Pending",null,"Other",null,{"$f":"IF(O518=\"Business Firm billable\",VLOOKUP(A518,'Hourly rates'!$B$2:$E$40,4,FALSE),VLOOKUP(A518,'Hourly rates'!$B$2:$E$40,2,FALSE))","v":12},48]
["Delgado, Gloria","Some Client:IPO","Intern",1099,null,2,"2014-09-18","2014-09-20","Thu",null,"Admin 9%","ZZ","Pending","IC Project","Business Firm billable",null,{"$f":"IF(O519=\"Business Firm billable\",VLOOKUP(A519,'Hourly rates'!$B$2:$E$40,4,FALSE),VLOOKUP(A519,'Hourly rates'!$B$2:$E$40,2,FALSE))","v":83},166]
["Wyatt, Ben","Business Firm:Admin SP","Intern",1099,null,1.75,"2014-09-18","2014-09-20","Thu",null,"NonBill","ZZ","Pending","Special Projects","Special Projects",null,{"$f":"IF(O520=\"Business Firm billable\",VLOOKUP(A520,'Hourly rates'!$B$2:$E$40,4,FALSE),VLOOKUP(A520,'Hourly rates'!$B$2:$E$40,2,FALSE))","v":12},21]
["Almeida, Tony","Business Firm:Admin SP","Intern",1099,null,1,"2014-09-18","2014-09-20","Thu",null,"NonBill","ZZ","Pending","Special Projects","Special Projects",null,{"$f":"IF(O521=\"Business Firm billable\",VLOOKUP(A521,'Hourly rates'!$B$2:$E$40,4,FALSE),VLOOKUP(A521,'Hourly rates'!$B$2:$E$40,2,FALSE))","v":12},12,null,{"$f":"A521&B521&C521&D521&E521&F521&G521&H521&I521&K521&N521&O521","v":"Almeida, TonyBusiness Firm:Admin SPIntern109914190041902ThuNonBillSpecial ProjectsSpecial Projects"}," "]
["Dwyer, Andy","Business Firm:Admin SP","Intern",1099,null,1.25,"2014-09-18","2014-09-20","Thu",null,"NonBill","ZZ","Pending","Special Projects","Special Projects",null,{"$f":"IF(O522=\"Business Firm billable\",VLOOKUP(A522,'Hourly rates'!$B$2:$E$40,4,FALSE),VLOOKUP(A522,'Hourly rates'!$B$2:$E$40,2,FALSE))","v":12},15]
["Delgado, Gloria","Business Firm:Admin SP","Intern",1099,null,2,"2014-09-19","2014-09-20","Fri",null,"NonBill","ZZ","Pending",null,"Special Projects",null,{"$f":"IF(O523=\"Business Firm billable\",VLOOKUP(A523,'Hourly rates'!$B$2:$E$40,4,FALSE),VLOOKUP(A523,'Hourly rates'!$B$2:$E$40,2,FALSE))","v":12},24]
["Delgado, Gloria","Some Client:IPO","Intern",1099,null,6,"2014-09-19","2014-09-20","Fri",null,"Admin 9%","ZZ","Pending","Fund Board Presentation","Business Firm billable",null,{"$f":"IF(O524=\"Business Firm billable\",VLOOKUP(A524,'Hourly rates'!$B$2:$E$40,4,FALSE),VLOOKUP(A524,'Hourly rates'!$B$2:$E$40,2,FALSE))","v":83},498]
["Dwyer, Andy","Business Firm:Administration","Intern",1099,null,1.25,"2014-09-19","2014-09-20","Fri",null,"NonBill","ZZ","Pending","Research Studies-multiple","BIZ Research Projects",null,{"$f":"IF(O525=\"Business Firm billable\",VLOOKUP(A525,'Hourly rates'!$B$2:$E$40,4,FALSE),VLOOKUP(A525,'Hourly rates'!$B$2:$E$40,2,FALSE))","v":12},15]
["Wyatt, Ben","Business Firm:Administration","Intern",1099,null,1.25,"2014-09-20","2014-09-20","Sat",null,"NonBill","ZZ","Pending"," BIZ Research Project-IPO Metrics-Maintenance","BIZ Research Projects",null,{"$f":"IF(O526=\"Business Firm billable\",VLOOKUP(A526,'Hourly rates'!$B$2:$E$40,4,FALSE),VLOOKUP(A526,'Hourly rates'!$B$2:$E$40,2,FALSE))","v":12},15]
["Delgado, Gloria","Business Firm:Admin SP","Intern",1099,null,3,"2014-09-22","2014-09-27","Mon",null,"NonBill","ZZ","2014-09-30","special projects","Special Projects",null,{"$f":"IF(O527=\"Business Firm billable\",VLOOKUP(A527,'Hourly rates'!$B$2:$E$40,4,FALSE),VLOOKUP(A527,'Hourly rates'!$B$2:$E$40,2,FALSE))","v":12},36]
["Delgado, Gloria","Some Client:IPO","Intern",1099,null,5,"2014-09-22","2014-09-27","Mon",null,"Admin 9%","ZZ","2014-09-30","S-1 Tieout","Business Firm billable",null,{"$f":"IF(O528=\"Business Firm billable\",VLOOKUP(A528,'Hourly rates'!$B$2:$E$40,4,FALSE),VLOOKUP(A528,'Hourly rates'!$B$2:$E$40,2,FALSE))","v":83},415]
["Almeida, Tony","Business Firm:Admin SP","Intern",1099,null,1.75,"2014-09-22","2014-09-27","Mon",null,"NonBill","ZZ","2014-10-01","Special Projects","Special Projects",null,{"$f":"IF(O529=\"Business Firm billable\",VLOOKUP(A529,'Hourly rates'!$B$2:$E$40,4,FALSE),VLOOKUP(A529,'Hourly rates'!$B$2:$E$40,2,FALSE))","v":12},21,null,{"$f":"A529&B529&C529&D529&E529&F529&G529&H529&I529&K529&N529&O529","v":"Almeida, TonyBusiness Firm:Admin SPIntern10991.754190441909MonNonBillSpecial ProjectsSpecial Projects"}," "]
["Delgado, Gloria","Business Firm:Admin SP","Intern",1099,null,3,"2014-09-23","2014-09-27","Tue",null,"NonBill","ZZ","2014-09-30","special projects","Special Projects",null,{"$f":"IF(O530=\"Business Firm billable\",VLOOKUP(A530,'Hourly rates'!$B$2:$E$40,4,FALSE),VLOOKUP(A530,'Hourly rates'!$B$2:$E$40,2,FALSE))","v":12},36]
["Delgado, Gloria","Some Client:IPO","Intern",1099,null,5,"2014-09-23","2014-09-27","Tue",null,"Admin 9%","ZZ","2014-09-30","S-1 Tieout","Business Firm billable",null,{"$f":"IF(O531=\"Business Firm billable\",VLOOKUP(A531,'Hourly rates'!$B$2:$E$40,4,FALSE),VLOOKUP(A531,'Hourly rates'!$B$2:$E$40,2,FALSE))","v":83},415]
["Haverford, Tom","Business Firm:Admin SP","Staff",1099,null,4,"2014-09-23","2014-09-27","Tue",null,"NonBill","ZZ","2014-10-01","BIZ Project - Special Projects","Special Projects",null,{"$f":"IF(O532=\"Business Firm billable\",VLOOKUP(A532,'Hourly rates'!$B$2:$E$40,4,FALSE),VLOOKUP(A532,'Hourly rates'!$B$2:$E$40,2,FALSE))","v":12},48]
["Dwyer, Andy","Business Firm:Admin SP","Intern",1099,null,1,"2014-09-23","2014-09-27","Tue",null,"NonBill","ZZ","2014-09-30","Special Projects","Special Projects",null,{"$f":"IF(O533=\"Business Firm billable\",VLOOKUP(A533,'Hourly rates'!$B$2:$E$40,4,FALSE),VLOOKUP(A533,'Hourly rates'!$B$2:$E$40,2,FALSE))","v":12},12]
["Delgado, Gloria","Business Firm:Admin SP","Intern",1099,null,5,"2014-09-24","2014-09-27","Wed",null,"NonBill","ZZ","2014-09-30","special projects","Special Projects",null,{"$f":"IF(O534=\"Business Firm billable\",VLOOKUP(A534,'Hourly rates'!$B$2:$E$40,4,FALSE),VLOOKUP(A534,'Hourly rates'!$B$2:$E$40,2,FALSE))","v":12},60]
["Delgado, Gloria","Some Client:IPO","Intern",1099,null,3,"2014-09-24","2014-09-27","Wed",null,"Admin 9%","ZZ","2014-09-30","S-1 Tieout","Business Firm billable",null,{"$f":"IF(O535=\"Business Firm billable\",VLOOKUP(A535,'Hourly rates'!$B$2:$E$40,4,FALSE),VLOOKUP(A535,'Hourly rates'!$B$2:$E$40,2,FALSE))","v":83},249]
["Wyatt, Ben","Business Firm:Admin SP","Intern",1099,null,1.75,"2014-09-24","2014-09-27","Wed",null,"NonBill","ZZ","2014-09-30","Special Projects","Special Projects",null,{"$f":"IF(O536=\"Business Firm billable\",VLOOKUP(A536,'Hourly rates'!$B$2:$E$40,4,FALSE),VLOOKUP(A536,'Hourly rates'!$B$2:$E$40,2,FALSE))","v":12},21]
["Meagle, Donna","Business Firm:Admin SP","Intern",1099,null,3,"2014-09-24","2014-09-27","Wed",null,"NonBill","ZZ","2014-09-30"," BIZ Research Project - Special Projects","Special Projects",null,{"$f":"IF(O537=\"Business Firm billable\",VLOOKUP(A537,'Hourly rates'!$B$2:$E$40,4,FALSE),VLOOKUP(A537,'Hourly rates'!$B$2:$E$40,2,FALSE))","v":12},36]
["Almeida, Tony","Business Firm:Admin SP","Intern",1099,null,1.25,"2014-09-24","2014-09-27","Wed",null,"NonBill","ZZ","2014-10-01","Special Projects","Special Projects",null,{"$f":"IF(O538=\"Business Firm billable\",VLOOKUP(A538,'Hourly rates'!$B$2:$E$40,4,FALSE),VLOOKUP(A538,'Hourly rates'!$B$2:$E$40,2,FALSE))","v":12},15,null,{"$f":"A538&B538&C538&D538&E538&F538&G538&H538&I538&K538&N538&O538","v":"Almeida, TonyBusiness Firm:Admin SPIntern10991.254190641909WedNonBillSpecial ProjectsSpecial Projects"}," "]
["Haverford, Tom","Business Firm:Admin SP","Staff",1099,null,3,"2014-09-24","2014-09-27","Wed",null,"NonBill","ZZ","2014-10-01","BIZ Project - Special Projects","Special Projects",null,{"$f":"IF(O539=\"Business Firm billable\",VLOOKUP(A539,'Hourly rates'!$B$2:$E$40,4,FALSE),VLOOKUP(A539,'Hourly rates'!$B$2:$E$40,2,FALSE))","v":12},36]
["Dwyer, Andy","Business Firm:Admin SP","Intern",1099,null,1.25,"2014-09-24","2014-09-27","Wed",null,"NonBill","ZZ","2014-09-30","Special Projects","Special Projects",null,{"$f":"IF(O540=\"Business Firm billable\",VLOOKUP(A540,'Hourly rates'!$B$2:$E$40,4,FALSE),VLOOKUP(A540,'Hourly rates'!$B$2:$E$40,2,FALSE))","v":12},15]
["Dwyer, Andy","Business Firm:Administration","Intern",1099,null,1.75,"2014-09-24","2014-09-27","Wed",null,"NonBill","ZZ","2014-09-30","Research studies-cheap stock","BIZ Research Projects",null,{"$f":"IF(O541=\"Business Firm billable\",VLOOKUP(A541,'Hourly rates'!$B$2:$E$40,4,FALSE),VLOOKUP(A541,'Hourly rates'!$B$2:$E$40,2,FALSE))","v":12},21]
["Dwyer, Andy","Business Firm:Administration","Intern",1099,null,1,"2014-09-24","2014-09-27","Wed",null,"NonBill","ZZ","2014-09-30","Research studies-restatements","BIZ Research Projects",null,{"$f":"IF(O542=\"Business Firm billable\",VLOOKUP(A542,'Hourly rates'!$B$2:$E$40,4,FALSE),VLOOKUP(A542,'Hourly rates'!$B$2:$E$40,2,FALSE))","v":12},12]
["Dwyer, Andy","Business Firm:Administration","Intern",1099,null,1.75,"2014-09-24","2014-09-27","Wed",null,"NonBill","ZZ","2014-09-30","Research studies-multiple","BIZ Research Projects",null,{"$f":"IF(O543=\"Business Firm billable\",VLOOKUP(A543,'Hourly rates'!$B$2:$E$40,4,FALSE),VLOOKUP(A543,'Hourly rates'!$B$2:$E$40,2,FALSE))","v":12},21]
["Delgado, Gloria","Business Firm:Admin SP","Intern",1099,null,5,"2014-09-25","2014-09-27","Thu",null,"NonBill","ZZ","2014-09-30","special projects","Special Projects",null,{"$f":"IF(O544=\"Business Firm billable\",VLOOKUP(A544,'Hourly rates'!$B$2:$E$40,4,FALSE),VLOOKUP(A544,'Hourly rates'!$B$2:$E$40,2,FALSE))","v":12},60]
["Delgado, Gloria","Some Client:IPO","Intern",1099,null,3,"2014-09-25","2014-09-27","Thu",null,"Admin 9%","ZZ","2014-09-30","S-1 Tieout","Business Firm billable",null,{"$f":"IF(O545=\"Business Firm billable\",VLOOKUP(A545,'Hourly rates'!$B$2:$E$40,4,FALSE),VLOOKUP(A545,'Hourly rates'!$B$2:$E$40,2,FALSE))","v":83},249]
["Wyatt, Ben","Business Firm:Admin SP","Intern",1099,null,1.75,"2014-09-25","2014-09-27","Thu",null,"NonBill","ZZ","2014-09-30","Special Projects","Special Projects",null,{"$f":"IF(O546=\"Business Firm billable\",VLOOKUP(A546,'Hourly rates'!$B$2:$E$40,4,FALSE),VLOOKUP(A546,'Hourly rates'!$B$2:$E$40,2,FALSE))","v":12},21]
["Meagle, Donna","Business Firm:Admin SP","Intern",1099,null,2,"2014-09-25","2014-09-27","Thu",null,"NonBill","ZZ","2014-09-30"," BIZ Research Project - Special Projects","Special Projects",null,{"$f":"IF(O547=\"Business Firm billable\",VLOOKUP(A547,'Hourly rates'!$B$2:$E$40,4,FALSE),VLOOKUP(A547,'Hourly rates'!$B$2:$E$40,2,FALSE))","v":12},24]
["Almeida, Tony","Business Firm:Admin SP","Intern",1099,null,2,"2014-09-25","2014-09-27","Thu",null,"NonBill","ZZ","2014-10-01","Special Projects","Special Projects",null,{"$f":"IF(O548=\"Business Firm billable\",VLOOKUP(A548,'Hourly rates'!$B$2:$E$40,4,FALSE),VLOOKUP(A548,'Hourly rates'!$B$2:$E$40,2,FALSE))","v":12},24,null,{"$f":"A548&B548&C548&D548&E548&F548&G548&H548&I548&K548&N548&O548","v":"Almeida, TonyBusiness Firm:Admin SPIntern109924190741909ThuNonBillSpecial ProjectsSpecial Projects"}," "]
["Haverford, Tom","Business Firm:Admin SP","Staff",1099,null,3,"2014-09-25","2014-09-27","Thu",null,"NonBill","ZZ","2014-10-01","BIZ Project - Special Projects","Special Projects",null,{"$f":"IF(O549=\"Business Firm billable\",VLOOKUP(A549,'Hourly rates'!$B$2:$E$40,4,FALSE),VLOOKUP(A549,'Hourly rates'!$B$2:$E$40,2,FALSE))","v":12},36]
["Dwyer, Andy","Business Firm:Administration","Intern",1099,null,1.25,"2014-09-25","2014-09-27","Thu",null,"NonBill","ZZ","2014-09-30","Research studies-multiple","BIZ Research Projects",null,{"$f":"IF(O550=\"Business Firm billable\",VLOOKUP(A550,'Hourly rates'!$B$2:$E$40,4,FALSE),VLOOKUP(A550,'Hourly rates'!$B$2:$E$40,2,FALSE))","v":12},15]
["Delgado, Gloria","Some Client:IPO","Intern",1099,null,6,"2014-09-26","2014-09-27","Fri",null,"Admin 9%","ZZ","2014-09-30","IC Project","Business Firm billable",null,{"$f":"IF(O551=\"Business Firm billable\",VLOOKUP(A551,'Hourly rates'!$B$2:$E$40,4,FALSE),VLOOKUP(A551,'Hourly rates'!$B$2:$E$40,2,FALSE))","v":83},498]
["Delgado, Gloria","Some Client:IPO","Intern",1099,null,2,"2014-09-26","2014-09-27","Fri",null,"Admin 9%","ZZ","2014-09-30","Fund Board Presenation","Business Firm billable",null,{"$f":"IF(O552=\"Business Firm billable\",VLOOKUP(A552,'Hourly rates'!$B$2:$E$40,4,FALSE),VLOOKUP(A552,'Hourly rates'!$B$2:$E$40,2,FALSE))","v":83},166]
["Wyatt, Ben","Business Firm:Admin SP","Intern",1099,null,2,"2014-09-26","2014-09-27","Fri",null,"NonBill","ZZ","2014-09-30","Special Projects","Special Projects",null,{"$f":"IF(O553=\"Business Firm billable\",VLOOKUP(A553,'Hourly rates'!$B$2:$E$40,4,FALSE),VLOOKUP(A553,'Hourly rates'!$B$2:$E$40,2,FALSE))","v":12},24]
["Meagle, Donna","Business Firm:Admin SP","Intern",1099,null,2,"2014-09-26","2014-09-27","Fri",null,"NonBill","ZZ","2014-09-30"," BIZ Research Project - Special Projects","Special Projects",null,{"$f":"IF(O554=\"Business Firm billable\",VLOOKUP(A554,'Hourly rates'!$B$2:$E$40,4,FALSE),VLOOKUP(A554,'Hourly rates'!$B$2:$E$40,2,FALSE))","v":12},24]
["Almeida, Tony","Business Firm:Admin SP","Intern",1099,null,1.25,"2014-09-26","2014-09-27","Fri",null,"NonBill","ZZ","2014-10-01","Special Projects","Special Projects",null,{"$f":"IF(O555=\"Business Firm billable\",VLOOKUP(A555,'Hourly rates'!$B$2:$E$40,4,FALSE),VLOOKUP(A555,'Hourly rates'!$B$2:$E$40,2,FALSE))","v":12},15,null,{"$f":"A555&B555&C555&D555&E555&F555&G555&H555&I555&K555&N555&O555","v":"Almeida, TonyBusiness Firm:Admin SPIntern10991.254190841909FriNonBillSpecial ProjectsSpecial Projects"}," "]
["Dwyer, Andy","Business Firm:Administration","Intern",1099,null,1.75,"2014-09-26","2014-09-27","Fri",null,"NonBill","ZZ","2014-09-30","research studies-cfo comp","BIZ Research Projects",null,{"$f":"IF(O556=\"Business Firm billable\",VLOOKUP(A556,'Hourly rates'!$B$2:$E$40,4,FALSE),VLOOKUP(A556,'Hourly rates'!$B$2:$E$40,2,FALSE))","v":12},21]
["Wyatt, Ben","Business Firm:Admin SP","Intern",1099,null,1,"2014-09-27","2014-09-27","Sat",null,"NonBill","ZZ","2014-09-30","Special Projects","Special Projects",null,{"$f":"IF(O557=\"Business Firm billable\",VLOOKUP(A557,'Hourly rates'!$B$2:$E$40,4,FALSE),VLOOKUP(A557,'Hourly rates'!$B$2:$E$40,2,FALSE))","v":12},12]
["Dwyer, Andy","Business Firm:Administration","Intern",1099,null,1.25,"2014-09-27","2014-09-27","Sat",null,"NonBill","ZZ","2014-09-30","Research studies-cheap stock","BIZ Research Projects",null,{"$f":"IF(O558=\"Business Firm billable\",VLOOKUP(A558,'Hourly rates'!$B$2:$E$40,4,FALSE),VLOOKUP(A558,'Hourly rates'!$B$2:$E$40,2,FALSE))","v":12},15]
["Delgado, Gloria","Business Firm:Administration","Intern",1099,null,3,"2014-09-29","2014-10-04","Mon",null,"NonBill","ZZ","2014-10-07","special projects","Special Projects",null,{"$f":"IF(O559=\"Business Firm billable\",VLOOKUP(A559,'Hourly rates'!$B$2:$E$40,4,FALSE),VLOOKUP(A559,'Hourly rates'!$B$2:$E$40,2,FALSE))","v":12},36]
["Delgado, Gloria","Some Client:IPO","Intern",1099,null,5,"2014-09-29","2014-10-04","Mon",null,"Admin 9%","ZZ","2014-10-07","Fund Board Presentation","Business Firm billable",null,{"$f":"IF(O560=\"Business Firm billable\",VLOOKUP(A560,'Hourly rates'!$B$2:$E$40,4,FALSE),VLOOKUP(A560,'Hourly rates'!$B$2:$E$40,2,FALSE))","v":83},415]
["Wyatt, Ben","Business Firm:Administration","Intern",1099,null,1.25,"2014-09-29","2014-10-04","Mon",null,"NonBill","ZZ","2014-10-07"," BIZ Research Project-IPO Metrics-Maintenance","BIZ Research Projects",null,{"$f":"IF(O561=\"Business Firm billable\",VLOOKUP(A561,'Hourly rates'!$B$2:$E$40,4,FALSE),VLOOKUP(A561,'Hourly rates'!$B$2:$E$40,2,FALSE))","v":12},15]
["Wyatt, Ben","Business Firm:Administration","Intern",1099,null,1,"2014-09-29","2014-10-04","Mon",null,"NonBill","ZZ","2014-10-07","BIZ Research Project - Jobs Act-Maintenance","BIZ Research Projects",null,{"$f":"IF(O562=\"Business Firm billable\",VLOOKUP(A562,'Hourly rates'!$B$2:$E$40,4,FALSE),VLOOKUP(A562,'Hourly rates'!$B$2:$E$40,2,FALSE))","v":12},12]
["Delgado, Gloria","Business Firm:Administration","Intern",1099,null,3,"2014-09-30","2014-10-04","Tue",null,"NonBill","ZZ","2014-10-07","special projects","Special Projects",null,{"$f":"IF(O563=\"Business Firm billable\",VLOOKUP(A563,'Hourly rates'!$B$2:$E$40,4,FALSE),VLOOKUP(A563,'Hourly rates'!$B$2:$E$40,2,FALSE))","v":12},36]
["Delgado, Gloria","Some Client:IPO","Intern",1099,null,5,"2014-09-30","2014-10-04","Tue",null,"Admin 9%","ZZ","2014-10-07","Fund Board Presentation","Business Firm billable",null,{"$f":"IF(O564=\"Business Firm billable\",VLOOKUP(A564,'Hourly rates'!$B$2:$E$40,4,FALSE),VLOOKUP(A564,'Hourly rates'!$B$2:$E$40,2,FALSE))","v":83},415]
["Wyatt, Ben","Business Firm:Admin SP","Intern",1099,null,1.75,"2014-09-30","2014-10-04","Tue",null,"NonBill","ZZ","2014-10-07","Special Projects","Special Projects",null,{"$f":"IF(O565=\"Business Firm billable\",VLOOKUP(A565,'Hourly rates'!$B$2:$E$40,4,FALSE),VLOOKUP(A565,'Hourly rates'!$B$2:$E$40,2,FALSE))","v":12},21]
["Wyatt, Ben","Business Firm:Administration","Intern",1099,null,1.25,"2014-09-30","2014-10-04","Tue",null,"NonBill","ZZ","2014-10-07"," BIZ Research Project-IPO Metrics-Maintenance","BIZ Research Projects",null,{"$f":"IF(O566=\"Business Firm billable\",VLOOKUP(A566,'Hourly rates'!$B$2:$E$40,4,FALSE),VLOOKUP(A566,'Hourly rates'!$B$2:$E$40,2,FALSE))","v":12},15]
["Almeida, Tony","Business Firm:Admin SP","Intern",1099,null,1,"2014-09-30","2014-10-04","Tue",null,"NonBill","ZZ","2014-10-08","Special Projects","Special Projects",null,{"$f":"IF(O567=\"Business Firm billable\",VLOOKUP(A567,'Hourly rates'!$B$2:$E$40,4,FALSE),VLOOKUP(A567,'Hourly rates'!$B$2:$E$40,2,FALSE))","v":12},12,null,{"$f":"A567&B567&C567&D567&E567&F567&G567&H567&I567&K567&N567&O567","v":"Almeida, TonyBusiness Firm:Admin SPIntern109914191241916TueNonBillSpecial ProjectsSpecial Projects"}," "]
["Haverford, Tom","Business Firm:Admin SP","Staff",1099,null,5,"2014-09-30","2014-10-04","Tue",null,"NonBill","ZZ","2014-10-07",null,"Special Projects",null,{"$f":"IF(O568=\"Business Firm billable\",VLOOKUP(A568,'Hourly rates'!$B$2:$E$40,4,FALSE),VLOOKUP(A568,'Hourly rates'!$B$2:$E$40,2,FALSE))","v":12},60]
["Delgado, Gloria","Business Firm:Administration","Intern",1099,null,4,"2014-10-01","2014-10-04","Wed",null,"NonBill","ZZ","2014-10-07","special projects","Special Projects",null,{"$f":"IF(O569=\"Business Firm billable\",VLOOKUP(A569,'Hourly rates'!$B$2:$E$40,4,FALSE),VLOOKUP(A569,'Hourly rates'!$B$2:$E$40,2,FALSE))","v":12},48]
["Delgado, Gloria","Some Client:IPO","Intern",1099,null,4,"2014-10-01","2014-10-04","Wed",null,"Admin 9%","ZZ","2014-10-07","Fund Board Presentation","Business Firm billable",null,{"$f":"IF(O570=\"Business Firm billable\",VLOOKUP(A570,'Hourly rates'!$B$2:$E$40,4,FALSE),VLOOKUP(A570,'Hourly rates'!$B$2:$E$40,2,FALSE))","v":83},332]
["Wyatt, Ben","Business Firm:Admin SP","Intern",1099,null,3,"2014-10-01","2014-10-04","Wed",null,"NonBill","ZZ","2014-10-07","Special Projects","Special Projects",null,{"$f":"IF(O571=\"Business Firm billable\",VLOOKUP(A571,'Hourly rates'!$B$2:$E$40,4,FALSE),VLOOKUP(A571,'Hourly rates'!$B$2:$E$40,2,FALSE))","v":12},36]
["Almeida, Tony","Business Firm:Admin SP","Intern",1099,null,1.25,"2014-10-01","2014-10-04","Wed",null,"NonBill","ZZ","2014-10-08","Special Projects","Special Projects",null,{"$f":"IF(O572=\"Business Firm billable\",VLOOKUP(A572,'Hourly rates'!$B$2:$E$40,4,FALSE),VLOOKUP(A572,'Hourly rates'!$B$2:$E$40,2,FALSE))","v":12},15,null,{"$f":"A572&B572&C572&D572&E572&F572&G572&H572&I572&K572&N572&O572","v":"Almeida, TonyBusiness Firm:Admin SPIntern10991.254191341916WedNonBillSpecial ProjectsSpecial Projects"}," "]
["Haverford, Tom","Business Firm:Admin SP","Staff",1099,null,2,"2014-10-01","2014-10-04","Wed",null,"NonBill","ZZ","2014-10-07",null,"Special Projects",null,{"$f":"IF(O573=\"Business Firm billable\",VLOOKUP(A573,'Hourly rates'!$B$2:$E$40,4,FALSE),VLOOKUP(A573,'Hourly rates'!$B$2:$E$40,2,FALSE))","v":12},24]
["Dwyer, Andy","Business Firm:Admin SP","Intern",1099,null,1.25,"2014-10-01","2014-10-04","Wed",null,"NonBill","ZZ","2014-10-07","Special Projects","Special Projects",null,{"$f":"IF(O574=\"Business Firm billable\",VLOOKUP(A574,'Hourly rates'!$B$2:$E$40,4,FALSE),VLOOKUP(A574,'Hourly rates'!$B$2:$E$40,2,FALSE))","v":12},15]
["Delgado, Gloria","Business Firm:**Strat","Intern",1099,null,8,"2014-10-02","2014-10-04","Thu",null,"NonBill","ZZ","2014-10-07","revenue recognition trainings","Strat Firm",null,{"$f":"IF(O575=\"Business Firm billable\",VLOOKUP(A575,'Hourly rates'!$B$2:$E$40,4,FALSE),VLOOKUP(A575,'Hourly rates'!$B$2:$E$40,2,FALSE))","v":12},96]
["Wyatt, Ben","Business Firm:Admin SP","Intern",1099,null,1.75,"2014-10-02","2014-10-04","Thu",null,"NonBill","ZZ","2014-10-07","Special Projects","Special Projects",null,{"$f":"IF(O576=\"Business Firm billable\",VLOOKUP(A576,'Hourly rates'!$B$2:$E$40,4,FALSE),VLOOKUP(A576,'Hourly rates'!$B$2:$E$40,2,FALSE))","v":12},21]
["Meagle, Donna","Business Firm:Admin SP","Intern",1099,null,3,"2014-10-02","2014-10-04","Thu",null,"NonBill","ZZ","2014-10-07"," BIZ Research Project - Special Projects","Special Projects",null,{"$f":"IF(O577=\"Business Firm billable\",VLOOKUP(A577,'Hourly rates'!$B$2:$E$40,4,FALSE),VLOOKUP(A577,'Hourly rates'!$B$2:$E$40,2,FALSE))","v":12},36]
["Almeida, Tony","Business Firm:Admin SP","Intern",1099,null,1,"2014-10-02","2014-10-04","Thu",null,"NonBill","ZZ","2014-10-08","Special Projects","Special Projects",null,{"$f":"IF(O578=\"Business Firm billable\",VLOOKUP(A578,'Hourly rates'!$B$2:$E$40,4,FALSE),VLOOKUP(A578,'Hourly rates'!$B$2:$E$40,2,FALSE))","v":12},{"$f":"Q578*F578","v":12},null,{"$f":"A578&B578&C578&D578&E578&F578&G578&H578&I578&K578&N578&O578","v":"Almeida, TonyBusiness Firm:Admin SPIntern109914191441916ThuNonBillSpecial ProjectsSpecial Projects"}," "]
["Haverford, Tom","Business Firm:Admin SP","Staff",1099,null,3,"2014-10-02","2014-10-04","Thu",null,"NonBill","ZZ","2014-10-07",null,"Special Projects",null,{"$f":"IF(O579=\"Business Firm billable\",VLOOKUP(A579,'Hourly rates'!$B$2:$E$40,4,FALSE),VLOOKUP(A579,'Hourly rates'!$B$2:$E$40,2,FALSE))","v":12},36]
["Dwyer, Andy","Business Firm:Administration","Intern",1099,null,1.25,"2014-10-02","2014-10-04","Thu",null,"NonBill","ZZ","2014-10-07","Research studies-multiple","BIZ Research Projects",null,{"$f":"IF(O580=\"Business Firm billable\",VLOOKUP(A580,'Hourly rates'!$B$2:$E$40,4,FALSE),VLOOKUP(A580,'Hourly rates'!$B$2:$E$40,2,FALSE))","v":12},15]
["Delgado, Gloria","Business Firm:**Strat","Intern",1099,null,4,"2014-10-03","2014-10-04","Fri",null,"NonBill","ZZ","2014-10-07","revenue recognition trainings","Strat Firm",null,{"$f":"IF(O581=\"Business Firm billable\",VLOOKUP(A581,'Hourly rates'!$B$2:$E$40,4,FALSE),VLOOKUP(A581,'Hourly rates'!$B$2:$E$40,2,FALSE))","v":12},48]
["Delgado, Gloria","Some Client:IPO","Intern",1099,null,4,"2014-10-03","2014-10-04","Fri",null,"Admin 9%","ZZ","2014-10-07","Interco","Business Firm billable",null,{"$f":"IF(O582=\"Business Firm billable\",VLOOKUP(A582,'Hourly rates'!$B$2:$E$40,4,FALSE),VLOOKUP(A582,'Hourly rates'!$B$2:$E$40,2,FALSE))","v":83},332]
["Wyatt, Ben","Business Firm:Admin SP","Intern",1099,null,2,"2014-10-03","2014-10-04","Fri",null,"NonBill","ZZ","2014-10-07","Special Projects","Special Projects",null,{"$f":"IF(O583=\"Business Firm billable\",VLOOKUP(A583,'Hourly rates'!$B$2:$E$40,4,FALSE),VLOOKUP(A583,'Hourly rates'!$B$2:$E$40,2,FALSE))","v":12},24]
["Meagle, Donna","Business Firm:Admin SP","Intern",1099,null,3,"2014-10-03","2014-10-04","Fri",null,"NonBill","ZZ","2014-10-07"," BIZ Research Project - Special Projects","Special Projects",null,{"$f":"IF(O584=\"Business Firm billable\",VLOOKUP(A584,'Hourly rates'!$B$2:$E$40,4,FALSE),VLOOKUP(A584,'Hourly rates'!$B$2:$E$40,2,FALSE))","v":12},36]
["Almeida, Tony","Business Firm:Admin SP","Intern",1099,null,1,"2014-10-03","2014-10-04","Fri",null,"NonBill","ZZ","2014-10-08","Special Projects","Special Projects",null,{"$f":"IF(O585=\"Business Firm billable\",VLOOKUP(A585,'Hourly rates'!$B$2:$E$40,4,FALSE),VLOOKUP(A585,'Hourly rates'!$B$2:$E$40,2,FALSE))","v":12},12,null,{"$f":"A585&B585&C585&D585&E585&F585&G585&H585&I585&K585&N585&O585","v":"Almeida, TonyBusiness Firm:Admin SPIntern109914191541916FriNonBillSpecial ProjectsSpecial Projects"}," "]
["Dwyer, Andy","Business Firm:Admin SP","Intern",1099,null,1.25,"2014-10-03","2014-10-04","Fri",null,"NonBill","ZZ","2014-10-07","Special Projects","Special Projects",null,{"$f":"IF(O586=\"Business Firm billable\",VLOOKUP(A586,'Hourly rates'!$B$2:$E$40,4,FALSE),VLOOKUP(A586,'Hourly rates'!$B$2:$E$40,2,FALSE))","v":12},15]
["Dwyer, Andy","Business Firm:Administration","Intern",1099,null,1.25,"2014-10-03","2014-10-04","Fri",null,"NonBill","ZZ","2014-10-07","Research studies-multiple","BIZ Research Projects",null,{"$f":"IF(O587=\"Business Firm billable\",VLOOKUP(A587,'Hourly rates'!$B$2:$E$40,4,FALSE),VLOOKUP(A587,'Hourly rates'!$B$2:$E$40,2,FALSE))","v":12},15]
["Dwyer, Andy","Business Firm:Administration","Intern",1099,null,1.25,"2014-10-03","2014-10-04","Fri",null,"NonBill","ZZ","2014-10-07","Research studies-cheap stock","BIZ Research Projects",null,{"$f":"IF(O588=\"Business Firm billable\",VLOOKUP(A588,'Hourly rates'!$B$2:$E$40,4,FALSE),VLOOKUP(A588,'Hourly rates'!$B$2:$E$40,2,FALSE))","v":12},15]
["Wyatt, Ben","Business Firm:Administration","Intern",1099,null,1.25,"2014-10-04","2014-10-04","Sat",null,"NonBill","ZZ","2014-10-07"," BIZ Research Project-IPO Metrics-Maintenance","BIZ Research Projects",null,{"$f":"IF(O589=\"Business Firm billable\",VLOOKUP(A589,'Hourly rates'!$B$2:$E$40,4,FALSE),VLOOKUP(A589,'Hourly rates'!$B$2:$E$40,2,FALSE))","v":12},15]
["Wyatt, Ben","Business Firm:Administration","Intern",1099,null,1.25,"2014-10-04","2014-10-04","Sat",null,"NonBill","ZZ","2014-10-07","BIZ Research Project - Jobs Act-Maintenance","Special Projects",null,{"$f":"IF(O590=\"Business Firm billable\",VLOOKUP(A590,'Hourly rates'!$B$2:$E$40,4,FALSE),VLOOKUP(A590,'Hourly rates'!$B$2:$E$40,2,FALSE))","v":12},15]
["Meagle, Donna","Business Firm:Admin SP","Intern",1099,null,3,"2014-10-04","2014-10-04","Sat",null,"NonBill","ZZ","2014-10-07"," BIZ Research Project - Special Projects","Special Projects",null,{"$f":"IF(O591=\"Business Firm billable\",VLOOKUP(A591,'Hourly rates'!$B$2:$E$40,4,FALSE),VLOOKUP(A591,'Hourly rates'!$B$2:$E$40,2,FALSE))","v":12},36]
["Dwyer, Andy","Business Firm:Administration","Intern",1099,null,1,"2014-10-04","2014-10-04","Sat",null,"NonBill","ZZ","2014-10-07","Research studies-cheap stock","BIZ Research Projects",null,{"$f":"IF(O592=\"Business Firm billable\",VLOOKUP(A592,'Hourly rates'!$B$2:$E$40,4,FALSE),VLOOKUP(A592,'Hourly rates'!$B$2:$E$40,2,FALSE))","v":12},12]
["Delgado, Gloria","Business Firm:**Strat","Intern",1099,null,2,"2014-10-06","2014-10-11","Mon",null,"NonBill","ZZ","2014-10-20","606 Slide Deck","Strat Firm",null,{"$f":"IF(O593=\"Business Firm billable\",VLOOKUP(A593,'Hourly rates'!$B$2:$E$40,4,FALSE),VLOOKUP(A593,'Hourly rates'!$B$2:$E$40,2,FALSE))","v":12},24]
["Delgado, Gloria","Some Client:IPO","Intern",1099,null,6,"2014-10-06","2014-10-11","Mon",null,"Admin 9%","ZZ","2014-10-20","Interco Project","Business Firm billable",null,{"$f":"IF(O594=\"Business Firm billable\",VLOOKUP(A594,'Hourly rates'!$B$2:$E$40,4,FALSE),VLOOKUP(A594,'Hourly rates'!$B$2:$E$40,2,FALSE))","v":83},498]
["Wyatt, Ben","Business Firm:Admin SP","Intern",1099,null,2,"2014-10-06","2014-10-11","Mon",null,"NonBill","ZZ","2014-10-20","Special Projects","Special Projects",null,{"$f":"IF(O595=\"Business Firm billable\",VLOOKUP(A595,'Hourly rates'!$B$2:$E$40,4,FALSE),VLOOKUP(A595,'Hourly rates'!$B$2:$E$40,2,FALSE))","v":12},24]
["Meagle, Donna","Business Firm:Admin SP","Intern",1099,null,2,"2014-10-06","2014-10-11","Mon",null,"NonBill","ZZ","2014-10-20"," BIZ Research Project - Special Projects","Special Projects",null,{"$f":"IF(O596=\"Business Firm billable\",VLOOKUP(A596,'Hourly rates'!$B$2:$E$40,4,FALSE),VLOOKUP(A596,'Hourly rates'!$B$2:$E$40,2,FALSE))","v":12},24]
["Almeida, Tony","Business Firm:Admin SP","Intern",1099,null,1,"2014-10-06","2014-10-11","Mon",null,"NonBill","ZZ","2014-10-20",null,"Special Projects",null,{"$f":"IF(O597=\"Business Firm billable\",VLOOKUP(A597,'Hourly rates'!$B$2:$E$40,4,FALSE),VLOOKUP(A597,'Hourly rates'!$B$2:$E$40,2,FALSE))","v":12},12,null,{"$f":"A597&B597&C597&D597&E597&F597&G597&H597&I597&K597&N597&O597","v":"Almeida, TonyBusiness Firm:Admin SPIntern109914191841923MonNonBillSpecial Projects"}," "]
["Delgado, Gloria","Business Firm:Admin SP","Intern",1099,null,4,"2014-10-07","2014-10-11","Tue",null,"NonBill","ZZ","2014-10-20","Special Projects","Special Projects",null,{"$f":"IF(O598=\"Business Firm billable\",VLOOKUP(A598,'Hourly rates'!$B$2:$E$40,4,FALSE),VLOOKUP(A598,'Hourly rates'!$B$2:$E$40,2,FALSE))","v":12},48]
["Delgado, Gloria","Some Client:IPO","Intern",1099,null,4,"2014-10-07","2014-10-11","Tue",null,"Admin 9%","ZZ","2014-10-20","Interco Project","Business Firm billable",null,{"$f":"IF(O599=\"Business Firm billable\",VLOOKUP(A599,'Hourly rates'!$B$2:$E$40,4,FALSE),VLOOKUP(A599,'Hourly rates'!$B$2:$E$40,2,FALSE))","v":83},332]
["Wyatt, Ben","Business Firm:Admin SP","Intern",1099,null,1,"2014-10-07","2014-10-11","Tue",null,"NonBill","ZZ","2014-10-20","Special Projects","Special Projects",null,{"$f":"IF(O600=\"Business Firm billable\",VLOOKUP(A600,'Hourly rates'!$B$2:$E$40,4,FALSE),VLOOKUP(A600,'Hourly rates'!$B$2:$E$40,2,FALSE))","v":12},12]
["Meagle, Donna","Business Firm:Admin SP","Intern",1099,null,2,"2014-10-07","2014-10-11","Tue",null,"NonBill","ZZ","2014-10-20"," BIZ Research Project - Special Projects","Special Projects",null,{"$f":"IF(O601=\"Business Firm billable\",VLOOKUP(A601,'Hourly rates'!$B$2:$E$40,4,FALSE),VLOOKUP(A601,'Hourly rates'!$B$2:$E$40,2,FALSE))","v":12},24]
["Haverford, Tom","Business Firm:Admin SP","Staff",1099,null,6,"2014-10-07","2014-10-11","Tue",null,"NonBill","ZZ","2014-10-20","BIZ Project - Special Projects","Special Projects",null,{"$f":"IF(O602=\"Business Firm billable\",VLOOKUP(A602,'Hourly rates'!$B$2:$E$40,4,FALSE),VLOOKUP(A602,'Hourly rates'!$B$2:$E$40,2,FALSE))","v":12},72]
["Dwyer, Andy","Business Firm:Admin SP","Intern",1099,null,1.25,"2014-10-07","2014-10-11","Tue",null,"NonBill","ZZ","2014-10-20","Special Projects","Special Projects",null,{"$f":"IF(O603=\"Business Firm billable\",VLOOKUP(A603,'Hourly rates'!$B$2:$E$40,4,FALSE),VLOOKUP(A603,'Hourly rates'!$B$2:$E$40,2,FALSE))","v":12},15]
["Delgado, Gloria","Business Firm:Admin SP","Intern",1099,null,4,"2014-10-08","2014-10-11","Wed",null,"NonBill","ZZ","2014-10-20","Special Projects","Special Projects",null,{"$f":"IF(O604=\"Business Firm billable\",VLOOKUP(A604,'Hourly rates'!$B$2:$E$40,4,FALSE),VLOOKUP(A604,'Hourly rates'!$B$2:$E$40,2,FALSE))","v":12},48]
["Delgado, Gloria","Some Client:IPO","Intern",1099,null,4,"2014-10-08","2014-10-11","Wed",null,"Admin 9%","ZZ","2014-10-20","Fund Board Presentation","Business Firm billable",null,{"$f":"IF(O605=\"Business Firm billable\",VLOOKUP(A605,'Hourly rates'!$B$2:$E$40,4,FALSE),VLOOKUP(A605,'Hourly rates'!$B$2:$E$40,2,FALSE))","v":83},332]
["Wyatt, Ben","Business Firm:Admin SP","Intern",1099,null,1.75,"2014-10-08","2014-10-11","Wed",null,"NonBill","ZZ","2014-10-20","Special Projects","Special Projects",null,{"$f":"IF(O606=\"Business Firm billable\",VLOOKUP(A606,'Hourly rates'!$B$2:$E$40,4,FALSE),VLOOKUP(A606,'Hourly rates'!$B$2:$E$40,2,FALSE))","v":12},21]
["Meagle, Donna","Business Firm:Admin SP","Intern",1099,null,3,"2014-10-08","2014-10-11","Wed",null,"NonBill","ZZ","2014-10-20"," BIZ Research Project - Special Projects","Special Projects",null,{"$f":"IF(O607=\"Business Firm billable\",VLOOKUP(A607,'Hourly rates'!$B$2:$E$40,4,FALSE),VLOOKUP(A607,'Hourly rates'!$B$2:$E$40,2,FALSE))","v":12},36]
["Almeida, Tony","Business Firm:Admin SP","Intern",1099,null,1.25,"2014-10-08","2014-10-11","Wed",null,"NonBill","ZZ","2014-10-20",null,"Special Projects",null,{"$f":"IF(O608=\"Business Firm billable\",VLOOKUP(A608,'Hourly rates'!$B$2:$E$40,4,FALSE),VLOOKUP(A608,'Hourly rates'!$B$2:$E$40,2,FALSE))","v":12},15,null,{"$f":"A608&B608&C608&D608&E608&F608&G608&H608&I608&K608&N608&O608","v":"Almeida, TonyBusiness Firm:Admin SPIntern10991.254192041923WedNonBillSpecial Projects"}," "]
["Dwyer, Andy","Business Firm:Admin SP","Intern",1099,null,1.25,"2014-10-08","2014-10-11","Wed",null,"NonBill","ZZ","2014-10-20","Special Projects","Special Projects",null,{"$f":"IF(O609=\"Business Firm billable\",VLOOKUP(A609,'Hourly rates'!$B$2:$E$40,4,FALSE),VLOOKUP(A609,'Hourly rates'!$B$2:$E$40,2,FALSE))","v":12},15]
["Dwyer, Andy","Business Firm:Administration","Intern",1099,null,1.25,"2014-10-08","2014-10-11","Wed",null,"NonBill","ZZ","2014-10-20","Research studies-cheap stock","BIZ Research Projects",null,{"$f":"IF(O610=\"Business Firm billable\",VLOOKUP(A610,'Hourly rates'!$B$2:$E$40,4,FALSE),VLOOKUP(A610,'Hourly rates'!$B$2:$E$40,2,FALSE))","v":12},15]
["Delgado, Gloria","Business Firm:**Strat","Intern",1099,null,8,"2014-10-09","2014-10-11","Thu",null,"NonBill","ZZ","2014-10-20","606 Slide Deck","Strat Firm",null,{"$f":"IF(O611=\"Business Firm billable\",VLOOKUP(A611,'Hourly rates'!$B$2:$E$40,4,FALSE),VLOOKUP(A611,'Hourly rates'!$B$2:$E$40,2,FALSE))","v":12},96]
["Wyatt, Ben","Business Firm:Admin SP","Intern",1099,null,1.25,"2014-10-09","2014-10-11","Thu",null,"NonBill","ZZ","2014-10-20","Special Projects","Special Projects",null,{"$f":"IF(O612=\"Business Firm billable\",VLOOKUP(A612,'Hourly rates'!$B$2:$E$40,4,FALSE),VLOOKUP(A612,'Hourly rates'!$B$2:$E$40,2,FALSE))","v":12},15]
["Meagle, Donna","Business Firm:Admin SP","Intern",1099,null,3,"2014-10-09","2014-10-11","Thu",null,"NonBill","ZZ","2014-10-20"," BIZ Research Project - Special Projects","Special Projects",null,{"$f":"IF(O613=\"Business Firm billable\",VLOOKUP(A613,'Hourly rates'!$B$2:$E$40,4,FALSE),VLOOKUP(A613,'Hourly rates'!$B$2:$E$40,2,FALSE))","v":12},36]
["Almeida, Tony","Business Firm:Admin SP","Intern",1099,null,2,"2014-10-09","2014-10-11","Thu",null,"NonBill","ZZ","2014-10-20",null,"Special Projects",null,{"$f":"IF(O614=\"Business Firm billable\",VLOOKUP(A614,'Hourly rates'!$B$2:$E$40,4,FALSE),VLOOKUP(A614,'Hourly rates'!$B$2:$E$40,2,FALSE))","v":12},24,null,{"$f":"A614&B614&C614&D614&E614&F614&G614&H614&I614&K614&N614&O614","v":"Almeida, TonyBusiness Firm:Admin SPIntern109924192141923ThuNonBillSpecial Projects"}," "]
["Haverford, Tom","Business Firm:Admin SP","Staff",1099,null,4,"2014-10-09","2014-10-11","Thu",null,"NonBill","ZZ","2014-10-20","BIZ Project - Special Projects","Special Projects",null,{"$f":"IF(O615=\"Business Firm billable\",VLOOKUP(A615,'Hourly rates'!$B$2:$E$40,4,FALSE),VLOOKUP(A615,'Hourly rates'!$B$2:$E$40,2,FALSE))","v":12},48]
["Dwyer, Andy","Business Firm:Administration","Intern",1099,null,1.25,"2014-10-09","2014-10-11","Thu",null,"NonBill","ZZ","2014-10-20","Research studies-cheap stock","BIZ Research Projects",null,{"$f":"IF(O616=\"Business Firm billable\",VLOOKUP(A616,'Hourly rates'!$B$2:$E$40,4,FALSE),VLOOKUP(A616,'Hourly rates'!$B$2:$E$40,2,FALSE))","v":12},15]
["Delgado, Gloria","Business Firm:**Strat","Intern",1099,null,8,"2014-10-10","2014-10-11","Fri",null,"NonBill","ZZ","2014-10-20","606 Slide Deck","Strat Firm",null,{"$f":"IF(O617=\"Business Firm billable\",VLOOKUP(A617,'Hourly rates'!$B$2:$E$40,4,FALSE),VLOOKUP(A617,'Hourly rates'!$B$2:$E$40,2,FALSE))","v":12},96]
["Dwyer, Andy","Business Firm:Admin SP","Intern",1099,null,1.75,"2014-10-10","2014-10-11","Fri",null,"NonBill","ZZ","2014-10-20","Special Projects","Special Projects",null,{"$f":"IF(O618=\"Business Firm billable\",VLOOKUP(A618,'Hourly rates'!$B$2:$E$40,4,FALSE),VLOOKUP(A618,'Hourly rates'!$B$2:$E$40,2,FALSE))","v":12},21]
["Wyatt, Ben","Business Firm:Admin SP","Intern",1099,null,1.25,"2014-10-11","2014-10-11","Sat",null,"NonBill","ZZ","2014-10-20","Special Projects","Special Projects",null,{"$f":"IF(O619=\"Business Firm billable\",VLOOKUP(A619,'Hourly rates'!$B$2:$E$40,4,FALSE),VLOOKUP(A619,'Hourly rates'!$B$2:$E$40,2,FALSE))","v":12},15]
["Dwyer, Andy","Business Firm:Admin SP","Intern",1099,null,1.25,"2014-10-11","2014-10-11","Sat",null,"NonBill","ZZ","2014-10-20","Special Projects","Special Projects",null,{"$f":"IF(O620=\"Business Firm billable\",VLOOKUP(A620,'Hourly rates'!$B$2:$E$40,4,FALSE),VLOOKUP(A620,'Hourly rates'!$B$2:$E$40,2,FALSE))","v":12},15]
["Dwyer, Andy","Business Firm:Administration","Intern",1099,null,1.25,"2014-10-11","2014-10-11","Sat",null,"NonBill","ZZ","2014-10-20","Research studies-cheap stock","BIZ Research Projects",null,{"$f":"IF(O621=\"Business Firm billable\",VLOOKUP(A621,'Hourly rates'!$B$2:$E$40,4,FALSE),VLOOKUP(A621,'Hourly rates'!$B$2:$E$40,2,FALSE))","v":12},15]
["Delgado, Gloria","Business Firm:Admin SP","Intern",1099,null,4,"2014-10-13","2014-10-18","Mon",null,"NonBill","ZZ","Pending","Special Projects","Special Projects",null,{"$f":"IF(O622=\"Business Firm billable\",VLOOKUP(A622,'Hourly rates'!$B$2:$E$40,4,FALSE),VLOOKUP(A622,'Hourly rates'!$B$2:$E$40,2,FALSE))","v":12},48]
["Delgado, Gloria","Some Client:IPO","Intern",1099,null,4,"2014-10-13","2014-10-18","Mon",null,"Admin 9%","ZZ","Pending","Fund Board Presentation","Business Firm billable",null,{"$f":"IF(O623=\"Business Firm billable\",VLOOKUP(A623,'Hourly rates'!$B$2:$E$40,4,FALSE),VLOOKUP(A623,'Hourly rates'!$B$2:$E$40,2,FALSE))","v":83},332]
["Wyatt, Ben","Business Firm:Admin SP","Intern",1099,null,1.25,"2014-10-13","2014-10-18","Mon",null,"NonBill","ZZ","Pending","Special Projects","Special Projects",null,{"$f":"IF(O624=\"Business Firm billable\",VLOOKUP(A624,'Hourly rates'!$B$2:$E$40,4,FALSE),VLOOKUP(A624,'Hourly rates'!$B$2:$E$40,2,FALSE))","v":12},15]
["Haverford, Tom","Business Firm:Admin SP","Staff",1099,null,1,"2014-10-13","2014-10-18","Mon",null,"NonBill","ZZ","Pending","BIZ Project - Special Projects","Special Projects",null,{"$f":"IF(O625=\"Business Firm billable\",VLOOKUP(A625,'Hourly rates'!$B$2:$E$40,4,FALSE),VLOOKUP(A625,'Hourly rates'!$B$2:$E$40,2,FALSE))","v":12},12]
["Dwyer, Andy","Business Firm:Admin SP","Intern",1099,null,1.25,"2014-10-13","2014-10-18","Mon",null,"NonBill","ZZ","Pending","Special Projects","Special Projects",null,{"$f":"IF(O626=\"Business Firm billable\",VLOOKUP(A626,'Hourly rates'!$B$2:$E$40,4,FALSE),VLOOKUP(A626,'Hourly rates'!$B$2:$E$40,2,FALSE))","v":12},15]
["Delgado, Gloria","Business Firm:**Strat","Intern",1099,null,2,"2014-10-14","2014-10-18","Tue",null,"NonBill","ZZ","Pending","606 Slide Deck","Strat Firm",null,{"$f":"IF(O627=\"Business Firm billable\",VLOOKUP(A627,'Hourly rates'!$B$2:$E$40,4,FALSE),VLOOKUP(A627,'Hourly rates'!$B$2:$E$40,2,FALSE))","v":12},24]
["Delgado, Gloria","Business Firm:Admin SP","Intern",1099,null,6,"2014-10-14","2014-10-18","Tue",null,"NonBill","ZZ","Pending","Special Projects","Special Projects",null,{"$f":"IF(O628=\"Business Firm billable\",VLOOKUP(A628,'Hourly rates'!$B$2:$E$40,4,FALSE),VLOOKUP(A628,'Hourly rates'!$B$2:$E$40,2,FALSE))","v":12},72]
["Wyatt, Ben","Business Firm:Admin SP","Intern",1099,null,1.25,"2014-10-14","2014-10-18","Tue",null,"NonBill","ZZ","Pending","Special Projects","Special Projects",null,{"$f":"IF(O629=\"Business Firm billable\",VLOOKUP(A629,'Hourly rates'!$B$2:$E$40,4,FALSE),VLOOKUP(A629,'Hourly rates'!$B$2:$E$40,2,FALSE))","v":12},15]
["Haverford, Tom","Business Firm:Admin SP","Staff",1099,null,5,"2014-10-14","2014-10-18","Tue",null,"NonBill","ZZ","Pending","BIZ Project - Special Projects","Special Projects",null,{"$f":"IF(O630=\"Business Firm billable\",VLOOKUP(A630,'Hourly rates'!$B$2:$E$40,4,FALSE),VLOOKUP(A630,'Hourly rates'!$B$2:$E$40,2,FALSE))","v":12},60]
["Dwyer, Andy","Business Firm:Admin SP","Intern",1099,null,2,"2014-10-14","2014-10-18","Tue",null,"NonBill","ZZ","Pending","Special Projects","Special Projects",null,{"$f":"IF(O631=\"Business Firm billable\",VLOOKUP(A631,'Hourly rates'!$B$2:$E$40,4,FALSE),VLOOKUP(A631,'Hourly rates'!$B$2:$E$40,2,FALSE))","v":12},24]
["Delgado, Gloria","Business Firm:**Strat","Intern",1099,null,3,"2014-10-15","2014-10-18","Wed",null,"NonBill","ZZ","Pending","606 Slide Deck","Strat Firm",null,{"$f":"IF(O632=\"Business Firm billable\",VLOOKUP(A632,'Hourly rates'!$B$2:$E$40,4,FALSE),VLOOKUP(A632,'Hourly rates'!$B$2:$E$40,2,FALSE))","v":12},36]
["Delgado, Gloria","Business Firm:Admin SP","Intern",1099,null,5,"2014-10-15","2014-10-18","Wed",null,"NonBill","ZZ","Pending","Special Projects","Special Projects",null,{"$f":"IF(O633=\"Business Firm billable\",VLOOKUP(A633,'Hourly rates'!$B$2:$E$40,4,FALSE),VLOOKUP(A633,'Hourly rates'!$B$2:$E$40,2,FALSE))","v":12},60]
["Wyatt, Ben","Business Firm:Admin SP","Intern",1099,null,2.75,"2014-10-15","2014-10-18","Wed",null,"NonBill","ZZ","Pending","Special Projects","Special Projects",null,{"$f":"IF(O634=\"Business Firm billable\",VLOOKUP(A634,'Hourly rates'!$B$2:$E$40,4,FALSE),VLOOKUP(A634,'Hourly rates'!$B$2:$E$40,2,FALSE))","v":12},33]
["Meagle, Donna","Business Firm:Admin SP","Intern",1099,null,2,"2014-10-15","2014-10-18","Wed",null,"NonBill","ZZ","Pending"," BIZ Research Project - Special Projects","Special Projects",null,{"$f":"IF(O635=\"Business Firm billable\",VLOOKUP(A635,'Hourly rates'!$B$2:$E$40,4,FALSE),VLOOKUP(A635,'Hourly rates'!$B$2:$E$40,2,FALSE))","v":12},24]
["Delgado, Gloria","Business Firm:Admin SP","Intern",1099,null,6,"2014-10-16","2014-10-18","Thu",null,"NonBill","ZZ","Pending","Special Projects","Special Projects",null,{"$f":"IF(O636=\"Business Firm billable\",VLOOKUP(A636,'Hourly rates'!$B$2:$E$40,4,FALSE),VLOOKUP(A636,'Hourly rates'!$B$2:$E$40,2,FALSE))","v":12},72]
["Delgado, Gloria","Some Client:IPO","Intern",1099,null,2,"2014-10-16","2014-10-18","Thu",null,"Admin 9%","ZZ","Pending","Interco Project","Business Firm billable",null,{"$f":"IF(O637=\"Business Firm billable\",VLOOKUP(A637,'Hourly rates'!$B$2:$E$40,4,FALSE),VLOOKUP(A637,'Hourly rates'!$B$2:$E$40,2,FALSE))","v":83},166]
["Wyatt, Ben","Business Firm:Admin SP","Intern",1099,null,2,"2014-10-16","2014-10-18","Thu",null,"NonBill","ZZ","Pending","Special Projects","Special Projects",null,{"$f":"IF(O638=\"Business Firm billable\",VLOOKUP(A638,'Hourly rates'!$B$2:$E$40,4,FALSE),VLOOKUP(A638,'Hourly rates'!$B$2:$E$40,2,FALSE))","v":12},24]
["Meagle, Donna","Business Firm:Admin SP","Intern",1099,null,2,"2014-10-16","2014-10-18","Thu",null,"NonBill","ZZ","Pending"," BIZ Research Project - Special Projects","Special Projects",null,{"$f":"IF(O639=\"Business Firm billable\",VLOOKUP(A639,'Hourly rates'!$B$2:$E$40,4,FALSE),VLOOKUP(A639,'Hourly rates'!$B$2:$E$40,2,FALSE))","v":12},24]
["Haverford, Tom","Business Firm:Admin SP","Staff",1099,null,2,"2014-10-16","2014-10-18","Thu",null,"NonBill","ZZ","Pending","BIZ Project - Special Projects","Special Projects",null,{"$f":"IF(O640=\"Business Firm billable\",VLOOKUP(A640,'Hourly rates'!$B$2:$E$40,4,FALSE),VLOOKUP(A640,'Hourly rates'!$B$2:$E$40,2,FALSE))","v":12},24]
["Delgado, Gloria","Some Client:IPO","Intern",1099,null,8,"2014-10-17","2014-10-18","Fri",null,"Admin 9%","ZZ","Pending","Interco Project","Business Firm billable",null,{"$f":"IF(O641=\"Business Firm billable\",VLOOKUP(A641,'Hourly rates'!$B$2:$E$40,4,FALSE),VLOOKUP(A641,'Hourly rates'!$B$2:$E$40,2,FALSE))","v":83},664]
["Wyatt, Ben","Business Firm:Admin SP","Intern",1099,null,1.25,"2014-10-17","2014-10-18","Fri",null,"NonBill","ZZ","Pending","Special Projects","Special Projects",null,{"$f":"IF(O642=\"Business Firm billable\",VLOOKUP(A642,'Hourly rates'!$B$2:$E$40,4,FALSE),VLOOKUP(A642,'Hourly rates'!$B$2:$E$40,2,FALSE))","v":12},{"$f":"Q642*F642","v":15}]
["Wyatt, Ben","Business Firm:Admin SP","Intern",1099,null,1,"2014-10-18","2014-10-18","Sat",null,"NonBill","ZZ","Pending","Special Projects","Special Projects",null,{"$f":"IF(O643=\"Business Firm billable\",VLOOKUP(A643,'Hourly rates'!$B$2:$E$40,4,FALSE),VLOOKUP(A643,'Hourly rates'!$B$2:$E$40,2,FALSE))","v":12},12]
["Meagle, Donna","Business Firm:Admin SP","Intern",1099,null,6,"2014-10-18","2014-10-18","Sat",null,"NonBill","ZZ","Pending"," BIZ Research Project - Special Projects","Special Projects",null,{"$f":"IF(O644=\"Business Firm billable\",VLOOKUP(A644,'Hourly rates'!$B$2:$E$40,4,FALSE),VLOOKUP(A644,'Hourly rates'!$B$2:$E$40,2,FALSE))","v":12},72]
["Haverford, Tom","Business Firm:Admin SP","Staff",1099,null,1,"2014-10-18","2014-10-18","Sat",null,"NonBill","ZZ","Pending","BIZ Project - Special Projects","Special Projects",null,{"$f":"IF(O645=\"Business Firm billable\",VLOOKUP(A645,'Hourly rates'!$B$2:$E$40,4,FALSE),VLOOKUP(A645,'Hourly rates'!$B$2:$E$40,2,FALSE))","v":12},12]
["Dwyer, Andy","Business Firm:Admin SP","Intern",1099,null,2,"2014-10-18","2014-10-18","Sat",null,"NonBill","ZZ","Pending","Special Projects","Special Projects",null,{"$f":"IF(O646=\"Business Firm billable\",VLOOKUP(A646,'Hourly rates'!$B$2:$E$40,4,FALSE),VLOOKUP(A646,'Hourly rates'!$B$2:$E$40,2,FALSE))","v":12},24]
["Delgado, Gloria","Business Firm:**Strat","Intern",1099,null,2,"2014-10-20","2014-10-25","Mon",null,"NonBill","ZZ","2014-10-29","606 slide deck","Strat Firm",null,{"$f":"IF(O647=\"Business Firm billable\",VLOOKUP(A647,'Hourly rates'!$B$2:$E$40,4,FALSE),VLOOKUP(A647,'Hourly rates'!$B$2:$E$40,2,FALSE))","v":12},24]
["Delgado, Gloria","Some Client:IPO","Intern",1099,null,2,"2014-10-20","2014-10-25","Mon",null,"Admin 9%","ZZ","2014-10-29","interco","Business Firm billable",null,{"$f":"IF(O648=\"Business Firm billable\",VLOOKUP(A648,'Hourly rates'!$B$2:$E$40,4,FALSE),VLOOKUP(A648,'Hourly rates'!$B$2:$E$40,2,FALSE))","v":83},166]
["Delgado, Gloria","Some Client:IPO","Intern",1099,null,4,"2014-10-20","2014-10-25","Mon",null,"Admin 9%","ZZ","2014-10-29","Q3","Business Firm billable",null,{"$f":"IF(O649=\"Business Firm billable\",VLOOKUP(A649,'Hourly rates'!$B$2:$E$40,4,FALSE),VLOOKUP(A649,'Hourly rates'!$B$2:$E$40,2,FALSE))","v":83},332]
["Wyatt, Ben","Business Firm:Admin SP","Intern",1099,null,1.25,"2014-10-20","2014-10-25","Mon",null,"NonBill","ZZ","2014-10-29","Special Projects","Special Projects",null,{"$f":"IF(O650=\"Business Firm billable\",VLOOKUP(A650,'Hourly rates'!$B$2:$E$40,4,FALSE),VLOOKUP(A650,'Hourly rates'!$B$2:$E$40,2,FALSE))","v":12},15]
["Haverford, Tom","Business Firm:Admin SP","Staff",1099,null,1,"2014-10-20","2014-10-25","Mon",null,"NonBill","ZZ","2014-11-05","BIZ Project - Special Projects","Special Projects",null,{"$f":"IF(O651=\"Business Firm billable\",VLOOKUP(A651,'Hourly rates'!$B$2:$E$40,4,FALSE),VLOOKUP(A651,'Hourly rates'!$B$2:$E$40,2,FALSE))","v":12},12]
["Delgado, Gloria","Business Firm:Admin SP","Intern",1099,null,3,"2014-10-21","2014-10-25","Tue",null,"NonBill","ZZ","2014-10-29","Special Projects","Special Projects",null,{"$f":"IF(O652=\"Business Firm billable\",VLOOKUP(A652,'Hourly rates'!$B$2:$E$40,4,FALSE),VLOOKUP(A652,'Hourly rates'!$B$2:$E$40,2,FALSE))","v":12},36]
["Delgado, Gloria","Some Client:IPO","Intern",1099,null,7,"2014-10-21","2014-10-25","Tue",null,"Admin 9%","ZZ","2014-10-29","Q3","Business Firm billable",null,{"$f":"IF(O653=\"Business Firm billable\",VLOOKUP(A653,'Hourly rates'!$B$2:$E$40,4,FALSE),VLOOKUP(A653,'Hourly rates'!$B$2:$E$40,2,FALSE))","v":83},581]
["Wyatt, Ben","Business Firm:Admin SP","Intern",1099,null,1,"2014-10-21","2014-10-25","Tue",null,"NonBill","ZZ","2014-10-29","Special Projects","Special Projects",null,{"$f":"IF(O654=\"Business Firm billable\",VLOOKUP(A654,'Hourly rates'!$B$2:$E$40,4,FALSE),VLOOKUP(A654,'Hourly rates'!$B$2:$E$40,2,FALSE))","v":12},12]
["Meagle, Donna","Business Firm:Admin SP","Intern",1099,null,4,"2014-10-21","2014-10-25","Tue",null,"NonBill","ZZ","2014-10-29"," BIZ Research Project - Special Projects","Special Projects",null,{"$f":"IF(O655=\"Business Firm billable\",VLOOKUP(A655,'Hourly rates'!$B$2:$E$40,4,FALSE),VLOOKUP(A655,'Hourly rates'!$B$2:$E$40,2,FALSE))","v":12},48]
["Haverford, Tom","Business Firm:Admin SP","Staff",1099,null,4,"2014-10-21","2014-10-25","Tue",null,"NonBill","ZZ","2014-11-05","BIZ Project - Special Projects","Special Projects",null,{"$f":"IF(O656=\"Business Firm billable\",VLOOKUP(A656,'Hourly rates'!$B$2:$E$40,4,FALSE),VLOOKUP(A656,'Hourly rates'!$B$2:$E$40,2,FALSE))","v":12},48]
["Delgado, Gloria","Business Firm:Admin SP","Intern",1099,null,2,"2014-10-22","2014-10-25","Wed",null,"NonBill","ZZ","2014-10-29","Special Projects","Special Projects",null,{"$f":"IF(O657=\"Business Firm billable\",VLOOKUP(A657,'Hourly rates'!$B$2:$E$40,4,FALSE),VLOOKUP(A657,'Hourly rates'!$B$2:$E$40,2,FALSE))","v":12},24]
["Delgado, Gloria","Some Client:IPO","Intern",1099,null,7,"2014-10-22","2014-10-25","Wed",null,"Admin 9%","ZZ","2014-10-29","Q3","Business Firm billable",null,{"$f":"IF(O658=\"Business Firm billable\",VLOOKUP(A658,'Hourly rates'!$B$2:$E$40,4,FALSE),VLOOKUP(A658,'Hourly rates'!$B$2:$E$40,2,FALSE))","v":83},581]
["Wyatt, Ben","Business Firm:Admin SP","Intern",1099,null,1.25,"2014-10-22","2014-10-25","Wed",null,"NonBill","ZZ","2014-10-29","Special Projects","Special Projects",null,{"$f":"IF(O659=\"Business Firm billable\",VLOOKUP(A659,'Hourly rates'!$B$2:$E$40,4,FALSE),VLOOKUP(A659,'Hourly rates'!$B$2:$E$40,2,FALSE))","v":12},15]
["Meagle, Donna","Business Firm:Admin SP","Intern",1099,null,3,"2014-10-22","2014-10-25","Wed",null,"NonBill","ZZ","2014-10-29"," BIZ Research Project - Special Projects","Special Projects",null,{"$f":"IF(O660=\"Business Firm billable\",VLOOKUP(A660,'Hourly rates'!$B$2:$E$40,4,FALSE),VLOOKUP(A660,'Hourly rates'!$B$2:$E$40,2,FALSE))","v":12},36]
["Almeida, Tony","Business Firm:Admin SP","Intern",1099,null,1,"2014-10-22","2014-10-25","Wed",null,"NonBill","ZZ","2014-11-04","Special Projects","Special Projects",null,{"$f":"IF(O661=\"Business Firm billable\",VLOOKUP(A661,'Hourly rates'!$B$2:$E$40,4,FALSE),VLOOKUP(A661,'Hourly rates'!$B$2:$E$40,2,FALSE))","v":12},12,null,{"$f":"A661&B661&C661&D661&E661&F661&G661&H661&I661&K661&N661&O661","v":"Almeida, TonyBusiness Firm:Admin SPIntern109914193441937WedNonBillSpecial ProjectsSpecial Projects"}," "]
["Haverford, Tom","Business Firm:Admin SP","Staff",1099,null,2,"2014-10-22","2014-10-25","Wed",null,"NonBill","ZZ","2014-11-05","BIZ Project - Special Projects","Special Projects",null,{"$f":"IF(O662=\"Business Firm billable\",VLOOKUP(A662,'Hourly rates'!$B$2:$E$40,4,FALSE),VLOOKUP(A662,'Hourly rates'!$B$2:$E$40,2,FALSE))","v":12},24]
["Dwyer, Andy","Business Firm:Admin SP","Intern",1099,null,1.75,"2014-10-22","2014-10-25","Wed",null,"NonBill","ZZ","2014-10-29","Special Projects","Special Projects",null,{"$f":"IF(O663=\"Business Firm billable\",VLOOKUP(A663,'Hourly rates'!$B$2:$E$40,4,FALSE),VLOOKUP(A663,'Hourly rates'!$B$2:$E$40,2,FALSE))","v":12},21]
["Delgado, Gloria","Business Firm:Admin SP","Intern",1099,null,2,"2014-10-23","2014-10-25","Thu",null,"NonBill","ZZ","2014-10-29","Special Projects","Special Projects",null,{"$f":"IF(O664=\"Business Firm billable\",VLOOKUP(A664,'Hourly rates'!$B$2:$E$40,4,FALSE),VLOOKUP(A664,'Hourly rates'!$B$2:$E$40,2,FALSE))","v":12},24]
["Delgado, Gloria","Some Client:IPO","Intern",1099,null,9,"2014-10-23","2014-10-25","Thu",null,"Admin 9%","ZZ","2014-10-29","Q3","Business Firm billable",null,{"$f":"IF(O665=\"Business Firm billable\",VLOOKUP(A665,'Hourly rates'!$B$2:$E$40,4,FALSE),VLOOKUP(A665,'Hourly rates'!$B$2:$E$40,2,FALSE))","v":83},747]
["Wyatt, Ben","Business Firm:Admin SP","Intern",1099,null,1.75,"2014-10-23","2014-10-25","Thu",null,"NonBill","ZZ","2014-10-29","Special Projects","Special Projects",null,{"$f":"IF(O666=\"Business Firm billable\",VLOOKUP(A666,'Hourly rates'!$B$2:$E$40,4,FALSE),VLOOKUP(A666,'Hourly rates'!$B$2:$E$40,2,FALSE))","v":12},21]
["Meagle, Donna","Business Firm:Admin SP","Intern",1099,null,2,"2014-10-23","2014-10-25","Thu",null,"NonBill","ZZ","2014-10-29"," BIZ Research Project - Special Projects","Special Projects",null,{"$f":"IF(O667=\"Business Firm billable\",VLOOKUP(A667,'Hourly rates'!$B$2:$E$40,4,FALSE),VLOOKUP(A667,'Hourly rates'!$B$2:$E$40,2,FALSE))","v":12},24]
["Almeida, Tony","Business Firm:Admin SP","Intern",1099,null,1,"2014-10-23","2014-10-25","Thu",null,"NonBill","ZZ","2014-11-04","Special Projects","Special Projects",null,{"$f":"IF(O668=\"Business Firm billable\",VLOOKUP(A668,'Hourly rates'!$B$2:$E$40,4,FALSE),VLOOKUP(A668,'Hourly rates'!$B$2:$E$40,2,FALSE))","v":12},12,null,{"$f":"A668&B668&C668&D668&E668&F668&G668&H668&I668&K668&N668&O668","v":"Almeida, TonyBusiness Firm:Admin SPIntern109914193541937ThuNonBillSpecial ProjectsSpecial Projects"}," "]
["Haverford, Tom","Business Firm:Admin SP","Staff",1099,null,3,"2014-10-23","2014-10-25","Thu",null,"NonBill","ZZ","2014-11-05","BIZ Project - Special Projects","Special Projects",null,{"$f":"IF(O669=\"Business Firm billable\",VLOOKUP(A669,'Hourly rates'!$B$2:$E$40,4,FALSE),VLOOKUP(A669,'Hourly rates'!$B$2:$E$40,2,FALSE))","v":12},36]
["Dwyer, Andy","Business Firm:Admin SP","Intern",1099,null,1.25,"2014-10-23","2014-10-25","Thu",null,"NonBill","ZZ","2014-10-29","Special Projects","Special Projects",null,{"$f":"IF(O670=\"Business Firm billable\",VLOOKUP(A670,'Hourly rates'!$B$2:$E$40,4,FALSE),VLOOKUP(A670,'Hourly rates'!$B$2:$E$40,2,FALSE))","v":12},15]
["Delgado, Gloria","Some Client:IPO","Intern",1099,null,9,"2014-10-24","2014-10-25","Fri",null,"Admin 9%","ZZ","2014-10-29","Q3","Business Firm billable",null,{"$f":"IF(O671=\"Business Firm billable\",VLOOKUP(A671,'Hourly rates'!$B$2:$E$40,4,FALSE),VLOOKUP(A671,'Hourly rates'!$B$2:$E$40,2,FALSE))","v":83},747]
["Delgado, Gloria","Business Firm:Admin SP","Intern",1099,null,2,"2014-10-27","2014-11-01","Mon",null,"NonBill","ZZ","2014-11-03","Special Projects","Special Projects",null,{"$f":"IF(O672=\"Business Firm billable\",VLOOKUP(A672,'Hourly rates'!$B$2:$E$40,4,FALSE),VLOOKUP(A672,'Hourly rates'!$B$2:$E$40,2,FALSE))","v":12},24]
["Delgado, Gloria","Some Client:IPO","Intern",1099,null,8,"2014-10-27","2014-11-01","Mon",null,"Admin 9%","ZZ","2014-11-03","Q3","Business Firm billable",null,{"$f":"IF(O673=\"Business Firm billable\",VLOOKUP(A673,'Hourly rates'!$B$2:$E$40,4,FALSE),VLOOKUP(A673,'Hourly rates'!$B$2:$E$40,2,FALSE))","v":83},664]
["Wyatt, Ben","Business Firm:Admin SP","Intern",1099,null,1.25,"2014-10-27","2014-11-01","Mon",null,"NonBill","ZZ","2014-11-03","Special Projects","Special Projects",null,{"$f":"IF(O674=\"Business Firm billable\",VLOOKUP(A674,'Hourly rates'!$B$2:$E$40,4,FALSE),VLOOKUP(A674,'Hourly rates'!$B$2:$E$40,2,FALSE))","v":12},15]
["Haverford, Tom","Business Firm:Admin SP","Staff",1099,null,2,"2014-10-27","2014-11-01","Mon",null,"NonBill","ZZ","2014-11-05","BIZ Project - Special Projects","Special Projects",null,{"$f":"IF(O675=\"Business Firm billable\",VLOOKUP(A675,'Hourly rates'!$B$2:$E$40,4,FALSE),VLOOKUP(A675,'Hourly rates'!$B$2:$E$40,2,FALSE))","v":12},24]
["Delgado, Gloria","Business Firm:Admin SP","Intern",1099,null,8,"2014-10-28","2014-11-01","Tue",null,"NonBill","ZZ","2014-11-03","Special Projects","Special Projects",null,{"$f":"IF(O676=\"Business Firm billable\",VLOOKUP(A676,'Hourly rates'!$B$2:$E$40,4,FALSE),VLOOKUP(A676,'Hourly rates'!$B$2:$E$40,2,FALSE))","v":12},96]
["Delgado, Gloria","Some Client:IPO","Intern",1099,null,2,"2014-10-28","2014-11-01","Tue",null,"Admin 9%","ZZ","2014-11-03","Q3","Business Firm billable",null,{"$f":"IF(O677=\"Business Firm billable\",VLOOKUP(A677,'Hourly rates'!$B$2:$E$40,4,FALSE),VLOOKUP(A677,'Hourly rates'!$B$2:$E$40,2,FALSE))","v":83},166]
["Wyatt, Ben","Business Firm:Admin SP","Intern",1099,null,1.75,"2014-10-28","2014-11-01","Tue",null,"NonBill","ZZ","2014-11-03","Special Projects","Special Projects",null,{"$f":"IF(O678=\"Business Firm billable\",VLOOKUP(A678,'Hourly rates'!$B$2:$E$40,4,FALSE),VLOOKUP(A678,'Hourly rates'!$B$2:$E$40,2,FALSE))","v":12},21]
["Haverford, Tom","Business Firm:Admin SP","Staff",1099,null,5,"2014-10-28","2014-11-01","Tue",null,"NonBill","ZZ","2014-11-05","BIZ Project - Special Projects","Special Projects",null,{"$f":"IF(O679=\"Business Firm billable\",VLOOKUP(A679,'Hourly rates'!$B$2:$E$40,4,FALSE),VLOOKUP(A679,'Hourly rates'!$B$2:$E$40,2,FALSE))","v":12},60]
["Delgado, Gloria","Business Firm:**Strat","Intern",1099,null,7,"2014-10-29","2014-11-01","Wed",null,"NonBill","ZZ","2014-11-03","606 Training Materials","Strat Firm",null,{"$f":"IF(O680=\"Business Firm billable\",VLOOKUP(A680,'Hourly rates'!$B$2:$E$40,4,FALSE),VLOOKUP(A680,'Hourly rates'!$B$2:$E$40,2,FALSE))","v":12},84]
["Delgado, Gloria","Business Firm:Admin SP","Intern",1099,null,1,"2014-10-29","2014-11-01","Wed",null,"NonBill","ZZ","2014-11-03","Special Projects","Special Projects",null,{"$f":"IF(O681=\"Business Firm billable\",VLOOKUP(A681,'Hourly rates'!$B$2:$E$40,4,FALSE),VLOOKUP(A681,'Hourly rates'!$B$2:$E$40,2,FALSE))","v":12},12]
["Wyatt, Ben","Business Firm:Admin SP","Intern",1099,null,1.25,"2014-10-29","2014-11-01","Wed",null,"NonBill","ZZ","2014-11-03","Special Projects","Special Projects",null,{"$f":"IF(O682=\"Business Firm billable\",VLOOKUP(A682,'Hourly rates'!$B$2:$E$40,4,FALSE),VLOOKUP(A682,'Hourly rates'!$B$2:$E$40,2,FALSE))","v":12},15]
["Almeida, Tony","Business Firm:Administration","Intern",1099,null,1.25,"2014-10-29","2014-11-01","Wed",null,"NonBill","ZZ","2014-11-05",null,"Special Projects",null,{"$f":"IF(O683=\"Business Firm billable\",VLOOKUP(A683,'Hourly rates'!$B$2:$E$40,4,FALSE),VLOOKUP(A683,'Hourly rates'!$B$2:$E$40,2,FALSE))","v":12},15,null,{"$f":"A683&B683&C683&D683&E683&F683&G683&H683&I683&K683&N683&O683","v":"Almeida, TonyBusiness Firm:AdministrationIntern10991.254194141944WedNonBillSpecial Projects"}," "]
["Haverford, Tom","Business Firm:Admin SP","Staff",1099,null,2,"2014-10-29","2014-11-01","Wed",null,"NonBill","ZZ","2014-11-05","BIZ Project - Special Projects","Special Projects",null,{"$f":"IF(O684=\"Business Firm billable\",VLOOKUP(A684,'Hourly rates'!$B$2:$E$40,4,FALSE),VLOOKUP(A684,'Hourly rates'!$B$2:$E$40,2,FALSE))","v":12},24]
["Dwyer, Andy","Business Firm:Admin SP","Intern",1099,null,1.25,"2014-10-29","2014-11-01","Wed",null,"NonBill","ZZ","2014-11-05","Special Projects","Special Projects",null,{"$f":"IF(O685=\"Business Firm billable\",VLOOKUP(A685,'Hourly rates'!$B$2:$E$40,4,FALSE),VLOOKUP(A685,'Hourly rates'!$B$2:$E$40,2,FALSE))","v":12},15]
["Delgado, Gloria","Business Firm:**Strat","Intern",1099,null,2,"2014-10-30","2014-11-01","Thu",null,"NonBill","ZZ","2014-11-03","606 Training Materials","Strat Firm",null,{"$f":"IF(O686=\"Business Firm billable\",VLOOKUP(A686,'Hourly rates'!$B$2:$E$40,4,FALSE),VLOOKUP(A686,'Hourly rates'!$B$2:$E$40,2,FALSE))","v":12},24]
["Delgado, Gloria","Business Firm:Training - trainee","Intern",1099,null,4,"2014-10-30","2014-11-01","Thu",null,"NonBill","ZZ","2014-11-03","606 Training","Strat Firm",null,{"$f":"IF(O687=\"Business Firm billable\",VLOOKUP(A687,'Hourly rates'!$B$2:$E$40,4,FALSE),VLOOKUP(A687,'Hourly rates'!$B$2:$E$40,2,FALSE))","v":12},48]
["Delgado, Gloria","Some Client:IPO","Intern",1099,null,2,"2014-10-30","2014-11-01","Thu",null,"Admin 9%","ZZ","2014-11-03","Q3","Business Firm billable",null,{"$f":"IF(O688=\"Business Firm billable\",VLOOKUP(A688,'Hourly rates'!$B$2:$E$40,4,FALSE),VLOOKUP(A688,'Hourly rates'!$B$2:$E$40,2,FALSE))","v":83},166]
["Wyatt, Ben","Business Firm:Admin SP","Intern",1099,null,2.25,"2014-10-30","2014-11-01","Thu",null,"NonBill","ZZ","2014-11-03","Special Projects","Special Projects",null,{"$f":"IF(O689=\"Business Firm billable\",VLOOKUP(A689,'Hourly rates'!$B$2:$E$40,4,FALSE),VLOOKUP(A689,'Hourly rates'!$B$2:$E$40,2,FALSE))","v":12},27]
["Meagle, Donna","Business Firm:Admin SP","Intern",1099,null,2,"2014-10-30","2014-11-01","Thu",null,"NonBill","ZZ","2014-11-03"," BIZ Research Project - Special Projects","Special Projects",null,{"$f":"IF(O690=\"Business Firm billable\",VLOOKUP(A690,'Hourly rates'!$B$2:$E$40,4,FALSE),VLOOKUP(A690,'Hourly rates'!$B$2:$E$40,2,FALSE))","v":12},24]
["Almeida, Tony","Business Firm:Administration","Intern",1099,null,1.25,"2014-10-30","2014-11-01","Thu",null,"NonBill","ZZ","2014-11-05",null,"Special Projects",null,{"$f":"IF(O691=\"Business Firm billable\",VLOOKUP(A691,'Hourly rates'!$B$2:$E$40,4,FALSE),VLOOKUP(A691,'Hourly rates'!$B$2:$E$40,2,FALSE))","v":12},15,null,{"$f":"A691&B691&C691&D691&E691&F691&G691&H691&I691&K691&N691&O691","v":"Almeida, TonyBusiness Firm:AdministrationIntern10991.254194241944ThuNonBillSpecial Projects"}," "]
["Haverford, Tom","Business Firm:Admin SP","Staff",1099,null,1,"2014-10-30","2014-11-01","Thu",null,"NonBill","ZZ","2014-11-05","BIZ Project - Special Projects","Special Projects",null,{"$f":"IF(O692=\"Business Firm billable\",VLOOKUP(A692,'Hourly rates'!$B$2:$E$40,4,FALSE),VLOOKUP(A692,'Hourly rates'!$B$2:$E$40,2,FALSE))","v":12},12]
["Dwyer, Andy","Business Firm:Admin SP","Intern",1099,null,1.75,"2014-10-30","2014-11-01","Thu",null,"NonBill","ZZ","2014-11-05","Special Projects","Special Projects",null,{"$f":"IF(O693=\"Business Firm billable\",VLOOKUP(A693,'Hourly rates'!$B$2:$E$40,4,FALSE),VLOOKUP(A693,'Hourly rates'!$B$2:$E$40,2,FALSE))","v":12},21]
["Delgado, Gloria","Business Firm:**Strat","Intern",1099,null,2,"2014-10-31","2014-11-01","Fri",null,"NonBill","ZZ","2014-11-03","606 Training Materials","Strat Firm",null,{"$f":"IF(O694=\"Business Firm billable\",VLOOKUP(A694,'Hourly rates'!$B$2:$E$40,4,FALSE),VLOOKUP(A694,'Hourly rates'!$B$2:$E$40,2,FALSE))","v":12},24]
["Delgado, Gloria","Business Firm:Admin SP","Intern",1099,null,2,"2014-10-31","2014-11-01","Fri",null,"NonBill","ZZ","2014-11-03","Special Projects","Special Projects",null,{"$f":"IF(O695=\"Business Firm billable\",VLOOKUP(A695,'Hourly rates'!$B$2:$E$40,4,FALSE),VLOOKUP(A695,'Hourly rates'!$B$2:$E$40,2,FALSE))","v":12},24]
["Delgado, Gloria","ClosetsClosetsClosetsClosets:Tech Acctg","Intern",1099,null,4,"2014-10-31","2014-11-01","Fri",null,"Admin 9%","ZZ","2014-11-03",606,"Business Firm billable",null,{"$f":"IF(O696=\"Business Firm billable\",VLOOKUP(A696,'Hourly rates'!$B$2:$E$40,4,FALSE),VLOOKUP(A696,'Hourly rates'!$B$2:$E$40,2,FALSE))","v":83},332]
["Wyatt, Ben","Business Firm:Admin SP","Intern",1099,null,1.25,"2014-10-31","2014-11-01","Fri",null,"NonBill","ZZ","2014-11-03","Special Projects","Special Projects",null,{"$f":"IF(O697=\"Business Firm billable\",VLOOKUP(A697,'Hourly rates'!$B$2:$E$40,4,FALSE),VLOOKUP(A697,'Hourly rates'!$B$2:$E$40,2,FALSE))","v":12},15]
["Meagle, Donna","ClosetsClosetsClosetsClosets:Tech Acctg","Intern",1099,null,5,"2014-10-31","2014-11-01","Fri",null,"Admin 9%","ZZ","2014-11-03","Implementation Services Research","Business Firm billable",null,{"$f":"IF(O698=\"Business Firm billable\",VLOOKUP(A698,'Hourly rates'!$B$2:$E$40,4,FALSE),VLOOKUP(A698,'Hourly rates'!$B$2:$E$40,2,FALSE))","v":83},415]
["Wyatt, Ben","Business Firm:Admin SP","Intern",1099,null,1.25,"2014-11-01","2014-11-01","Sat",null,"NonBill","ZZ","2014-11-03","Special Projects","Special Projects",null,{"$f":"IF(O699=\"Business Firm billable\",VLOOKUP(A699,'Hourly rates'!$B$2:$E$40,4,FALSE),VLOOKUP(A699,'Hourly rates'!$B$2:$E$40,2,FALSE))","v":12},15]
["Meagle, Donna","Business Firm:Admin SP","Intern",1099,null,3,"2014-11-01","2014-11-01","Sat",null,"NonBill","ZZ","2014-11-03"," BIZ Research Project - Special Projects","Special Projects",null,{"$f":"IF(O700=\"Business Firm billable\",VLOOKUP(A700,'Hourly rates'!$B$2:$E$40,4,FALSE),VLOOKUP(A700,'Hourly rates'!$B$2:$E$40,2,FALSE))","v":12},36]
["Dwyer, Andy","Business Firm:Administration","Intern",1099,null,2,"2014-11-01","2014-11-01","Sat",null,"NonBill","ZZ","2014-11-05","BIZ Studies-restatements","BIZ Research Projects",null,{"$f":"IF(O701=\"Business Firm billable\",VLOOKUP(A701,'Hourly rates'!$B$2:$E$40,4,FALSE),VLOOKUP(A701,'Hourly rates'!$B$2:$E$40,2,FALSE))","v":12},24]
["Delgado, Gloria","ClosetsClosetsClosetsClosets:Tech Acctg","Intern",1099,null,8,"2014-11-03","2014-11-08","Mon",null,"Admin 9%","ZZ","2014-11-18","ASC 606","Business Firm billable",null,{"$f":"IF(O702=\"Business Firm billable\",VLOOKUP(A702,'Hourly rates'!$B$2:$E$40,4,FALSE),VLOOKUP(A702,'Hourly rates'!$B$2:$E$40,2,FALSE))","v":83},664]
["Haverford, Tom","Business Firm:Admin SP","Staff",1099,null,3,"2014-11-03","2014-11-08","Mon",null,"NonBill","ZZ","2014-11-18",null,"Special Projects",null,{"$f":"IF(O703=\"Business Firm billable\",VLOOKUP(A703,'Hourly rates'!$B$2:$E$40,4,FALSE),VLOOKUP(A703,'Hourly rates'!$B$2:$E$40,2,FALSE))","v":12},36]
["Delgado, Gloria","Business Firm:Strat","Intern",1099,null,3,"2014-11-04","2014-11-08","Tue",null,"NonBill","ZZ","2014-11-18","ASC 606","Strat Firm",null,{"$f":"IF(O704=\"Business Firm billable\",VLOOKUP(A704,'Hourly rates'!$B$2:$E$40,4,FALSE),VLOOKUP(A704,'Hourly rates'!$B$2:$E$40,2,FALSE))","v":12},36]
["Delgado, Gloria","ClosetsClosetsClosetsClosets:Tech Acctg","Intern",1099,null,6,"2014-11-04","2014-11-08","Tue",null,"Admin 9%","ZZ","2014-11-18","ASC 606","Business Firm billable",null,{"$f":"IF(O705=\"Business Firm billable\",VLOOKUP(A705,'Hourly rates'!$B$2:$E$40,4,FALSE),VLOOKUP(A705,'Hourly rates'!$B$2:$E$40,2,FALSE))","v":83},498]
["Wyatt, Ben","Business Firm:Admin SP","Intern",1099,null,1.75,"2014-11-04","2014-11-08","Tue",null,"NonBill","ZZ","2014-11-18",null,"Special Projects",null,{"$f":"IF(O706=\"Business Firm billable\",VLOOKUP(A706,'Hourly rates'!$B$2:$E$40,4,FALSE),VLOOKUP(A706,'Hourly rates'!$B$2:$E$40,2,FALSE))","v":12},{"$f":"Q706*F706","v":21}]
["Haverford, Tom","Duke Silver:IPO","Staff",1099,null,6,"2014-11-04","2014-11-08","Tue",null,"Admin 9%","ZZ","2014-11-18","Searched for engagement letter and filing that gave details on how private offering expenses handled","Business Firm billable",null,{"$f":"IF(O707=\"Business Firm billable\",VLOOKUP(A707,'Hourly rates'!$B$2:$E$40,4,FALSE),VLOOKUP(A707,'Hourly rates'!$B$2:$E$40,2,FALSE))","v":83},498]
["Haverford, Tom","Business Firm:Admin SP","Staff",1099,null,6,"2014-11-04","2014-11-08","Tue",null,"NonBill","ZZ","2014-11-18",null,"Special Projects",null,{"$f":"IF(O708=\"Business Firm billable\",VLOOKUP(A708,'Hourly rates'!$B$2:$E$40,4,FALSE),VLOOKUP(A708,'Hourly rates'!$B$2:$E$40,2,FALSE))","v":12},72]
["Delgado, Gloria","Business Firm:Admin SP","Intern",1099,null,2,"2014-11-05","2014-11-08","Wed",null,"NonBill","ZZ","2014-11-18","special projects","Special Projects",null,{"$f":"IF(O709=\"Business Firm billable\",VLOOKUP(A709,'Hourly rates'!$B$2:$E$40,4,FALSE),VLOOKUP(A709,'Hourly rates'!$B$2:$E$40,2,FALSE))","v":12},24]
["Delgado, Gloria","Some Client:IPO","Intern",1099,null,6,"2014-11-05","2014-11-08","Wed",null,"Admin 9%","ZZ","2014-11-18","Fund Board Presentation","Business Firm billable",null,{"$f":"IF(O710=\"Business Firm billable\",VLOOKUP(A710,'Hourly rates'!$B$2:$E$40,4,FALSE),VLOOKUP(A710,'Hourly rates'!$B$2:$E$40,2,FALSE))","v":83},498]
["Wyatt, Ben","Business Firm:Admin SP","Intern",1099,null,2,"2014-11-05","2014-11-08","Wed",null,"NonBill","ZZ","2014-11-18",null,"Special Projects",null,{"$f":"IF(O711=\"Business Firm billable\",VLOOKUP(A711,'Hourly rates'!$B$2:$E$40,4,FALSE),VLOOKUP(A711,'Hourly rates'!$B$2:$E$40,2,FALSE))","v":12},24]
["Meagle, Donna","Business Firm:Admin SP","Intern",1099,null,3,"2014-11-05","2014-11-08","Wed",null,"NonBill","ZZ","2014-11-18"," BIZ Research Project - Special Projects","Special Projects",null,{"$f":"IF(O712=\"Business Firm billable\",VLOOKUP(A712,'Hourly rates'!$B$2:$E$40,4,FALSE),VLOOKUP(A712,'Hourly rates'!$B$2:$E$40,2,FALSE))","v":12},36]
["Meagle, Donna","ClosetsClosetsClosetsClosets:Tech Acctg","Intern",1099,null,2,"2014-11-05","2014-11-08","Wed",null,"Admin 9%","ZZ","2014-11-18","Implementation Services Research","Business Firm billable",null,{"$f":"IF(O713=\"Business Firm billable\",VLOOKUP(A713,'Hourly rates'!$B$2:$E$40,4,FALSE),VLOOKUP(A713,'Hourly rates'!$B$2:$E$40,2,FALSE))","v":83},166]
["Haverford, Tom","Duke Silver:IPO","Staff",1099,null,3,"2014-11-05","2014-11-08","Wed",null,"Admin 9%","ZZ","2014-11-18","Searched for engagement letter and filing that gave details on how private offering expenses handled","Business Firm billable",null,{"$f":"IF(O714=\"Business Firm billable\",VLOOKUP(A714,'Hourly rates'!$B$2:$E$40,4,FALSE),VLOOKUP(A714,'Hourly rates'!$B$2:$E$40,2,FALSE))","v":83},249]
["Haverford, Tom","Business Firm:Admin SP","Staff",1099,null,1,"2014-11-05","2014-11-08","Wed",null,"NonBill","ZZ","2014-11-18",null,"Special Projects",null,{"$f":"IF(O715=\"Business Firm billable\",VLOOKUP(A715,'Hourly rates'!$B$2:$E$40,4,FALSE),VLOOKUP(A715,'Hourly rates'!$B$2:$E$40,2,FALSE))","v":12},12]
["Delgado, Gloria","Some Client:IPO","Intern",1099,null,8,"2014-11-06","2014-11-08","Thu",null,"Admin 9%","ZZ","2014-11-18","Fund Board Presentation","Business Firm billable",null,{"$f":"IF(O716=\"Business Firm billable\",VLOOKUP(A716,'Hourly rates'!$B$2:$E$40,4,FALSE),VLOOKUP(A716,'Hourly rates'!$B$2:$E$40,2,FALSE))","v":83},664]
["Wyatt, Ben","Duke Silver:IPO","Intern",1099,null,1.25,"2014-11-06","2014-11-08","Thu",null,"Admin 9%","ZZ","2014-11-18","searched engagement letters and filings for details on how private offereing expenses are handled","Business Firm billable",null,{"$f":"IF(O717=\"Business Firm billable\",VLOOKUP(A717,'Hourly rates'!$B$2:$E$40,4,FALSE),VLOOKUP(A717,'Hourly rates'!$B$2:$E$40,2,FALSE))","v":83},103.75]
["Wyatt, Ben","Business Firm:Admin SP","Intern",1099,null,1.25,"2014-11-06","2014-11-08","Thu",null,"NonBill","ZZ","2014-11-18",null,"Special Projects",null,{"$f":"IF(O718=\"Business Firm billable\",VLOOKUP(A718,'Hourly rates'!$B$2:$E$40,4,FALSE),VLOOKUP(A718,'Hourly rates'!$B$2:$E$40,2,FALSE))","v":12},15]
["Wyatt, Ben","ClosetsClosetsClosetsClosets:Tech Acctg","Intern",1099,null,1.75,"2014-11-06","2014-11-08","Thu",null,"Admin 9%","ZZ","2014-11-18","ClosetsClosetsClosetsClosets ASC 606 implementation","Business Firm billable",null,{"$f":"IF(O719=\"Business Firm billable\",VLOOKUP(A719,'Hourly rates'!$B$2:$E$40,4,FALSE),VLOOKUP(A719,'Hourly rates'!$B$2:$E$40,2,FALSE))","v":83},145.25]
["Meagle, Donna","Business Firm:Admin SP","Intern",1099,null,3,"2014-11-06","2014-11-08","Thu",null,"NonBill","ZZ","2014-11-18"," BIZ Research Project - Special Projects","Special Projects",null,{"$f":"IF(O720=\"Business Firm billable\",VLOOKUP(A720,'Hourly rates'!$B$2:$E$40,4,FALSE),VLOOKUP(A720,'Hourly rates'!$B$2:$E$40,2,FALSE))","v":12},36]
["Haverford, Tom","Duke Silver:IPO","Staff",1099,null,6,"2014-11-06","2014-11-08","Thu",null,"Admin 9%","ZZ","2014-11-18","Searched for engagement letter and filing that gave details on how private offering expenses handled","Business Firm billable",null,{"$f":"IF(O721=\"Business Firm billable\",VLOOKUP(A721,'Hourly rates'!$B$2:$E$40,4,FALSE),VLOOKUP(A721,'Hourly rates'!$B$2:$E$40,2,FALSE))","v":83},498]
["Dwyer, Andy","Business Firm:Administration","Intern",1099,null,1.75,"2014-11-06","2014-11-08","Thu",null,"NonBill","ZZ","2014-11-18","BIZ Studies-Restatements","BIZ Research Projects",null,{"$f":"IF(O722=\"Business Firm billable\",VLOOKUP(A722,'Hourly rates'!$B$2:$E$40,4,FALSE),VLOOKUP(A722,'Hourly rates'!$B$2:$E$40,2,FALSE))","v":12},21]
["Delgado, Gloria","Business Firm:Strat","Intern",1099,null,6,"2014-11-07","2014-11-08","Fri",null,"NonBill","ZZ","2014-11-18","ASC 606","Strat Firm",null,{"$f":"IF(O723=\"Business Firm billable\",VLOOKUP(A723,'Hourly rates'!$B$2:$E$40,4,FALSE),VLOOKUP(A723,'Hourly rates'!$B$2:$E$40,2,FALSE))","v":12},72]
["Delgado, Gloria","ClosetsClosetsClosetsClosets:Tech Acctg","Intern",1099,null,2,"2014-11-07","2014-11-08","Fri",null,"Admin 9%","ZZ","2014-11-18","ASC 606","Business Firm billable",null,{"$f":"IF(O724=\"Business Firm billable\",VLOOKUP(A724,'Hourly rates'!$B$2:$E$40,4,FALSE),VLOOKUP(A724,'Hourly rates'!$B$2:$E$40,2,FALSE))","v":83},166]
["Wyatt, Ben","Business Firm:Admin SP","Intern",1099,null,1.25,"2014-11-07","2014-11-08","Fri",null,"NonBill","ZZ","2014-11-18",null,"Special Projects",null,{"$f":"IF(O725=\"Business Firm billable\",VLOOKUP(A725,'Hourly rates'!$B$2:$E$40,4,FALSE),VLOOKUP(A725,'Hourly rates'!$B$2:$E$40,2,FALSE))","v":12},15]
["Wyatt, Ben","ClosetsClosetsClosetsClosets:Tech Acctg","Intern",1099,null,1,"2014-11-07","2014-11-08","Fri",null,"Admin 9%","ZZ","2014-11-18","ClosetsClosetsClosetsClosets ASC 606 implementation","Business Firm billable",null,{"$f":"IF(O726=\"Business Firm billable\",VLOOKUP(A726,'Hourly rates'!$B$2:$E$40,4,FALSE),VLOOKUP(A726,'Hourly rates'!$B$2:$E$40,2,FALSE))","v":83},83]
["Haverford, Tom","Duke Silver:IPO","Staff",1099,null,4,"2014-11-07","2014-11-08","Fri",null,"Admin 9%","ZZ","2014-11-18","Searched for engagement letter and filing that gave details on how private offering expenses handled","Business Firm billable",null,{"$f":"IF(O727=\"Business Firm billable\",VLOOKUP(A727,'Hourly rates'!$B$2:$E$40,4,FALSE),VLOOKUP(A727,'Hourly rates'!$B$2:$E$40,2,FALSE))","v":83},332]
["Dwyer, Andy","Business Firm:Administration","Intern",1099,null,1.25,"2014-11-07","2014-11-08","Fri",null,"NonBill","ZZ","2014-11-18","BIZ Studies-Restatements","BIZ Research Projects",null,{"$f":"IF(O728=\"Business Firm billable\",VLOOKUP(A728,'Hourly rates'!$B$2:$E$40,4,FALSE),VLOOKUP(A728,'Hourly rates'!$B$2:$E$40,2,FALSE))","v":12},15]
["Delgado, Gloria","Some Client:IPO","Intern",1099,null,1,"2014-11-08","2014-11-08","Sat",null,"Admin 9%","ZZ","2014-11-18","Fund Board Presentation","Business Firm billable",null,{"$f":"IF(O729=\"Business Firm billable\",VLOOKUP(A729,'Hourly rates'!$B$2:$E$40,4,FALSE),VLOOKUP(A729,'Hourly rates'!$B$2:$E$40,2,FALSE))","v":83},83]
["Delgado, Gloria","Business Firm:Admin SP","Intern",1099,null,2,"2014-11-10","2014-11-15","Mon",null,"NonBill","ZZ","2014-11-19","special projects","Special Projects",null,{"$f":"IF(O730=\"Business Firm billable\",VLOOKUP(A730,'Hourly rates'!$B$2:$E$40,4,FALSE),VLOOKUP(A730,'Hourly rates'!$B$2:$E$40,2,FALSE))","v":12},24]
["Delgado, Gloria","Some Client:IPO","Intern",1099,null,4,"2014-11-10","2014-11-15","Mon",null,"Admin 9%","ZZ","2014-11-19","Fund Board Presentation","Business Firm billable",null,{"$f":"IF(O731=\"Business Firm billable\",VLOOKUP(A731,'Hourly rates'!$B$2:$E$40,4,FALSE),VLOOKUP(A731,'Hourly rates'!$B$2:$E$40,2,FALSE))","v":83},332]
["Haverford, Tom","Duke Silver:IPO","Staff",1099,null,4,"2014-11-10","2014-11-15","Mon",null,"Admin 9%","ZZ","2014-11-19","Searched for engagement letter and filing that gave details on how private offering expenses handled","Business Firm billable",null,{"$f":"IF(O732=\"Business Firm billable\",VLOOKUP(A732,'Hourly rates'!$B$2:$E$40,4,FALSE),VLOOKUP(A732,'Hourly rates'!$B$2:$E$40,2,FALSE))","v":83},332]
["Haverford, Tom","Business Firm:Admin SP","Staff",1099,null,2,"2014-11-10","2014-11-15","Mon",null,"NonBill","ZZ","2014-11-19","BIZ Project - Special Projects","Special Projects",null,{"$f":"IF(O733=\"Business Firm billable\",VLOOKUP(A733,'Hourly rates'!$B$2:$E$40,4,FALSE),VLOOKUP(A733,'Hourly rates'!$B$2:$E$40,2,FALSE))","v":12},24]
["Dwyer, Andy","Business Firm:Admin SP","Intern",1099,null,1.25,"2014-11-10","2014-11-15","Mon",null,"NonBill","ZZ","2014-11-19","SpecialProjects","Special Projects",null,{"$f":"IF(O734=\"Business Firm billable\",VLOOKUP(A734,'Hourly rates'!$B$2:$E$40,4,FALSE),VLOOKUP(A734,'Hourly rates'!$B$2:$E$40,2,FALSE))","v":12},15]
["Delgado, Gloria","Business Firm:Admin SP","Intern",1099,null,4,"2014-11-11","2014-11-15","Tue",null,"NonBill","ZZ","2014-11-19","special projects","Special Projects",null,{"$f":"IF(O735=\"Business Firm billable\",VLOOKUP(A735,'Hourly rates'!$B$2:$E$40,4,FALSE),VLOOKUP(A735,'Hourly rates'!$B$2:$E$40,2,FALSE))","v":12},48]
["Delgado, Gloria","Business Firm:Strat","Intern",1099,null,2,"2014-11-11","2014-11-15","Tue",null,"NonBill","ZZ","2014-11-19","ASC 606","Strat Firm",null,{"$f":"IF(O736=\"Business Firm billable\",VLOOKUP(A736,'Hourly rates'!$B$2:$E$40,4,FALSE),VLOOKUP(A736,'Hourly rates'!$B$2:$E$40,2,FALSE))","v":12},24]
["Delgado, Gloria","ClosetsClosetsClosetsClosets:Tech Acctg","Intern",1099,null,2,"2014-11-11","2014-11-15","Tue",null,"Admin 9%","ZZ","2014-11-19","ASC 606","Business Firm billable",null,{"$f":"IF(O737=\"Business Firm billable\",VLOOKUP(A737,'Hourly rates'!$B$2:$E$40,4,FALSE),VLOOKUP(A737,'Hourly rates'!$B$2:$E$40,2,FALSE))","v":83},166]
["Haverford, Tom","Duke Silver:IPO","Staff",1099,null,5,"2014-11-11","2014-11-15","Tue",null,"Admin 9%","ZZ","2014-11-19","Searched for engagement letter and filing that gave details on how private offering expenses handled","Business Firm billable",null,{"$f":"IF(O738=\"Business Firm billable\",VLOOKUP(A738,'Hourly rates'!$B$2:$E$40,4,FALSE),VLOOKUP(A738,'Hourly rates'!$B$2:$E$40,2,FALSE))","v":83},415]
["Haverford, Tom","Business Firm:Admin SP","Staff",1099,null,4,"2014-11-11","2014-11-15","Tue",null,"NonBill","ZZ","2014-11-19","BIZ Project - Special Projects","Special Projects",null,{"$f":"IF(O739=\"Business Firm billable\",VLOOKUP(A739,'Hourly rates'!$B$2:$E$40,4,FALSE),VLOOKUP(A739,'Hourly rates'!$B$2:$E$40,2,FALSE))","v":12},48]
["Dwyer, Andy","Business Firm:Admin SP","Intern",1099,null,1,"2014-11-11","2014-11-15","Tue",null,"NonBill","ZZ","2014-11-19","SpecialProjects","Special Projects",null,{"$f":"IF(O740=\"Business Firm billable\",VLOOKUP(A740,'Hourly rates'!$B$2:$E$40,4,FALSE),VLOOKUP(A740,'Hourly rates'!$B$2:$E$40,2,FALSE))","v":12},12]
["Delgado, Gloria","Business Firm:Admin SP","Intern",1099,null,2,"2014-11-12","2014-11-15","Wed",null,"NonBill","ZZ","2014-11-19","special projects","Special Projects",null,{"$f":"IF(O741=\"Business Firm billable\",VLOOKUP(A741,'Hourly rates'!$B$2:$E$40,4,FALSE),VLOOKUP(A741,'Hourly rates'!$B$2:$E$40,2,FALSE))","v":12},24]
["Delgado, Gloria","Business Firm:Strat","Intern",1099,null,2,"2014-11-12","2014-11-15","Wed",null,"NonBill","ZZ","2014-11-19","ASC 606","Strat Firm",null,{"$f":"IF(O742=\"Business Firm billable\",VLOOKUP(A742,'Hourly rates'!$B$2:$E$40,4,FALSE),VLOOKUP(A742,'Hourly rates'!$B$2:$E$40,2,FALSE))","v":12},24]
["Delgado, Gloria","ClosetsClosetsClosetsClosets:Tech Acctg","Intern",1099,null,4,"2014-11-12","2014-11-15","Wed",null,"Admin 9%","ZZ","2014-11-19","ASC 606","Business Firm billable",null,{"$f":"IF(O743=\"Business Firm billable\",VLOOKUP(A743,'Hourly rates'!$B$2:$E$40,4,FALSE),VLOOKUP(A743,'Hourly rates'!$B$2:$E$40,2,FALSE))","v":83},332]
["Wyatt, Ben","Business Firm:Admin SP","Intern",1099,null,2.25,"2014-11-12","2014-11-15","Wed",null,"NonBill","ZZ","2014-11-19","Special Projects","Special Projects",null,{"$f":"IF(O744=\"Business Firm billable\",VLOOKUP(A744,'Hourly rates'!$B$2:$E$40,4,FALSE),VLOOKUP(A744,'Hourly rates'!$B$2:$E$40,2,FALSE))","v":12},27]
["Meagle, Donna","Business Firm:Admin SP","Intern",1099,null,2,"2014-11-12","2014-11-15","Wed",null,"NonBill","ZZ","2014-11-19"," BIZ Research Project - Special Projects","Special Projects",null,{"$f":"IF(O745=\"Business Firm billable\",VLOOKUP(A745,'Hourly rates'!$B$2:$E$40,4,FALSE),VLOOKUP(A745,'Hourly rates'!$B$2:$E$40,2,FALSE))","v":12},24]
["Haverford, Tom","Duke Silver:IPO","Staff",1099,null,2,"2014-11-12","2014-11-15","Wed",null,"Admin 9%","ZZ","2014-11-19","Searched for engagement letter and filing that gave details on how private offering expenses handled","Business Firm billable",null,{"$f":"IF(O746=\"Business Firm billable\",VLOOKUP(A746,'Hourly rates'!$B$2:$E$40,4,FALSE),VLOOKUP(A746,'Hourly rates'!$B$2:$E$40,2,FALSE))","v":83},166]
["Haverford, Tom","Business Firm:Admin SP","Staff",1099,null,2,"2014-11-12","2014-11-15","Wed",null,"NonBill","ZZ","2014-11-19","BIZ Project - Special Projects","Special Projects",null,{"$f":"IF(O747=\"Business Firm billable\",VLOOKUP(A747,'Hourly rates'!$B$2:$E$40,4,FALSE),VLOOKUP(A747,'Hourly rates'!$B$2:$E$40,2,FALSE))","v":12},24]
["Dwyer, Andy","Business Firm:Admin SP","Intern",1099,null,2.25,"2014-11-12","2014-11-15","Wed",null,"NonBill","ZZ","2014-11-19","SpecialProjects","Special Projects",null,{"$f":"IF(O748=\"Business Firm billable\",VLOOKUP(A748,'Hourly rates'!$B$2:$E$40,4,FALSE),VLOOKUP(A748,'Hourly rates'!$B$2:$E$40,2,FALSE))","v":12},27]
["Delgado, Gloria","Business Firm:Admin SP","Intern",1099,null,6,"2014-11-13","2014-11-15","Thu",null,"NonBill","ZZ","2014-11-19","special projects","Special Projects",null,{"$f":"IF(O749=\"Business Firm billable\",VLOOKUP(A749,'Hourly rates'!$B$2:$E$40,4,FALSE),VLOOKUP(A749,'Hourly rates'!$B$2:$E$40,2,FALSE))","v":12},72]
["Wyatt, Ben","Business Firm:Admin SP","Intern",1099,null,1,"2014-11-13","2014-11-15","Thu",null,"NonBill","ZZ","2014-11-19","Special Projects","Special Projects",null,{"$f":"IF(O750=\"Business Firm billable\",VLOOKUP(A750,'Hourly rates'!$B$2:$E$40,4,FALSE),VLOOKUP(A750,'Hourly rates'!$B$2:$E$40,2,FALSE))","v":12},12]
["Haverford, Tom","Business Firm:Admin SP","Staff",1099,null,2,"2014-11-13","2014-11-15","Thu",null,"NonBill","ZZ","2014-11-19","BIZ Project - Special Projects","Special Projects",null,{"$f":"IF(O751=\"Business Firm billable\",VLOOKUP(A751,'Hourly rates'!$B$2:$E$40,4,FALSE),VLOOKUP(A751,'Hourly rates'!$B$2:$E$40,2,FALSE))","v":12},24]
["Dwyer, Andy","Business Firm:Admin SP","Intern",1099,null,1.25,"2014-11-13","2014-11-15","Thu",null,"NonBill","ZZ","2014-11-19","SpecialProjects","Special Projects",null,{"$f":"IF(O752=\"Business Firm billable\",VLOOKUP(A752,'Hourly rates'!$B$2:$E$40,4,FALSE),VLOOKUP(A752,'Hourly rates'!$B$2:$E$40,2,FALSE))","v":12},15]
["Delgado, Gloria","Business Firm:Admin SP","Intern",1099,null,4,"2014-11-14","2014-11-15","Fri",null,"NonBill","ZZ","2014-11-19","special projects","Special Projects",null,{"$f":"IF(O753=\"Business Firm billable\",VLOOKUP(A753,'Hourly rates'!$B$2:$E$40,4,FALSE),VLOOKUP(A753,'Hourly rates'!$B$2:$E$40,2,FALSE))","v":12},48]
["Delgado, Gloria","Business Firm:Strat","Intern",1099,null,4,"2014-11-14","2014-11-15","Fri",null,"NonBill","ZZ","2014-11-19","ASC 606","Strat Firm",null,{"$f":"IF(O754=\"Business Firm billable\",VLOOKUP(A754,'Hourly rates'!$B$2:$E$40,4,FALSE),VLOOKUP(A754,'Hourly rates'!$B$2:$E$40,2,FALSE))","v":12},48]
["Wyatt, Ben","Business Firm:Admin SP","Intern",1099,null,1.25,"2014-11-14","2014-11-15","Fri",null,"NonBill","ZZ","2014-11-19","Special Projects","Special Projects",null,{"$f":"IF(O755=\"Business Firm billable\",VLOOKUP(A755,'Hourly rates'!$B$2:$E$40,4,FALSE),VLOOKUP(A755,'Hourly rates'!$B$2:$E$40,2,FALSE))","v":12},15]
["Meagle, Donna","Business Firm:Admin SP","Intern",1099,null,3,"2014-11-14","2014-11-15","Fri",null,"NonBill","ZZ","2014-11-19"," BIZ Research Project - Special Projects","Special Projects",null,{"$f":"IF(O756=\"Business Firm billable\",VLOOKUP(A756,'Hourly rates'!$B$2:$E$40,4,FALSE),VLOOKUP(A756,'Hourly rates'!$B$2:$E$40,2,FALSE))","v":12},36]
["Delgado, Gloria","Business Firm:Admin SP","Intern",1099,null,4,"2014-11-17",{"$f":"G757+7-WEEKDAY(G757)","v":"2014-11-22"},"Mon",null,"NonBill","ZZ","2014-12-01","special projects","Special Projects",null,{"$f":"IF(O757=\"Business Firm billable\",VLOOKUP(A757,'Hourly rates'!$B$2:$E$40,4,FALSE),VLOOKUP(A757,'Hourly rates'!$B$2:$E$40,2,FALSE))","v":12},48]
["Delgado, Gloria","Business Firm:Strat","Intern",1099,null,4,"2014-11-17","2014-11-22","Mon",null,"NonBill","ZZ","2014-12-01","ASC 606 Trainings","Strat Firm",null,{"$f":"IF(O758=\"Business Firm billable\",VLOOKUP(A758,'Hourly rates'!$B$2:$E$40,4,FALSE),VLOOKUP(A758,'Hourly rates'!$B$2:$E$40,2,FALSE))","v":12},48]
["Wyatt, Ben","Business Firm:Admin SP","Intern",1099,null,2,"2014-11-17","2014-11-22","Mon",null,"NonBill","ZZ","2014-12-01",null,"Special Projects",null,{"$f":"IF(O759=\"Business Firm billable\",VLOOKUP(A759,'Hourly rates'!$B$2:$E$40,4,FALSE),VLOOKUP(A759,'Hourly rates'!$B$2:$E$40,2,FALSE))","v":12},24]
["Haverford, Tom","Business Firm:Admin SP","Staff",1099,null,2,"2014-11-17","2014-11-22","Mon",null,"NonBill","ZZ","2014-12-01",null,"Special Projects",null,{"$f":"IF(O760=\"Business Firm billable\",VLOOKUP(A760,'Hourly rates'!$B$2:$E$40,4,FALSE),VLOOKUP(A760,'Hourly rates'!$B$2:$E$40,2,FALSE))","v":12},24]
["Haverford, Tom","Business Firm:Administration","Staff",1099,null,4,"2014-11-17","2014-11-22","Mon",null,"NonBill","ZZ","2014-12-01","Arcadia - Searched for engagement letter and filing that gave details on how private offering expenses handled","Other",null,{"$f":"IF(O761=\"Business Firm billable\",VLOOKUP(A761,'Hourly rates'!$B$2:$E$40,4,FALSE),VLOOKUP(A761,'Hourly rates'!$B$2:$E$40,2,FALSE))","v":12},48]
["Delgado, Gloria","Business Firm:Admin SP","Intern",1099,null,6,"2014-11-18","2014-11-22","Tue",null,"NonBill","ZZ","2014-12-01","special projects","Special Projects",null,{"$f":"IF(O762=\"Business Firm billable\",VLOOKUP(A762,'Hourly rates'!$B$2:$E$40,4,FALSE),VLOOKUP(A762,'Hourly rates'!$B$2:$E$40,2,FALSE))","v":12},72]
["Wyatt, Ben","Business Firm:Admin SP","Intern",1099,null,1,"2014-11-18","2014-11-22","Tue",null,"NonBill","ZZ","2014-12-01",null,"Special Projects",null,{"$f":"IF(O763=\"Business Firm billable\",VLOOKUP(A763,'Hourly rates'!$B$2:$E$40,4,FALSE),VLOOKUP(A763,'Hourly rates'!$B$2:$E$40,2,FALSE))","v":12},12]
["Haverford, Tom","Business Firm:Admin SP","Staff",1099,null,4,"2014-11-18","2014-11-22","Tue",null,"NonBill","ZZ","2014-12-01",null,"Special Projects",null,{"$f":"IF(O764=\"Business Firm billable\",VLOOKUP(A764,'Hourly rates'!$B$2:$E$40,4,FALSE),VLOOKUP(A764,'Hourly rates'!$B$2:$E$40,2,FALSE))","v":12},48]
["Haverford, Tom","Business Firm:Administration","Staff",1099,null,5,"2014-11-18","2014-11-22","Tue",null,"NonBill","ZZ","2014-12-01","Arcadia - Searched for engagement letter and filing that gave details on how private offering expenses handled","Other",null,{"$f":"IF(O765=\"Business Firm billable\",VLOOKUP(A765,'Hourly rates'!$B$2:$E$40,4,FALSE),VLOOKUP(A765,'Hourly rates'!$B$2:$E$40,2,FALSE))","v":12},60]
["Delgado, Gloria","Some Client:IPO","Intern",1099,null,6,"2014-11-19","2014-11-22","Wed",null,"Admin 9%","ZZ","2014-12-01","Developer Cash Flow Statement","Business Firm billable",null,{"$f":"IF(O766=\"Business Firm billable\",VLOOKUP(A766,'Hourly rates'!$B$2:$E$40,4,FALSE),VLOOKUP(A766,'Hourly rates'!$B$2:$E$40,2,FALSE))","v":83},498]
["Wyatt, Ben","Business Firm:Admin SP","Intern",1099,null,1.25,"2014-11-19","2014-11-22","Wed",null,"NonBill","ZZ","2014-12-01",null,"Special Projects",null,{"$f":"IF(O767=\"Business Firm billable\",VLOOKUP(A767,'Hourly rates'!$B$2:$E$40,4,FALSE),VLOOKUP(A767,'Hourly rates'!$B$2:$E$40,2,FALSE))","v":12},15]
["Meagle, Donna","Business Firm:Admin SP","Intern",1099,null,3,"2014-11-19","2014-11-22","Wed",null,"NonBill","ZZ","2014-12-01"," BIZ Research Project - Special Projects","Special Projects",null,{"$f":"IF(O768=\"Business Firm billable\",VLOOKUP(A768,'Hourly rates'!$B$2:$E$40,4,FALSE),VLOOKUP(A768,'Hourly rates'!$B$2:$E$40,2,FALSE))","v":12},36]
["Haverford, Tom","Business Firm:Administration","Staff",1099,null,2,"2014-11-19","2014-11-22","Wed",null,"NonBill","ZZ","2014-12-01","Arcadia - Searched for engagement letter and filing that gave details on how private offering expenses handled","Other",null,{"$f":"IF(O769=\"Business Firm billable\",VLOOKUP(A769,'Hourly rates'!$B$2:$E$40,4,FALSE),VLOOKUP(A769,'Hourly rates'!$B$2:$E$40,2,FALSE))","v":12},24]
["Dwyer, Andy","Business Firm:Admin SP","Intern",1099,null,2.75,"2014-11-19","2014-11-22","Wed",null,"NonBill","ZZ","2014-12-01",null,"Special Projects",null,{"$f":"IF(O770=\"Business Firm billable\",VLOOKUP(A770,'Hourly rates'!$B$2:$E$40,4,FALSE),VLOOKUP(A770,'Hourly rates'!$B$2:$E$40,2,FALSE))","v":12},{"$f":"Q770*F770","v":33}]
["Delgado, Gloria","Business Firm:Strat","Intern",1099,null,4,"2014-11-20","2014-11-22","Thu",null,"NonBill","ZZ","2014-12-01","ASC 606 Trainings","Strat Firm",null,{"$f":"IF(O771=\"Business Firm billable\",VLOOKUP(A771,'Hourly rates'!$B$2:$E$40,4,FALSE),VLOOKUP(A771,'Hourly rates'!$B$2:$E$40,2,FALSE))","v":12},48]
["Delgado, Gloria","Some Client:IPO","Intern",1099,null,2,"2014-11-20","2014-11-22","Thu",null,"Admin 9%","ZZ","2014-12-01","Developer Cash Flow Statement","Business Firm billable",null,{"$f":"IF(O772=\"Business Firm billable\",VLOOKUP(A772,'Hourly rates'!$B$2:$E$40,4,FALSE),VLOOKUP(A772,'Hourly rates'!$B$2:$E$40,2,FALSE))","v":83},166]
["Wyatt, Ben","Business Firm:Admin SP","Intern",1099,null,1.25,"2014-11-20","2014-11-22","Thu",null,"NonBill","ZZ","2014-12-01",null,"Special Projects",null,{"$f":"IF(O773=\"Business Firm billable\",VLOOKUP(A773,'Hourly rates'!$B$2:$E$40,4,FALSE),VLOOKUP(A773,'Hourly rates'!$B$2:$E$40,2,FALSE))","v":12},15]
["Delgado, Gloria","Business Firm:Strat","Intern",1099,null,4,"2014-11-21","2014-11-22","Fri",null,"NonBill","ZZ","2014-12-01","ASC 606 Trainings","Strat Firm",null,{"$f":"IF(O774=\"Business Firm billable\",VLOOKUP(A774,'Hourly rates'!$B$2:$E$40,4,FALSE),VLOOKUP(A774,'Hourly rates'!$B$2:$E$40,2,FALSE))","v":12},48]
["Wyatt, Ben","Business Firm:Admin SP","Intern",1099,null,1.25,"2014-11-21","2014-11-22","Fri",null,"NonBill","ZZ","2014-12-01",null,"Special Projects",null,{"$f":"IF(O775=\"Business Firm billable\",VLOOKUP(A775,'Hourly rates'!$B$2:$E$40,4,FALSE),VLOOKUP(A775,'Hourly rates'!$B$2:$E$40,2,FALSE))","v":12},15]
["Meagle, Donna","Business Firm:Admin SP","Intern",1099,null,2,"2014-11-21","2014-11-22","Fri",null,"NonBill","ZZ","2014-12-01"," BIZ Research Project - Special Projects","Special Projects",null,{"$f":"IF(O776=\"Business Firm billable\",VLOOKUP(A776,'Hourly rates'!$B$2:$E$40,4,FALSE),VLOOKUP(A776,'Hourly rates'!$B$2:$E$40,2,FALSE))","v":12},24]
["Haverford, Tom","Business Firm:Admin SP","Staff",1099,null,4,"2014-11-21","2014-11-22","Fri",null,"NonBill","ZZ","2014-12-01",null,"Special Projects",null,{"$f":"IF(O777=\"Business Firm billable\",VLOOKUP(A777,'Hourly rates'!$B$2:$E$40,4,FALSE),VLOOKUP(A777,'Hourly rates'!$B$2:$E$40,2,FALSE))","v":12},48]
["Dwyer, Andy","Business Firm:Admin SP","Intern",1099,null,1.75,"2014-11-21","2014-11-22","Fri",null,"NonBill","ZZ","2014-12-01",null,"Special Projects",null,{"$f":"IF(O778=\"Business Firm billable\",VLOOKUP(A778,'Hourly rates'!$B$2:$E$40,4,FALSE),VLOOKUP(A778,'Hourly rates'!$B$2:$E$40,2,FALSE))","v":12},21]
["Meagle, Donna","Business Firm:Admin SP","Intern",1099,null,4,"2014-11-22","2014-11-22","Sat",null,"NonBill","ZZ","2014-12-01"," BIZ Research Project - Special Projects","Special Projects",null,{"$f":"IF(O779=\"Business Firm billable\",VLOOKUP(A779,'Hourly rates'!$B$2:$E$40,4,FALSE),VLOOKUP(A779,'Hourly rates'!$B$2:$E$40,2,FALSE))","v":12},48]
["Dwyer, Andy","Business Firm:Admin SP","Intern",1099,null,2,"2014-11-22","2014-11-22","Sat",null,"NonBill","ZZ","2014-12-01",null,"Special Projects",null,{"$f":"IF(O780=\"Business Firm billable\",VLOOKUP(A780,'Hourly rates'!$B$2:$E$40,4,FALSE),VLOOKUP(A780,'Hourly rates'!$B$2:$E$40,2,FALSE))","v":12},24]
["Delgado, Gloria","Business Firm:Strat","Intern",1099,null,5,"2014-11-24","2014-11-29","Mon",null,"NonBill","ZZ","2014-12-02","ASC 606","Strat Firm",null,{"$f":"IF(O781=\"Business Firm billable\",VLOOKUP(A781,'Hourly rates'!$B$2:$E$40,4,FALSE),VLOOKUP(A781,'Hourly rates'!$B$2:$E$40,2,FALSE))","v":12},60]
["Delgado, Gloria","Pawnee Grocers:Tech Acctg","Intern",1099,null,3,"2014-11-24","2014-11-29","Mon",null,"Admin 9%","ZZ","2014-12-02","Eagleton Foods - Pawnee Rebranding","Business Firm billable",null,{"$f":"IF(O782=\"Business Firm billable\",VLOOKUP(A782,'Hourly rates'!$B$2:$E$40,4,FALSE),VLOOKUP(A782,'Hourly rates'!$B$2:$E$40,2,FALSE))","v":83},249]
["Wyatt, Ben","Business Firm:Admin SP","Intern",1099,null,1.75,"2014-11-24","2014-11-29","Mon",null,"NonBill","ZZ","2014-12-02","Special Projects","Special Projects",null,{"$f":"IF(O783=\"Business Firm billable\",VLOOKUP(A783,'Hourly rates'!$B$2:$E$40,4,FALSE),VLOOKUP(A783,'Hourly rates'!$B$2:$E$40,2,FALSE))","v":12},21]
["Tucker, Cameron","Business Firm:Administration","Intern",1099,null,4,"2014-11-24","2014-11-29","Mon",null,"NonBill","ZZ","2014-12-02","Onboarding and Reviewing Research Projects with Andy Dwyer","BIZ Research Projects",null,{"$f":"IF(O784=\"Business Firm billable\",VLOOKUP(A784,'Hourly rates'!$B$2:$E$40,4,FALSE),VLOOKUP(A784,'Hourly rates'!$B$2:$E$40,2,FALSE))","v":12},48]
["Dwyer, Andy","Business Firm:Training - instructor","Intern",1099,null,2,"2014-11-24","2014-11-29","Mon",null,"NonBill","ZZ","2014-12-02","Studies-new intern","BIZ Research Projects",null,{"$f":"IF(O785=\"Business Firm billable\",VLOOKUP(A785,'Hourly rates'!$B$2:$E$40,4,FALSE),VLOOKUP(A785,'Hourly rates'!$B$2:$E$40,2,FALSE))","v":12},24]
["Delgado, Gloria","Business Firm:Strat","Intern",1099,null,3,"2014-11-25","2014-11-29","Tue",null,"NonBill","ZZ","2014-12-02","ASC 606","Strat Firm",null,{"$f":"IF(O786=\"Business Firm billable\",VLOOKUP(A786,'Hourly rates'!$B$2:$E$40,4,FALSE),VLOOKUP(A786,'Hourly rates'!$B$2:$E$40,2,FALSE))","v":12},36]
["Delgado, Gloria","Pawnee Grocers:Tech Acctg","Intern",1099,null,6,"2014-11-25","2014-11-29","Tue",null,"Admin 9%","ZZ","2014-12-02","Eagleton Foods - Pawnee Rebranding","Business Firm billable",null,{"$f":"IF(O787=\"Business Firm billable\",VLOOKUP(A787,'Hourly rates'!$B$2:$E$40,4,FALSE),VLOOKUP(A787,'Hourly rates'!$B$2:$E$40,2,FALSE))","v":83},498]
["Wyatt, Ben","Business Firm:Administration","Intern",1099,null,3.75,"2014-11-25","2014-11-29","Tue",null,"NonBill","ZZ","2014-12-02","Accounting Library Cleanup Project (from Bill Buchannan)","Strat Firm",null,{"$f":"IF(O788=\"Business Firm billable\",VLOOKUP(A788,'Hourly rates'!$B$2:$E$40,4,FALSE),VLOOKUP(A788,'Hourly rates'!$B$2:$E$40,2,FALSE))","v":12},45]
["Meagle, Donna","Business Firm:Admin SP","Intern",1099,null,2,"2014-11-25","2014-11-29","Tue",null,"NonBill","ZZ","2014-12-02"," BIZ Research Project - Special Projects","Special Projects",null,{"$f":"IF(O789=\"Business Firm billable\",VLOOKUP(A789,'Hourly rates'!$B$2:$E$40,4,FALSE),VLOOKUP(A789,'Hourly rates'!$B$2:$E$40,2,FALSE))","v":12},24]
["Dwyer, Andy","Business Firm:Admin SP","Intern",1099,null,1.75,"2014-11-25","2014-11-29","Tue",null,"NonBill","ZZ","2014-12-02","SpecialProjects","Special Projects",null,{"$f":"IF(O790=\"Business Firm billable\",VLOOKUP(A790,'Hourly rates'!$B$2:$E$40,4,FALSE),VLOOKUP(A790,'Hourly rates'!$B$2:$E$40,2,FALSE))","v":12},21]
["Delgado, Gloria","Pawnee Grocers:Tech Acctg","Intern",1099,null,3,"2014-11-26","2014-11-29","Wed",null,"Admin 9%","ZZ","2014-12-02","Eagleton Foods - Pawnee Rebranding","Business Firm billable",null,{"$f":"IF(O791=\"Business Firm billable\",VLOOKUP(A791,'Hourly rates'!$B$2:$E$40,4,FALSE),VLOOKUP(A791,'Hourly rates'!$B$2:$E$40,2,FALSE))","v":83},249]
["Dwyer, Andy","Business Firm:Admin SP","Intern",1099,null,1.75,"2014-11-26","2014-11-29","Wed",null,"NonBill","ZZ","2014-12-02","SpecialProjects","Special Projects",null,{"$f":"IF(O792=\"Business Firm billable\",VLOOKUP(A792,'Hourly rates'!$B$2:$E$40,4,FALSE),VLOOKUP(A792,'Hourly rates'!$B$2:$E$40,2,FALSE))","v":12},21]
["Meagle, Donna","Business Firm:Admin SP","Intern",1099,null,3,"2014-11-28","2014-11-29","Fri",null,"NonBill","ZZ","2014-12-02"," BIZ Research Project - Special Projects","Special Projects",null,{"$f":"IF(O793=\"Business Firm billable\",VLOOKUP(A793,'Hourly rates'!$B$2:$E$40,4,FALSE),VLOOKUP(A793,'Hourly rates'!$B$2:$E$40,2,FALSE))","v":12},36]
["Dwyer, Andy","Business Firm:Admin SP","Intern",1099,null,1.75,"2014-11-28","2014-11-29","Fri",null,"NonBill","ZZ","2014-12-02","SpecialProjects","Special Projects",null,{"$f":"IF(O794=\"Business Firm billable\",VLOOKUP(A794,'Hourly rates'!$B$2:$E$40,4,FALSE),VLOOKUP(A794,'Hourly rates'!$B$2:$E$40,2,FALSE))","v":12},21]
["Meagle, Donna","Business Firm:Admin SP","Intern",1099,null,5,"2014-11-29","2014-11-29","Sat",null,"NonBill","ZZ","2014-12-02"," BIZ Research Project - Special Projects","Special Projects",null,{"$f":"IF(O795=\"Business Firm billable\",VLOOKUP(A795,'Hourly rates'!$B$2:$E$40,4,FALSE),VLOOKUP(A795,'Hourly rates'!$B$2:$E$40,2,FALSE))","v":12},60]
["Dwyer, Andy","Business Firm:Admin SP","Intern",1099,null,1.75,"2014-11-29","2014-11-29","Sat",null,"NonBill","ZZ","2014-12-02","SpecialProjects","Special Projects",null,{"$f":"IF(O796=\"Business Firm billable\",VLOOKUP(A796,'Hourly rates'!$B$2:$E$40,4,FALSE),VLOOKUP(A796,'Hourly rates'!$B$2:$E$40,2,FALSE))","v":12},21]
["Delgado, Gloria","Business Firm:Admin SP","Intern",1099,null,3,"2014-12-01","2014-12-06","Mon",null,"NonBill","ZZ","2014-12-09","special projects","Special Projects",null,{"$f":"IF(O797=\"Business Firm billable\",VLOOKUP(A797,'Hourly rates'!$B$2:$E$40,4,FALSE),VLOOKUP(A797,'Hourly rates'!$B$2:$E$40,2,FALSE))","v":12},36]
["Delgado, Gloria","Business Firm:Strat","Intern",1099,null,3,"2014-12-01","2014-12-06","Mon",null,"NonBill","ZZ","2014-12-09","ASC 606","Strat Firm",null,{"$f":"IF(O798=\"Business Firm billable\",VLOOKUP(A798,'Hourly rates'!$B$2:$E$40,4,FALSE),VLOOKUP(A798,'Hourly rates'!$B$2:$E$40,2,FALSE))","v":12},36]
["Wyatt, Ben","Business Firm:Admin SP","Intern",1099,null,1.75,"2014-12-01","2014-12-06","Mon",null,"NonBill","ZZ","2014-12-09","Special Projects","Special Projects",null,{"$f":"IF(O799=\"Business Firm billable\",VLOOKUP(A799,'Hourly rates'!$B$2:$E$40,4,FALSE),VLOOKUP(A799,'Hourly rates'!$B$2:$E$40,2,FALSE))","v":12},21]
["Haverford, Tom","Business Firm:Admin SP","Staff",1099,null,4,"2014-12-01","2014-12-06","Mon",null,"NonBill","ZZ","2014-12-15","BIZ Project - Special Projects","Special Projects",null,{"$f":"IF(O800=\"Business Firm billable\",VLOOKUP(A800,'Hourly rates'!$B$2:$E$40,4,FALSE),VLOOKUP(A800,'Hourly rates'!$B$2:$E$40,2,FALSE))","v":12},48]
["Dwyer, Andy","Business Firm:Admin SP","Intern",1099,null,1.75,"2014-12-01","2014-12-06","Mon",null,"NonBill","ZZ","2014-12-09","SpecialProjects","Special Projects",null,{"$f":"IF(O801=\"Business Firm billable\",VLOOKUP(A801,'Hourly rates'!$B$2:$E$40,4,FALSE),VLOOKUP(A801,'Hourly rates'!$B$2:$E$40,2,FALSE))","v":12},21]
["Delgado, Gloria","Business Firm:Admin SP","Intern",1099,null,2,"2014-12-02","2014-12-06","Tue",null,"NonBill","ZZ","2014-12-09","special projects","Special Projects",null,{"$f":"IF(O802=\"Business Firm billable\",VLOOKUP(A802,'Hourly rates'!$B$2:$E$40,4,FALSE),VLOOKUP(A802,'Hourly rates'!$B$2:$E$40,2,FALSE))","v":12},24]
["Wyatt, Ben","Business Firm:Admin SP","Intern",1099,null,1.75,"2014-12-02","2014-12-06","Tue",null,"NonBill","ZZ","2014-12-09","Special Projects","Special Projects",null,{"$f":"IF(O803=\"Business Firm billable\",VLOOKUP(A803,'Hourly rates'!$B$2:$E$40,4,FALSE),VLOOKUP(A803,'Hourly rates'!$B$2:$E$40,2,FALSE))","v":12},21]
["Haverford, Tom","Business Firm:Admin SP","Staff",1099,null,4,"2014-12-02","2014-12-06","Tue",null,"NonBill","ZZ","2014-12-15","BIZ Project - Special Projects","Special Projects",null,{"$f":"IF(O804=\"Business Firm billable\",VLOOKUP(A804,'Hourly rates'!$B$2:$E$40,4,FALSE),VLOOKUP(A804,'Hourly rates'!$B$2:$E$40,2,FALSE))","v":12},48]
["Delgado, Gloria","Business Firm:Admin SP","Intern",1099,null,2.25,"2014-12-03","2014-12-06","Wed",null,"NonBill","ZZ","2014-12-09","special projects","Special Projects",null,{"$f":"IF(O805=\"Business Firm billable\",VLOOKUP(A805,'Hourly rates'!$B$2:$E$40,4,FALSE),VLOOKUP(A805,'Hourly rates'!$B$2:$E$40,2,FALSE))","v":12},27]
["Delgado, Gloria","Some Client:IPO","Intern",1099,null,1.25,"2014-12-03","2014-12-06","Wed",null,"Admin 9%","ZZ","2014-12-09",null,"Business Firm billable",null,{"$f":"IF(O806=\"Business Firm billable\",VLOOKUP(A806,'Hourly rates'!$B$2:$E$40,4,FALSE),VLOOKUP(A806,'Hourly rates'!$B$2:$E$40,2,FALSE))","v":83},103.75]
["Wyatt, Ben","Business Firm:Admin SP","Intern",1099,null,2.25,"2014-12-03","2014-12-06","Wed",null,"NonBill","ZZ","2014-12-09","Special Projects","Special Projects",null,{"$f":"IF(O807=\"Business Firm billable\",VLOOKUP(A807,'Hourly rates'!$B$2:$E$40,4,FALSE),VLOOKUP(A807,'Hourly rates'!$B$2:$E$40,2,FALSE))","v":12},27]
["Meagle, Donna","Business Firm:Admin SP","Intern",1099,null,1,"2014-12-03","2014-12-06","Wed",null,"NonBill","ZZ","2014-12-09"," BIZ Research Project - Special Projects","Special Projects",null,{"$f":"IF(O808=\"Business Firm billable\",VLOOKUP(A808,'Hourly rates'!$B$2:$E$40,4,FALSE),VLOOKUP(A808,'Hourly rates'!$B$2:$E$40,2,FALSE))","v":12},12]
["Tucker, Cameron","Business Firm:Administration","Intern",1099,null,1.75,"2014-12-03","2014-12-06","Wed",null,"NonBill","ZZ","2014-12-15",null,"BIZ Research Projects",null,{"$f":"IF(O809=\"Business Firm billable\",VLOOKUP(A809,'Hourly rates'!$B$2:$E$40,4,FALSE),VLOOKUP(A809,'Hourly rates'!$B$2:$E$40,2,FALSE))","v":12},21]
["Dwyer, Andy","Business Firm:Admin SP","Intern",1099,null,3,"2014-12-03","2014-12-06","Wed",null,"NonBill","ZZ","2014-12-09","SpecialProjects","Special Projects",null,{"$f":"IF(O810=\"Business Firm billable\",VLOOKUP(A810,'Hourly rates'!$B$2:$E$40,4,FALSE),VLOOKUP(A810,'Hourly rates'!$B$2:$E$40,2,FALSE))","v":12},36]
["Dwyer, Andy","Business Firm:Administration","Intern",1099,null,1.25,"2014-12-03","2014-12-06","Wed",null,"NonBill","ZZ","2014-12-09","research studies-comment letters","BIZ Research Projects",null,{"$f":"IF(O811=\"Business Firm billable\",VLOOKUP(A811,'Hourly rates'!$B$2:$E$40,4,FALSE),VLOOKUP(A811,'Hourly rates'!$B$2:$E$40,2,FALSE))","v":12},15]
["Delgado, Gloria","Business Firm:Admin SP","Intern",1099,null,8,"2014-12-04","2014-12-06","Thu",null,"NonBill","ZZ","2014-12-09","special projects","Special Projects",null,{"$f":"IF(O812=\"Business Firm billable\",VLOOKUP(A812,'Hourly rates'!$B$2:$E$40,4,FALSE),VLOOKUP(A812,'Hourly rates'!$B$2:$E$40,2,FALSE))","v":12},96]
["Wyatt, Ben","Business Firm:Admin SP","Intern",1099,null,1.25,"2014-12-04","2014-12-06","Thu",null,"NonBill","ZZ","2014-12-09","Special Projects","Special Projects",null,{"$f":"IF(O813=\"Business Firm billable\",VLOOKUP(A813,'Hourly rates'!$B$2:$E$40,4,FALSE),VLOOKUP(A813,'Hourly rates'!$B$2:$E$40,2,FALSE))","v":12},15]
["Meagle, Donna","Business Firm:Admin SP","Intern",1099,null,4,"2014-12-04","2014-12-06","Thu",null,"NonBill","ZZ","2014-12-09"," BIZ Research Project - Special Projects","Special Projects",null,{"$f":"IF(O814=\"Business Firm billable\",VLOOKUP(A814,'Hourly rates'!$B$2:$E$40,4,FALSE),VLOOKUP(A814,'Hourly rates'!$B$2:$E$40,2,FALSE))","v":12},48]
["Haverford, Tom","Business Firm:Admin SP","Staff",1099,null,2,"2014-12-04","2014-12-06","Thu",null,"NonBill","ZZ","2014-12-15","BIZ Project - Special Projects","Special Projects",null,{"$f":"IF(O815=\"Business Firm billable\",VLOOKUP(A815,'Hourly rates'!$B$2:$E$40,4,FALSE),VLOOKUP(A815,'Hourly rates'!$B$2:$E$40,2,FALSE))","v":12},24]
["Tucker, Cameron","Business Firm:Administration","Intern",1099,null,1,"2014-12-04","2014-12-06","Thu",null,"NonBill","ZZ","2014-12-15",null,"BIZ Research Projects",null,{"$f":"IF(O816=\"Business Firm billable\",VLOOKUP(A816,'Hourly rates'!$B$2:$E$40,4,FALSE),VLOOKUP(A816,'Hourly rates'!$B$2:$E$40,2,FALSE))","v":12},12]
["Dwyer, Andy","Business Firm:Admin SP","Intern",1099,null,1.75,"2014-12-04","2014-12-06","Thu",null,"NonBill","ZZ","2014-12-09","SpecialProjects","Special Projects",null,{"$f":"IF(O817=\"Business Firm billable\",VLOOKUP(A817,'Hourly rates'!$B$2:$E$40,4,FALSE),VLOOKUP(A817,'Hourly rates'!$B$2:$E$40,2,FALSE))","v":12},21]
["Delgado, Gloria","Business Firm:Admin SP","Intern",1099,null,8,"2014-12-05","2014-12-06","Fri",null,"NonBill","ZZ","2014-12-09","special projects","Special Projects",null,{"$f":"IF(O818=\"Business Firm billable\",VLOOKUP(A818,'Hourly rates'!$B$2:$E$40,4,FALSE),VLOOKUP(A818,'Hourly rates'!$B$2:$E$40,2,FALSE))","v":12},96]
["Wyatt, Ben","Business Firm:Admin SP","Intern",1099,null,5,"2014-12-05","2014-12-06","Fri",null,"NonBill","ZZ","2014-12-09","Special Projects","Special Projects",null,{"$f":"IF(O819=\"Business Firm billable\",VLOOKUP(A819,'Hourly rates'!$B$2:$E$40,4,FALSE),VLOOKUP(A819,'Hourly rates'!$B$2:$E$40,2,FALSE))","v":12},60]
["Meagle, Donna","Business Firm:Admin SP","Intern",1099,null,6,"2014-12-05","2014-12-06","Fri",null,"NonBill","ZZ","2014-12-09"," BIZ Research Project - Special Projects","Special Projects",null,{"$f":"IF(O820=\"Business Firm billable\",VLOOKUP(A820,'Hourly rates'!$B$2:$E$40,4,FALSE),VLOOKUP(A820,'Hourly rates'!$B$2:$E$40,2,FALSE))","v":12},72]
["Haverford, Tom","Business Firm:Admin SP","Staff",1099,null,3,"2014-12-05","2014-12-06","Fri",null,"NonBill","ZZ","2014-12-15","BIZ Project - Special Projects","Special Projects",null,{"$f":"IF(O821=\"Business Firm billable\",VLOOKUP(A821,'Hourly rates'!$B$2:$E$40,4,FALSE),VLOOKUP(A821,'Hourly rates'!$B$2:$E$40,2,FALSE))","v":12},36]
["Tucker, Cameron","Business Firm:Administration","Intern",1099,null,1.25,"2014-12-05","2014-12-06","Fri",null,"NonBill","ZZ","2014-12-15",null,"BIZ Research Projects",null,{"$f":"IF(O822=\"Business Firm billable\",VLOOKUP(A822,'Hourly rates'!$B$2:$E$40,4,FALSE),VLOOKUP(A822,'Hourly rates'!$B$2:$E$40,2,FALSE))","v":12},15]
["Dwyer, Andy","Business Firm:Admin SP","Intern",1099,null,5.25,"2014-12-05","2014-12-06","Fri",null,"NonBill","ZZ","2014-12-09","SpecialProjects","Special Projects",null,{"$f":"IF(O823=\"Business Firm billable\",VLOOKUP(A823,'Hourly rates'!$B$2:$E$40,4,FALSE),VLOOKUP(A823,'Hourly rates'!$B$2:$E$40,2,FALSE))","v":12},63]
["Dwyer, Andy","Business Firm:Administration","Intern",1099,null,1.25,"2014-12-05","2014-12-06","Fri",null,"NonBill","ZZ","2014-12-09","Research Studies","BIZ Research Projects",null,{"$f":"IF(O824=\"Business Firm billable\",VLOOKUP(A824,'Hourly rates'!$B$2:$E$40,4,FALSE),VLOOKUP(A824,'Hourly rates'!$B$2:$E$40,2,FALSE))","v":12},15]
["Wyatt, Ben","Business Firm:Admin SP","Intern",1099,null,3,"2014-12-06","2014-12-06","Sat",null,"NonBill","ZZ","2014-12-09","Special Projects","Special Projects",null,{"$f":"IF(O825=\"Business Firm billable\",VLOOKUP(A825,'Hourly rates'!$B$2:$E$40,4,FALSE),VLOOKUP(A825,'Hourly rates'!$B$2:$E$40,2,FALSE))","v":12},36]
["Meagle, Donna","Business Firm:Admin SP","Intern",1099,null,2,"2014-12-06","2014-12-06","Sat",null,"NonBill","ZZ","2014-12-09"," BIZ Research Project - Special Projects","Special Projects",null,{"$f":"IF(O826=\"Business Firm billable\",VLOOKUP(A826,'Hourly rates'!$B$2:$E$40,4,FALSE),VLOOKUP(A826,'Hourly rates'!$B$2:$E$40,2,FALSE))","v":12},24]
["Tucker, Cameron","Business Firm:Administration","Intern",1099,null,2,"2014-12-06","2014-12-06","Sat",null,"NonBill","ZZ","2014-12-15",null,"BIZ Research Projects",null,{"$f":"IF(O827=\"Business Firm billable\",VLOOKUP(A827,'Hourly rates'!$B$2:$E$40,4,FALSE),VLOOKUP(A827,'Hourly rates'!$B$2:$E$40,2,FALSE))","v":12},24]
["Dwyer, Andy","Business Firm:Admin SP","Intern",1099,null,1.75,"2014-12-06","2014-12-06","Sat",null,"NonBill","ZZ","2014-12-09","SpecialProjects","Special Projects",null,{"$f":"IF(O828=\"Business Firm billable\",VLOOKUP(A828,'Hourly rates'!$B$2:$E$40,4,FALSE),VLOOKUP(A828,'Hourly rates'!$B$2:$E$40,2,FALSE))","v":12},21]
["Delgado, Gloria","Business Firm:Admin SP","Intern",1099,null,4,"2014-12-08","2014-12-13","Mon",null,"NonBill","ZZ","2014-12-22","special projects","Special Projects",null,{"$f":"IF(O829=\"Business Firm billable\",VLOOKUP(A829,'Hourly rates'!$B$2:$E$40,4,FALSE),VLOOKUP(A829,'Hourly rates'!$B$2:$E$40,2,FALSE))","v":12},48]
["Wyatt, Ben","Business Firm:Admin SP","Intern",1099,null,1.25,"2014-12-08","2014-12-13","Mon",null,"NonBill","ZZ","2014-12-18","Special Projects","Special Projects",null,{"$f":"IF(O830=\"Business Firm billable\",VLOOKUP(A830,'Hourly rates'!$B$2:$E$40,4,FALSE),VLOOKUP(A830,'Hourly rates'!$B$2:$E$40,2,FALSE))","v":12},15]
["Meagle, Donna","Business Firm:Administration","Intern",1099,null,3,"2014-12-08","2014-12-13","Mon",null,"NonBill","ZZ","2014-12-18",null,"Other",null,{"$f":"IF(O831=\"Business Firm billable\",VLOOKUP(A831,'Hourly rates'!$B$2:$E$40,4,FALSE),VLOOKUP(A831,'Hourly rates'!$B$2:$E$40,2,FALSE))","v":12},36]
["Delgado, Gloria","Business Firm:Admin SP","Intern",1099,null,4,"2014-12-09","2014-12-13","Tue",null,"NonBill","ZZ","2014-12-22","special projects","Special Projects",null,{"$f":"IF(O832=\"Business Firm billable\",VLOOKUP(A832,'Hourly rates'!$B$2:$E$40,4,FALSE),VLOOKUP(A832,'Hourly rates'!$B$2:$E$40,2,FALSE))","v":12},48]
["Haverford, Tom","Business Firm:Admin SP","Staff",1099,null,3,"2014-12-09","2014-12-13","Tue",null,"NonBill","ZZ","2014-12-18","BIZ Project - Special Projects","Special Projects",null,{"$f":"IF(O833=\"Business Firm billable\",VLOOKUP(A833,'Hourly rates'!$B$2:$E$40,4,FALSE),VLOOKUP(A833,'Hourly rates'!$B$2:$E$40,2,FALSE))","v":12},36]
["Dwyer, Andy","Business Firm:Admin SP","Intern",1099,null,1.75,"2014-12-09","2014-12-13","Tue",null,"NonBill","ZZ","2014-12-18","SpecialProjects","Special Projects",null,{"$f":"IF(O834=\"Business Firm billable\",VLOOKUP(A834,'Hourly rates'!$B$2:$E$40,4,FALSE),VLOOKUP(A834,'Hourly rates'!$B$2:$E$40,2,FALSE))","v":12},{"$f":"Q834*F834","v":21}]
["Delgado, Gloria","Business Firm:Admin SP","Intern",1099,null,4,"2014-12-10","2014-12-13","Wed",null,"NonBill","ZZ","2014-12-22","special projects","Special Projects",null,{"$f":"IF(O835=\"Business Firm billable\",VLOOKUP(A835,'Hourly rates'!$B$2:$E$40,4,FALSE),VLOOKUP(A835,'Hourly rates'!$B$2:$E$40,2,FALSE))","v":12},48]
["Wyatt, Ben","Business Firm:Admin SP","Intern",1099,null,2,"2014-12-10","2014-12-13","Wed",null,"NonBill","ZZ","2014-12-18","Special Projects","Special Projects",null,{"$f":"IF(O836=\"Business Firm billable\",VLOOKUP(A836,'Hourly rates'!$B$2:$E$40,4,FALSE),VLOOKUP(A836,'Hourly rates'!$B$2:$E$40,2,FALSE))","v":12},24]
["Meagle, Donna","Business Firm:Administration","Intern",1099,null,2,"2014-12-10","2014-12-13","Wed",null,"NonBill","ZZ","2014-12-18",null,"Other",null,{"$f":"IF(O837=\"Business Firm billable\",VLOOKUP(A837,'Hourly rates'!$B$2:$E$40,4,FALSE),VLOOKUP(A837,'Hourly rates'!$B$2:$E$40,2,FALSE))","v":12},24]
["Dwyer, Andy","Business Firm:Admin SP","Intern",1099,null,4,"2014-12-10","2014-12-13","Wed",null,"NonBill","ZZ","2014-12-18","SpecialProjects","Special Projects",null,{"$f":"IF(O838=\"Business Firm billable\",VLOOKUP(A838,'Hourly rates'!$B$2:$E$40,4,FALSE),VLOOKUP(A838,'Hourly rates'!$B$2:$E$40,2,FALSE))","v":12},48]
["Delgado, Gloria","Business Firm:Admin SP","Intern",1099,null,4,"2014-12-11","2014-12-13","Thu",null,"NonBill","ZZ","2014-12-22","special projects","Special Projects",null,{"$f":"IF(O839=\"Business Firm billable\",VLOOKUP(A839,'Hourly rates'!$B$2:$E$40,4,FALSE),VLOOKUP(A839,'Hourly rates'!$B$2:$E$40,2,FALSE))","v":12},48]
["Wyatt, Ben","Business Firm:Admin SP","Intern",1099,null,2,"2014-12-11","2014-12-13","Thu",null,"NonBill","ZZ","2014-12-18","Special Projects","Special Projects",null,{"$f":"IF(O840=\"Business Firm billable\",VLOOKUP(A840,'Hourly rates'!$B$2:$E$40,4,FALSE),VLOOKUP(A840,'Hourly rates'!$B$2:$E$40,2,FALSE))","v":12},24]
["Haverford, Tom","Business Firm:Admin SP","Staff",1099,null,3,"2014-12-11","2014-12-13","Thu",null,"NonBill","ZZ","2014-12-18","BIZ Project - Special Projects","Special Projects",null,{"$f":"IF(O841=\"Business Firm billable\",VLOOKUP(A841,'Hourly rates'!$B$2:$E$40,4,FALSE),VLOOKUP(A841,'Hourly rates'!$B$2:$E$40,2,FALSE))","v":12},36]
["Dwyer, Andy","Business Firm:Admin SP","Intern",1099,null,1.25,"2014-12-11","2014-12-13","Thu",null,"NonBill","ZZ","2014-12-18","SpecialProjects","Special Projects",null,{"$f":"IF(O842=\"Business Firm billable\",VLOOKUP(A842,'Hourly rates'!$B$2:$E$40,4,FALSE),VLOOKUP(A842,'Hourly rates'!$B$2:$E$40,2,FALSE))","v":12},15]
["Wyatt, Ben","Business Firm:Strat","Intern",1099,null,1.25,"2014-12-12","2014-12-13","Fri",null,"NonBill","ZZ","2014-12-18","Global Accounting Practice: Research Studies Handoff to Andy and Susan","BIZ Research Projects",null,{"$f":"IF(O843=\"Business Firm billable\",VLOOKUP(A843,'Hourly rates'!$B$2:$E$40,4,FALSE),VLOOKUP(A843,'Hourly rates'!$B$2:$E$40,2,FALSE))","v":12},15]
["Haverford, Tom","Business Firm:Admin SP","Staff",1099,null,4,"2014-12-12","2014-12-13","Fri",null,"NonBill","ZZ","2014-12-18","BIZ Project - Special Projects","Special Projects",null,{"$f":"IF(O844=\"Business Firm billable\",VLOOKUP(A844,'Hourly rates'!$B$2:$E$40,4,FALSE),VLOOKUP(A844,'Hourly rates'!$B$2:$E$40,2,FALSE))","v":12},48]
["Tucker, Cameron","Business Firm:Admin SP","Intern",1099,null,1.25,"2014-12-12","2014-12-13","Fri",null,"NonBill","ZZ","2014-12-18","Meeting with Andy Dwyer & Ben Wyatt about research projects","Special Projects",null,{"$f":"IF(O845=\"Business Firm billable\",VLOOKUP(A845,'Hourly rates'!$B$2:$E$40,4,FALSE),VLOOKUP(A845,'Hourly rates'!$B$2:$E$40,2,FALSE))","v":12},15]
["Dwyer, Andy","Business Firm:Administration","Intern",1099,null,1.25,"2014-12-12","2014-12-13","Fri",null,"NonBill","ZZ","2014-12-18","Research Studies","BIZ Research Projects",null,{"$f":"IF(O846=\"Business Firm billable\",VLOOKUP(A846,'Hourly rates'!$B$2:$E$40,4,FALSE),VLOOKUP(A846,'Hourly rates'!$B$2:$E$40,2,FALSE))","v":12},15]
["Meagle, Donna","Business Firm:Administration","Intern",1099,null,5,"2014-12-13","2014-12-13","Sat",null,"NonBill","ZZ","2014-12-18",null,"Other",null,{"$f":"IF(O847=\"Business Firm billable\",VLOOKUP(A847,'Hourly rates'!$B$2:$E$40,4,FALSE),VLOOKUP(A847,'Hourly rates'!$B$2:$E$40,2,FALSE))","v":12},60]
["Dwyer, Andy","Business Firm:Admin SP","Intern",1099,null,1.25,"2014-12-13","2014-12-13","Sat",null,"NonBill","ZZ","2014-12-18","SpecialProjects","Special Projects",null,{"$f":"IF(O848=\"Business Firm billable\",VLOOKUP(A848,'Hourly rates'!$B$2:$E$40,4,FALSE),VLOOKUP(A848,'Hourly rates'!$B$2:$E$40,2,FALSE))","v":12},15]
["Delgado, Gloria","Business Firm:Admin SP","Intern",1099,null,4,"2014-12-15","2014-12-20","Mon",null,"NonBill","ZZ","2015-01-07","special projects","Special Projects",null,{"$f":"IF(O849=\"Business Firm billable\",VLOOKUP(A849,'Hourly rates'!$B$2:$E$40,4,FALSE),VLOOKUP(A849,'Hourly rates'!$B$2:$E$40,2,FALSE))","v":12},48]
["Wyatt, Ben","Business Firm:Admin SP","Intern",1099,null,1.75,"2014-12-15","2014-12-20","Mon",null,"NonBill","ZZ","2015-01-06","Special Projects","Special Projects",null,{"$f":"IF(O850=\"Business Firm billable\",VLOOKUP(A850,'Hourly rates'!$B$2:$E$40,4,FALSE),VLOOKUP(A850,'Hourly rates'!$B$2:$E$40,2,FALSE))","v":12},21]
["Meagle, Donna","Business Firm:Admin SP","Intern",1099,null,4,"2014-12-15","2014-12-20","Mon",null,"NonBill","ZZ","2015-01-06"," BIZ Research Project - Special Projects","Special Projects",null,{"$f":"IF(O851=\"Business Firm billable\",VLOOKUP(A851,'Hourly rates'!$B$2:$E$40,4,FALSE),VLOOKUP(A851,'Hourly rates'!$B$2:$E$40,2,FALSE))","v":12},48]
["Delgado, Gloria","Business Firm:Admin SP","Intern",1099,null,4,"2014-12-16","2014-12-20","Tue",null,"NonBill","ZZ","2015-01-07","special projects","Special Projects",null,{"$f":"IF(O852=\"Business Firm billable\",VLOOKUP(A852,'Hourly rates'!$B$2:$E$40,4,FALSE),VLOOKUP(A852,'Hourly rates'!$B$2:$E$40,2,FALSE))","v":12},48]
["Delgado, Gloria","Some Client:IPO","Intern",1099,null,4,"2014-12-16","2014-12-20","Tue",null,"Admin 9%","ZZ","2015-01-07","Rev Rec Policy for Commercial","Business Firm billable",null,{"$f":"IF(O853=\"Business Firm billable\",VLOOKUP(A853,'Hourly rates'!$B$2:$E$40,4,FALSE),VLOOKUP(A853,'Hourly rates'!$B$2:$E$40,2,FALSE))","v":83},332]
["Dwyer, Andy","Business Firm:Administration","Intern",1099,null,1,"2014-12-16","2014-12-20","Tue",null,"NonBill","ZZ","2015-01-06","Research Studies-material weaknesses","BIZ Research Projects",null,{"$f":"IF(O854=\"Business Firm billable\",VLOOKUP(A854,'Hourly rates'!$B$2:$E$40,4,FALSE),VLOOKUP(A854,'Hourly rates'!$B$2:$E$40,2,FALSE))","v":12},12]
["Delgado, Gloria","Business Firm:Admin SP","Intern",1099,null,4,"2014-12-17","2014-12-20","Wed",null,"NonBill","ZZ","2015-01-07","special projects","Special Projects",null,{"$f":"IF(O855=\"Business Firm billable\",VLOOKUP(A855,'Hourly rates'!$B$2:$E$40,4,FALSE),VLOOKUP(A855,'Hourly rates'!$B$2:$E$40,2,FALSE))","v":12},48]
["Delgado, Gloria","Some Client:IPO","Intern",1099,null,4,"2014-12-17","2014-12-20","Wed",null,"Admin 9%","ZZ","2015-01-07","Rev Rec Policy for Commercial","Business Firm billable",null,{"$f":"IF(O856=\"Business Firm billable\",VLOOKUP(A856,'Hourly rates'!$B$2:$E$40,4,FALSE),VLOOKUP(A856,'Hourly rates'!$B$2:$E$40,2,FALSE))","v":83},332]
["Wyatt, Ben","Business Firm:Admin SP","Intern",1099,null,1.25,"2014-12-17","2014-12-20","Wed",null,"NonBill","ZZ","2015-01-06","Special Projects","Special Projects",null,{"$f":"IF(O857=\"Business Firm billable\",VLOOKUP(A857,'Hourly rates'!$B$2:$E$40,4,FALSE),VLOOKUP(A857,'Hourly rates'!$B$2:$E$40,2,FALSE))","v":12},15]
["Meagle, Donna","Business Firm:Admin SP","Intern",1099,null,2,"2014-12-17","2014-12-20","Wed",null,"NonBill","ZZ","2015-01-06"," BIZ Research Project - Special Projects","Special Projects",null,{"$f":"IF(O858=\"Business Firm billable\",VLOOKUP(A858,'Hourly rates'!$B$2:$E$40,4,FALSE),VLOOKUP(A858,'Hourly rates'!$B$2:$E$40,2,FALSE))","v":12},24]
["Dwyer, Andy","Business Firm:Admin SP","Intern",1099,null,1.25,"2014-12-17","2014-12-20","Wed",null,"NonBill","ZZ","2015-01-06","SpecialProjects","Special Projects",null,{"$f":"IF(O859=\"Business Firm billable\",VLOOKUP(A859,'Hourly rates'!$B$2:$E$40,4,FALSE),VLOOKUP(A859,'Hourly rates'!$B$2:$E$40,2,FALSE))","v":12},15]
["Delgado, Gloria","Business Firm:Admin SP","Intern",1099,null,4,"2014-12-18","2014-12-20","Thu",null,"NonBill","ZZ","2015-01-07","special projects","Special Projects",null,{"$f":"IF(O860=\"Business Firm billable\",VLOOKUP(A860,'Hourly rates'!$B$2:$E$40,4,FALSE),VLOOKUP(A860,'Hourly rates'!$B$2:$E$40,2,FALSE))","v":12},48]
["Dwyer, Andy","Business Firm:Admin SP","Intern",1099,null,1.25,"2014-12-18","2014-12-20","Thu",null,"NonBill","ZZ","2015-01-06","SpecialProjects","Special Projects",null,{"$f":"IF(O861=\"Business Firm billable\",VLOOKUP(A861,'Hourly rates'!$B$2:$E$40,4,FALSE),VLOOKUP(A861,'Hourly rates'!$B$2:$E$40,2,FALSE))","v":12},15]
["Dwyer, Andy","Business Firm:Administration","Intern",1099,null,1.25,"2014-12-18","2014-12-20","Thu",null,"NonBill","ZZ","2015-01-06","Research Studies-material weaknesses","BIZ Research Projects",null,{"$f":"IF(O862=\"Business Firm billable\",VLOOKUP(A862,'Hourly rates'!$B$2:$E$40,4,FALSE),VLOOKUP(A862,'Hourly rates'!$B$2:$E$40,2,FALSE))","v":12},15]
["Delgado, Gloria","Business Firm:Admin SP","Intern",1099,null,4,"2014-12-19","2014-12-20","Fri",null,"NonBill","ZZ","2015-01-07","special projects","Special Projects",null,{"$f":"IF(O863=\"Business Firm billable\",VLOOKUP(A863,'Hourly rates'!$B$2:$E$40,4,FALSE),VLOOKUP(A863,'Hourly rates'!$B$2:$E$40,2,FALSE))","v":12},48]
["Meagle, Donna","Business Firm:Admin SP","Intern",1099,null,4,"2014-12-20","2014-12-20","Sat",null,"NonBill","ZZ","2015-01-06"," BIZ Research Project - Special Projects","Special Projects",null,{"$f":"IF(O864=\"Business Firm billable\",VLOOKUP(A864,'Hourly rates'!$B$2:$E$40,4,FALSE),VLOOKUP(A864,'Hourly rates'!$B$2:$E$40,2,FALSE))","v":12},48]
["Tucker, Cameron","Business Firm:Administration","Intern",1099,null,1.25,"2014-12-20","2014-12-20","Sat",null,"NonBill","ZZ","2015-01-06",null,"BIZ Research Projects",null,{"$f":"IF(O865=\"Business Firm billable\",VLOOKUP(A865,'Hourly rates'!$B$2:$E$40,4,FALSE),VLOOKUP(A865,'Hourly rates'!$B$2:$E$40,2,FALSE))","v":12},15]
["Dwyer, Andy","Business Firm:Administration","Intern",1099,null,1.25,"2014-12-22","2014-12-27","Mon",null,"NonBill","ZZ","2015-01-06",null,"Other",null,{"$f":"IF(O866=\"Business Firm billable\",VLOOKUP(A866,'Hourly rates'!$B$2:$E$40,4,FALSE),VLOOKUP(A866,'Hourly rates'!$B$2:$E$40,2,FALSE))","v":12},15]
["Dwyer, Andy","Business Firm:Administration","Intern",1099,null,1.25,"2014-12-22",{"$f":"G867+7-WEEKDAY(G867)","v":"2014-12-27"},"Mon",null,"NonBill","ZZ","2015-01-06",null,"Other",null,{"$f":"IF(O867=\"Business Firm billable\",VLOOKUP(A867,'Hourly rates'!$B$2:$E$40,4,FALSE),VLOOKUP(A867,'Hourly rates'!$B$2:$E$40,2,FALSE))","v":12},15]
["Wyatt, Ben","Business Firm:Admin SP","Intern",1099,null,1.25,"2014-12-23","2014-12-27","Tue",null,"NonBill","ZZ","2015-01-06",null,"Special Projects",null,{"$f":"IF(O868=\"Business Firm billable\",VLOOKUP(A868,'Hourly rates'!$B$2:$E$40,4,FALSE),VLOOKUP(A868,'Hourly rates'!$B$2:$E$40,2,FALSE))","v":12},15]
["Tucker, Cameron","Business Firm:Administration","Intern",1099,null,2,"2014-12-23","2014-12-27","Tue",null,"NonBill","ZZ","2015-01-06",null,"BIZ Research Projects",null,{"$f":"IF(O869=\"Business Firm billable\",VLOOKUP(A869,'Hourly rates'!$B$2:$E$40,4,FALSE),VLOOKUP(A869,'Hourly rates'!$B$2:$E$40,2,FALSE))","v":12},24]
["Wyatt, Ben","Business Firm:Admin SP","Intern",1099,null,1.25,"2014-12-23",{"$f":"G870+7-WEEKDAY(G870)","v":"2014-12-27"},"Tue",null,"NonBill","ZZ","2015-01-06",null,"Special Projects",null,{"$f":"IF(O870=\"Business Firm billable\",VLOOKUP(A870,'Hourly rates'!$B$2:$E$40,4,FALSE),VLOOKUP(A870,'Hourly rates'!$B$2:$E$40,2,FALSE))","v":12},15]
["Tucker, Cameron","Business Firm:Administration","Intern",1099,null,2,"2014-12-23",{"$f":"G871+7-WEEKDAY(G871)","v":"2014-12-27"},"Tue",null,"NonBill","ZZ","2015-01-06",null,"BIZ Research Projects",null,{"$f":"IF(O871=\"Business Firm billable\",VLOOKUP(A871,'Hourly rates'!$B$2:$E$40,4,FALSE),VLOOKUP(A871,'Hourly rates'!$B$2:$E$40,2,FALSE))","v":12},24]
["Dwyer, Andy","Business Firm:Administration","Intern",1099,null,1.25,"2014-12-24","2014-12-27","Wed",null,"NonBill","ZZ","2015-01-06",null,"Other",null,{"$f":"IF(O872=\"Business Firm billable\",VLOOKUP(A872,'Hourly rates'!$B$2:$E$40,4,FALSE),VLOOKUP(A872,'Hourly rates'!$B$2:$E$40,2,FALSE))","v":12},15]
["Dwyer, Andy","Business Firm:Administration","Intern",1099,null,1.25,"2014-12-24",{"$f":"G873+7-WEEKDAY(G873)","v":"2014-12-27"},"Wed",null,"NonBill","ZZ","2015-01-06",null,"Other",null,{"$f":"IF(O873=\"Business Firm billable\",VLOOKUP(A873,'Hourly rates'!$B$2:$E$40,4,FALSE),VLOOKUP(A873,'Hourly rates'!$B$2:$E$40,2,FALSE))","v":12},15]
["Dwyer, Andy","Business Firm:Administration","Intern",1099,null,3,"2014-12-26","2014-12-27","Fri",null,"NonBill","ZZ","2015-01-06",null,"Other",null,{"$f":"IF(O874=\"Business Firm billable\",VLOOKUP(A874,'Hourly rates'!$B$2:$E$40,4,FALSE),VLOOKUP(A874,'Hourly rates'!$B$2:$E$40,2,FALSE))","v":12},36]
["Dwyer, Andy","Business Firm:Administration","Intern",1099,null,3,"2014-12-26",{"$f":"G875+7-WEEKDAY(G875)","v":"2014-12-27"},"Fri",null,"NonBill","ZZ","2015-01-06",null,"Other",null,{"$f":"IF(O875=\"Business Firm billable\",VLOOKUP(A875,'Hourly rates'!$B$2:$E$40,4,FALSE),VLOOKUP(A875,'Hourly rates'!$B$2:$E$40,2,FALSE))","v":12},36]
["Tucker, Cameron","Business Firm:Administration","Intern",1099,null,1.75,"2014-12-27","2014-12-27","Sat",null,"NonBill","ZZ","2015-01-06",null,"BIZ Research Projects",null,{"$f":"IF(O876=\"Business Firm billable\",VLOOKUP(A876,'Hourly rates'!$B$2:$E$40,4,FALSE),VLOOKUP(A876,'Hourly rates'!$B$2:$E$40,2,FALSE))","v":12},21]
["Tucker, Cameron","Business Firm:Administration","Intern",1099,null,1.75,"2014-12-27",{"$f":"G877+7-WEEKDAY(G877)","v":"2014-12-27"},"Sat",null,"NonBill","ZZ","2015-01-06",null,"BIZ Research Projects",null,{"$f":"IF(O877=\"Business Firm billable\",VLOOKUP(A877,'Hourly rates'!$B$2:$E$40,4,FALSE),VLOOKUP(A877,'Hourly rates'!$B$2:$E$40,2,FALSE))","v":12},21]
["Wyatt, Ben","Business Firm:Admin SP","Intern",1099,null,2,"2014-12-29",{"$f":"G878+7-WEEKDAY(G878)","v":"2015-01-03"},"Mon",null,"NonBill","ZZ","2015-01-23","Special Projects","Special Projects",null,{"$f":"IF(O878=\"Business Firm billable\",VLOOKUP(A878,'Hourly rates'!$B$2:$E$40,4,FALSE),VLOOKUP(A878,'Hourly rates'!$B$2:$E$40,2,FALSE))","v":12},24]
["Dwyer, Andy","Business Firm:Admin SP","Intern",1099,null,1.25,"2014-12-30","2015-01-03","Tue",null,"NonBill","ZZ","2015-01-07","SpecialProjects","Special Projects",null,{"$f":"IF(O879=\"Business Firm billable\",VLOOKUP(A879,'Hourly rates'!$B$2:$E$40,4,FALSE),VLOOKUP(A879,'Hourly rates'!$B$2:$E$40,2,FALSE))","v":12},15]
["Dwyer, Andy","Business Firm:Administration","Intern",1099,null,1.25,"2014-12-30","2015-01-03","Tue",null,"NonBill","ZZ","2015-01-07","Research Studies-material weaknesses","BIZ Research Projects",null,{"$f":"IF(O880=\"Business Firm billable\",VLOOKUP(A880,'Hourly rates'!$B$2:$E$40,4,FALSE),VLOOKUP(A880,'Hourly rates'!$B$2:$E$40,2,FALSE))","v":12},15]
["Dwyer, Andy","Gil Thorpe Realty:Tech Acctg","Intern",1099,null,4,"2014-12-30","2015-01-03","Tue",null,"Admin 9%","ZZ","2015-01-07",null,"Business Firm billable",null,{"$f":"IF(O881=\"Business Firm billable\",VLOOKUP(A881,'Hourly rates'!$B$2:$E$40,4,FALSE),VLOOKUP(A881,'Hourly rates'!$B$2:$E$40,2,FALSE))","v":83},332]
["Wyatt, Ben","Business Firm:Admin SP","Intern",1099,null,5.25,"2014-12-30",{"$f":"G882+7-WEEKDAY(G882)","v":"2015-01-03"},"Tue",null,"NonBill","ZZ","2015-01-23","Special Projects","Special Projects",null,{"$f":"IF(O882=\"Business Firm billable\",VLOOKUP(A882,'Hourly rates'!$B$2:$E$40,4,FALSE),VLOOKUP(A882,'Hourly rates'!$B$2:$E$40,2,FALSE))","v":12},63]
["Dwyer, Andy","Business Firm:Admin SP","Intern",1099,null,1.25,"2014-12-30",{"$f":"G883+7-WEEKDAY(G883)","v":"2015-01-03"},"Tue",null,"NonBill","ZZ","2015-01-07","SpecialProjects","Special Projects",null,{"$f":"IF(O883=\"Business Firm billable\",VLOOKUP(A883,'Hourly rates'!$B$2:$E$40,4,FALSE),VLOOKUP(A883,'Hourly rates'!$B$2:$E$40,2,FALSE))","v":12},15]
["Dwyer, Andy","Business Firm:Administration","Intern",1099,null,1.25,"2014-12-30",{"$f":"G884+7-WEEKDAY(G884)","v":"2015-01-03"},"Tue",null,"NonBill","ZZ","2015-01-07","Research Studies-material weaknesses","BIZ Research Projects",null,{"$f":"IF(O884=\"Business Firm billable\",VLOOKUP(A884,'Hourly rates'!$B$2:$E$40,4,FALSE),VLOOKUP(A884,'Hourly rates'!$B$2:$E$40,2,FALSE))","v":12},15]
["Dwyer, Andy","Gil Thorpe Realty:Tech Acctg","Intern",1099,null,4,"2014-12-30",{"$f":"G885+7-WEEKDAY(G885)","v":"2015-01-03"},"Tue",null,"Admin 9%","ZZ","2015-01-07",null,"Business Firm billable",null,{"$f":"IF(O885=\"Business Firm billable\",VLOOKUP(A885,'Hourly rates'!$B$2:$E$40,4,FALSE),VLOOKUP(A885,'Hourly rates'!$B$2:$E$40,2,FALSE))","v":83},332]
["Dwyer, Andy","Gil Thorpe Realty:Tech Acctg","Intern",1099,null,1.25,"2014-12-31","2015-01-03","Wed",null,"Admin 9%","ZZ","2015-01-07",null,"Business Firm billable",null,{"$f":"IF(O886=\"Business Firm billable\",VLOOKUP(A886,'Hourly rates'!$B$2:$E$40,4,FALSE),VLOOKUP(A886,'Hourly rates'!$B$2:$E$40,2,FALSE))","v":83},103.75]
["Dwyer, Andy","Gil Thorpe Realty:Tech Acctg","Intern",1099,null,1.25,"2014-12-31",{"$f":"G887+7-WEEKDAY(G887)","v":"2015-01-03"},"Wed",null,"Admin 9%","ZZ","2015-01-07",null,"Business Firm billable",null,{"$f":"IF(O887=\"Business Firm billable\",VLOOKUP(A887,'Hourly rates'!$B$2:$E$40,4,FALSE),VLOOKUP(A887,'Hourly rates'!$B$2:$E$40,2,FALSE))","v":83},103.75]
["Dwyer, Andy","Business Firm:Admin SP","Intern",1099,null,1,"2015-01-01","2015-01-03","Thu",null,"NonBill","ZZ","2015-01-07","SpecialProjects","Special Projects",null,{"$f":"IF(O888=\"Business Firm billable\",VLOOKUP(A888,'Hourly rates'!$B$2:$E$40,4,FALSE),VLOOKUP(A888,'Hourly rates'!$B$2:$E$40,2,FALSE))","v":12},12]
["Dwyer, Andy","Gil Thorpe Realty:Tech Acctg","Intern",1099,null,1,"2015-01-01","2015-01-03","Thu",null,"Admin 9%","ZZ","2015-01-07",null,"Business Firm billable",null,{"$f":"IF(O889=\"Business Firm billable\",VLOOKUP(A889,'Hourly rates'!$B$2:$E$40,4,FALSE),VLOOKUP(A889,'Hourly rates'!$B$2:$E$40,2,FALSE))","v":83},83]
["Dwyer, Andy","Business Firm:Admin SP","Intern",1099,null,1,"2015-01-01",{"$f":"G890+7-WEEKDAY(G890)","v":"2015-01-03"},"Thu",null,"NonBill","ZZ","2015-01-07","SpecialProjects","Special Projects",null,{"$f":"IF(O890=\"Business Firm billable\",VLOOKUP(A890,'Hourly rates'!$B$2:$E$40,4,FALSE),VLOOKUP(A890,'Hourly rates'!$B$2:$E$40,2,FALSE))","v":12},12]
["Dwyer, Andy","Gil Thorpe Realty:Tech Acctg","Intern",1099,null,1,"2015-01-01",{"$f":"G891+7-WEEKDAY(G891)","v":"2015-01-03"},"Thu",null,"Admin 9%","ZZ","2015-01-07",null,"Business Firm billable",null,{"$f":"IF(O891=\"Business Firm billable\",VLOOKUP(A891,'Hourly rates'!$B$2:$E$40,4,FALSE),VLOOKUP(A891,'Hourly rates'!$B$2:$E$40,2,FALSE))","v":83},83]
["Dwyer, Andy","Business Firm:Admin SP","Intern",1099,null,1.25,"2015-01-02","2015-01-03","Fri",null,"NonBill","ZZ","2015-01-07","SpecialProjects","Special Projects",null,{"$f":"IF(O892=\"Business Firm billable\",VLOOKUP(A892,'Hourly rates'!$B$2:$E$40,4,FALSE),VLOOKUP(A892,'Hourly rates'!$B$2:$E$40,2,FALSE))","v":12},15]
["Dwyer, Andy","Business Firm:Administration","Intern",1099,null,1.25,"2015-01-02","2015-01-03","Fri",null,"NonBill","ZZ","2015-01-07","Research Studies-material weaknesses","BIZ Research Projects",null,{"$f":"IF(O893=\"Business Firm billable\",VLOOKUP(A893,'Hourly rates'!$B$2:$E$40,4,FALSE),VLOOKUP(A893,'Hourly rates'!$B$2:$E$40,2,FALSE))","v":12},15]
["Dwyer, Andy","Business Firm:Administration","Intern",1099,null,1.25,"2015-01-02","2015-01-03","Fri",null,"NonBill","ZZ","2015-01-07","Research studies-Comment letters","BIZ Research Projects",null,{"$f":"IF(O894=\"Business Firm billable\",VLOOKUP(A894,'Hourly rates'!$B$2:$E$40,4,FALSE),VLOOKUP(A894,'Hourly rates'!$B$2:$E$40,2,FALSE))","v":12},15]
["Dwyer, Andy","Gil Thorpe Realty:Tech Acctg","Intern",1099,null,5,"2015-01-02","2015-01-03","Fri",null,"Admin 9%","ZZ","2015-01-07",null,"Business Firm billable",null,{"$f":"IF(O895=\"Business Firm billable\",VLOOKUP(A895,'Hourly rates'!$B$2:$E$40,4,FALSE),VLOOKUP(A895,'Hourly rates'!$B$2:$E$40,2,FALSE))","v":83},415]
["Dwyer, Andy","Business Firm:Admin SP","Intern",1099,null,1.25,"2015-01-02",{"$f":"G896+7-WEEKDAY(G896)","v":"2015-01-03"},"Fri",null,"NonBill","ZZ","2015-01-07","SpecialProjects","Special Projects",null,{"$f":"IF(O896=\"Business Firm billable\",VLOOKUP(A896,'Hourly rates'!$B$2:$E$40,4,FALSE),VLOOKUP(A896,'Hourly rates'!$B$2:$E$40,2,FALSE))","v":12},15]
["Dwyer, Andy","Business Firm:Administration","Intern",1099,null,1.25,"2015-01-02",{"$f":"G897+7-WEEKDAY(G897)","v":"2015-01-03"},"Fri",null,"NonBill","ZZ","2015-01-07","Research Studies-material weaknesses","BIZ Research Projects",null,{"$f":"IF(O897=\"Business Firm billable\",VLOOKUP(A897,'Hourly rates'!$B$2:$E$40,4,FALSE),VLOOKUP(A897,'Hourly rates'!$B$2:$E$40,2,FALSE))","v":12},15]
["Dwyer, Andy","Business Firm:Administration","Intern",1099,null,1.25,"2015-01-02",{"$f":"G898+7-WEEKDAY(G898)","v":"2015-01-03"},"Fri",null,"NonBill","ZZ","2015-01-07","Research studies-Comment letters","BIZ Research Projects",null,{"$f":"IF(O898=\"Business Firm billable\",VLOOKUP(A898,'Hourly rates'!$B$2:$E$40,4,FALSE),VLOOKUP(A898,'Hourly rates'!$B$2:$E$40,2,FALSE))","v":12},{"$f":"Q898*F898","v":15}]
["Dwyer, Andy","Gil Thorpe Realty:Tech Acctg","Intern",1099,null,5,"2015-01-02",{"$f":"G899+7-WEEKDAY(G899)","v":"2015-01-03"},"Fri",null,"Admin 9%","ZZ","2015-01-07",null,"Business Firm billable",null,{"$f":"IF(O899=\"Business Firm billable\",VLOOKUP(A899,'Hourly rates'!$B$2:$E$40,4,FALSE),VLOOKUP(A899,'Hourly rates'!$B$2:$E$40,2,FALSE))","v":83},415]
["Meagle, Donna","Business Firm:Admin SP","Intern",1099,null,3,"2015-01-03","2015-01-03","Sat",null,"NonBill","ZZ","2015-01-07"," BIZ Research Project - Special Projects","Special Projects",null,{"$f":"IF(O900=\"Business Firm billable\",VLOOKUP(A900,'Hourly rates'!$B$2:$E$40,4,FALSE),VLOOKUP(A900,'Hourly rates'!$B$2:$E$40,2,FALSE))","v":12},36]
["Meagle, Donna","Business Firm:Admin SP","Intern",1099,null,3,"2015-01-03",{"$f":"G901+7-WEEKDAY(G901)","v":"2015-01-03"},"Sat",null,"NonBill","ZZ","2015-01-07"," BIZ Research Project - Special Projects","Special Projects",null,{"$f":"IF(O901=\"Business Firm billable\",VLOOKUP(A901,'Hourly rates'!$B$2:$E$40,4,FALSE),VLOOKUP(A901,'Hourly rates'!$B$2:$E$40,2,FALSE))","v":12},36]
["Tucker, Cameron","Business Firm:Administration","Intern",1099,null,1.75,"2015-01-05","2015-01-10","Mon",null,"NonBill","ZZ","Pending","Cheap Stock Research Study","BIZ Research Projects",null,{"$f":"IF(O902=\"Business Firm billable\",VLOOKUP(A902,'Hourly rates'!$B$2:$E$40,4,FALSE),VLOOKUP(A902,'Hourly rates'!$B$2:$E$40,2,FALSE))","v":12},21]
["Dwyer, Andy","Business Firm:Admin SP","Intern",1099,null,1.25,"2015-01-05","2015-01-10","Mon",null,"NonBill","ZZ","Pending","SpecialProjects","Special Projects",null,{"$f":"IF(O903=\"Business Firm billable\",VLOOKUP(A903,'Hourly rates'!$B$2:$E$40,4,FALSE),VLOOKUP(A903,'Hourly rates'!$B$2:$E$40,2,FALSE))","v":12},15]
["Dwyer, Andy","Gil Thorpe Realty:Tech Acctg","Intern",1099,null,1,"2015-01-05","2015-01-10","Mon",null,"Admin 9%","ZZ","Pending",null,"Business Firm billable",null,{"$f":"IF(O904=\"Business Firm billable\",VLOOKUP(A904,'Hourly rates'!$B$2:$E$40,4,FALSE),VLOOKUP(A904,'Hourly rates'!$B$2:$E$40,2,FALSE))","v":83},83]
["Haverford, Tom","Business Firm:Admin SP","Staff",1099,null,2,"2015-01-05",{"$f":"G905+7-WEEKDAY(G905)","v":"2015-01-10"},"Mon",null,"NonBill","ZZ","2015-01-25","BIZ Project - Special Projects","Special Projects",null,{"$f":"IF(O905=\"Business Firm billable\",VLOOKUP(A905,'Hourly rates'!$B$2:$E$40,4,FALSE),VLOOKUP(A905,'Hourly rates'!$B$2:$E$40,2,FALSE))","v":12},24]
["Tucker, Cameron","Business Firm:Administration","Intern",1099,null,1.75,"2015-01-05",{"$f":"G906+7-WEEKDAY(G906)","v":"2015-01-10"},"Mon",null,"NonBill","ZZ","2015-01-25","Cheap Stock Research Study","BIZ Research Projects",null,{"$f":"IF(O906=\"Business Firm billable\",VLOOKUP(A906,'Hourly rates'!$B$2:$E$40,4,FALSE),VLOOKUP(A906,'Hourly rates'!$B$2:$E$40,2,FALSE))","v":12},21]
["Dwyer, Andy","Business Firm:Admin SP","Intern",1099,null,1.25,"2015-01-05",{"$f":"G907+7-WEEKDAY(G907)","v":"2015-01-10"},"Mon",null,"NonBill","ZZ","2015-01-25","SpecialProjects","Special Projects",null,{"$f":"IF(O907=\"Business Firm billable\",VLOOKUP(A907,'Hourly rates'!$B$2:$E$40,4,FALSE),VLOOKUP(A907,'Hourly rates'!$B$2:$E$40,2,FALSE))","v":12},15]
["Dwyer, Andy","Gil Thorpe Realty:Tech Acctg","Intern",1099,null,1,"2015-01-05",{"$f":"G908+7-WEEKDAY(G908)","v":"2015-01-10"},"Mon",null,"Admin 9%","ZZ","2015-01-25",null,"Business Firm billable",null,{"$f":"IF(O908=\"Business Firm billable\",VLOOKUP(A908,'Hourly rates'!$B$2:$E$40,4,FALSE),VLOOKUP(A908,'Hourly rates'!$B$2:$E$40,2,FALSE))","v":83},83]
["Wyatt, Ben","Business Firm:Admin SP","Intern",1099,null,2,"2015-01-06","2015-01-10","Tue",null,"NonBill","ZZ","Pending","Special Projects","Special Projects",null,{"$f":"IF(O909=\"Business Firm billable\",VLOOKUP(A909,'Hourly rates'!$B$2:$E$40,4,FALSE),VLOOKUP(A909,'Hourly rates'!$B$2:$E$40,2,FALSE))","v":12},24]
["Meagle, Donna","Business Firm:Admin SP","Intern",1099,null,4,"2015-01-06","2015-01-10","Tue",null,"NonBill","ZZ","Pending"," BIZ Research Project - Special Projects","Special Projects",null,{"$f":"IF(O910=\"Business Firm billable\",VLOOKUP(A910,'Hourly rates'!$B$2:$E$40,4,FALSE),VLOOKUP(A910,'Hourly rates'!$B$2:$E$40,2,FALSE))","v":12},48]
["Walker, Renee","Business Firm:Admin SP","Intern",1099,null,1.25,"2015-01-06","2015-01-10","Tue",null,"NonBill","ZZ","Pending","Special Projects","Special Projects",null,{"$f":"IF(O911=\"Business Firm billable\",VLOOKUP(A911,'Hourly rates'!$B$2:$E$40,4,FALSE),VLOOKUP(A911,'Hourly rates'!$B$2:$E$40,2,FALSE))","v":12},15]
["Tucker, Cameron","Business Firm:Administration","Intern",1099,null,1.25,"2015-01-06","2015-01-10","Tue",null,"NonBill","ZZ","Pending","JOBS/IPO Metrics Research Studies","BIZ Research Projects",null,{"$f":"IF(O912=\"Business Firm billable\",VLOOKUP(A912,'Hourly rates'!$B$2:$E$40,4,FALSE),VLOOKUP(A912,'Hourly rates'!$B$2:$E$40,2,FALSE))","v":12},15]
["Dwyer, Andy","Gil Thorpe Realty:Tech Acctg","Intern",1099,null,1.75,"2015-01-06","2015-01-10","Tue",null,"Admin 9%","ZZ","Pending",null,"Business Firm billable",null,{"$f":"IF(O913=\"Business Firm billable\",VLOOKUP(A913,'Hourly rates'!$B$2:$E$40,4,FALSE),VLOOKUP(A913,'Hourly rates'!$B$2:$E$40,2,FALSE))","v":83},145.25]
["Wyatt, Ben","Business Firm:Admin SP","Intern",1099,null,2,"2015-01-06",{"$f":"G914+7-WEEKDAY(G914)","v":"2015-01-10"},"Tue",null,"NonBill","ZZ","2015-01-25","Special Projects","Special Projects",null,{"$f":"IF(O914=\"Business Firm billable\",VLOOKUP(A914,'Hourly rates'!$B$2:$E$40,4,FALSE),VLOOKUP(A914,'Hourly rates'!$B$2:$E$40,2,FALSE))","v":12},24]
["Meagle, Donna","Business Firm:Admin SP","Intern",1099,null,4,"2015-01-06","2015-01-10","Tue",null,"NonBill","ZZ","2015-01-25"," BIZ Research Project - Special Projects","Special Projects",null,{"$f":"IF(O915=\"Business Firm billable\",VLOOKUP(A915,'Hourly rates'!$B$2:$E$40,4,FALSE),VLOOKUP(A915,'Hourly rates'!$B$2:$E$40,2,FALSE))","v":12},48]
["Walker, Renee","Business Firm:Admin SP","Intern",1099,null,1.25,"2015-01-06","2015-01-10","Tue",null,"NonBill","ZZ","2015-01-25","Special Projects","Special Projects",null,{"$f":"IF(O916=\"Business Firm billable\",VLOOKUP(A916,'Hourly rates'!$B$2:$E$40,4,FALSE),VLOOKUP(A916,'Hourly rates'!$B$2:$E$40,2,FALSE))","v":12},15]
["Haverford, Tom","Business Firm:Admin SP","Staff",1099,null,2,"2015-01-06","2015-01-10","Tue",null,"NonBill","ZZ","2015-01-25","BIZ Project - Special Projects","Special Projects",null,{"$f":"IF(O917=\"Business Firm billable\",VLOOKUP(A917,'Hourly rates'!$B$2:$E$40,4,FALSE),VLOOKUP(A917,'Hourly rates'!$B$2:$E$40,2,FALSE))","v":12},24]
["Tucker, Cameron","Business Firm:Administration","Intern",1099,null,1.25,"2015-01-06","2015-01-10","Tue",null,"NonBill","ZZ","2015-01-25","JOBS/IPO Metrics Research Studies","BIZ Research Projects",null,{"$f":"IF(O918=\"Business Firm billable\",VLOOKUP(A918,'Hourly rates'!$B$2:$E$40,4,FALSE),VLOOKUP(A918,'Hourly rates'!$B$2:$E$40,2,FALSE))","v":12},15]
["Dwyer, Andy","Gil Thorpe Realty:Tech Acctg","Intern",1099,null,1.75,"2015-01-06","2015-01-10","Tue",null,"Admin 9%","ZZ","2015-01-25",null,"Business Firm billable",null,{"$f":"IF(O919=\"Business Firm billable\",VLOOKUP(A919,'Hourly rates'!$B$2:$E$40,4,FALSE),VLOOKUP(A919,'Hourly rates'!$B$2:$E$40,2,FALSE))","v":83},145.25]
["Delgado, Manny","Business Firm:Administration","Intern",1099,null,1,"2015-01-07","2015-01-10","Wed",null,"NonBill","ZZ","Pending","Year-end file updates for 2014 income","Special Projects",null,{"$f":"IF(O920=\"Business Firm billable\",VLOOKUP(A920,'Hourly rates'!$B$2:$E$40,4,FALSE),VLOOKUP(A920,'Hourly rates'!$B$2:$E$40,2,FALSE))","v":12},12]
["Wyatt, Ben","Business Firm:Admin SP","Intern",1099,null,1,"2015-01-07","2015-01-10","Wed",null,"NonBill","ZZ","Pending","Special Projects","Special Projects",null,{"$f":"IF(O921=\"Business Firm billable\",VLOOKUP(A921,'Hourly rates'!$B$2:$E$40,4,FALSE),VLOOKUP(A921,'Hourly rates'!$B$2:$E$40,2,FALSE))","v":12},12]
["Swanson, Ron","Business Firm:Admin SP","Intern",1099,null,1.25,"2015-01-07","2015-01-10","Wed",null,"NonBill","ZZ","Pending",null,"Special Projects",null,{"$f":"IF(O922=\"Business Firm billable\",VLOOKUP(A922,'Hourly rates'!$B$2:$E$40,4,FALSE),VLOOKUP(A922,'Hourly rates'!$B$2:$E$40,2,FALSE))","v":12},15]
["Meagle, Donna","Business Firm:Admin SP","Intern",1099,null,2,"2015-01-07","2015-01-10","Wed",null,"NonBill","ZZ","Pending"," BIZ Research Project - Special Projects","Special Projects",null,{"$f":"IF(O923=\"Business Firm billable\",VLOOKUP(A923,'Hourly rates'!$B$2:$E$40,4,FALSE),VLOOKUP(A923,'Hourly rates'!$B$2:$E$40,2,FALSE))","v":12},24]
["Walker, Renee","Business Firm:Admin SP","Intern",1099,null,1.25,"2015-01-07","2015-01-10","Wed",null,"NonBill","ZZ","Pending","Special Projects","Special Projects",null,{"$f":"IF(O924=\"Business Firm billable\",VLOOKUP(A924,'Hourly rates'!$B$2:$E$40,4,FALSE),VLOOKUP(A924,'Hourly rates'!$B$2:$E$40,2,FALSE))","v":12},15]
["Tucker, Cameron","Business Firm:Administration","Intern",1099,null,1.75,"2015-01-07","2015-01-10","Wed",null,"NonBill","ZZ","Pending","Meeting with Bob & Andy about Studies","BIZ Research Projects",null,{"$f":"IF(O925=\"Business Firm billable\",VLOOKUP(A925,'Hourly rates'!$B$2:$E$40,4,FALSE),VLOOKUP(A925,'Hourly rates'!$B$2:$E$40,2,FALSE))","v":12},21]
["Dwyer, Andy","Business Firm:Admin SP","Intern",1099,null,1.25,"2015-01-07","2015-01-10","Wed",null,"NonBill","ZZ","Pending","SpecialProjects","Special Projects",null,{"$f":"IF(O926=\"Business Firm billable\",VLOOKUP(A926,'Hourly rates'!$B$2:$E$40,4,FALSE),VLOOKUP(A926,'Hourly rates'!$B$2:$E$40,2,FALSE))","v":12},15]
["Dwyer, Andy","Business Firm:Administration","Intern",1099,null,1,"2015-01-07","2015-01-10","Wed",null,"NonBill","ZZ","Pending","Research studies-overall","BIZ Research Projects",null,{"$f":"IF(O927=\"Business Firm billable\",VLOOKUP(A927,'Hourly rates'!$B$2:$E$40,4,FALSE),VLOOKUP(A927,'Hourly rates'!$B$2:$E$40,2,FALSE))","v":12},12]
["Delgado, Manny","Business Firm:Administration","Intern",1099,null,1,"2015-01-07",{"$f":"G928+7-WEEKDAY(G928)","v":"2015-01-10"},"Wed",null,"NonBill","ZZ","2015-01-25","Year-end file updates for 2014 income","Special Projects",null,{"$f":"IF(O928=\"Business Firm billable\",VLOOKUP(A928,'Hourly rates'!$B$2:$E$40,4,FALSE),VLOOKUP(A928,'Hourly rates'!$B$2:$E$40,2,FALSE))","v":12},12]
["Wyatt, Ben","Business Firm:Admin SP","Intern",1099,null,1,"2015-01-07","2015-01-10","Wed",null,"NonBill","ZZ","2015-01-25","Special Projects","Special Projects",null,{"$f":"IF(O929=\"Business Firm billable\",VLOOKUP(A929,'Hourly rates'!$B$2:$E$40,4,FALSE),VLOOKUP(A929,'Hourly rates'!$B$2:$E$40,2,FALSE))","v":12},12]
["Swanson, Ron","Business Firm:Admin SP","Intern",1099,null,1.25,"2015-01-07","2015-01-10","Wed",null,"NonBill","ZZ","2015-01-25",null,"Special Projects",null,{"$f":"IF(O930=\"Business Firm billable\",VLOOKUP(A930,'Hourly rates'!$B$2:$E$40,4,FALSE),VLOOKUP(A930,'Hourly rates'!$B$2:$E$40,2,FALSE))","v":12},15]
["Meagle, Donna","Business Firm:Admin SP","Intern",1099,null,2,"2015-01-07","2015-01-10","Wed",null,"NonBill","ZZ","2015-01-25"," BIZ Research Project - Special Projects","Special Projects",null,{"$f":"IF(O931=\"Business Firm billable\",VLOOKUP(A931,'Hourly rates'!$B$2:$E$40,4,FALSE),VLOOKUP(A931,'Hourly rates'!$B$2:$E$40,2,FALSE))","v":12},24]
["Walker, Renee","Business Firm:Admin SP","Intern",1099,null,1.25,"2015-01-07","2015-01-10","Wed",null,"NonBill","ZZ","2015-01-25","Special Projects","Special Projects",null,{"$f":"IF(O932=\"Business Firm billable\",VLOOKUP(A932,'Hourly rates'!$B$2:$E$40,4,FALSE),VLOOKUP(A932,'Hourly rates'!$B$2:$E$40,2,FALSE))","v":12},15]
["Haverford, Tom","Business Firm:Admin SP","Staff",1099,null,3,"2015-01-07","2015-01-10","Wed",null,"NonBill","ZZ","2015-01-25","BIZ Project - Special Projects","Special Projects",null,{"$f":"IF(O933=\"Business Firm billable\",VLOOKUP(A933,'Hourly rates'!$B$2:$E$40,4,FALSE),VLOOKUP(A933,'Hourly rates'!$B$2:$E$40,2,FALSE))","v":12},36]
["Tucker, Cameron","Business Firm:Administration","Intern",1099,null,1.75,"2015-01-07","2015-01-10","Wed",null,"NonBill","ZZ","2015-01-25","Meeting with Bob & Andy about Studies","BIZ Research Projects",null,{"$f":"IF(O934=\"Business Firm billable\",VLOOKUP(A934,'Hourly rates'!$B$2:$E$40,4,FALSE),VLOOKUP(A934,'Hourly rates'!$B$2:$E$40,2,FALSE))","v":12},21]
["Dwyer, Andy","Business Firm:Admin SP","Intern",1099,null,1.25,"2015-01-07","2015-01-10","Wed",null,"NonBill","ZZ","2015-01-25","SpecialProjects","Special Projects",null,{"$f":"IF(O935=\"Business Firm billable\",VLOOKUP(A935,'Hourly rates'!$B$2:$E$40,4,FALSE),VLOOKUP(A935,'Hourly rates'!$B$2:$E$40,2,FALSE))","v":12},15]
["Dwyer, Andy","Business Firm:Administration","Intern",1099,null,1,"2015-01-07","2015-01-10","Wed",null,"NonBill","ZZ","2015-01-25","Research studies-overall","BIZ Research Projects",null,{"$f":"IF(O936=\"Business Firm billable\",VLOOKUP(A936,'Hourly rates'!$B$2:$E$40,4,FALSE),VLOOKUP(A936,'Hourly rates'!$B$2:$E$40,2,FALSE))","v":12},12]
["Delgado, Manny","Business Firm:Administration","Intern",1099,null,2,"2015-01-08","2015-01-10","Thu",null,"NonBill","ZZ","Pending","Year-end file updates for 2014 income","Special Projects",null,{"$f":"IF(O937=\"Business Firm billable\",VLOOKUP(A937,'Hourly rates'!$B$2:$E$40,4,FALSE),VLOOKUP(A937,'Hourly rates'!$B$2:$E$40,2,FALSE))","v":12},24]
["Wyatt, Ben","Business Firm:Admin SP","Intern",1099,null,3,"2015-01-08","2015-01-10","Thu",null,"NonBill","ZZ","Pending","Special Projects","Special Projects",null,{"$f":"IF(O938=\"Business Firm billable\",VLOOKUP(A938,'Hourly rates'!$B$2:$E$40,4,FALSE),VLOOKUP(A938,'Hourly rates'!$B$2:$E$40,2,FALSE))","v":12},36]
["Wyatt, Ben","Business Firm:Strat","Intern",1099,null,1.25,"2015-01-08","2015-01-10","Thu",null,"NonBill","ZZ","Pending","Global Accounting Practice: Research Studies Handoff to Andy and Susan","BIZ Research Projects",null,{"$f":"IF(O939=\"Business Firm billable\",VLOOKUP(A939,'Hourly rates'!$B$2:$E$40,4,FALSE),VLOOKUP(A939,'Hourly rates'!$B$2:$E$40,2,FALSE))","v":12},15]
["Walker, Renee","Business Firm:Admin SP","Intern",1099,null,1.75,"2015-01-08","2015-01-10","Thu",null,"NonBill","ZZ","Pending","Special Projects","Special Projects",null,{"$f":"IF(O940=\"Business Firm billable\",VLOOKUP(A940,'Hourly rates'!$B$2:$E$40,4,FALSE),VLOOKUP(A940,'Hourly rates'!$B$2:$E$40,2,FALSE))","v":12},21]
["Dwyer, Andy","Business Firm:Admin SP","Intern",1099,null,1.25,"2015-01-08","2015-01-10","Thu",null,"NonBill","ZZ","Pending","SpecialProjects","Special Projects",null,{"$f":"IF(O941=\"Business Firm billable\",VLOOKUP(A941,'Hourly rates'!$B$2:$E$40,4,FALSE),VLOOKUP(A941,'Hourly rates'!$B$2:$E$40,2,FALSE))","v":12},15]
["Dwyer, Andy","Some Client:Tech Acctg","Intern",1099,null,2,"2015-01-08","2015-01-10","Thu",null,"Admin 9%","ZZ","Pending",null,"Business Firm billable",null,{"$f":"IF(O942=\"Business Firm billable\",VLOOKUP(A942,'Hourly rates'!$B$2:$E$40,4,FALSE),VLOOKUP(A942,'Hourly rates'!$B$2:$E$40,2,FALSE))","v":83},166]
["Delgado, Manny","Business Firm:Administration","Intern",1099,null,2,"2015-01-08",{"$f":"G943+7-WEEKDAY(G943)","v":"2015-01-10"},"Thu",null,"NonBill","ZZ","2015-01-25","Year-end file updates for 2014 income","Special Projects",null,{"$f":"IF(O943=\"Business Firm billable\",VLOOKUP(A943,'Hourly rates'!$B$2:$E$40,4,FALSE),VLOOKUP(A943,'Hourly rates'!$B$2:$E$40,2,FALSE))","v":12},24]
["Wyatt, Ben","Business Firm:Admin SP","Intern",1099,null,3,"2015-01-08","2015-01-10","Thu",null,"NonBill","ZZ","2015-01-25","Special Projects","Special Projects",null,{"$f":"IF(O944=\"Business Firm billable\",VLOOKUP(A944,'Hourly rates'!$B$2:$E$40,4,FALSE),VLOOKUP(A944,'Hourly rates'!$B$2:$E$40,2,FALSE))","v":12},36]
["Wyatt, Ben","Business Firm:Strat","Intern",1099,null,1.25,"2015-01-08","2015-01-10","Thu",null,"NonBill","ZZ","2015-01-25","Global Accounting Practice: Research Studies Handoff to Andy and Susan","BIZ Research Projects",null,{"$f":"IF(O945=\"Business Firm billable\",VLOOKUP(A945,'Hourly rates'!$B$2:$E$40,4,FALSE),VLOOKUP(A945,'Hourly rates'!$B$2:$E$40,2,FALSE))","v":12},15]
["Walker, Renee","Business Firm:Admin SP","Intern",1099,null,1.75,"2015-01-08","2015-01-10","Thu",null,"NonBill","ZZ","2015-01-25","Special Projects","Special Projects",null,{"$f":"IF(O946=\"Business Firm billable\",VLOOKUP(A946,'Hourly rates'!$B$2:$E$40,4,FALSE),VLOOKUP(A946,'Hourly rates'!$B$2:$E$40,2,FALSE))","v":12},21]
["Dwyer, Andy","Business Firm:Admin SP","Intern",1099,null,1.25,"2015-01-08","2015-01-10","Thu",null,"NonBill","ZZ","2015-01-25","SpecialProjects","Special Projects",null,{"$f":"IF(O947=\"Business Firm billable\",VLOOKUP(A947,'Hourly rates'!$B$2:$E$40,4,FALSE),VLOOKUP(A947,'Hourly rates'!$B$2:$E$40,2,FALSE))","v":12},15]
["Dwyer, Andy","Some Client:Tech Acctg","Intern",1099,null,2,"2015-01-08","2015-01-10","Thu",null,"Admin 9%","ZZ","2015-01-25",null,"Business Firm billable",null,{"$f":"IF(O948=\"Business Firm billable\",VLOOKUP(A948,'Hourly rates'!$B$2:$E$40,4,FALSE),VLOOKUP(A948,'Hourly rates'!$B$2:$E$40,2,FALSE))","v":83},166]
["Delgado, Manny","Business Firm:Administration","Intern",1099,null,2,"2015-01-09","2015-01-10","Fri",null,"NonBill","ZZ","Pending","Year-end file updates for 2014 income","Special Projects",null,{"$f":"IF(O949=\"Business Firm billable\",VLOOKUP(A949,'Hourly rates'!$B$2:$E$40,4,FALSE),VLOOKUP(A949,'Hourly rates'!$B$2:$E$40,2,FALSE))","v":12},24]
["Wyatt, Ben","Business Firm:Admin SP","Intern",1099,null,1.75,"2015-01-09","2015-01-10","Fri",null,"NonBill","ZZ","Pending","Special Projects","Special Projects",null,{"$f":"IF(O950=\"Business Firm billable\",VLOOKUP(A950,'Hourly rates'!$B$2:$E$40,4,FALSE),VLOOKUP(A950,'Hourly rates'!$B$2:$E$40,2,FALSE))","v":12},21]
["Wyatt, Ben","Business Firm:Strat","Intern",1099,null,1.25,"2015-01-09","2015-01-10","Fri",null,"NonBill","ZZ","Pending","Global Accounting Practice: Research Studies Handoff to Andy and Susan","BIZ Research Projects",null,{"$f":"IF(O951=\"Business Firm billable\",VLOOKUP(A951,'Hourly rates'!$B$2:$E$40,4,FALSE),VLOOKUP(A951,'Hourly rates'!$B$2:$E$40,2,FALSE))","v":12},15]
["Swanson, Ron","Business Firm:Admin SP","Intern",1099,null,1.75,"2015-01-09","2015-01-10","Fri",null,"NonBill","ZZ","Pending",null,"Special Projects",null,{"$f":"IF(O952=\"Business Firm billable\",VLOOKUP(A952,'Hourly rates'!$B$2:$E$40,4,FALSE),VLOOKUP(A952,'Hourly rates'!$B$2:$E$40,2,FALSE))","v":12},21]
["Meagle, Donna","Business Firm:Admin SP","Intern",1099,null,4,"2015-01-09","2015-01-10","Fri",null,"NonBill","ZZ","Pending"," BIZ Research Project - Special Projects","Special Projects",null,{"$f":"IF(O953=\"Business Firm billable\",VLOOKUP(A953,'Hourly rates'!$B$2:$E$40,4,FALSE),VLOOKUP(A953,'Hourly rates'!$B$2:$E$40,2,FALSE))","v":12},48]
["Walker, Renee","Business Firm:Admin SP","Intern",1099,null,1,"2015-01-09","2015-01-10","Fri",null,"NonBill","ZZ","Pending","Special Projects","Special Projects",null,{"$f":"IF(O954=\"Business Firm billable\",VLOOKUP(A954,'Hourly rates'!$B$2:$E$40,4,FALSE),VLOOKUP(A954,'Hourly rates'!$B$2:$E$40,2,FALSE))","v":12},12]
["Dwyer, Andy","Business Firm:Admin SP","Intern",1099,null,1.25,"2015-01-09","2015-01-10","Fri",null,"NonBill","ZZ","Pending","SpecialProjects","Special Projects",null,{"$f":"IF(O955=\"Business Firm billable\",VLOOKUP(A955,'Hourly rates'!$B$2:$E$40,4,FALSE),VLOOKUP(A955,'Hourly rates'!$B$2:$E$40,2,FALSE))","v":12},15]
["Delgado, Manny","Business Firm:Administration","Intern",1099,null,2,"2015-01-09",{"$f":"G956+7-WEEKDAY(G956)","v":"2015-01-10"},"Fri",null,"NonBill","ZZ","2015-01-25","Year-end file updates for 2014 income","Special Projects",null,{"$f":"IF(O956=\"Business Firm billable\",VLOOKUP(A956,'Hourly rates'!$B$2:$E$40,4,FALSE),VLOOKUP(A956,'Hourly rates'!$B$2:$E$40,2,FALSE))","v":12},24]
["Wyatt, Ben","Business Firm:Admin SP","Intern",1099,null,1.75,"2015-01-09","2015-01-10","Fri",null,"NonBill","ZZ","2015-01-25","Special Projects","Special Projects",null,{"$f":"IF(O957=\"Business Firm billable\",VLOOKUP(A957,'Hourly rates'!$B$2:$E$40,4,FALSE),VLOOKUP(A957,'Hourly rates'!$B$2:$E$40,2,FALSE))","v":12},21]
["Wyatt, Ben","Business Firm:Strat","Intern",1099,null,1.25,"2015-01-09","2015-01-10","Fri",null,"NonBill","ZZ","2015-01-25","Global Accounting Practice: Research Studies Handoff to Andy and Susan","BIZ Research Projects",null,{"$f":"IF(O958=\"Business Firm billable\",VLOOKUP(A958,'Hourly rates'!$B$2:$E$40,4,FALSE),VLOOKUP(A958,'Hourly rates'!$B$2:$E$40,2,FALSE))","v":12},15]
["Swanson, Ron","Business Firm:Admin SP","Intern",1099,null,1.75,"2015-01-09","2015-01-10","Fri",null,"NonBill","ZZ","2015-01-25",null,"Special Projects",null,{"$f":"IF(O959=\"Business Firm billable\",VLOOKUP(A959,'Hourly rates'!$B$2:$E$40,4,FALSE),VLOOKUP(A959,'Hourly rates'!$B$2:$E$40,2,FALSE))","v":12},21]
["Meagle, Donna","Business Firm:Admin SP","Intern",1099,null,4,"2015-01-09","2015-01-10","Fri",null,"NonBill","ZZ","2015-01-25"," BIZ Research Project - Special Projects","Special Projects",null,{"$f":"IF(O960=\"Business Firm billable\",VLOOKUP(A960,'Hourly rates'!$B$2:$E$40,4,FALSE),VLOOKUP(A960,'Hourly rates'!$B$2:$E$40,2,FALSE))","v":12},48]
["Walker, Renee","Business Firm:Admin SP","Intern",1099,null,1,"2015-01-09","2015-01-10","Fri",null,"NonBill","ZZ","2015-01-25","Special Projects","Special Projects",null,{"$f":"IF(O961=\"Business Firm billable\",VLOOKUP(A961,'Hourly rates'!$B$2:$E$40,4,FALSE),VLOOKUP(A961,'Hourly rates'!$B$2:$E$40,2,FALSE))","v":12},12]
["Haverford, Tom","Business Firm:Admin SP","Staff",1099,null,1,"2015-01-09","2015-01-10","Fri",null,"NonBill","ZZ","2015-01-25","BIZ Project - Special Projects","Special Projects",null,{"$f":"IF(O962=\"Business Firm billable\",VLOOKUP(A962,'Hourly rates'!$B$2:$E$40,4,FALSE),VLOOKUP(A962,'Hourly rates'!$B$2:$E$40,2,FALSE))","v":12},{"$f":"Q962*F962","v":12}]
["Dwyer, Andy","Business Firm:Admin SP","Intern",1099,null,1.25,"2015-01-09","2015-01-10","Fri",null,"NonBill","ZZ","2015-01-25","SpecialProjects","Special Projects",null,{"$f":"IF(O963=\"Business Firm billable\",VLOOKUP(A963,'Hourly rates'!$B$2:$E$40,4,FALSE),VLOOKUP(A963,'Hourly rates'!$B$2:$E$40,2,FALSE))","v":12},15]
["Delgado, Manny","Business Firm:Administration","Intern",1099,null,3,"2015-01-10","2015-01-10","Sat",null,"NonBill","ZZ","Pending","Year-end file updates for 2014 income","Special Projects",null,{"$f":"IF(O964=\"Business Firm billable\",VLOOKUP(A964,'Hourly rates'!$B$2:$E$40,4,FALSE),VLOOKUP(A964,'Hourly rates'!$B$2:$E$40,2,FALSE))","v":12},36]
["Walker, Renee","Business Firm:Admin SP","Intern",1099,null,1.25,"2015-01-10","2015-01-10","Sat",null,"NonBill","ZZ","Pending","Special Projects","Special Projects",null,{"$f":"IF(O965=\"Business Firm billable\",VLOOKUP(A965,'Hourly rates'!$B$2:$E$40,4,FALSE),VLOOKUP(A965,'Hourly rates'!$B$2:$E$40,2,FALSE))","v":12},15]
["Tucker, Cameron","Business Firm:Administration","Intern",1099,null,6,"2015-01-10","2015-01-10","Sat",null,"NonBill","ZZ","Pending","JOBS/IPO Metrics Research Studies","BIZ Research Projects",null,{"$f":"IF(O966=\"Business Firm billable\",VLOOKUP(A966,'Hourly rates'!$B$2:$E$40,4,FALSE),VLOOKUP(A966,'Hourly rates'!$B$2:$E$40,2,FALSE))","v":12},72]
["Dwyer, Andy","Business Firm:Admin SP","Intern",1099,null,1,"2015-01-10","2015-01-10","Sat",null,"NonBill","ZZ","Pending","SpecialProjects","Special Projects",null,{"$f":"IF(O967=\"Business Firm billable\",VLOOKUP(A967,'Hourly rates'!$B$2:$E$40,4,FALSE),VLOOKUP(A967,'Hourly rates'!$B$2:$E$40,2,FALSE))","v":12},12]
["Dwyer, Andy","Business Firm:Administration","Intern",1099,null,1.25,"2015-01-10","2015-01-10","Sat",null,"NonBill","ZZ","Pending","Research studies-overall","BIZ Research Projects",null,{"$f":"IF(O968=\"Business Firm billable\",VLOOKUP(A968,'Hourly rates'!$B$2:$E$40,4,FALSE),VLOOKUP(A968,'Hourly rates'!$B$2:$E$40,2,FALSE))","v":12},15]
["Dwyer, Andy","Gil Thorpe Realty:Tech Acctg","Intern",1099,null,2,"2015-01-10","2015-01-10","Sat",null,"Admin 9%","ZZ","Pending",null,"Business Firm billable",null,{"$f":"IF(O969=\"Business Firm billable\",VLOOKUP(A969,'Hourly rates'!$B$2:$E$40,4,FALSE),VLOOKUP(A969,'Hourly rates'!$B$2:$E$40,2,FALSE))","v":83},166]
["Delgado, Manny","Business Firm:Administration","Intern",1099,null,3,"2015-01-10",{"$f":"G970+7-WEEKDAY(G970)","v":"2015-01-10"},"Sat",null,"NonBill","ZZ","2015-01-25","Year-end file updates for 2014 income","Special Projects",null,{"$f":"IF(O970=\"Business Firm billable\",VLOOKUP(A970,'Hourly rates'!$B$2:$E$40,4,FALSE),VLOOKUP(A970,'Hourly rates'!$B$2:$E$40,2,FALSE))","v":12},36]
["Walker, Renee","Business Firm:Admin SP","Intern",1099,null,1.25,"2015-01-10","2015-01-10","Sat",null,"NonBill","ZZ","2015-01-25","Special Projects","Special Projects",null,{"$f":"IF(O971=\"Business Firm billable\",VLOOKUP(A971,'Hourly rates'!$B$2:$E$40,4,FALSE),VLOOKUP(A971,'Hourly rates'!$B$2:$E$40,2,FALSE))","v":12},15]
["Haverford, Tom","Business Firm:Admin SP","Staff",1099,null,2,"2015-01-10","2015-01-10","Sat",null,"NonBill","ZZ","2015-01-25","BIZ Project - Special Projects","Special Projects",null,{"$f":"IF(O972=\"Business Firm billable\",VLOOKUP(A972,'Hourly rates'!$B$2:$E$40,4,FALSE),VLOOKUP(A972,'Hourly rates'!$B$2:$E$40,2,FALSE))","v":12},24]
["Tucker, Cameron","Business Firm:Administration","Intern",1099,null,6,"2015-01-10","2015-01-10","Sat",null,"NonBill","ZZ","2015-01-25","JOBS/IPO Metrics Research Studies","BIZ Research Projects",null,{"$f":"IF(O973=\"Business Firm billable\",VLOOKUP(A973,'Hourly rates'!$B$2:$E$40,4,FALSE),VLOOKUP(A973,'Hourly rates'!$B$2:$E$40,2,FALSE))","v":12},72]
["Dwyer, Andy","Business Firm:Admin SP","Intern",1099,null,1,"2015-01-10","2015-01-10","Sat",null,"NonBill","ZZ","2015-01-25","SpecialProjects","Special Projects",null,{"$f":"IF(O974=\"Business Firm billable\",VLOOKUP(A974,'Hourly rates'!$B$2:$E$40,4,FALSE),VLOOKUP(A974,'Hourly rates'!$B$2:$E$40,2,FALSE))","v":12},12]
["Dwyer, Andy","Business Firm:Administration","Intern",1099,null,1.25,"2015-01-10","2015-01-10","Sat",null,"NonBill","ZZ","2015-01-25","Research studies-overall","BIZ Research Projects",null,{"$f":"IF(O975=\"Business Firm billable\",VLOOKUP(A975,'Hourly rates'!$B$2:$E$40,4,FALSE),VLOOKUP(A975,'Hourly rates'!$B$2:$E$40,2,FALSE))","v":12},15]
["Dwyer, Andy","Gil Thorpe Realty:Tech Acctg","Intern",1099,null,2,"2015-01-10","2015-01-10","Sat",null,"Admin 9%","ZZ","2015-01-25",null,"Business Firm billable",null,{"$f":"IF(O976=\"Business Firm billable\",VLOOKUP(A976,'Hourly rates'!$B$2:$E$40,4,FALSE),VLOOKUP(A976,'Hourly rates'!$B$2:$E$40,2,FALSE))","v":83},166]
["Wyatt, Ben","Business Firm:Admin SP","Intern",1099,null,1.75,"2015-01-12","2015-01-17","Mon",null,"NonBill","ZZ","Pending","Special Projects","Special Projects",null,{"$f":"IF(O977=\"Business Firm billable\",VLOOKUP(A977,'Hourly rates'!$B$2:$E$40,4,FALSE),VLOOKUP(A977,'Hourly rates'!$B$2:$E$40,2,FALSE))","v":12},21]
["Wyatt, Ben","Business Firm:Administration","Intern",1099,null,1.25,"2015-01-12","2015-01-17","Mon",null,"NonBill","ZZ","Pending"," BIZ Research Project-IPO Metrics-Pass of to Susan Dunphy","BIZ Research Projects",null,{"$f":"IF(O978=\"Business Firm billable\",VLOOKUP(A978,'Hourly rates'!$B$2:$E$40,4,FALSE),VLOOKUP(A978,'Hourly rates'!$B$2:$E$40,2,FALSE))","v":12},15]
["Swanson, Ron","Business Firm:Admin SP","Intern",1099,null,3,"2015-01-12","2015-01-17","Mon",null,"NonBill","ZZ","Pending","Special Projects Project","Special Projects",null,{"$f":"IF(O979=\"Business Firm billable\",VLOOKUP(A979,'Hourly rates'!$B$2:$E$40,4,FALSE),VLOOKUP(A979,'Hourly rates'!$B$2:$E$40,2,FALSE))","v":12},36]
["Walker, Renee","Business Firm:Admin SP","Intern",1099,null,2,"2015-01-12","2015-01-17","Mon",null,"NonBill","ZZ","Pending",null,"Special Projects",null,{"$f":"IF(O980=\"Business Firm billable\",VLOOKUP(A980,'Hourly rates'!$B$2:$E$40,4,FALSE),VLOOKUP(A980,'Hourly rates'!$B$2:$E$40,2,FALSE))","v":12},24]
["Dwyer, Andy","Business Firm:Admin SP","Intern",1099,null,1.25,"2015-01-12","2015-01-17","Mon",null,"NonBill","ZZ","Pending","SpecialProjects","Special Projects",null,{"$f":"IF(O981=\"Business Firm billable\",VLOOKUP(A981,'Hourly rates'!$B$2:$E$40,4,FALSE),VLOOKUP(A981,'Hourly rates'!$B$2:$E$40,2,FALSE))","v":12},15]
["Wyatt, Ben","Business Firm:Admin SP","Intern",1099,null,1.75,"2015-01-12",{"$f":"G982+7-WEEKDAY(G982)","v":"2015-01-17"},"Mon",null,"NonBill","ZZ","2015-01-25","Special Projects","Special Projects",null,{"$f":"IF(O982=\"Business Firm billable\",VLOOKUP(A982,'Hourly rates'!$B$2:$E$40,4,FALSE),VLOOKUP(A982,'Hourly rates'!$B$2:$E$40,2,FALSE))","v":12},21]
["Wyatt, Ben","Business Firm:Administration","Intern",1099,null,1.25,"2015-01-12","2015-01-17","Mon",null,"NonBill","ZZ","2015-01-25"," BIZ Research Project-IPO Metrics-Pass of to Susan Dunphy","BIZ Research Projects",null,{"$f":"IF(O983=\"Business Firm billable\",VLOOKUP(A983,'Hourly rates'!$B$2:$E$40,4,FALSE),VLOOKUP(A983,'Hourly rates'!$B$2:$E$40,2,FALSE))","v":12},15]
["Swanson, Ron","Business Firm:Admin SP","Intern",1099,null,3,"2015-01-12","2015-01-17","Mon",null,"NonBill","ZZ","2015-01-25","Special Projects Project","Special Projects",null,{"$f":"IF(O984=\"Business Firm billable\",VLOOKUP(A984,'Hourly rates'!$B$2:$E$40,4,FALSE),VLOOKUP(A984,'Hourly rates'!$B$2:$E$40,2,FALSE))","v":12},36]
["Walker, Renee","Business Firm:Admin SP","Intern",1099,null,2,"2015-01-12","2015-01-17","Mon",null,"NonBill","ZZ","2015-01-25",null,"Special Projects",null,{"$f":"IF(O985=\"Business Firm billable\",VLOOKUP(A985,'Hourly rates'!$B$2:$E$40,4,FALSE),VLOOKUP(A985,'Hourly rates'!$B$2:$E$40,2,FALSE))","v":12},24]
["Haverford, Tom","Business Firm:Admin SP","Staff",1099,null,2,"2015-01-12","2015-01-17","Mon",null,"NonBill","ZZ","2015-01-25","BIZ Project - Special Projects","Special Projects",null,{"$f":"IF(O986=\"Business Firm billable\",VLOOKUP(A986,'Hourly rates'!$B$2:$E$40,4,FALSE),VLOOKUP(A986,'Hourly rates'!$B$2:$E$40,2,FALSE))","v":12},24]
["Tucker, Cameron","Business Firm:Administration","Intern",1099,null,1.25,"2015-01-12","2015-01-17","Mon",null,"NonBill","ZZ","2015-01-25","JOBS/IPO Metrics Research Studies","BIZ Research Projects",null,{"$f":"IF(O987=\"Business Firm billable\",VLOOKUP(A987,'Hourly rates'!$B$2:$E$40,4,FALSE),VLOOKUP(A987,'Hourly rates'!$B$2:$E$40,2,FALSE))","v":12},15]
["Dwyer, Andy","Business Firm:Admin SP","Intern",1099,null,1.25,"2015-01-12","2015-01-17","Mon",null,"NonBill","ZZ","2015-01-25","SpecialProjects","Special Projects",null,{"$f":"IF(O988=\"Business Firm billable\",VLOOKUP(A988,'Hourly rates'!$B$2:$E$40,4,FALSE),VLOOKUP(A988,'Hourly rates'!$B$2:$E$40,2,FALSE))","v":12},15]
["Delgado, Manny","Business Firm:Administration","Intern",1099,null,2,"2015-01-13","2015-01-17","Tue",null,"NonBill","ZZ","Pending","Gross vs. Net","Special Projects",null,{"$f":"IF(O989=\"Business Firm billable\",VLOOKUP(A989,'Hourly rates'!$B$2:$E$40,4,FALSE),VLOOKUP(A989,'Hourly rates'!$B$2:$E$40,2,FALSE))","v":12},24]
["Wyatt, Ben","Business Firm:Admin SP","Intern",1099,null,1.75,"2015-01-13","2015-01-17","Tue",null,"NonBill","ZZ","Pending","Special Projects","Special Projects",null,{"$f":"IF(O990=\"Business Firm billable\",VLOOKUP(A990,'Hourly rates'!$B$2:$E$40,4,FALSE),VLOOKUP(A990,'Hourly rates'!$B$2:$E$40,2,FALSE))","v":12},21]
["Walker, Renee","Business Firm:Admin SP","Intern",1099,null,1,"2015-01-13","2015-01-17","Tue",null,"NonBill","ZZ","Pending",null,"Special Projects",null,{"$f":"IF(O991=\"Business Firm billable\",VLOOKUP(A991,'Hourly rates'!$B$2:$E$40,4,FALSE),VLOOKUP(A991,'Hourly rates'!$B$2:$E$40,2,FALSE))","v":12},12]
["Delgado, Manny","Business Firm:Administration","Intern",1099,null,2,"2015-01-13",{"$f":"G992+7-WEEKDAY(G992)","v":"2015-01-17"},"Tue",null,"NonBill","ZZ","2015-01-25","Gross vs. Net","Special Projects",null,{"$f":"IF(O992=\"Business Firm billable\",VLOOKUP(A992,'Hourly rates'!$B$2:$E$40,4,FALSE),VLOOKUP(A992,'Hourly rates'!$B$2:$E$40,2,FALSE))","v":12},24]
["Wyatt, Ben","Business Firm:Admin SP","Intern",1099,null,1.75,"2015-01-13",{"$f":"G993+7-WEEKDAY(G993)","v":"2015-01-17"},"Tue",null,"NonBill","ZZ","2015-01-25","Special Projects","Special Projects",null,{"$f":"IF(O993=\"Business Firm billable\",VLOOKUP(A993,'Hourly rates'!$B$2:$E$40,4,FALSE),VLOOKUP(A993,'Hourly rates'!$B$2:$E$40,2,FALSE))","v":12},21]
["Walker, Renee","Business Firm:Admin SP","Intern",1099,null,1,"2015-01-13",{"$f":"G994+7-WEEKDAY(G994)","v":"2015-01-17"},"Tue",null,"NonBill","ZZ","2015-01-25",null,"Special Projects",null,{"$f":"IF(O994=\"Business Firm billable\",VLOOKUP(A994,'Hourly rates'!$B$2:$E$40,4,FALSE),VLOOKUP(A994,'Hourly rates'!$B$2:$E$40,2,FALSE))","v":12},12]
["Haverford, Tom","Business Firm:Admin SP","Staff",1099,null,2,"2015-01-13",{"$f":"G995+7-WEEKDAY(G995)","v":"2015-01-17"},"Tue",null,"NonBill","ZZ","2015-01-25","BIZ Project - Special Projects","Special Projects",null,{"$f":"IF(O995=\"Business Firm billable\",VLOOKUP(A995,'Hourly rates'!$B$2:$E$40,4,FALSE),VLOOKUP(A995,'Hourly rates'!$B$2:$E$40,2,FALSE))","v":12},24]
["Delgado, Manny","Business Firm:Administration","Intern",1099,null,1,"2015-01-14","2015-01-17","Wed",null,"NonBill","ZZ","Pending","Gross vs. Net","Special Projects",null,{"$f":"IF(O996=\"Business Firm billable\",VLOOKUP(A996,'Hourly rates'!$B$2:$E$40,4,FALSE),VLOOKUP(A996,'Hourly rates'!$B$2:$E$40,2,FALSE))","v":12},12]
["Wyatt, Ben","Business Firm:Admin SP","Intern",1099,null,5.25,"2015-01-14","2015-01-17","Wed",null,"NonBill","ZZ","Pending","Special Projects","Special Projects",null,{"$f":"IF(O997=\"Business Firm billable\",VLOOKUP(A997,'Hourly rates'!$B$2:$E$40,4,FALSE),VLOOKUP(A997,'Hourly rates'!$B$2:$E$40,2,FALSE))","v":12},63]
["Swanson, Ron","Business Firm:Admin SP","Intern",1099,null,3,"2015-01-14","2015-01-17","Wed",null,"NonBill","ZZ","Pending","Special Projects Project","Special Projects",null,{"$f":"IF(O998=\"Business Firm billable\",VLOOKUP(A998,'Hourly rates'!$B$2:$E$40,4,FALSE),VLOOKUP(A998,'Hourly rates'!$B$2:$E$40,2,FALSE))","v":12},36]
["Walker, Renee","Business Firm:Admin SP","Intern",1099,null,2,"2015-01-14","2015-01-17","Wed",null,"NonBill","ZZ","Pending",null,"Special Projects",null,{"$f":"IF(O999=\"Business Firm billable\",VLOOKUP(A999,'Hourly rates'!$B$2:$E$40,4,FALSE),VLOOKUP(A999,'Hourly rates'!$B$2:$E$40,2,FALSE))","v":12},24]
["Dwyer, Andy","Business Firm:Admin SP","Intern",1099,null,1.75,"2015-01-14","2015-01-17","Wed",null,"NonBill","ZZ","Pending","SpecialProjects","Special Projects",null,{"$f":"IF(O1000=\"Business Firm billable\",VLOOKUP(A1000,'Hourly rates'!$B$2:$E$40,4,FALSE),VLOOKUP(A1000,'Hourly rates'!$B$2:$E$40,2,FALSE))","v":12},21]
["Delgado, Manny","Business Firm:Administration","Intern",1099,null,1,"2015-01-14",{"$f":"G1001+7-WEEKDAY(G1001)","v":"2015-01-17"},"Wed",null,"NonBill","ZZ","2015-01-25","Gross vs. Net","Special Projects",null,{"$f":"IF(O1001=\"Business Firm billable\",VLOOKUP(A1001,'Hourly rates'!$B$2:$E$40,4,FALSE),VLOOKUP(A1001,'Hourly rates'!$B$2:$E$40,2,FALSE))","v":12},12]
["Wyatt, Ben","Business Firm:Admin SP","Intern",1099,null,5.25,"2015-01-14","2015-01-17","Wed",null,"NonBill","ZZ","2015-01-25","Special Projects","Special Projects",null,{"$f":"IF(O1002=\"Business Firm billable\",VLOOKUP(A1002,'Hourly rates'!$B$2:$E$40,4,FALSE),VLOOKUP(A1002,'Hourly rates'!$B$2:$E$40,2,FALSE))","v":12},63]
["Swanson, Ron","Business Firm:Admin SP","Intern",1099,null,3,"2015-01-14","2015-01-17","Wed",null,"NonBill","ZZ","2015-01-25","Special Projects Project","Special Projects",null,{"$f":"IF(O1003=\"Business Firm billable\",VLOOKUP(A1003,'Hourly rates'!$B$2:$E$40,4,FALSE),VLOOKUP(A1003,'Hourly rates'!$B$2:$E$40,2,FALSE))","v":12},36]
["Meagle, Donna","Business Firm:Admin SP","Intern",1099,null,4,"2015-01-14","2015-01-17","Wed",null,"NonBill","ZZ","2015-01-25"," BIZ Research Project - Special Projects","Special Projects",null,{"$f":"IF(O1004=\"Business Firm billable\",VLOOKUP(A1004,'Hourly rates'!$B$2:$E$40,4,FALSE),VLOOKUP(A1004,'Hourly rates'!$B$2:$E$40,2,FALSE))","v":12},48]
["Walker, Renee","Business Firm:Admin SP","Intern",1099,null,2,"2015-01-14","2015-01-17","Wed",null,"NonBill","ZZ","2015-01-25",null,"Special Projects",null,{"$f":"IF(O1005=\"Business Firm billable\",VLOOKUP(A1005,'Hourly rates'!$B$2:$E$40,4,FALSE),VLOOKUP(A1005,'Hourly rates'!$B$2:$E$40,2,FALSE))","v":12},24]
["Haverford, Tom","Business Firm:Admin SP","Staff",1099,null,3,"2015-01-14","2015-01-17","Wed",null,"NonBill","ZZ","2015-01-25","BIZ Project - Special Projects","Special Projects",null,{"$f":"IF(O1006=\"Business Firm billable\",VLOOKUP(A1006,'Hourly rates'!$B$2:$E$40,4,FALSE),VLOOKUP(A1006,'Hourly rates'!$B$2:$E$40,2,FALSE))","v":12},36]
["Dwyer, Andy","Business Firm:Admin SP","Intern",1099,null,1.75,"2015-01-14","2015-01-17","Wed",null,"NonBill","ZZ","2015-01-25","SpecialProjects","Special Projects",null,{"$f":"IF(O1007=\"Business Firm billable\",VLOOKUP(A1007,'Hourly rates'!$B$2:$E$40,4,FALSE),VLOOKUP(A1007,'Hourly rates'!$B$2:$E$40,2,FALSE))","v":12},21]
["Delgado, Manny","Business Firm:Administration","Intern",1099,null,5,"2015-01-15","2015-01-17","Thu",null,"NonBill","ZZ","Pending","Business Firm Workpaper Repository","Special Projects",null,{"$f":"IF(O1008=\"Business Firm billable\",VLOOKUP(A1008,'Hourly rates'!$B$2:$E$40,4,FALSE),VLOOKUP(A1008,'Hourly rates'!$B$2:$E$40,2,FALSE))","v":12},60]
["Walker, Renee","Business Firm:Admin SP","Intern",1099,null,1.75,"2015-01-15","2015-01-17","Thu",null,"NonBill","ZZ","Pending",null,"Special Projects",null,{"$f":"IF(O1009=\"Business Firm billable\",VLOOKUP(A1009,'Hourly rates'!$B$2:$E$40,4,FALSE),VLOOKUP(A1009,'Hourly rates'!$B$2:$E$40,2,FALSE))","v":12},21]
["Dwyer, Andy","Business Firm:Admin SP","Intern",1099,null,1.25,"2015-01-15","2015-01-17","Thu",null,"NonBill","ZZ","Pending","SpecialProjects","Special Projects",null,{"$f":"IF(O1010=\"Business Firm billable\",VLOOKUP(A1010,'Hourly rates'!$B$2:$E$40,4,FALSE),VLOOKUP(A1010,'Hourly rates'!$B$2:$E$40,2,FALSE))","v":12},15]
["Dwyer, Andy","Gil Thorpe Realty:Tech Acctg","Intern",1099,null,1.75,"2015-01-15","2015-01-17","Thu",null,"Admin 9%","ZZ","Pending",null,"Business Firm billable",null,{"$f":"IF(O1011=\"Business Firm billable\",VLOOKUP(A1011,'Hourly rates'!$B$2:$E$40,4,FALSE),VLOOKUP(A1011,'Hourly rates'!$B$2:$E$40,2,FALSE))","v":83},145.25]
["Delgado, Manny","Business Firm:Administration","Intern",1099,null,5,"2015-01-15",{"$f":"G1012+7-WEEKDAY(G1012)","v":"2015-01-17"},"Thu",null,"NonBill","ZZ","2015-01-25","Business Firm Workpaper Repository","Special Projects",null,{"$f":"IF(O1012=\"Business Firm billable\",VLOOKUP(A1012,'Hourly rates'!$B$2:$E$40,4,FALSE),VLOOKUP(A1012,'Hourly rates'!$B$2:$E$40,2,FALSE))","v":12},60]
["Walker, Renee","Business Firm:Admin SP","Intern",1099,null,1.75,"2015-01-15",{"$f":"G1013+7-WEEKDAY(G1013)","v":"2015-01-17"},"Thu",null,"NonBill","ZZ","2015-01-25",null,"Special Projects",null,{"$f":"IF(O1013=\"Business Firm billable\",VLOOKUP(A1013,'Hourly rates'!$B$2:$E$40,4,FALSE),VLOOKUP(A1013,'Hourly rates'!$B$2:$E$40,2,FALSE))","v":12},21]
["Haverford, Tom","Business Firm:Admin SP","Staff",1099,null,3,"2015-01-15",{"$f":"G1014+7-WEEKDAY(G1014)","v":"2015-01-17"},"Thu",null,"NonBill","ZZ","2015-01-25","BIZ Project - Special Projects","Special Projects",null,{"$f":"IF(O1014=\"Business Firm billable\",VLOOKUP(A1014,'Hourly rates'!$B$2:$E$40,4,FALSE),VLOOKUP(A1014,'Hourly rates'!$B$2:$E$40,2,FALSE))","v":12},36]
["Dwyer, Andy","Business Firm:Admin SP","Intern",1099,null,1.25,"2015-01-15",{"$f":"G1015+7-WEEKDAY(G1015)","v":"2015-01-17"},"Thu",null,"NonBill","ZZ","2015-01-25","SpecialProjects","Special Projects",null,{"$f":"IF(O1015=\"Business Firm billable\",VLOOKUP(A1015,'Hourly rates'!$B$2:$E$40,4,FALSE),VLOOKUP(A1015,'Hourly rates'!$B$2:$E$40,2,FALSE))","v":12},15]
["Dwyer, Andy","Gil Thorpe Realty:Tech Acctg","Intern",1099,null,1.75,"2015-01-15",{"$f":"G1016+7-WEEKDAY(G1016)","v":"2015-01-17"},"Thu",null,"Admin 9%","ZZ","2015-01-25",null,"Business Firm billable",null,{"$f":"IF(O1016=\"Business Firm billable\",VLOOKUP(A1016,'Hourly rates'!$B$2:$E$40,4,FALSE),VLOOKUP(A1016,'Hourly rates'!$B$2:$E$40,2,FALSE))","v":83},145.25]
["Delgado, Manny","Business Firm:Administration","Intern",1099,null,1,"2015-01-16","2015-01-17","Fri",null,"NonBill","ZZ","Pending","Gross vs. Net","Special Projects",null,{"$f":"IF(O1017=\"Business Firm billable\",VLOOKUP(A1017,'Hourly rates'!$B$2:$E$40,4,FALSE),VLOOKUP(A1017,'Hourly rates'!$B$2:$E$40,2,FALSE))","v":12},12]
["Delgado, Manny","Business Firm:Administration","Intern",1099,null,2,"2015-01-16","2015-01-17","Fri",null,"NonBill","ZZ","Pending","Business Firm Workpaper Repository","Special Projects",null,{"$f":"IF(O1018=\"Business Firm billable\",VLOOKUP(A1018,'Hourly rates'!$B$2:$E$40,4,FALSE),VLOOKUP(A1018,'Hourly rates'!$B$2:$E$40,2,FALSE))","v":12},24]
["Wyatt, Ben","Business Firm:Admin SP","Intern",1099,null,3.25,"2015-01-16","2015-01-17","Fri",null,"NonBill","ZZ","Pending","Special Projects","Special Projects",null,{"$f":"IF(O1019=\"Business Firm billable\",VLOOKUP(A1019,'Hourly rates'!$B$2:$E$40,4,FALSE),VLOOKUP(A1019,'Hourly rates'!$B$2:$E$40,2,FALSE))","v":12},39]
["Walker, Renee","Business Firm:Admin SP","Intern",1099,null,1,"2015-01-16","2015-01-17","Fri",null,"NonBill","ZZ","Pending",null,"Special Projects",null,{"$f":"IF(O1020=\"Business Firm billable\",VLOOKUP(A1020,'Hourly rates'!$B$2:$E$40,4,FALSE),VLOOKUP(A1020,'Hourly rates'!$B$2:$E$40,2,FALSE))","v":12},12]
["Dwyer, Andy","Business Firm:Admin SP","Intern",1099,null,1,"2015-01-16","2015-01-17","Fri",null,"NonBill","ZZ","Pending","SpecialProjects","Special Projects",null,{"$f":"IF(O1021=\"Business Firm billable\",VLOOKUP(A1021,'Hourly rates'!$B$2:$E$40,4,FALSE),VLOOKUP(A1021,'Hourly rates'!$B$2:$E$40,2,FALSE))","v":12},12]
["Dwyer, Andy","Gil Thorpe Realty:Tech Acctg","Intern",1099,null,1.25,"2015-01-16","2015-01-17","Fri",null,"Admin 9%","ZZ","Pending",null,"Business Firm billable",null,{"$f":"IF(O1022=\"Business Firm billable\",VLOOKUP(A1022,'Hourly rates'!$B$2:$E$40,4,FALSE),VLOOKUP(A1022,'Hourly rates'!$B$2:$E$40,2,FALSE))","v":83},103.75]
["Delgado, Manny","Business Firm:Administration","Intern",1099,null,1,"2015-01-16",{"$f":"G1023+7-WEEKDAY(G1023)","v":"2015-01-17"},"Fri",null,"NonBill","ZZ","2015-01-25","Gross vs. Net","Special Projects",null,{"$f":"IF(O1023=\"Business Firm billable\",VLOOKUP(A1023,'Hourly rates'!$B$2:$E$40,4,FALSE),VLOOKUP(A1023,'Hourly rates'!$B$2:$E$40,2,FALSE))","v":12},12]
["Delgado, Manny","Business Firm:Administration","Intern",1099,null,2,"2015-01-16","2015-01-17","Fri",null,"NonBill","ZZ","2015-01-25","Business Firm Workpaper Repository","Special Projects",null,{"$f":"IF(O1024=\"Business Firm billable\",VLOOKUP(A1024,'Hourly rates'!$B$2:$E$40,4,FALSE),VLOOKUP(A1024,'Hourly rates'!$B$2:$E$40,2,FALSE))","v":12},24]
["Wyatt, Ben","Business Firm:Admin SP","Intern",1099,null,3.25,"2015-01-16","2015-01-17","Fri",null,"NonBill","ZZ","2015-01-25","Special Projects","Special Projects",null,{"$f":"IF(O1025=\"Business Firm billable\",VLOOKUP(A1025,'Hourly rates'!$B$2:$E$40,4,FALSE),VLOOKUP(A1025,'Hourly rates'!$B$2:$E$40,2,FALSE))","v":12},39]
["Meagle, Donna","Business Firm:Admin SP","Intern",1099,null,6,"2015-01-16","2015-01-17","Fri",null,"NonBill","ZZ","2015-01-25"," BIZ Research Project - Special Projects","Special Projects",null,{"$f":"IF(O1026=\"Business Firm billable\",VLOOKUP(A1026,'Hourly rates'!$B$2:$E$40,4,FALSE),VLOOKUP(A1026,'Hourly rates'!$B$2:$E$40,2,FALSE))","v":12},{"$f":"Q1026*F1026","v":72}]
["Walker, Renee","Business Firm:Admin SP","Intern",1099,null,1,"2015-01-16","2015-01-17","Fri",null,"NonBill","ZZ","2015-01-25",null,"Special Projects",null,{"$f":"IF(O1027=\"Business Firm billable\",VLOOKUP(A1027,'Hourly rates'!$B$2:$E$40,4,FALSE),VLOOKUP(A1027,'Hourly rates'!$B$2:$E$40,2,FALSE))","v":12},12]
["Dwyer, Andy","Business Firm:Admin SP","Intern",1099,null,1,"2015-01-16","2015-01-17","Fri",null,"NonBill","ZZ","2015-01-25","SpecialProjects","Special Projects",null,{"$f":"IF(O1028=\"Business Firm billable\",VLOOKUP(A1028,'Hourly rates'!$B$2:$E$40,4,FALSE),VLOOKUP(A1028,'Hourly rates'!$B$2:$E$40,2,FALSE))","v":12},12]
["Dwyer, Andy","Gil Thorpe Realty:Tech Acctg","Intern",1099,null,1.25,"2015-01-16","2015-01-17","Fri",null,"Admin 9%","ZZ","2015-01-25",null,"Business Firm billable",null,{"$f":"IF(O1029=\"Business Firm billable\",VLOOKUP(A1029,'Hourly rates'!$B$2:$E$40,4,FALSE),VLOOKUP(A1029,'Hourly rates'!$B$2:$E$40,2,FALSE))","v":83},103.75]
["Swanson, Ron","Business Firm:Admin SP","Intern",1099,null,1,"2015-01-17","2015-01-17","Sat",null,"NonBill","ZZ","Pending","Special Projects Project","Special Projects",null,{"$f":"IF(O1030=\"Business Firm billable\",VLOOKUP(A1030,'Hourly rates'!$B$2:$E$40,4,FALSE),VLOOKUP(A1030,'Hourly rates'!$B$2:$E$40,2,FALSE))","v":12},12]
["Walker, Renee","Business Firm:Admin SP","Intern",1099,null,1.25,"2015-01-17","2015-01-17","Sat",null,"NonBill","ZZ","Pending",null,"Special Projects",null,{"$f":"IF(O1031=\"Business Firm billable\",VLOOKUP(A1031,'Hourly rates'!$B$2:$E$40,4,FALSE),VLOOKUP(A1031,'Hourly rates'!$B$2:$E$40,2,FALSE))","v":12},15]
["Dwyer, Andy","Business Firm:Admin SP","Intern",1099,null,1.25,"2015-01-17","2015-01-17","Sat",null,"NonBill","ZZ","Pending","SpecialProjects","Special Projects",null,{"$f":"IF(O1032=\"Business Firm billable\",VLOOKUP(A1032,'Hourly rates'!$B$2:$E$40,4,FALSE),VLOOKUP(A1032,'Hourly rates'!$B$2:$E$40,2,FALSE))","v":12},15]
["Dwyer, Andy","Gil Thorpe Realty:Tech Acctg","Intern",1099,null,1,"2015-01-17","2015-01-17","Sat",null,"Admin 9%","ZZ","Pending",null,"Business Firm billable",null,{"$f":"IF(O1033=\"Business Firm billable\",VLOOKUP(A1033,'Hourly rates'!$B$2:$E$40,4,FALSE),VLOOKUP(A1033,'Hourly rates'!$B$2:$E$40,2,FALSE))","v":83},83]
["Swanson, Ron","Business Firm:Admin SP","Intern",1099,null,1,"2015-01-17",{"$f":"G1034+7-WEEKDAY(G1034)","v":"2015-01-17"},"Sat",null,"NonBill","ZZ","2015-01-25","Special Projects Project","Special Projects",null,{"$f":"IF(O1034=\"Business Firm billable\",VLOOKUP(A1034,'Hourly rates'!$B$2:$E$40,4,FALSE),VLOOKUP(A1034,'Hourly rates'!$B$2:$E$40,2,FALSE))","v":12},12]
["Walker, Renee","Business Firm:Admin SP","Intern",1099,null,1.25,"2015-01-17","2015-01-17","Sat",null,"NonBill","ZZ","2015-01-25",null,"Special Projects",null,{"$f":"IF(O1035=\"Business Firm billable\",VLOOKUP(A1035,'Hourly rates'!$B$2:$E$40,4,FALSE),VLOOKUP(A1035,'Hourly rates'!$B$2:$E$40,2,FALSE))","v":12},15]
["Tucker, Cameron","Business Firm:Administration","Intern",1099,null,1.25,"2015-01-17","2015-01-17","Sat",null,"NonBill","ZZ","2015-01-25","JOBS/IPO Metrics Research Studies","BIZ Research Projects",null,{"$f":"IF(O1036=\"Business Firm billable\",VLOOKUP(A1036,'Hourly rates'!$B$2:$E$40,4,FALSE),VLOOKUP(A1036,'Hourly rates'!$B$2:$E$40,2,FALSE))","v":12},15]
["Dwyer, Andy","Business Firm:Admin SP","Intern",1099,null,1.25,"2015-01-17","2015-01-17","Sat",null,"NonBill","ZZ","2015-01-25","SpecialProjects","Special Projects",null,{"$f":"IF(O1037=\"Business Firm billable\",VLOOKUP(A1037,'Hourly rates'!$B$2:$E$40,4,FALSE),VLOOKUP(A1037,'Hourly rates'!$B$2:$E$40,2,FALSE))","v":12},15]
["Dwyer, Andy","Gil Thorpe Realty:Tech Acctg","Intern",1099,null,1,"2015-01-17","2015-01-17","Sat",null,"Admin 9%","ZZ","2015-01-25",null,"Business Firm billable",null,{"$f":"IF(O1038=\"Business Firm billable\",VLOOKUP(A1038,'Hourly rates'!$B$2:$E$40,4,FALSE),VLOOKUP(A1038,'Hourly rates'!$B$2:$E$40,2,FALSE))","v":83},83]
["Wyatt, Ben","Some Client:Tech Acctg","Intern",1099,null,7,"2015-01-19","2015-01-24","Mon",null,"Admin 6%","ZZ","Pending",null,"Business Firm billable",null,{"$f":"IF(O1039=\"Business Firm billable\",VLOOKUP(A1039,'Hourly rates'!$B$2:$E$40,4,FALSE),VLOOKUP(A1039,'Hourly rates'!$B$2:$E$40,2,FALSE))","v":83},581]
["Swanson, Ron","Business Firm:Admin SP","Intern",1099,null,4,"2015-01-19","2015-01-24","Mon",null,"NonBill","ZZ","Pending","Special Projects","Special Projects",null,{"$f":"IF(O1040=\"Business Firm billable\",VLOOKUP(A1040,'Hourly rates'!$B$2:$E$40,4,FALSE),VLOOKUP(A1040,'Hourly rates'!$B$2:$E$40,2,FALSE))","v":12},48]
["Walker, Renee","Business Firm:Admin SP","Intern",1099,null,2,"2015-01-19","2015-01-24","Mon",null,"NonBill","ZZ","Pending",null,"Special Projects",null,{"$f":"IF(O1041=\"Business Firm billable\",VLOOKUP(A1041,'Hourly rates'!$B$2:$E$40,4,FALSE),VLOOKUP(A1041,'Hourly rates'!$B$2:$E$40,2,FALSE))","v":12},24]
["Dwyer, Andy","Gil Thorpe Realty:Tech Acctg","Intern",1099,null,1.75,"2015-01-19","2015-01-24","Mon",null,"Admin 9%","ZZ","Pending",null,"Business Firm billable",null,{"$f":"IF(O1042=\"Business Firm billable\",VLOOKUP(A1042,'Hourly rates'!$B$2:$E$40,4,FALSE),VLOOKUP(A1042,'Hourly rates'!$B$2:$E$40,2,FALSE))","v":83},145.25]
["Haverford, Tom","Business Firm:Admin SP","Staff",1099,null,2,"2015-01-19","2015-01-24","Mon",null,"NonBill","ZZ","2015-02-16",null,"Special Projects",null,{"$f":"IF(O1043=\"Business Firm billable\",VLOOKUP(A1043,'Hourly rates'!$B$2:$E$40,4,FALSE),VLOOKUP(A1043,'Hourly rates'!$B$2:$E$40,2,FALSE))","v":12},24]
["Delgado, Manny","Business Firm:Administration","Intern",1099,null,1,"2015-01-20",{"$f":"G1044+7-WEEKDAY(G1044)","v":"2015-01-24"},"Tue",null,"NonBill","ZZ","Pending","Significant Financing Components","Special Projects",null,{"$f":"IF(O1044=\"Business Firm billable\",VLOOKUP(A1044,'Hourly rates'!$B$2:$E$40,4,FALSE),VLOOKUP(A1044,'Hourly rates'!$B$2:$E$40,2,FALSE))","v":12},12]
["Delgado, Manny","Business Firm:Administration","Intern",1099,null,2,"2015-01-20","2015-01-24","Tue",null,"NonBill","ZZ","Pending","Business Firm Workpaper Repository","Special Projects",null,{"$f":"IF(O1045=\"Business Firm billable\",VLOOKUP(A1045,'Hourly rates'!$B$2:$E$40,4,FALSE),VLOOKUP(A1045,'Hourly rates'!$B$2:$E$40,2,FALSE))","v":12},24]
["Wyatt, Ben","Business Firm:Admin SP","Intern",1099,null,1.25,"2015-01-20","2015-01-24","Tue",null,"NonBill","ZZ","Pending",null,"Special Projects",null,{"$f":"IF(O1046=\"Business Firm billable\",VLOOKUP(A1046,'Hourly rates'!$B$2:$E$40,4,FALSE),VLOOKUP(A1046,'Hourly rates'!$B$2:$E$40,2,FALSE))","v":12},15]
["Swanson, Ron","Business Firm:Admin SP","Intern",1099,null,4,"2015-01-20","2015-01-24","Tue",null,"NonBill","ZZ","Pending","Special Projects","Special Projects",null,{"$f":"IF(O1047=\"Business Firm billable\",VLOOKUP(A1047,'Hourly rates'!$B$2:$E$40,4,FALSE),VLOOKUP(A1047,'Hourly rates'!$B$2:$E$40,2,FALSE))","v":12},48]
["Almeida, Tony","Business Firm:Admin SP","Intern",1099,null,1,"2015-01-20","2015-01-24","Tue",null,"NonBill","ZZ","Pending","Special Projects","Special Projects",null,{"$f":"IF(O1048=\"Business Firm billable\",VLOOKUP(A1048,'Hourly rates'!$B$2:$E$40,4,FALSE),VLOOKUP(A1048,'Hourly rates'!$B$2:$E$40,2,FALSE))","v":12},12,null,{"$f":"A1048&B1048&C1048&D1048&E1048&F1048&G1048&H1048&I1048&K1048&N1048&O1048","v":"Almeida, TonyBusiness Firm:Admin SPIntern109914202442028TueNonBillSpecial ProjectsSpecial Projects"}," "]
["Walker, Renee","Business Firm:Admin SP","Intern",1099,null,2,"2015-01-20","2015-01-24","Tue",null,"NonBill","ZZ","Pending",null,"Special Projects",null,{"$f":"IF(O1049=\"Business Firm billable\",VLOOKUP(A1049,'Hourly rates'!$B$2:$E$40,4,FALSE),VLOOKUP(A1049,'Hourly rates'!$B$2:$E$40,2,FALSE))","v":12},24]
["Tucker, Cameron","Business Firm:Administration","Intern",1099,null,1.75,"2015-01-20","2015-01-24","Tue",null,"NonBill","ZZ","Pending","JOBS/IPO Metrics Research Studies","BIZ Research Projects",null,{"$f":"IF(O1050=\"Business Firm billable\",VLOOKUP(A1050,'Hourly rates'!$B$2:$E$40,4,FALSE),VLOOKUP(A1050,'Hourly rates'!$B$2:$E$40,2,FALSE))","v":12},21]
["Dwyer, Andy","Business Firm:Administration","Intern",1099,null,1,"2015-01-20","2015-01-24","Tue",null,"NonBill","ZZ","Pending","Research Studies-Material Weakness","BIZ Research Projects",null,{"$f":"IF(O1051=\"Business Firm billable\",VLOOKUP(A1051,'Hourly rates'!$B$2:$E$40,4,FALSE),VLOOKUP(A1051,'Hourly rates'!$B$2:$E$40,2,FALSE))","v":12},12]
["Haverford, Tom","Business Firm:Admin SP","Staff",1099,null,2,"2015-01-20","2015-01-24","Tue",null,"NonBill","ZZ","2015-02-16",null,"Special Projects",null,{"$f":"IF(O1052=\"Business Firm billable\",VLOOKUP(A1052,'Hourly rates'!$B$2:$E$40,4,FALSE),VLOOKUP(A1052,'Hourly rates'!$B$2:$E$40,2,FALSE))","v":12},24]
["Delgado, Manny","Business Firm:Administration","Intern",1099,null,1,"2015-01-21",{"$f":"G1053+7-WEEKDAY(G1053)","v":"2015-01-24"},"Wed",null,"NonBill","ZZ","Pending","Significant Financing Components","Special Projects",null,{"$f":"IF(O1053=\"Business Firm billable\",VLOOKUP(A1053,'Hourly rates'!$B$2:$E$40,4,FALSE),VLOOKUP(A1053,'Hourly rates'!$B$2:$E$40,2,FALSE))","v":12},12]
["Wyatt, Ben","Business Firm:Admin SP","Intern",1099,null,1.75,"2015-01-21",{"$f":"G1054+7-WEEKDAY(G1054)","v":"2015-01-24"},"Wed",null,"NonBill","ZZ","Pending",null,"Special Projects",null,{"$f":"IF(O1054=\"Business Firm billable\",VLOOKUP(A1054,'Hourly rates'!$B$2:$E$40,4,FALSE),VLOOKUP(A1054,'Hourly rates'!$B$2:$E$40,2,FALSE))","v":12},21]
["Meagle, Donna","Business Firm:Admin SP","Intern",1099,null,3,"2015-01-21",{"$f":"G1055+7-WEEKDAY(G1055)","v":"2015-01-24"},"Wed",null,"NonBill","ZZ","Pending"," BIZ Research Project - Special Projects","Special Projects",null,{"$f":"IF(O1055=\"Business Firm billable\",VLOOKUP(A1055,'Hourly rates'!$B$2:$E$40,4,FALSE),VLOOKUP(A1055,'Hourly rates'!$B$2:$E$40,2,FALSE))","v":12},36]
["Walker, Renee","Business Firm:Admin SP","Intern",1099,null,1.25,"2015-01-21",{"$f":"G1056+7-WEEKDAY(G1056)","v":"2015-01-24"},"Wed",null,"NonBill","ZZ","Pending",null,"Special Projects",null,{"$f":"IF(O1056=\"Business Firm billable\",VLOOKUP(A1056,'Hourly rates'!$B$2:$E$40,4,FALSE),VLOOKUP(A1056,'Hourly rates'!$B$2:$E$40,2,FALSE))","v":12},15]
["Dwyer, Andy","Business Firm:Admin SP","Intern",1099,null,1.25,"2015-01-21",{"$f":"G1057+7-WEEKDAY(G1057)","v":"2015-01-24"},"Wed",null,"NonBill","ZZ","Pending","SpecialProjects","Special Projects",null,{"$f":"IF(O1057=\"Business Firm billable\",VLOOKUP(A1057,'Hourly rates'!$B$2:$E$40,4,FALSE),VLOOKUP(A1057,'Hourly rates'!$B$2:$E$40,2,FALSE))","v":12},15]
["Haverford, Tom","Business Firm:Admin SP","Staff",1099,null,3,"2015-01-21","2015-01-24","Wed",null,"NonBill","ZZ","2015-02-16",null,"Special Projects",null,{"$f":"IF(O1058=\"Business Firm billable\",VLOOKUP(A1058,'Hourly rates'!$B$2:$E$40,4,FALSE),VLOOKUP(A1058,'Hourly rates'!$B$2:$E$40,2,FALSE))","v":12},36]
["Wyatt, Ben","Business Firm:Admin SP","Intern",1099,null,1.25,"2015-01-22",{"$f":"G1059+7-WEEKDAY(G1059)","v":"2015-01-24"},"Thu",null,"NonBill","ZZ","Pending",null,"Special Projects",null,{"$f":"IF(O1059=\"Business Firm billable\",VLOOKUP(A1059,'Hourly rates'!$B$2:$E$40,4,FALSE),VLOOKUP(A1059,'Hourly rates'!$B$2:$E$40,2,FALSE))","v":12},15]
["Swanson, Ron","Business Firm:Admin SP","Intern",1099,null,1,"2015-01-22","2015-01-24","Thu",null,"NonBill","ZZ","Pending","Special Projects","Special Projects",null,{"$f":"IF(O1060=\"Business Firm billable\",VLOOKUP(A1060,'Hourly rates'!$B$2:$E$40,4,FALSE),VLOOKUP(A1060,'Hourly rates'!$B$2:$E$40,2,FALSE))","v":12},12]
["Meagle, Donna","Business Firm:Admin SP","Intern",1099,null,4,"2015-01-22","2015-01-24","Thu",null,"NonBill","ZZ","Pending"," BIZ Research Project - Special Projects","Special Projects",null,{"$f":"IF(O1061=\"Business Firm billable\",VLOOKUP(A1061,'Hourly rates'!$B$2:$E$40,4,FALSE),VLOOKUP(A1061,'Hourly rates'!$B$2:$E$40,2,FALSE))","v":12},48]
["Almeida, Tony","Business Firm:Admin SP","Intern",1099,null,1,"2015-01-22","2015-01-24","Thu",null,"NonBill","ZZ","Pending","Special Projects","Special Projects",null,{"$f":"IF(O1062=\"Business Firm billable\",VLOOKUP(A1062,'Hourly rates'!$B$2:$E$40,4,FALSE),VLOOKUP(A1062,'Hourly rates'!$B$2:$E$40,2,FALSE))","v":12},12,null,{"$f":"A1062&B1062&C1062&D1062&E1062&F1062&G1062&H1062&I1062&K1062&N1062&O1062","v":"Almeida, TonyBusiness Firm:Admin SPIntern109914202642028ThuNonBillSpecial ProjectsSpecial Projects"}," "]
["Walker, Renee","Business Firm:Admin SP","Intern",1099,null,1.25,"2015-01-22","2015-01-24","Thu",null,"NonBill","ZZ","Pending",null,"Special Projects",null,{"$f":"IF(O1063=\"Business Firm billable\",VLOOKUP(A1063,'Hourly rates'!$B$2:$E$40,4,FALSE),VLOOKUP(A1063,'Hourly rates'!$B$2:$E$40,2,FALSE))","v":12},15]
["Tucker, Cameron","Business Firm:Administration","Intern",1099,null,1.25,"2015-01-22","2015-01-24","Thu",null,"NonBill","ZZ","Pending","JOBS/IPO Metrics Research Studies","BIZ Research Projects",null,{"$f":"IF(O1064=\"Business Firm billable\",VLOOKUP(A1064,'Hourly rates'!$B$2:$E$40,4,FALSE),VLOOKUP(A1064,'Hourly rates'!$B$2:$E$40,2,FALSE))","v":12},15]
["Dwyer, Andy","Business Firm:Admin SP","Intern",1099,null,3,"2015-01-22","2015-01-24","Thu",null,"NonBill","ZZ","Pending","SpecialProjects","Special Projects",null,{"$f":"IF(O1065=\"Business Firm billable\",VLOOKUP(A1065,'Hourly rates'!$B$2:$E$40,4,FALSE),VLOOKUP(A1065,'Hourly rates'!$B$2:$E$40,2,FALSE))","v":12},36]
["Haverford, Tom","Business Firm:Admin SP","Staff",1099,null,3,"2015-01-22","2015-01-24","Thu",null,"NonBill","ZZ","2015-02-16",null,"Special Projects",null,{"$f":"IF(O1066=\"Business Firm billable\",VLOOKUP(A1066,'Hourly rates'!$B$2:$E$40,4,FALSE),VLOOKUP(A1066,'Hourly rates'!$B$2:$E$40,2,FALSE))","v":12},36]
["Delgado, Manny","Business Firm:Administration","Intern",1099,null,4,"2015-01-23",{"$f":"G1067+7-WEEKDAY(G1067)","v":"2015-01-24"},"Fri",null,"NonBill","ZZ","Pending","Significant Financing Components","Special Projects",null,{"$f":"IF(O1067=\"Business Firm billable\",VLOOKUP(A1067,'Hourly rates'!$B$2:$E$40,4,FALSE),VLOOKUP(A1067,'Hourly rates'!$B$2:$E$40,2,FALSE))","v":12},48]
["Delgado, Manny","Business Firm:Administration","Intern",1099,null,1,"2015-01-23","2015-01-24","Fri",null,"NonBill","ZZ","Pending","Business Firm Workpaper Repository","Special Projects",null,{"$f":"IF(O1068=\"Business Firm billable\",VLOOKUP(A1068,'Hourly rates'!$B$2:$E$40,4,FALSE),VLOOKUP(A1068,'Hourly rates'!$B$2:$E$40,2,FALSE))","v":12},12]
["Wyatt, Ben","Business Firm:Admin SP","Intern",1099,null,1.25,"2015-01-23","2015-01-24","Fri",null,"NonBill","ZZ","Pending",null,"Special Projects",null,{"$f":"IF(O1069=\"Business Firm billable\",VLOOKUP(A1069,'Hourly rates'!$B$2:$E$40,4,FALSE),VLOOKUP(A1069,'Hourly rates'!$B$2:$E$40,2,FALSE))","v":12},15]
["Swanson, Ron","Business Firm:Admin SP","Intern",1099,null,1,"2015-01-23","2015-01-24","Fri",null,"NonBill","ZZ","Pending","Special Projects","Special Projects",null,{"$f":"IF(O1070=\"Business Firm billable\",VLOOKUP(A1070,'Hourly rates'!$B$2:$E$40,4,FALSE),VLOOKUP(A1070,'Hourly rates'!$B$2:$E$40,2,FALSE))","v":12},12]
["Meagle, Donna","Business Firm:Admin SP","Intern",1099,null,3,"2015-01-23","2015-01-24","Fri",null,"NonBill","ZZ","Pending"," BIZ Research Project - Special Projects","Special Projects",null,{"$f":"IF(O1071=\"Business Firm billable\",VLOOKUP(A1071,'Hourly rates'!$B$2:$E$40,4,FALSE),VLOOKUP(A1071,'Hourly rates'!$B$2:$E$40,2,FALSE))","v":12},36]
["Walker, Renee","Business Firm:Admin SP","Intern",1099,null,1.25,"2015-01-23","2015-01-24","Fri",null,"NonBill","ZZ","Pending",null,"Special Projects",null,{"$f":"IF(O1072=\"Business Firm billable\",VLOOKUP(A1072,'Hourly rates'!$B$2:$E$40,4,FALSE),VLOOKUP(A1072,'Hourly rates'!$B$2:$E$40,2,FALSE))","v":12},15]
["Tucker, Cameron","Business Firm:Administration","Intern",1099,null,2.75,"2015-01-23","2015-01-24","Fri",null,"NonBill","ZZ","Pending","JOBS/IPO Metrics Research Studies","BIZ Research Projects",null,{"$f":"IF(O1073=\"Business Firm billable\",VLOOKUP(A1073,'Hourly rates'!$B$2:$E$40,4,FALSE),VLOOKUP(A1073,'Hourly rates'!$B$2:$E$40,2,FALSE))","v":12},33]
["Dwyer, Andy","Business Firm:Admin SP","Intern",1099,null,1.25,"2015-01-23","2015-01-24","Fri",null,"NonBill","ZZ","Pending","SpecialProjects","Special Projects",null,{"$f":"IF(O1074=\"Business Firm billable\",VLOOKUP(A1074,'Hourly rates'!$B$2:$E$40,4,FALSE),VLOOKUP(A1074,'Hourly rates'!$B$2:$E$40,2,FALSE))","v":12},15]
["Delgado, Manny","Business Firm:Administration","Intern",1099,null,1,"2015-01-24","2015-01-24","Sat",null,"NonBill","ZZ","Pending","Significant Financing Components","Special Projects",null,{"$f":"IF(O1075=\"Business Firm billable\",VLOOKUP(A1075,'Hourly rates'!$B$2:$E$40,4,FALSE),VLOOKUP(A1075,'Hourly rates'!$B$2:$E$40,2,FALSE))","v":12},12]
["Wyatt, Ben","Business Firm:Admin SP","Intern",1099,null,1.25,"2015-01-24","2015-01-24","Sat",null,"NonBill","ZZ","Pending",null,"Special Projects",null,{"$f":"IF(O1076=\"Business Firm billable\",VLOOKUP(A1076,'Hourly rates'!$B$2:$E$40,4,FALSE),VLOOKUP(A1076,'Hourly rates'!$B$2:$E$40,2,FALSE))","v":12},15]
["Walker, Renee","Business Firm:Admin SP","Intern",1099,null,1.25,"2015-01-24","2015-01-24","Sat",null,"NonBill","ZZ","Pending",null,"Special Projects",null,{"$f":"IF(O1077=\"Business Firm billable\",VLOOKUP(A1077,'Hourly rates'!$B$2:$E$40,4,FALSE),VLOOKUP(A1077,'Hourly rates'!$B$2:$E$40,2,FALSE))","v":12},15]
["Tucker, Cameron","Business Firm:Administration","Intern",1099,null,1.25,"2015-01-24","2015-01-24","Sat",null,"NonBill","ZZ","Pending","JOBS/IPO Metrics Research Studies","BIZ Research Projects",null,{"$f":"IF(O1078=\"Business Firm billable\",VLOOKUP(A1078,'Hourly rates'!$B$2:$E$40,4,FALSE),VLOOKUP(A1078,'Hourly rates'!$B$2:$E$40,2,FALSE))","v":12},15]
["Dwyer, Andy","Business Firm:Admin SP","Intern",1099,null,1.75,"2015-01-24","2015-01-24","Sat",null,"NonBill","ZZ","Pending","SpecialProjects","Special Projects",null,{"$f":"IF(O1079=\"Business Firm billable\",VLOOKUP(A1079,'Hourly rates'!$B$2:$E$40,4,FALSE),VLOOKUP(A1079,'Hourly rates'!$B$2:$E$40,2,FALSE))","v":12},21]
["Dwyer, Andy","Business Firm:Administration","Intern",1099,null,1.25,"2015-01-24","2015-01-24","Sat",null,"NonBill","ZZ","Pending","Research Studies-Material Weakness","BIZ Research Projects",null,{"$f":"IF(O1080=\"Business Firm billable\",VLOOKUP(A1080,'Hourly rates'!$B$2:$E$40,4,FALSE),VLOOKUP(A1080,'Hourly rates'!$B$2:$E$40,2,FALSE))","v":12},15]
["Swanson, Ron","Business Firm:Admin SP","Intern",1099,null,1,"2015-01-26","2015-01-31","Mon",null,"NonBill","ZZ","2015-02-03",null,"Special Projects",null,{"$f":"IF(O1081=\"Business Firm billable\",VLOOKUP(A1081,'Hourly rates'!$B$2:$E$40,4,FALSE),VLOOKUP(A1081,'Hourly rates'!$B$2:$E$40,2,FALSE))","v":12},12]
["Walker, Renee","Business Firm:Admin SP","Intern",1099,null,1,"2015-01-26","2015-01-31","Mon",null,"NonBill","ZZ","2015-02-03",null,"Special Projects",null,{"$f":"IF(O1082=\"Business Firm billable\",VLOOKUP(A1082,'Hourly rates'!$B$2:$E$40,4,FALSE),VLOOKUP(A1082,'Hourly rates'!$B$2:$E$40,2,FALSE))","v":12},12]
["Tucker, Cameron","Business Firm:Administration","Intern",1099,null,4,"2015-01-26","2015-01-31","Mon",null,"NonBill","ZZ","2015-02-03","JOBS/IPO Metrics Research Studies","BIZ Research Projects",null,{"$f":"IF(O1083=\"Business Firm billable\",VLOOKUP(A1083,'Hourly rates'!$B$2:$E$40,4,FALSE),VLOOKUP(A1083,'Hourly rates'!$B$2:$E$40,2,FALSE))","v":12},48]
["Dwyer, Andy","Business Firm:Admin SP","Intern",1099,null,1.25,"2015-01-26","2015-01-31","Mon",null,"NonBill","ZZ","2015-02-03",null,"Special Projects",null,{"$f":"IF(O1084=\"Business Firm billable\",VLOOKUP(A1084,'Hourly rates'!$B$2:$E$40,4,FALSE),VLOOKUP(A1084,'Hourly rates'!$B$2:$E$40,2,FALSE))","v":12},15]
["Haverford, Tom","Business Firm:Admin SP","Staff",1099,null,4,"2015-01-26","2015-01-31","Mon",null,"NonBill","ZZ","2015-02-16",null,"Special Projects",null,{"$f":"IF(O1085=\"Business Firm billable\",VLOOKUP(A1085,'Hourly rates'!$B$2:$E$40,4,FALSE),VLOOKUP(A1085,'Hourly rates'!$B$2:$E$40,2,FALSE))","v":12},48]
["Delgado, Manny","Business Firm:Administration","Intern",1099,null,4,"2015-01-27",{"$f":"G1086+7-WEEKDAY(G1086)","v":"2015-01-31"},"Tue",null,"NonBill","ZZ","2015-02-03","Significant Financing Components","Special Projects",null,{"$f":"IF(O1086=\"Business Firm billable\",VLOOKUP(A1086,'Hourly rates'!$B$2:$E$40,4,FALSE),VLOOKUP(A1086,'Hourly rates'!$B$2:$E$40,2,FALSE))","v":12},48]
["Wyatt, Ben","Business Firm:Admin SP","Intern",1099,null,1.25,"2015-01-27",{"$f":"G1087+7-WEEKDAY(G1087)","v":"2015-01-31"},"Tue",null,"NonBill","ZZ","2015-02-03",null,"Special Projects",null,{"$f":"IF(O1087=\"Business Firm billable\",VLOOKUP(A1087,'Hourly rates'!$B$2:$E$40,4,FALSE),VLOOKUP(A1087,'Hourly rates'!$B$2:$E$40,2,FALSE))","v":12},15]
["Walker, Renee","Business Firm:Admin SP","Intern",1099,null,3,"2015-01-27",{"$f":"G1088+7-WEEKDAY(G1088)","v":"2015-01-31"},"Tue",null,"NonBill","ZZ","2015-02-03",null,"Special Projects",null,{"$f":"IF(O1088=\"Business Firm billable\",VLOOKUP(A1088,'Hourly rates'!$B$2:$E$40,4,FALSE),VLOOKUP(A1088,'Hourly rates'!$B$2:$E$40,2,FALSE))","v":12},36]
["Haverford, Tom","Business Firm:Admin SP","Staff",1099,null,2,"2015-01-27","2015-01-31","Tue",null,"NonBill","ZZ","2015-02-16",null,"Special Projects",null,{"$f":"IF(O1089=\"Business Firm billable\",VLOOKUP(A1089,'Hourly rates'!$B$2:$E$40,4,FALSE),VLOOKUP(A1089,'Hourly rates'!$B$2:$E$40,2,FALSE))","v":12},24]
["Delgado, Manny","Business Firm:Administration","Intern",1099,null,1,"2015-01-28",{"$f":"G1090+7-WEEKDAY(G1090)","v":"2015-01-31"},"Wed",null,"NonBill","ZZ","2015-02-03","Meetings, Rough Draft Review","Special Projects",null,{"$f":"IF(O1090=\"Business Firm billable\",VLOOKUP(A1090,'Hourly rates'!$B$2:$E$40,4,FALSE),VLOOKUP(A1090,'Hourly rates'!$B$2:$E$40,2,FALSE))","v":12},{"$f":"Q1090*F1090","v":12}]
["Wyatt, Ben","Business Firm:Admin SP","Intern",1099,null,1.25,"2015-01-28","2015-01-31","Wed",null,"NonBill","ZZ","2015-02-03",null,"Special Projects",null,{"$f":"IF(O1091=\"Business Firm billable\",VLOOKUP(A1091,'Hourly rates'!$B$2:$E$40,4,FALSE),VLOOKUP(A1091,'Hourly rates'!$B$2:$E$40,2,FALSE))","v":12},15]
["Swanson, Ron","Business Firm:Admin SP","Intern",1099,null,1.25,"2015-01-28","2015-01-31","Wed",null,"NonBill","ZZ","2015-02-03",null,"Special Projects",null,{"$f":"IF(O1092=\"Business Firm billable\",VLOOKUP(A1092,'Hourly rates'!$B$2:$E$40,4,FALSE),VLOOKUP(A1092,'Hourly rates'!$B$2:$E$40,2,FALSE))","v":12},15]
["Meagle, Donna","Business Firm:Admin SP","Intern",1099,null,4,"2015-01-28","2015-01-31","Wed",null,"NonBill","ZZ","2015-02-03",null,"Special Projects",null,{"$f":"IF(O1093=\"Business Firm billable\",VLOOKUP(A1093,'Hourly rates'!$B$2:$E$40,4,FALSE),VLOOKUP(A1093,'Hourly rates'!$B$2:$E$40,2,FALSE))","v":12},48]
["Walker, Renee","Business Firm:Admin SP","Intern",1099,null,2,"2015-01-28","2015-01-31","Wed",null,"NonBill","ZZ","2015-02-03",null,"Special Projects",null,{"$f":"IF(O1094=\"Business Firm billable\",VLOOKUP(A1094,'Hourly rates'!$B$2:$E$40,4,FALSE),VLOOKUP(A1094,'Hourly rates'!$B$2:$E$40,2,FALSE))","v":12},24]
["Tucker, Cameron","Business Firm:Administration","Intern",1099,null,3,"2015-01-28","2015-01-31","Wed",null,"NonBill","ZZ","2015-02-03","JOBS/IPO Metrics Research Studies","BIZ Research Projects",null,{"$f":"IF(O1095=\"Business Firm billable\",VLOOKUP(A1095,'Hourly rates'!$B$2:$E$40,4,FALSE),VLOOKUP(A1095,'Hourly rates'!$B$2:$E$40,2,FALSE))","v":12},36]
["Dwyer, Andy","Business Firm:Admin SP","Intern",1099,null,2.25,"2015-01-28","2015-01-31","Wed",null,"NonBill","ZZ","2015-02-03",null,"Special Projects",null,{"$f":"IF(O1096=\"Business Firm billable\",VLOOKUP(A1096,'Hourly rates'!$B$2:$E$40,4,FALSE),VLOOKUP(A1096,'Hourly rates'!$B$2:$E$40,2,FALSE))","v":12},27]
["Haverford, Tom","Business Firm:Admin SP","Staff",1099,null,2,"2015-01-28","2015-01-31","Wed",null,"NonBill","ZZ","2015-02-16",null,"Special Projects",null,{"$f":"IF(O1097=\"Business Firm billable\",VLOOKUP(A1097,'Hourly rates'!$B$2:$E$40,4,FALSE),VLOOKUP(A1097,'Hourly rates'!$B$2:$E$40,2,FALSE))","v":12},24]
["Wyatt, Ben","Business Firm:Admin SP","Intern",1099,null,1.25,"2015-01-29",{"$f":"G1098+7-WEEKDAY(G1098)","v":"2015-01-31"},"Thu",null,"NonBill","ZZ","2015-02-03",null,"Special Projects",null,{"$f":"IF(O1098=\"Business Firm billable\",VLOOKUP(A1098,'Hourly rates'!$B$2:$E$40,4,FALSE),VLOOKUP(A1098,'Hourly rates'!$B$2:$E$40,2,FALSE))","v":12},15]
["Swanson, Ron","Business Firm:Admin SP","Intern",1099,null,1.25,"2015-01-29",{"$f":"G1099+7-WEEKDAY(G1099)","v":"2015-01-31"},"Thu",null,"NonBill","ZZ","2015-02-03",null,"Special Projects",null,{"$f":"IF(O1099=\"Business Firm billable\",VLOOKUP(A1099,'Hourly rates'!$B$2:$E$40,4,FALSE),VLOOKUP(A1099,'Hourly rates'!$B$2:$E$40,2,FALSE))","v":12},15]
["Walker, Renee","Business Firm:Admin SP","Intern",1099,null,1,"2015-01-29",{"$f":"G1100+7-WEEKDAY(G1100)","v":"2015-01-31"},"Thu",null,"NonBill","ZZ","2015-02-03",null,"Special Projects",null,{"$f":"IF(O1100=\"Business Firm billable\",VLOOKUP(A1100,'Hourly rates'!$B$2:$E$40,4,FALSE),VLOOKUP(A1100,'Hourly rates'!$B$2:$E$40,2,FALSE))","v":12},12]
["Tucker, Cameron","Business Firm:Administration","Intern",1099,null,1.25,"2015-01-29",{"$f":"G1101+7-WEEKDAY(G1101)","v":"2015-01-31"},"Thu",null,"NonBill","ZZ","2015-02-03","JOBS/IPO Metrics Research Studies","BIZ Research Projects",null,{"$f":"IF(O1101=\"Business Firm billable\",VLOOKUP(A1101,'Hourly rates'!$B$2:$E$40,4,FALSE),VLOOKUP(A1101,'Hourly rates'!$B$2:$E$40,2,FALSE))","v":12},15]
["Dwyer, Andy","Business Firm:Administration","Intern",1099,null,1.25,"2015-01-29",{"$f":"G1102+7-WEEKDAY(G1102)","v":"2015-01-31"},"Thu",null,"NonBill","ZZ","2015-02-03","Research Studies-Material Weakness","BIZ Research Projects",null,{"$f":"IF(O1102=\"Business Firm billable\",VLOOKUP(A1102,'Hourly rates'!$B$2:$E$40,4,FALSE),VLOOKUP(A1102,'Hourly rates'!$B$2:$E$40,2,FALSE))","v":12},15]
["Haverford, Tom","Business Firm:Admin SP","Staff",1099,null,2,"2015-01-29","2015-01-31","Thu",null,"NonBill","ZZ","2015-02-16",null,"Special Projects",null,{"$f":"IF(O1103=\"Business Firm billable\",VLOOKUP(A1103,'Hourly rates'!$B$2:$E$40,4,FALSE),VLOOKUP(A1103,'Hourly rates'!$B$2:$E$40,2,FALSE))","v":12},24]
["Delgado, Manny","Business Firm:Administration","Intern",1099,null,4,"2015-01-30",{"$f":"G1104+7-WEEKDAY(G1104)","v":"2015-01-31"},"Fri",null,"NonBill","ZZ","2015-02-03","Significant Financing Components","Special Projects",null,{"$f":"IF(O1104=\"Business Firm billable\",VLOOKUP(A1104,'Hourly rates'!$B$2:$E$40,4,FALSE),VLOOKUP(A1104,'Hourly rates'!$B$2:$E$40,2,FALSE))","v":12},48]
["Delgado, Manny","Business Firm:Administration","Intern",1099,null,1,"2015-01-30","2015-01-31","Fri",null,"NonBill","ZZ","2015-02-03","Meetings, Rough Draft Review","Special Projects",null,{"$f":"IF(O1105=\"Business Firm billable\",VLOOKUP(A1105,'Hourly rates'!$B$2:$E$40,4,FALSE),VLOOKUP(A1105,'Hourly rates'!$B$2:$E$40,2,FALSE))","v":12},12]
["Wyatt, Ben","Business Firm:Admin SP","Intern",1099,null,5.25,"2015-01-30","2015-01-31","Fri",null,"NonBill","ZZ","2015-02-03",null,"Special Projects",null,{"$f":"IF(O1106=\"Business Firm billable\",VLOOKUP(A1106,'Hourly rates'!$B$2:$E$40,4,FALSE),VLOOKUP(A1106,'Hourly rates'!$B$2:$E$40,2,FALSE))","v":12},63]
["Swanson, Ron","Business Firm:Admin SP","Intern",1099,null,2,"2015-01-30","2015-01-31","Fri",null,"NonBill","ZZ","2015-02-03",null,"Special Projects",null,{"$f":"IF(O1107=\"Business Firm billable\",VLOOKUP(A1107,'Hourly rates'!$B$2:$E$40,4,FALSE),VLOOKUP(A1107,'Hourly rates'!$B$2:$E$40,2,FALSE))","v":12},24]
["Meagle, Donna","Business Firm:Admin SP","Intern",1099,null,4,"2015-01-30","2015-01-31","Fri",null,"NonBill","ZZ","2015-02-03",null,"Special Projects",null,{"$f":"IF(O1108=\"Business Firm billable\",VLOOKUP(A1108,'Hourly rates'!$B$2:$E$40,4,FALSE),VLOOKUP(A1108,'Hourly rates'!$B$2:$E$40,2,FALSE))","v":12},48]
["Walker, Renee","Business Firm:Admin SP","Intern",1099,null,2,"2015-01-30","2015-01-31","Fri",null,"NonBill","ZZ","2015-02-03",null,"Special Projects",null,{"$f":"IF(O1109=\"Business Firm billable\",VLOOKUP(A1109,'Hourly rates'!$B$2:$E$40,4,FALSE),VLOOKUP(A1109,'Hourly rates'!$B$2:$E$40,2,FALSE))","v":12},24]
["Tucker, Cameron","Business Firm:Administration","Intern",1099,null,1.25,"2015-01-30","2015-01-31","Fri",null,"NonBill","ZZ","2015-02-03","JOBS/IPO Metrics Research Studies","BIZ Research Projects",null,{"$f":"IF(O1110=\"Business Firm billable\",VLOOKUP(A1110,'Hourly rates'!$B$2:$E$40,4,FALSE),VLOOKUP(A1110,'Hourly rates'!$B$2:$E$40,2,FALSE))","v":12},15]
["Dwyer, Andy","Business Firm:Admin SP","Intern",1099,null,1.75,"2015-01-30","2015-01-31","Fri",null,"NonBill","ZZ","2015-02-03",null,"Special Projects",null,{"$f":"IF(O1111=\"Business Firm billable\",VLOOKUP(A1111,'Hourly rates'!$B$2:$E$40,4,FALSE),VLOOKUP(A1111,'Hourly rates'!$B$2:$E$40,2,FALSE))","v":12},21]
["Dwyer, Andy","Business Firm:Administration","Intern",1099,null,1.25,"2015-01-30","2015-01-31","Fri",null,"NonBill","ZZ","2015-02-03","Research Studies-Material Weakness","BIZ Research Projects",null,{"$f":"IF(O1112=\"Business Firm billable\",VLOOKUP(A1112,'Hourly rates'!$B$2:$E$40,4,FALSE),VLOOKUP(A1112,'Hourly rates'!$B$2:$E$40,2,FALSE))","v":12},15]
["Meagle, Donna","Business Firm:Admin SP","Intern",1099,null,2,"2015-01-31","2015-01-31","Sat",null,"NonBill","ZZ","2015-02-03",null,"Special Projects",null,{"$f":"IF(O1113=\"Business Firm billable\",VLOOKUP(A1113,'Hourly rates'!$B$2:$E$40,4,FALSE),VLOOKUP(A1113,'Hourly rates'!$B$2:$E$40,2,FALSE))","v":12},24]
["Walker, Renee","Business Firm:Admin SP","Intern",1099,null,1,"2015-01-31","2015-01-31","Sat",null,"NonBill","ZZ","2015-02-03",null,"Special Projects",null,{"$f":"IF(O1114=\"Business Firm billable\",VLOOKUP(A1114,'Hourly rates'!$B$2:$E$40,4,FALSE),VLOOKUP(A1114,'Hourly rates'!$B$2:$E$40,2,FALSE))","v":12},12]
["Dwyer, Andy","Business Firm:Admin SP","Intern",1099,null,1.25,"2015-01-31","2015-01-31","Sat",null,"NonBill","ZZ","2015-02-03",null,"Special Projects",null,{"$f":"IF(O1115=\"Business Firm billable\",VLOOKUP(A1115,'Hourly rates'!$B$2:$E$40,4,FALSE),VLOOKUP(A1115,'Hourly rates'!$B$2:$E$40,2,FALSE))","v":12},15]
["Dwyer, Andy","Business Firm:Administration","Intern",1099,null,1.25,"2015-01-31","2015-01-31","Sat",null,"NonBill","ZZ","2015-02-03","Research Studies-Material Weakness","BIZ Research Projects",null,{"$f":"IF(O1116=\"Business Firm billable\",VLOOKUP(A1116,'Hourly rates'!$B$2:$E$40,4,FALSE),VLOOKUP(A1116,'Hourly rates'!$B$2:$E$40,2,FALSE))","v":12},15]
["Delgado, Manny","Business Firm:Administration","Intern",1099,null,4,"2015-02-02","2015-02-07","Mon",null,"NonBill","ZZ","2015-02-20","Significant Financing Components","Special Projects",null,{"$f":"IF(O1117=\"Business Firm billable\",VLOOKUP(A1117,'Hourly rates'!$B$2:$E$40,4,FALSE),VLOOKUP(A1117,'Hourly rates'!$B$2:$E$40,2,FALSE))","v":12},48]
["Swanson, Ron","Business Firm:Admin SP","Intern",1099,null,1,"2015-02-02","2015-02-07","Mon",null,"NonBill","ZZ","2015-02-20",null,"Special Projects",null,{"$f":"IF(O1118=\"Business Firm billable\",VLOOKUP(A1118,'Hourly rates'!$B$2:$E$40,4,FALSE),VLOOKUP(A1118,'Hourly rates'!$B$2:$E$40,2,FALSE))","v":12},12]
["Walker, Renee","Business Firm:Admin SP","Intern",1099,null,2,"2015-02-02","2015-02-07","Mon",null,"NonBill","ZZ","2015-02-20",null,"Special Projects",null,{"$f":"IF(O1119=\"Business Firm billable\",VLOOKUP(A1119,'Hourly rates'!$B$2:$E$40,4,FALSE),VLOOKUP(A1119,'Hourly rates'!$B$2:$E$40,2,FALSE))","v":12},24]
["Haverford, Tom","Business Firm:Admin SP","Staff",1099,null,2,"2015-02-02","2015-02-07","Mon",null,"NonBill","ZZ","2015-02-20",null,"Special Projects",null,{"$f":"IF(O1120=\"Business Firm billable\",VLOOKUP(A1120,'Hourly rates'!$B$2:$E$40,4,FALSE),VLOOKUP(A1120,'Hourly rates'!$B$2:$E$40,2,FALSE))","v":12},24]
["Delgado, Manny","Business Firm:Administration","Intern",1099,null,1,"2015-02-03","2015-02-07","Tue",null,"NonBill","ZZ","2015-02-20","Significant Financing Components","Special Projects",null,{"$f":"IF(O1121=\"Business Firm billable\",VLOOKUP(A1121,'Hourly rates'!$B$2:$E$40,4,FALSE),VLOOKUP(A1121,'Hourly rates'!$B$2:$E$40,2,FALSE))","v":12},12]
["Wyatt, Ben","Business Firm:Admin SP","Intern",1099,null,1.25,"2015-02-03","2015-02-07","Tue",null,"NonBill","ZZ","2015-02-20",null,"Special Projects",null,{"$f":"IF(O1122=\"Business Firm billable\",VLOOKUP(A1122,'Hourly rates'!$B$2:$E$40,4,FALSE),VLOOKUP(A1122,'Hourly rates'!$B$2:$E$40,2,FALSE))","v":12},15]
["Swanson, Ron","Business Firm:Admin SP","Intern",1099,null,2,"2015-02-03","2015-02-07","Tue",null,"NonBill","ZZ","2015-02-20",null,"Special Projects",null,{"$f":"IF(O1123=\"Business Firm billable\",VLOOKUP(A1123,'Hourly rates'!$B$2:$E$40,4,FALSE),VLOOKUP(A1123,'Hourly rates'!$B$2:$E$40,2,FALSE))","v":12},24]
["Walker, Renee","Business Firm:Admin SP","Intern",1099,null,2,"2015-02-03","2015-02-07","Tue",null,"NonBill","ZZ","2015-02-20",null,"Special Projects",null,{"$f":"IF(O1124=\"Business Firm billable\",VLOOKUP(A1124,'Hourly rates'!$B$2:$E$40,4,FALSE),VLOOKUP(A1124,'Hourly rates'!$B$2:$E$40,2,FALSE))","v":12},24]
["Haverford, Tom","Business Firm:Admin SP","Staff",1099,null,4,"2015-02-03","2015-02-07","Tue",null,"NonBill","ZZ","2015-02-20",null,"Special Projects",null,{"$f":"IF(O1125=\"Business Firm billable\",VLOOKUP(A1125,'Hourly rates'!$B$2:$E$40,4,FALSE),VLOOKUP(A1125,'Hourly rates'!$B$2:$E$40,2,FALSE))","v":12},48]
["Delgado, Manny","Business Firm:Administration","Intern",1099,null,2,"2015-02-04","2015-02-07","Wed",null,"NonBill","ZZ","2015-02-20","Significant Financing Components","Special Projects",null,{"$f":"IF(O1126=\"Business Firm billable\",VLOOKUP(A1126,'Hourly rates'!$B$2:$E$40,4,FALSE),VLOOKUP(A1126,'Hourly rates'!$B$2:$E$40,2,FALSE))","v":12},24]
["Delgado, Manny","Business Firm:Administration","Intern",1099,null,1,"2015-02-04","2015-02-07","Wed",null,"NonBill","ZZ","2015-02-20","Meetings, Rough Draft Review","Special Projects",null,{"$f":"IF(O1127=\"Business Firm billable\",VLOOKUP(A1127,'Hourly rates'!$B$2:$E$40,4,FALSE),VLOOKUP(A1127,'Hourly rates'!$B$2:$E$40,2,FALSE))","v":12},12]
["Wyatt, Ben","Business Firm:Admin SP","Intern",1099,null,1.25,"2015-02-04","2015-02-07","Wed",null,"NonBill","ZZ","2015-02-20",null,"Special Projects",null,{"$f":"IF(O1128=\"Business Firm billable\",VLOOKUP(A1128,'Hourly rates'!$B$2:$E$40,4,FALSE),VLOOKUP(A1128,'Hourly rates'!$B$2:$E$40,2,FALSE))","v":12},15]
["Swanson, Ron","Business Firm:Admin SP","Intern",1099,null,3,"2015-02-04","2015-02-07","Wed",null,"NonBill","ZZ","2015-02-20",null,"Special Projects",null,{"$f":"IF(O1129=\"Business Firm billable\",VLOOKUP(A1129,'Hourly rates'!$B$2:$E$40,4,FALSE),VLOOKUP(A1129,'Hourly rates'!$B$2:$E$40,2,FALSE))","v":12},36]
["Meagle, Donna","Business Firm:Admin SP","Intern",1099,null,2,"2015-02-04","2015-02-07","Wed",null,"NonBill","ZZ","2015-02-20",null,"Special Projects",null,{"$f":"IF(O1130=\"Business Firm billable\",VLOOKUP(A1130,'Hourly rates'!$B$2:$E$40,4,FALSE),VLOOKUP(A1130,'Hourly rates'!$B$2:$E$40,2,FALSE))","v":12},24]
["Walker, Renee","Business Firm:Admin SP","Intern",1099,null,1,"2015-02-04","2015-02-07","Wed",null,"NonBill","ZZ","2015-02-20",null,"Special Projects",null,{"$f":"IF(O1131=\"Business Firm billable\",VLOOKUP(A1131,'Hourly rates'!$B$2:$E$40,4,FALSE),VLOOKUP(A1131,'Hourly rates'!$B$2:$E$40,2,FALSE))","v":12},12]
["Haverford, Tom","Business Firm:Admin SP","Staff",1099,null,3,"2015-02-04","2015-02-07","Wed",null,"NonBill","ZZ","2015-02-20",null,"Special Projects",null,{"$f":"IF(O1132=\"Business Firm billable\",VLOOKUP(A1132,'Hourly rates'!$B$2:$E$40,4,FALSE),VLOOKUP(A1132,'Hourly rates'!$B$2:$E$40,2,FALSE))","v":12},36]
["Delgado, Manny","Business Firm:Administration","Intern",1099,null,1,"2015-02-05","2015-02-07","Thu",null,"NonBill","ZZ","2015-02-20","Significant Financing Components","Special Projects",null,{"$f":"IF(O1133=\"Business Firm billable\",VLOOKUP(A1133,'Hourly rates'!$B$2:$E$40,4,FALSE),VLOOKUP(A1133,'Hourly rates'!$B$2:$E$40,2,FALSE))","v":12},12]
["Wyatt, Ben","Business Firm:Admin SP","Intern",1099,null,3,"2015-02-05","2015-02-07","Thu",null,"NonBill","ZZ","2015-02-20",null,"Special Projects",null,{"$f":"IF(O1134=\"Business Firm billable\",VLOOKUP(A1134,'Hourly rates'!$B$2:$E$40,4,FALSE),VLOOKUP(A1134,'Hourly rates'!$B$2:$E$40,2,FALSE))","v":12},36]
["Swanson, Ron","Business Firm:Admin SP","Intern",1099,null,2,"2015-02-05","2015-02-07","Thu",null,"NonBill","ZZ","2015-02-20",null,"Special Projects",null,{"$f":"IF(O1135=\"Business Firm billable\",VLOOKUP(A1135,'Hourly rates'!$B$2:$E$40,4,FALSE),VLOOKUP(A1135,'Hourly rates'!$B$2:$E$40,2,FALSE))","v":12},24]
["Walker, Renee","Business Firm:Admin SP","Intern",1099,null,3,"2015-02-05","2015-02-07","Thu",null,"NonBill","ZZ","2015-02-20",null,"Special Projects",null,{"$f":"IF(O1136=\"Business Firm billable\",VLOOKUP(A1136,'Hourly rates'!$B$2:$E$40,4,FALSE),VLOOKUP(A1136,'Hourly rates'!$B$2:$E$40,2,FALSE))","v":12},36]
["Dwyer, Andy","Business Firm:Admin SP","Intern",1099,null,1.25,"2015-02-05","2015-02-07","Thu",null,"NonBill","ZZ","2015-02-20",null,"Special Projects",null,{"$f":"IF(O1137=\"Business Firm billable\",VLOOKUP(A1137,'Hourly rates'!$B$2:$E$40,4,FALSE),VLOOKUP(A1137,'Hourly rates'!$B$2:$E$40,2,FALSE))","v":12},15]
["Dwyer, Andy","Business Firm:Administration","Intern",1099,null,1.25,"2015-02-05","2015-02-07","Thu",null,"NonBill","ZZ","2015-02-20",null,"Administration",null,{"$f":"IF(O1138=\"Business Firm billable\",VLOOKUP(A1138,'Hourly rates'!$B$2:$E$40,4,FALSE),VLOOKUP(A1138,'Hourly rates'!$B$2:$E$40,2,FALSE))","v":12},15]
["Delgado, Manny","Business Firm:Administration","Intern",1099,null,1,"2015-02-06","2015-02-07","Fri",null,"NonBill","ZZ","2015-02-20","Meetings, Rough Draft Review","Special Projects",null,{"$f":"IF(O1139=\"Business Firm billable\",VLOOKUP(A1139,'Hourly rates'!$B$2:$E$40,4,FALSE),VLOOKUP(A1139,'Hourly rates'!$B$2:$E$40,2,FALSE))","v":12},12]
["Wyatt, Ben","Business Firm:Admin SP","Intern",1099,null,2.25,"2015-02-06","2015-02-07","Fri",null,"NonBill","ZZ","2015-02-20",null,"Special Projects",null,{"$f":"IF(O1140=\"Business Firm billable\",VLOOKUP(A1140,'Hourly rates'!$B$2:$E$40,4,FALSE),VLOOKUP(A1140,'Hourly rates'!$B$2:$E$40,2,FALSE))","v":12},27]
["Swanson, Ron","Business Firm:Admin SP","Intern",1099,null,1,"2015-02-06","2015-02-07","Fri",null,"NonBill","ZZ","2015-02-20",null,"Special Projects",null,{"$f":"IF(O1141=\"Business Firm billable\",VLOOKUP(A1141,'Hourly rates'!$B$2:$E$40,4,FALSE),VLOOKUP(A1141,'Hourly rates'!$B$2:$E$40,2,FALSE))","v":12},12]
["Meagle, Donna","Business Firm:Admin SP","Intern",1099,null,4,"2015-02-06","2015-02-07","Fri",null,"NonBill","ZZ","2015-02-20",null,"Special Projects",null,{"$f":"IF(O1142=\"Business Firm billable\",VLOOKUP(A1142,'Hourly rates'!$B$2:$E$40,4,FALSE),VLOOKUP(A1142,'Hourly rates'!$B$2:$E$40,2,FALSE))","v":12},48]
["Walker, Renee","Business Firm:Admin SP","Intern",1099,null,1.25,"2015-02-06","2015-02-07","Fri",null,"NonBill","ZZ","2015-02-20",null,"Special Projects",null,{"$f":"IF(O1143=\"Business Firm billable\",VLOOKUP(A1143,'Hourly rates'!$B$2:$E$40,4,FALSE),VLOOKUP(A1143,'Hourly rates'!$B$2:$E$40,2,FALSE))","v":12},15]
["Dwyer, Andy","Business Firm:Admin SP","Intern",1099,null,1.75,"2015-02-06","2015-02-07","Fri",null,"NonBill","ZZ","2015-02-20",null,"Special Projects",null,{"$f":"IF(O1144=\"Business Firm billable\",VLOOKUP(A1144,'Hourly rates'!$B$2:$E$40,4,FALSE),VLOOKUP(A1144,'Hourly rates'!$B$2:$E$40,2,FALSE))","v":12},21]
["Dwyer, Andy","Business Firm:Administration","Intern",1099,null,1.25,"2015-02-06","2015-02-07","Fri",null,"NonBill","ZZ","2015-02-20",null,"Administration",null,{"$f":"IF(O1145=\"Business Firm billable\",VLOOKUP(A1145,'Hourly rates'!$B$2:$E$40,4,FALSE),VLOOKUP(A1145,'Hourly rates'!$B$2:$E$40,2,FALSE))","v":12},15]
["Dwyer, Andy","Business Firm:Administration","Intern",1099,null,1.25,"2015-02-06","2015-02-07","Fri",null,"NonBill","ZZ","2015-02-20",null,"Administration",null,{"$f":"IF(O1146=\"Business Firm billable\",VLOOKUP(A1146,'Hourly rates'!$B$2:$E$40,4,FALSE),VLOOKUP(A1146,'Hourly rates'!$B$2:$E$40,2,FALSE))","v":12},15]
["Haverford, Tom","Business Firm:Admin SP","Staff",1099,null,1,"2015-02-06","2015-02-07","Fri",null,"NonBill","ZZ","2015-02-20",null,"Special Projects",null,{"$f":"IF(O1147=\"Business Firm billable\",VLOOKUP(A1147,'Hourly rates'!$B$2:$E$40,4,FALSE),VLOOKUP(A1147,'Hourly rates'!$B$2:$E$40,2,FALSE))","v":12},12]
["Wyatt, Ben","Business Firm:Admin SP","Intern",1099,null,1.75,"2015-02-07","2015-02-07","Sat",null,"NonBill","ZZ","2015-02-20",null,"Special Projects",null,{"$f":"IF(O1148=\"Business Firm billable\",VLOOKUP(A1148,'Hourly rates'!$B$2:$E$40,4,FALSE),VLOOKUP(A1148,'Hourly rates'!$B$2:$E$40,2,FALSE))","v":12},21]
["Meagle, Donna","Business Firm:Admin SP","Intern",1099,null,4,"2015-02-07","2015-02-07","Sat",null,"NonBill","ZZ","2015-02-20",null,"Special Projects",null,{"$f":"IF(O1149=\"Business Firm billable\",VLOOKUP(A1149,'Hourly rates'!$B$2:$E$40,4,FALSE),VLOOKUP(A1149,'Hourly rates'!$B$2:$E$40,2,FALSE))","v":12},48]
["Walker, Renee","Business Firm:Admin SP","Intern",1099,null,1.25,"2015-02-07","2015-02-07","Sat",null,"NonBill","ZZ","2015-02-20",null,"Special Projects",null,{"$f":"IF(O1150=\"Business Firm billable\",VLOOKUP(A1150,'Hourly rates'!$B$2:$E$40,4,FALSE),VLOOKUP(A1150,'Hourly rates'!$B$2:$E$40,2,FALSE))","v":12},15]
["Tucker, Cameron","Business Firm:Administration","Intern",1099,null,1.25,"2015-02-07","2015-02-07","Sat",null,"NonBill","ZZ","2015-02-20","JOBS/IPO Metrics Research Studies","BIZ Research Projects",null,{"$f":"IF(O1151=\"Business Firm billable\",VLOOKUP(A1151,'Hourly rates'!$B$2:$E$40,4,FALSE),VLOOKUP(A1151,'Hourly rates'!$B$2:$E$40,2,FALSE))","v":12},15]
["Tucker, Cameron","Business Firm:Administration","Intern",1099,null,1.25,"2015-02-07","2015-02-07","Sat",null,"NonBill","ZZ","2015-02-20","CFO Compensation Research Study","BIZ Research Projects",null,{"$f":"IF(O1152=\"Business Firm billable\",VLOOKUP(A1152,'Hourly rates'!$B$2:$E$40,4,FALSE),VLOOKUP(A1152,'Hourly rates'!$B$2:$E$40,2,FALSE))","v":12},15]
["Dwyer, Andy","Business Firm:Admin SP","Intern",1099,null,1.75,"2015-02-07","2015-02-07","Sat",null,"NonBill","ZZ","2015-02-20",null,"Special Projects",null,{"$f":"IF(O1153=\"Business Firm billable\",VLOOKUP(A1153,'Hourly rates'!$B$2:$E$40,4,FALSE),VLOOKUP(A1153,'Hourly rates'!$B$2:$E$40,2,FALSE))","v":12},21]
["Dwyer, Andy","Business Firm:Administration","Intern",1099,null,1.25,"2015-02-07","2015-02-07","Sat",null,"NonBill","ZZ","2015-02-20",null,"Administration",null,{"$f":"IF(O1154=\"Business Firm billable\",VLOOKUP(A1154,'Hourly rates'!$B$2:$E$40,4,FALSE),VLOOKUP(A1154,'Hourly rates'!$B$2:$E$40,2,FALSE))","v":12},{"$f":"Q1154*F1154","v":15}]
["Wyatt, Ben","Business Firm:Admin SP","Intern",1099,null,2,"2015-02-09","2015-02-14","Mon",null,"NonBill","ZZ","2015-02-20",null,"Special Projects",null,{"$f":"IF(O1155=\"Business Firm billable\",VLOOKUP(A1155,'Hourly rates'!$B$2:$E$40,4,FALSE),VLOOKUP(A1155,'Hourly rates'!$B$2:$E$40,2,FALSE))","v":12},24]
["Meagle, Donna","Business Firm:Admin SP","Intern",1099,null,4,"2015-02-09","2015-02-14","Mon",null,"NonBill","ZZ","2015-02-20",null,"Special Projects",null,{"$f":"IF(O1156=\"Business Firm billable\",VLOOKUP(A1156,'Hourly rates'!$B$2:$E$40,4,FALSE),VLOOKUP(A1156,'Hourly rates'!$B$2:$E$40,2,FALSE))","v":12},48]
["Walker, Renee","Business Firm:Admin SP","Intern",1099,null,2,"2015-02-09","2015-02-14","Mon",null,"NonBill","ZZ","2015-02-20",null,"Special Projects",null,{"$f":"IF(O1157=\"Business Firm billable\",VLOOKUP(A1157,'Hourly rates'!$B$2:$E$40,4,FALSE),VLOOKUP(A1157,'Hourly rates'!$B$2:$E$40,2,FALSE))","v":12},24]
["Dwyer, Andy","Business Firm:Admin SP","Intern",1099,null,1.25,"2015-02-09","2015-02-14","Mon",null,"NonBill","ZZ","2015-02-20",null,"Special Projects",null,{"$f":"IF(O1158=\"Business Firm billable\",VLOOKUP(A1158,'Hourly rates'!$B$2:$E$40,4,FALSE),VLOOKUP(A1158,'Hourly rates'!$B$2:$E$40,2,FALSE))","v":12},15]
["Dwyer, Andy","Business Firm:Administration","Intern",1099,null,1.25,"2015-02-09","2015-02-14","Mon",null,"NonBill","ZZ","2015-02-20","Research Studies-Comment Letters","BIZ Research Projects",null,{"$f":"IF(O1159=\"Business Firm billable\",VLOOKUP(A1159,'Hourly rates'!$B$2:$E$40,4,FALSE),VLOOKUP(A1159,'Hourly rates'!$B$2:$E$40,2,FALSE))","v":12},15]
["Haverford, Tom","Business Firm:Admin SP","Staff",1099,null,3,"2015-02-09","2015-02-14","Mon",null,"NonBill","ZZ","2015-02-20",null,"Special Projects",null,{"$f":"IF(O1160=\"Business Firm billable\",VLOOKUP(A1160,'Hourly rates'!$B$2:$E$40,4,FALSE),VLOOKUP(A1160,'Hourly rates'!$B$2:$E$40,2,FALSE))","v":12},36]
["Delgado, Manny","Business Firm:Administration","Intern",1099,null,3,"2015-02-10","2015-02-14","Tue",null,"NonBill","ZZ","2015-02-20","Standalone Selling Price","Special Projects",null,{"$f":"IF(O1161=\"Business Firm billable\",VLOOKUP(A1161,'Hourly rates'!$B$2:$E$40,4,FALSE),VLOOKUP(A1161,'Hourly rates'!$B$2:$E$40,2,FALSE))","v":12},36]
["Wyatt, Ben","Business Firm:Admin SP","Intern",1099,null,1.75,"2015-02-10","2015-02-14","Tue",null,"NonBill","ZZ","2015-02-20",null,"Special Projects",null,{"$f":"IF(O1162=\"Business Firm billable\",VLOOKUP(A1162,'Hourly rates'!$B$2:$E$40,4,FALSE),VLOOKUP(A1162,'Hourly rates'!$B$2:$E$40,2,FALSE))","v":12},21]
["Swanson, Ron","Business Firm:Admin SP","Intern",1099,null,4,"2015-02-10","2015-02-14","Tue",null,"NonBill","ZZ","2015-02-20",null,"Special Projects",null,{"$f":"IF(O1163=\"Business Firm billable\",VLOOKUP(A1163,'Hourly rates'!$B$2:$E$40,4,FALSE),VLOOKUP(A1163,'Hourly rates'!$B$2:$E$40,2,FALSE))","v":12},48]
["Meagle, Donna","Business Firm:Admin SP","Intern",1099,null,3,"2015-02-10","2015-02-14","Tue",null,"NonBill","ZZ","2015-02-20",null,"Special Projects",null,{"$f":"IF(O1164=\"Business Firm billable\",VLOOKUP(A1164,'Hourly rates'!$B$2:$E$40,4,FALSE),VLOOKUP(A1164,'Hourly rates'!$B$2:$E$40,2,FALSE))","v":12},36]
["Walker, Renee","Business Firm:Admin SP","Intern",1099,null,2,"2015-02-10","2015-02-14","Tue",null,"NonBill","ZZ","2015-02-20",null,"Special Projects",null,{"$f":"IF(O1165=\"Business Firm billable\",VLOOKUP(A1165,'Hourly rates'!$B$2:$E$40,4,FALSE),VLOOKUP(A1165,'Hourly rates'!$B$2:$E$40,2,FALSE))","v":12},24]
["Dwyer, Andy","Business Firm:Administration","Intern",1099,null,1.75,"2015-02-10","2015-02-14","Tue",null,"NonBill","ZZ","2015-02-20","Research Studies-Comment Letters","BIZ Research Projects",null,{"$f":"IF(O1166=\"Business Firm billable\",VLOOKUP(A1166,'Hourly rates'!$B$2:$E$40,4,FALSE),VLOOKUP(A1166,'Hourly rates'!$B$2:$E$40,2,FALSE))","v":12},21]
["Dwyer, Andy","Business Firm:Administration","Intern",1099,null,1.75,"2015-02-10","2015-02-14","Tue",null,"NonBill","ZZ","2015-02-20","Research Studies-general","BIZ Research Projects",null,{"$f":"IF(O1167=\"Business Firm billable\",VLOOKUP(A1167,'Hourly rates'!$B$2:$E$40,4,FALSE),VLOOKUP(A1167,'Hourly rates'!$B$2:$E$40,2,FALSE))","v":12},21]
["Haverford, Tom","Business Firm:Admin SP","Staff",1099,null,4,"2015-02-10",{"$f":"G1168+7-WEEKDAY(G1168)","v":"2015-02-14"},"Tue",null,"NonBill","ZZ","2015-02-20",null,"Special Projects",null,{"$f":"IF(O1168=\"Business Firm billable\",VLOOKUP(A1168,'Hourly rates'!$B$2:$E$40,4,FALSE),VLOOKUP(A1168,'Hourly rates'!$B$2:$E$40,2,FALSE))","v":12},48]
["Delgado, Manny","Business Firm:Administration","Intern",1099,null,1,"2015-02-11","2015-02-14","Wed",null,"NonBill","ZZ","2015-02-20","Meetings, Rough Draft Review","Special Projects",null,{"$f":"IF(O1169=\"Business Firm billable\",VLOOKUP(A1169,'Hourly rates'!$B$2:$E$40,4,FALSE),VLOOKUP(A1169,'Hourly rates'!$B$2:$E$40,2,FALSE))","v":12},12]
["Wyatt, Ben","Business Firm:**Strat","Intern",1099,null,1.25,"2015-02-11","2015-02-14","Wed",null,"NonBill","ZZ","2015-02-20",null,"Strat Firm",null,{"$f":"IF(O1170=\"Business Firm billable\",VLOOKUP(A1170,'Hourly rates'!$B$2:$E$40,4,FALSE),VLOOKUP(A1170,'Hourly rates'!$B$2:$E$40,2,FALSE))","v":12},15]
["Wyatt, Ben","Business Firm:Admin SP","Intern",1099,null,1.75,"2015-02-11","2015-02-14","Wed",null,"NonBill","ZZ","2015-02-20",null,"Special Projects",null,{"$f":"IF(O1171=\"Business Firm billable\",VLOOKUP(A1171,'Hourly rates'!$B$2:$E$40,4,FALSE),VLOOKUP(A1171,'Hourly rates'!$B$2:$E$40,2,FALSE))","v":12},21]
["Swanson, Ron","Business Firm:Admin SP","Intern",1099,null,2,"2015-02-11","2015-02-14","Wed",null,"NonBill","ZZ","2015-02-20",null,"Special Projects",null,{"$f":"IF(O1172=\"Business Firm billable\",VLOOKUP(A1172,'Hourly rates'!$B$2:$E$40,4,FALSE),VLOOKUP(A1172,'Hourly rates'!$B$2:$E$40,2,FALSE))","v":12},24]
["Meagle, Donna","Business Firm:Admin SP","Intern",1099,null,3,"2015-02-11","2015-02-14","Wed",null,"NonBill","ZZ","2015-02-20",null,"Special Projects",null,{"$f":"IF(O1173=\"Business Firm billable\",VLOOKUP(A1173,'Hourly rates'!$B$2:$E$40,4,FALSE),VLOOKUP(A1173,'Hourly rates'!$B$2:$E$40,2,FALSE))","v":12},36]
["Walker, Renee","Business Firm:Admin SP","Intern",1099,null,2,"2015-02-11","2015-02-14","Wed",null,"NonBill","ZZ","2015-02-20",null,"Special Projects",null,{"$f":"IF(O1174=\"Business Firm billable\",VLOOKUP(A1174,'Hourly rates'!$B$2:$E$40,4,FALSE),VLOOKUP(A1174,'Hourly rates'!$B$2:$E$40,2,FALSE))","v":12},24]
["Tucker, Cameron","Business Firm:Administration","Intern",1099,null,1.75,"2015-02-11","2015-02-14","Wed",null,"NonBill","ZZ","2015-02-20","Meeting with Andy to review research studies","BIZ Research Projects",null,{"$f":"IF(O1175=\"Business Firm billable\",VLOOKUP(A1175,'Hourly rates'!$B$2:$E$40,4,FALSE),VLOOKUP(A1175,'Hourly rates'!$B$2:$E$40,2,FALSE))","v":12},21]
["Dwyer, Andy","Business Firm:Admin SP","Intern",1099,null,2,"2015-02-11","2015-02-14","Wed",null,"NonBill","ZZ","2015-02-20",null,"Special Projects",null,{"$f":"IF(O1176=\"Business Firm billable\",VLOOKUP(A1176,'Hourly rates'!$B$2:$E$40,4,FALSE),VLOOKUP(A1176,'Hourly rates'!$B$2:$E$40,2,FALSE))","v":12},24]
["Dwyer, Andy","Business Firm:Administration","Intern",1099,null,1.25,"2015-02-11","2015-02-14","Wed",null,"NonBill","ZZ","2015-02-20","Research Studies-Comment Letters","BIZ Research Projects",null,{"$f":"IF(O1177=\"Business Firm billable\",VLOOKUP(A1177,'Hourly rates'!$B$2:$E$40,4,FALSE),VLOOKUP(A1177,'Hourly rates'!$B$2:$E$40,2,FALSE))","v":12},15]
["Haverford, Tom","Business Firm:Admin SP","Staff",1099,null,3,"2015-02-11","2015-02-14","Wed",null,"NonBill","ZZ","2015-02-20",null,"Special Projects",null,{"$f":"IF(O1178=\"Business Firm billable\",VLOOKUP(A1178,'Hourly rates'!$B$2:$E$40,4,FALSE),VLOOKUP(A1178,'Hourly rates'!$B$2:$E$40,2,FALSE))","v":12},36]
["Delgado, Manny","Business Firm:Administration","Intern",1099,null,1.75,"2015-02-12","2015-02-14","Thu",null,"NonBill","ZZ","2015-02-20","Standalone Selling Price","Special Projects",null,{"$f":"IF(O1179=\"Business Firm billable\",VLOOKUP(A1179,'Hourly rates'!$B$2:$E$40,4,FALSE),VLOOKUP(A1179,'Hourly rates'!$B$2:$E$40,2,FALSE))","v":12},21]
["Wyatt, Ben","Business Firm:**Strat","Intern",1099,null,1.25,"2015-02-12","2015-02-14","Thu",null,"NonBill","ZZ","2015-02-20",null,"Strat Firm",null,{"$f":"IF(O1180=\"Business Firm billable\",VLOOKUP(A1180,'Hourly rates'!$B$2:$E$40,4,FALSE),VLOOKUP(A1180,'Hourly rates'!$B$2:$E$40,2,FALSE))","v":12},15]
["Wyatt, Ben","Business Firm:Admin SP","Intern",1099,null,1.25,"2015-02-12","2015-02-14","Thu",null,"NonBill","ZZ","2015-02-20",null,"Special Projects",null,{"$f":"IF(O1181=\"Business Firm billable\",VLOOKUP(A1181,'Hourly rates'!$B$2:$E$40,4,FALSE),VLOOKUP(A1181,'Hourly rates'!$B$2:$E$40,2,FALSE))","v":12},15]
["Swanson, Ron","Business Firm:Admin SP","Intern",1099,null,2,"2015-02-12","2015-02-14","Thu",null,"NonBill","ZZ","2015-02-20",null,"Special Projects",null,{"$f":"IF(O1182=\"Business Firm billable\",VLOOKUP(A1182,'Hourly rates'!$B$2:$E$40,4,FALSE),VLOOKUP(A1182,'Hourly rates'!$B$2:$E$40,2,FALSE))","v":12},24]
["Walker, Renee","Business Firm:Admin SP","Intern",1099,null,1,"2015-02-12","2015-02-14","Thu",null,"NonBill","ZZ","2015-02-20",null,"Special Projects",null,{"$f":"IF(O1183=\"Business Firm billable\",VLOOKUP(A1183,'Hourly rates'!$B$2:$E$40,4,FALSE),VLOOKUP(A1183,'Hourly rates'!$B$2:$E$40,2,FALSE))","v":12},12]
["Dwyer, Andy","Business Firm:Admin SP","Intern",1099,null,1.25,"2015-02-12","2015-02-14","Thu",null,"NonBill","ZZ","2015-02-20",null,"Special Projects",null,{"$f":"IF(O1184=\"Business Firm billable\",VLOOKUP(A1184,'Hourly rates'!$B$2:$E$40,4,FALSE),VLOOKUP(A1184,'Hourly rates'!$B$2:$E$40,2,FALSE))","v":12},15]
["Delgado, Manny","Business Firm:Administration","Intern",1099,null,1.75,"2015-02-13","2015-02-14","Fri",null,"NonBill","ZZ","2015-02-20","Standalone Selling Price","Special Projects",null,{"$f":"IF(O1185=\"Business Firm billable\",VLOOKUP(A1185,'Hourly rates'!$B$2:$E$40,4,FALSE),VLOOKUP(A1185,'Hourly rates'!$B$2:$E$40,2,FALSE))","v":12},21]
["Delgado, Manny","Business Firm:Administration","Intern",1099,null,1.25,"2015-02-13","2015-02-14","Fri",null,"NonBill","ZZ","2015-02-20","Meetings, Rough Draft Review","Special Projects",null,{"$f":"IF(O1186=\"Business Firm billable\",VLOOKUP(A1186,'Hourly rates'!$B$2:$E$40,4,FALSE),VLOOKUP(A1186,'Hourly rates'!$B$2:$E$40,2,FALSE))","v":12},15]
["Wyatt, Ben","Business Firm:**Strat","Intern",1099,null,1.75,"2015-02-13","2015-02-14","Fri",null,"NonBill","ZZ","2015-02-20",null,"Strat Firm",null,{"$f":"IF(O1187=\"Business Firm billable\",VLOOKUP(A1187,'Hourly rates'!$B$2:$E$40,4,FALSE),VLOOKUP(A1187,'Hourly rates'!$B$2:$E$40,2,FALSE))","v":12},21]
["Wyatt, Ben","Business Firm:Admin SP","Intern",1099,null,1.75,"2015-02-13","2015-02-14","Fri",null,"NonBill","ZZ","2015-02-20",null,"Special Projects",null,{"$f":"IF(O1188=\"Business Firm billable\",VLOOKUP(A1188,'Hourly rates'!$B$2:$E$40,4,FALSE),VLOOKUP(A1188,'Hourly rates'!$B$2:$E$40,2,FALSE))","v":12},21]
["Meagle, Donna","Business Firm:Administration","Intern",1099,null,5,"2015-02-13","2015-02-14","Fri",null,"NonBill","ZZ","2015-02-20"," BIZ Employee Handbook","Strat Firm",null,{"$f":"IF(O1189=\"Business Firm billable\",VLOOKUP(A1189,'Hourly rates'!$B$2:$E$40,4,FALSE),VLOOKUP(A1189,'Hourly rates'!$B$2:$E$40,2,FALSE))","v":12},60]
["Dwyer, Andy","Business Firm:Admin SP","Intern",1099,null,1,"2015-02-13","2015-02-14","Fri",null,"NonBill","ZZ","2015-02-20",null,"Special Projects",null,{"$f":"IF(O1190=\"Business Firm billable\",VLOOKUP(A1190,'Hourly rates'!$B$2:$E$40,4,FALSE),VLOOKUP(A1190,'Hourly rates'!$B$2:$E$40,2,FALSE))","v":12},12]
["Dwyer, Andy","Business Firm:Administration","Intern",1099,null,1.75,"2015-02-13","2015-02-14","Fri",null,"NonBill","ZZ","2015-02-20","Research Studies-Comment Letters","BIZ Research Projects",null,{"$f":"IF(O1191=\"Business Firm billable\",VLOOKUP(A1191,'Hourly rates'!$B$2:$E$40,4,FALSE),VLOOKUP(A1191,'Hourly rates'!$B$2:$E$40,2,FALSE))","v":12},21]
["Swanson, Ron","Business Firm:Admin SP","Intern",1099,null,2,"2015-02-14","2015-02-14","Sat",null,"NonBill","ZZ","2015-02-20",null,"Special Projects",null,{"$f":"IF(O1192=\"Business Firm billable\",VLOOKUP(A1192,'Hourly rates'!$B$2:$E$40,4,FALSE),VLOOKUP(A1192,'Hourly rates'!$B$2:$E$40,2,FALSE))","v":12},24]
["Dwyer, Andy","Business Firm:Admin SP","Intern",1099,null,5.25,"2015-02-14","2015-02-14","Sat",null,"NonBill","ZZ","2015-02-20",null,"Special Projects",null,{"$f":"IF(O1193=\"Business Firm billable\",VLOOKUP(A1193,'Hourly rates'!$B$2:$E$40,4,FALSE),VLOOKUP(A1193,'Hourly rates'!$B$2:$E$40,2,FALSE))","v":12},63]
["Delgado, Manny","Business Firm:Administration","Intern",1099,null,3,"2015-02-16","2015-02-21","Mon",null,"NonBill","ZZ","2015-03-02","Standalone Selling Price","Special Projects",null,{"$f":"IF(O1194=\"Business Firm billable\",VLOOKUP(A1194,'Hourly rates'!$B$2:$E$40,4,FALSE),VLOOKUP(A1194,'Hourly rates'!$B$2:$E$40,2,FALSE))","v":12},36]
["Wyatt, Ben","Business Firm:**Strat","Intern",1099,null,1.25,"2015-02-16","2015-02-21","Mon",null,"NonBill","ZZ","2015-03-02",null,"Strat Firm",null,{"$f":"IF(O1195=\"Business Firm billable\",VLOOKUP(A1195,'Hourly rates'!$B$2:$E$40,4,FALSE),VLOOKUP(A1195,'Hourly rates'!$B$2:$E$40,2,FALSE))","v":12},15]
["Wyatt, Ben","Business Firm:Admin SP","Intern",1099,null,1,"2015-02-16","2015-02-21","Mon",null,"NonBill","ZZ","2015-03-02",null,{"$f":"IF(B1196=$B$1193,\"Special Projects\",\"\")","v":"Special Projects"},null,{"$f":"IF(O1196=\"Business Firm billable\",VLOOKUP(A1196,'Hourly rates'!$B$2:$E$40,4,FALSE),VLOOKUP(A1196,'Hourly rates'!$B$2:$E$40,2,FALSE))","v":12},12]
["Walker, Renee","Business Firm:Admin SP","Intern",1099,null,4,"2015-02-16","2015-02-21","Mon",null,"NonBill","ZZ","2015-03-02",null,{"$f":"IF(B1197=$B$1193,\"Special Projects\",\"\")","v":"Special Projects"},null,{"$f":"IF(O1197=\"Business Firm billable\",VLOOKUP(A1197,'Hourly rates'!$B$2:$E$40,4,FALSE),VLOOKUP(A1197,'Hourly rates'!$B$2:$E$40,2,FALSE))","v":12},48]
["Dwyer, Andy","Business Firm:Administration","Intern",1099,null,1.75,"2015-02-16","2015-02-21","Mon",null,"NonBill","ZZ","2015-03-02",null,"Administration",null,{"$f":"IF(O1198=\"Business Firm billable\",VLOOKUP(A1198,'Hourly rates'!$B$2:$E$40,4,FALSE),VLOOKUP(A1198,'Hourly rates'!$B$2:$E$40,2,FALSE))","v":12},21]
["Haverford, Tom","Business Firm:Admin SP","Staff",1099,null,2,"2015-02-16","2015-02-21","Mon",null,"NonBill","ZZ","2015-03-17",null,{"$f":"IF(B1199=$B$1310,\"Special Projects\",\"\")","v":"Special Projects"},null,{"$f":"IF(O1199=\"Business Firm billable\",VLOOKUP(A1199,'Hourly rates'!$B$2:$E$40,4,FALSE),VLOOKUP(A1199,'Hourly rates'!$B$2:$E$40,2,FALSE))","v":12},24]
["Delgado, Manny","Business Firm:Administration","Intern",1099,null,1.25,"2015-02-17","2015-02-21","Tue",null,"NonBill","ZZ","2015-03-02","Standalone Selling Price","Special Projects",null,{"$f":"IF(O1200=\"Business Firm billable\",VLOOKUP(A1200,'Hourly rates'!$B$2:$E$40,4,FALSE),VLOOKUP(A1200,'Hourly rates'!$B$2:$E$40,2,FALSE))","v":12},15]
["Wyatt, Ben","Business Firm:**Strat","Intern",1099,null,1.25,"2015-02-17","2015-02-21","Tue",null,"NonBill","ZZ","2015-03-02",null,"Strat Firm",null,{"$f":"IF(O1201=\"Business Firm billable\",VLOOKUP(A1201,'Hourly rates'!$B$2:$E$40,4,FALSE),VLOOKUP(A1201,'Hourly rates'!$B$2:$E$40,2,FALSE))","v":12},15]
["Wyatt, Ben","Business Firm:Admin SP","Intern",1099,null,2,"2015-02-17","2015-02-21","Tue",null,"NonBill","ZZ","2015-03-02",null,{"$f":"IF(B1202=$B$1193,\"Special Projects\",\"\")","v":"Special Projects"},null,{"$f":"IF(O1202=\"Business Firm billable\",VLOOKUP(A1202,'Hourly rates'!$B$2:$E$40,4,FALSE),VLOOKUP(A1202,'Hourly rates'!$B$2:$E$40,2,FALSE))","v":12},24]
["Walker, Renee","Business Firm:Admin SP","Intern",1099,null,1.25,"2015-02-17","2015-02-21","Tue",null,"NonBill","ZZ","2015-03-02",null,{"$f":"IF(B1203=$B$1193,\"Special Projects\",\"\")","v":"Special Projects"},null,{"$f":"IF(O1203=\"Business Firm billable\",VLOOKUP(A1203,'Hourly rates'!$B$2:$E$40,4,FALSE),VLOOKUP(A1203,'Hourly rates'!$B$2:$E$40,2,FALSE))","v":12},15]
["Dwyer, Andy","Business Firm:Admin SP","Intern",1099,null,1.25,"2015-02-17","2015-02-21","Tue",null,"NonBill","ZZ","2015-03-02",null,{"$f":"IF(B1204=$B$1193,\"Special Projects\",\"\")","v":"Special Projects"},null,{"$f":"IF(O1204=\"Business Firm billable\",VLOOKUP(A1204,'Hourly rates'!$B$2:$E$40,4,FALSE),VLOOKUP(A1204,'Hourly rates'!$B$2:$E$40,2,FALSE))","v":12},15]
["Dwyer, Andy","Business Firm:Administration","Intern",1099,null,1.75,"2015-02-17","2015-02-21","Tue",null,"NonBill","ZZ","2015-03-02",null,"Administration",null,{"$f":"IF(O1205=\"Business Firm billable\",VLOOKUP(A1205,'Hourly rates'!$B$2:$E$40,4,FALSE),VLOOKUP(A1205,'Hourly rates'!$B$2:$E$40,2,FALSE))","v":12},21]
["Haverford, Tom","Business Firm:Admin SP","Staff",1099,null,2,"2015-02-17","2015-02-21","Tue",null,"NonBill","ZZ","2015-03-17",null,{"$f":"IF(B1206=$B$1310,\"Special Projects\",\"\")","v":"Special Projects"},null,{"$f":"IF(O1206=\"Business Firm billable\",VLOOKUP(A1206,'Hourly rates'!$B$2:$E$40,4,FALSE),VLOOKUP(A1206,'Hourly rates'!$B$2:$E$40,2,FALSE))","v":12},24]
["Delgado, Manny","Business Firm:Administration","Intern",1099,null,1.25,"2015-02-18","2015-02-21","Wed",null,"NonBill","ZZ","2015-03-02","Standalone Selling Price","Special Projects",null,{"$f":"IF(O1207=\"Business Firm billable\",VLOOKUP(A1207,'Hourly rates'!$B$2:$E$40,4,FALSE),VLOOKUP(A1207,'Hourly rates'!$B$2:$E$40,2,FALSE))","v":12},15]
["Delgado, Manny","Business Firm:Administration","Intern",1099,null,1,"2015-02-18","2015-02-21","Wed",null,"NonBill","ZZ","2015-03-02","Meetings, Rough Draft Review","Special Projects",null,{"$f":"IF(O1208=\"Business Firm billable\",VLOOKUP(A1208,'Hourly rates'!$B$2:$E$40,4,FALSE),VLOOKUP(A1208,'Hourly rates'!$B$2:$E$40,2,FALSE))","v":12},12]
["Wyatt, Ben","Business Firm:Admin SP","Intern",1099,null,2.75,"2015-02-18","2015-02-21","Wed",null,"NonBill","ZZ","2015-03-02",null,{"$f":"IF(B1209=$B$1193,\"Special Projects\",\"\")","v":"Special Projects"},null,{"$f":"IF(O1209=\"Business Firm billable\",VLOOKUP(A1209,'Hourly rates'!$B$2:$E$40,4,FALSE),VLOOKUP(A1209,'Hourly rates'!$B$2:$E$40,2,FALSE))","v":12},33]
["Swanson, Ron","Business Firm:Admin SP","Intern",1099,null,3,"2015-02-18","2015-02-21","Wed",null,"NonBill","ZZ","2015-03-02",null,{"$f":"IF(B1210=$B$1193,\"Special Projects\",\"\")","v":"Special Projects"},null,{"$f":"IF(O1210=\"Business Firm billable\",VLOOKUP(A1210,'Hourly rates'!$B$2:$E$40,4,FALSE),VLOOKUP(A1210,'Hourly rates'!$B$2:$E$40,2,FALSE))","v":12},36]
["Meagle, Donna","Business Firm:Admin SP","Intern",1099,null,3,"2015-02-18","2015-02-21","Wed",null,"NonBill","ZZ","2015-03-02",null,{"$f":"IF(B1211=$B$1193,\"Special Projects\",\"\")","v":"Special Projects"},null,{"$f":"IF(O1211=\"Business Firm billable\",VLOOKUP(A1211,'Hourly rates'!$B$2:$E$40,4,FALSE),VLOOKUP(A1211,'Hourly rates'!$B$2:$E$40,2,FALSE))","v":12},36]
["Walker, Renee","Business Firm:Admin SP","Intern",1099,null,2,"2015-02-18","2015-02-21","Wed",null,"NonBill","ZZ","2015-03-02",null,{"$f":"IF(B1212=$B$1193,\"Special Projects\",\"\")","v":"Special Projects"},null,{"$f":"IF(O1212=\"Business Firm billable\",VLOOKUP(A1212,'Hourly rates'!$B$2:$E$40,4,FALSE),VLOOKUP(A1212,'Hourly rates'!$B$2:$E$40,2,FALSE))","v":12},24]
["Dwyer, Andy","Business Firm:Admin SP","Intern",1099,null,1.25,"2015-02-18","2015-02-21","Wed",null,"NonBill","ZZ","2015-03-02",null,{"$f":"IF(B1213=$B$1193,\"Special Projects\",\"\")","v":"Special Projects"},null,{"$f":"IF(O1213=\"Business Firm billable\",VLOOKUP(A1213,'Hourly rates'!$B$2:$E$40,4,FALSE),VLOOKUP(A1213,'Hourly rates'!$B$2:$E$40,2,FALSE))","v":12},15]
["Dwyer, Andy","Business Firm:Administration","Intern",1099,null,1.75,"2015-02-18","2015-02-21","Wed",null,"NonBill","ZZ","2015-03-02",null,"Administration",null,{"$f":"IF(O1214=\"Business Firm billable\",VLOOKUP(A1214,'Hourly rates'!$B$2:$E$40,4,FALSE),VLOOKUP(A1214,'Hourly rates'!$B$2:$E$40,2,FALSE))","v":12},21]
["Haverford, Tom","Business Firm:Admin SP","Staff",1099,null,3,"2015-02-18","2015-02-21","Wed",null,"NonBill","ZZ","2015-03-17",null,{"$f":"IF(B1215=$B$1310,\"Special Projects\",\"\")","v":"Special Projects"},null,{"$f":"IF(O1215=\"Business Firm billable\",VLOOKUP(A1215,'Hourly rates'!$B$2:$E$40,4,FALSE),VLOOKUP(A1215,'Hourly rates'!$B$2:$E$40,2,FALSE))","v":12},36]
["Wyatt, Ben","Business Firm:**Strat","Intern",1099,null,2.25,"2015-02-19","2015-02-21","Thu",null,"NonBill","ZZ","2015-03-02",null,"Strat Firm",null,{"$f":"IF(O1216=\"Business Firm billable\",VLOOKUP(A1216,'Hourly rates'!$B$2:$E$40,4,FALSE),VLOOKUP(A1216,'Hourly rates'!$B$2:$E$40,2,FALSE))","v":12},27]
["Wyatt, Ben","Business Firm:Admin SP","Intern",1099,null,1.25,"2015-02-19","2015-02-21","Thu",null,"NonBill","ZZ","2015-03-02",null,{"$f":"IF(B1217=$B$1193,\"Special Projects\",\"\")","v":"Special Projects"},null,{"$f":"IF(O1217=\"Business Firm billable\",VLOOKUP(A1217,'Hourly rates'!$B$2:$E$40,4,FALSE),VLOOKUP(A1217,'Hourly rates'!$B$2:$E$40,2,FALSE))","v":12},15]
["Swanson, Ron","Business Firm:Admin SP","Intern",1099,null,5,"2015-02-19","2015-02-21","Thu",null,"NonBill","ZZ","2015-03-02",null,{"$f":"IF(B1218=$B$1193,\"Special Projects\",\"\")","v":"Special Projects"},null,{"$f":"IF(O1218=\"Business Firm billable\",VLOOKUP(A1218,'Hourly rates'!$B$2:$E$40,4,FALSE),VLOOKUP(A1218,'Hourly rates'!$B$2:$E$40,2,FALSE))","v":12},{"$f":"Q1218*F1218","v":60}]
["Meagle, Donna","Business Firm:Admin SP","Intern",1099,null,2,"2015-02-19","2015-02-21","Thu",null,"NonBill","ZZ","2015-03-02",null,{"$f":"IF(B1219=$B$1193,\"Special Projects\",\"\")","v":"Special Projects"},null,{"$f":"IF(O1219=\"Business Firm billable\",VLOOKUP(A1219,'Hourly rates'!$B$2:$E$40,4,FALSE),VLOOKUP(A1219,'Hourly rates'!$B$2:$E$40,2,FALSE))","v":12},24]
["Walker, Renee","Business Firm:Admin SP","Intern",1099,null,1,"2015-02-19","2015-02-21","Thu",null,"NonBill","ZZ","2015-03-02",null,{"$f":"IF(B1220=$B$1193,\"Special Projects\",\"\")","v":"Special Projects"},null,{"$f":"IF(O1220=\"Business Firm billable\",VLOOKUP(A1220,'Hourly rates'!$B$2:$E$40,4,FALSE),VLOOKUP(A1220,'Hourly rates'!$B$2:$E$40,2,FALSE))","v":12},12]
["Dwyer, Andy","Business Firm:Administration","Intern",1099,null,1.25,"2015-02-19","2015-02-21","Thu",null,"NonBill","ZZ","2015-03-02",null,"Administration",null,{"$f":"IF(O1221=\"Business Firm billable\",VLOOKUP(A1221,'Hourly rates'!$B$2:$E$40,4,FALSE),VLOOKUP(A1221,'Hourly rates'!$B$2:$E$40,2,FALSE))","v":12},15]
["Haverford, Tom","Business Firm:Admin SP","Staff",1099,null,3,"2015-02-19","2015-02-21","Thu",null,"NonBill","ZZ","2015-03-17",null,{"$f":"IF(B1222=$B$1310,\"Special Projects\",\"\")","v":"Special Projects"},null,{"$f":"IF(O1222=\"Business Firm billable\",VLOOKUP(A1222,'Hourly rates'!$B$2:$E$40,4,FALSE),VLOOKUP(A1222,'Hourly rates'!$B$2:$E$40,2,FALSE))","v":12},36]
["Swanson, Ron","Business Firm:Admin SP","Intern",1099,null,1,"2015-02-20","2015-02-21","Fri",null,"NonBill","ZZ","2015-03-02",null,{"$f":"IF(B1223=$B$1193,\"Special Projects\",\"\")","v":"Special Projects"},null,{"$f":"IF(O1223=\"Business Firm billable\",VLOOKUP(A1223,'Hourly rates'!$B$2:$E$40,4,FALSE),VLOOKUP(A1223,'Hourly rates'!$B$2:$E$40,2,FALSE))","v":12},12]
["Meagle, Donna","Business Firm:Admin SP","Intern",1099,null,3,"2015-02-20","2015-02-21","Fri",null,"NonBill","ZZ","2015-03-02",null,{"$f":"IF(B1224=$B$1193,\"Special Projects\",\"\")","v":"Special Projects"},null,{"$f":"IF(O1224=\"Business Firm billable\",VLOOKUP(A1224,'Hourly rates'!$B$2:$E$40,4,FALSE),VLOOKUP(A1224,'Hourly rates'!$B$2:$E$40,2,FALSE))","v":12},36]
["Meagle, Donna","Business Firm:Administration","Intern",1099,null,2,"2015-02-20","2015-02-21","Fri",null,"NonBill","ZZ","2015-03-02",null,"Administration",null,{"$f":"IF(O1225=\"Business Firm billable\",VLOOKUP(A1225,'Hourly rates'!$B$2:$E$40,4,FALSE),VLOOKUP(A1225,'Hourly rates'!$B$2:$E$40,2,FALSE))","v":12},24]
["Walker, Renee","Business Firm:Admin SP","Intern",1099,null,1.25,"2015-02-20","2015-02-21","Fri",null,"NonBill","ZZ","2015-03-02",null,{"$f":"IF(B1226=$B$1193,\"Special Projects\",\"\")","v":"Special Projects"},null,{"$f":"IF(O1226=\"Business Firm billable\",VLOOKUP(A1226,'Hourly rates'!$B$2:$E$40,4,FALSE),VLOOKUP(A1226,'Hourly rates'!$B$2:$E$40,2,FALSE))","v":12},15]
["Dwyer, Andy","Business Firm:Admin SP","Intern",1099,null,1.25,"2015-02-20","2015-02-21","Fri",null,"NonBill","ZZ","2015-03-02",null,{"$f":"IF(B1227=$B$1193,\"Special Projects\",\"\")","v":"Special Projects"},null,{"$f":"IF(O1227=\"Business Firm billable\",VLOOKUP(A1227,'Hourly rates'!$B$2:$E$40,4,FALSE),VLOOKUP(A1227,'Hourly rates'!$B$2:$E$40,2,FALSE))","v":12},15]
["Dwyer, Andy","Business Firm:Administration","Intern",1099,null,1.25,"2015-02-20","2015-02-21","Fri",null,"NonBill","ZZ","2015-03-02",null,"Administration",null,{"$f":"IF(O1228=\"Business Firm billable\",VLOOKUP(A1228,'Hourly rates'!$B$2:$E$40,4,FALSE),VLOOKUP(A1228,'Hourly rates'!$B$2:$E$40,2,FALSE))","v":12},15]
["Meagle, Donna","Business Firm:Admin SP","Intern",1099,null,2,"2015-02-21","2015-02-21","Sat",null,"NonBill","ZZ","2015-03-02",null,{"$f":"IF(B1229=$B$1193,\"Special Projects\",\"\")","v":"Special Projects"},null,{"$f":"IF(O1229=\"Business Firm billable\",VLOOKUP(A1229,'Hourly rates'!$B$2:$E$40,4,FALSE),VLOOKUP(A1229,'Hourly rates'!$B$2:$E$40,2,FALSE))","v":12},24]
["Tucker, Cameron","Business Firm:Administration","Intern",1099,null,2,"2015-02-21","2015-02-21","Sat",null,"NonBill","ZZ","2015-03-02",null,"Administration",null,{"$f":"IF(O1230=\"Business Firm billable\",VLOOKUP(A1230,'Hourly rates'!$B$2:$E$40,4,FALSE),VLOOKUP(A1230,'Hourly rates'!$B$2:$E$40,2,FALSE))","v":12},24]
["Tucker, Cameron","Business Firm:Administration","Intern",1099,null,1.25,"2015-02-21","2015-02-21","Sat",null,"NonBill","ZZ","2015-03-02",null,"Administration",null,{"$f":"IF(O1231=\"Business Firm billable\",VLOOKUP(A1231,'Hourly rates'!$B$2:$E$40,4,FALSE),VLOOKUP(A1231,'Hourly rates'!$B$2:$E$40,2,FALSE))","v":12},15]
["Dwyer, Andy","Business Firm:Admin SP","Intern",1099,null,1,"2015-02-21",{"$f":"G1232+7-WEEKDAY(G1232)","v":"2015-02-21"},"Sat",null,"NonBill","ZZ","2015-03-02",null,{"$f":"IF(B1232=$B$1193,\"Special Projects\",\"\")","v":"Special Projects"},null,{"$f":"IF(O1232=\"Business Firm billable\",VLOOKUP(A1232,'Hourly rates'!$B$2:$E$40,4,FALSE),VLOOKUP(A1232,'Hourly rates'!$B$2:$E$40,2,FALSE))","v":12},12]
["Dwyer, Andy","Business Firm:Administration","Intern",1099,null,1,"2015-02-21","2015-02-21","Sat",null,"NonBill","ZZ","2015-03-02",null,"Administration",null,{"$f":"IF(O1233=\"Business Firm billable\",VLOOKUP(A1233,'Hourly rates'!$B$2:$E$40,4,FALSE),VLOOKUP(A1233,'Hourly rates'!$B$2:$E$40,2,FALSE))","v":12},12]
["Meagle, Donna","Business Firm:Administration","Intern",1099,null,1,"2015-02-22","2015-02-28","Sun",null,"NonBill","ZZ","Pending"," BIZ Employee Handbook","Strat Firm",null,{"$f":"IF(O1234=\"Business Firm billable\",VLOOKUP(A1234,'Hourly rates'!$B$2:$E$40,4,FALSE),VLOOKUP(A1234,'Hourly rates'!$B$2:$E$40,2,FALSE))","v":12},12]
["Delgado, Manny","Business Firm:Administration","Intern",1099,null,1.25,"2015-02-23","2015-02-28","Mon",null,"NonBill","ZZ","Pending","Software Changes","Special Projects",null,{"$f":"IF(O1235=\"Business Firm billable\",VLOOKUP(A1235,'Hourly rates'!$B$2:$E$40,4,FALSE),VLOOKUP(A1235,'Hourly rates'!$B$2:$E$40,2,FALSE))","v":12},15]
["Wyatt, Ben","Business Firm:**Strat","Intern",1099,null,1,"2015-02-23","2015-02-28","Mon",null,"NonBill","ZZ","Pending","IPO Filings Project for Bill Buchannan","Strat Firm",null,{"$f":"IF(O1236=\"Business Firm billable\",VLOOKUP(A1236,'Hourly rates'!$B$2:$E$40,4,FALSE),VLOOKUP(A1236,'Hourly rates'!$B$2:$E$40,2,FALSE))","v":12},12]
["Wyatt, Ben","Business Firm:Admin SP","Intern",1099,null,1.25,"2015-02-23","2015-02-28","Mon",null,"NonBill","ZZ","Pending",null,{"$f":"IF(B1237=$B$1193,\"Special Projects\",\"\")","v":"Special Projects"},null,{"$f":"IF(O1237=\"Business Firm billable\",VLOOKUP(A1237,'Hourly rates'!$B$2:$E$40,4,FALSE),VLOOKUP(A1237,'Hourly rates'!$B$2:$E$40,2,FALSE))","v":12},15]
["Walker, Renee","Business Firm:Admin SP","Intern",1099,null,2,"2015-02-23","2015-02-28","Mon",null,"NonBill","ZZ","Pending",null,{"$f":"IF(B1238=$B$1193,\"Special Projects\",\"\")","v":"Special Projects"},null,{"$f":"IF(O1238=\"Business Firm billable\",VLOOKUP(A1238,'Hourly rates'!$B$2:$E$40,4,FALSE),VLOOKUP(A1238,'Hourly rates'!$B$2:$E$40,2,FALSE))","v":12},24]
["Dwyer, Andy","Business Firm:**Strat","Intern",1099,null,1.25,"2015-02-23","2015-02-28","Mon",null,"NonBill","ZZ","Pending","Updating firm guides","Strat Firm",null,{"$f":"IF(O1239=\"Business Firm billable\",VLOOKUP(A1239,'Hourly rates'!$B$2:$E$40,4,FALSE),VLOOKUP(A1239,'Hourly rates'!$B$2:$E$40,2,FALSE))","v":12},15]
["Dwyer, Andy","Business Firm:Admin SP","Intern",1099,null,1,"2015-02-23","2015-02-28","Mon",null,"NonBill","ZZ","Pending",null,{"$f":"IF(B1240=$B$1193,\"Special Projects\",\"\")","v":"Special Projects"},null,{"$f":"IF(O1240=\"Business Firm billable\",VLOOKUP(A1240,'Hourly rates'!$B$2:$E$40,4,FALSE),VLOOKUP(A1240,'Hourly rates'!$B$2:$E$40,2,FALSE))","v":12},12]
["Dwyer, Andy","Business Firm:Administration","Intern",1099,null,1.25,"2015-02-23","2015-02-28","Mon",null,"NonBill","ZZ","Pending","Research Studies-Comment Letters","BIZ Research Projects",null,{"$f":"IF(O1241=\"Business Firm billable\",VLOOKUP(A1241,'Hourly rates'!$B$2:$E$40,4,FALSE),VLOOKUP(A1241,'Hourly rates'!$B$2:$E$40,2,FALSE))","v":12},15]
["Dwyer, Andy","Business Firm:Administration","Intern",1099,null,1.25,"2015-02-23","2015-02-28","Mon",null,"NonBill","ZZ","Pending","Research Studies-Material weakness","BIZ Research Projects",null,{"$f":"IF(O1242=\"Business Firm billable\",VLOOKUP(A1242,'Hourly rates'!$B$2:$E$40,4,FALSE),VLOOKUP(A1242,'Hourly rates'!$B$2:$E$40,2,FALSE))","v":12},15]
["Delgado, Manny","Business Firm:Administration","Intern",1099,null,1.25,"2015-02-24","2015-02-28","Tue",null,"NonBill","ZZ","Pending","Software Changes","Special Projects",null,{"$f":"IF(O1243=\"Business Firm billable\",VLOOKUP(A1243,'Hourly rates'!$B$2:$E$40,4,FALSE),VLOOKUP(A1243,'Hourly rates'!$B$2:$E$40,2,FALSE))","v":12},15]
["Wyatt, Ben","Business Firm:Admin SP","Intern",1099,null,1.25,"2015-02-24","2015-02-28","Tue",null,"NonBill","ZZ","Pending",null,{"$f":"IF(B1244=$B$1193,\"Special Projects\",\"\")","v":"Special Projects"},null,{"$f":"IF(O1244=\"Business Firm billable\",VLOOKUP(A1244,'Hourly rates'!$B$2:$E$40,4,FALSE),VLOOKUP(A1244,'Hourly rates'!$B$2:$E$40,2,FALSE))","v":12},15]
["Swanson, Ron","Business Firm:Admin SP","Intern",1099,null,2,"2015-02-24","2015-02-28","Tue",null,"NonBill","ZZ","Pending",null,{"$f":"IF(B1245=$B$1193,\"Special Projects\",\"\")","v":"Special Projects"},null,{"$f":"IF(O1245=\"Business Firm billable\",VLOOKUP(A1245,'Hourly rates'!$B$2:$E$40,4,FALSE),VLOOKUP(A1245,'Hourly rates'!$B$2:$E$40,2,FALSE))","v":12},24]
["Meagle, Donna","Business Firm:Admin SP","Intern",1099,null,4,"2015-02-24","2015-02-28","Tue",null,"NonBill","ZZ","Pending",null,{"$f":"IF(B1246=$B$1193,\"Special Projects\",\"\")","v":"Special Projects"},null,{"$f":"IF(O1246=\"Business Firm billable\",VLOOKUP(A1246,'Hourly rates'!$B$2:$E$40,4,FALSE),VLOOKUP(A1246,'Hourly rates'!$B$2:$E$40,2,FALSE))","v":12},48]
["Walker, Renee","Business Firm:Admin SP","Intern",1099,null,1.25,"2015-02-24","2015-02-28","Tue",null,"NonBill","ZZ","Pending",null,{"$f":"IF(B1247=$B$1193,\"Special Projects\",\"\")","v":"Special Projects"},null,{"$f":"IF(O1247=\"Business Firm billable\",VLOOKUP(A1247,'Hourly rates'!$B$2:$E$40,4,FALSE),VLOOKUP(A1247,'Hourly rates'!$B$2:$E$40,2,FALSE))","v":12},15]
["Dwyer, Andy","Business Firm:Administration","Intern",1099,null,1.75,"2015-02-24","2015-02-28","Tue",null,"NonBill","ZZ","Pending","Research Studies-Comment Letters","BIZ Research Projects",null,{"$f":"IF(O1248=\"Business Firm billable\",VLOOKUP(A1248,'Hourly rates'!$B$2:$E$40,4,FALSE),VLOOKUP(A1248,'Hourly rates'!$B$2:$E$40,2,FALSE))","v":12},21]
["Dwyer, Andy","Business Firm:Administration","Intern",1099,null,1.25,"2015-02-24","2015-02-28","Tue",null,"NonBill","ZZ","Pending","Research Studies-Material weakness","BIZ Research Projects",null,{"$f":"IF(O1249=\"Business Firm billable\",VLOOKUP(A1249,'Hourly rates'!$B$2:$E$40,4,FALSE),VLOOKUP(A1249,'Hourly rates'!$B$2:$E$40,2,FALSE))","v":12},15]
["Dwyer, Andy","Business Firm:Administration","Intern",1099,null,1.25,"2015-02-24","2015-02-28","Tue",null,"NonBill","ZZ","Pending","Research Studies-general","BIZ Research Projects",null,{"$f":"IF(O1250=\"Business Firm billable\",VLOOKUP(A1250,'Hourly rates'!$B$2:$E$40,4,FALSE),VLOOKUP(A1250,'Hourly rates'!$B$2:$E$40,2,FALSE))","v":12},15]
["Delgado, Manny","Business Firm:Administration","Intern",1099,null,1,"2015-02-25","2015-02-28","Wed",null,"NonBill","ZZ","Pending","Meetings, Rough Draft Review","Special Projects",null,{"$f":"IF(O1251=\"Business Firm billable\",VLOOKUP(A1251,'Hourly rates'!$B$2:$E$40,4,FALSE),VLOOKUP(A1251,'Hourly rates'!$B$2:$E$40,2,FALSE))","v":12},12]
["Wyatt, Ben","Business Firm:Admin SP","Intern",1099,null,1.75,"2015-02-25","2015-02-28","Wed",null,"NonBill","ZZ","Pending",null,{"$f":"IF(B1252=$B$1193,\"Special Projects\",\"\")","v":"Special Projects"},null,{"$f":"IF(O1252=\"Business Firm billable\",VLOOKUP(A1252,'Hourly rates'!$B$2:$E$40,4,FALSE),VLOOKUP(A1252,'Hourly rates'!$B$2:$E$40,2,FALSE))","v":12},21]
["Swanson, Ron","Business Firm:Admin SP","Intern",1099,null,5,"2015-02-25","2015-02-28","Wed",null,"NonBill","ZZ","Pending",null,{"$f":"IF(B1253=$B$1193,\"Special Projects\",\"\")","v":"Special Projects"},null,{"$f":"IF(O1253=\"Business Firm billable\",VLOOKUP(A1253,'Hourly rates'!$B$2:$E$40,4,FALSE),VLOOKUP(A1253,'Hourly rates'!$B$2:$E$40,2,FALSE))","v":12},60]
["Meagle, Donna","Business Firm:Admin SP","Intern",1099,null,6,"2015-02-25","2015-02-28","Wed",null,"NonBill","ZZ","Pending",null,{"$f":"IF(B1254=$B$1193,\"Special Projects\",\"\")","v":"Special Projects"},null,{"$f":"IF(O1254=\"Business Firm billable\",VLOOKUP(A1254,'Hourly rates'!$B$2:$E$40,4,FALSE),VLOOKUP(A1254,'Hourly rates'!$B$2:$E$40,2,FALSE))","v":12},72]
["Walker, Renee","Business Firm:Admin SP","Intern",1099,null,1.25,"2015-02-25","2015-02-28","Wed",null,"NonBill","ZZ","Pending",null,{"$f":"IF(B1255=$B$1193,\"Special Projects\",\"\")","v":"Special Projects"},null,{"$f":"IF(O1255=\"Business Firm billable\",VLOOKUP(A1255,'Hourly rates'!$B$2:$E$40,4,FALSE),VLOOKUP(A1255,'Hourly rates'!$B$2:$E$40,2,FALSE))","v":12},15]
["Dwyer, Andy","Business Firm:Admin SP","Intern",1099,null,1.25,"2015-02-25","2015-02-28","Wed",null,"NonBill","ZZ","Pending",null,{"$f":"IF(B1256=$B$1193,\"Special Projects\",\"\")","v":"Special Projects"},null,{"$f":"IF(O1256=\"Business Firm billable\",VLOOKUP(A1256,'Hourly rates'!$B$2:$E$40,4,FALSE),VLOOKUP(A1256,'Hourly rates'!$B$2:$E$40,2,FALSE))","v":12},15]
["Haverford, Tom","Business Firm:Admin SP","Staff",1099,null,1,"2015-02-25","2015-02-28","Wed",null,"NonBill","ZZ","2015-03-17",null,{"$f":"IF(B1257=$B$1310,\"Special Projects\",\"\")","v":"Special Projects"},null,{"$f":"IF(O1257=\"Business Firm billable\",VLOOKUP(A1257,'Hourly rates'!$B$2:$E$40,4,FALSE),VLOOKUP(A1257,'Hourly rates'!$B$2:$E$40,2,FALSE))","v":12},12]
["Delgado, Manny","Business Firm:Administration","Intern",1099,null,3,"2015-02-26","2015-02-28","Thu",null,"NonBill","ZZ","Pending","Transaction Price Allocation","Special Projects",null,{"$f":"IF(O1258=\"Business Firm billable\",VLOOKUP(A1258,'Hourly rates'!$B$2:$E$40,4,FALSE),VLOOKUP(A1258,'Hourly rates'!$B$2:$E$40,2,FALSE))","v":12},36]
["Wyatt, Ben","Business Firm:**Strat","Intern",1099,null,1.25,"2015-02-26","2015-02-28","Thu",null,"NonBill","ZZ","Pending","IPO Filings Project for Bill Buchannan","Strat Firm",null,{"$f":"IF(O1259=\"Business Firm billable\",VLOOKUP(A1259,'Hourly rates'!$B$2:$E$40,4,FALSE),VLOOKUP(A1259,'Hourly rates'!$B$2:$E$40,2,FALSE))","v":12},15]
["Wyatt, Ben","Business Firm:Admin SP","Intern",1099,null,1.75,"2015-02-26","2015-02-28","Thu",null,"NonBill","ZZ","Pending",null,{"$f":"IF(B1260=$B$1193,\"Special Projects\",\"\")","v":"Special Projects"},null,{"$f":"IF(O1260=\"Business Firm billable\",VLOOKUP(A1260,'Hourly rates'!$B$2:$E$40,4,FALSE),VLOOKUP(A1260,'Hourly rates'!$B$2:$E$40,2,FALSE))","v":12},21]
["Walker, Renee","Business Firm:Admin SP","Intern",1099,null,2,"2015-02-26","2015-02-28","Thu",null,"NonBill","ZZ","Pending",null,{"$f":"IF(B1261=$B$1193,\"Special Projects\",\"\")","v":"Special Projects"},null,{"$f":"IF(O1261=\"Business Firm billable\",VLOOKUP(A1261,'Hourly rates'!$B$2:$E$40,4,FALSE),VLOOKUP(A1261,'Hourly rates'!$B$2:$E$40,2,FALSE))","v":12},24]
["Dwyer, Andy","Business Firm:Admin SP","Intern",1099,null,1,"2015-02-26","2015-02-28","Thu",null,"NonBill","ZZ","Pending",null,{"$f":"IF(B1262=$B$1193,\"Special Projects\",\"\")","v":"Special Projects"},null,{"$f":"IF(O1262=\"Business Firm billable\",VLOOKUP(A1262,'Hourly rates'!$B$2:$E$40,4,FALSE),VLOOKUP(A1262,'Hourly rates'!$B$2:$E$40,2,FALSE))","v":12},12]
["Haverford, Tom","Business Firm:Admin SP","Staff",1099,null,2,"2015-02-26","2015-02-28","Thu",null,"NonBill","ZZ","2015-03-17",null,{"$f":"IF(B1263=$B$1310,\"Special Projects\",\"\")","v":"Special Projects"},null,{"$f":"IF(O1263=\"Business Firm billable\",VLOOKUP(A1263,'Hourly rates'!$B$2:$E$40,4,FALSE),VLOOKUP(A1263,'Hourly rates'!$B$2:$E$40,2,FALSE))","v":12},24]
["Delgado, Manny","Business Firm:Administration","Intern",1099,null,1.25,"2015-02-27","2015-02-28","Fri",null,"NonBill","ZZ","Pending","Transaction Price Allocation","Special Projects",null,{"$f":"IF(O1264=\"Business Firm billable\",VLOOKUP(A1264,'Hourly rates'!$B$2:$E$40,4,FALSE),VLOOKUP(A1264,'Hourly rates'!$B$2:$E$40,2,FALSE))","v":12},15]
["Wyatt, Ben","Business Firm:Admin SP","Intern",1099,null,2,"2015-02-27","2015-02-28","Fri",null,"NonBill","ZZ","Pending",null,{"$f":"IF(B1265=$B$1193,\"Special Projects\",\"\")","v":"Special Projects"},null,{"$f":"IF(O1265=\"Business Firm billable\",VLOOKUP(A1265,'Hourly rates'!$B$2:$E$40,4,FALSE),VLOOKUP(A1265,'Hourly rates'!$B$2:$E$40,2,FALSE))","v":12},24]
["Wyatt, Ben","Business Firm:Administration","Intern",1099,null,1.25,"2015-02-27","2015-02-28","Fri",null,"NonBill","ZZ","Pending","Internal Finance","Finance",null,{"$f":"IF(O1266=\"Business Firm billable\",VLOOKUP(A1266,'Hourly rates'!$B$2:$E$40,4,FALSE),VLOOKUP(A1266,'Hourly rates'!$B$2:$E$40,2,FALSE))","v":12},15]
["Walker, Renee","Business Firm:Admin SP","Intern",1099,null,1,"2015-02-27","2015-02-28","Fri",null,"NonBill","ZZ","Pending",null,{"$f":"IF(B1267=$B$1193,\"Special Projects\",\"\")","v":"Special Projects"},null,{"$f":"IF(O1267=\"Business Firm billable\",VLOOKUP(A1267,'Hourly rates'!$B$2:$E$40,4,FALSE),VLOOKUP(A1267,'Hourly rates'!$B$2:$E$40,2,FALSE))","v":12},12]
["Tucker, Cameron","Business Firm:Administration","Intern",1099,null,1.75,"2015-02-27","2015-02-28","Fri",null,"NonBill","ZZ","Pending","JOBS/IPO Metrics Studies","BIZ Research Projects",null,{"$f":"IF(O1268=\"Business Firm billable\",VLOOKUP(A1268,'Hourly rates'!$B$2:$E$40,4,FALSE),VLOOKUP(A1268,'Hourly rates'!$B$2:$E$40,2,FALSE))","v":12},21]
["Haverford, Tom","Business Firm:Admin SP","Staff",1099,null,3,"2015-02-27","2015-02-28","Fri",null,"NonBill","ZZ","2015-03-17",null,{"$f":"IF(B1269=$B$1310,\"Special Projects\",\"\")","v":"Special Projects"},null,{"$f":"IF(O1269=\"Business Firm billable\",VLOOKUP(A1269,'Hourly rates'!$B$2:$E$40,4,FALSE),VLOOKUP(A1269,'Hourly rates'!$B$2:$E$40,2,FALSE))","v":12},36]
["Delgado, Manny","Business Firm:Administration","Intern",1099,null,1.75,"2015-02-28","2015-02-28","Sat",null,"NonBill","ZZ","Pending","Transaction Price Allocation","Special Projects",null,{"$f":"IF(O1270=\"Business Firm billable\",VLOOKUP(A1270,'Hourly rates'!$B$2:$E$40,4,FALSE),VLOOKUP(A1270,'Hourly rates'!$B$2:$E$40,2,FALSE))","v":12},21]
["Wyatt, Ben","Business Firm:Administration","Intern",1099,null,1.25,"2015-02-28","2015-02-28","Sat",null,"NonBill","ZZ","Pending","Internal Finance","Finance",null,{"$f":"IF(O1271=\"Business Firm billable\",VLOOKUP(A1271,'Hourly rates'!$B$2:$E$40,4,FALSE),VLOOKUP(A1271,'Hourly rates'!$B$2:$E$40,2,FALSE))","v":12},15]
["Swanson, Ron","Business Firm:Admin SP","Intern",1099,null,3,"2015-02-28","2015-02-28","Sat",null,"NonBill","ZZ","Pending",null,{"$f":"IF(B1272=$B$1193,\"Special Projects\",\"\")","v":"Special Projects"},null,{"$f":"IF(O1272=\"Business Firm billable\",VLOOKUP(A1272,'Hourly rates'!$B$2:$E$40,4,FALSE),VLOOKUP(A1272,'Hourly rates'!$B$2:$E$40,2,FALSE))","v":12},36]
["Tucker, Cameron","Business Firm:Administration","Intern",1099,null,4,"2015-02-28","2015-02-28","Sat",null,"NonBill","ZZ","Pending","Download updated EY SEC Manual","BIZ Research Projects",null,{"$f":"IF(O1273=\"Business Firm billable\",VLOOKUP(A1273,'Hourly rates'!$B$2:$E$40,4,FALSE),VLOOKUP(A1273,'Hourly rates'!$B$2:$E$40,2,FALSE))","v":12},48]
["Dwyer, Andy","Business Firm:**Strat","Intern",1099,null,1.25,"2015-02-28","2015-02-28","Sat",null,"NonBill","ZZ","Pending","Updating firm guides","Strat Firm",null,{"$f":"IF(O1274=\"Business Firm billable\",VLOOKUP(A1274,'Hourly rates'!$B$2:$E$40,4,FALSE),VLOOKUP(A1274,'Hourly rates'!$B$2:$E$40,2,FALSE))","v":12},15]
["Dwyer, Andy","Business Firm:Admin SP","Intern",1099,null,3,"2015-02-28","2015-02-28","Sat",null,"NonBill","ZZ","Pending",null,{"$f":"IF(B1275=$B$1193,\"Special Projects\",\"\")","v":"Special Projects"},null,{"$f":"IF(O1275=\"Business Firm billable\",VLOOKUP(A1275,'Hourly rates'!$B$2:$E$40,4,FALSE),VLOOKUP(A1275,'Hourly rates'!$B$2:$E$40,2,FALSE))","v":12},36]
["Dwyer, Andy","Business Firm:Administration","Intern",1099,null,1.25,"2015-02-28","2015-02-28","Sat",null,"NonBill","ZZ","Pending","Research Studies-Comment Letters","BIZ Research Projects",null,{"$f":"IF(O1276=\"Business Firm billable\",VLOOKUP(A1276,'Hourly rates'!$B$2:$E$40,4,FALSE),VLOOKUP(A1276,'Hourly rates'!$B$2:$E$40,2,FALSE))","v":12},15]
["Dwyer, Andy","Business Firm:Administration","Intern",1099,null,1.25,"2015-02-28","2015-02-28","Sat",null,"NonBill","ZZ","Pending","Research Studies-general","BIZ Research Projects",null,{"$f":"IF(O1277=\"Business Firm billable\",VLOOKUP(A1277,'Hourly rates'!$B$2:$E$40,4,FALSE),VLOOKUP(A1277,'Hourly rates'!$B$2:$E$40,2,FALSE))","v":12},15]
["Haverford, Tom","Business Firm:Admin SP","Staff",1099,null,4,"2015-02-28","2015-02-28","Sat",null,"NonBill","ZZ","2015-03-17",null,{"$f":"IF(B1278=$B$1310,\"Special Projects\",\"\")","v":"Special Projects"},null,{"$f":"IF(O1278=\"Business Firm billable\",VLOOKUP(A1278,'Hourly rates'!$B$2:$E$40,4,FALSE),VLOOKUP(A1278,'Hourly rates'!$B$2:$E$40,2,FALSE))","v":12},48]
["Tucker, Cameron","Business Firm:Administration","Intern",1099,null,4,"2015-03-01","2015-03-07","Sun",null,"NonBill","ZZ","Pending",null,"BIZ Research Projects",null,{"$f":"IF(O1279=\"Business Firm billable\",VLOOKUP(A1279,'Hourly rates'!$B$2:$E$40,4,FALSE),VLOOKUP(A1279,'Hourly rates'!$B$2:$E$40,2,FALSE))","v":12},48]
["Wyatt, Ben","Business Firm:**Strat","Intern",1099,null,1.75,"2015-03-02","2015-03-07","Mon",null,"NonBill","ZZ","Pending","IPO Filings Project for Bill Buchannan","Strat Firm",null,{"$f":"IF(O1280=\"Business Firm billable\",VLOOKUP(A1280,'Hourly rates'!$B$2:$E$40,4,FALSE),VLOOKUP(A1280,'Hourly rates'!$B$2:$E$40,2,FALSE))","v":12},21]
["Wyatt, Ben","Business Firm:Admin SP","Intern",1099,null,1.25,"2015-03-02","2015-03-07","Mon",null,"NonBill","ZZ","Pending",null,"Special Projects",null,{"$f":"IF(O1281=\"Business Firm billable\",VLOOKUP(A1281,'Hourly rates'!$B$2:$E$40,4,FALSE),VLOOKUP(A1281,'Hourly rates'!$B$2:$E$40,2,FALSE))","v":12},15]
["Meagle, Donna","Business Firm:Admin SP","Intern",1099,null,2,"2015-03-02","2015-03-07","Mon",null,"NonBill","ZZ","Pending",null,"Special Projects",null,{"$f":"IF(O1282=\"Business Firm billable\",VLOOKUP(A1282,'Hourly rates'!$B$2:$E$40,4,FALSE),VLOOKUP(A1282,'Hourly rates'!$B$2:$E$40,2,FALSE))","v":12},{"$f":"Q1282*F1282","v":24}]
["Walker, Renee","Business Firm:Admin SP","Intern",1099,null,2,"2015-03-02","2015-03-07","Mon",null,"NonBill","ZZ","Pending",null,"Special Projects",null,{"$f":"IF(O1283=\"Business Firm billable\",VLOOKUP(A1283,'Hourly rates'!$B$2:$E$40,4,FALSE),VLOOKUP(A1283,'Hourly rates'!$B$2:$E$40,2,FALSE))","v":12},24]
["Tucker, Cameron","Business Firm:Administration","Intern",1099,null,1.75,"2015-03-02","2015-03-07","Mon",null,"NonBill","ZZ","Pending",null,"BIZ Research Projects",null,{"$f":"IF(O1284=\"Business Firm billable\",VLOOKUP(A1284,'Hourly rates'!$B$2:$E$40,4,FALSE),VLOOKUP(A1284,'Hourly rates'!$B$2:$E$40,2,FALSE))","v":12},21]
["Dwyer, Andy","Business Firm:Administration","Intern",1099,null,1.25,"2015-03-02","2015-03-07","Mon",null,"NonBill","ZZ","Pending","Research Studies-general","BIZ Research Projects",null,{"$f":"IF(O1285=\"Business Firm billable\",VLOOKUP(A1285,'Hourly rates'!$B$2:$E$40,4,FALSE),VLOOKUP(A1285,'Hourly rates'!$B$2:$E$40,2,FALSE))","v":12},15]
["Haverford, Tom","Business Firm:Admin SP","Staff",1099,null,4,"2015-03-02","2015-03-07","Mon",null,"NonBill","ZZ","2015-03-20",null,{"$f":"IF(B1286=$B$1310,\"Special Projects\",\"\")","v":"Special Projects"},null,{"$f":"IF(O1286=\"Business Firm billable\",VLOOKUP(A1286,'Hourly rates'!$B$2:$E$40,4,FALSE),VLOOKUP(A1286,'Hourly rates'!$B$2:$E$40,2,FALSE))","v":12},48]
["Delgado, Manny","Business Firm:Administration","Intern",1099,null,1,"2015-03-03","2015-03-07","Tue",null,"NonBill","ZZ","Pending","Significant Financing Component","Special Projects",null,{"$f":"IF(O1287=\"Business Firm billable\",VLOOKUP(A1287,'Hourly rates'!$B$2:$E$40,4,FALSE),VLOOKUP(A1287,'Hourly rates'!$B$2:$E$40,2,FALSE))","v":12},12]
["Meagle, Donna","Business Firm:Admin SP","Intern",1099,null,3,"2015-03-03","2015-03-07","Tue",null,"NonBill","ZZ","Pending",null,"Special Projects",null,{"$f":"IF(O1288=\"Business Firm billable\",VLOOKUP(A1288,'Hourly rates'!$B$2:$E$40,4,FALSE),VLOOKUP(A1288,'Hourly rates'!$B$2:$E$40,2,FALSE))","v":12},36]
["Walker, Renee","Business Firm:Admin SP","Intern",1099,null,2,"2015-03-03","2015-03-07","Tue",null,"NonBill","ZZ","Pending",null,"Special Projects",null,{"$f":"IF(O1289=\"Business Firm billable\",VLOOKUP(A1289,'Hourly rates'!$B$2:$E$40,4,FALSE),VLOOKUP(A1289,'Hourly rates'!$B$2:$E$40,2,FALSE))","v":12},24]
["Dwyer, Andy","Business Firm:Administration","Intern",1099,null,2.25,"2015-03-03","2015-03-07","Tue",null,"NonBill","ZZ","Pending","Research Studies-general","BIZ Research Projects",null,{"$f":"IF(O1290=\"Business Firm billable\",VLOOKUP(A1290,'Hourly rates'!$B$2:$E$40,4,FALSE),VLOOKUP(A1290,'Hourly rates'!$B$2:$E$40,2,FALSE))","v":12},27]
["Haverford, Tom","Business Firm:Admin SP","Staff",1099,null,3,"2015-03-03","2015-03-07","Tue",null,"NonBill","ZZ","2015-03-20",null,{"$f":"IF(B1291=$B$1310,\"Special Projects\",\"\")","v":"Special Projects"},null,{"$f":"IF(O1291=\"Business Firm billable\",VLOOKUP(A1291,'Hourly rates'!$B$2:$E$40,4,FALSE),VLOOKUP(A1291,'Hourly rates'!$B$2:$E$40,2,FALSE))","v":12},36]
["Delgado, Manny","Business Firm:Administration","Intern",1099,null,1,"2015-03-04","2015-03-07","Wed",null,"NonBill","ZZ","Pending","Meetings, Rough Draft Review","Special Projects",null,{"$f":"IF(O1292=\"Business Firm billable\",VLOOKUP(A1292,'Hourly rates'!$B$2:$E$40,4,FALSE),VLOOKUP(A1292,'Hourly rates'!$B$2:$E$40,2,FALSE))","v":12},12]
["Delgado, Manny","Business Firm:Administration","Intern",1099,null,1.25,"2015-03-04","2015-03-07","Wed",null,"NonBill","ZZ","Pending","Transaction Price Allocation","Special Projects",null,{"$f":"IF(O1293=\"Business Firm billable\",VLOOKUP(A1293,'Hourly rates'!$B$2:$E$40,4,FALSE),VLOOKUP(A1293,'Hourly rates'!$B$2:$E$40,2,FALSE))","v":12},15]
["Wyatt, Ben","Business Firm:**Strat","Intern",1099,null,1.25,"2015-03-04","2015-03-07","Wed",null,"NonBill","ZZ","Pending","IPO Filings Project for Bill Buchannan","Strat Firm",null,{"$f":"IF(O1294=\"Business Firm billable\",VLOOKUP(A1294,'Hourly rates'!$B$2:$E$40,4,FALSE),VLOOKUP(A1294,'Hourly rates'!$B$2:$E$40,2,FALSE))","v":12},15]
["Wyatt, Ben","Business Firm:Admin SP","Intern",1099,null,1.25,"2015-03-04","2015-03-07","Wed",null,"NonBill","ZZ","Pending",null,"Special Projects",null,{"$f":"IF(O1295=\"Business Firm billable\",VLOOKUP(A1295,'Hourly rates'!$B$2:$E$40,4,FALSE),VLOOKUP(A1295,'Hourly rates'!$B$2:$E$40,2,FALSE))","v":12},15]
["Swanson, Ron","Business Firm:Admin SP","Intern",1099,null,6,"2015-03-04",{"$f":"G1296+7-WEEKDAY(G1296)","v":"2015-03-07"},"Wed",null,"NonBill","ZZ","Pending",null,"Special Projects",null,{"$f":"IF(O1296=\"Business Firm billable\",VLOOKUP(A1296,'Hourly rates'!$B$2:$E$40,4,FALSE),VLOOKUP(A1296,'Hourly rates'!$B$2:$E$40,2,FALSE))","v":12},72]
["Meagle, Donna","Business Firm:Admin SP","Intern",1099,null,5,"2015-03-04","2015-03-07","Wed",null,"NonBill","ZZ","Pending",null,"Special Projects",null,{"$f":"IF(O1297=\"Business Firm billable\",VLOOKUP(A1297,'Hourly rates'!$B$2:$E$40,4,FALSE),VLOOKUP(A1297,'Hourly rates'!$B$2:$E$40,2,FALSE))","v":12},60]
["Walker, Renee","Business Firm:Admin SP","Intern",1099,null,2,"2015-03-04","2015-03-07","Wed",null,"NonBill","ZZ","Pending",null,"Special Projects",null,{"$f":"IF(O1298=\"Business Firm billable\",VLOOKUP(A1298,'Hourly rates'!$B$2:$E$40,4,FALSE),VLOOKUP(A1298,'Hourly rates'!$B$2:$E$40,2,FALSE))","v":12},24]
["Dwyer, Andy","Business Firm:Admin SP","Intern",1099,null,1.25,"2015-03-04","2015-03-07","Wed",null,"NonBill","ZZ","Pending",null,"Special Projects",null,{"$f":"IF(O1299=\"Business Firm billable\",VLOOKUP(A1299,'Hourly rates'!$B$2:$E$40,4,FALSE),VLOOKUP(A1299,'Hourly rates'!$B$2:$E$40,2,FALSE))","v":12},15]
["Haverford, Tom","Business Firm:Admin SP","Staff",1099,null,3,"2015-03-04","2015-03-07","Wed",null,"NonBill","ZZ","2015-03-20",null,{"$f":"IF(B1300=$B$1310,\"Special Projects\",\"\")","v":"Special Projects"},null,{"$f":"IF(O1300=\"Business Firm billable\",VLOOKUP(A1300,'Hourly rates'!$B$2:$E$40,4,FALSE),VLOOKUP(A1300,'Hourly rates'!$B$2:$E$40,2,FALSE))","v":12},36]
["Wyatt, Ben","Business Firm:**Strat","Intern",1099,null,1.25,"2015-03-05","2015-03-07","Thu",null,"NonBill","ZZ","Pending","IPO Filings Project for Bill Buchannan","Strat Firm",null,{"$f":"IF(O1301=\"Business Firm billable\",VLOOKUP(A1301,'Hourly rates'!$B$2:$E$40,4,FALSE),VLOOKUP(A1301,'Hourly rates'!$B$2:$E$40,2,FALSE))","v":12},15]
["Wyatt, Ben","Business Firm:Administration","Intern",1099,null,1.25,"2015-03-05","2015-03-07","Thu",null,"NonBill","ZZ","Pending","Internal Finance","Finance",null,{"$f":"IF(O1302=\"Business Firm billable\",VLOOKUP(A1302,'Hourly rates'!$B$2:$E$40,4,FALSE),VLOOKUP(A1302,'Hourly rates'!$B$2:$E$40,2,FALSE))","v":12},15]
["Swanson, Ron","Business Firm:Admin SP","Intern",1099,null,2,"2015-03-05","2015-03-07","Thu",null,"NonBill","ZZ","Pending",null,"Special Projects",null,{"$f":"IF(O1303=\"Business Firm billable\",VLOOKUP(A1303,'Hourly rates'!$B$2:$E$40,4,FALSE),VLOOKUP(A1303,'Hourly rates'!$B$2:$E$40,2,FALSE))","v":12},24]
["Walker, Renee","Business Firm:Admin SP","Intern",1099,null,1,"2015-03-05","2015-03-07","Thu",null,"NonBill","ZZ","Pending",null,"Special Projects",null,{"$f":"IF(O1304=\"Business Firm billable\",VLOOKUP(A1304,'Hourly rates'!$B$2:$E$40,4,FALSE),VLOOKUP(A1304,'Hourly rates'!$B$2:$E$40,2,FALSE))","v":12},12]
["Dwyer, Andy","Business Firm:Administration","Intern",1099,null,1.25,"2015-03-05","2015-03-07","Thu",null,"NonBill","ZZ","Pending","Research Studies-Comment Letters","BIZ Research Projects",null,{"$f":"IF(O1305=\"Business Firm billable\",VLOOKUP(A1305,'Hourly rates'!$B$2:$E$40,4,FALSE),VLOOKUP(A1305,'Hourly rates'!$B$2:$E$40,2,FALSE))","v":12},15]
["Delgado, Manny","Business Firm:Administration","Intern",1099,null,1,"2015-03-06","2015-03-07","Fri",null,"NonBill","ZZ","Pending","Meetings, Rough Draft Review","Special Projects",null,{"$f":"IF(O1306=\"Business Firm billable\",VLOOKUP(A1306,'Hourly rates'!$B$2:$E$40,4,FALSE),VLOOKUP(A1306,'Hourly rates'!$B$2:$E$40,2,FALSE))","v":12},12]
["Delgado, Manny","Business Firm:Administration","Intern",1099,null,1.25,"2015-03-06","2015-03-07","Fri",null,"NonBill","ZZ","Pending","Transaction Price Allocation","Special Projects",null,{"$f":"IF(O1307=\"Business Firm billable\",VLOOKUP(A1307,'Hourly rates'!$B$2:$E$40,4,FALSE),VLOOKUP(A1307,'Hourly rates'!$B$2:$E$40,2,FALSE))","v":12},15]
["Wyatt, Ben","Business Firm:**Strat","Intern",1099,null,1.25,"2015-03-06","2015-03-07","Fri",null,"NonBill","ZZ","Pending","IPO Filings Project for Bill Buchannan","Strat Firm",null,{"$f":"IF(O1308=\"Business Firm billable\",VLOOKUP(A1308,'Hourly rates'!$B$2:$E$40,4,FALSE),VLOOKUP(A1308,'Hourly rates'!$B$2:$E$40,2,FALSE))","v":12},15]
["Wyatt, Ben","Business Firm:Admin SP","Intern",1099,null,1.25,"2015-03-06","2015-03-07","Fri",null,"NonBill","ZZ","Pending",null,"Special Projects",null,{"$f":"IF(O1309=\"Business Firm billable\",VLOOKUP(A1309,'Hourly rates'!$B$2:$E$40,4,FALSE),VLOOKUP(A1309,'Hourly rates'!$B$2:$E$40,2,FALSE))","v":12},15]
["Swanson, Ron","Business Firm:Admin SP","Intern",1099,null,3,"2015-03-06","2015-03-07","Fri",null,"NonBill","ZZ","Pending",null,"Special Projects",null,{"$f":"IF(O1310=\"Business Firm billable\",VLOOKUP(A1310,'Hourly rates'!$B$2:$E$40,4,FALSE),VLOOKUP(A1310,'Hourly rates'!$B$2:$E$40,2,FALSE))","v":12},36]
["Walker, Renee","Business Firm:Admin SP","Intern",1099,null,1,"2015-03-06","2015-03-07","Fri",null,"NonBill","ZZ","Pending",null,"Special Projects",null,{"$f":"IF(O1311=\"Business Firm billable\",VLOOKUP(A1311,'Hourly rates'!$B$2:$E$40,4,FALSE),VLOOKUP(A1311,'Hourly rates'!$B$2:$E$40,2,FALSE))","v":12},12]
["Dwyer, Andy","Business Firm:Admin SP","Intern",1099,null,1.25,"2015-03-06","2015-03-07","Fri",null,"NonBill","ZZ","Pending",null,"Special Projects",null,{"$f":"IF(O1312=\"Business Firm billable\",VLOOKUP(A1312,'Hourly rates'!$B$2:$E$40,4,FALSE),VLOOKUP(A1312,'Hourly rates'!$B$2:$E$40,2,FALSE))","v":12},15]
["Dwyer, Andy","Business Firm:Administration","Intern",1099,null,1.25,"2015-03-06","2015-03-07","Fri",null,"NonBill","ZZ","Pending","Research Studies-general","BIZ Research Projects",null,{"$f":"IF(O1313=\"Business Firm billable\",VLOOKUP(A1313,'Hourly rates'!$B$2:$E$40,4,FALSE),VLOOKUP(A1313,'Hourly rates'!$B$2:$E$40,2,FALSE))","v":12},15]
["Delgado, Manny","Business Firm:Administration","Intern",1099,null,1,"2015-03-07","2015-03-07","Sat",null,"NonBill","ZZ","Pending","Step Four Overview","Special Projects",null,{"$f":"IF(O1314=\"Business Firm billable\",VLOOKUP(A1314,'Hourly rates'!$B$2:$E$40,4,FALSE),VLOOKUP(A1314,'Hourly rates'!$B$2:$E$40,2,FALSE))","v":12},12]
["Delgado, Manny","Business Firm:Administration","Intern",1099,null,2,"2015-03-07","2015-03-07","Sat",null,"NonBill","ZZ","Pending","Discounts","Special Projects",null,{"$f":"IF(O1315=\"Business Firm billable\",VLOOKUP(A1315,'Hourly rates'!$B$2:$E$40,4,FALSE),VLOOKUP(A1315,'Hourly rates'!$B$2:$E$40,2,FALSE))","v":12},24]
["Wyatt, Ben","Business Firm:**Strat","Intern",1099,null,1.25,"2015-03-07","2015-03-07","Sat",null,"NonBill","ZZ","Pending","IPO Filings Project for Bill Buchannan","Strat Firm",null,{"$f":"IF(O1316=\"Business Firm billable\",VLOOKUP(A1316,'Hourly rates'!$B$2:$E$40,4,FALSE),VLOOKUP(A1316,'Hourly rates'!$B$2:$E$40,2,FALSE))","v":12},15]
["Wyatt, Ben","Business Firm:Admin SP","Intern",1099,null,1.25,"2015-03-07","2015-03-07","Sat",null,"NonBill","ZZ","Pending",null,"Special Projects",null,{"$f":"IF(O1317=\"Business Firm billable\",VLOOKUP(A1317,'Hourly rates'!$B$2:$E$40,4,FALSE),VLOOKUP(A1317,'Hourly rates'!$B$2:$E$40,2,FALSE))","v":12},15]
["Wyatt, Ben","Business Firm:Administration","Intern",1099,null,1.25,"2015-03-07","2015-03-07","Sat",null,"NonBill","ZZ","Pending","Internal Finance","Finance",null,{"$f":"IF(O1318=\"Business Firm billable\",VLOOKUP(A1318,'Hourly rates'!$B$2:$E$40,4,FALSE),VLOOKUP(A1318,'Hourly rates'!$B$2:$E$40,2,FALSE))","v":12},15]
["Walker, Renee","Business Firm:Admin SP","Intern",1099,null,2,"2015-03-07","2015-03-07","Sat",null,"NonBill","ZZ","Pending",null,"Special Projects",null,{"$f":"IF(O1319=\"Business Firm billable\",VLOOKUP(A1319,'Hourly rates'!$B$2:$E$40,4,FALSE),VLOOKUP(A1319,'Hourly rates'!$B$2:$E$40,2,FALSE))","v":12},24]
["Tucker, Cameron","Business Firm:Administration","Intern",1099,null,1.25,"2015-03-07","2015-03-07","Sat",null,"NonBill","ZZ","Pending",null,"BIZ Research Projects",null,{"$f":"IF(O1320=\"Business Firm billable\",VLOOKUP(A1320,'Hourly rates'!$B$2:$E$40,4,FALSE),VLOOKUP(A1320,'Hourly rates'!$B$2:$E$40,2,FALSE))","v":12},15]
["Dwyer, Andy","Business Firm:Admin SP","Intern",1099,null,3,"2015-03-07","2015-03-07","Sat",null,"NonBill","ZZ","Pending",null,"Special Projects",null,{"$f":"IF(O1321=\"Business Firm billable\",VLOOKUP(A1321,'Hourly rates'!$B$2:$E$40,4,FALSE),VLOOKUP(A1321,'Hourly rates'!$B$2:$E$40,2,FALSE))","v":12},36]
["Swanson, Ron","Business Firm:Admin SP","Intern",1099,null,5,"2015-03-09","2015-03-14","Mon",null,"NonBill","ZZ","2015-03-20",null,"Special Projects",null,{"$f":"IF(O1322=\"Business Firm billable\",VLOOKUP(A1322,'Hourly rates'!$B$2:$E$40,4,FALSE),VLOOKUP(A1322,'Hourly rates'!$B$2:$E$40,2,FALSE))","v":12},60]
["Meagle, Donna","Business Firm:Admin SP","Intern",1099,null,2,"2015-03-09","2015-03-14","Mon",null,"NonBill","ZZ","2015-03-20",null,"Special Projects",null,{"$f":"IF(O1323=\"Business Firm billable\",VLOOKUP(A1323,'Hourly rates'!$B$2:$E$40,4,FALSE),VLOOKUP(A1323,'Hourly rates'!$B$2:$E$40,2,FALSE))","v":12},24]
["Walker, Renee","Business Firm:Admin SP","Intern",1099,null,3,"2015-03-09","2015-03-14","Mon",null,"NonBill","ZZ","2015-03-20",null,"Special Projects",null,{"$f":"IF(O1324=\"Business Firm billable\",VLOOKUP(A1324,'Hourly rates'!$B$2:$E$40,4,FALSE),VLOOKUP(A1324,'Hourly rates'!$B$2:$E$40,2,FALSE))","v":12},36]
["Haverford, Tom","Business Firm:Admin SP","Staff",1099,null,3,"2015-03-09","2015-03-14","Mon",null,"NonBill","ZZ","2015-03-20",null,"Special Projects",null,{"$f":"IF(O1325=\"Business Firm billable\",VLOOKUP(A1325,'Hourly rates'!$B$2:$E$40,4,FALSE),VLOOKUP(A1325,'Hourly rates'!$B$2:$E$40,2,FALSE))","v":12},36]
["Dwyer, Andy","Business Firm:Admin SP","Intern",1099,null,1.25,"2015-03-09","2015-03-14","Mon",null,"NonBill","ZZ","2015-03-20",null,"Special Projects",null,{"$f":"IF(O1326=\"Business Firm billable\",VLOOKUP(A1326,'Hourly rates'!$B$2:$E$40,4,FALSE),VLOOKUP(A1326,'Hourly rates'!$B$2:$E$40,2,FALSE))","v":12},15]
["Delgado, Manny","Business Firm:Admin SP","Intern",1099,null,6,"2015-03-10","2015-03-14","Tue",null,"NonBill","ZZ","2015-03-20",null,"Special Projects",null,{"$f":"IF(O1327=\"Business Firm billable\",VLOOKUP(A1327,'Hourly rates'!$B$2:$E$40,4,FALSE),VLOOKUP(A1327,'Hourly rates'!$B$2:$E$40,2,FALSE))","v":12},72]
["Wyatt, Ben","Business Firm:Admin SP","Intern",1099,null,1.25,"2015-03-10","2015-03-14","Tue",null,"NonBill","ZZ","2015-03-20",null,"Special Projects",null,{"$f":"IF(O1328=\"Business Firm billable\",VLOOKUP(A1328,'Hourly rates'!$B$2:$E$40,4,FALSE),VLOOKUP(A1328,'Hourly rates'!$B$2:$E$40,2,FALSE))","v":12},15]
["Swanson, Ron","Business Firm:Admin SP","Intern",1099,null,2,"2015-03-10","2015-03-14","Tue",null,"NonBill","ZZ","2015-03-20",null,"Special Projects",null,{"$f":"IF(O1329=\"Business Firm billable\",VLOOKUP(A1329,'Hourly rates'!$B$2:$E$40,4,FALSE),VLOOKUP(A1329,'Hourly rates'!$B$2:$E$40,2,FALSE))","v":12},24]
["Meagle, Donna","Business Firm:Admin SP","Intern",1099,null,4,"2015-03-10","2015-03-14","Tue",null,"NonBill","ZZ","2015-03-20",null,"Special Projects",null,{"$f":"IF(O1330=\"Business Firm billable\",VLOOKUP(A1330,'Hourly rates'!$B$2:$E$40,4,FALSE),VLOOKUP(A1330,'Hourly rates'!$B$2:$E$40,2,FALSE))","v":12},48]
["Walker, Renee","Business Firm:Admin SP","Intern",1099,null,2,"2015-03-10","2015-03-14","Tue",null,"NonBill","ZZ","2015-03-20",null,"Special Projects",null,{"$f":"IF(O1331=\"Business Firm billable\",VLOOKUP(A1331,'Hourly rates'!$B$2:$E$40,4,FALSE),VLOOKUP(A1331,'Hourly rates'!$B$2:$E$40,2,FALSE))","v":12},24]
["Haverford, Tom","Business Firm:Admin SP","Staff",1099,null,3,"2015-03-10","2015-03-14","Tue",null,"NonBill","ZZ","2015-03-20",null,"Special Projects",null,{"$f":"IF(O1332=\"Business Firm billable\",VLOOKUP(A1332,'Hourly rates'!$B$2:$E$40,4,FALSE),VLOOKUP(A1332,'Hourly rates'!$B$2:$E$40,2,FALSE))","v":12},36]
["Dwyer, Andy","Business Firm:Admin SP","Intern",1099,null,1.75,"2015-03-10","2015-03-14","Tue",null,"NonBill","ZZ","2015-03-20",null,"Special Projects",null,{"$f":"IF(O1333=\"Business Firm billable\",VLOOKUP(A1333,'Hourly rates'!$B$2:$E$40,4,FALSE),VLOOKUP(A1333,'Hourly rates'!$B$2:$E$40,2,FALSE))","v":12},21]
["Delgado, Manny","Business Firm:Admin SP","Intern",1099,null,1.25,"2015-03-11","2015-03-14","Wed",null,"NonBill","ZZ","2015-03-20",null,"Special Projects",null,{"$f":"IF(O1334=\"Business Firm billable\",VLOOKUP(A1334,'Hourly rates'!$B$2:$E$40,4,FALSE),VLOOKUP(A1334,'Hourly rates'!$B$2:$E$40,2,FALSE))","v":12},15]
["Wyatt, Ben","Business Firm:Admin SP","Intern",1099,null,5.25,"2015-03-11","2015-03-14","Wed",null,"NonBill","ZZ","2015-03-20",null,"Special Projects",null,{"$f":"IF(O1335=\"Business Firm billable\",VLOOKUP(A1335,'Hourly rates'!$B$2:$E$40,4,FALSE),VLOOKUP(A1335,'Hourly rates'!$B$2:$E$40,2,FALSE))","v":12},63]
["Wyatt, Ben","Business Firm:Administration","Intern",1099,null,1.25,"2015-03-11","2015-03-14","Wed",null,"NonBill","ZZ","2015-03-20","Internal Finance","Finance",null,{"$f":"IF(O1336=\"Business Firm billable\",VLOOKUP(A1336,'Hourly rates'!$B$2:$E$40,4,FALSE),VLOOKUP(A1336,'Hourly rates'!$B$2:$E$40,2,FALSE))","v":12},15]
["Meagle, Donna","Business Firm:Admin SP","Intern",1099,null,4,"2015-03-11","2015-03-14","Wed",null,"NonBill","ZZ","2015-03-20",null,"Special Projects",null,{"$f":"IF(O1337=\"Business Firm billable\",VLOOKUP(A1337,'Hourly rates'!$B$2:$E$40,4,FALSE),VLOOKUP(A1337,'Hourly rates'!$B$2:$E$40,2,FALSE))","v":12},48]
["Walker, Renee","Business Firm:Admin SP","Intern",1099,null,1.25,"2015-03-11","2015-03-14","Wed",null,"NonBill","ZZ","2015-03-20",null,"Special Projects",null,{"$f":"IF(O1338=\"Business Firm billable\",VLOOKUP(A1338,'Hourly rates'!$B$2:$E$40,4,FALSE),VLOOKUP(A1338,'Hourly rates'!$B$2:$E$40,2,FALSE))","v":12},15]
["Haverford, Tom","Business Firm:Admin SP","Staff",1099,null,2,"2015-03-11","2015-03-14","Wed",null,"NonBill","ZZ","2015-03-20",null,"Special Projects",null,{"$f":"IF(O1339=\"Business Firm billable\",VLOOKUP(A1339,'Hourly rates'!$B$2:$E$40,4,FALSE),VLOOKUP(A1339,'Hourly rates'!$B$2:$E$40,2,FALSE))","v":12},24]
["Dwyer, Andy","Business Firm:Admin SP","Intern",1099,null,2.75,"2015-03-11","2015-03-14","Wed",null,"NonBill","ZZ","2015-03-20",null,"Special Projects",null,{"$f":"IF(O1340=\"Business Firm billable\",VLOOKUP(A1340,'Hourly rates'!$B$2:$E$40,4,FALSE),VLOOKUP(A1340,'Hourly rates'!$B$2:$E$40,2,FALSE))","v":12},33]
["Dwyer, Andy","Business Firm:Administration","Intern",1099,null,1.25,"2015-03-11","2015-03-14","Wed",null,"NonBill","ZZ","2015-03-20","Research Studies-material weakness","BIZ Research Projects",null,{"$f":"IF(O1341=\"Business Firm billable\",VLOOKUP(A1341,'Hourly rates'!$B$2:$E$40,4,FALSE),VLOOKUP(A1341,'Hourly rates'!$B$2:$E$40,2,FALSE))","v":12},15]
["Delgado, Manny","Business Firm:Admin SP","Intern",1099,null,1.75,"2015-03-12","2015-03-14","Thu",null,"NonBill","ZZ","2015-03-20",null,"Special Projects",null,{"$f":"IF(O1342=\"Business Firm billable\",VLOOKUP(A1342,'Hourly rates'!$B$2:$E$40,4,FALSE),VLOOKUP(A1342,'Hourly rates'!$B$2:$E$40,2,FALSE))","v":12},21]
["Wyatt, Ben","Business Firm:Admin SP","Intern",1099,null,1.25,"2015-03-12","2015-03-14","Thu",null,"NonBill","ZZ","2015-03-20",null,"Special Projects",null,{"$f":"IF(O1343=\"Business Firm billable\",VLOOKUP(A1343,'Hourly rates'!$B$2:$E$40,4,FALSE),VLOOKUP(A1343,'Hourly rates'!$B$2:$E$40,2,FALSE))","v":12},15]
["Swanson, Ron","Business Firm:Admin SP","Intern",1099,null,1.25,"2015-03-12","2015-03-14","Thu",null,"NonBill","ZZ","2015-03-20",null,"Special Projects",null,{"$f":"IF(O1344=\"Business Firm billable\",VLOOKUP(A1344,'Hourly rates'!$B$2:$E$40,4,FALSE),VLOOKUP(A1344,'Hourly rates'!$B$2:$E$40,2,FALSE))","v":12},15]
["Walker, Renee","Business Firm:Admin SP","Intern",1099,null,2,"2015-03-12","2015-03-14","Thu",null,"NonBill","ZZ","2015-03-20",null,"Special Projects",null,{"$f":"IF(O1345=\"Business Firm billable\",VLOOKUP(A1345,'Hourly rates'!$B$2:$E$40,4,FALSE),VLOOKUP(A1345,'Hourly rates'!$B$2:$E$40,2,FALSE))","v":12},24]
["Haverford, Tom","Business Firm:Admin SP","Staff",1099,null,2,"2015-03-12","2015-03-14","Thu",null,"NonBill","ZZ","2015-03-20",null,"Special Projects",null,{"$f":"IF(O1346=\"Business Firm billable\",VLOOKUP(A1346,'Hourly rates'!$B$2:$E$40,4,FALSE),VLOOKUP(A1346,'Hourly rates'!$B$2:$E$40,2,FALSE))","v":12},{"$f":"Q1346*F1346","v":24}]
["Dwyer, Andy","Business Firm:Admin SP","Intern",1099,null,1.75,"2015-03-12","2015-03-14","Thu",null,"NonBill","ZZ","2015-03-20",null,"Special Projects",null,{"$f":"IF(O1347=\"Business Firm billable\",VLOOKUP(A1347,'Hourly rates'!$B$2:$E$40,4,FALSE),VLOOKUP(A1347,'Hourly rates'!$B$2:$E$40,2,FALSE))","v":12},21]
["Dwyer, Andy","Business Firm:Administration","Intern",1099,null,1,"2015-03-12","2015-03-14","Thu",null,"NonBill","ZZ","2015-03-20","Research Studies-Comment Letters","BIZ Research Projects",null,{"$f":"IF(O1348=\"Business Firm billable\",VLOOKUP(A1348,'Hourly rates'!$B$2:$E$40,4,FALSE),VLOOKUP(A1348,'Hourly rates'!$B$2:$E$40,2,FALSE))","v":12},12]
["Delgado, Manny","Business Firm:Admin SP","Intern",1099,null,1.75,"2015-03-13","2015-03-14","Fri",null,"NonBill","ZZ","2015-03-20",null,"Special Projects",null,{"$f":"IF(O1349=\"Business Firm billable\",VLOOKUP(A1349,'Hourly rates'!$B$2:$E$40,4,FALSE),VLOOKUP(A1349,'Hourly rates'!$B$2:$E$40,2,FALSE))","v":12},21]
["Wyatt, Ben","Business Firm:Admin SP","Intern",1099,null,1.25,"2015-03-13","2015-03-14","Fri",null,"NonBill","ZZ","2015-03-20",null,"Special Projects",null,{"$f":"IF(O1350=\"Business Firm billable\",VLOOKUP(A1350,'Hourly rates'!$B$2:$E$40,4,FALSE),VLOOKUP(A1350,'Hourly rates'!$B$2:$E$40,2,FALSE))","v":12},15]
["Swanson, Ron","Business Firm:Admin SP","Intern",1099,null,1.25,"2015-03-13","2015-03-14","Fri",null,"NonBill","ZZ","2015-03-20",null,"Special Projects",null,{"$f":"IF(O1351=\"Business Firm billable\",VLOOKUP(A1351,'Hourly rates'!$B$2:$E$40,4,FALSE),VLOOKUP(A1351,'Hourly rates'!$B$2:$E$40,2,FALSE))","v":12},15]
["Walker, Renee","Business Firm:Admin SP","Intern",1099,null,1,"2015-03-13","2015-03-14","Fri",null,"NonBill","ZZ","2015-03-20",null,"Special Projects",null,{"$f":"IF(O1352=\"Business Firm billable\",VLOOKUP(A1352,'Hourly rates'!$B$2:$E$40,4,FALSE),VLOOKUP(A1352,'Hourly rates'!$B$2:$E$40,2,FALSE))","v":12},12]
["Dwyer, Andy","Business Firm:Admin SP","Intern",1099,null,2,"2015-03-13","2015-03-14","Fri",null,"NonBill","ZZ","2015-03-20",null,"Special Projects",null,{"$f":"IF(O1353=\"Business Firm billable\",VLOOKUP(A1353,'Hourly rates'!$B$2:$E$40,4,FALSE),VLOOKUP(A1353,'Hourly rates'!$B$2:$E$40,2,FALSE))","v":12},24]
["Dwyer, Andy","Business Firm:Administration","Intern",1099,null,1.25,"2015-03-13","2015-03-14","Fri",null,"NonBill","ZZ","2015-03-20","Research Studies-cfo comp","BIZ Research Projects",null,{"$f":"IF(O1354=\"Business Firm billable\",VLOOKUP(A1354,'Hourly rates'!$B$2:$E$40,4,FALSE),VLOOKUP(A1354,'Hourly rates'!$B$2:$E$40,2,FALSE))","v":12},15]
["Wyatt, Ben","Business Firm:Admin SP","Intern",1099,null,1.25,"2015-03-14","2015-03-14","Sat",null,"NonBill","ZZ","2015-03-20",null,"Special Projects",null,{"$f":"IF(O1355=\"Business Firm billable\",VLOOKUP(A1355,'Hourly rates'!$B$2:$E$40,4,FALSE),VLOOKUP(A1355,'Hourly rates'!$B$2:$E$40,2,FALSE))","v":12},15]
["Wyatt, Ben","Business Firm:Administration","Intern",1099,null,1.75,"2015-03-14","2015-03-14","Sat",null,"NonBill","ZZ","2015-03-20","Internal Finance","Finance",null,{"$f":"IF(O1356=\"Business Firm billable\",VLOOKUP(A1356,'Hourly rates'!$B$2:$E$40,4,FALSE),VLOOKUP(A1356,'Hourly rates'!$B$2:$E$40,2,FALSE))","v":12},21]
["Meagle, Donna","Business Firm:Administration","Intern",1099,null,2,"2015-03-14","2015-03-14","Sat",null,"NonBill","ZZ","2015-03-20"," BIZ Employee Handbook","Strat Firm",null,{"$f":"IF(O1357=\"Business Firm billable\",VLOOKUP(A1357,'Hourly rates'!$B$2:$E$40,4,FALSE),VLOOKUP(A1357,'Hourly rates'!$B$2:$E$40,2,FALSE))","v":12},24]
["Tucker, Cameron","Business Firm:Administration","Intern",1099,null,2,"2015-03-14","2015-03-14","Sat",null,"NonBill","ZZ","2015-03-20","IPO Metrics & CFO Comp Studies","BIZ Research Projects",null,{"$f":"IF(O1358=\"Business Firm billable\",VLOOKUP(A1358,'Hourly rates'!$B$2:$E$40,4,FALSE),VLOOKUP(A1358,'Hourly rates'!$B$2:$E$40,2,FALSE))","v":12},24]
["Dwyer, Andy","Business Firm:Administration","Intern",1099,null,2.25,"2015-03-14","2015-03-14","Sat",null,"NonBill","ZZ","2015-03-20","Research Studies-Comment Letters","BIZ Research Projects",null,{"$f":"IF(O1359=\"Business Firm billable\",VLOOKUP(A1359,'Hourly rates'!$B$2:$E$40,4,FALSE),VLOOKUP(A1359,'Hourly rates'!$B$2:$E$40,2,FALSE))","v":12},27]
["Walker, Renee","Business Firm:Admin SP","Intern",1099,null,1.25,"2015-03-15",{"$f":"G1360+7-WEEKDAY(G1360)","v":"2015-03-21"},"Sun",null,"NonBill","ZZ","Pending",null,"Special Projects",null,{"$f":"IF(O1360=\"Business Firm billable\",VLOOKUP(A1360,'Hourly rates'!$B$2:$E$40,4,FALSE),VLOOKUP(A1360,'Hourly rates'!$B$2:$E$40,2,FALSE))","v":12},15]
["Delgado, Manny","Business Firm:Admin SP","Intern",1099,null,1.25,"2015-03-16","2015-03-21","Mon",null,"NonBill","ZZ","Pending",null,"Special Projects",null,{"$f":"IF(O1361=\"Business Firm billable\",VLOOKUP(A1361,'Hourly rates'!$B$2:$E$40,4,FALSE),VLOOKUP(A1361,'Hourly rates'!$B$2:$E$40,2,FALSE))","v":12},15]
["Wyatt, Ben","Business Firm:Admin SP","Intern",1099,null,1.75,"2015-03-16","2015-03-21","Mon",null,"NonBill","ZZ","Pending",null,"Special Projects",null,{"$f":"IF(O1362=\"Business Firm billable\",VLOOKUP(A1362,'Hourly rates'!$B$2:$E$40,4,FALSE),VLOOKUP(A1362,'Hourly rates'!$B$2:$E$40,2,FALSE))","v":12},21]
["Walker, Renee","Business Firm:Admin SP","Intern",1099,null,2,"2015-03-16","2015-03-21","Mon",null,"NonBill","ZZ","Pending",null,"Special Projects",null,{"$f":"IF(O1363=\"Business Firm billable\",VLOOKUP(A1363,'Hourly rates'!$B$2:$E$40,4,FALSE),VLOOKUP(A1363,'Hourly rates'!$B$2:$E$40,2,FALSE))","v":12},24]
["Haverford, Tom","Business Firm:Admin SP","Staff",1099,null,4,"2015-03-16","2015-03-21","Mon",null,"NonBill","ZZ","Pending",null,"Special Projects",null,{"$f":"IF(O1364=\"Business Firm billable\",VLOOKUP(A1364,'Hourly rates'!$B$2:$E$40,4,FALSE),VLOOKUP(A1364,'Hourly rates'!$B$2:$E$40,2,FALSE))","v":12},48]
["Delgado, Manny","Business Firm:Admin SP","Intern",1099,null,1.25,"2015-03-17","2015-03-21","Tue",null,"NonBill","ZZ","Pending",null,"Special Projects",null,{"$f":"IF(O1365=\"Business Firm billable\",VLOOKUP(A1365,'Hourly rates'!$B$2:$E$40,4,FALSE),VLOOKUP(A1365,'Hourly rates'!$B$2:$E$40,2,FALSE))","v":12},15]
["Wyatt, Ben","Business Firm:Admin SP","Intern",1099,null,1.75,"2015-03-17","2015-03-21","Tue",null,"NonBill","ZZ","Pending",null,"Special Projects",null,{"$f":"IF(O1366=\"Business Firm billable\",VLOOKUP(A1366,'Hourly rates'!$B$2:$E$40,4,FALSE),VLOOKUP(A1366,'Hourly rates'!$B$2:$E$40,2,FALSE))","v":12},21]
["Meagle, Donna","Business Firm:Admin SP","Intern",1099,null,4,"2015-03-17","2015-03-21","Tue",null,"NonBill","ZZ","Pending",null,"Special Projects",null,{"$f":"IF(O1367=\"Business Firm billable\",VLOOKUP(A1367,'Hourly rates'!$B$2:$E$40,4,FALSE),VLOOKUP(A1367,'Hourly rates'!$B$2:$E$40,2,FALSE))","v":12},48]
["Walker, Renee","Business Firm:Admin SP","Intern",1099,null,2,"2015-03-17","2015-03-21","Tue",null,"NonBill","ZZ","Pending",null,"Special Projects",null,{"$f":"IF(O1368=\"Business Firm billable\",VLOOKUP(A1368,'Hourly rates'!$B$2:$E$40,4,FALSE),VLOOKUP(A1368,'Hourly rates'!$B$2:$E$40,2,FALSE))","v":12},24]
["Haverford, Tom","Business Firm:Admin SP","Staff",1099,null,2,"2015-03-17","2015-03-21","Tue",null,"NonBill","ZZ","Pending",null,"Special Projects",null,{"$f":"IF(O1369=\"Business Firm billable\",VLOOKUP(A1369,'Hourly rates'!$B$2:$E$40,4,FALSE),VLOOKUP(A1369,'Hourly rates'!$B$2:$E$40,2,FALSE))","v":12},24]
["Dwyer, Andy","Business Firm:Admin SP","Intern",1099,null,3,"2015-03-17","2015-03-21","Tue",null,"NonBill","ZZ","Pending",null,"Special Projects",null,{"$f":"IF(O1370=\"Business Firm billable\",VLOOKUP(A1370,'Hourly rates'!$B$2:$E$40,4,FALSE),VLOOKUP(A1370,'Hourly rates'!$B$2:$E$40,2,FALSE))","v":12},36]
["Delgado, Manny","Business Firm:Admin SP","Intern",1099,null,5,"2015-03-18","2015-03-21","Wed",null,"NonBill","ZZ","Pending",null,"Special Projects",null,{"$f":"IF(O1371=\"Business Firm billable\",VLOOKUP(A1371,'Hourly rates'!$B$2:$E$40,4,FALSE),VLOOKUP(A1371,'Hourly rates'!$B$2:$E$40,2,FALSE))","v":12},60]
["Wyatt, Ben","Business Firm:Admin SP","Intern",1099,null,1.25,"2015-03-18","2015-03-21","Wed",null,"NonBill","ZZ","Pending",null,"Special Projects",null,{"$f":"IF(O1372=\"Business Firm billable\",VLOOKUP(A1372,'Hourly rates'!$B$2:$E$40,4,FALSE),VLOOKUP(A1372,'Hourly rates'!$B$2:$E$40,2,FALSE))","v":12},15]
["Meagle, Donna","Business Firm:Admin SP","Intern",1099,null,5,"2015-03-18","2015-03-21","Wed",null,"NonBill","ZZ","Pending",null,"Special Projects",null,{"$f":"IF(O1373=\"Business Firm billable\",VLOOKUP(A1373,'Hourly rates'!$B$2:$E$40,4,FALSE),VLOOKUP(A1373,'Hourly rates'!$B$2:$E$40,2,FALSE))","v":12},60]
["Walker, Renee","Business Firm:Admin SP","Intern",1099,null,2,"2015-03-18","2015-03-21","Wed",null,"NonBill","ZZ","Pending",null,"Special Projects",null,{"$f":"IF(O1374=\"Business Firm billable\",VLOOKUP(A1374,'Hourly rates'!$B$2:$E$40,4,FALSE),VLOOKUP(A1374,'Hourly rates'!$B$2:$E$40,2,FALSE))","v":12},24]
["Haverford, Tom","Business Firm:Admin SP","Staff",1099,null,4,"2015-03-18","2015-03-21","Wed",null,"NonBill","ZZ","Pending",null,"Special Projects",null,{"$f":"IF(O1375=\"Business Firm billable\",VLOOKUP(A1375,'Hourly rates'!$B$2:$E$40,4,FALSE),VLOOKUP(A1375,'Hourly rates'!$B$2:$E$40,2,FALSE))","v":12},48]
["Dwyer, Andy","Business Firm:Admin SP","Intern",1099,null,1.75,"2015-03-18","2015-03-21","Wed",null,"NonBill","ZZ","Pending",null,"Special Projects",null,{"$f":"IF(O1376=\"Business Firm billable\",VLOOKUP(A1376,'Hourly rates'!$B$2:$E$40,4,FALSE),VLOOKUP(A1376,'Hourly rates'!$B$2:$E$40,2,FALSE))","v":12},21]
["Swanson, Ron","Business Firm:Admin SP","Intern",1099,null,6,"2015-03-18","2015-03-21","Wed",null,"NonBill","ZZ","2015-04-01",null,"Special Projects",null,{"$f":"IF(O1377=\"Business Firm billable\",VLOOKUP(A1377,'Hourly rates'!$B$2:$E$40,4,FALSE),VLOOKUP(A1377,'Hourly rates'!$B$2:$E$40,2,FALSE))","v":12},72]
["Wyatt, Ben","Business Firm:Admin SP","Intern",1099,null,1.25,"2015-03-19","2015-03-21","Thu",null,"NonBill","ZZ","Pending",null,"Special Projects",null,{"$f":"IF(O1378=\"Business Firm billable\",VLOOKUP(A1378,'Hourly rates'!$B$2:$E$40,4,FALSE),VLOOKUP(A1378,'Hourly rates'!$B$2:$E$40,2,FALSE))","v":12},15]
["Walker, Renee","Business Firm:Admin SP","Intern",1099,null,1,"2015-03-19","2015-03-21","Thu",null,"NonBill","ZZ","Pending",null,"Special Projects",null,{"$f":"IF(O1379=\"Business Firm billable\",VLOOKUP(A1379,'Hourly rates'!$B$2:$E$40,4,FALSE),VLOOKUP(A1379,'Hourly rates'!$B$2:$E$40,2,FALSE))","v":12},12]
["Tucker, Cameron","Business Firm:Administration","Intern",1099,null,1.75,"2015-03-19","2015-03-21","Thu",null,"NonBill","ZZ","Pending","IPO Metrics & CFO Comp Studies","BIZ Research Projects",null,{"$f":"IF(O1380=\"Business Firm billable\",VLOOKUP(A1380,'Hourly rates'!$B$2:$E$40,4,FALSE),VLOOKUP(A1380,'Hourly rates'!$B$2:$E$40,2,FALSE))","v":12},21]
["Dwyer, Andy","Business Firm:Admin SP","Intern",1099,null,1.75,"2015-03-19","2015-03-21","Thu",null,"NonBill","ZZ","Pending",null,"Special Projects",null,{"$f":"IF(O1381=\"Business Firm billable\",VLOOKUP(A1381,'Hourly rates'!$B$2:$E$40,4,FALSE),VLOOKUP(A1381,'Hourly rates'!$B$2:$E$40,2,FALSE))","v":12},21]
["Dwyer, Andy","Business Firm:Admin SP","Intern",1099,null,1.25,"2015-03-20","2015-03-21","Fri",null,"NonBill","ZZ","Pending",null,"Special Projects",null,{"$f":"IF(O1382=\"Business Firm billable\",VLOOKUP(A1382,'Hourly rates'!$B$2:$E$40,4,FALSE),VLOOKUP(A1382,'Hourly rates'!$B$2:$E$40,2,FALSE))","v":12},15]
["Dwyer, Andy","Business Firm:Administration","Intern",1099,null,1.75,"2015-03-20","2015-03-21","Fri",null,"NonBill","ZZ","Pending","Research Studies-Comment Letters","BIZ Research Projects",null,{"$f":"IF(O1383=\"Business Firm billable\",VLOOKUP(A1383,'Hourly rates'!$B$2:$E$40,4,FALSE),VLOOKUP(A1383,'Hourly rates'!$B$2:$E$40,2,FALSE))","v":12},21]
["Swanson, Ron","Business Firm:Admin SP","Intern",1099,null,3,"2015-03-20","2015-03-21","Fri",null,"NonBill","ZZ","2015-04-01",null,"Special Projects",null,{"$f":"IF(O1384=\"Business Firm billable\",VLOOKUP(A1384,'Hourly rates'!$B$2:$E$40,4,FALSE),VLOOKUP(A1384,'Hourly rates'!$B$2:$E$40,2,FALSE))","v":12},36]
["Tucker, Cameron","Business Firm:Administration","Intern",1099,null,1.25,"2015-03-21","2015-03-21","Sat",null,"NonBill","ZZ","Pending","IPO Metrics & CFO Comp Studies","BIZ Research Projects",null,{"$f":"IF(O1385=\"Business Firm billable\",VLOOKUP(A1385,'Hourly rates'!$B$2:$E$40,4,FALSE),VLOOKUP(A1385,'Hourly rates'!$B$2:$E$40,2,FALSE))","v":12},15]
["Dwyer, Andy","Business Firm:Administration","Intern",1099,null,2.25,"2015-03-21","2015-03-21","Sat",null,"NonBill","ZZ","Pending","Research Studies-Comment Letters","BIZ Research Projects",null,{"$f":"IF(O1386=\"Business Firm billable\",VLOOKUP(A1386,'Hourly rates'!$B$2:$E$40,4,FALSE),VLOOKUP(A1386,'Hourly rates'!$B$2:$E$40,2,FALSE))","v":12},27]
["Wyatt, Ben","Business Firm:Administration","Intern",1099,null,1.25,"2015-03-22","2015-03-28","Sun",null,"NonBill","ZZ","2015-04-01","Internal Finance","Finance",null,{"$f":"IF(O1387=\"Business Firm billable\",VLOOKUP(A1387,'Hourly rates'!$B$2:$E$40,4,FALSE),VLOOKUP(A1387,'Hourly rates'!$B$2:$E$40,2,FALSE))","v":12},15]
["Delgado, Manny","Business Firm:Admin SP","Intern",1099,null,2,"2015-03-23","2015-03-28","Mon",null,"NonBill","ZZ","2015-04-01",null,"Special Projects",null,{"$f":"IF(O1388=\"Business Firm billable\",VLOOKUP(A1388,'Hourly rates'!$B$2:$E$40,4,FALSE),VLOOKUP(A1388,'Hourly rates'!$B$2:$E$40,2,FALSE))","v":12},24]
["Wyatt, Ben","Business Firm:Admin SP","Intern",1099,null,1.25,"2015-03-23","2015-03-28","Mon",null,"NonBill","ZZ","2015-04-01",null,"Special Projects",null,{"$f":"IF(O1389=\"Business Firm billable\",VLOOKUP(A1389,'Hourly rates'!$B$2:$E$40,4,FALSE),VLOOKUP(A1389,'Hourly rates'!$B$2:$E$40,2,FALSE))","v":12},15]
["Wyatt, Ben","Business Firm:Administration","Intern",1099,null,1.25,"2015-03-23","2015-03-28","Mon",null,"NonBill","ZZ","2015-04-01","Internal Finance","Finance",null,{"$f":"IF(O1390=\"Business Firm billable\",VLOOKUP(A1390,'Hourly rates'!$B$2:$E$40,4,FALSE),VLOOKUP(A1390,'Hourly rates'!$B$2:$E$40,2,FALSE))","v":12},15]
["Swanson, Ron","Business Firm:Admin SP","Intern",1099,null,2,"2015-03-23","2015-03-28","Mon",null,"NonBill","ZZ","2015-04-01",null,"Special Projects",null,{"$f":"IF(O1391=\"Business Firm billable\",VLOOKUP(A1391,'Hourly rates'!$B$2:$E$40,4,FALSE),VLOOKUP(A1391,'Hourly rates'!$B$2:$E$40,2,FALSE))","v":12},24]
["Walker, Renee","Business Firm:Admin SP","Intern",1099,null,3,"2015-03-23","2015-03-28","Mon",null,"NonBill","ZZ","2015-04-01",null,"Special Projects",null,{"$f":"IF(O1392=\"Business Firm billable\",VLOOKUP(A1392,'Hourly rates'!$B$2:$E$40,4,FALSE),VLOOKUP(A1392,'Hourly rates'!$B$2:$E$40,2,FALSE))","v":12},36]
["Haverford, Tom","Business Firm:Admin SP","Staff",1099,null,3,"2015-03-23","2015-03-28","Mon",null,"NonBill","ZZ","2015-04-01",null,"Special Projects",null,{"$f":"IF(O1393=\"Business Firm billable\",VLOOKUP(A1393,'Hourly rates'!$B$2:$E$40,4,FALSE),VLOOKUP(A1393,'Hourly rates'!$B$2:$E$40,2,FALSE))","v":12},36]
["Dwyer, Andy","Business Firm:Administration","Intern",1099,null,1.75,"2015-03-23","2015-03-28","Mon",null,"NonBill","ZZ","2015-04-01","Research Studies-Comment Letters","BIZ Research Projects",null,{"$f":"IF(O1394=\"Business Firm billable\",VLOOKUP(A1394,'Hourly rates'!$B$2:$E$40,4,FALSE),VLOOKUP(A1394,'Hourly rates'!$B$2:$E$40,2,FALSE))","v":12},21]
["Delgado, Manny","Business Firm:Admin SP","Intern",1099,null,1,"2015-03-24","2015-03-28","Tue",null,"NonBill","ZZ","2015-04-01",null,"Special Projects",null,{"$f":"IF(O1395=\"Business Firm billable\",VLOOKUP(A1395,'Hourly rates'!$B$2:$E$40,4,FALSE),VLOOKUP(A1395,'Hourly rates'!$B$2:$E$40,2,FALSE))","v":12},12]
["Wyatt, Ben","Business Firm:Administration","Intern",1099,null,1.25,"2015-03-24","2015-03-28","Tue",null,"NonBill","ZZ","2015-04-01","Internal Finance","Finance",null,{"$f":"IF(O1396=\"Business Firm billable\",VLOOKUP(A1396,'Hourly rates'!$B$2:$E$40,4,FALSE),VLOOKUP(A1396,'Hourly rates'!$B$2:$E$40,2,FALSE))","v":12},15]
["Swanson, Ron","Business Firm:Admin SP","Intern",1099,null,6,"2015-03-24","2015-03-28","Tue",null,"NonBill","ZZ","2015-04-01",null,"Special Projects",null,{"$f":"IF(O1397=\"Business Firm billable\",VLOOKUP(A1397,'Hourly rates'!$B$2:$E$40,4,FALSE),VLOOKUP(A1397,'Hourly rates'!$B$2:$E$40,2,FALSE))","v":12},72]
["Walker, Renee","Business Firm:Admin SP","Intern",1099,null,2,"2015-03-24","2015-03-28","Tue",null,"NonBill","ZZ","2015-04-01",null,"Special Projects",null,{"$f":"IF(O1398=\"Business Firm billable\",VLOOKUP(A1398,'Hourly rates'!$B$2:$E$40,4,FALSE),VLOOKUP(A1398,'Hourly rates'!$B$2:$E$40,2,FALSE))","v":12},24]
["Haverford, Tom","Business Firm:Admin SP","Staff",1099,null,3,"2015-03-24","2015-03-28","Tue",null,"NonBill","ZZ","2015-04-01",null,"Special Projects",null,{"$f":"IF(O1399=\"Business Firm billable\",VLOOKUP(A1399,'Hourly rates'!$B$2:$E$40,4,FALSE),VLOOKUP(A1399,'Hourly rates'!$B$2:$E$40,2,FALSE))","v":12},36]
["Dwyer, Andy","Business Firm:Admin SP","Intern",1099,null,1.25,"2015-03-24","2015-03-28","Tue",null,"NonBill","ZZ","2015-04-01",null,"Special Projects",null,{"$f":"IF(O1400=\"Business Firm billable\",VLOOKUP(A1400,'Hourly rates'!$B$2:$E$40,4,FALSE),VLOOKUP(A1400,'Hourly rates'!$B$2:$E$40,2,FALSE))","v":12},15]
["Delgado, Manny","Business Firm:Admin SP","Intern",1099,null,5,"2015-03-25","2015-03-28","Wed",null,"NonBill","ZZ","2015-04-01",null,"Special Projects",null,{"$f":"IF(O1401=\"Business Firm billable\",VLOOKUP(A1401,'Hourly rates'!$B$2:$E$40,4,FALSE),VLOOKUP(A1401,'Hourly rates'!$B$2:$E$40,2,FALSE))","v":12},60]
["Wyatt, Ben","Business Firm:Admin SP","Intern",1099,null,1.25,"2015-03-25","2015-03-28","Wed",null,"NonBill","ZZ","2015-04-01",null,"Special Projects",null,{"$f":"IF(O1402=\"Business Firm billable\",VLOOKUP(A1402,'Hourly rates'!$B$2:$E$40,4,FALSE),VLOOKUP(A1402,'Hourly rates'!$B$2:$E$40,2,FALSE))","v":12},15]
["Wyatt, Ben","Business Firm:Administration","Intern",1099,null,1.25,"2015-03-25","2015-03-28","Wed",null,"NonBill","ZZ","2015-04-01","Internal Finance","Finance",null,{"$f":"IF(O1403=\"Business Firm billable\",VLOOKUP(A1403,'Hourly rates'!$B$2:$E$40,4,FALSE),VLOOKUP(A1403,'Hourly rates'!$B$2:$E$40,2,FALSE))","v":12},15]
["Meagle, Donna","Business Firm:Admin SP","Intern",1099,null,3,"2015-03-25","2015-03-28","Wed",null,"NonBill","ZZ","2015-04-01",null,"Special Projects",null,{"$f":"IF(O1404=\"Business Firm billable\",VLOOKUP(A1404,'Hourly rates'!$B$2:$E$40,4,FALSE),VLOOKUP(A1404,'Hourly rates'!$B$2:$E$40,2,FALSE))","v":12},36]
["Walker, Renee","Business Firm:Admin SP","Intern",1099,null,2,"2015-03-25","2015-03-28","Wed",null,"NonBill","ZZ","2015-04-01",null,"Special Projects",null,{"$f":"IF(O1405=\"Business Firm billable\",VLOOKUP(A1405,'Hourly rates'!$B$2:$E$40,4,FALSE),VLOOKUP(A1405,'Hourly rates'!$B$2:$E$40,2,FALSE))","v":12},24]
["Haverford, Tom","Business Firm:Admin SP","Staff",1099,null,2,"2015-03-25","2015-03-28","Wed",null,"NonBill","ZZ","2015-04-01",null,"Special Projects",null,{"$f":"IF(O1406=\"Business Firm billable\",VLOOKUP(A1406,'Hourly rates'!$B$2:$E$40,4,FALSE),VLOOKUP(A1406,'Hourly rates'!$B$2:$E$40,2,FALSE))","v":12},24]
["Tucker, Cameron","Business Firm:Administration","Intern",1099,null,2,"2015-03-25","2015-03-28","Wed",null,"NonBill","ZZ","2015-04-01","IPO Metrics & CFO Comp Studies","BIZ Research Projects",null,{"$f":"IF(O1407=\"Business Firm billable\",VLOOKUP(A1407,'Hourly rates'!$B$2:$E$40,4,FALSE),VLOOKUP(A1407,'Hourly rates'!$B$2:$E$40,2,FALSE))","v":12},24]
["Dwyer, Andy","Business Firm:Admin SP","Intern",1099,null,1.25,"2015-03-25","2015-03-28","Wed",null,"NonBill","ZZ","2015-04-01",null,"Special Projects",null,{"$f":"IF(O1408=\"Business Firm billable\",VLOOKUP(A1408,'Hourly rates'!$B$2:$E$40,4,FALSE),VLOOKUP(A1408,'Hourly rates'!$B$2:$E$40,2,FALSE))","v":12},15]
["Wyatt, Ben","Business Firm:Administration","Intern",1099,null,1.25,"2015-03-26","2015-03-28","Thu",null,"NonBill","ZZ","2015-04-01","Internal Finance","Finance",null,{"$f":"IF(O1409=\"Business Firm billable\",VLOOKUP(A1409,'Hourly rates'!$B$2:$E$40,4,FALSE),VLOOKUP(A1409,'Hourly rates'!$B$2:$E$40,2,FALSE))","v":12},15]
["Swanson, Ron","Business Firm:Admin SP","Intern",1099,null,2,"2015-03-26","2015-03-28","Thu",null,"NonBill","ZZ","2015-04-01",null,"Special Projects",null,{"$f":"IF(O1410=\"Business Firm billable\",VLOOKUP(A1410,'Hourly rates'!$B$2:$E$40,4,FALSE),VLOOKUP(A1410,'Hourly rates'!$B$2:$E$40,2,FALSE))","v":12},{"$f":"Q1410*F1410","v":24}]
["Meagle, Donna","Business Firm:Admin SP","Intern",1099,null,3,"2015-03-26","2015-03-28","Thu",null,"NonBill","ZZ","2015-04-01",null,"Special Projects",null,{"$f":"IF(O1411=\"Business Firm billable\",VLOOKUP(A1411,'Hourly rates'!$B$2:$E$40,4,FALSE),VLOOKUP(A1411,'Hourly rates'!$B$2:$E$40,2,FALSE))","v":12},36]
["Walker, Renee","Business Firm:Admin SP","Intern",1099,null,2,"2015-03-26","2015-03-28","Thu",null,"NonBill","ZZ","2015-04-01",null,"Special Projects",null,{"$f":"IF(O1412=\"Business Firm billable\",VLOOKUP(A1412,'Hourly rates'!$B$2:$E$40,4,FALSE),VLOOKUP(A1412,'Hourly rates'!$B$2:$E$40,2,FALSE))","v":12},24]
["Dwyer, Andy","Business Firm:Admin SP","Intern",1099,null,1,"2015-03-26","2015-03-28","Thu",null,"NonBill","ZZ","2015-04-01",null,"Special Projects",null,{"$f":"IF(O1413=\"Business Firm billable\",VLOOKUP(A1413,'Hourly rates'!$B$2:$E$40,4,FALSE),VLOOKUP(A1413,'Hourly rates'!$B$2:$E$40,2,FALSE))","v":12},12]
["Wyatt, Ben","Business Firm:Admin SP","Intern",1099,null,1,"2015-03-27","2015-03-28","Fri",null,"NonBill","ZZ","2015-04-01",null,"Special Projects",null,{"$f":"IF(O1414=\"Business Firm billable\",VLOOKUP(A1414,'Hourly rates'!$B$2:$E$40,4,FALSE),VLOOKUP(A1414,'Hourly rates'!$B$2:$E$40,2,FALSE))","v":12},12]
["Walker, Renee","Business Firm:Admin SP","Intern",1099,null,2,"2015-03-27","2015-03-28","Fri",null,"NonBill","ZZ","2015-04-01",null,"Special Projects",null,{"$f":"IF(O1415=\"Business Firm billable\",VLOOKUP(A1415,'Hourly rates'!$B$2:$E$40,4,FALSE),VLOOKUP(A1415,'Hourly rates'!$B$2:$E$40,2,FALSE))","v":12},24]
["Haverford, Tom","Business Firm:Admin SP","Staff",1099,null,2,"2015-03-27","2015-03-28","Fri",null,"NonBill","ZZ","2015-04-01",null,"Special Projects",null,{"$f":"IF(O1416=\"Business Firm billable\",VLOOKUP(A1416,'Hourly rates'!$B$2:$E$40,4,FALSE),VLOOKUP(A1416,'Hourly rates'!$B$2:$E$40,2,FALSE))","v":12},24]
["Tucker, Cameron","Business Firm:Administration","Intern",1099,null,1.25,"2015-03-27","2015-03-28","Fri",null,"NonBill","ZZ","2015-04-01","IPO Metrics & CFO Comp Studies","BIZ Research Projects",null,{"$f":"IF(O1417=\"Business Firm billable\",VLOOKUP(A1417,'Hourly rates'!$B$2:$E$40,4,FALSE),VLOOKUP(A1417,'Hourly rates'!$B$2:$E$40,2,FALSE))","v":12},15]
["Dwyer, Andy","Business Firm:Admin SP","Intern",1099,null,1.25,"2015-03-27","2015-03-28","Fri",null,"NonBill","ZZ","2015-04-01",null,"Special Projects",null,{"$f":"IF(O1418=\"Business Firm billable\",VLOOKUP(A1418,'Hourly rates'!$B$2:$E$40,4,FALSE),VLOOKUP(A1418,'Hourly rates'!$B$2:$E$40,2,FALSE))","v":12},15]
["Delgado, Manny","Business Firm:Admin SP","Intern",1099,null,2,"2015-03-28","2015-03-28","Sat",null,"NonBill","ZZ","2015-04-01",null,"Special Projects",null,{"$f":"IF(O1419=\"Business Firm billable\",VLOOKUP(A1419,'Hourly rates'!$B$2:$E$40,4,FALSE),VLOOKUP(A1419,'Hourly rates'!$B$2:$E$40,2,FALSE))","v":12},24]
["Dwyer, Andy","Business Firm:Administration","Intern",1099,null,1.25,"2015-03-28","2015-03-28","Sat",null,"NonBill","ZZ","2015-04-01","Research Studies-Comment Letters","BIZ Research Projects",null,{"$f":"IF(O1420=\"Business Firm billable\",VLOOKUP(A1420,'Hourly rates'!$B$2:$E$40,4,FALSE),VLOOKUP(A1420,'Hourly rates'!$B$2:$E$40,2,FALSE))","v":12},15]
["Delgado, Manny","Business Firm:Admin SP","Intern",1099,null,1,"2015-03-30","2015-04-04","Mon",null,"NonBill","ZZ","Pending",null,"Special Projects",null,{"$f":"IF(O1421=\"Business Firm billable\",VLOOKUP(A1421,'Hourly rates'!$B$2:$E$40,4,FALSE),VLOOKUP(A1421,'Hourly rates'!$B$2:$E$40,2,FALSE))","v":12},12]
["Wyatt, Ben","Business Firm:Admin SP","Intern",1099,null,3,"2015-03-30","2015-04-04","Mon",null,"NonBill","ZZ","Pending",null,"Special Projects",null,{"$f":"IF(O1422=\"Business Firm billable\",VLOOKUP(A1422,'Hourly rates'!$B$2:$E$40,4,FALSE),VLOOKUP(A1422,'Hourly rates'!$B$2:$E$40,2,FALSE))","v":12},36]
["Meagle, Donna","Business Firm:Admin SP","Intern",1099,null,2,"2015-03-30","2015-04-04","Mon",null,"NonBill","ZZ","Pending",null,"Special Projects",null,{"$f":"IF(O1423=\"Business Firm billable\",VLOOKUP(A1423,'Hourly rates'!$B$2:$E$40,4,FALSE),VLOOKUP(A1423,'Hourly rates'!$B$2:$E$40,2,FALSE))","v":12},24]
["Walker, Renee","Business Firm:Admin SP","Intern",1099,null,3,"2015-03-30",{"$f":"G1424+7-WEEKDAY(G1424)","v":"2015-04-04"},"Mon",null,"NonBill","ZZ","Pending",null,"Special Projects",null,{"$f":"IF(O1424=\"Business Firm billable\",VLOOKUP(A1424,'Hourly rates'!$B$2:$E$40,4,FALSE),VLOOKUP(A1424,'Hourly rates'!$B$2:$E$40,2,FALSE))","v":12},36]
["Tucker, Cameron","Business Firm:Administration","Intern",1099,null,1.25,"2015-03-30","2015-04-04","Mon",null,"NonBill","ZZ","Pending","PwC Utilities Manual Download and Review","BIZ Research Projects",null,{"$f":"IF(O1425=\"Business Firm billable\",VLOOKUP(A1425,'Hourly rates'!$B$2:$E$40,4,FALSE),VLOOKUP(A1425,'Hourly rates'!$B$2:$E$40,2,FALSE))","v":12},15]
["Dwyer, Andy","Business Firm:Administration","Intern",1099,null,1.25,"2015-03-30","2015-04-04","Mon",null,"NonBill","ZZ","Pending","Research Studies-IPO Metrics","BIZ Research Projects",null,{"$f":"IF(O1426=\"Business Firm billable\",VLOOKUP(A1426,'Hourly rates'!$B$2:$E$40,4,FALSE),VLOOKUP(A1426,'Hourly rates'!$B$2:$E$40,2,FALSE))","v":12},15]
["Delgado, Manny","Business Firm:Admin SP","Intern",1099,null,1,"2015-03-31","2015-04-04","Tue",null,"NonBill","ZZ","Pending",null,"Special Projects",null,{"$f":"IF(O1427=\"Business Firm billable\",VLOOKUP(A1427,'Hourly rates'!$B$2:$E$40,4,FALSE),VLOOKUP(A1427,'Hourly rates'!$B$2:$E$40,2,FALSE))","v":12},12]
["Wyatt, Ben","Business Firm:Admin SP","Intern",1099,null,1.25,"2015-03-31","2015-04-04","Tue",null,"NonBill","ZZ","Pending",null,"Special Projects",null,{"$f":"IF(O1428=\"Business Firm billable\",VLOOKUP(A1428,'Hourly rates'!$B$2:$E$40,4,FALSE),VLOOKUP(A1428,'Hourly rates'!$B$2:$E$40,2,FALSE))","v":12},15]
["Wyatt, Ben","Business Firm:Administration","Intern",1099,null,1.25,"2015-03-31","2015-04-04","Tue",null,"NonBill","ZZ","Pending","Internal Finance","Finance",null,{"$f":"IF(O1429=\"Business Firm billable\",VLOOKUP(A1429,'Hourly rates'!$B$2:$E$40,4,FALSE),VLOOKUP(A1429,'Hourly rates'!$B$2:$E$40,2,FALSE))","v":12},15]
["Meagle, Donna","Business Firm:Admin SP","Intern",1099,null,2,"2015-03-31","2015-04-04","Tue",null,"NonBill","ZZ","Pending",null,"Special Projects",null,{"$f":"IF(O1430=\"Business Firm billable\",VLOOKUP(A1430,'Hourly rates'!$B$2:$E$40,4,FALSE),VLOOKUP(A1430,'Hourly rates'!$B$2:$E$40,2,FALSE))","v":12},24]
["Walker, Renee","Business Firm:Admin SP","Intern",1099,null,2,"2015-03-31","2015-04-04","Tue",null,"NonBill","ZZ","Pending",null,"Special Projects",null,{"$f":"IF(O1431=\"Business Firm billable\",VLOOKUP(A1431,'Hourly rates'!$B$2:$E$40,4,FALSE),VLOOKUP(A1431,'Hourly rates'!$B$2:$E$40,2,FALSE))","v":12},24]
["Tucker, Cameron","Business Firm:Administration","Intern",1099,null,3,"2015-03-31","2015-04-04","Tue",null,"NonBill","ZZ","Pending","Cheap Stock Study","BIZ Research Projects",null,{"$f":"IF(O1432=\"Business Firm billable\",VLOOKUP(A1432,'Hourly rates'!$B$2:$E$40,4,FALSE),VLOOKUP(A1432,'Hourly rates'!$B$2:$E$40,2,FALSE))","v":12},36]
["Dwyer, Andy","Business Firm:Admin SP","Intern",1099,null,2,"2015-03-31","2015-04-04","Tue",null,"NonBill","ZZ","Pending",null,"Special Projects",null,{"$f":"IF(O1433=\"Business Firm billable\",VLOOKUP(A1433,'Hourly rates'!$B$2:$E$40,4,FALSE),VLOOKUP(A1433,'Hourly rates'!$B$2:$E$40,2,FALSE))","v":12},24]
["Dwyer, Andy","Business Firm:Administration","Intern",1099,null,1.25,"2015-03-31","2015-04-04","Tue",null,"NonBill","ZZ","Pending","Research Studies-CFO Comp","BIZ Research Projects",null,{"$f":"IF(O1434=\"Business Firm billable\",VLOOKUP(A1434,'Hourly rates'!$B$2:$E$40,4,FALSE),VLOOKUP(A1434,'Hourly rates'!$B$2:$E$40,2,FALSE))","v":12},15]
["Delgado, Manny","Business Firm:Admin SP","Intern",1099,null,5,"2015-04-01","2015-04-04","Wed",null,"NonBill","ZZ","Pending",null,"Special Projects",null,{"$f":"IF(O1435=\"Business Firm billable\",VLOOKUP(A1435,'Hourly rates'!$B$2:$E$40,4,FALSE),VLOOKUP(A1435,'Hourly rates'!$B$2:$E$40,2,FALSE))","v":12},60]
["Wyatt, Ben","Business Firm:Admin SP","Intern",1099,null,4,"2015-04-01","2015-04-04","Wed",null,"NonBill","ZZ","Pending",null,"Special Projects",null,{"$f":"IF(O1436=\"Business Firm billable\",VLOOKUP(A1436,'Hourly rates'!$B$2:$E$40,4,FALSE),VLOOKUP(A1436,'Hourly rates'!$B$2:$E$40,2,FALSE))","v":12},48]
["Swanson, Ron","Business Firm:Admin SP","Intern",1099,null,3,"2015-04-01","2015-04-04","Wed",null,"NonBill","ZZ","Pending",null,"Special Projects",null,{"$f":"IF(O1437=\"Business Firm billable\",VLOOKUP(A1437,'Hourly rates'!$B$2:$E$40,4,FALSE),VLOOKUP(A1437,'Hourly rates'!$B$2:$E$40,2,FALSE))","v":12},36]
["Meagle, Donna","Business Firm:Admin SP","Intern",1099,null,4,"2015-04-01","2015-04-04","Wed",null,"NonBill","ZZ","Pending",null,"Special Projects",null,{"$f":"IF(O1438=\"Business Firm billable\",VLOOKUP(A1438,'Hourly rates'!$B$2:$E$40,4,FALSE),VLOOKUP(A1438,'Hourly rates'!$B$2:$E$40,2,FALSE))","v":12},48]
["Walker, Renee","Business Firm:Admin SP","Intern",1099,null,3,"2015-04-01","2015-04-04","Wed",null,"NonBill","ZZ","Pending",null,"Special Projects",null,{"$f":"IF(O1439=\"Business Firm billable\",VLOOKUP(A1439,'Hourly rates'!$B$2:$E$40,4,FALSE),VLOOKUP(A1439,'Hourly rates'!$B$2:$E$40,2,FALSE))","v":12},36]
["Haverford, Tom","Business Firm:Admin SP","Staff",1099,null,3,"2015-04-01","2015-04-04","Wed",null,"NonBill","ZZ","Pending",null,"Special Projects",null,{"$f":"IF(O1440=\"Business Firm billable\",VLOOKUP(A1440,'Hourly rates'!$B$2:$E$40,4,FALSE),VLOOKUP(A1440,'Hourly rates'!$B$2:$E$40,2,FALSE))","v":12},36]
["Tucker, Cameron","Business Firm:Administration","Intern",1099,null,1.25,"2015-04-01","2015-04-04","Wed",null,"NonBill","ZZ","Pending","Cheap Stock Study","BIZ Research Projects",null,{"$f":"IF(O1441=\"Business Firm billable\",VLOOKUP(A1441,'Hourly rates'!$B$2:$E$40,4,FALSE),VLOOKUP(A1441,'Hourly rates'!$B$2:$E$40,2,FALSE))","v":12},15]
["Dwyer, Andy","Business Firm:Admin SP","Intern",1099,null,1.75,"2015-04-01","2015-04-04","Wed",null,"NonBill","ZZ","Pending",null,"Special Projects",null,{"$f":"IF(O1442=\"Business Firm billable\",VLOOKUP(A1442,'Hourly rates'!$B$2:$E$40,4,FALSE),VLOOKUP(A1442,'Hourly rates'!$B$2:$E$40,2,FALSE))","v":12},21]
["Wyatt, Ben","Business Firm:Administration","Intern",1099,null,1.25,"2015-04-02","2015-04-04","Thu",null,"NonBill","ZZ","Pending","Internal Finance","Finance",null,{"$f":"IF(O1443=\"Business Firm billable\",VLOOKUP(A1443,'Hourly rates'!$B$2:$E$40,4,FALSE),VLOOKUP(A1443,'Hourly rates'!$B$2:$E$40,2,FALSE))","v":12},15]
["Swanson, Ron","Business Firm:Admin SP","Intern",1099,null,4,"2015-04-02","2015-04-04","Thu",null,"NonBill","ZZ","Pending",null,"Special Projects",null,{"$f":"IF(O1444=\"Business Firm billable\",VLOOKUP(A1444,'Hourly rates'!$B$2:$E$40,4,FALSE),VLOOKUP(A1444,'Hourly rates'!$B$2:$E$40,2,FALSE))","v":12},48]
["Walker, Renee","Business Firm:Admin SP","Intern",1099,null,1.75,"2015-04-02","2015-04-04","Thu",null,"NonBill","ZZ","Pending",null,"Special Projects",null,{"$f":"IF(O1445=\"Business Firm billable\",VLOOKUP(A1445,'Hourly rates'!$B$2:$E$40,4,FALSE),VLOOKUP(A1445,'Hourly rates'!$B$2:$E$40,2,FALSE))","v":12},21]
["Haverford, Tom","Business Firm:Admin SP","Staff",1099,null,3,"2015-04-02","2015-04-04","Thu",null,"NonBill","ZZ","Pending",null,"Special Projects",null,{"$f":"IF(O1446=\"Business Firm billable\",VLOOKUP(A1446,'Hourly rates'!$B$2:$E$40,4,FALSE),VLOOKUP(A1446,'Hourly rates'!$B$2:$E$40,2,FALSE))","v":12},36]
["Dwyer, Andy","Business Firm:Admin SP","Intern",1099,null,1.75,"2015-04-02","2015-04-04","Thu",null,"NonBill","ZZ","Pending",null,"Special Projects",null,{"$f":"IF(O1447=\"Business Firm billable\",VLOOKUP(A1447,'Hourly rates'!$B$2:$E$40,4,FALSE),VLOOKUP(A1447,'Hourly rates'!$B$2:$E$40,2,FALSE))","v":12},21]
["Delgado, Manny","Business Firm:Admin SP","Intern",1099,null,3,"2015-04-03","2015-04-04","Fri",null,"NonBill","ZZ","Pending",null,"Special Projects",null,{"$f":"IF(O1448=\"Business Firm billable\",VLOOKUP(A1448,'Hourly rates'!$B$2:$E$40,4,FALSE),VLOOKUP(A1448,'Hourly rates'!$B$2:$E$40,2,FALSE))","v":12},36]
["Wyatt, Ben","Business Firm:Admin SP","Intern",1099,null,1.25,"2015-04-03","2015-04-04","Fri",null,"NonBill","ZZ","Pending",null,"Special Projects",null,{"$f":"IF(O1449=\"Business Firm billable\",VLOOKUP(A1449,'Hourly rates'!$B$2:$E$40,4,FALSE),VLOOKUP(A1449,'Hourly rates'!$B$2:$E$40,2,FALSE))","v":12},15]
["Meagle, Donna","Business Firm:Admin SP","Intern",1099,null,4,"2015-04-03","2015-04-04","Fri",null,"NonBill","ZZ","Pending",null,"Special Projects",null,{"$f":"IF(O1450=\"Business Firm billable\",VLOOKUP(A1450,'Hourly rates'!$B$2:$E$40,4,FALSE),VLOOKUP(A1450,'Hourly rates'!$B$2:$E$40,2,FALSE))","v":12},48]
["Meagle, Donna","Business Firm:Administration","Intern",1099,null,2,"2015-04-03","2015-04-04","Fri",null,"NonBill","ZZ","Pending"," Research Project - Compensation Study","BIZ Research Projects",null,{"$f":"IF(O1451=\"Business Firm billable\",VLOOKUP(A1451,'Hourly rates'!$B$2:$E$40,4,FALSE),VLOOKUP(A1451,'Hourly rates'!$B$2:$E$40,2,FALSE))","v":12},24]
["Haverford, Tom","Business Firm:Admin SP","Staff",1099,null,4,"2015-04-03","2015-04-04","Fri",null,"NonBill","ZZ","Pending",null,"Special Projects",null,{"$f":"IF(O1452=\"Business Firm billable\",VLOOKUP(A1452,'Hourly rates'!$B$2:$E$40,4,FALSE),VLOOKUP(A1452,'Hourly rates'!$B$2:$E$40,2,FALSE))","v":12},48]
["Tucker, Cameron","Business Firm:Administration","Intern",1099,null,1,"2015-04-03","2015-04-04","Fri",null,"NonBill","ZZ","Pending","PwC Utilities Manual Download and Review","BIZ Research Projects",null,{"$f":"IF(O1453=\"Business Firm billable\",VLOOKUP(A1453,'Hourly rates'!$B$2:$E$40,4,FALSE),VLOOKUP(A1453,'Hourly rates'!$B$2:$E$40,2,FALSE))","v":12},12]
["Dwyer, Andy","Business Firm:Admin SP","Intern",1099,null,1.75,"2015-04-03","2015-04-04","Fri",null,"NonBill","ZZ","Pending",null,"Special Projects",null,{"$f":"IF(O1454=\"Business Firm billable\",VLOOKUP(A1454,'Hourly rates'!$B$2:$E$40,4,FALSE),VLOOKUP(A1454,'Hourly rates'!$B$2:$E$40,2,FALSE))","v":12},21]
["Walker, Renee","Business Firm:Admin SP","Intern",1099,null,1.25,"2015-04-04","2015-04-04","Sat",null,"NonBill","ZZ","Pending",null,"Special Projects",null,{"$f":"IF(O1455=\"Business Firm billable\",VLOOKUP(A1455,'Hourly rates'!$B$2:$E$40,4,FALSE),VLOOKUP(A1455,'Hourly rates'!$B$2:$E$40,2,FALSE))","v":12},15]
["Tucker, Cameron","Business Firm:Administration","Intern",1099,null,1.25,"2015-04-04","2015-04-04","Sat",null,"NonBill","ZZ","Pending","PwC Utilities Manual Download and Review","BIZ Research Projects",null,{"$f":"IF(O1456=\"Business Firm billable\",VLOOKUP(A1456,'Hourly rates'!$B$2:$E$40,4,FALSE),VLOOKUP(A1456,'Hourly rates'!$B$2:$E$40,2,FALSE))","v":12},15]
["Knope, Leslie","Business Firm:Administration","Intern",1099,null,1.75,"2015-04-06","2015-04-11","Mon",null,"NonBill","ZZ","Pending","Received computer and IT training","Finance",null,{"$f":"IF(O1457=\"Business Firm billable\",VLOOKUP(A1457,'Hourly rates'!$B$2:$E$40,4,FALSE),VLOOKUP(A1457,'Hourly rates'!$B$2:$E$40,2,FALSE))","v":12},21]
["Knope, Leslie","Business Firm:Administration","Intern",1099,null,5.25,"2015-04-06","2015-04-11","Mon",null,"NonBill","ZZ","Pending","Internal Finance","Finance",null,{"$f":"IF(O1458=\"Business Firm billable\",VLOOKUP(A1458,'Hourly rates'!$B$2:$E$40,4,FALSE),VLOOKUP(A1458,'Hourly rates'!$B$2:$E$40,2,FALSE))","v":12},63]
["Wyatt, Ben","Business Firm:Admin SP","Intern",1099,null,1.25,"2015-04-06","2015-04-11","Mon",null,"NonBill","ZZ","Pending",null,{"$f":"IF(B1459=$B$1454,\"Special Projects\",\"\")","v":"Special Projects"},null,{"$f":"IF(O1459=\"Business Firm billable\",VLOOKUP(A1459,'Hourly rates'!$B$2:$E$40,4,FALSE),VLOOKUP(A1459,'Hourly rates'!$B$2:$E$40,2,FALSE))","v":12},15]
["Wyatt, Ben","Business Firm:Administration","Intern",1099,null,1.25,"2015-04-06","2015-04-11","Mon",null,"NonBill","ZZ","Pending","Internal Finance","Finance",null,{"$f":"IF(O1460=\"Business Firm billable\",VLOOKUP(A1460,'Hourly rates'!$B$2:$E$40,4,FALSE),VLOOKUP(A1460,'Hourly rates'!$B$2:$E$40,2,FALSE))","v":12},15]
["Swanson, Ron","Business Firm:Admin SP","Intern",1099,null,3,"2015-04-06","2015-04-11","Mon",null,"NonBill","ZZ","Pending",null,{"$f":"IF(B1461=$B$1454,\"Special Projects\",\"\")","v":"Special Projects"},null,{"$f":"IF(O1461=\"Business Firm billable\",VLOOKUP(A1461,'Hourly rates'!$B$2:$E$40,4,FALSE),VLOOKUP(A1461,'Hourly rates'!$B$2:$E$40,2,FALSE))","v":12},36]
["Walker, Renee","Business Firm:Admin SP","Intern",1099,null,3,"2015-04-06","2015-04-11","Mon",null,"NonBill","ZZ","Pending",null,{"$f":"IF(B1462=$B$1454,\"Special Projects\",\"\")","v":"Special Projects"},null,{"$f":"IF(O1462=\"Business Firm billable\",VLOOKUP(A1462,'Hourly rates'!$B$2:$E$40,4,FALSE),VLOOKUP(A1462,'Hourly rates'!$B$2:$E$40,2,FALSE))","v":12},36]
["Haverford, Tom","Business Firm:Administration","Staff",1099,null,3,"2015-04-06","2015-04-11","Mon",null,"NonBill","ZZ","Pending","Transfer Pricing Research","Finance",null,{"$f":"IF(O1463=\"Business Firm billable\",VLOOKUP(A1463,'Hourly rates'!$B$2:$E$40,4,FALSE),VLOOKUP(A1463,'Hourly rates'!$B$2:$E$40,2,FALSE))","v":12},36]
["Tucker, Cameron","Business Firm:Administration","Intern",1099,null,3,"2015-04-06","2015-04-11","Mon",null,"NonBill","ZZ","Pending","PwC Utilities Manual Download and Review","BIZ Research Projects",null,{"$f":"IF(O1464=\"Business Firm billable\",VLOOKUP(A1464,'Hourly rates'!$B$2:$E$40,4,FALSE),VLOOKUP(A1464,'Hourly rates'!$B$2:$E$40,2,FALSE))","v":12},36]
["Dwyer, Andy","Business Firm:Admin SP","Intern",1099,null,1.25,"2015-04-06","2015-04-11","Mon",null,"NonBill","ZZ","Pending",null,{"$f":"IF(B1465=$B$1454,\"Special Projects\",\"\")","v":"Special Projects"},null,{"$f":"IF(O1465=\"Business Firm billable\",VLOOKUP(A1465,'Hourly rates'!$B$2:$E$40,4,FALSE),VLOOKUP(A1465,'Hourly rates'!$B$2:$E$40,2,FALSE))","v":12},15]
["Delgado, Manny","Business Firm:Admin SP","Intern",1099,null,1.75,"2015-04-07","2015-04-11","Tue",null,"NonBill","ZZ","Pending",null,{"$f":"IF(B1466=$B$1454,\"Special Projects\",\"\")","v":"Special Projects"},null,{"$f":"IF(O1466=\"Business Firm billable\",VLOOKUP(A1466,'Hourly rates'!$B$2:$E$40,4,FALSE),VLOOKUP(A1466,'Hourly rates'!$B$2:$E$40,2,FALSE))","v":12},21]
["Knope, Leslie","Business Firm:Administration","Intern",1099,null,6,"2015-04-07","2015-04-11","Tue",null,"NonBill","ZZ","Pending","Internal Finance","Finance",null,{"$f":"IF(O1467=\"Business Firm billable\",VLOOKUP(A1467,'Hourly rates'!$B$2:$E$40,4,FALSE),VLOOKUP(A1467,'Hourly rates'!$B$2:$E$40,2,FALSE))","v":12},72]
["Wyatt, Ben","Business Firm:Admin SP","Intern",1099,null,1.25,"2015-04-07","2015-04-11","Tue",null,"NonBill","ZZ","Pending",null,{"$f":"IF(B1468=$B$1454,\"Special Projects\",\"\")","v":"Special Projects"},null,{"$f":"IF(O1468=\"Business Firm billable\",VLOOKUP(A1468,'Hourly rates'!$B$2:$E$40,4,FALSE),VLOOKUP(A1468,'Hourly rates'!$B$2:$E$40,2,FALSE))","v":12},15]
["Swanson, Ron","Business Firm:Admin SP","Intern",1099,null,4,"2015-04-07","2015-04-11","Tue",null,"NonBill","ZZ","Pending",null,"Special Projects",null,{"$f":"IF(O1469=\"Business Firm billable\",VLOOKUP(A1469,'Hourly rates'!$B$2:$E$40,4,FALSE),VLOOKUP(A1469,'Hourly rates'!$B$2:$E$40,2,FALSE))","v":12},48]
["Walker, Renee","Business Firm:Admin SP","Intern",1099,null,2,"2015-04-07","2015-04-11","Tue",null,"NonBill","ZZ","Pending",null,"Special Projects",null,{"$f":"IF(O1470=\"Business Firm billable\",VLOOKUP(A1470,'Hourly rates'!$B$2:$E$40,4,FALSE),VLOOKUP(A1470,'Hourly rates'!$B$2:$E$40,2,FALSE))","v":12},24]
["Haverford, Tom","Business Firm:Admin SP","Staff",1099,null,2,"2015-04-07","2015-04-11","Tue",null,"NonBill","ZZ","Pending",null,"Special Projects",null,{"$f":"IF(O1471=\"Business Firm billable\",VLOOKUP(A1471,'Hourly rates'!$B$2:$E$40,4,FALSE),VLOOKUP(A1471,'Hourly rates'!$B$2:$E$40,2,FALSE))","v":12},24]
["Dwyer, Andy","Business Firm:Admin SP","Intern",1099,null,1.25,"2015-04-07","2015-04-11","Tue",null,"NonBill","ZZ","Pending",null,"Special Projects",null,{"$f":"IF(O1472=\"Business Firm billable\",VLOOKUP(A1472,'Hourly rates'!$B$2:$E$40,4,FALSE),VLOOKUP(A1472,'Hourly rates'!$B$2:$E$40,2,FALSE))","v":12},15]
["Meagle, Donna","Business Firm:Admin SP","Intern",1099,null,3,"2015-04-07","2015-04-11","Tue",null,"NonBill","ZZ","Pending",null,"Special Projects",null,{"$f":"IF(O1473=\"Business Firm billable\",VLOOKUP(A1473,'Hourly rates'!$B$2:$E$40,4,FALSE),VLOOKUP(A1473,'Hourly rates'!$B$2:$E$40,2,FALSE))","v":12},36]
["Delgado, Manny","Business Firm:Admin SP","Intern",1099,null,1.75,"2015-04-08","2015-04-11","Wed",null,"NonBill","ZZ","Pending",null,"Special Projects",null,{"$f":"IF(O1474=\"Business Firm billable\",VLOOKUP(A1474,'Hourly rates'!$B$2:$E$40,4,FALSE),VLOOKUP(A1474,'Hourly rates'!$B$2:$E$40,2,FALSE))","v":12},{"$f":"Q1474*F1474","v":21}]
["Knope, Leslie","Business Firm:Administration","Intern",1099,null,6,"2015-04-08","2015-04-11","Wed",null,"NonBill","ZZ","Pending","Internal Finance","Finance",null,{"$f":"IF(O1475=\"Business Firm billable\",VLOOKUP(A1475,'Hourly rates'!$B$2:$E$40,4,FALSE),VLOOKUP(A1475,'Hourly rates'!$B$2:$E$40,2,FALSE))","v":12},72]
["Wyatt, Ben","Business Firm:Admin SP","Intern",1099,null,2.25,"2015-04-08","2015-04-11","Wed",null,"NonBill","ZZ","Pending",null,{"$f":"IF(B1476=$B$1454,\"Special Projects\",\"\")","v":"Special Projects"},null,{"$f":"IF(O1476=\"Business Firm billable\",VLOOKUP(A1476,'Hourly rates'!$B$2:$E$40,4,FALSE),VLOOKUP(A1476,'Hourly rates'!$B$2:$E$40,2,FALSE))","v":12},27]
["Walker, Renee","Business Firm:Admin SP","Intern",1099,null,2,"2015-04-08","2015-04-11","Wed",null,"NonBill","ZZ","Pending",null,"Special Projects",null,{"$f":"IF(O1477=\"Business Firm billable\",VLOOKUP(A1477,'Hourly rates'!$B$2:$E$40,4,FALSE),VLOOKUP(A1477,'Hourly rates'!$B$2:$E$40,2,FALSE))","v":12},24]
["Haverford, Tom","Business Firm:Admin SP","Staff",1099,null,3,"2015-04-08","2015-04-11","Wed",null,"NonBill","ZZ","Pending",null,"Special Projects",null,{"$f":"IF(O1478=\"Business Firm billable\",VLOOKUP(A1478,'Hourly rates'!$B$2:$E$40,4,FALSE),VLOOKUP(A1478,'Hourly rates'!$B$2:$E$40,2,FALSE))","v":12},36]
["Dwyer, Andy","Business Firm:Admin SP","Intern",1099,null,5,"2015-04-08","2015-04-11","Wed",null,"NonBill","ZZ","Pending",null,"Special Projects",null,{"$f":"IF(O1479=\"Business Firm billable\",VLOOKUP(A1479,'Hourly rates'!$B$2:$E$40,4,FALSE),VLOOKUP(A1479,'Hourly rates'!$B$2:$E$40,2,FALSE))","v":12},60]
["Meagle, Donna","Business Firm:Admin SP","Intern",1099,null,3,"2015-04-08","2015-04-11","Wed",null,"NonBill","ZZ","Pending",null,"Special Projects",null,{"$f":"IF(O1480=\"Business Firm billable\",VLOOKUP(A1480,'Hourly rates'!$B$2:$E$40,4,FALSE),VLOOKUP(A1480,'Hourly rates'!$B$2:$E$40,2,FALSE))","v":12},36]
["Delgado, Manny","Business Firm:Admin SP","Intern",1099,null,1.25,"2015-04-09","2015-04-11","Thu",null,"NonBill","ZZ","Pending",null,"Special Projects",null,{"$f":"IF(O1481=\"Business Firm billable\",VLOOKUP(A1481,'Hourly rates'!$B$2:$E$40,4,FALSE),VLOOKUP(A1481,'Hourly rates'!$B$2:$E$40,2,FALSE))","v":12},15]
["Knope, Leslie","Business Firm:Administration","Intern",1099,null,6,"2015-04-09","2015-04-11","Thu",null,"NonBill","ZZ","Pending","Internal Finance","Finance",null,{"$f":"IF(O1482=\"Business Firm billable\",VLOOKUP(A1482,'Hourly rates'!$B$2:$E$40,4,FALSE),VLOOKUP(A1482,'Hourly rates'!$B$2:$E$40,2,FALSE))","v":12},72]
["Wyatt, Ben","Business Firm:Admin SP","Intern",1099,null,1.25,"2015-04-09","2015-04-11","Thu",null,"NonBill","ZZ","Pending",null,{"$f":"IF(B1483=$B$1454,\"Special Projects\",\"\")","v":"Special Projects"},null,{"$f":"IF(O1483=\"Business Firm billable\",VLOOKUP(A1483,'Hourly rates'!$B$2:$E$40,4,FALSE),VLOOKUP(A1483,'Hourly rates'!$B$2:$E$40,2,FALSE))","v":12},15]
["Walker, Renee","Business Firm:Admin SP","Intern",1099,null,2,"2015-04-09","2015-04-11","Thu",null,"NonBill","ZZ","Pending",null,{"$f":"IF(B1484=$B$1454,\"Special Projects\",\"\")","v":"Special Projects"},null,{"$f":"IF(O1484=\"Business Firm billable\",VLOOKUP(A1484,'Hourly rates'!$B$2:$E$40,4,FALSE),VLOOKUP(A1484,'Hourly rates'!$B$2:$E$40,2,FALSE))","v":12},24]
["Haverford, Tom","Business Firm:Admin SP","Staff",1099,null,3,"2015-04-09","2015-04-11","Thu",null,"NonBill","ZZ","Pending",null,{"$f":"IF(B1485=$B$1454,\"Special Projects\",\"\")","v":"Special Projects"},null,{"$f":"IF(O1485=\"Business Firm billable\",VLOOKUP(A1485,'Hourly rates'!$B$2:$E$40,4,FALSE),VLOOKUP(A1485,'Hourly rates'!$B$2:$E$40,2,FALSE))","v":12},36]
["Dwyer, Andy","Business Firm:Admin SP","Intern",1099,null,1.25,"2015-04-09","2015-04-11","Thu",null,"NonBill","ZZ","Pending",null,{"$f":"IF(B1486=$B$1454,\"Special Projects\",\"\")","v":"Special Projects"},null,{"$f":"IF(O1486=\"Business Firm billable\",VLOOKUP(A1486,'Hourly rates'!$B$2:$E$40,4,FALSE),VLOOKUP(A1486,'Hourly rates'!$B$2:$E$40,2,FALSE))","v":12},15]
["Delgado, Manny","Business Firm:Admin SP","Intern",1099,null,4,"2015-04-10","2015-04-11","Fri",null,"NonBill","ZZ","Pending",null,{"$f":"IF(B1487=$B$1454,\"Special Projects\",\"\")","v":"Special Projects"},null,{"$f":"IF(O1487=\"Business Firm billable\",VLOOKUP(A1487,'Hourly rates'!$B$2:$E$40,4,FALSE),VLOOKUP(A1487,'Hourly rates'!$B$2:$E$40,2,FALSE))","v":12},48]
["Knope, Leslie","Business Firm:Administration","Intern",1099,null,6,"2015-04-10",{"$f":"G1488+7-WEEKDAY(G1488)","v":"2015-04-11"},"Fri",null,"NonBill","ZZ","Pending","Internal Finance","Finance",null,{"$f":"IF(O1488=\"Business Firm billable\",VLOOKUP(A1488,'Hourly rates'!$B$2:$E$40,4,FALSE),VLOOKUP(A1488,'Hourly rates'!$B$2:$E$40,2,FALSE))","v":12},72]
["Wyatt, Ben","Business Firm:Admin SP","Intern",1099,null,2,"2015-04-10","2015-04-11","Fri",null,"NonBill","ZZ","Pending",null,{"$f":"IF(B1489=$B$1454,\"Special Projects\",\"\")","v":"Special Projects"},null,{"$f":"IF(O1489=\"Business Firm billable\",VLOOKUP(A1489,'Hourly rates'!$B$2:$E$40,4,FALSE),VLOOKUP(A1489,'Hourly rates'!$B$2:$E$40,2,FALSE))","v":12},24]
["Swanson, Ron","Business Firm:Admin SP","Intern",1099,null,3,"2015-04-10","2015-04-11","Fri",null,"NonBill","ZZ","Pending",null,{"$f":"IF(B1490=$B$1454,\"Special Projects\",\"\")","v":"Special Projects"},null,{"$f":"IF(O1490=\"Business Firm billable\",VLOOKUP(A1490,'Hourly rates'!$B$2:$E$40,4,FALSE),VLOOKUP(A1490,'Hourly rates'!$B$2:$E$40,2,FALSE))","v":12},36]
["Walker, Renee","Business Firm:Admin SP","Intern",1099,null,1,"2015-04-10","2015-04-11","Fri",null,"NonBill","ZZ","Pending",null,{"$f":"IF(B1491=$B$1454,\"Special Projects\",\"\")","v":"Special Projects"},null,{"$f":"IF(O1491=\"Business Firm billable\",VLOOKUP(A1491,'Hourly rates'!$B$2:$E$40,4,FALSE),VLOOKUP(A1491,'Hourly rates'!$B$2:$E$40,2,FALSE))","v":12},12]
["Dwyer, Andy","Business Firm:Admin SP","Intern",1099,null,3,"2015-04-10","2015-04-11","Fri",null,"NonBill","ZZ","Pending",null,{"$f":"IF(B1492=$B$1454,\"Special Projects\",\"\")","v":"Special Projects"},null,{"$f":"IF(O1492=\"Business Firm billable\",VLOOKUP(A1492,'Hourly rates'!$B$2:$E$40,4,FALSE),VLOOKUP(A1492,'Hourly rates'!$B$2:$E$40,2,FALSE))","v":12},36]
["Dwyer, Andy","Business Firm:Administration","Intern",1099,null,1.25,"2015-04-10","2015-04-11","Fri",null,"NonBill","ZZ","Pending","Research Studies-CFO Comp","BIZ Research Projects",null,{"$f":"IF(O1493=\"Business Firm billable\",VLOOKUP(A1493,'Hourly rates'!$B$2:$E$40,4,FALSE),VLOOKUP(A1493,'Hourly rates'!$B$2:$E$40,2,FALSE))","v":12},15]
["Meagle, Donna","Business Firm:Admin SP","Intern",1099,null,3,"2015-04-10","2015-04-11","Fri",null,"NonBill","ZZ","Pending",null,{"$f":"IF(B1494=$B$1454,\"Special Projects\",\"\")","v":"Special Projects"},null,{"$f":"IF(O1494=\"Business Firm billable\",VLOOKUP(A1494,'Hourly rates'!$B$2:$E$40,4,FALSE),VLOOKUP(A1494,'Hourly rates'!$B$2:$E$40,2,FALSE))","v":12},36]
["Delgado, Manny","Business Firm:Admin SP","Intern",1099,null,1,"2015-04-11","2015-04-11","Sat",null,"NonBill","ZZ","Pending",null,{"$f":"IF(B1495=$B$1454,\"Special Projects\",\"\")","v":"Special Projects"},null,{"$f":"IF(O1495=\"Business Firm billable\",VLOOKUP(A1495,'Hourly rates'!$B$2:$E$40,4,FALSE),VLOOKUP(A1495,'Hourly rates'!$B$2:$E$40,2,FALSE))","v":12},12]
["Wyatt, Ben","Business Firm:Admin SP","Intern",1099,null,1.75,"2015-04-11","2015-04-11","Sat",null,"NonBill","ZZ","Pending",null,{"$f":"IF(B1496=$B$1454,\"Special Projects\",\"\")","v":"Special Projects"},null,{"$f":"IF(O1496=\"Business Firm billable\",VLOOKUP(A1496,'Hourly rates'!$B$2:$E$40,4,FALSE),VLOOKUP(A1496,'Hourly rates'!$B$2:$E$40,2,FALSE))","v":12},21]
["Wyatt, Ben","Business Firm:Administration","Intern",1099,null,1.25,"2015-04-11","2015-04-11","Sat",null,"NonBill","ZZ","Pending","Internal Finance","Finance",null,{"$f":"IF(O1497=\"Business Firm billable\",VLOOKUP(A1497,'Hourly rates'!$B$2:$E$40,4,FALSE),VLOOKUP(A1497,'Hourly rates'!$B$2:$E$40,2,FALSE))","v":12},15]
["Haverford, Tom","Business Firm:Administration","Staff",1099,null,1,"2015-04-11","2015-04-11","Sat",null,"NonBill","ZZ","Pending","Transfer Pricing Research","Finance",null,{"$f":"IF(O1498=\"Business Firm billable\",VLOOKUP(A1498,'Hourly rates'!$B$2:$E$40,4,FALSE),VLOOKUP(A1498,'Hourly rates'!$B$2:$E$40,2,FALSE))","v":12},12]
["Dwyer, Andy","Business Firm:Admin SP","Intern",1099,null,1.25,"2015-04-11","2015-04-11","Sat",null,"NonBill","ZZ","Pending",null,{"$f":"IF(B1499=$B$1454,\"Special Projects\",\"\")","v":"Special Projects"},null,{"$f":"IF(O1499=\"Business Firm billable\",VLOOKUP(A1499,'Hourly rates'!$B$2:$E$40,4,FALSE),VLOOKUP(A1499,'Hourly rates'!$B$2:$E$40,2,FALSE))","v":12},15]
["Dwyer, Andy","Business Firm:Administration","Intern",1099,null,1.75,"2015-04-11","2015-04-11","Sat",null,"NonBill","ZZ","Pending","Research Studies-CFO Comp","BIZ Research Projects",null,{"$f":"IF(O1500=\"Business Firm billable\",VLOOKUP(A1500,'Hourly rates'!$B$2:$E$40,4,FALSE),VLOOKUP(A1500,'Hourly rates'!$B$2:$E$40,2,FALSE))","v":12},21]
["Dwyer, Andy","Business Firm:Administration","Intern",1099,null,1.75,"2015-04-11","2015-04-11","Sat",null,"NonBill","ZZ","Pending","Research Studies-IPO Metrics","BIZ Research Projects",null,{"$f":"IF(O1501=\"Business Firm billable\",VLOOKUP(A1501,'Hourly rates'!$B$2:$E$40,4,FALSE),VLOOKUP(A1501,'Hourly rates'!$B$2:$E$40,2,FALSE))","v":12},21]
["Delgado, Manny","Business Firm:Admin SP","Intern",1099,null,1.25,"2015-04-13","2015-04-18","Mon",null,"NonBill","ZZ","Pending",null,{"$f":"IF(B1502=$B$1454,\"Special Projects\",\"\")","v":"Special Projects"},null,{"$f":"IF(O1502=\"Business Firm billable\",VLOOKUP(A1502,'Hourly rates'!$B$2:$E$40,4,FALSE),VLOOKUP(A1502,'Hourly rates'!$B$2:$E$40,2,FALSE))","v":12},15]
["Knope, Leslie","Business Firm:Administration","Intern",1099,null,6,"2015-04-13","2015-04-18","Mon",null,"NonBill","ZZ","Pending","Internal Finance","Finance",null,{"$f":"IF(O1503=\"Business Firm billable\",VLOOKUP(A1503,'Hourly rates'!$B$2:$E$40,4,FALSE),VLOOKUP(A1503,'Hourly rates'!$B$2:$E$40,2,FALSE))","v":12},72]
["Wyatt, Ben","Business Firm:Admin SP","Intern",1099,null,1.75,"2015-04-13","2015-04-18","Mon",null,"NonBill","ZZ","Pending",null,{"$f":"IF(B1504=$B$1454,\"Special Projects\",\"\")","v":"Special Projects"},null,{"$f":"IF(O1504=\"Business Firm billable\",VLOOKUP(A1504,'Hourly rates'!$B$2:$E$40,4,FALSE),VLOOKUP(A1504,'Hourly rates'!$B$2:$E$40,2,FALSE))","v":12},21]
["Walker, Renee","Business Firm:Admin SP","Intern",1099,null,1,"2015-04-13","2015-04-18","Mon",null,"NonBill","ZZ","Pending",null,{"$f":"IF(B1505=$B$1454,\"Special Projects\",\"\")","v":"Special Projects"},null,{"$f":"IF(O1505=\"Business Firm billable\",VLOOKUP(A1505,'Hourly rates'!$B$2:$E$40,4,FALSE),VLOOKUP(A1505,'Hourly rates'!$B$2:$E$40,2,FALSE))","v":12},12]
["Tucker, Cameron","Business Firm:Administration","Intern",1099,null,2,"2015-04-13","2015-04-18","Mon",null,"NonBill","ZZ","Pending","Comment Letter Data for PPT for Jim/Dave","Strat Firm",null,{"$f":"IF(O1506=\"Business Firm billable\",VLOOKUP(A1506,'Hourly rates'!$B$2:$E$40,4,FALSE),VLOOKUP(A1506,'Hourly rates'!$B$2:$E$40,2,FALSE))","v":12},24]
["Knope, Leslie","Business Firm:Administration","Intern",1099,null,6,"2015-04-14","2015-04-18","Tue",null,"NonBill","ZZ","Pending","Internal Finance","Finance",null,{"$f":"IF(O1507=\"Business Firm billable\",VLOOKUP(A1507,'Hourly rates'!$B$2:$E$40,4,FALSE),VLOOKUP(A1507,'Hourly rates'!$B$2:$E$40,2,FALSE))","v":12},72]
["Wyatt, Ben","Business Firm:Admin SP","Intern",1099,null,2,"2015-04-14","2015-04-18","Tue",null,"NonBill","ZZ","Pending",null,{"$f":"IF(B1508=$B$1454,\"Special Projects\",\"\")","v":"Special Projects"},null,{"$f":"IF(O1508=\"Business Firm billable\",VLOOKUP(A1508,'Hourly rates'!$B$2:$E$40,4,FALSE),VLOOKUP(A1508,'Hourly rates'!$B$2:$E$40,2,FALSE))","v":12},24]
["Swanson, Ron","Business Firm:Administration","Intern",1099,null,3,"2015-04-14","2015-04-18","Tue",null,"NonBill","ZZ","Pending","Finance Support","Finance",null,{"$f":"IF(O1509=\"Business Firm billable\",VLOOKUP(A1509,'Hourly rates'!$B$2:$E$40,4,FALSE),VLOOKUP(A1509,'Hourly rates'!$B$2:$E$40,2,FALSE))","v":12},36]
["Meagle, Donna","Business Firm:Admin SP","Intern",1099,null,3,"2015-04-14","2015-04-18","Tue",null,"NonBill","ZZ","Pending",null,{"$f":"IF(B1510=$B$1454,\"Special Projects\",\"\")","v":"Special Projects"},null,{"$f":"IF(O1510=\"Business Firm billable\",VLOOKUP(A1510,'Hourly rates'!$B$2:$E$40,4,FALSE),VLOOKUP(A1510,'Hourly rates'!$B$2:$E$40,2,FALSE))","v":12},36]
["Walker, Renee","Business Firm:Admin SP","Intern",1099,null,1,"2015-04-14","2015-04-18","Tue",null,"NonBill","ZZ","Pending",null,{"$f":"IF(B1511=$B$1454,\"Special Projects\",\"\")","v":"Special Projects"},null,{"$f":"IF(O1511=\"Business Firm billable\",VLOOKUP(A1511,'Hourly rates'!$B$2:$E$40,4,FALSE),VLOOKUP(A1511,'Hourly rates'!$B$2:$E$40,2,FALSE))","v":12},12]
["Tucker, Cameron","Business Firm:Administration","Intern",1099,null,2.25,"2015-04-14","2015-04-18","Tue",null,"NonBill","ZZ","Pending","Comment Letter Data for PPT for Jim/Dave","Strat Firm",null,{"$f":"IF(O1512=\"Business Firm billable\",VLOOKUP(A1512,'Hourly rates'!$B$2:$E$40,4,FALSE),VLOOKUP(A1512,'Hourly rates'!$B$2:$E$40,2,FALSE))","v":12},27]
["Delgado, Manny","Business Firm:Admin SP","Intern",1099,null,1,"2015-04-15","2015-04-18","Wed",null,"NonBill","ZZ","Pending",null,{"$f":"IF(B1513=$B$1454,\"Special Projects\",\"\")","v":"Special Projects"},null,{"$f":"IF(O1513=\"Business Firm billable\",VLOOKUP(A1513,'Hourly rates'!$B$2:$E$40,4,FALSE),VLOOKUP(A1513,'Hourly rates'!$B$2:$E$40,2,FALSE))","v":12},12]
["Knope, Leslie","Business Firm:Administration","Intern",1099,null,6,"2015-04-15","2015-04-18","Wed",null,"NonBill","ZZ","Pending","Internal Finance","Finance",null,{"$f":"IF(O1514=\"Business Firm billable\",VLOOKUP(A1514,'Hourly rates'!$B$2:$E$40,4,FALSE),VLOOKUP(A1514,'Hourly rates'!$B$2:$E$40,2,FALSE))","v":12},72]
["Wyatt, Ben","Business Firm:Admin SP","Intern",1099,null,9,"2015-04-15","2015-04-18","Wed",null,"NonBill","ZZ","Pending",null,{"$f":"IF(B1515=$B$1454,\"Special Projects\",\"\")","v":"Special Projects"},null,{"$f":"IF(O1515=\"Business Firm billable\",VLOOKUP(A1515,'Hourly rates'!$B$2:$E$40,4,FALSE),VLOOKUP(A1515,'Hourly rates'!$B$2:$E$40,2,FALSE))","v":12},108]
["Swanson, Ron","Business Firm:Admin SP","Intern",1099,null,2,"2015-04-15","2015-04-18","Wed",null,"NonBill","ZZ","Pending",null,{"$f":"IF(B1516=$B$1454,\"Special Projects\",\"\")","v":"Special Projects"},null,{"$f":"IF(O1516=\"Business Firm billable\",VLOOKUP(A1516,'Hourly rates'!$B$2:$E$40,4,FALSE),VLOOKUP(A1516,'Hourly rates'!$B$2:$E$40,2,FALSE))","v":12},24]
["Swanson, Ron","Business Firm:Administration","Intern",1099,null,1,"2015-04-15","2015-04-18","Wed",null,"NonBill","ZZ","Pending","Finance Support","Finance",null,{"$f":"IF(O1517=\"Business Firm billable\",VLOOKUP(A1517,'Hourly rates'!$B$2:$E$40,4,FALSE),VLOOKUP(A1517,'Hourly rates'!$B$2:$E$40,2,FALSE))","v":12},12]
["Meagle, Donna","Business Firm:Admin SP","Intern",1099,null,3,"2015-04-15","2015-04-18","Wed",null,"NonBill","ZZ","Pending",null,{"$f":"IF(B1518=$B$1454,\"Special Projects\",\"\")","v":"Special Projects"},null,{"$f":"IF(O1518=\"Business Firm billable\",VLOOKUP(A1518,'Hourly rates'!$B$2:$E$40,4,FALSE),VLOOKUP(A1518,'Hourly rates'!$B$2:$E$40,2,FALSE))","v":12},36]
["Walker, Renee","Business Firm:Admin SP","Intern",1099,null,1,"2015-04-15","2015-04-18","Wed",null,"NonBill","ZZ","Pending",null,{"$f":"IF(B1519=$B$1454,\"Special Projects\",\"\")","v":"Special Projects"},null,{"$f":"IF(O1519=\"Business Firm billable\",VLOOKUP(A1519,'Hourly rates'!$B$2:$E$40,4,FALSE),VLOOKUP(A1519,'Hourly rates'!$B$2:$E$40,2,FALSE))","v":12},12]
["Tucker, Cameron","Business Firm:Administration","Intern",1099,null,2.25,"2015-04-15","2015-04-18","Wed",null,"NonBill","ZZ","Pending","IPO Data Rollforward for Logan","BIZ Research Projects",null,{"$f":"IF(O1520=\"Business Firm billable\",VLOOKUP(A1520,'Hourly rates'!$B$2:$E$40,4,FALSE),VLOOKUP(A1520,'Hourly rates'!$B$2:$E$40,2,FALSE))","v":12},27]
["Dwyer, Andy","Business Firm:Admin SP","Intern",1099,null,1.25,"2015-04-15","2015-04-18","Wed",null,"NonBill","ZZ","Pending",null,{"$f":"IF(B1521=$B$1454,\"Special Projects\",\"\")","v":"Special Projects"},null,{"$f":"IF(O1521=\"Business Firm billable\",VLOOKUP(A1521,'Hourly rates'!$B$2:$E$40,4,FALSE),VLOOKUP(A1521,'Hourly rates'!$B$2:$E$40,2,FALSE))","v":12},15]
["Knope, Leslie","Business Firm:Administration","Intern",1099,null,6,"2015-04-16","2015-04-18","Thu",null,"NonBill","ZZ","Pending","Internal Finance","Finance",null,{"$f":"IF(O1522=\"Business Firm billable\",VLOOKUP(A1522,'Hourly rates'!$B$2:$E$40,4,FALSE),VLOOKUP(A1522,'Hourly rates'!$B$2:$E$40,2,FALSE))","v":12},72]
["Dwyer, Andy","Business Firm:Admin SP","Intern",1099,null,1.25,"2015-04-16","2015-04-18","Thu",null,"NonBill","ZZ","Pending",null,{"$f":"IF(B1523=$B$1454,\"Special Projects\",\"\")","v":"Special Projects"},null,{"$f":"IF(O1523=\"Business Firm billable\",VLOOKUP(A1523,'Hourly rates'!$B$2:$E$40,4,FALSE),VLOOKUP(A1523,'Hourly rates'!$B$2:$E$40,2,FALSE))","v":12},15]
["Knope, Leslie","Business Firm:Administration","Intern",1099,null,5,"2015-04-17","2015-04-18","Fri",null,"NonBill","ZZ","Pending","Internal Finance","Finance",null,{"$f":"IF(O1524=\"Business Firm billable\",VLOOKUP(A1524,'Hourly rates'!$B$2:$E$40,4,FALSE),VLOOKUP(A1524,'Hourly rates'!$B$2:$E$40,2,FALSE))","v":12},60]
["Wyatt, Ben","Business Firm:Admin SP","Intern",1099,null,1.25,"2015-04-17","2015-04-18","Fri",null,"NonBill","ZZ","Pending",null,{"$f":"IF(B1525=$B$1454,\"Special Projects\",\"\")","v":"Special Projects"},null,{"$f":"IF(O1525=\"Business Firm billable\",VLOOKUP(A1525,'Hourly rates'!$B$2:$E$40,4,FALSE),VLOOKUP(A1525,'Hourly rates'!$B$2:$E$40,2,FALSE))","v":12},15]
["Meagle, Donna","Business Firm:Admin SP","Intern",1099,null,3,"2015-04-17","2015-04-18","Fri",null,"NonBill","ZZ","Pending",null,{"$f":"IF(B1526=$B$1454,\"Special Projects\",\"\")","v":"Special Projects"},null,{"$f":"IF(O1526=\"Business Firm billable\",VLOOKUP(A1526,'Hourly rates'!$B$2:$E$40,4,FALSE),VLOOKUP(A1526,'Hourly rates'!$B$2:$E$40,2,FALSE))","v":12},36]
["Delgado, Manny","Business Firm:Admin SP","Intern",1099,null,5,"2015-04-18","2015-04-18","Sat",null,"NonBill","ZZ","Pending",null,{"$f":"IF(B1527=$B$1454,\"Special Projects\",\"\")","v":"Special Projects"},null,{"$f":"IF(O1527=\"Business Firm billable\",VLOOKUP(A1527,'Hourly rates'!$B$2:$E$40,4,FALSE),VLOOKUP(A1527,'Hourly rates'!$B$2:$E$40,2,FALSE))","v":12},60]
["Dwyer, Andy","Business Firm:Admin SP","Intern",1099,null,1.25,"2015-04-18","2015-04-18","Sat",null,"NonBill","ZZ","Pending",null,{"$f":"IF(B1528=$B$1454,\"Special Projects\",\"\")","v":"Special Projects"},null,{"$f":"IF(O1528=\"Business Firm billable\",VLOOKUP(A1528,'Hourly rates'!$B$2:$E$40,4,FALSE),VLOOKUP(A1528,'Hourly rates'!$B$2:$E$40,2,FALSE))","v":12},15]
["Knope, Leslie","Business Firm:Administration","Intern",1099,null,6,"2015-04-20","2015-04-25","Mon",null,"NonBill","ZZ","Pending",null,"Finance",null,{"$f":"IF(O1529=\"Business Firm billable\",VLOOKUP(A1529,'Hourly rates'!$B$2:$E$40,4,FALSE),VLOOKUP(A1529,'Hourly rates'!$B$2:$E$40,2,FALSE))","v":12},72]
["Meagle, Donna","Business Firm:Admin SP","Intern",1099,null,3,"2015-04-20","2015-04-25","Mon",null,"NonBill","ZZ","Pending",null,{"$f":"IF(B1530=$B$1454,\"Special Projects\",\"\")","v":"Special Projects"},null,{"$f":"IF(O1530=\"Business Firm billable\",VLOOKUP(A1530,'Hourly rates'!$B$2:$E$40,4,FALSE),VLOOKUP(A1530,'Hourly rates'!$B$2:$E$40,2,FALSE))","v":12},36]
["Meagle, Donna","Business Firm:Administration","Intern",1099,null,1,"2015-04-20","2015-04-25","Mon",null,"NonBill","ZZ","Pending",null,"Finance",null,{"$f":"IF(O1531=\"Business Firm billable\",VLOOKUP(A1531,'Hourly rates'!$B$2:$E$40,4,FALSE),VLOOKUP(A1531,'Hourly rates'!$B$2:$E$40,2,FALSE))","v":12},12]
["Tucker, Cameron","Business Firm:Administration","Intern",1099,null,1.75,"2015-04-20","2015-04-25","Mon",null,"NonBill","ZZ","Pending","Comment Letter PPT Updates","BIZ Research Projects",null,{"$f":"IF(O1532=\"Business Firm billable\",VLOOKUP(A1532,'Hourly rates'!$B$2:$E$40,4,FALSE),VLOOKUP(A1532,'Hourly rates'!$B$2:$E$40,2,FALSE))","v":12},21]
["Knope, Leslie","Business Firm:Administration","Intern",1099,null,3,"2015-04-21","2015-04-25","Tue",null,"NonBill","ZZ","Pending",null,"Finance",null,{"$f":"IF(O1533=\"Business Firm billable\",VLOOKUP(A1533,'Hourly rates'!$B$2:$E$40,4,FALSE),VLOOKUP(A1533,'Hourly rates'!$B$2:$E$40,2,FALSE))","v":12},36]
["Wyatt, Ben","Business Firm:Admin SP","Intern",1099,null,3,"2015-04-21","2015-04-25","Tue",null,"NonBill","ZZ","Pending",null,{"$f":"IF(B1534=$B$1454,\"Special Projects\",\"\")","v":"Special Projects"},null,{"$f":"IF(O1534=\"Business Firm billable\",VLOOKUP(A1534,'Hourly rates'!$B$2:$E$40,4,FALSE),VLOOKUP(A1534,'Hourly rates'!$B$2:$E$40,2,FALSE))","v":12},36]
["Meagle, Donna","Business Firm:Admin SP","Intern",1099,null,2,"2015-04-21","2015-04-25","Tue",null,"NonBill","ZZ","Pending",null,{"$f":"IF(B1535=$B$1454,\"Special Projects\",\"\")","v":"Special Projects"},null,{"$f":"IF(O1535=\"Business Firm billable\",VLOOKUP(A1535,'Hourly rates'!$B$2:$E$40,4,FALSE),VLOOKUP(A1535,'Hourly rates'!$B$2:$E$40,2,FALSE))","v":12},24]
["Walker, Renee","Business Firm:Admin SP","Intern",1099,null,1,"2015-04-21","2015-04-25","Tue",null,"NonBill","ZZ","Pending",null,{"$f":"IF(B1536=$B$1454,\"Special Projects\",\"\")","v":"Special Projects"},null,{"$f":"IF(O1536=\"Business Firm billable\",VLOOKUP(A1536,'Hourly rates'!$B$2:$E$40,4,FALSE),VLOOKUP(A1536,'Hourly rates'!$B$2:$E$40,2,FALSE))","v":12},12]
["Tucker, Cameron","Business Firm:Administration","Intern",1099,null,1.25,"2015-04-21","2015-04-25","Tue",null,"NonBill","ZZ","Pending","Comment Letter PPT Updates","BIZ Research Projects",null,{"$f":"IF(O1537=\"Business Firm billable\",VLOOKUP(A1537,'Hourly rates'!$B$2:$E$40,4,FALSE),VLOOKUP(A1537,'Hourly rates'!$B$2:$E$40,2,FALSE))","v":12},15]
["Dwyer, Andy","Business Firm:Admin SP","Intern",1099,null,1.75,"2015-04-21","2015-04-25","Tue",null,"NonBill","ZZ","Pending",null,{"$f":"IF(B1538=$B$1454,\"Special Projects\",\"\")","v":"Special Projects"},null,{"$f":"IF(O1538=\"Business Firm billable\",VLOOKUP(A1538,'Hourly rates'!$B$2:$E$40,4,FALSE),VLOOKUP(A1538,'Hourly rates'!$B$2:$E$40,2,FALSE))","v":12},{"$f":"Q1538*F1538","v":21}]
["Delgado, Manny","Business Firm:Admin SP","Intern",1099,null,4,"2015-04-21","2015-04-25","Tue",null,"NonBill","ZZ","2015-05-04",null,{"$f":"IF(B1539=$B$1454,\"Special Projects\",\"\")","v":"Special Projects"},null,{"$f":"IF(O1539=\"Business Firm billable\",VLOOKUP(A1539,'Hourly rates'!$B$2:$E$40,4,FALSE),VLOOKUP(A1539,'Hourly rates'!$B$2:$E$40,2,FALSE))","v":12},48]
["Knope, Leslie","Business Firm:Admin SP","Intern",1099,null,1.25,"2015-04-22","2015-04-25","Wed",null,"NonBill","ZZ","Pending",null,"Finance",null,{"$f":"IF(O1540=\"Business Firm billable\",VLOOKUP(A1540,'Hourly rates'!$B$2:$E$40,4,FALSE),VLOOKUP(A1540,'Hourly rates'!$B$2:$E$40,2,FALSE))","v":12},15]
["Knope, Leslie","Business Firm:Administration","Intern",1099,null,6,"2015-04-22","2015-04-25","Wed",null,"NonBill","ZZ","Pending",null,"Finance",null,{"$f":"IF(O1541=\"Business Firm billable\",VLOOKUP(A1541,'Hourly rates'!$B$2:$E$40,4,FALSE),VLOOKUP(A1541,'Hourly rates'!$B$2:$E$40,2,FALSE))","v":12},72]
["Wyatt, Ben","Business Firm:Admin SP","Intern",1099,null,5.25,"2015-04-22","2015-04-25","Wed",null,"NonBill","ZZ","Pending",null,{"$f":"IF(B1542=$B$1454,\"Special Projects\",\"\")","v":"Special Projects"},null,{"$f":"IF(O1542=\"Business Firm billable\",VLOOKUP(A1542,'Hourly rates'!$B$2:$E$40,4,FALSE),VLOOKUP(A1542,'Hourly rates'!$B$2:$E$40,2,FALSE))","v":12},63]
["Walker, Renee","Business Firm:Admin SP","Intern",1099,null,2,"2015-04-22","2015-04-25","Wed",null,"NonBill","ZZ","Pending",null,"Special Projects",null,{"$f":"IF(O1543=\"Business Firm billable\",VLOOKUP(A1543,'Hourly rates'!$B$2:$E$40,4,FALSE),VLOOKUP(A1543,'Hourly rates'!$B$2:$E$40,2,FALSE))","v":12},24]
["Dwyer, Andy","Business Firm:Admin SP","Intern",1099,null,1.25,"2015-04-22","2015-04-25","Wed",null,"NonBill","ZZ","Pending",null,"Special Projects",null,{"$f":"IF(O1544=\"Business Firm billable\",VLOOKUP(A1544,'Hourly rates'!$B$2:$E$40,4,FALSE),VLOOKUP(A1544,'Hourly rates'!$B$2:$E$40,2,FALSE))","v":12},15]
["Swanson, Ron","Business Firm:Admin SP","Intern",1099,null,2,"2015-04-22",{"$f":"G1545+7-WEEKDAY(G1545)","v":"2015-04-25"},"Wed",null,"NonBill","ZZ","2015-05-04",null,"Special Projects",null,{"$f":"IF(O1545=\"Business Firm billable\",VLOOKUP(A1545,'Hourly rates'!$B$2:$E$40,4,FALSE),VLOOKUP(A1545,'Hourly rates'!$B$2:$E$40,2,FALSE))","v":12},24]
["Delgado, Manny","Business Firm:Admin SP","Intern",1099,null,5,"2015-04-22","2015-04-25","Wed",null,"NonBill","ZZ","2015-05-04",null,"Special Projects",null,{"$f":"IF(O1546=\"Business Firm billable\",VLOOKUP(A1546,'Hourly rates'!$B$2:$E$40,4,FALSE),VLOOKUP(A1546,'Hourly rates'!$B$2:$E$40,2,FALSE))","v":12},60]
["Pritchett, Jay","Business Firm:Admin SP","Intern",1099,null,1.25,"2015-04-22","2015-04-25","Wed",null,"NonBill","ZZ","2015-05-04",null,"Special Projects",null,{"$f":"IF(O1547=\"Business Firm billable\",VLOOKUP(A1547,'Hourly rates'!$B$2:$E$40,4,FALSE),VLOOKUP(A1547,'Hourly rates'!$B$2:$E$40,2,FALSE))","v":12},15]
["Raines, Audrey","Business Firm:Admin SP","Intern",1099,null,1.25,"2015-04-22","2015-04-25","Wed",null,"NonBill","ZZ","2015-05-04",null,"Special Projects",null,{"$f":"IF(O1548=\"Business Firm billable\",VLOOKUP(A1548,'Hourly rates'!$B$2:$E$40,4,FALSE),VLOOKUP(A1548,'Hourly rates'!$B$2:$E$40,2,FALSE))","v":12},15]
["Dunphy, Phil","Business Firm:Admin SP","Intern",1099,null,2,"2015-04-22","2015-04-25","Wed",null,"NonBill","ZZ","2015-05-04",null,"Special Projects",null,{"$f":"IF(O1549=\"Business Firm billable\",VLOOKUP(A1549,'Hourly rates'!$B$2:$E$40,4,FALSE),VLOOKUP(A1549,'Hourly rates'!$B$2:$E$40,2,FALSE))","v":12},24]
["Walker, Renee","Business Firm:Admin SP","Intern",1099,null,1,"2015-04-23","2015-04-25","Thu",null,"NonBill","ZZ","Pending",null,"Special Projects",null,{"$f":"IF(O1550=\"Business Firm billable\",VLOOKUP(A1550,'Hourly rates'!$B$2:$E$40,4,FALSE),VLOOKUP(A1550,'Hourly rates'!$B$2:$E$40,2,FALSE))","v":12},12]
["Dwyer, Andy","Business Firm:Admin SP","Intern",1099,null,1.25,"2015-04-23","2015-04-25","Thu",null,"NonBill","ZZ","Pending",null,"Special Projects",null,{"$f":"IF(O1551=\"Business Firm billable\",VLOOKUP(A1551,'Hourly rates'!$B$2:$E$40,4,FALSE),VLOOKUP(A1551,'Hourly rates'!$B$2:$E$40,2,FALSE))","v":12},15]
["Delgado, Manny","Business Firm:Admin SP","Intern",1099,null,1,"2015-04-23","2015-04-25","Thu",null,"NonBill","ZZ","2015-05-04",null,"Special Projects",null,{"$f":"IF(O1552=\"Business Firm billable\",VLOOKUP(A1552,'Hourly rates'!$B$2:$E$40,4,FALSE),VLOOKUP(A1552,'Hourly rates'!$B$2:$E$40,2,FALSE))","v":12},12]
["Dunphy, Phil","Business Firm:Admin SP","Intern",1099,null,3,"2015-04-23","2015-04-25","Thu",null,"NonBill","ZZ","2015-05-04",null,"Special Projects",null,{"$f":"IF(O1553=\"Business Firm billable\",VLOOKUP(A1553,'Hourly rates'!$B$2:$E$40,4,FALSE),VLOOKUP(A1553,'Hourly rates'!$B$2:$E$40,2,FALSE))","v":12},36]
["Pritchett, Jay","Business Firm:Admin SP","Intern",1099,null,1,"2015-04-24","2015-04-25","Fri",null,"NonBill","ZZ","2015-05-04",null,"Special Projects",null,{"$f":"IF(O1554=\"Business Firm billable\",VLOOKUP(A1554,'Hourly rates'!$B$2:$E$40,4,FALSE),VLOOKUP(A1554,'Hourly rates'!$B$2:$E$40,2,FALSE))","v":12},12]
["Raines, Audrey","Business Firm:Admin SP","Intern",1099,null,1.75,"2015-04-24","2015-04-25","Fri",null,"NonBill","ZZ","2015-05-04",null,"Special Projects",null,{"$f":"IF(O1555=\"Business Firm billable\",VLOOKUP(A1555,'Hourly rates'!$B$2:$E$40,4,FALSE),VLOOKUP(A1555,'Hourly rates'!$B$2:$E$40,2,FALSE))","v":12},21]
["Dunphy, Phil","Business Firm:Admin SP","Intern",1099,null,1.75,"2015-04-24","2015-04-25","Fri",null,"NonBill","ZZ","2015-05-04",null,"Special Projects",null,{"$f":"IF(O1556=\"Business Firm billable\",VLOOKUP(A1556,'Hourly rates'!$B$2:$E$40,4,FALSE),VLOOKUP(A1556,'Hourly rates'!$B$2:$E$40,2,FALSE))","v":12},21]
["Dwyer, Andy","Business Firm:Admin SP","Intern",1099,null,1.25,"2015-04-25","2015-04-25","Sat",null,"NonBill","ZZ","Pending",null,"Special Projects",null,{"$f":"IF(O1557=\"Business Firm billable\",VLOOKUP(A1557,'Hourly rates'!$B$2:$E$40,4,FALSE),VLOOKUP(A1557,'Hourly rates'!$B$2:$E$40,2,FALSE))","v":12},15]
["Raines, Audrey","Business Firm:Admin SP","Intern",1099,null,1.25,"2015-04-25","2015-04-25","Sat",null,"NonBill","ZZ","2015-05-04",null,"Special Projects",null,{"$f":"IF(O1558=\"Business Firm billable\",VLOOKUP(A1558,'Hourly rates'!$B$2:$E$40,4,FALSE),VLOOKUP(A1558,'Hourly rates'!$B$2:$E$40,2,FALSE))","v":12},15]
["Delgado, Manny","Business Firm:Admin SP","Intern",1099,null,3,"2015-04-27",{"$f":"G1559+7-WEEKDAY(G1559)","v":"2015-05-02"},"Mon",null,"NonBill","ZZ","Pending",null,"Special Projects",null,{"$f":"IF(O1559=\"Business Firm billable\",VLOOKUP(A1559,'Hourly rates'!$B$2:$E$40,4,FALSE),VLOOKUP(A1559,'Hourly rates'!$B$2:$E$40,2,FALSE))","v":12},36]
["Knope, Leslie","Business Firm:Admin SP","Intern",1099,null,2,"2015-04-27","2015-05-02","Mon",null,"NonBill","ZZ","Pending",null,"Special Projects",null,{"$f":"IF(O1560=\"Business Firm billable\",VLOOKUP(A1560,'Hourly rates'!$B$2:$E$40,4,FALSE),VLOOKUP(A1560,'Hourly rates'!$B$2:$E$40,2,FALSE))","v":12},24]
["Wyatt, Ben","Business Firm:Admin SP","Intern",1099,null,1.25,"2015-04-27","2015-05-02","Mon",null,"NonBill","ZZ","Pending",null,"Special Projects",null,{"$f":"IF(O1561=\"Business Firm billable\",VLOOKUP(A1561,'Hourly rates'!$B$2:$E$40,4,FALSE),VLOOKUP(A1561,'Hourly rates'!$B$2:$E$40,2,FALSE))","v":12},15]
["Meagle, Donna","Business Firm:Admin SP","Intern",1099,null,3,"2015-04-27","2015-05-02","Mon",null,"NonBill","ZZ","Pending",null,"Special Projects",null,{"$f":"IF(O1562=\"Business Firm billable\",VLOOKUP(A1562,'Hourly rates'!$B$2:$E$40,4,FALSE),VLOOKUP(A1562,'Hourly rates'!$B$2:$E$40,2,FALSE))","v":12},36]
["Dwyer, Andy","Business Firm:Admin SP","Intern",1099,null,1.25,"2015-04-27","2015-05-02","Mon",null,"NonBill","ZZ","Pending",null,"Special Projects",null,{"$f":"IF(O1563=\"Business Firm billable\",VLOOKUP(A1563,'Hourly rates'!$B$2:$E$40,4,FALSE),VLOOKUP(A1563,'Hourly rates'!$B$2:$E$40,2,FALSE))","v":12},15]
["Pritchett, Jay","Business Firm:Admin SP","Intern",1099,null,1.25,"2015-04-27","2015-05-02","Mon",null,"NonBill","ZZ","2015-05-05",null,"Special Projects",null,{"$f":"IF(O1564=\"Business Firm billable\",VLOOKUP(A1564,'Hourly rates'!$B$2:$E$40,4,FALSE),VLOOKUP(A1564,'Hourly rates'!$B$2:$E$40,2,FALSE))","v":12},15]
["Raines, Audrey","Business Firm:Admin SP","Intern",1099,null,2,"2015-04-27","2015-05-02","Mon",null,"NonBill","ZZ","2015-05-05",null,"Special Projects",null,{"$f":"IF(O1565=\"Business Firm billable\",VLOOKUP(A1565,'Hourly rates'!$B$2:$E$40,4,FALSE),VLOOKUP(A1565,'Hourly rates'!$B$2:$E$40,2,FALSE))","v":12},24]
["Dunphy, Phil","Business Firm:Admin SP","Intern",1099,null,1.25,"2015-04-27","2015-05-02","Mon",null,"NonBill","ZZ","2015-05-05",null,"Special Projects",null,{"$f":"IF(O1566=\"Business Firm billable\",VLOOKUP(A1566,'Hourly rates'!$B$2:$E$40,4,FALSE),VLOOKUP(A1566,'Hourly rates'!$B$2:$E$40,2,FALSE))","v":12},15]
["Delgado, Manny","Business Firm:Admin SP","Intern",1099,null,2,"2015-04-28","2015-05-02","Tue",null,"NonBill","ZZ","Pending",null,"Special Projects",null,{"$f":"IF(O1567=\"Business Firm billable\",VLOOKUP(A1567,'Hourly rates'!$B$2:$E$40,4,FALSE),VLOOKUP(A1567,'Hourly rates'!$B$2:$E$40,2,FALSE))","v":12},24]
["Knope, Leslie","Business Firm:Admin SP","Intern",1099,null,2,"2015-04-28","2015-05-02","Tue",null,"NonBill","ZZ","Pending",null,"Special Projects",null,{"$f":"IF(O1568=\"Business Firm billable\",VLOOKUP(A1568,'Hourly rates'!$B$2:$E$40,4,FALSE),VLOOKUP(A1568,'Hourly rates'!$B$2:$E$40,2,FALSE))","v":12},24]
["Wyatt, Ben","Business Firm:Admin SP","Intern",1099,null,1,"2015-04-28","2015-05-02","Tue",null,"NonBill","ZZ","Pending",null,"Special Projects",null,{"$f":"IF(O1569=\"Business Firm billable\",VLOOKUP(A1569,'Hourly rates'!$B$2:$E$40,4,FALSE),VLOOKUP(A1569,'Hourly rates'!$B$2:$E$40,2,FALSE))","v":12},12]
["Swanson, Ron","Business Firm:Admin SP","Intern",1099,null,2,"2015-04-28","2015-05-02","Tue",null,"NonBill","ZZ","Pending",null,"Special Projects",null,{"$f":"IF(O1570=\"Business Firm billable\",VLOOKUP(A1570,'Hourly rates'!$B$2:$E$40,4,FALSE),VLOOKUP(A1570,'Hourly rates'!$B$2:$E$40,2,FALSE))","v":12},24]
["Meagle, Donna","Business Firm:Admin SP","Intern",1099,null,3,"2015-04-28","2015-05-02","Tue",null,"NonBill","ZZ","Pending",null,"Special Projects",null,{"$f":"IF(O1571=\"Business Firm billable\",VLOOKUP(A1571,'Hourly rates'!$B$2:$E$40,4,FALSE),VLOOKUP(A1571,'Hourly rates'!$B$2:$E$40,2,FALSE))","v":12},36]
["Meagle, Donna","Business Firm:Administration","Intern",1099,null,2,"2015-04-28","2015-05-02","Tue",null,"NonBill","ZZ","Pending",null,"Finance",null,{"$f":"IF(O1572=\"Business Firm billable\",VLOOKUP(A1572,'Hourly rates'!$B$2:$E$40,4,FALSE),VLOOKUP(A1572,'Hourly rates'!$B$2:$E$40,2,FALSE))","v":12},24]
["Pritchett, Jay","Business Firm:Admin SP","Intern",1099,null,1.25,"2015-04-28","2015-05-02","Tue",null,"NonBill","ZZ","2015-05-05",null,{"$f":"IF(B1573=$B$1454,\"Special Projects\",\"\")","v":"Special Projects"},null,{"$f":"IF(O1573=\"Business Firm billable\",VLOOKUP(A1573,'Hourly rates'!$B$2:$E$40,4,FALSE),VLOOKUP(A1573,'Hourly rates'!$B$2:$E$40,2,FALSE))","v":12},15]
["Raines, Audrey","Business Firm:Admin SP","Intern",1099,null,1,"2015-04-28","2015-05-02","Tue",null,"NonBill","ZZ","2015-05-05",null,"Special Projects",null,{"$f":"IF(O1574=\"Business Firm billable\",VLOOKUP(A1574,'Hourly rates'!$B$2:$E$40,4,FALSE),VLOOKUP(A1574,'Hourly rates'!$B$2:$E$40,2,FALSE))","v":12},12]
["Dunphy, Phil","Business Firm:Admin SP","Intern",1099,null,3,"2015-04-28","2015-05-02","Tue",null,"NonBill","ZZ","2015-05-05",null,"Special Projects",null,{"$f":"IF(O1575=\"Business Firm billable\",VLOOKUP(A1575,'Hourly rates'!$B$2:$E$40,4,FALSE),VLOOKUP(A1575,'Hourly rates'!$B$2:$E$40,2,FALSE))","v":12},36]
["Delgado, Manny","Business Firm:Admin SP","Intern",1099,null,1.25,"2015-04-29","2015-05-02","Wed",null,"NonBill","ZZ","Pending",null,"Special Projects",null,{"$f":"IF(O1576=\"Business Firm billable\",VLOOKUP(A1576,'Hourly rates'!$B$2:$E$40,4,FALSE),VLOOKUP(A1576,'Hourly rates'!$B$2:$E$40,2,FALSE))","v":12},15]
["Knope, Leslie","Business Firm:Admin SP","Intern",1099,null,2,"2015-04-29","2015-05-02","Wed",null,"NonBill","ZZ","Pending",null,"Special Projects",null,{"$f":"IF(O1577=\"Business Firm billable\",VLOOKUP(A1577,'Hourly rates'!$B$2:$E$40,4,FALSE),VLOOKUP(A1577,'Hourly rates'!$B$2:$E$40,2,FALSE))","v":12},24]
["Wyatt, Ben","Business Firm:Admin SP","Intern",1099,null,1.25,"2015-04-29","2015-05-02","Wed",null,"NonBill","ZZ","Pending",null,"Special Projects",null,{"$f":"IF(O1578=\"Business Firm billable\",VLOOKUP(A1578,'Hourly rates'!$B$2:$E$40,4,FALSE),VLOOKUP(A1578,'Hourly rates'!$B$2:$E$40,2,FALSE))","v":12},15]
["Swanson, Ron","Business Firm:Admin SP","Intern",1099,null,5.25,"2015-04-29","2015-05-02","Wed",null,"NonBill","ZZ","Pending",null,"Special Projects",null,{"$f":"IF(O1579=\"Business Firm billable\",VLOOKUP(A1579,'Hourly rates'!$B$2:$E$40,4,FALSE),VLOOKUP(A1579,'Hourly rates'!$B$2:$E$40,2,FALSE))","v":12},63]
["Meagle, Donna","Business Firm:Admin SP","Intern",1099,null,4,"2015-04-29","2015-05-02","Wed",null,"NonBill","ZZ","Pending",null,"Special Projects",null,{"$f":"IF(O1580=\"Business Firm billable\",VLOOKUP(A1580,'Hourly rates'!$B$2:$E$40,4,FALSE),VLOOKUP(A1580,'Hourly rates'!$B$2:$E$40,2,FALSE))","v":12},48]
["Meagle, Donna","Business Firm:Administration","Intern",1099,null,2,"2015-04-29","2015-05-02","Wed",null,"NonBill","ZZ","Pending",null,"Finance",null,{"$f":"IF(O1581=\"Business Firm billable\",VLOOKUP(A1581,'Hourly rates'!$B$2:$E$40,4,FALSE),VLOOKUP(A1581,'Hourly rates'!$B$2:$E$40,2,FALSE))","v":12},24]
["Dwyer, Andy","Business Firm:Admin SP","Intern",1099,null,1.75,"2015-04-29","2015-05-02","Wed",null,"NonBill","ZZ","Pending",null,{"$f":"IF(B1582=$B$1454,\"Special Projects\",\"\")","v":"Special Projects"},null,{"$f":"IF(O1582=\"Business Firm billable\",VLOOKUP(A1582,'Hourly rates'!$B$2:$E$40,4,FALSE),VLOOKUP(A1582,'Hourly rates'!$B$2:$E$40,2,FALSE))","v":12},21]
["Pritchett, Jay","Business Firm:Admin SP","Intern",1099,null,1.75,"2015-04-29","2015-05-02","Wed",null,"NonBill","ZZ","2015-05-05",null,"Special Projects",null,{"$f":"IF(O1583=\"Business Firm billable\",VLOOKUP(A1583,'Hourly rates'!$B$2:$E$40,4,FALSE),VLOOKUP(A1583,'Hourly rates'!$B$2:$E$40,2,FALSE))","v":12},21]
["Raines, Audrey","Business Firm:Admin SP","Intern",1099,null,1,"2015-04-29","2015-05-02","Wed",null,"NonBill","ZZ","2015-05-05",null,"Special Projects",null,{"$f":"IF(O1584=\"Business Firm billable\",VLOOKUP(A1584,'Hourly rates'!$B$2:$E$40,4,FALSE),VLOOKUP(A1584,'Hourly rates'!$B$2:$E$40,2,FALSE))","v":12},12]
["Delgado, Manny","Business Firm:Admin SP","Intern",1099,null,1.75,"2015-04-30","2015-05-02","Thu",null,"NonBill","ZZ","Pending",null,"Special Projects",null,{"$f":"IF(O1585=\"Business Firm billable\",VLOOKUP(A1585,'Hourly rates'!$B$2:$E$40,4,FALSE),VLOOKUP(A1585,'Hourly rates'!$B$2:$E$40,2,FALSE))","v":12},21]
["Knope, Leslie","Business Firm:Admin SP","Intern",1099,null,2,"2015-04-30","2015-05-02","Thu",null,"NonBill","ZZ","Pending",null,"Special Projects",null,{"$f":"IF(O1586=\"Business Firm billable\",VLOOKUP(A1586,'Hourly rates'!$B$2:$E$40,4,FALSE),VLOOKUP(A1586,'Hourly rates'!$B$2:$E$40,2,FALSE))","v":12},24]
["Wyatt, Ben","Business Firm:Admin SP","Intern",1099,null,1,"2015-04-30","2015-05-02","Thu",null,"NonBill","ZZ","Pending",null,"Special Projects",null,{"$f":"IF(O1587=\"Business Firm billable\",VLOOKUP(A1587,'Hourly rates'!$B$2:$E$40,4,FALSE),VLOOKUP(A1587,'Hourly rates'!$B$2:$E$40,2,FALSE))","v":12},12]
["Meagle, Donna","Business Firm:Administration","Intern",1099,null,2,"2015-04-30","2015-05-02","Thu",null,"NonBill","ZZ","Pending",null,"Finance",null,{"$f":"IF(O1588=\"Business Firm billable\",VLOOKUP(A1588,'Hourly rates'!$B$2:$E$40,4,FALSE),VLOOKUP(A1588,'Hourly rates'!$B$2:$E$40,2,FALSE))","v":12},24]
["Dwyer, Andy","Business Firm:Admin SP","Intern",1099,null,1,"2015-04-30","2015-05-02","Thu",null,"NonBill","ZZ","Pending",null,{"$f":"IF(B1589=$B$1454,\"Special Projects\",\"\")","v":"Special Projects"},null,{"$f":"IF(O1589=\"Business Firm billable\",VLOOKUP(A1589,'Hourly rates'!$B$2:$E$40,4,FALSE),VLOOKUP(A1589,'Hourly rates'!$B$2:$E$40,2,FALSE))","v":12},12]
["Pritchett, Jay","Business Firm:Admin SP","Intern",1099,null,1.75,"2015-04-30","2015-05-02","Thu",null,"NonBill","ZZ","2015-05-05",null,{"$f":"IF(B1590=$B$1454,\"Special Projects\",\"\")","v":"Special Projects"},null,{"$f":"IF(O1590=\"Business Firm billable\",VLOOKUP(A1590,'Hourly rates'!$B$2:$E$40,4,FALSE),VLOOKUP(A1590,'Hourly rates'!$B$2:$E$40,2,FALSE))","v":12},21]
["Dunphy, Phil","Business Firm:Admin SP","Intern",1099,null,1,"2015-04-30","2015-05-02","Thu",null,"NonBill","ZZ","2015-05-05",null,{"$f":"IF(B1591=$B$1454,\"Special Projects\",\"\")","v":"Special Projects"},null,{"$f":"IF(O1591=\"Business Firm billable\",VLOOKUP(A1591,'Hourly rates'!$B$2:$E$40,4,FALSE),VLOOKUP(A1591,'Hourly rates'!$B$2:$E$40,2,FALSE))","v":12},12]
["Delgado, Manny","Business Firm:Admin SP","Intern",1099,null,2,"2015-05-01","2015-05-02","Fri",null,"NonBill","ZZ","Pending",null,{"$f":"IF(B1592=$B$1454,\"Special Projects\",\"\")","v":"Special Projects"},null,{"$f":"IF(O1592=\"Business Firm billable\",VLOOKUP(A1592,'Hourly rates'!$B$2:$E$40,4,FALSE),VLOOKUP(A1592,'Hourly rates'!$B$2:$E$40,2,FALSE))","v":12},24]
["Wyatt, Ben","Business Firm:Admin SP","Intern",1099,null,2,"2015-05-01","2015-05-02","Fri",null,"NonBill","ZZ","Pending",null,{"$f":"IF(B1593=$B$1454,\"Special Projects\",\"\")","v":"Special Projects"},null,{"$f":"IF(O1593=\"Business Firm billable\",VLOOKUP(A1593,'Hourly rates'!$B$2:$E$40,4,FALSE),VLOOKUP(A1593,'Hourly rates'!$B$2:$E$40,2,FALSE))","v":12},24]
["Wyatt, Ben","Business Firm:Administration","Intern",1099,null,1,"2015-05-01","2015-05-02","Fri",null,"NonBill","ZZ","Pending",null,"Finance",null,{"$f":"IF(O1594=\"Business Firm billable\",VLOOKUP(A1594,'Hourly rates'!$B$2:$E$40,4,FALSE),VLOOKUP(A1594,'Hourly rates'!$B$2:$E$40,2,FALSE))","v":12},12]
["Pritchett, Jay","Business Firm:Admin SP","Intern",1099,null,1.25,"2015-05-01","2015-05-02","Fri",null,"NonBill","ZZ","2015-05-05",null,{"$f":"IF(B1595=$B$1454,\"Special Projects\",\"\")","v":"Special Projects"},null,{"$f":"IF(O1595=\"Business Firm billable\",VLOOKUP(A1595,'Hourly rates'!$B$2:$E$40,4,FALSE),VLOOKUP(A1595,'Hourly rates'!$B$2:$E$40,2,FALSE))","v":12},15]
["Raines, Audrey","Business Firm:Admin SP","Intern",1099,null,1,"2015-05-01","2015-05-02","Fri",null,"NonBill","ZZ","2015-05-05",null,"Special Projects",null,{"$f":"IF(O1596=\"Business Firm billable\",VLOOKUP(A1596,'Hourly rates'!$B$2:$E$40,4,FALSE),VLOOKUP(A1596,'Hourly rates'!$B$2:$E$40,2,FALSE))","v":12},12]
["Dunphy, Phil","Business Firm:Admin SP","Intern",1099,null,1.25,"2015-05-01","2015-05-02","Fri",null,"NonBill","ZZ","2015-05-05",null,"Special Projects",null,{"$f":"IF(O1597=\"Business Firm billable\",VLOOKUP(A1597,'Hourly rates'!$B$2:$E$40,4,FALSE),VLOOKUP(A1597,'Hourly rates'!$B$2:$E$40,2,FALSE))","v":12},15]
["Pritchett, Jay","Business Firm:Admin SP","Intern",1099,null,3,"2015-05-02","2015-05-02","Sat",null,"NonBill","ZZ","2015-05-05",null,"Special Projects",null,{"$f":"IF(O1598=\"Business Firm billable\",VLOOKUP(A1598,'Hourly rates'!$B$2:$E$40,4,FALSE),VLOOKUP(A1598,'Hourly rates'!$B$2:$E$40,2,FALSE))","v":12},36]
["Raines, Audrey","Business Firm:Admin SP","Intern",1099,null,3,"2015-05-02","2015-05-02","Sat",null,"NonBill","ZZ","2015-05-05",null,"Special Projects",null,{"$f":"IF(O1599=\"Business Firm billable\",VLOOKUP(A1599,'Hourly rates'!$B$2:$E$40,4,FALSE),VLOOKUP(A1599,'Hourly rates'!$B$2:$E$40,2,FALSE))","v":12},36]
["Dunphy, Phil","Business Firm:Admin SP","Intern",1099,null,1.25,"2015-05-03","2015-05-09","Sun",null,"NonBill","ZZ","2015-05-21",null,"Special Projects",null,{"$f":"IF(O1600=\"Business Firm billable\",VLOOKUP(A1600,'Hourly rates'!$B$2:$E$40,4,FALSE),VLOOKUP(A1600,'Hourly rates'!$B$2:$E$40,2,FALSE))","v":12},15]
["Knope, Leslie","Business Firm:Admin SP","Intern",1099,null,2,"2015-05-04","2015-05-09","Mon",null,"NonBill","ZZ","2015-05-21",null,"Special Projects",null,{"$f":"IF(O1601=\"Business Firm billable\",VLOOKUP(A1601,'Hourly rates'!$B$2:$E$40,4,FALSE),VLOOKUP(A1601,'Hourly rates'!$B$2:$E$40,2,FALSE))","v":12},24]
["Wyatt, Ben","Business Firm:Admin SP","Intern",1099,null,1.25,"2015-05-04","2015-05-09","Mon",null,"NonBill","ZZ","2015-05-21",null,"Special Projects",null,{"$f":"IF(O1602=\"Business Firm billable\",VLOOKUP(A1602,'Hourly rates'!$B$2:$E$40,4,FALSE),VLOOKUP(A1602,'Hourly rates'!$B$2:$E$40,2,FALSE))","v":12},{"$f":"Q1602*F1602","v":15}]
["Swanson, Ron","Business Firm:Admin SP","Intern",1099,null,2,"2015-05-04","2015-05-09","Mon",null,"NonBill","ZZ","2015-05-21",null,"Special Projects",null,{"$f":"IF(O1603=\"Business Firm billable\",VLOOKUP(A1603,'Hourly rates'!$B$2:$E$40,4,FALSE),VLOOKUP(A1603,'Hourly rates'!$B$2:$E$40,2,FALSE))","v":12},24]
["Meagle, Donna","Business Firm:Admin SP","Intern",1099,null,2,"2015-05-04","2015-05-09","Mon",null,"NonBill","ZZ","2015-05-21",null,"Special Projects",null,{"$f":"IF(O1604=\"Business Firm billable\",VLOOKUP(A1604,'Hourly rates'!$B$2:$E$40,4,FALSE),VLOOKUP(A1604,'Hourly rates'!$B$2:$E$40,2,FALSE))","v":12},24]
["Pritchett, Jay","Business Firm:Admin SP","Intern",1099,null,1.75,"2015-05-04","2015-05-09","Mon",null,"NonBill","ZZ","2015-05-21",null,"Special Projects",null,{"$f":"IF(O1605=\"Business Firm billable\",VLOOKUP(A1605,'Hourly rates'!$B$2:$E$40,4,FALSE),VLOOKUP(A1605,'Hourly rates'!$B$2:$E$40,2,FALSE))","v":12},21]
["Raines, Audrey","Business Firm:Admin SP","Intern",1099,null,1,"2015-05-04","2015-05-09","Mon",null,"NonBill","ZZ","2015-05-21",null,"Special Projects",null,{"$f":"IF(O1606=\"Business Firm billable\",VLOOKUP(A1606,'Hourly rates'!$B$2:$E$40,4,FALSE),VLOOKUP(A1606,'Hourly rates'!$B$2:$E$40,2,FALSE))","v":12},12]
["Dunphy, Phil","Business Firm:Admin SP","Intern",1099,null,1.25,"2015-05-04","2015-05-09","Mon",null,"NonBill","ZZ","2015-05-21",null,"Special Projects",null,{"$f":"IF(O1607=\"Business Firm billable\",VLOOKUP(A1607,'Hourly rates'!$B$2:$E$40,4,FALSE),VLOOKUP(A1607,'Hourly rates'!$B$2:$E$40,2,FALSE))","v":12},15]
["Dwyer, Andy","Business Firm:Admin SP","Intern",1099,null,1,"2015-05-04","2015-05-09","Mon",null,"NonBill","ZZ","2015-05-21",null,"Special Projects",null,{"$f":"IF(O1608=\"Business Firm billable\",VLOOKUP(A1608,'Hourly rates'!$B$2:$E$40,4,FALSE),VLOOKUP(A1608,'Hourly rates'!$B$2:$E$40,2,FALSE))","v":12},12]
["Dwyer, Andy","Business Firm:Administration","Intern",1099,null,5.25,"2015-05-04","2015-05-09","Mon",null,"NonBill","ZZ","2015-05-21","GL Project","Finance",null,{"$f":"IF(O1609=\"Business Firm billable\",VLOOKUP(A1609,'Hourly rates'!$B$2:$E$40,4,FALSE),VLOOKUP(A1609,'Hourly rates'!$B$2:$E$40,2,FALSE))","v":12},63]
["Delgado, Manny","Business Firm:Administration","Intern",1099,null,4,"2015-05-05","2015-05-09","Tue",null,"NonBill","ZZ","2015-05-21",null,"Special Projects",null,{"$f":"IF(O1610=\"Business Firm billable\",VLOOKUP(A1610,'Hourly rates'!$B$2:$E$40,4,FALSE),VLOOKUP(A1610,'Hourly rates'!$B$2:$E$40,2,FALSE))","v":12},48]
["Knope, Leslie","Business Firm:Admin SP","Intern",1099,null,1,"2015-05-05","2015-05-09","Tue",null,"NonBill","ZZ","2015-05-21",null,{"$f":"IF(B1611=$B$1454,\"Special Projects\",\"\")","v":"Special Projects"},null,{"$f":"IF(O1611=\"Business Firm billable\",VLOOKUP(A1611,'Hourly rates'!$B$2:$E$40,4,FALSE),VLOOKUP(A1611,'Hourly rates'!$B$2:$E$40,2,FALSE))","v":12},12]
["Wyatt, Ben","Business Firm:Admin SP","Intern",1099,null,1,"2015-05-05","2015-05-09","Tue",null,"NonBill","ZZ","2015-05-21",null,"Special Projects",null,{"$f":"IF(O1612=\"Business Firm billable\",VLOOKUP(A1612,'Hourly rates'!$B$2:$E$40,4,FALSE),VLOOKUP(A1612,'Hourly rates'!$B$2:$E$40,2,FALSE))","v":12},12]
["Swanson, Ron","Business Firm:Admin SP","Intern",1099,null,3,"2015-05-05","2015-05-09","Tue",null,"NonBill","ZZ","2015-05-21",null,"Special Projects",null,{"$f":"IF(O1613=\"Business Firm billable\",VLOOKUP(A1613,'Hourly rates'!$B$2:$E$40,4,FALSE),VLOOKUP(A1613,'Hourly rates'!$B$2:$E$40,2,FALSE))","v":12},36]
["Pritchett, Jay","Business Firm:Admin SP","Intern",1099,null,3,"2015-05-05","2015-05-09","Tue",null,"NonBill","ZZ","2015-05-21",null,"Special Projects",null,{"$f":"IF(O1614=\"Business Firm billable\",VLOOKUP(A1614,'Hourly rates'!$B$2:$E$40,4,FALSE),VLOOKUP(A1614,'Hourly rates'!$B$2:$E$40,2,FALSE))","v":12},36]
["Dunphy, Phil","Business Firm:Admin SP","Intern",1099,null,4,"2015-05-05","2015-05-09","Tue",null,"NonBill","ZZ","2015-05-21",null,"Special Projects",null,{"$f":"IF(O1615=\"Business Firm billable\",VLOOKUP(A1615,'Hourly rates'!$B$2:$E$40,4,FALSE),VLOOKUP(A1615,'Hourly rates'!$B$2:$E$40,2,FALSE))","v":12},48]
["Dwyer, Andy","Business Firm:Admin SP","Intern",1099,null,1.75,"2015-05-05","2015-05-09","Tue",null,"NonBill","ZZ","2015-05-21",null,"Special Projects",null,{"$f":"IF(O1616=\"Business Firm billable\",VLOOKUP(A1616,'Hourly rates'!$B$2:$E$40,4,FALSE),VLOOKUP(A1616,'Hourly rates'!$B$2:$E$40,2,FALSE))","v":12},21]
["Delgado, Manny","Business Firm:Administration","Intern",1099,null,2,"2015-05-06","2015-05-09","Wed",null,"NonBill","ZZ","2015-05-21",null,"Special Projects",null,{"$f":"IF(O1617=\"Business Firm billable\",VLOOKUP(A1617,'Hourly rates'!$B$2:$E$40,4,FALSE),VLOOKUP(A1617,'Hourly rates'!$B$2:$E$40,2,FALSE))","v":12},24]
["Knope, Leslie","Business Firm:Admin SP","Intern",1099,null,1.25,"2015-05-06","2015-05-09","Wed",null,"NonBill","ZZ","2015-05-21",null,{"$f":"IF(B1618=$B$1454,\"Special Projects\",\"\")","v":"Special Projects"},null,{"$f":"IF(O1618=\"Business Firm billable\",VLOOKUP(A1618,'Hourly rates'!$B$2:$E$40,4,FALSE),VLOOKUP(A1618,'Hourly rates'!$B$2:$E$40,2,FALSE))","v":12},15]
["Wyatt, Ben","Business Firm:Admin SP","Intern",1099,null,3,"2015-05-06","2015-05-09","Wed",null,"NonBill","ZZ","2015-05-21",null,"Special Projects",null,{"$f":"IF(O1619=\"Business Firm billable\",VLOOKUP(A1619,'Hourly rates'!$B$2:$E$40,4,FALSE),VLOOKUP(A1619,'Hourly rates'!$B$2:$E$40,2,FALSE))","v":12},36]
["Swanson, Ron","Business Firm:Admin SP","Intern",1099,null,5,"2015-05-06","2015-05-09","Wed",null,"NonBill","ZZ","2015-05-21",null,"Special Projects",null,{"$f":"IF(O1620=\"Business Firm billable\",VLOOKUP(A1620,'Hourly rates'!$B$2:$E$40,4,FALSE),VLOOKUP(A1620,'Hourly rates'!$B$2:$E$40,2,FALSE))","v":12},60]
["Meagle, Donna","Business Firm:Admin SP","Intern",1099,null,2,"2015-05-06","2015-05-09","Wed",null,"NonBill","ZZ","2015-05-21",null,"Special Projects",null,{"$f":"IF(O1621=\"Business Firm billable\",VLOOKUP(A1621,'Hourly rates'!$B$2:$E$40,4,FALSE),VLOOKUP(A1621,'Hourly rates'!$B$2:$E$40,2,FALSE))","v":12},24]
["Pritchett, Jay","Business Firm:Admin SP","Intern",1099,null,4,"2015-05-06","2015-05-09","Wed",null,"NonBill","ZZ","2015-05-21",null,"Special Projects",null,{"$f":"IF(O1622=\"Business Firm billable\",VLOOKUP(A1622,'Hourly rates'!$B$2:$E$40,4,FALSE),VLOOKUP(A1622,'Hourly rates'!$B$2:$E$40,2,FALSE))","v":12},48]
["Raines, Audrey","Business Firm:Admin SP","Intern",1099,null,1.75,"2015-05-06","2015-05-09","Wed",null,"NonBill","ZZ","2015-05-21",null,"Special Projects",null,{"$f":"IF(O1623=\"Business Firm billable\",VLOOKUP(A1623,'Hourly rates'!$B$2:$E$40,4,FALSE),VLOOKUP(A1623,'Hourly rates'!$B$2:$E$40,2,FALSE))","v":12},21]
["Dunphy, Phil","Business Firm:Admin SP","Intern",1099,null,1.25,"2015-05-06","2015-05-09","Wed",null,"NonBill","ZZ","2015-05-21",null,"Special Projects",null,{"$f":"IF(O1624=\"Business Firm billable\",VLOOKUP(A1624,'Hourly rates'!$B$2:$E$40,4,FALSE),VLOOKUP(A1624,'Hourly rates'!$B$2:$E$40,2,FALSE))","v":12},15]
["Dwyer, Andy","Business Firm:Admin SP","Intern",1099,null,1.25,"2015-05-06","2015-05-09","Wed",null,"NonBill","ZZ","2015-05-21",null,"Special Projects",null,{"$f":"IF(O1625=\"Business Firm billable\",VLOOKUP(A1625,'Hourly rates'!$B$2:$E$40,4,FALSE),VLOOKUP(A1625,'Hourly rates'!$B$2:$E$40,2,FALSE))","v":12},15]
["Dwyer, Andy","Business Firm:Administration","Intern",1099,null,1.75,"2015-05-06","2015-05-09","Wed",null,"NonBill","ZZ","2015-05-21","GL Project","Finance",null,{"$f":"IF(O1626=\"Business Firm billable\",VLOOKUP(A1626,'Hourly rates'!$B$2:$E$40,4,FALSE),VLOOKUP(A1626,'Hourly rates'!$B$2:$E$40,2,FALSE))","v":12},21]
["Delgado, Manny","Business Firm:Administration","Intern",1099,null,4,"2015-05-07","2015-05-09","Thu",null,"NonBill","ZZ","2015-05-21",null,"Special Projects",null,{"$f":"IF(O1627=\"Business Firm billable\",VLOOKUP(A1627,'Hourly rates'!$B$2:$E$40,4,FALSE),VLOOKUP(A1627,'Hourly rates'!$B$2:$E$40,2,FALSE))","v":12},48]
["Knope, Leslie","Business Firm:Admin SP","Intern",1099,null,3,"2015-05-07","2015-05-09","Thu",null,"NonBill","ZZ","2015-05-21",null,{"$f":"IF(B1628=$B$1454,\"Special Projects\",\"\")","v":"Special Projects"},null,{"$f":"IF(O1628=\"Business Firm billable\",VLOOKUP(A1628,'Hourly rates'!$B$2:$E$40,4,FALSE),VLOOKUP(A1628,'Hourly rates'!$B$2:$E$40,2,FALSE))","v":12},36]
["Swanson, Ron","Business Firm:Admin SP","Intern",1099,null,5,"2015-05-07","2015-05-09","Thu",null,"NonBill","ZZ","2015-05-21",null,{"$f":"IF(B1629=$B$1454,\"Special Projects\",\"\")","v":"Special Projects"},null,{"$f":"IF(O1629=\"Business Firm billable\",VLOOKUP(A1629,'Hourly rates'!$B$2:$E$40,4,FALSE),VLOOKUP(A1629,'Hourly rates'!$B$2:$E$40,2,FALSE))","v":12},60]
["Meagle, Donna","Business Firm:Administration","Intern",1099,null,4,"2015-05-07","2015-05-09","Thu",null,"NonBill","ZZ","2015-05-21"," Research Project - Office Space Search","Finance",null,{"$f":"IF(O1630=\"Business Firm billable\",VLOOKUP(A1630,'Hourly rates'!$B$2:$E$40,4,FALSE),VLOOKUP(A1630,'Hourly rates'!$B$2:$E$40,2,FALSE))","v":12},48]
["Dwyer, Andy","Business Firm:Admin SP","Intern",1099,null,1.25,"2015-05-07","2015-05-09","Thu",null,"NonBill","ZZ","2015-05-21",null,{"$f":"IF(B1631=$B$1454,\"Special Projects\",\"\")","v":"Special Projects"},null,{"$f":"IF(O1631=\"Business Firm billable\",VLOOKUP(A1631,'Hourly rates'!$B$2:$E$40,4,FALSE),VLOOKUP(A1631,'Hourly rates'!$B$2:$E$40,2,FALSE))","v":12},15]
["Dwyer, Andy","Business Firm:Administration","Intern",1099,null,5.25,"2015-05-07","2015-05-09","Thu",null,"NonBill","ZZ","2015-05-21","GL Project","Finance",null,{"$f":"IF(O1632=\"Business Firm billable\",VLOOKUP(A1632,'Hourly rates'!$B$2:$E$40,4,FALSE),VLOOKUP(A1632,'Hourly rates'!$B$2:$E$40,2,FALSE))","v":12},63]
["Knope, Leslie","Business Firm:Administration","Intern",1099,null,1.25,"2015-05-08","2015-05-09","Fri",null,"NonBill","ZZ","2015-05-21","Internal Finance","Finance",null,{"$f":"IF(O1633=\"Business Firm billable\",VLOOKUP(A1633,'Hourly rates'!$B$2:$E$40,4,FALSE),VLOOKUP(A1633,'Hourly rates'!$B$2:$E$40,2,FALSE))","v":12},15]
["Swanson, Ron","Business Firm:Admin SP","Intern",1099,null,4,"2015-05-08","2015-05-09","Fri",null,"NonBill","ZZ","2015-05-21",null,{"$f":"IF(B1634=$B$1454,\"Special Projects\",\"\")","v":"Special Projects"},null,{"$f":"IF(O1634=\"Business Firm billable\",VLOOKUP(A1634,'Hourly rates'!$B$2:$E$40,4,FALSE),VLOOKUP(A1634,'Hourly rates'!$B$2:$E$40,2,FALSE))","v":12},48]
["Meagle, Donna","Business Firm:Administration","Intern",1099,null,3,"2015-05-08","2015-05-09","Fri",null,"NonBill","ZZ","2015-05-21"," Research Project - Office Space Search","Finance",null,{"$f":"IF(O1635=\"Business Firm billable\",VLOOKUP(A1635,'Hourly rates'!$B$2:$E$40,4,FALSE),VLOOKUP(A1635,'Hourly rates'!$B$2:$E$40,2,FALSE))","v":12},36]
["Dwyer, Andy","Business Firm:Admin SP","Intern",1099,null,1.25,"2015-05-08","2015-05-09","Fri",null,"NonBill","ZZ","2015-05-21",null,{"$f":"IF(B1636=$B$1454,\"Special Projects\",\"\")","v":"Special Projects"},null,{"$f":"IF(O1636=\"Business Firm billable\",VLOOKUP(A1636,'Hourly rates'!$B$2:$E$40,4,FALSE),VLOOKUP(A1636,'Hourly rates'!$B$2:$E$40,2,FALSE))","v":12},15]
["Dwyer, Andy","Gil Thorpe Realty:Tech Acctg","Intern",1099,null,2.25,"2015-05-08","2015-05-09","Fri",null,"Admin 9%","ZZ","2015-05-21",null,"Business Firm billable",null,{"$f":"IF(O1637=\"Business Firm billable\",VLOOKUP(A1637,'Hourly rates'!$B$2:$E$40,4,FALSE),VLOOKUP(A1637,'Hourly rates'!$B$2:$E$40,2,FALSE))","v":83},186.75]
["Wyatt, Ben","Business Firm:Admin SP","Intern",1099,null,1,"2015-05-09","2015-05-09","Sat",null,"NonBill","ZZ","2015-05-21",null,{"$f":"IF(B1638=$B$1454,\"Special Projects\",\"\")","v":"Special Projects"},null,{"$f":"IF(O1638=\"Business Firm billable\",VLOOKUP(A1638,'Hourly rates'!$B$2:$E$40,4,FALSE),VLOOKUP(A1638,'Hourly rates'!$B$2:$E$40,2,FALSE))","v":12},12]
["Meagle, Donna","Business Firm:Admin SP","Intern",1099,null,5,"2015-05-09","2015-05-09","Sat",null,"NonBill","ZZ","2015-05-21",null,{"$f":"IF(B1639=$B$1454,\"Special Projects\",\"\")","v":"Special Projects"},null,{"$f":"IF(O1639=\"Business Firm billable\",VLOOKUP(A1639,'Hourly rates'!$B$2:$E$40,4,FALSE),VLOOKUP(A1639,'Hourly rates'!$B$2:$E$40,2,FALSE))","v":12},60]
["Pritchett, Jay","Business Firm:Admin SP","Intern",1099,null,1.75,"2015-05-09","2015-05-09","Sat",null,"NonBill","ZZ","2015-05-21",null,{"$f":"IF(B1640=$B$1454,\"Special Projects\",\"\")","v":"Special Projects"},null,{"$f":"IF(O1640=\"Business Firm billable\",VLOOKUP(A1640,'Hourly rates'!$B$2:$E$40,4,FALSE),VLOOKUP(A1640,'Hourly rates'!$B$2:$E$40,2,FALSE))","v":12},21]
["Raines, Audrey","Business Firm:Admin SP","Intern",1099,null,3.75,"2015-05-09","2015-05-09","Sat",null,"NonBill","ZZ","2015-05-21",null,{"$f":"IF(B1641=$B$1454,\"Special Projects\",\"\")","v":"Special Projects"},null,{"$f":"IF(O1641=\"Business Firm billable\",VLOOKUP(A1641,'Hourly rates'!$B$2:$E$40,4,FALSE),VLOOKUP(A1641,'Hourly rates'!$B$2:$E$40,2,FALSE))","v":12},45]
["Tucker, Cameron","Business Firm:Administration","Intern",1099,null,0,"2015-05-09","2015-05-09","Sat",null,"NonBill","ZZ","2015-05-21",null,"BIZ Research Projects",null,{"$f":"IF(O1642=\"Business Firm billable\",VLOOKUP(A1642,'Hourly rates'!$B$2:$E$40,4,FALSE),VLOOKUP(A1642,'Hourly rates'!$B$2:$E$40,2,FALSE))","v":12},0]
["Dwyer, Andy","Gil Thorpe Realty:Tech Acctg","Intern",1099,null,1.75,"2015-05-09","2015-05-09","Sat",null,"Admin 9%","ZZ","2015-05-21",null,"Business Firm billable",null,{"$f":"IF(O1643=\"Business Firm billable\",VLOOKUP(A1643,'Hourly rates'!$B$2:$E$40,4,FALSE),VLOOKUP(A1643,'Hourly rates'!$B$2:$E$40,2,FALSE))","v":83},145.25]
["Swanson, Ron","Business Firm:Admin SP","Intern",1099,null,1.25,"2015-05-10","2015-05-16","Sun",null,"NonBill","ZZ","2015-05-21",null,{"$f":"IF(B1644=$B$1454,\"Special Projects\",\"\")","v":"Special Projects"},null,{"$f":"IF(O1644=\"Business Firm billable\",VLOOKUP(A1644,'Hourly rates'!$B$2:$E$40,4,FALSE),VLOOKUP(A1644,'Hourly rates'!$B$2:$E$40,2,FALSE))","v":12},15]
["Meagle, Donna","Business Firm:Admin SP","Intern",1099,null,2,"2015-05-10","2015-05-16","Sun",null,"NonBill","ZZ","2015-05-21",null,{"$f":"IF(B1645=$B$1454,\"Special Projects\",\"\")","v":"Special Projects"},null,{"$f":"IF(O1645=\"Business Firm billable\",VLOOKUP(A1645,'Hourly rates'!$B$2:$E$40,4,FALSE),VLOOKUP(A1645,'Hourly rates'!$B$2:$E$40,2,FALSE))","v":12},24]
["Delgado, Manny","Business Firm:Admin SP","Intern",1099,null,3,"2015-05-11","2015-05-16","Mon",null,"NonBill","ZZ","2015-05-21",null,{"$f":"IF(B1646=$B$1454,\"Special Projects\",\"\")","v":"Special Projects"},null,{"$f":"IF(O1646=\"Business Firm billable\",VLOOKUP(A1646,'Hourly rates'!$B$2:$E$40,4,FALSE),VLOOKUP(A1646,'Hourly rates'!$B$2:$E$40,2,FALSE))","v":12},36]
["Knope, Leslie","Business Firm:Admin SP","Intern",1099,null,1,"2015-05-11","2015-05-16","Mon",null,"NonBill","ZZ","2015-05-21",null,{"$f":"IF(B1647=$B$1454,\"Special Projects\",\"\")","v":"Special Projects"},null,{"$f":"IF(O1647=\"Business Firm billable\",VLOOKUP(A1647,'Hourly rates'!$B$2:$E$40,4,FALSE),VLOOKUP(A1647,'Hourly rates'!$B$2:$E$40,2,FALSE))","v":12},12]
["Wyatt, Ben","Business Firm:Admin SP","Intern",1099,null,1.75,"2015-05-11","2015-05-16","Mon",null,"NonBill","ZZ","2015-05-21",null,{"$f":"IF(B1648=$B$1454,\"Special Projects\",\"\")","v":"Special Projects"},null,{"$f":"IF(O1648=\"Business Firm billable\",VLOOKUP(A1648,'Hourly rates'!$B$2:$E$40,4,FALSE),VLOOKUP(A1648,'Hourly rates'!$B$2:$E$40,2,FALSE))","v":12},21]
["Wyatt, Ben","Business Firm:Administration","Intern",1099,null,1.25,"2015-05-11","2015-05-16","Mon",null,"NonBill","ZZ","2015-05-21",null,"Special Projects",null,{"$f":"IF(O1649=\"Business Firm billable\",VLOOKUP(A1649,'Hourly rates'!$B$2:$E$40,4,FALSE),VLOOKUP(A1649,'Hourly rates'!$B$2:$E$40,2,FALSE))","v":12},15]
["Pritchett, Jay","Business Firm:Admin SP","Intern",1099,null,1.25,"2015-05-11","2015-05-16","Mon",null,"NonBill","ZZ","2015-05-21",null,{"$f":"IF(B1650=$B$1454,\"Special Projects\",\"\")","v":"Special Projects"},null,{"$f":"IF(O1650=\"Business Firm billable\",VLOOKUP(A1650,'Hourly rates'!$B$2:$E$40,4,FALSE),VLOOKUP(A1650,'Hourly rates'!$B$2:$E$40,2,FALSE))","v":12},15]
["Dunphy, Phil","Business Firm:Admin SP","Intern",1099,null,1.25,"2015-05-11","2015-05-16","Mon",null,"NonBill","ZZ","2015-05-21",null,{"$f":"IF(B1651=$B$1454,\"Special Projects\",\"\")","v":"Special Projects"},null,{"$f":"IF(O1651=\"Business Firm billable\",VLOOKUP(A1651,'Hourly rates'!$B$2:$E$40,4,FALSE),VLOOKUP(A1651,'Hourly rates'!$B$2:$E$40,2,FALSE))","v":12},15]
["Dwyer, Andy","Business Firm:Admin SP","Intern",1099,null,1.75,"2015-05-11","2015-05-16","Mon",null,"NonBill","ZZ","2015-05-21",null,{"$f":"IF(B1652=$B$1454,\"Special Projects\",\"\")","v":"Special Projects"},null,{"$f":"IF(O1652=\"Business Firm billable\",VLOOKUP(A1652,'Hourly rates'!$B$2:$E$40,4,FALSE),VLOOKUP(A1652,'Hourly rates'!$B$2:$E$40,2,FALSE))","v":12},21]
["Dwyer, Andy","Business Firm:Administration","Intern",1099,null,7,"2015-05-11","2015-05-16","Mon",null,"NonBill","ZZ","2015-05-21","GL Project","Finance",null,{"$f":"IF(O1653=\"Business Firm billable\",VLOOKUP(A1653,'Hourly rates'!$B$2:$E$40,4,FALSE),VLOOKUP(A1653,'Hourly rates'!$B$2:$E$40,2,FALSE))","v":12},84]
["Delgado, Manny","Business Firm:Admin SP","Intern",1099,null,3,"2015-05-12","2015-05-16","Tue",null,"NonBill","ZZ","2015-05-21",null,{"$f":"IF(B1654=$B$1454,\"Special Projects\",\"\")","v":"Special Projects"},null,{"$f":"IF(O1654=\"Business Firm billable\",VLOOKUP(A1654,'Hourly rates'!$B$2:$E$40,4,FALSE),VLOOKUP(A1654,'Hourly rates'!$B$2:$E$40,2,FALSE))","v":12},36]
["Knope, Leslie","Business Firm:Admin SP","Intern",1099,null,1.25,"2015-05-12","2015-05-16","Tue",null,"NonBill","ZZ","2015-05-21",null,{"$f":"IF(B1655=$B$1454,\"Special Projects\",\"\")","v":"Special Projects"},null,{"$f":"IF(O1655=\"Business Firm billable\",VLOOKUP(A1655,'Hourly rates'!$B$2:$E$40,4,FALSE),VLOOKUP(A1655,'Hourly rates'!$B$2:$E$40,2,FALSE))","v":12},15]
["Wyatt, Ben","Business Firm:Admin SP","Intern",1099,null,1.25,"2015-05-12","2015-05-16","Tue",null,"NonBill","ZZ","2015-05-21",null,{"$f":"IF(B1656=$B$1454,\"Special Projects\",\"\")","v":"Special Projects"},null,{"$f":"IF(O1656=\"Business Firm billable\",VLOOKUP(A1656,'Hourly rates'!$B$2:$E$40,4,FALSE),VLOOKUP(A1656,'Hourly rates'!$B$2:$E$40,2,FALSE))","v":12},15]
["Swanson, Ron","Business Firm:Admin SP","Intern",1099,null,1,"2015-05-12","2015-05-16","Tue",null,"NonBill","ZZ","2015-05-21",null,{"$f":"IF(B1657=$B$1454,\"Special Projects\",\"\")","v":"Special Projects"},null,{"$f":"IF(O1657=\"Business Firm billable\",VLOOKUP(A1657,'Hourly rates'!$B$2:$E$40,4,FALSE),VLOOKUP(A1657,'Hourly rates'!$B$2:$E$40,2,FALSE))","v":12},12]
["Swanson, Ron","Business Firm:Administration","Intern",1099,null,1,"2015-05-12","2015-05-16","Tue",null,"NonBill","ZZ","2015-05-21","Finance support","Finance",null,{"$f":"IF(O1658=\"Business Firm billable\",VLOOKUP(A1658,'Hourly rates'!$B$2:$E$40,4,FALSE),VLOOKUP(A1658,'Hourly rates'!$B$2:$E$40,2,FALSE))","v":12},12]
["Meagle, Donna","Business Firm:Admin SP","Intern",1099,null,4,"2015-05-12","2015-05-16","Tue",null,"NonBill","ZZ","2015-05-21",null,{"$f":"IF(B1659=$B$1454,\"Special Projects\",\"\")","v":"Special Projects"},null,{"$f":"IF(O1659=\"Business Firm billable\",VLOOKUP(A1659,'Hourly rates'!$B$2:$E$40,4,FALSE),VLOOKUP(A1659,'Hourly rates'!$B$2:$E$40,2,FALSE))","v":12},48]
["Pritchett, Jay","Business Firm:Admin SP","Intern",1099,null,1.75,"2015-05-12","2015-05-16","Tue",null,"NonBill","ZZ","2015-05-21",null,{"$f":"IF(B1660=$B$1454,\"Special Projects\",\"\")","v":"Special Projects"},null,{"$f":"IF(O1660=\"Business Firm billable\",VLOOKUP(A1660,'Hourly rates'!$B$2:$E$40,4,FALSE),VLOOKUP(A1660,'Hourly rates'!$B$2:$E$40,2,FALSE))","v":12},21]
["Raines, Audrey","Business Firm:Admin SP","Intern",1099,null,2,"2015-05-12","2015-05-16","Tue",null,"NonBill","ZZ","2015-05-21",null,{"$f":"IF(B1661=$B$1454,\"Special Projects\",\"\")","v":"Special Projects"},null,{"$f":"IF(O1661=\"Business Firm billable\",VLOOKUP(A1661,'Hourly rates'!$B$2:$E$40,4,FALSE),VLOOKUP(A1661,'Hourly rates'!$B$2:$E$40,2,FALSE))","v":12},24]
["Tucker, Cameron","Business Firm:Administration","Intern",1099,null,1.25,"2015-05-12","2015-05-16","Tue",null,"NonBill","ZZ","2015-05-21","Extract Excel Items for Dave","Finance",null,{"$f":"IF(O1662=\"Business Firm billable\",VLOOKUP(A1662,'Hourly rates'!$B$2:$E$40,4,FALSE),VLOOKUP(A1662,'Hourly rates'!$B$2:$E$40,2,FALSE))","v":12},15]
["Dunphy, Phil","Business Firm:Admin SP","Intern",1099,null,1.25,"2015-05-12","2015-05-16","Tue",null,"NonBill","ZZ","2015-05-21",null,{"$f":"IF(B1663=$B$1454,\"Special Projects\",\"\")","v":"Special Projects"},null,{"$f":"IF(O1663=\"Business Firm billable\",VLOOKUP(A1663,'Hourly rates'!$B$2:$E$40,4,FALSE),VLOOKUP(A1663,'Hourly rates'!$B$2:$E$40,2,FALSE))","v":12},15]
["Dwyer, Andy","Business Firm:Admin SP","Intern",1099,null,2.25,"2015-05-12","2015-05-16","Tue",null,"NonBill","ZZ","2015-05-21",null,{"$f":"IF(B1664=$B$1454,\"Special Projects\",\"\")","v":"Special Projects"},null,{"$f":"IF(O1664=\"Business Firm billable\",VLOOKUP(A1664,'Hourly rates'!$B$2:$E$40,4,FALSE),VLOOKUP(A1664,'Hourly rates'!$B$2:$E$40,2,FALSE))","v":12},27]
["Delgado, Manny","Business Firm:Admin SP","Intern",1099,null,3,"2015-05-13","2015-05-16","Wed",null,"NonBill","ZZ","2015-05-21",null,{"$f":"IF(B1665=$B$1454,\"Special Projects\",\"\")","v":"Special Projects"},null,{"$f":"IF(O1665=\"Business Firm billable\",VLOOKUP(A1665,'Hourly rates'!$B$2:$E$40,4,FALSE),VLOOKUP(A1665,'Hourly rates'!$B$2:$E$40,2,FALSE))","v":12},36]
["Wyatt, Ben","Business Firm:Admin SP","Intern",1099,null,1.25,"2015-05-13","2015-05-16","Wed",null,"NonBill","ZZ","2015-05-21",null,{"$f":"IF(B1666=$B$1454,\"Special Projects\",\"\")","v":"Special Projects"},null,{"$f":"IF(O1666=\"Business Firm billable\",VLOOKUP(A1666,'Hourly rates'!$B$2:$E$40,4,FALSE),VLOOKUP(A1666,'Hourly rates'!$B$2:$E$40,2,FALSE))","v":12},{"$f":"Q1666*F1666","v":15}]
["Meagle, Donna","Business Firm:Administration","Intern",1099,null,2,"2015-05-13","2015-05-16","Wed",null,"NonBill","ZZ","2015-05-21","Office Space Search","Finance",null,{"$f":"IF(O1667=\"Business Firm billable\",VLOOKUP(A1667,'Hourly rates'!$B$2:$E$40,4,FALSE),VLOOKUP(A1667,'Hourly rates'!$B$2:$E$40,2,FALSE))","v":12},24]
["Raines, Audrey","Business Firm:Admin SP","Intern",1099,null,1.25,"2015-05-13","2015-05-16","Wed",null,"NonBill","ZZ","2015-05-21",null,{"$f":"IF(B1668=$B$1454,\"Special Projects\",\"\")","v":"Special Projects"},null,{"$f":"IF(O1668=\"Business Firm billable\",VLOOKUP(A1668,'Hourly rates'!$B$2:$E$40,4,FALSE),VLOOKUP(A1668,'Hourly rates'!$B$2:$E$40,2,FALSE))","v":12},15]
["Tucker, Cameron","Business Firm:Administration","Intern",1099,null,5.25,"2015-05-13","2015-05-16","Wed",null,"NonBill","ZZ","2015-05-21","IPO CD&A Data for Chuck","BIZ Research Projects",null,{"$f":"IF(O1669=\"Business Firm billable\",VLOOKUP(A1669,'Hourly rates'!$B$2:$E$40,4,FALSE),VLOOKUP(A1669,'Hourly rates'!$B$2:$E$40,2,FALSE))","v":12},63]
["Dunphy, Phil","Business Firm:Admin SP","Intern",1099,null,1.75,"2015-05-13","2015-05-16","Wed",null,"NonBill","ZZ","2015-05-21",null,{"$f":"IF(B1670=$B$1454,\"Special Projects\",\"\")","v":"Special Projects"},null,{"$f":"IF(O1670=\"Business Firm billable\",VLOOKUP(A1670,'Hourly rates'!$B$2:$E$40,4,FALSE),VLOOKUP(A1670,'Hourly rates'!$B$2:$E$40,2,FALSE))","v":12},21]
["Dwyer, Andy","Business Firm:Administration","Intern",1099,null,7,"2015-05-13","2015-05-16","Wed",null,"NonBill","ZZ","2015-05-21","GL Project","Finance",null,{"$f":"IF(O1671=\"Business Firm billable\",VLOOKUP(A1671,'Hourly rates'!$B$2:$E$40,4,FALSE),VLOOKUP(A1671,'Hourly rates'!$B$2:$E$40,2,FALSE))","v":12},84]
["Delgado, Manny","Business Firm:Admin SP","Intern",1099,null,1,"2015-05-14","2015-05-16","Thu",null,"NonBill","ZZ","2015-05-21",null,{"$f":"IF(B1672=$B$1454,\"Special Projects\",\"\")","v":"Special Projects"},null,{"$f":"IF(O1672=\"Business Firm billable\",VLOOKUP(A1672,'Hourly rates'!$B$2:$E$40,4,FALSE),VLOOKUP(A1672,'Hourly rates'!$B$2:$E$40,2,FALSE))","v":12},12]
["Knope, Leslie","Business Firm:Admin SP","Intern",1099,null,5.25,"2015-05-14","2015-05-16","Thu",null,"NonBill","ZZ","2015-05-21",null,{"$f":"IF(B1673=$B$1454,\"Special Projects\",\"\")","v":"Special Projects"},null,{"$f":"IF(O1673=\"Business Firm billable\",VLOOKUP(A1673,'Hourly rates'!$B$2:$E$40,4,FALSE),VLOOKUP(A1673,'Hourly rates'!$B$2:$E$40,2,FALSE))","v":12},63]
["Wyatt, Ben","Business Firm:Administration","Intern",1099,null,4,"2015-05-14","2015-05-16","Thu",null,"NonBill","ZZ","2015-05-21",null,"Finance",null,{"$f":"IF(O1674=\"Business Firm billable\",VLOOKUP(A1674,'Hourly rates'!$B$2:$E$40,4,FALSE),VLOOKUP(A1674,'Hourly rates'!$B$2:$E$40,2,FALSE))","v":12},48]
["Meagle, Donna","Business Firm:Admin SP","Intern",1099,null,4,"2015-05-14","2015-05-16","Thu",null,"NonBill","ZZ","2015-05-21",null,{"$f":"IF(B1675=$B$1454,\"Special Projects\",\"\")","v":"Special Projects"},null,{"$f":"IF(O1675=\"Business Firm billable\",VLOOKUP(A1675,'Hourly rates'!$B$2:$E$40,4,FALSE),VLOOKUP(A1675,'Hourly rates'!$B$2:$E$40,2,FALSE))","v":12},48]
["Pritchett, Jay","Business Firm:Admin SP","Intern",1099,null,1.25,"2015-05-14","2015-05-16","Thu",null,"NonBill","ZZ","2015-05-21",null,{"$f":"IF(B1676=$B$1454,\"Special Projects\",\"\")","v":"Special Projects"},null,{"$f":"IF(O1676=\"Business Firm billable\",VLOOKUP(A1676,'Hourly rates'!$B$2:$E$40,4,FALSE),VLOOKUP(A1676,'Hourly rates'!$B$2:$E$40,2,FALSE))","v":12},15]
["Raines, Audrey","Business Firm:Admin SP","Intern",1099,null,1,"2015-05-14","2015-05-16","Thu",null,"NonBill","ZZ","2015-05-21",null,{"$f":"IF(B1677=$B$1454,\"Special Projects\",\"\")","v":"Special Projects"},null,{"$f":"IF(O1677=\"Business Firm billable\",VLOOKUP(A1677,'Hourly rates'!$B$2:$E$40,4,FALSE),VLOOKUP(A1677,'Hourly rates'!$B$2:$E$40,2,FALSE))","v":12},12]
["Tucker, Cameron","Business Firm:Administration","Intern",1099,null,1,"2015-05-14","2015-05-16","Thu",null,"NonBill","ZZ","2015-05-21","IPO CD&A Data for Chuck","BIZ Research Projects",null,{"$f":"IF(O1678=\"Business Firm billable\",VLOOKUP(A1678,'Hourly rates'!$B$2:$E$40,4,FALSE),VLOOKUP(A1678,'Hourly rates'!$B$2:$E$40,2,FALSE))","v":12},12]
["Dunphy, Phil","Business Firm:Admin SP","Intern",1099,null,1.75,"2015-05-14","2015-05-16","Thu",null,"NonBill","ZZ","2015-05-21",null,{"$f":"IF(B1679=$B$1454,\"Special Projects\",\"\")","v":"Special Projects"},null,{"$f":"IF(O1679=\"Business Firm billable\",VLOOKUP(A1679,'Hourly rates'!$B$2:$E$40,4,FALSE),VLOOKUP(A1679,'Hourly rates'!$B$2:$E$40,2,FALSE))","v":12},21]
["Dwyer, Andy","Business Firm:Administration","Intern",1099,null,5.75,"2015-05-14","2015-05-16","Thu",null,"NonBill","ZZ","2015-05-21","GL Project","Finance",null,{"$f":"IF(O1680=\"Business Firm billable\",VLOOKUP(A1680,'Hourly rates'!$B$2:$E$40,4,FALSE),VLOOKUP(A1680,'Hourly rates'!$B$2:$E$40,2,FALSE))","v":12},69]
["Wyatt, Ben","Business Firm:Administration","Intern",1099,null,3.25,"2015-05-15","2015-05-16","Fri",null,"NonBill","ZZ","2015-05-21",null,"Finance",null,{"$f":"IF(O1681=\"Business Firm billable\",VLOOKUP(A1681,'Hourly rates'!$B$2:$E$40,4,FALSE),VLOOKUP(A1681,'Hourly rates'!$B$2:$E$40,2,FALSE))","v":12},39]
["Swanson, Ron","Business Firm:Administration","Intern",1099,null,1.25,"2015-05-15","2015-05-16","Fri",null,"NonBill","ZZ","2015-05-21","Finance support","Finance",null,{"$f":"IF(O1682=\"Business Firm billable\",VLOOKUP(A1682,'Hourly rates'!$B$2:$E$40,4,FALSE),VLOOKUP(A1682,'Hourly rates'!$B$2:$E$40,2,FALSE))","v":12},15]
["Tucker, Cameron","Business Firm:Administration","Intern",1099,null,1.25,"2015-05-15","2015-05-16","Fri",null,"NonBill","ZZ","2015-05-21","IPO CD&A Data for Chuck","Finance",null,{"$f":"IF(O1683=\"Business Firm billable\",VLOOKUP(A1683,'Hourly rates'!$B$2:$E$40,4,FALSE),VLOOKUP(A1683,'Hourly rates'!$B$2:$E$40,2,FALSE))","v":12},15]
["Dwyer, Andy","Business Firm:Admin SP","Intern",1099,null,1.75,"2015-05-15","2015-05-16","Fri",null,"NonBill","ZZ","2015-05-21",null,{"$f":"IF(B1684=$B$1454,\"Special Projects\",\"\")","v":"Special Projects"},null,{"$f":"IF(O1684=\"Business Firm billable\",VLOOKUP(A1684,'Hourly rates'!$B$2:$E$40,4,FALSE),VLOOKUP(A1684,'Hourly rates'!$B$2:$E$40,2,FALSE))","v":12},21]
["Dwyer, Andy","Business Firm:Administration","Intern",1099,null,5.25,"2015-05-15","2015-05-16","Fri",null,"NonBill","ZZ","2015-05-21","GL Project","Finance",null,{"$f":"IF(O1685=\"Business Firm billable\",VLOOKUP(A1685,'Hourly rates'!$B$2:$E$40,4,FALSE),VLOOKUP(A1685,'Hourly rates'!$B$2:$E$40,2,FALSE))","v":12},63]
["Swanson, Ron","Business Firm:Administration","Intern",1099,null,3,"2015-05-16","2015-05-16","Sat",null,"NonBill","ZZ","2015-05-21","Finance support","Finance",null,{"$f":"IF(O1686=\"Business Firm billable\",VLOOKUP(A1686,'Hourly rates'!$B$2:$E$40,4,FALSE),VLOOKUP(A1686,'Hourly rates'!$B$2:$E$40,2,FALSE))","v":12},36]
["Pritchett, Jay","Business Firm:Admin SP","Intern",1099,null,1.25,"2015-05-16","2015-05-16","Sat",null,"NonBill","ZZ","2015-05-21",null,{"$f":"IF(B1687=$B$1454,\"Special Projects\",\"\")","v":"Special Projects"},null,{"$f":"IF(O1687=\"Business Firm billable\",VLOOKUP(A1687,'Hourly rates'!$B$2:$E$40,4,FALSE),VLOOKUP(A1687,'Hourly rates'!$B$2:$E$40,2,FALSE))","v":12},15]
["Raines, Audrey","Business Firm:Admin SP","Intern",1099,null,2,"2015-05-16","2015-05-16","Sat",null,"NonBill","ZZ","2015-05-21",null,{"$f":"IF(B1688=$B$1454,\"Special Projects\",\"\")","v":"Special Projects"},null,{"$f":"IF(O1688=\"Business Firm billable\",VLOOKUP(A1688,'Hourly rates'!$B$2:$E$40,4,FALSE),VLOOKUP(A1688,'Hourly rates'!$B$2:$E$40,2,FALSE))","v":12},24]
["Dwyer, Andy","Business Firm:Admin SP","Intern",1099,null,2,"2015-05-16","2015-05-16","Sat",null,"NonBill","ZZ","2015-05-21",null,{"$f":"IF(B1689=$B$1454,\"Special Projects\",\"\")","v":"Special Projects"},null,{"$f":"IF(O1689=\"Business Firm billable\",VLOOKUP(A1689,'Hourly rates'!$B$2:$E$40,4,FALSE),VLOOKUP(A1689,'Hourly rates'!$B$2:$E$40,2,FALSE))","v":12},24]
["Dwyer, Andy","Business Firm:Administration","Intern",1099,null,1.25,"2015-05-16","2015-05-16","Sat",null,"NonBill","ZZ","2015-05-21","GL Project","Finance",null,{"$f":"IF(O1690=\"Business Firm billable\",VLOOKUP(A1690,'Hourly rates'!$B$2:$E$40,4,FALSE),VLOOKUP(A1690,'Hourly rates'!$B$2:$E$40,2,FALSE))","v":12},15]
["Delgado, Manny","Business Firm:Admin SP","Intern",1099,null,3,"2015-05-18",{"$f":"G1691+7-WEEKDAY(G1691)","v":"2015-05-23"},"Mon",null,"NonBill","ZZ","2015-06-02",null,{"$f":"IF(B1691=$B$1454,\"Special Projects\",\"\")","v":"Special Projects"},null,{"$f":"IF(O1691=\"Business Firm billable\",VLOOKUP(A1691,'Hourly rates'!$B$2:$E$40,4,FALSE),VLOOKUP(A1691,'Hourly rates'!$B$2:$E$40,2,FALSE))","v":12},36]
["Delgado, Manny","Business Firm:Admin SP","Intern",1099,null,4,"2015-05-19","2015-05-23","Tue",null,"NonBill","ZZ","2015-06-02",null,"Special Projects",null,{"$f":"IF(O1692=\"Business Firm billable\",VLOOKUP(A1692,'Hourly rates'!$B$2:$E$40,4,FALSE),VLOOKUP(A1692,'Hourly rates'!$B$2:$E$40,2,FALSE))","v":12},48]
["Delgado, Manny","Business Firm:Admin SP","Intern",1099,null,3,"2015-05-20","2015-05-23","Wed",null,"NonBill","ZZ","2015-06-02",null,"Special Projects",null,{"$f":"IF(O1693=\"Business Firm billable\",VLOOKUP(A1693,'Hourly rates'!$B$2:$E$40,4,FALSE),VLOOKUP(A1693,'Hourly rates'!$B$2:$E$40,2,FALSE))","v":12},36]
["Delgado, Manny","Business Firm:Admin SP","Intern",1099,null,1,"2015-05-26","2015-05-30","Tue",null,"NonBill","ZZ","2015-06-03",null,"Special Projects",null,{"$f":"IF(O1694=\"Business Firm billable\",VLOOKUP(A1694,'Hourly rates'!$B$2:$E$40,4,FALSE),VLOOKUP(A1694,'Hourly rates'!$B$2:$E$40,2,FALSE))","v":12},12]
["Delgado, Manny","Business Firm:Admin SP","Intern",1099,null,4,"2015-05-28","2015-05-30","Thu",null,"NonBill","ZZ","2015-06-03",null,"Special Projects",null,{"$f":"IF(O1695=\"Business Firm billable\",VLOOKUP(A1695,'Hourly rates'!$B$2:$E$40,4,FALSE),VLOOKUP(A1695,'Hourly rates'!$B$2:$E$40,2,FALSE))","v":12},48]
["Knope, Leslie","Business Firm:Admin SP","Intern",1099,null,2.25,"2015-05-19","2015-05-23","Tue",null,"NonBill","ZZ","2015-06-02",null,"Special Projects",null,{"$f":"IF(O1696=\"Business Firm billable\",VLOOKUP(A1696,'Hourly rates'!$B$2:$E$40,4,FALSE),VLOOKUP(A1696,'Hourly rates'!$B$2:$E$40,2,FALSE))","v":12},27]
["Knope, Leslie","Business Firm:Admin SP","Intern",1099,null,1.75,"2015-05-26","2015-05-30","Tue",null,"NonBill","ZZ","2015-06-03",null,"Special Projects",null,{"$f":"IF(O1697=\"Business Firm billable\",VLOOKUP(A1697,'Hourly rates'!$B$2:$E$40,4,FALSE),VLOOKUP(A1697,'Hourly rates'!$B$2:$E$40,2,FALSE))","v":12},21]
["Knope, Leslie","Business Firm:Admin SP","Intern",1099,null,1.25,"2015-05-27","2015-05-30","Wed",null,"NonBill","ZZ","2015-06-03",null,"Special Projects",null,{"$f":"IF(O1698=\"Business Firm billable\",VLOOKUP(A1698,'Hourly rates'!$B$2:$E$40,4,FALSE),VLOOKUP(A1698,'Hourly rates'!$B$2:$E$40,2,FALSE))","v":12},15]
["Knope, Leslie","Business Firm:Administration","Intern",1099,null,1.75,"2015-05-19","2015-05-23","Tue",null,"NonBill","ZZ","2015-06-02",null,"Finance",null,{"$f":"IF(O1699=\"Business Firm billable\",VLOOKUP(A1699,'Hourly rates'!$B$2:$E$40,4,FALSE),VLOOKUP(A1699,'Hourly rates'!$B$2:$E$40,2,FALSE))","v":12},21]
["Knope, Leslie","Business Firm:Administration","Intern",1099,null,1.25,"2015-05-21","2015-05-23","Thu",null,"NonBill","ZZ","2015-06-02",null,"Finance",null,{"$f":"IF(O1700=\"Business Firm billable\",VLOOKUP(A1700,'Hourly rates'!$B$2:$E$40,4,FALSE),VLOOKUP(A1700,'Hourly rates'!$B$2:$E$40,2,FALSE))","v":12},15]
["Knope, Leslie","Business Firm:Administration","Intern",1099,null,1,"2015-05-26","2015-05-30","Tue",null,"NonBill","ZZ","2015-06-03","Internal Finance","Finance",null,{"$f":"IF(O1701=\"Business Firm billable\",VLOOKUP(A1701,'Hourly rates'!$B$2:$E$40,4,FALSE),VLOOKUP(A1701,'Hourly rates'!$B$2:$E$40,2,FALSE))","v":12},12]
["Knope, Leslie","Business Firm:Administration","Intern",1099,null,2,"2015-05-29","2015-05-30","Fri",null,"NonBill","ZZ","2015-06-03","Internal Finance","Finance",null,{"$f":"IF(O1702=\"Business Firm billable\",VLOOKUP(A1702,'Hourly rates'!$B$2:$E$40,4,FALSE),VLOOKUP(A1702,'Hourly rates'!$B$2:$E$40,2,FALSE))","v":12},24]
["Wyatt, Ben","Business Firm:Admin SP","Intern",1099,null,1,"2015-05-18","2015-05-23","Mon",null,"NonBill","ZZ","2015-06-02",null,{"$f":"IF(B1703=$B$1454,\"Special Projects\",\"\")","v":"Special Projects"},null,{"$f":"IF(O1703=\"Business Firm billable\",VLOOKUP(A1703,'Hourly rates'!$B$2:$E$40,4,FALSE),VLOOKUP(A1703,'Hourly rates'!$B$2:$E$40,2,FALSE))","v":12},12]
["Wyatt, Ben","Business Firm:Admin SP","Intern",1099,null,1,"2015-05-19","2015-05-23","Tue",null,"NonBill","ZZ","2015-06-02",null,{"$f":"IF(B1704=$B$1454,\"Special Projects\",\"\")","v":"Special Projects"},null,{"$f":"IF(O1704=\"Business Firm billable\",VLOOKUP(A1704,'Hourly rates'!$B$2:$E$40,4,FALSE),VLOOKUP(A1704,'Hourly rates'!$B$2:$E$40,2,FALSE))","v":12},12]
["Wyatt, Ben","Business Firm:Admin SP","Intern",1099,null,1.75,"2015-05-20","2015-05-23","Wed",null,"NonBill","ZZ","2015-06-02",null,{"$f":"IF(B1705=$B$1454,\"Special Projects\",\"\")","v":"Special Projects"},null,{"$f":"IF(O1705=\"Business Firm billable\",VLOOKUP(A1705,'Hourly rates'!$B$2:$E$40,4,FALSE),VLOOKUP(A1705,'Hourly rates'!$B$2:$E$40,2,FALSE))","v":12},21]
["Wyatt, Ben","Business Firm:Admin SP","Intern",1099,null,2,"2015-05-26","2015-05-30","Tue",null,"NonBill","ZZ","2015-06-03",null,{"$f":"IF(B1706=$B$1454,\"Special Projects\",\"\")","v":"Special Projects"},null,{"$f":"IF(O1706=\"Business Firm billable\",VLOOKUP(A1706,'Hourly rates'!$B$2:$E$40,4,FALSE),VLOOKUP(A1706,'Hourly rates'!$B$2:$E$40,2,FALSE))","v":12},24]
["Wyatt, Ben","Business Firm:Admin SP","Intern",1099,null,2,"2015-05-29","2015-05-30","Fri",null,"NonBill","ZZ","2015-06-03",null,{"$f":"IF(B1707=$B$1454,\"Special Projects\",\"\")","v":"Special Projects"},null,{"$f":"IF(O1707=\"Business Firm billable\",VLOOKUP(A1707,'Hourly rates'!$B$2:$E$40,4,FALSE),VLOOKUP(A1707,'Hourly rates'!$B$2:$E$40,2,FALSE))","v":12},24]
["Wyatt, Ben","Business Firm:Administration","Intern",1099,null,1.25,"2015-05-18","2015-05-23","Mon",null,"NonBill","ZZ","2015-06-02",null,"Special Projects",null,{"$f":"IF(O1708=\"Business Firm billable\",VLOOKUP(A1708,'Hourly rates'!$B$2:$E$40,4,FALSE),VLOOKUP(A1708,'Hourly rates'!$B$2:$E$40,2,FALSE))","v":12},15]
["Wyatt, Ben","Business Firm:Administration","Intern",1099,null,1.25,"2015-05-19","2015-05-23","Tue",null,"NonBill","ZZ","2015-06-02",null,"Special Projects",null,{"$f":"IF(O1709=\"Business Firm billable\",VLOOKUP(A1709,'Hourly rates'!$B$2:$E$40,4,FALSE),VLOOKUP(A1709,'Hourly rates'!$B$2:$E$40,2,FALSE))","v":12},15]
["Wyatt, Ben","Business Firm:Administration","Intern",1099,null,1.75,"2015-05-20","2015-05-23","Wed",null,"NonBill","ZZ","2015-06-02",null,"Special Projects",null,{"$f":"IF(O1710=\"Business Firm billable\",VLOOKUP(A1710,'Hourly rates'!$B$2:$E$40,4,FALSE),VLOOKUP(A1710,'Hourly rates'!$B$2:$E$40,2,FALSE))","v":12},21]
["Swanson, Ron","Business Firm:Admin SP","Intern",1099,null,1,"2015-05-19","2015-05-23","Tue",null,"NonBill","ZZ","2015-06-02",null,{"$f":"IF(B1711=$B$1454,\"Special Projects\",\"\")","v":"Special Projects"},null,{"$f":"IF(O1711=\"Business Firm billable\",VLOOKUP(A1711,'Hourly rates'!$B$2:$E$40,4,FALSE),VLOOKUP(A1711,'Hourly rates'!$B$2:$E$40,2,FALSE))","v":12},12]
["Swanson, Ron","Business Firm:Admin SP","Intern",1099,null,4,"2015-05-20","2015-05-23","Wed",null,"NonBill","ZZ","2015-06-02",null,{"$f":"IF(B1712=$B$1454,\"Special Projects\",\"\")","v":"Special Projects"},null,{"$f":"IF(O1712=\"Business Firm billable\",VLOOKUP(A1712,'Hourly rates'!$B$2:$E$40,4,FALSE),VLOOKUP(A1712,'Hourly rates'!$B$2:$E$40,2,FALSE))","v":12},48]
["Swanson, Ron","Business Firm:Admin SP","Intern",1099,null,6,"2015-05-26","2015-05-30","Tue",null,"NonBill","ZZ","2015-06-03",null,{"$f":"IF(B1713=$B$1454,\"Special Projects\",\"\")","v":"Special Projects"},null,{"$f":"IF(O1713=\"Business Firm billable\",VLOOKUP(A1713,'Hourly rates'!$B$2:$E$40,4,FALSE),VLOOKUP(A1713,'Hourly rates'!$B$2:$E$40,2,FALSE))","v":12},72]
["Swanson, Ron","Business Firm:Admin SP","Intern",1099,null,6,"2015-05-27","2015-05-30","Wed",null,"NonBill","ZZ","2015-06-03",null,{"$f":"IF(B1714=$B$1454,\"Special Projects\",\"\")","v":"Special Projects"},null,{"$f":"IF(O1714=\"Business Firm billable\",VLOOKUP(A1714,'Hourly rates'!$B$2:$E$40,4,FALSE),VLOOKUP(A1714,'Hourly rates'!$B$2:$E$40,2,FALSE))","v":12},72]
["Swanson, Ron","Business Firm:Admin SP","Intern",1099,null,6,"2015-05-28","2015-05-30","Thu",null,"NonBill","ZZ","2015-06-03",null,{"$f":"IF(B1715=$B$1454,\"Special Projects\",\"\")","v":"Special Projects"},null,{"$f":"IF(O1715=\"Business Firm billable\",VLOOKUP(A1715,'Hourly rates'!$B$2:$E$40,4,FALSE),VLOOKUP(A1715,'Hourly rates'!$B$2:$E$40,2,FALSE))","v":12},72]
["Swanson, Ron","Business Firm:Administration","Intern",1099,null,2,"2015-05-18","2015-05-23","Mon",null,"NonBill","ZZ","2015-06-02","Finance support","Finance",null,{"$f":"IF(O1716=\"Business Firm billable\",VLOOKUP(A1716,'Hourly rates'!$B$2:$E$40,4,FALSE),VLOOKUP(A1716,'Hourly rates'!$B$2:$E$40,2,FALSE))","v":12},24]
["Swanson, Ron","Business Firm:Administration","Intern",1099,null,1,"2015-05-19","2015-05-23","Tue",null,"NonBill","ZZ","2015-06-02","Finance support","Finance",null,{"$f":"IF(O1717=\"Business Firm billable\",VLOOKUP(A1717,'Hourly rates'!$B$2:$E$40,4,FALSE),VLOOKUP(A1717,'Hourly rates'!$B$2:$E$40,2,FALSE))","v":12},12]
["Swanson, Ron","Business Firm:Administration","Intern",1099,null,2,"2015-05-27","2015-05-30","Wed",null,"NonBill","ZZ","2015-06-03","Finance support","Finance",null,{"$f":"IF(O1718=\"Business Firm billable\",VLOOKUP(A1718,'Hourly rates'!$B$2:$E$40,4,FALSE),VLOOKUP(A1718,'Hourly rates'!$B$2:$E$40,2,FALSE))","v":12},24]
["Meagle, Donna","Business Firm:Admin SP","Intern",1099,null,3,"2015-05-18","2015-05-23","Mon",null,"NonBill","ZZ","2015-06-02",null,{"$f":"IF(B1719=$B$1454,\"Special Projects\",\"\")","v":"Special Projects"},null,{"$f":"IF(O1719=\"Business Firm billable\",VLOOKUP(A1719,'Hourly rates'!$B$2:$E$40,4,FALSE),VLOOKUP(A1719,'Hourly rates'!$B$2:$E$40,2,FALSE))","v":12},36]
["Meagle, Donna","Business Firm:Administration","Intern",1099,null,1,"2015-05-17","2015-05-23","Sun",null,"NonBill","ZZ","2015-06-02","Research Project - Office Space Search","Finance",null,{"$f":"IF(O1720=\"Business Firm billable\",VLOOKUP(A1720,'Hourly rates'!$B$2:$E$40,4,FALSE),VLOOKUP(A1720,'Hourly rates'!$B$2:$E$40,2,FALSE))","v":12},12]
["Meagle, Donna","Business Firm:Administration","Intern",1099,null,1,"2015-05-23","2015-05-23","Sat",null,"NonBill","ZZ","2015-06-02","Research Project - Office Space Search","Finance",null,{"$f":"IF(O1721=\"Business Firm billable\",VLOOKUP(A1721,'Hourly rates'!$B$2:$E$40,4,FALSE),VLOOKUP(A1721,'Hourly rates'!$B$2:$E$40,2,FALSE))","v":12},12]
["Pritchett, Jay","Business Firm:Admin SP","Intern",1099,null,1.25,"2015-05-18","2015-05-23","Mon",null,"NonBill","ZZ","2015-06-02",null,{"$f":"IF(B1722=$B$1454,\"Special Projects\",\"\")","v":"Special Projects"},null,{"$f":"IF(O1722=\"Business Firm billable\",VLOOKUP(A1722,'Hourly rates'!$B$2:$E$40,4,FALSE),VLOOKUP(A1722,'Hourly rates'!$B$2:$E$40,2,FALSE))","v":12},15]
["Pritchett, Jay","Business Firm:Admin SP","Intern",1099,null,1.25,"2015-05-19","2015-05-23","Tue",null,"NonBill","ZZ","2015-06-02",null,"Special Projects",null,{"$f":"IF(O1723=\"Business Firm billable\",VLOOKUP(A1723,'Hourly rates'!$B$2:$E$40,4,FALSE),VLOOKUP(A1723,'Hourly rates'!$B$2:$E$40,2,FALSE))","v":12},15]
["Pritchett, Jay","Business Firm:Admin SP","Intern",1099,null,1.25,"2015-05-22","2015-05-23","Fri",null,"NonBill","ZZ","2015-06-02",null,"Special Projects",null,{"$f":"IF(O1724=\"Business Firm billable\",VLOOKUP(A1724,'Hourly rates'!$B$2:$E$40,4,FALSE),VLOOKUP(A1724,'Hourly rates'!$B$2:$E$40,2,FALSE))","v":12},15]
["Pritchett, Jay","Business Firm:Admin SP","Intern",1099,null,1.75,"2015-05-23","2015-05-23","Sat",null,"NonBill","ZZ","2015-06-02",null,"Special Projects",null,{"$f":"IF(O1725=\"Business Firm billable\",VLOOKUP(A1725,'Hourly rates'!$B$2:$E$40,4,FALSE),VLOOKUP(A1725,'Hourly rates'!$B$2:$E$40,2,FALSE))","v":12},21]
["Pritchett, Jay","Business Firm:Admin SP","Intern",1099,null,7,"2015-05-25","2015-05-30","Mon",null,"NonBill","ZZ","2015-06-03",null,"Special Projects",null,{"$f":"IF(O1726=\"Business Firm billable\",VLOOKUP(A1726,'Hourly rates'!$B$2:$E$40,4,FALSE),VLOOKUP(A1726,'Hourly rates'!$B$2:$E$40,2,FALSE))","v":12},84]
["Pritchett, Jay","Business Firm:Admin SP","Intern",1099,null,1,"2015-05-26","2015-05-30","Tue",null,"NonBill","ZZ","2015-06-03",null,"Special Projects",null,{"$f":"IF(O1727=\"Business Firm billable\",VLOOKUP(A1727,'Hourly rates'!$B$2:$E$40,4,FALSE),VLOOKUP(A1727,'Hourly rates'!$B$2:$E$40,2,FALSE))","v":12},12]
["Pritchett, Jay","Business Firm:Admin SP","Intern",1099,null,2.25,"2015-05-30","2015-05-30","Sat",null,"NonBill","ZZ","2015-06-03",null,"Special Projects",null,{"$f":"IF(O1728=\"Business Firm billable\",VLOOKUP(A1728,'Hourly rates'!$B$2:$E$40,4,FALSE),VLOOKUP(A1728,'Hourly rates'!$B$2:$E$40,2,FALSE))","v":12},27]
["Raines, Audrey","Business Firm:Admin SP","Intern",1099,null,1.25,"2015-05-18","2015-05-23","Mon",null,"NonBill","ZZ","2015-06-02",null,"Special Projects",null,{"$f":"IF(O1729=\"Business Firm billable\",VLOOKUP(A1729,'Hourly rates'!$B$2:$E$40,4,FALSE),VLOOKUP(A1729,'Hourly rates'!$B$2:$E$40,2,FALSE))","v":12},15]
["Raines, Audrey","Business Firm:Admin SP","Intern",1099,null,1,"2015-05-19","2015-05-23","Tue",null,"NonBill","ZZ","2015-06-02",null,"Special Projects",null,{"$f":"IF(O1730=\"Business Firm billable\",VLOOKUP(A1730,'Hourly rates'!$B$2:$E$40,4,FALSE),VLOOKUP(A1730,'Hourly rates'!$B$2:$E$40,2,FALSE))","v":12},{"$f":"Q1730*F1730","v":12}]
["Raines, Audrey","Business Firm:Admin SP","Intern",1099,null,1.25,"2015-05-23","2015-05-23","Sat",null,"NonBill","ZZ","2015-06-02",null,"Special Projects",null,{"$f":"IF(O1731=\"Business Firm billable\",VLOOKUP(A1731,'Hourly rates'!$B$2:$E$40,4,FALSE),VLOOKUP(A1731,'Hourly rates'!$B$2:$E$40,2,FALSE))","v":12},15]
["Raines, Audrey","Business Firm:Admin SP","Intern",1099,null,1.75,"2015-05-26","2015-05-30","Tue",null,"NonBill","ZZ","2015-06-03",null,"Special Projects",null,{"$f":"IF(O1732=\"Business Firm billable\",VLOOKUP(A1732,'Hourly rates'!$B$2:$E$40,4,FALSE),VLOOKUP(A1732,'Hourly rates'!$B$2:$E$40,2,FALSE))","v":12},21]
["Raines, Audrey","Business Firm:Admin SP","Intern",1099,null,6.25,"2015-05-30","2015-05-30","Sat",null,"NonBill","ZZ","2015-06-03",null,"Special Projects",null,{"$f":"IF(O1733=\"Business Firm billable\",VLOOKUP(A1733,'Hourly rates'!$B$2:$E$40,4,FALSE),VLOOKUP(A1733,'Hourly rates'!$B$2:$E$40,2,FALSE))","v":12},75]
["Tucker, Cameron","Business Firm:Administration","Intern",1099,null,1.25,"2015-05-20","2015-05-23","Wed",null,"NonBill","ZZ","2015-06-02","Info from IPO Vital Signs for Jim","BIZ Research Projects",null,{"$f":"IF(O1734=\"Business Firm billable\",VLOOKUP(A1734,'Hourly rates'!$B$2:$E$40,4,FALSE),VLOOKUP(A1734,'Hourly rates'!$B$2:$E$40,2,FALSE))","v":12},15]
["Tucker, Cameron","Business Firm:Administration","Intern",1099,null,1.75,"2015-05-30","2015-05-30","Sat",null,"NonBill","ZZ","2015-06-03","Update IPO Metrics and CFO Comp Studies","BIZ Research Projects",null,{"$f":"IF(O1735=\"Business Firm billable\",VLOOKUP(A1735,'Hourly rates'!$B$2:$E$40,4,FALSE),VLOOKUP(A1735,'Hourly rates'!$B$2:$E$40,2,FALSE))","v":12},21]
["Dunphy, Phil","Business Firm:Admin SP","Intern",1099,null,1,"2015-05-18","2015-05-23","Mon",null,"NonBill","ZZ","2015-06-02",null,{"$f":"IF(B1736=$B$1454,\"Special Projects\",\"\")","v":"Special Projects"},null,{"$f":"IF(O1736=\"Business Firm billable\",VLOOKUP(A1736,'Hourly rates'!$B$2:$E$40,4,FALSE),VLOOKUP(A1736,'Hourly rates'!$B$2:$E$40,2,FALSE))","v":12},12]
["Dunphy, Phil","Business Firm:Admin SP","Intern",1099,null,1.25,"2015-05-19","2015-05-23","Tue",null,"NonBill","ZZ","2015-06-02",null,"Special Projects",null,{"$f":"IF(O1737=\"Business Firm billable\",VLOOKUP(A1737,'Hourly rates'!$B$2:$E$40,4,FALSE),VLOOKUP(A1737,'Hourly rates'!$B$2:$E$40,2,FALSE))","v":12},15]
["Dunphy, Phil","Business Firm:Admin SP","Intern",1099,null,1,"2015-05-20","2015-05-23","Wed",null,"NonBill","ZZ","2015-06-02",null,"Special Projects",null,{"$f":"IF(O1738=\"Business Firm billable\",VLOOKUP(A1738,'Hourly rates'!$B$2:$E$40,4,FALSE),VLOOKUP(A1738,'Hourly rates'!$B$2:$E$40,2,FALSE))","v":12},12]
["Dunphy, Phil","Business Firm:Admin SP","Intern",1099,null,1.25,"2015-05-21","2015-05-23","Thu",null,"NonBill","ZZ","2015-06-02",null,"Special Projects",null,{"$f":"IF(O1739=\"Business Firm billable\",VLOOKUP(A1739,'Hourly rates'!$B$2:$E$40,4,FALSE),VLOOKUP(A1739,'Hourly rates'!$B$2:$E$40,2,FALSE))","v":12},15]
["Dunphy, Phil","Business Firm:Admin SP","Intern",1099,null,3,"2015-05-22","2015-05-23","Fri",null,"NonBill","ZZ","2015-06-02",null,"Special Projects",null,{"$f":"IF(O1740=\"Business Firm billable\",VLOOKUP(A1740,'Hourly rates'!$B$2:$E$40,4,FALSE),VLOOKUP(A1740,'Hourly rates'!$B$2:$E$40,2,FALSE))","v":12},36]
["Dunphy, Phil","Business Firm:Admin SP","Intern",1099,null,1.25,"2015-05-23","2015-05-23","Sat",null,"NonBill","ZZ","2015-06-02",null,"Special Projects",null,{"$f":"IF(O1741=\"Business Firm billable\",VLOOKUP(A1741,'Hourly rates'!$B$2:$E$40,4,FALSE),VLOOKUP(A1741,'Hourly rates'!$B$2:$E$40,2,FALSE))","v":12},15]
["Dunphy, Phil","Business Firm:Admin SP","Intern",1099,null,1.25,"2015-05-25","2015-05-30","Mon",null,"NonBill","ZZ","2015-06-03",null,"Special Projects",null,{"$f":"IF(O1742=\"Business Firm billable\",VLOOKUP(A1742,'Hourly rates'!$B$2:$E$40,4,FALSE),VLOOKUP(A1742,'Hourly rates'!$B$2:$E$40,2,FALSE))","v":12},15]
["Dunphy, Phil","Business Firm:Admin SP","Intern",1099,null,2,"2015-05-26","2015-05-30","Tue",null,"NonBill","ZZ","2015-06-03",null,"Special Projects",null,{"$f":"IF(O1743=\"Business Firm billable\",VLOOKUP(A1743,'Hourly rates'!$B$2:$E$40,4,FALSE),VLOOKUP(A1743,'Hourly rates'!$B$2:$E$40,2,FALSE))","v":12},24]
["Dunphy, Phil","Business Firm:Admin SP","Intern",1099,null,1.25,"2015-05-27","2015-05-30","Wed",null,"NonBill","ZZ","2015-06-03",null,"Special Projects",null,{"$f":"IF(O1744=\"Business Firm billable\",VLOOKUP(A1744,'Hourly rates'!$B$2:$E$40,4,FALSE),VLOOKUP(A1744,'Hourly rates'!$B$2:$E$40,2,FALSE))","v":12},15]
["Dunphy, Phil","Business Firm:Admin SP","Intern",1099,null,1.25,"2015-05-30","2015-05-30","Sat",null,"NonBill","ZZ","2015-06-03",null,"Special Projects",null,{"$f":"IF(O1745=\"Business Firm billable\",VLOOKUP(A1745,'Hourly rates'!$B$2:$E$40,4,FALSE),VLOOKUP(A1745,'Hourly rates'!$B$2:$E$40,2,FALSE))","v":12},15]
["Dwyer, Andy","Business Firm:Admin SP","Intern",1099,null,1.25,"2015-05-19","2015-05-23","Tue",null,"NonBill","ZZ","2015-06-02",null,"Special Projects",null,{"$f":"IF(O1746=\"Business Firm billable\",VLOOKUP(A1746,'Hourly rates'!$B$2:$E$40,4,FALSE),VLOOKUP(A1746,'Hourly rates'!$B$2:$E$40,2,FALSE))","v":12},15]
["Dwyer, Andy","Business Firm:Admin SP","Intern",1099,null,1.25,"2015-05-20","2015-05-23","Wed",null,"NonBill","ZZ","2015-06-02",null,"Special Projects",null,{"$f":"IF(O1747=\"Business Firm billable\",VLOOKUP(A1747,'Hourly rates'!$B$2:$E$40,4,FALSE),VLOOKUP(A1747,'Hourly rates'!$B$2:$E$40,2,FALSE))","v":12},15]
["Dwyer, Andy","Business Firm:Admin SP","Intern",1099,null,1.75,"2015-05-23","2015-05-23","Sat",null,"NonBill","ZZ","2015-06-02",null,"Special Projects",null,{"$f":"IF(O1748=\"Business Firm billable\",VLOOKUP(A1748,'Hourly rates'!$B$2:$E$40,4,FALSE),VLOOKUP(A1748,'Hourly rates'!$B$2:$E$40,2,FALSE))","v":12},21]
["Dwyer, Andy","Business Firm:Admin SP","Intern",1099,null,1,"2015-05-25","2015-05-30","Mon",null,"NonBill","ZZ","2015-06-03",null,"Special Projects",null,{"$f":"IF(O1749=\"Business Firm billable\",VLOOKUP(A1749,'Hourly rates'!$B$2:$E$40,4,FALSE),VLOOKUP(A1749,'Hourly rates'!$B$2:$E$40,2,FALSE))","v":12},12]
["Dwyer, Andy","Business Firm:Admin SP","Intern",1099,null,1.25,"2015-05-27","2015-05-30","Wed",null,"NonBill","ZZ","2015-06-03",null,"Special Projects",null,{"$f":"IF(O1750=\"Business Firm billable\",VLOOKUP(A1750,'Hourly rates'!$B$2:$E$40,4,FALSE),VLOOKUP(A1750,'Hourly rates'!$B$2:$E$40,2,FALSE))","v":12},15]
["Dwyer, Andy","Business Firm:Admin SP","Intern",1099,null,1.25,"2015-05-28","2015-05-30","Thu",null,"NonBill","ZZ","2015-06-03",null,"Special Projects",null,{"$f":"IF(O1751=\"Business Firm billable\",VLOOKUP(A1751,'Hourly rates'!$B$2:$E$40,4,FALSE),VLOOKUP(A1751,'Hourly rates'!$B$2:$E$40,2,FALSE))","v":12},15]
["Dwyer, Andy","Business Firm:Administration","Intern",1099,null,5.75,"2015-05-18","2015-05-23","Mon",null,"NonBill","ZZ","2015-06-02",null,"Finance",null,{"$f":"IF(O1752=\"Business Firm billable\",VLOOKUP(A1752,'Hourly rates'!$B$2:$E$40,4,FALSE),VLOOKUP(A1752,'Hourly rates'!$B$2:$E$40,2,FALSE))","v":12},69]
["Dwyer, Andy","Business Firm:Administration","Intern",1099,null,1.25,"2015-05-19","2015-05-23","Tue",null,"NonBill","ZZ","2015-06-02",null,"Finance",null,{"$f":"IF(O1753=\"Business Firm billable\",VLOOKUP(A1753,'Hourly rates'!$B$2:$E$40,4,FALSE),VLOOKUP(A1753,'Hourly rates'!$B$2:$E$40,2,FALSE))","v":12},15]
["Dwyer, Andy","Business Firm:Administration","Intern",1099,null,5,"2015-05-20","2015-05-23","Wed",null,"NonBill","ZZ","2015-06-02",null,"Finance",null,{"$f":"IF(O1754=\"Business Firm billable\",VLOOKUP(A1754,'Hourly rates'!$B$2:$E$40,4,FALSE),VLOOKUP(A1754,'Hourly rates'!$B$2:$E$40,2,FALSE))","v":12},60]
["Dwyer, Andy","Business Firm:Administration","Intern",1099,null,3.75,"2015-05-21",{"$f":"G1755+7-WEEKDAY(G1755)","v":"2015-05-23"},"Thu",null,"NonBill","ZZ","2015-06-02",null,"Finance",null,{"$f":"IF(O1755=\"Business Firm billable\",VLOOKUP(A1755,'Hourly rates'!$B$2:$E$40,4,FALSE),VLOOKUP(A1755,'Hourly rates'!$B$2:$E$40,2,FALSE))","v":12},45]
["Dwyer, Andy","Business Firm:Administration","Intern",1099,null,8,"2015-05-22","2015-05-23","Fri",null,"NonBill","ZZ","2015-06-02",null,"Finance",null,{"$f":"IF(O1756=\"Business Firm billable\",VLOOKUP(A1756,'Hourly rates'!$B$2:$E$40,4,FALSE),VLOOKUP(A1756,'Hourly rates'!$B$2:$E$40,2,FALSE))","v":12},96]
["Dwyer, Andy","Business Firm:Administration","Intern",1099,null,1,"2015-05-24","2015-05-30","Sun",null,"NonBill","ZZ","2015-06-03","GL Project","Finance",null,{"$f":"IF(O1757=\"Business Firm billable\",VLOOKUP(A1757,'Hourly rates'!$B$2:$E$40,4,FALSE),VLOOKUP(A1757,'Hourly rates'!$B$2:$E$40,2,FALSE))","v":12},12]
["Dwyer, Andy","Business Firm:Administration","Intern",1099,null,1,"2015-05-24","2015-05-30","Sun",null,"NonBill","ZZ","2015-06-03","SBD Budget","Finance",null,{"$f":"IF(O1758=\"Business Firm billable\",VLOOKUP(A1758,'Hourly rates'!$B$2:$E$40,4,FALSE),VLOOKUP(A1758,'Hourly rates'!$B$2:$E$40,2,FALSE))","v":12},12]
["Dwyer, Andy","Business Firm:Administration","Intern",1099,null,3.75,"2015-05-25","2015-05-30","Mon",null,"NonBill","ZZ","2015-06-03","GL Project","Finance",null,{"$f":"IF(O1759=\"Business Firm billable\",VLOOKUP(A1759,'Hourly rates'!$B$2:$E$40,4,FALSE),VLOOKUP(A1759,'Hourly rates'!$B$2:$E$40,2,FALSE))","v":12},45]
["Dwyer, Andy","Business Firm:Administration","Intern",1099,null,1.25,"2015-05-26","2015-05-30","Tue",null,"NonBill","ZZ","2015-06-03","GL Project","Finance",null,{"$f":"IF(O1760=\"Business Firm billable\",VLOOKUP(A1760,'Hourly rates'!$B$2:$E$40,4,FALSE),VLOOKUP(A1760,'Hourly rates'!$B$2:$E$40,2,FALSE))","v":12},15]
["Dwyer, Andy","Business Firm:Administration","Intern",1099,null,1.75,"2015-05-26","2015-05-30","Tue",null,"NonBill","ZZ","2015-06-03","SBD Budget","Finance",null,{"$f":"IF(O1761=\"Business Firm billable\",VLOOKUP(A1761,'Hourly rates'!$B$2:$E$40,4,FALSE),VLOOKUP(A1761,'Hourly rates'!$B$2:$E$40,2,FALSE))","v":12},21]
["Dwyer, Andy","Business Firm:Administration","Intern",1099,null,5.75,"2015-05-27","2015-05-30","Wed",null,"NonBill","ZZ","2015-06-03","SBD Budget","Finance",null,{"$f":"IF(O1762=\"Business Firm billable\",VLOOKUP(A1762,'Hourly rates'!$B$2:$E$40,4,FALSE),VLOOKUP(A1762,'Hourly rates'!$B$2:$E$40,2,FALSE))","v":12},69]
["Dwyer, Andy","Business Firm:Administration","Intern",1099,null,1.25,"2015-05-28","2015-05-30","Thu",null,"NonBill","ZZ","2015-06-03","GL Project","Finance",null,{"$f":"IF(O1763=\"Business Firm billable\",VLOOKUP(A1763,'Hourly rates'!$B$2:$E$40,4,FALSE),VLOOKUP(A1763,'Hourly rates'!$B$2:$E$40,2,FALSE))","v":12},15]
["Dwyer, Andy","Business Firm:Administration","Intern",1099,null,2.75,"2015-05-28","2015-05-30","Thu",null,"NonBill","ZZ","2015-06-03","SBD Budget","Finance",null,{"$f":"IF(O1764=\"Business Firm billable\",VLOOKUP(A1764,'Hourly rates'!$B$2:$E$40,4,FALSE),VLOOKUP(A1764,'Hourly rates'!$B$2:$E$40,2,FALSE))","v":12},33]
["Almeida, Tony","Business Firm:Admin SP","Intern",1099,null,2,"2015-04-29","2015-05-02","Wed",null,"NonBill","ZZ","2015-05-05",null,{"$f":"IF(B1765=$B$1454,\"Special Projects\",\"\")","v":"Special Projects"},null,{"$f":"IF(O1765=\"Business Firm billable\",VLOOKUP(A1765,'Hourly rates'!$B$2:$E$40,4,FALSE),VLOOKUP(A1765,'Hourly rates'!$B$2:$E$40,2,FALSE))","v":12},24,null,{"$f":"A1765&B1765&C1765&D1765&E1765&F1765&G1765&H1765&I1765&K1765&N1765&O1765","v":"Almeida, TonyBusiness Firm:Admin SPIntern109924212342126WedNonBillSpecial Projects"}," "]
["Almeida, Tony","Business Firm:Admin SP","Intern",1099,null,1.25,"2015-05-04","2015-05-09","Mon",null,"NonBill","ZZ","2015-05-21",null,"Special Projects",null,{"$f":"IF(O1766=\"Business Firm billable\",VLOOKUP(A1766,'Hourly rates'!$B$2:$E$40,4,FALSE),VLOOKUP(A1766,'Hourly rates'!$B$2:$E$40,2,FALSE))","v":12},15,null,"Almeida, TonyBusiness Firm:Admin SPIntern10991.254212842133MonNonBillSpecial Projects"," "]
["Almeida, Tony","Business Firm:Admin SP","Intern",1099,null,1.25,"2015-05-05","2015-05-09","Tue",null,"NonBill","ZZ","2015-05-21",null,"Special Projects",null,{"$f":"IF(O1767=\"Business Firm billable\",VLOOKUP(A1767,'Hourly rates'!$B$2:$E$40,4,FALSE),VLOOKUP(A1767,'Hourly rates'!$B$2:$E$40,2,FALSE))","v":12},15,null,"Almeida, TonyBusiness Firm:Admin SPIntern10991.254212942133TueNonBillSpecial Projects"," "]
["Almeida, Tony","Business Firm:Admin SP","Intern",1099,null,1.25,"2015-05-06","2015-05-09","Wed",null,"NonBill","ZZ","2015-05-21",null,"Special Projects",null,{"$f":"IF(O1768=\"Business Firm billable\",VLOOKUP(A1768,'Hourly rates'!$B$2:$E$40,4,FALSE),VLOOKUP(A1768,'Hourly rates'!$B$2:$E$40,2,FALSE))","v":12},15,null,"Almeida, TonyBusiness Firm:Admin SPIntern10991.254213042133WedNonBillSpecial Projects"," "]
["Almeida, Tony","Business Firm:Admin SP","Intern",1099,null,1,"2015-05-07","2015-05-09","Thu",null,"NonBill","ZZ","2015-05-21",null,"Special Projects",null,{"$f":"IF(O1769=\"Business Firm billable\",VLOOKUP(A1769,'Hourly rates'!$B$2:$E$40,4,FALSE),VLOOKUP(A1769,'Hourly rates'!$B$2:$E$40,2,FALSE))","v":12},12,null,"Almeida, TonyBusiness Firm:Admin SPIntern109914213142133ThuNonBillSpecial Projects"," "]
["Almeida, Tony","Business Firm:Admin SP","Intern",1099,null,1.25,"2015-05-08","2015-05-09","Fri",null,"NonBill","ZZ","2015-05-21",null,"Special Projects",null,{"$f":"IF(O1770=\"Business Firm billable\",VLOOKUP(A1770,'Hourly rates'!$B$2:$E$40,4,FALSE),VLOOKUP(A1770,'Hourly rates'!$B$2:$E$40,2,FALSE))","v":12},15,null,"Almeida, TonyBusiness Firm:Admin SPIntern10991.254213242133FriNonBillSpecial Projects"," "]
["Almeida, Tony","Business Firm:Admin SP","Intern",1099,null,1.25,"2015-05-12","2015-05-16","Tue",null,"NonBill","ZZ","2015-05-21",null,"Special Projects",null,{"$f":"IF(O1771=\"Business Firm billable\",VLOOKUP(A1771,'Hourly rates'!$B$2:$E$40,4,FALSE),VLOOKUP(A1771,'Hourly rates'!$B$2:$E$40,2,FALSE))","v":12},15,null,"Almeida, TonyBusiness Firm:Admin SPIntern10991.254213642140TueNonBillSpecial Projects"," "]
["Almeida, Tony","Business Firm:Admin SP","Intern",1099,null,1.25,"2015-05-18","2015-05-23","Mon",null,"NonBill","ZZ","2015-06-02",null,"Special Projects",null,{"$f":"IF(O1772=\"Business Firm billable\",VLOOKUP(A1772,'Hourly rates'!$B$2:$E$40,4,FALSE),VLOOKUP(A1772,'Hourly rates'!$B$2:$E$40,2,FALSE))","v":12},15,null,"Almeida, TonyBusiness Firm:Admin SPIntern10991.254214242147MonNonBillSpecial Projects"," "]
["Almeida, Tony","Business Firm:Admin SP","Intern",1099,null,1.25,"2015-05-19","2015-05-23","Tue",null,"NonBill","ZZ","2015-06-02",null,"Special Projects",null,{"$f":"IF(O1773=\"Business Firm billable\",VLOOKUP(A1773,'Hourly rates'!$B$2:$E$40,4,FALSE),VLOOKUP(A1773,'Hourly rates'!$B$2:$E$40,2,FALSE))","v":12},15,null,"Almeida, TonyBusiness Firm:Admin SPIntern10991.254214342147TueNonBillSpecial Projects"," "]
["Almeida, Tony","Business Firm:Admin SP","Intern",1099,null,1.75,"2015-05-26","2015-05-30","Tue",null,"NonBill","ZZ","2015-06-03",null,"Special Projects",null,{"$f":"IF(O1774=\"Business Firm billable\",VLOOKUP(A1774,'Hourly rates'!$B$2:$E$40,4,FALSE),VLOOKUP(A1774,'Hourly rates'!$B$2:$E$40,2,FALSE))","v":12},21,null,"Almeida, TonyBusiness Firm:Admin SPIntern10991.754215042154TueNonBillSpecial Projects"," "]
["Almeida, Tony","Business Firm:Admin SP","Intern",1099,null,1,"2015-06-02","2015-06-06","Tue",null,"NonBill","ZZ","2015-06-09",null,"Special Projects",null,{"$f":"IF(O1775=\"Business Firm billable\",VLOOKUP(A1775,'Hourly rates'!$B$2:$E$40,4,FALSE),VLOOKUP(A1775,'Hourly rates'!$B$2:$E$40,2,FALSE))","v":12},12,null,"Almeida, TonyBusiness Firm:Admin SPIntern109914215742161TueNonBillSpecial Projects"," "]
["Almeida, Tony","Business Firm:Admin SP","Intern",1099,null,1,"2015-06-09","2015-06-13","Tue",null,"NonBill","ZZ","2015-06-22",null,"Special Projects",null,{"$f":"IF(O1776=\"Business Firm billable\",VLOOKUP(A1776,'Hourly rates'!$B$2:$E$40,4,FALSE),VLOOKUP(A1776,'Hourly rates'!$B$2:$E$40,2,FALSE))","v":12},12,null,"Almeida, TonyBusiness Firm:Admin SPIntern109914216442168TueNonBillSpecial Projects"," "]
["Almeida, Tony","Business Firm:Administration","Intern",1099,null,1.25,"2015-05-04","2015-05-09","Mon",null,"NonBill","ZZ","2015-05-21","NuQuo","Finance",null,{"$f":"IF(O1777=\"Business Firm billable\",VLOOKUP(A1777,'Hourly rates'!$B$2:$E$40,4,FALSE),VLOOKUP(A1777,'Hourly rates'!$B$2:$E$40,2,FALSE))","v":12},15,null,"Almeida, TonyBusiness Firm:AdministrationIntern10991.254212842133MonNonBillNuQuoFinance"," "]
["Almeida, Tony","Business Firm:Administration","Intern",1099,null,1,"2015-05-05","2015-05-09","Tue",null,"NonBill","ZZ","2015-05-21","NuQuo","Finance",null,{"$f":"IF(O1778=\"Business Firm billable\",VLOOKUP(A1778,'Hourly rates'!$B$2:$E$40,4,FALSE),VLOOKUP(A1778,'Hourly rates'!$B$2:$E$40,2,FALSE))","v":12},12,null,"Almeida, TonyBusiness Firm:AdministrationIntern109914212942133TueNonBillNuQuoFinance"," "]
["Almeida, Tony","Business Firm:Administration","Intern",1099,null,1.25,"2015-05-05","2015-05-09","Tue",null,"NonBill","ZZ","2015-05-21","Bonus Plan Structure","Finance",null,{"$f":"IF(O1779=\"Business Firm billable\",VLOOKUP(A1779,'Hourly rates'!$B$2:$E$40,4,FALSE),VLOOKUP(A1779,'Hourly rates'!$B$2:$E$40,2,FALSE))","v":12},15,null,"Almeida, TonyBusiness Firm:AdministrationIntern10991.254212942133TueNonBillBonus Plan StructureFinance"," "]
["Almeida, Tony","Business Firm:Administration","Intern",1099,null,1,"2015-05-06","2015-05-09","Wed",null,"NonBill","ZZ","2015-05-21","NuQuo","Finance",null,{"$f":"IF(O1780=\"Business Firm billable\",VLOOKUP(A1780,'Hourly rates'!$B$2:$E$40,4,FALSE),VLOOKUP(A1780,'Hourly rates'!$B$2:$E$40,2,FALSE))","v":12},12,null,"Almeida, TonyBusiness Firm:AdministrationIntern109914213042133WedNonBillNuQuoFinance"," "]
["Almeida, Tony","Business Firm:Administration","Intern",1099,null,1.75,"2015-05-07","2015-05-09","Thu",null,"NonBill","ZZ","2015-05-21","NuQuo","Finance",null,{"$f":"IF(O1781=\"Business Firm billable\",VLOOKUP(A1781,'Hourly rates'!$B$2:$E$40,4,FALSE),VLOOKUP(A1781,'Hourly rates'!$B$2:$E$40,2,FALSE))","v":12},21,null,"Almeida, TonyBusiness Firm:AdministrationIntern10991.754213142133ThuNonBillNuQuoFinance"," "]
["Almeida, Tony","Business Firm:Administration","Intern",1099,null,1.25,"2015-05-07","2015-05-09","Thu",null,"NonBill","ZZ","2015-05-21","Bonus Plan Structure","Finance",null,{"$f":"IF(O1782=\"Business Firm billable\",VLOOKUP(A1782,'Hourly rates'!$B$2:$E$40,4,FALSE),VLOOKUP(A1782,'Hourly rates'!$B$2:$E$40,2,FALSE))","v":12},15,null,"Almeida, TonyBusiness Firm:AdministrationIntern10991.254213142133ThuNonBillBonus Plan StructureFinance"," "]
["Almeida, Tony","Business Firm:Administration","Intern",1099,null,1,"2015-05-08","2015-05-09","Fri",null,"NonBill","ZZ","2015-05-21","Bonus Plan Structure","Finance",null,{"$f":"IF(O1783=\"Business Firm billable\",VLOOKUP(A1783,'Hourly rates'!$B$2:$E$40,4,FALSE),VLOOKUP(A1783,'Hourly rates'!$B$2:$E$40,2,FALSE))","v":12},12,null,"Almeida, TonyBusiness Firm:AdministrationIntern109914213242133FriNonBillBonus Plan StructureFinance"," "]
["Almeida, Tony","Business Firm:Administration","Intern",1099,null,4,"2015-05-08","2015-05-09","Fri",null,"NonBill","ZZ","2015-05-21","Other Admin/Scheduling","Finance",null,{"$f":"IF(O1784=\"Business Firm billable\",VLOOKUP(A1784,'Hourly rates'!$B$2:$E$40,4,FALSE),VLOOKUP(A1784,'Hourly rates'!$B$2:$E$40,2,FALSE))","v":12},48,null,"Almeida, TonyBusiness Firm:AdministrationIntern109944213242133FriNonBillOther Admin/SchedulingFinance"," "]
["Almeida, Tony","Business Firm:Administration","Intern",1099,null,3.25,"2015-05-11","2015-05-16","Mon",null,"NonBill","ZZ","2015-05-21","Chart of Accounts","Finance",null,{"$f":"IF(O1785=\"Business Firm billable\",VLOOKUP(A1785,'Hourly rates'!$B$2:$E$40,4,FALSE),VLOOKUP(A1785,'Hourly rates'!$B$2:$E$40,2,FALSE))","v":12},39,null,"Almeida, TonyBusiness Firm:AdministrationIntern10993.254213542140MonNonBillChart of AccountsFinance"," "]
["Almeida, Tony","Business Firm:Administration","Intern",1099,null,2,"2015-05-12","2015-05-16","Tue",null,"NonBill","ZZ","2015-05-21","Chart of Accounts","Finance",null,{"$f":"IF(O1786=\"Business Firm billable\",VLOOKUP(A1786,'Hourly rates'!$B$2:$E$40,4,FALSE),VLOOKUP(A1786,'Hourly rates'!$B$2:$E$40,2,FALSE))","v":12},24,null,"Almeida, TonyBusiness Firm:AdministrationIntern109924213642140TueNonBillChart of AccountsFinance"," "]
["Almeida, Tony","Business Firm:Administration","Intern",1099,null,1.25,"2015-05-12","2015-05-16","Tue",null,"NonBill","ZZ","2015-05-21","Hours Recon.","Finance",null,{"$f":"IF(O1787=\"Business Firm billable\",VLOOKUP(A1787,'Hourly rates'!$B$2:$E$40,4,FALSE),VLOOKUP(A1787,'Hourly rates'!$B$2:$E$40,2,FALSE))","v":12},15,null,"Almeida, TonyBusiness Firm:AdministrationIntern10991.254213642140TueNonBillHours Recon.Finance"," "]
["Almeida, Tony","Business Firm:Administration","Intern",1099,null,3.25,"2015-05-13","2015-05-16","Wed",null,"NonBill","ZZ","2015-05-21","Chart of Accounts","Finance",null,{"$f":"IF(O1788=\"Business Firm billable\",VLOOKUP(A1788,'Hourly rates'!$B$2:$E$40,4,FALSE),VLOOKUP(A1788,'Hourly rates'!$B$2:$E$40,2,FALSE))","v":12},39,null,"Almeida, TonyBusiness Firm:AdministrationIntern10993.254213742140WedNonBillChart of AccountsFinance"," "]
["Almeida, Tony","Business Firm:Administration","Intern",1099,null,3.25,"2015-05-14","2015-05-16","Thu",null,"NonBill","ZZ","2015-05-21","Chart of Accounts","Finance",null,{"$f":"IF(O1789=\"Business Firm billable\",VLOOKUP(A1789,'Hourly rates'!$B$2:$E$40,4,FALSE),VLOOKUP(A1789,'Hourly rates'!$B$2:$E$40,2,FALSE))","v":12},39,null,"Almeida, TonyBusiness Firm:AdministrationIntern10993.254213842140ThuNonBillChart of AccountsFinance"," "]
["Almeida, Tony","Business Firm:Administration","Intern",1099,null,7,"2015-05-15","2015-05-16","Fri",null,"NonBill","ZZ","2015-05-21","Chart of Accounts","Finance",null,{"$f":"IF(O1790=\"Business Firm billable\",VLOOKUP(A1790,'Hourly rates'!$B$2:$E$40,4,FALSE),VLOOKUP(A1790,'Hourly rates'!$B$2:$E$40,2,FALSE))","v":12},84,null,"Almeida, TonyBusiness Firm:AdministrationIntern109974213942140FriNonBillChart of AccountsFinance"," "]
["Almeida, Tony","Business Firm:Administration","Intern",1099,null,4,"2015-05-18","2015-05-23","Mon",null,"NonBill","ZZ","2015-06-02","Chart of Accounts","Finance",null,{"$f":"IF(O1791=\"Business Firm billable\",VLOOKUP(A1791,'Hourly rates'!$B$2:$E$40,4,FALSE),VLOOKUP(A1791,'Hourly rates'!$B$2:$E$40,2,FALSE))","v":12},48,null,"Almeida, TonyBusiness Firm:AdministrationIntern109944214242147MonNonBillChart of AccountsFinance"," "]
["Almeida, Tony","Business Firm:Administration","Intern",1099,null,7,"2015-05-19","2015-05-23","Tue",null,"NonBill","ZZ","2015-06-02","Cost of Revenue","Finance",null,{"$f":"IF(O1792=\"Business Firm billable\",VLOOKUP(A1792,'Hourly rates'!$B$2:$E$40,4,FALSE),VLOOKUP(A1792,'Hourly rates'!$B$2:$E$40,2,FALSE))","v":12},84,null,"Almeida, TonyBusiness Firm:AdministrationIntern109974214342147TueNonBillCost of RevenueFinance"," "]
["Almeida, Tony","Business Firm:Administration","Intern",1099,null,6,"2015-05-20","2015-05-23","Wed",null,"NonBill","ZZ","2015-06-02","Cost of Revenue","Finance",null,{"$f":"IF(O1793=\"Business Firm billable\",VLOOKUP(A1793,'Hourly rates'!$B$2:$E$40,4,FALSE),VLOOKUP(A1793,'Hourly rates'!$B$2:$E$40,2,FALSE))","v":12},72,null,"Almeida, TonyBusiness Firm:AdministrationIntern109964214442147WedNonBillCost of RevenueFinance"," "]
["Almeida, Tony","Business Firm:Administration","Intern",1099,null,2,"2015-05-21","2015-05-23","Thu",null,"NonBill","ZZ","2015-06-02","Cost of Revenue","Finance",null,{"$f":"IF(O1794=\"Business Firm billable\",VLOOKUP(A1794,'Hourly rates'!$B$2:$E$40,4,FALSE),VLOOKUP(A1794,'Hourly rates'!$B$2:$E$40,2,FALSE))","v":12},{"$f":"Q1794*F1794","v":24},null,"Almeida, TonyBusiness Firm:AdministrationIntern109924214542147ThuNonBillCost of RevenueFinance"," "]
["Almeida, Tony","Business Firm:Administration","Intern",1099,null,6,"2015-05-21","2015-05-23","Thu",null,"NonBill","ZZ","2015-06-02","Finance/Billing Cash Availability Project","Finance",null,{"$f":"IF(O1795=\"Business Firm billable\",VLOOKUP(A1795,'Hourly rates'!$B$2:$E$40,4,FALSE),VLOOKUP(A1795,'Hourly rates'!$B$2:$E$40,2,FALSE))","v":12},72,null,"Almeida, TonyBusiness Firm:AdministrationIntern109964214542147ThuNonBillFinance/Billing Cash Availability ProjectFinance"," "]
["Almeida, Tony","Business Firm:Administration","Intern",1099,null,7,"2015-05-22","2015-05-23","Fri",null,"NonBill","ZZ","2015-06-02","Finance/Billing Cash Availability Project","Finance",null,{"$f":"IF(O1796=\"Business Firm billable\",VLOOKUP(A1796,'Hourly rates'!$B$2:$E$40,4,FALSE),VLOOKUP(A1796,'Hourly rates'!$B$2:$E$40,2,FALSE))","v":12},84,null,"Almeida, TonyBusiness Firm:AdministrationIntern109974214642147FriNonBillFinance/Billing Cash Availability ProjectFinance"," "]
["Almeida, Tony","Business Firm:Administration","Intern",1099,null,5.25,"2015-05-26","2015-05-30","Tue",null,"NonBill","ZZ","2015-06-03","Employee Handbook","Finance",null,{"$f":"IF(O1797=\"Business Firm billable\",VLOOKUP(A1797,'Hourly rates'!$B$2:$E$40,4,FALSE),VLOOKUP(A1797,'Hourly rates'!$B$2:$E$40,2,FALSE))","v":12},63,null,{"$f":"A1797&B1797&C1797&D1797&E1797&F1797&G1797&H1797&I1797&K1797&N1797&O1797","v":"Almeida, TonyBusiness Firm:AdministrationIntern10995.254215042154TueNonBillEmployee HandbookFinance"}," "]
["Almeida, Tony","Business Firm:Administration","Intern",1099,null,1.75,"2015-05-26","2015-05-30","Tue",null,"NonBill","ZZ","2015-06-03","S-1 IPO ClosetsClosetsClosetsClosets","Finance",null,{"$f":"IF(O1798=\"Business Firm billable\",VLOOKUP(A1798,'Hourly rates'!$B$2:$E$40,4,FALSE),VLOOKUP(A1798,'Hourly rates'!$B$2:$E$40,2,FALSE))","v":12},21,null,"Almeida, TonyBusiness Firm:AdministrationIntern10991.754215042154TueNonBillS-1 IPO ClosetsClosetsClosetsClosetsFinance"," "]
["Almeida, Tony","Business Firm:Administration","Intern",1099,null,1.25,"2015-05-27","2015-05-30","Wed",null,"NonBill","ZZ","2015-06-03","Chart of accounts - 2015","Finance",null,{"$f":"IF(O1799=\"Business Firm billable\",VLOOKUP(A1799,'Hourly rates'!$B$2:$E$40,4,FALSE),VLOOKUP(A1799,'Hourly rates'!$B$2:$E$40,2,FALSE))","v":12},15,null,"Almeida, TonyBusiness Firm:AdministrationIntern10991.254215142154WedNonBillChart of accounts - 2015Finance"," "]
["Almeida, Tony","Business Firm:Administration","Intern",1099,null,1.25,"2015-05-28","2015-05-30","Thu",null,"NonBill","ZZ","2015-06-03","Employee Handbook","Finance",null,{"$f":"IF(O1800=\"Business Firm billable\",VLOOKUP(A1800,'Hourly rates'!$B$2:$E$40,4,FALSE),VLOOKUP(A1800,'Hourly rates'!$B$2:$E$40,2,FALSE))","v":12},15,null,"Almeida, TonyBusiness Firm:AdministrationIntern10991.254215242154ThuNonBillEmployee HandbookFinance"," "]
["Almeida, Tony","Business Firm:Administration","Intern",1099,null,2,"2015-05-29","2015-05-30","Fri",null,"NonBill","ZZ","2015-06-03","Employee Handbook","Finance",null,{"$f":"IF(O1801=\"Business Firm billable\",VLOOKUP(A1801,'Hourly rates'!$B$2:$E$40,4,FALSE),VLOOKUP(A1801,'Hourly rates'!$B$2:$E$40,2,FALSE))","v":12},24,null,"Almeida, TonyBusiness Firm:AdministrationIntern109924215342154FriNonBillEmployee HandbookFinance"," "]
["Almeida, Tony","Business Firm:Administration","Intern",1099,null,1,"2015-05-30","2015-05-30","Sat",null,"NonBill","ZZ","2015-06-03","Employee Handbook","Finance",null,{"$f":"IF(O1802=\"Business Firm billable\",VLOOKUP(A1802,'Hourly rates'!$B$2:$E$40,4,FALSE),VLOOKUP(A1802,'Hourly rates'!$B$2:$E$40,2,FALSE))","v":12},12,null,"Almeida, TonyBusiness Firm:AdministrationIntern109914215442154SatNonBillEmployee HandbookFinance"," "]
["Almeida, Tony","Business Firm:Administration","Intern",1099,null,3.25,"2015-06-01","2015-06-06","Mon",null,"NonBill","ZZ","2015-06-09","Employee Handbook","Finance",null,{"$f":"IF(O1803=\"Business Firm billable\",VLOOKUP(A1803,'Hourly rates'!$B$2:$E$40,4,FALSE),VLOOKUP(A1803,'Hourly rates'!$B$2:$E$40,2,FALSE))","v":12},39,null,"Almeida, TonyBusiness Firm:AdministrationIntern10993.254215642161MonNonBillEmployee HandbookFinance"," "]
["Almeida, Tony","Business Firm:Administration","Intern",1099,null,1.25,"2015-06-01","2015-06-06","Mon",null,"NonBill","ZZ","2015-06-09","Chart of Accounts","Finance",null,{"$f":"IF(O1804=\"Business Firm billable\",VLOOKUP(A1804,'Hourly rates'!$B$2:$E$40,4,FALSE),VLOOKUP(A1804,'Hourly rates'!$B$2:$E$40,2,FALSE))","v":12},15,null,"Almeida, TonyBusiness Firm:AdministrationIntern10991.254215642161MonNonBillChart of AccountsFinance"," "]
["Almeida, Tony","Business Firm:Administration","Intern",1099,null,1.25,"2015-06-02","2015-06-06","Tue",null,"NonBill","ZZ","2015-06-09","Employee Handbook","Finance",null,{"$f":"IF(O1805=\"Business Firm billable\",VLOOKUP(A1805,'Hourly rates'!$B$2:$E$40,4,FALSE),VLOOKUP(A1805,'Hourly rates'!$B$2:$E$40,2,FALSE))","v":12},15,null,"Almeida, TonyBusiness Firm:AdministrationIntern10991.254215742161TueNonBillEmployee HandbookFinance"," "]
["Almeida, Tony","Business Firm:Administration","Intern",1099,null,5,"2015-06-02","2015-06-06","Tue",null,"NonBill","ZZ","2015-06-09","Chart of Accounts","Finance",null,{"$f":"IF(O1806=\"Business Firm billable\",VLOOKUP(A1806,'Hourly rates'!$B$2:$E$40,4,FALSE),VLOOKUP(A1806,'Hourly rates'!$B$2:$E$40,2,FALSE))","v":12},60,null,"Almeida, TonyBusiness Firm:AdministrationIntern109954215742161TueNonBillChart of AccountsFinance"," "]
["Almeida, Tony","Business Firm:Administration","Intern",1099,null,7,"2015-06-03","2015-06-06","Wed",null,"NonBill","ZZ","2015-06-09","Chart of Accounts","Finance",null,{"$f":"IF(O1807=\"Business Firm billable\",VLOOKUP(A1807,'Hourly rates'!$B$2:$E$40,4,FALSE),VLOOKUP(A1807,'Hourly rates'!$B$2:$E$40,2,FALSE))","v":12},84,null,"Almeida, TonyBusiness Firm:AdministrationIntern109974215842161WedNonBillChart of AccountsFinance"," "]
["Almeida, Tony","Business Firm:Administration","Intern",1099,null,3.25,"2015-06-04","2015-06-06","Thu",null,"NonBill","ZZ","2015-06-09","Chart of Accounts","Finance",null,{"$f":"IF(O1808=\"Business Firm billable\",VLOOKUP(A1808,'Hourly rates'!$B$2:$E$40,4,FALSE),VLOOKUP(A1808,'Hourly rates'!$B$2:$E$40,2,FALSE))","v":12},39,null,"Almeida, TonyBusiness Firm:AdministrationIntern10993.254215942161ThuNonBillChart of AccountsFinance"," "]
["Almeida, Tony","Business Firm:Administration","Intern",1099,null,1.25,"2015-06-05","2015-06-06","Fri",null,"NonBill","ZZ","2015-06-09","Chart of Accounts","Finance",null,{"$f":"IF(O1809=\"Business Firm billable\",VLOOKUP(A1809,'Hourly rates'!$B$2:$E$40,4,FALSE),VLOOKUP(A1809,'Hourly rates'!$B$2:$E$40,2,FALSE))","v":12},15,null,"Almeida, TonyBusiness Firm:AdministrationIntern10991.254216042161FriNonBillChart of AccountsFinance"," "]
["Almeida, Tony","Business Firm:Administration","Intern",1099,null,3.25,"2015-06-08","2015-06-13","Mon",null,"NonBill","ZZ","2015-06-22","Chart of Accounts","Finance",null,{"$f":"IF(O1810=\"Business Firm billable\",VLOOKUP(A1810,'Hourly rates'!$B$2:$E$40,4,FALSE),VLOOKUP(A1810,'Hourly rates'!$B$2:$E$40,2,FALSE))","v":12},39,null,"Almeida, TonyBusiness Firm:AdministrationIntern10993.254216342168MonNonBillChart of AccountsFinance"," "]
["Almeida, Tony","Business Firm:Administration","Intern",1099,null,3,"2015-06-09","2015-06-13","Tue",null,"NonBill","ZZ","2015-06-22","Script","Finance",null,{"$f":"IF(O1811=\"Business Firm billable\",VLOOKUP(A1811,'Hourly rates'!$B$2:$E$40,4,FALSE),VLOOKUP(A1811,'Hourly rates'!$B$2:$E$40,2,FALSE))","v":12},36,null,"Almeida, TonyBusiness Firm:AdministrationIntern109934216442168TueNonBillScriptFinance"," "]
["Almeida, Tony","Business Firm:Administration","Intern",1099,null,3,"2015-06-09","2015-06-13","Tue",null,"NonBill","ZZ","2015-06-22","Cash Flow Report","Finance",null,{"$f":"IF(O1812=\"Business Firm billable\",VLOOKUP(A1812,'Hourly rates'!$B$2:$E$40,4,FALSE),VLOOKUP(A1812,'Hourly rates'!$B$2:$E$40,2,FALSE))","v":12},36,null,"Almeida, TonyBusiness Firm:AdministrationIntern109934216442168TueNonBillCash Flow ReportFinance"," "]
["Almeida, Tony","Business Firm:Administration","Intern",1099,null,6,"2015-06-10","2015-06-13","Wed",null,"NonBill","ZZ","2015-06-22","Cash Flow Report","Finance",null,{"$f":"IF(O1813=\"Business Firm billable\",VLOOKUP(A1813,'Hourly rates'!$B$2:$E$40,4,FALSE),VLOOKUP(A1813,'Hourly rates'!$B$2:$E$40,2,FALSE))","v":12},72,null,"Almeida, TonyBusiness Firm:AdministrationIntern109964216542168WedNonBillCash Flow ReportFinance"," "]
["Almeida, Tony","ClosetsClosetsClosetsClosets:Project Sliding Door","Intern",1099,null,1.25,"2015-06-01","2015-06-06","Mon",null,"Admin 9%","ZZ","2015-06-09","Determining estimated customer life","Business Firm billable",null,{"$f":"IF(O1814=\"Business Firm billable\",VLOOKUP(A1814,'Hourly rates'!$B$2:$E$40,4,FALSE),VLOOKUP(A1814,'Hourly rates'!$B$2:$E$40,2,FALSE))","v":83},103.75,null,"Almeida, TonyClosetsClosetsClosetsClosets:Project Sliding DoorIntern10991.254215642161MonAdmin 9%Determining estimated customer lifeBusiness Firm billable"," "]
["Almeida, Tony","Some Client:Tech Acctg","Intern",1099,null,4.25,"2015-06-11","2015-06-13","Thu",null,"Admin 9%","ZZ","2015-06-22","Client Quarterization","Business Firm billable",null,{"$f":"IF(O1815=\"Business Firm billable\",VLOOKUP(A1815,'Hourly rates'!$B$2:$E$40,4,FALSE),VLOOKUP(A1815,'Hourly rates'!$B$2:$E$40,2,FALSE))","v":83},352.75,null,"Almeida, TonySome Client:Tech AcctgIntern10994.254216642168ThuAdmin 9%Client QuarterizationBusiness Firm billable"," "]
["Almeida, Tony","Some Client:Tech Acctg","Intern",1099,null,3.25,"2015-06-12","2015-06-13","Fri",null,"Admin 9%","ZZ","2015-06-22","Client Quarterization","Business Firm billable",null,{"$f":"IF(O1816=\"Business Firm billable\",VLOOKUP(A1816,'Hourly rates'!$B$2:$E$40,4,FALSE),VLOOKUP(A1816,'Hourly rates'!$B$2:$E$40,2,FALSE))","v":83},269.75,null,"Almeida, TonySome Client:Tech AcctgIntern10993.254216742168FriAdmin 9%Client QuarterizationBusiness Firm billable"," "]
["Almeida, Tony","Some Client:Tech Acctg","Intern",1099,null,8,"2015-06-15","2015-06-20","Mon",null,"Admin 9%","ZZ","2015-06-24",null,"Business Firm billable",null,{"$f":"IF(O1817=\"Business Firm billable\",VLOOKUP(A1817,'Hourly rates'!$B$2:$E$40,4,FALSE),VLOOKUP(A1817,'Hourly rates'!$B$2:$E$40,2,FALSE))","v":83},664,null,"Almeida, TonySome Client:Tech AcctgIntern109984217042175MonAdmin 9%Business Firm billable"," "]
["Almeida, Tony","Some Client:Tech Acctg","Intern",1099,null,7,"2015-06-16","2015-06-20","Tue",null,"Admin 9%","ZZ","2015-06-24",null,"Business Firm billable",null,{"$f":"IF(O1818=\"Business Firm billable\",VLOOKUP(A1818,'Hourly rates'!$B$2:$E$40,4,FALSE),VLOOKUP(A1818,'Hourly rates'!$B$2:$E$40,2,FALSE))","v":83},581,null,"Almeida, TonySome Client:Tech AcctgIntern109974217142175TueAdmin 9%Business Firm billable"," "]
["Almeida, Tony","Some Client:Tech Acctg","Intern",1099,null,3.25,"2015-06-17",{"$f":"G1819+7-WEEKDAY(G1819)","v":"2015-06-20"},"Wed",null,"Admin 9%","ZZ","2015-06-24",null,"Business Firm billable",null,{"$f":"IF(O1819=\"Business Firm billable\",VLOOKUP(A1819,'Hourly rates'!$B$2:$E$40,4,FALSE),VLOOKUP(A1819,'Hourly rates'!$B$2:$E$40,2,FALSE))","v":83},269.75,null,"Almeida, TonySome Client:Tech AcctgIntern10993.254217242175WedAdmin 9%Business Firm billable"," "]
["Almeida, Tony","Some Client:Tech Acctg","Intern",1099,null,3.25,"2015-06-18","2015-06-20","Thu",null,"Admin 9%","ZZ","2015-06-24",null,"Business Firm billable",null,{"$f":"IF(O1820=\"Business Firm billable\",VLOOKUP(A1820,'Hourly rates'!$B$2:$E$40,4,FALSE),VLOOKUP(A1820,'Hourly rates'!$B$2:$E$40,2,FALSE))","v":83},269.75,null,"Almeida, TonySome Client:Tech AcctgIntern10993.254217342175ThuAdmin 9%Business Firm billable"," "]
["Almeida, Tony","Some Client:Tech Acctg","Intern",1099,null,3.25,"2015-06-19","2015-06-20","Fri",null,"Admin 9%","ZZ","2015-06-24",null,"Business Firm billable",null,{"$f":"IF(O1821=\"Business Firm billable\",VLOOKUP(A1821,'Hourly rates'!$B$2:$E$40,4,FALSE),VLOOKUP(A1821,'Hourly rates'!$B$2:$E$40,2,FALSE))","v":83},269.75,null,"Almeida, TonySome Client:Tech AcctgIntern10993.254217442175FriAdmin 9%Business Firm billable"," "]
["Pritchett, Jay","Business Firm:Admin SP","Intern",1099,null,1.75,"2015-05-31","2015-06-06","Sun",null,"NonBill","ZZ","2015-06-09",null,{"$f":"IF(B1822=$B$1454,\"Special Projects\",\"\")","v":"Special Projects"},null,{"$f":"IF(O1822=\"Business Firm billable\",VLOOKUP(A1822,'Hourly rates'!$B$2:$E$40,4,FALSE),VLOOKUP(A1822,'Hourly rates'!$B$2:$E$40,2,FALSE))","v":12},21]
["Delgado, Manny","Business Firm:Admin SP","Intern",1099,null,1.25,"2015-06-01","2015-06-06","Mon",null,"NonBill","ZZ","2015-06-09",null,{"$f":"IF(B1823=$B$1454,\"Special Projects\",\"\")","v":"Special Projects"},null,{"$f":"IF(O1823=\"Business Firm billable\",VLOOKUP(A1823,'Hourly rates'!$B$2:$E$40,4,FALSE),VLOOKUP(A1823,'Hourly rates'!$B$2:$E$40,2,FALSE))","v":12},15]
["Wyatt, Ben","Business Firm:Admin SP","Intern",1099,null,1,"2015-06-01","2015-06-06","Mon",null,"NonBill","ZZ","2015-06-09",null,{"$f":"IF(B1824=$B$1454,\"Special Projects\",\"\")","v":"Special Projects"},null,{"$f":"IF(O1824=\"Business Firm billable\",VLOOKUP(A1824,'Hourly rates'!$B$2:$E$40,4,FALSE),VLOOKUP(A1824,'Hourly rates'!$B$2:$E$40,2,FALSE))","v":12},12]
["Wyatt, Ben","Business Firm:Administration","Intern",1099,null,1.25,"2015-06-01","2015-06-06","Mon",null,"NonBill","ZZ","2015-06-09",null,"Finance",null,{"$f":"IF(O1825=\"Business Firm billable\",VLOOKUP(A1825,'Hourly rates'!$B$2:$E$40,4,FALSE),VLOOKUP(A1825,'Hourly rates'!$B$2:$E$40,2,FALSE))","v":12},15]
["Pritchett, Jay","Business Firm:Admin SP","Intern",1099,null,1.75,"2015-06-01","2015-06-06","Mon",null,"NonBill","ZZ","2015-06-09",null,{"$f":"IF(B1826=$B$1454,\"Special Projects\",\"\")","v":"Special Projects"},null,{"$f":"IF(O1826=\"Business Firm billable\",VLOOKUP(A1826,'Hourly rates'!$B$2:$E$40,4,FALSE),VLOOKUP(A1826,'Hourly rates'!$B$2:$E$40,2,FALSE))","v":12},21]
["Raines, Audrey","Business Firm:Admin SP","Intern",1099,null,2,"2015-06-01","2015-06-06","Mon",null,"NonBill","ZZ","2015-06-09",null,{"$f":"IF(B1827=$B$1454,\"Special Projects\",\"\")","v":"Special Projects"},null,{"$f":"IF(O1827=\"Business Firm billable\",VLOOKUP(A1827,'Hourly rates'!$B$2:$E$40,4,FALSE),VLOOKUP(A1827,'Hourly rates'!$B$2:$E$40,2,FALSE))","v":12},24]
["Tucker, Cameron","Business Firm:Administration","Intern",1099,null,2,"2015-06-01","2015-06-06","Mon",null,"NonBill","ZZ","2015-06-09",null,"BIZ Research Projects",null,{"$f":"IF(O1828=\"Business Firm billable\",VLOOKUP(A1828,'Hourly rates'!$B$2:$E$40,4,FALSE),VLOOKUP(A1828,'Hourly rates'!$B$2:$E$40,2,FALSE))","v":12},24]
["Dunphy, Phil","Business Firm:Admin SP","Intern",1099,null,1.25,"2015-06-01","2015-06-06","Mon",null,"NonBill","ZZ","2015-06-09",null,{"$f":"IF(B1829=$B$1454,\"Special Projects\",\"\")","v":"Special Projects"},null,{"$f":"IF(O1829=\"Business Firm billable\",VLOOKUP(A1829,'Hourly rates'!$B$2:$E$40,4,FALSE),VLOOKUP(A1829,'Hourly rates'!$B$2:$E$40,2,FALSE))","v":12},15]
["Delgado, Manny","Business Firm:Admin SP","Intern",1099,null,1.25,"2015-06-02","2015-06-06","Tue",null,"NonBill","ZZ","2015-06-09",null,{"$f":"IF(B1830=$B$1454,\"Special Projects\",\"\")","v":"Special Projects"},null,{"$f":"IF(O1830=\"Business Firm billable\",VLOOKUP(A1830,'Hourly rates'!$B$2:$E$40,4,FALSE),VLOOKUP(A1830,'Hourly rates'!$B$2:$E$40,2,FALSE))","v":12},15]
["Wyatt, Ben","Business Firm:Admin SP","Intern",1099,null,1,"2015-06-02","2015-06-06","Tue",null,"NonBill","ZZ","2015-06-09",null,{"$f":"IF(B1831=$B$1454,\"Special Projects\",\"\")","v":"Special Projects"},null,{"$f":"IF(O1831=\"Business Firm billable\",VLOOKUP(A1831,'Hourly rates'!$B$2:$E$40,4,FALSE),VLOOKUP(A1831,'Hourly rates'!$B$2:$E$40,2,FALSE))","v":12},12]
["Wyatt, Ben","Business Firm:Administration","Intern",1099,null,1.25,"2015-06-02","2015-06-06","Tue",null,"NonBill","ZZ","2015-06-09",null,"Special Projects",null,{"$f":"IF(O1832=\"Business Firm billable\",VLOOKUP(A1832,'Hourly rates'!$B$2:$E$40,4,FALSE),VLOOKUP(A1832,'Hourly rates'!$B$2:$E$40,2,FALSE))","v":12},15]
["Pritchett, Jay","Business Firm:Admin SP","Intern",1099,null,1.25,"2015-06-02","2015-06-06","Tue",null,"NonBill","ZZ","2015-06-09",null,{"$f":"IF(B1833=$B$1454,\"Special Projects\",\"\")","v":"Special Projects"},null,{"$f":"IF(O1833=\"Business Firm billable\",VLOOKUP(A1833,'Hourly rates'!$B$2:$E$40,4,FALSE),VLOOKUP(A1833,'Hourly rates'!$B$2:$E$40,2,FALSE))","v":12},15]
["Raines, Audrey","Business Firm:Admin SP","Intern",1099,null,2,"2015-06-02","2015-06-06","Tue",null,"NonBill","ZZ","2015-06-09",null,{"$f":"IF(B1834=$B$1454,\"Special Projects\",\"\")","v":"Special Projects"},null,{"$f":"IF(O1834=\"Business Firm billable\",VLOOKUP(A1834,'Hourly rates'!$B$2:$E$40,4,FALSE),VLOOKUP(A1834,'Hourly rates'!$B$2:$E$40,2,FALSE))","v":12},24]
["Tucker, Cameron","Business Firm:Administration","Intern",1099,null,2,"2015-06-02","2015-06-06","Tue",null,"NonBill","ZZ","2015-06-09",null,"BIZ Research Projects",null,{"$f":"IF(O1835=\"Business Firm billable\",VLOOKUP(A1835,'Hourly rates'!$B$2:$E$40,4,FALSE),VLOOKUP(A1835,'Hourly rates'!$B$2:$E$40,2,FALSE))","v":12},24]
["Dunphy, Phil","Business Firm:Admin SP","Intern",1099,null,1.75,"2015-06-02","2015-06-06","Tue",null,"NonBill","ZZ","2015-06-09",null,{"$f":"IF(B1836=$B$1454,\"Special Projects\",\"\")","v":"Special Projects"},null,{"$f":"IF(O1836=\"Business Firm billable\",VLOOKUP(A1836,'Hourly rates'!$B$2:$E$40,4,FALSE),VLOOKUP(A1836,'Hourly rates'!$B$2:$E$40,2,FALSE))","v":12},21]
["Wyatt, Ben","Business Firm:Administration","Intern",1099,null,1.25,"2015-06-03","2015-06-06","Wed",null,"NonBill","ZZ","2015-06-09",null,"Special Projects",null,{"$f":"IF(O1837=\"Business Firm billable\",VLOOKUP(A1837,'Hourly rates'!$B$2:$E$40,4,FALSE),VLOOKUP(A1837,'Hourly rates'!$B$2:$E$40,2,FALSE))","v":12},15]
["Pritchett, Jay","Business Firm:Admin SP","Intern",1099,null,1.75,"2015-06-03","2015-06-06","Wed",null,"NonBill","ZZ","2015-06-09",null,{"$f":"IF(B1838=$B$1454,\"Special Projects\",\"\")","v":"Special Projects"},null,{"$f":"IF(O1838=\"Business Firm billable\",VLOOKUP(A1838,'Hourly rates'!$B$2:$E$40,4,FALSE),VLOOKUP(A1838,'Hourly rates'!$B$2:$E$40,2,FALSE))","v":12},21]
["Raines, Audrey","Business Firm:Admin SP","Intern",1099,null,2,"2015-06-03","2015-06-06","Wed",null,"NonBill","ZZ","2015-06-09",null,{"$f":"IF(B1839=$B$1454,\"Special Projects\",\"\")","v":"Special Projects"},null,{"$f":"IF(O1839=\"Business Firm billable\",VLOOKUP(A1839,'Hourly rates'!$B$2:$E$40,4,FALSE),VLOOKUP(A1839,'Hourly rates'!$B$2:$E$40,2,FALSE))","v":12},24]
["Dunphy, Phil","Business Firm:Admin SP","Intern",1099,null,1.75,"2015-06-03","2015-06-06","Wed",null,"NonBill","ZZ","2015-06-09",null,{"$f":"IF(B1840=$B$1454,\"Special Projects\",\"\")","v":"Special Projects"},null,{"$f":"IF(O1840=\"Business Firm billable\",VLOOKUP(A1840,'Hourly rates'!$B$2:$E$40,4,FALSE),VLOOKUP(A1840,'Hourly rates'!$B$2:$E$40,2,FALSE))","v":12},21]
["Wyatt, Ben","Business Firm:**Strat","Intern",1099,null,1,"2015-06-04","2015-06-06","Thu",null,"NonBill","ZZ","2015-06-09",null,"Strat Firm",null,{"$f":"IF(O1841=\"Business Firm billable\",VLOOKUP(A1841,'Hourly rates'!$B$2:$E$40,4,FALSE),VLOOKUP(A1841,'Hourly rates'!$B$2:$E$40,2,FALSE))","v":12},12]
["Wyatt, Ben","Business Firm:Admin SP","Intern",1099,null,1.25,"2015-06-04","2015-06-06","Thu",null,"NonBill","ZZ","2015-06-09",null,{"$f":"IF(B1842=$B$1454,\"Special Projects\",\"\")","v":"Special Projects"},null,{"$f":"IF(O1842=\"Business Firm billable\",VLOOKUP(A1842,'Hourly rates'!$B$2:$E$40,4,FALSE),VLOOKUP(A1842,'Hourly rates'!$B$2:$E$40,2,FALSE))","v":12},15]
["Meagle, Donna","Business Firm:Admin SP","Intern",1099,null,2,"2015-06-04","2015-06-06","Thu",null,"NonBill","ZZ","2015-06-09",null,{"$f":"IF(B1843=$B$1454,\"Special Projects\",\"\")","v":"Special Projects"},null,{"$f":"IF(O1843=\"Business Firm billable\",VLOOKUP(A1843,'Hourly rates'!$B$2:$E$40,4,FALSE),VLOOKUP(A1843,'Hourly rates'!$B$2:$E$40,2,FALSE))","v":12},24]
["Pritchett, Jay","Business Firm:Admin SP","Intern",1099,null,1.25,"2015-06-04","2015-06-06","Thu",null,"NonBill","ZZ","2015-06-09",null,{"$f":"IF(B1844=$B$1454,\"Special Projects\",\"\")","v":"Special Projects"},null,{"$f":"IF(O1844=\"Business Firm billable\",VLOOKUP(A1844,'Hourly rates'!$B$2:$E$40,4,FALSE),VLOOKUP(A1844,'Hourly rates'!$B$2:$E$40,2,FALSE))","v":12},15]
["Raines, Audrey","Business Firm:Admin SP","Intern",1099,null,2,"2015-06-04","2015-06-06","Thu",null,"NonBill","ZZ","2015-06-09",null,{"$f":"IF(B1845=$B$1454,\"Special Projects\",\"\")","v":"Special Projects"},null,{"$f":"IF(O1845=\"Business Firm billable\",VLOOKUP(A1845,'Hourly rates'!$B$2:$E$40,4,FALSE),VLOOKUP(A1845,'Hourly rates'!$B$2:$E$40,2,FALSE))","v":12},24]
["Tucker, Cameron","Business Firm:Administration","Intern",1099,null,5,"2015-06-04","2015-06-06","Thu",null,"NonBill","ZZ","2015-06-09",null,"BIZ Research Projects",null,{"$f":"IF(O1846=\"Business Firm billable\",VLOOKUP(A1846,'Hourly rates'!$B$2:$E$40,4,FALSE),VLOOKUP(A1846,'Hourly rates'!$B$2:$E$40,2,FALSE))","v":12},60]
["Dunphy, Phil","Business Firm:Admin SP","Intern",1099,null,1.25,"2015-06-04","2015-06-06","Thu",null,"NonBill","ZZ","2015-06-09",null,{"$f":"IF(B1847=$B$1454,\"Special Projects\",\"\")","v":"Special Projects"},null,{"$f":"IF(O1847=\"Business Firm billable\",VLOOKUP(A1847,'Hourly rates'!$B$2:$E$40,4,FALSE),VLOOKUP(A1847,'Hourly rates'!$B$2:$E$40,2,FALSE))","v":12},15]
["Meagle, Donna","Business Firm:Admin SP","Intern",1099,null,3,"2015-06-05","2015-06-06","Fri",null,"NonBill","ZZ","2015-06-09",null,{"$f":"IF(B1848=$B$1454,\"Special Projects\",\"\")","v":"Special Projects"},null,{"$f":"IF(O1848=\"Business Firm billable\",VLOOKUP(A1848,'Hourly rates'!$B$2:$E$40,4,FALSE),VLOOKUP(A1848,'Hourly rates'!$B$2:$E$40,2,FALSE))","v":12},36]
["Pritchett, Jay","Business Firm:Admin SP","Intern",1099,null,1.75,"2015-06-05","2015-06-06","Fri",null,"NonBill","ZZ","2015-06-09",null,{"$f":"IF(B1849=$B$1454,\"Special Projects\",\"\")","v":"Special Projects"},null,{"$f":"IF(O1849=\"Business Firm billable\",VLOOKUP(A1849,'Hourly rates'!$B$2:$E$40,4,FALSE),VLOOKUP(A1849,'Hourly rates'!$B$2:$E$40,2,FALSE))","v":12},21]
["Dwyer, Andy","Business Firm:Admin SP","Intern",1099,null,1,"2015-06-05","2015-06-06","Fri",null,"NonBill","ZZ","2015-06-09",null,{"$f":"IF(B1850=$B$1454,\"Special Projects\",\"\")","v":"Special Projects"},null,{"$f":"IF(O1850=\"Business Firm billable\",VLOOKUP(A1850,'Hourly rates'!$B$2:$E$40,4,FALSE),VLOOKUP(A1850,'Hourly rates'!$B$2:$E$40,2,FALSE))","v":12},12]
["Raines, Audrey","Business Firm:Admin SP","Intern",1099,null,2,"2015-06-06","2015-06-06","Sat",null,"NonBill","ZZ","2015-06-09",null,{"$f":"IF(B1851=$B$1454,\"Special Projects\",\"\")","v":"Special Projects"},null,{"$f":"IF(O1851=\"Business Firm billable\",VLOOKUP(A1851,'Hourly rates'!$B$2:$E$40,4,FALSE),VLOOKUP(A1851,'Hourly rates'!$B$2:$E$40,2,FALSE))","v":12},24]
["Tucker, Cameron","Business Firm:Administration","Intern",1099,null,1.25,"2015-06-06","2015-06-06","Sat",null,"NonBill","ZZ","2015-06-09",null,"BIZ Research Projects",null,{"$f":"IF(O1852=\"Business Firm billable\",VLOOKUP(A1852,'Hourly rates'!$B$2:$E$40,4,FALSE),VLOOKUP(A1852,'Hourly rates'!$B$2:$E$40,2,FALSE))","v":12},15]
["Wyatt, Ben","Business Firm:**Strat","Intern",1099,null,1.25,"2015-06-08","2015-06-13","Mon",null,"NonBill","ZZ","2015-06-22",null,"Strat Firm",null,{"$f":"IF(O1853=\"Business Firm billable\",VLOOKUP(A1853,'Hourly rates'!$B$2:$E$40,4,FALSE),VLOOKUP(A1853,'Hourly rates'!$B$2:$E$40,2,FALSE))","v":12},15]
["Wyatt, Ben","Business Firm:Admin SP","Intern",1099,null,2,"2015-06-08","2015-06-13","Mon",null,"NonBill","ZZ","2015-06-22",null,{"$f":"IF(B1854=$B$1454,\"Special Projects\",\"\")","v":"Special Projects"},null,{"$f":"IF(O1854=\"Business Firm billable\",VLOOKUP(A1854,'Hourly rates'!$B$2:$E$40,4,FALSE),VLOOKUP(A1854,'Hourly rates'!$B$2:$E$40,2,FALSE))","v":12},24]
["Wyatt, Ben","Business Firm:Administration","Intern",1099,null,1.25,"2015-06-08","2015-06-13","Mon",null,"NonBill","ZZ","2015-06-22",null,"Special Projects",null,{"$f":"IF(O1855=\"Business Firm billable\",VLOOKUP(A1855,'Hourly rates'!$B$2:$E$40,4,FALSE),VLOOKUP(A1855,'Hourly rates'!$B$2:$E$40,2,FALSE))","v":12},15]
["Meagle, Donna","Business Firm:Admin SP","Intern",1099,null,3,"2015-06-08","2015-06-13","Mon",null,"NonBill","ZZ","2015-06-22",null,{"$f":"IF(B1856=$B$1454,\"Special Projects\",\"\")","v":"Special Projects"},null,{"$f":"IF(O1856=\"Business Firm billable\",VLOOKUP(A1856,'Hourly rates'!$B$2:$E$40,4,FALSE),VLOOKUP(A1856,'Hourly rates'!$B$2:$E$40,2,FALSE))","v":12},36]
["Pritchett, Jay","Business Firm:Admin SP","Intern",1099,null,1,"2015-06-08","2015-06-13","Mon",null,"NonBill","ZZ","2015-06-22",null,{"$f":"IF(B1857=$B$1454,\"Special Projects\",\"\")","v":"Special Projects"},null,{"$f":"IF(O1857=\"Business Firm billable\",VLOOKUP(A1857,'Hourly rates'!$B$2:$E$40,4,FALSE),VLOOKUP(A1857,'Hourly rates'!$B$2:$E$40,2,FALSE))","v":12},12]
["Tucker, Cameron","Business Firm:Administration","Intern",1099,null,2.25,"2015-06-08","2015-06-13","Mon",null,"NonBill","ZZ","2015-06-22",null,"BIZ Research Projects",null,{"$f":"IF(O1858=\"Business Firm billable\",VLOOKUP(A1858,'Hourly rates'!$B$2:$E$40,4,FALSE),VLOOKUP(A1858,'Hourly rates'!$B$2:$E$40,2,FALSE))","v":12},{"$f":"Q1858*F1858","v":27}]
["Dunphy, Phil","Business Firm:Admin SP","Intern",1099,null,2,"2015-06-08","2015-06-13","Mon",null,"NonBill","ZZ","2015-06-22",null,{"$f":"IF(B1859=$B$1454,\"Special Projects\",\"\")","v":"Special Projects"},null,{"$f":"IF(O1859=\"Business Firm billable\",VLOOKUP(A1859,'Hourly rates'!$B$2:$E$40,4,FALSE),VLOOKUP(A1859,'Hourly rates'!$B$2:$E$40,2,FALSE))","v":12},24]
["Dwyer, Andy","Business Firm:Admin SP","Intern",1099,null,1.75,"2015-06-08","2015-06-13","Mon",null,"NonBill","ZZ","2015-06-22",null,{"$f":"IF(B1860=$B$1454,\"Special Projects\",\"\")","v":"Special Projects"},null,{"$f":"IF(O1860=\"Business Firm billable\",VLOOKUP(A1860,'Hourly rates'!$B$2:$E$40,4,FALSE),VLOOKUP(A1860,'Hourly rates'!$B$2:$E$40,2,FALSE))","v":12},21]
["Dwyer, Andy","Business Firm:Administration","Intern",1099,null,3.25,"2015-06-08","2015-06-13","Mon",null,"NonBill","ZZ","2015-06-22",null,"Special Projects",null,{"$f":"IF(O1861=\"Business Firm billable\",VLOOKUP(A1861,'Hourly rates'!$B$2:$E$40,4,FALSE),VLOOKUP(A1861,'Hourly rates'!$B$2:$E$40,2,FALSE))","v":12},39]
["Wyatt, Ben","Business Firm:Admin SP","Intern",1099,null,1.25,"2015-06-09","2015-06-13","Tue",null,"NonBill","ZZ","2015-06-22",null,{"$f":"IF(B1862=$B$1454,\"Special Projects\",\"\")","v":"Special Projects"},null,{"$f":"IF(O1862=\"Business Firm billable\",VLOOKUP(A1862,'Hourly rates'!$B$2:$E$40,4,FALSE),VLOOKUP(A1862,'Hourly rates'!$B$2:$E$40,2,FALSE))","v":12},15]
["Meagle, Donna","Business Firm:Admin SP","Intern",1099,null,3,"2015-06-09","2015-06-13","Tue",null,"NonBill","ZZ","2015-06-22",null,{"$f":"IF(B1863=$B$1454,\"Special Projects\",\"\")","v":"Special Projects"},null,{"$f":"IF(O1863=\"Business Firm billable\",VLOOKUP(A1863,'Hourly rates'!$B$2:$E$40,4,FALSE),VLOOKUP(A1863,'Hourly rates'!$B$2:$E$40,2,FALSE))","v":12},36]
["Pritchett, Jay","Business Firm:Admin SP","Intern",1099,null,1.25,"2015-06-09","2015-06-13","Tue",null,"NonBill","ZZ","2015-06-22",null,{"$f":"IF(B1864=$B$1454,\"Special Projects\",\"\")","v":"Special Projects"},null,{"$f":"IF(O1864=\"Business Firm billable\",VLOOKUP(A1864,'Hourly rates'!$B$2:$E$40,4,FALSE),VLOOKUP(A1864,'Hourly rates'!$B$2:$E$40,2,FALSE))","v":12},15]
["Raines, Audrey","Business Firm:Admin SP","Intern",1099,null,4,"2015-06-09","2015-06-13","Tue",null,"NonBill","ZZ","2015-06-22",null,{"$f":"IF(B1865=$B$1454,\"Special Projects\",\"\")","v":"Special Projects"},null,{"$f":"IF(O1865=\"Business Firm billable\",VLOOKUP(A1865,'Hourly rates'!$B$2:$E$40,4,FALSE),VLOOKUP(A1865,'Hourly rates'!$B$2:$E$40,2,FALSE))","v":12},48]
["Tucker, Cameron","Business Firm:Administration","Intern",1099,null,2,"2015-06-09","2015-06-13","Tue",null,"NonBill","ZZ","2015-06-22",null,"BIZ Research Projects",null,{"$f":"IF(O1866=\"Business Firm billable\",VLOOKUP(A1866,'Hourly rates'!$B$2:$E$40,4,FALSE),VLOOKUP(A1866,'Hourly rates'!$B$2:$E$40,2,FALSE))","v":12},24]
["Dunphy, Phil","Business Firm:Admin SP","Intern",1099,null,3,"2015-06-09","2015-06-13","Tue",null,"NonBill","ZZ","2015-06-22",null,{"$f":"IF(B1867=$B$1454,\"Special Projects\",\"\")","v":"Special Projects"},null,{"$f":"IF(O1867=\"Business Firm billable\",VLOOKUP(A1867,'Hourly rates'!$B$2:$E$40,4,FALSE),VLOOKUP(A1867,'Hourly rates'!$B$2:$E$40,2,FALSE))","v":12},36]
["Dwyer, Andy","Business Firm:Admin SP","Intern",1099,null,1.25,"2015-06-09","2015-06-13","Tue",null,"NonBill","ZZ","2015-06-22",null,{"$f":"IF(B1868=$B$1454,\"Special Projects\",\"\")","v":"Special Projects"},null,{"$f":"IF(O1868=\"Business Firm billable\",VLOOKUP(A1868,'Hourly rates'!$B$2:$E$40,4,FALSE),VLOOKUP(A1868,'Hourly rates'!$B$2:$E$40,2,FALSE))","v":12},15]
["Dwyer, Andy","Business Firm:Administration","Intern",1099,null,3.25,"2015-06-09","2015-06-13","Tue",null,"NonBill","ZZ","2015-06-22",null,"Finance",null,{"$f":"IF(O1869=\"Business Firm billable\",VLOOKUP(A1869,'Hourly rates'!$B$2:$E$40,4,FALSE),VLOOKUP(A1869,'Hourly rates'!$B$2:$E$40,2,FALSE))","v":12},39]
["Wyatt, Ben","Business Firm:**Strat","Intern",1099,null,1.25,"2015-06-10","2015-06-13","Wed",null,"NonBill","ZZ","2015-06-22",null,"Strat Firm",null,{"$f":"IF(O1870=\"Business Firm billable\",VLOOKUP(A1870,'Hourly rates'!$B$2:$E$40,4,FALSE),VLOOKUP(A1870,'Hourly rates'!$B$2:$E$40,2,FALSE))","v":12},15]
["Wyatt, Ben","Business Firm:Admin SP","Intern",1099,null,1.25,"2015-06-10","2015-06-13","Wed",null,"NonBill","ZZ","2015-06-22",null,{"$f":"IF(B1871=$B$1454,\"Special Projects\",\"\")","v":"Special Projects"},null,{"$f":"IF(O1871=\"Business Firm billable\",VLOOKUP(A1871,'Hourly rates'!$B$2:$E$40,4,FALSE),VLOOKUP(A1871,'Hourly rates'!$B$2:$E$40,2,FALSE))","v":12},15]
["Raines, Audrey","Business Firm:Admin SP","Intern",1099,null,2,"2015-06-10","2015-06-13","Wed",null,"NonBill","ZZ","2015-06-22",null,{"$f":"IF(B1872=$B$1454,\"Special Projects\",\"\")","v":"Special Projects"},null,{"$f":"IF(O1872=\"Business Firm billable\",VLOOKUP(A1872,'Hourly rates'!$B$2:$E$40,4,FALSE),VLOOKUP(A1872,'Hourly rates'!$B$2:$E$40,2,FALSE))","v":12},24]
["Tucker, Cameron","Business Firm:Administration","Intern",1099,null,6,"2015-06-10","2015-06-13","Wed",null,"NonBill","ZZ","2015-06-22",null,"BIZ Research Projects",null,{"$f":"IF(O1873=\"Business Firm billable\",VLOOKUP(A1873,'Hourly rates'!$B$2:$E$40,4,FALSE),VLOOKUP(A1873,'Hourly rates'!$B$2:$E$40,2,FALSE))","v":12},72]
["Dunphy, Phil","Business Firm:Admin SP","Intern",1099,null,1.25,"2015-06-10","2015-06-13","Wed",null,"NonBill","ZZ","2015-06-22",null,{"$f":"IF(B1874=$B$1454,\"Special Projects\",\"\")","v":"Special Projects"},null,{"$f":"IF(O1874=\"Business Firm billable\",VLOOKUP(A1874,'Hourly rates'!$B$2:$E$40,4,FALSE),VLOOKUP(A1874,'Hourly rates'!$B$2:$E$40,2,FALSE))","v":12},15]
["Dwyer, Andy","Business Firm:Administration","Intern",1099,null,3.75,"2015-06-10","2015-06-13","Wed",null,"NonBill","ZZ","2015-06-22",null,"Finance",null,{"$f":"IF(O1875=\"Business Firm billable\",VLOOKUP(A1875,'Hourly rates'!$B$2:$E$40,4,FALSE),VLOOKUP(A1875,'Hourly rates'!$B$2:$E$40,2,FALSE))","v":12},45]
["Wyatt, Ben","Business Firm:**Strat","Intern",1099,null,1,"2015-06-11","2015-06-13","Thu",null,"NonBill","ZZ","2015-06-22",null,"Strat Firm",null,{"$f":"IF(O1876=\"Business Firm billable\",VLOOKUP(A1876,'Hourly rates'!$B$2:$E$40,4,FALSE),VLOOKUP(A1876,'Hourly rates'!$B$2:$E$40,2,FALSE))","v":12},12]
["Meagle, Donna","Business Firm:Admin SP","Intern",1099,null,2,"2015-06-11","2015-06-13","Thu",null,"NonBill","ZZ","2015-06-22",null,{"$f":"IF(B1877=$B$1454,\"Special Projects\",\"\")","v":"Special Projects"},null,{"$f":"IF(O1877=\"Business Firm billable\",VLOOKUP(A1877,'Hourly rates'!$B$2:$E$40,4,FALSE),VLOOKUP(A1877,'Hourly rates'!$B$2:$E$40,2,FALSE))","v":12},24]
["Pritchett, Jay","Business Firm:Admin SP","Intern",1099,null,2,"2015-06-11","2015-06-13","Thu",null,"NonBill","ZZ","2015-06-22",null,{"$f":"IF(B1878=$B$1454,\"Special Projects\",\"\")","v":"Special Projects"},null,{"$f":"IF(O1878=\"Business Firm billable\",VLOOKUP(A1878,'Hourly rates'!$B$2:$E$40,4,FALSE),VLOOKUP(A1878,'Hourly rates'!$B$2:$E$40,2,FALSE))","v":12},24]
["Tucker, Cameron","Business Firm:Administration","Intern",1099,null,1.75,"2015-06-11","2015-06-13","Thu",null,"NonBill","ZZ","2015-06-22",null,"BIZ Research Projects",null,{"$f":"IF(O1879=\"Business Firm billable\",VLOOKUP(A1879,'Hourly rates'!$B$2:$E$40,4,FALSE),VLOOKUP(A1879,'Hourly rates'!$B$2:$E$40,2,FALSE))","v":12},21]
["Dunphy, Phil","Business Firm:Admin SP","Intern",1099,null,1.25,"2015-06-11","2015-06-13","Thu",null,"NonBill","ZZ","2015-06-22",null,{"$f":"IF(B1880=$B$1454,\"Special Projects\",\"\")","v":"Special Projects"},null,{"$f":"IF(O1880=\"Business Firm billable\",VLOOKUP(A1880,'Hourly rates'!$B$2:$E$40,4,FALSE),VLOOKUP(A1880,'Hourly rates'!$B$2:$E$40,2,FALSE))","v":12},15]
["Dwyer, Andy","Business Firm:Admin SP","Intern",1099,null,1.25,"2015-06-11","2015-06-13","Thu",null,"NonBill","ZZ","2015-06-22",null,{"$f":"IF(B1881=$B$1454,\"Special Projects\",\"\")","v":"Special Projects"},null,{"$f":"IF(O1881=\"Business Firm billable\",VLOOKUP(A1881,'Hourly rates'!$B$2:$E$40,4,FALSE),VLOOKUP(A1881,'Hourly rates'!$B$2:$E$40,2,FALSE))","v":12},15]
["Dwyer, Andy","Business Firm:Administration","Intern",1099,null,1,"2015-06-11","2015-06-13","Thu",null,"NonBill","ZZ","2015-06-22",null,"Finance",null,{"$f":"IF(O1882=\"Business Firm billable\",VLOOKUP(A1882,'Hourly rates'!$B$2:$E$40,4,FALSE),VLOOKUP(A1882,'Hourly rates'!$B$2:$E$40,2,FALSE))","v":12},12]
["Dwyer, Andy","Business Firm:Administration","Intern",1099,null,4.25,"2015-06-11",{"$f":"G1883+7-WEEKDAY(G1883)","v":"2015-06-13"},"Thu",null,"NonBill","ZZ","2015-06-22",null,"Finance",null,{"$f":"IF(O1883=\"Business Firm billable\",VLOOKUP(A1883,'Hourly rates'!$B$2:$E$40,4,FALSE),VLOOKUP(A1883,'Hourly rates'!$B$2:$E$40,2,FALSE))","v":12},51]
["Wyatt, Ben","Business Firm:Admin SP","Intern",1099,null,1.25,"2015-06-12","2015-06-13","Fri",null,"NonBill","ZZ","2015-06-22",null,{"$f":"IF(B1884=$B$1454,\"Special Projects\",\"\")","v":"Special Projects"},null,{"$f":"IF(O1884=\"Business Firm billable\",VLOOKUP(A1884,'Hourly rates'!$B$2:$E$40,4,FALSE),VLOOKUP(A1884,'Hourly rates'!$B$2:$E$40,2,FALSE))","v":12},15]
["Meagle, Donna","Business Firm:Admin SP","Intern",1099,null,5,"2015-06-12","2015-06-13","Fri",null,"NonBill","ZZ","2015-06-22",null,{"$f":"IF(B1885=$B$1454,\"Special Projects\",\"\")","v":"Special Projects"},null,{"$f":"IF(O1885=\"Business Firm billable\",VLOOKUP(A1885,'Hourly rates'!$B$2:$E$40,4,FALSE),VLOOKUP(A1885,'Hourly rates'!$B$2:$E$40,2,FALSE))","v":12},60]
["Raines, Audrey","Business Firm:Admin SP","Intern",1099,null,1.25,"2015-06-12","2015-06-13","Fri",null,"NonBill","ZZ","2015-06-22",null,{"$f":"IF(B1886=$B$1454,\"Special Projects\",\"\")","v":"Special Projects"},null,{"$f":"IF(O1886=\"Business Firm billable\",VLOOKUP(A1886,'Hourly rates'!$B$2:$E$40,4,FALSE),VLOOKUP(A1886,'Hourly rates'!$B$2:$E$40,2,FALSE))","v":12},15]
["Dwyer, Andy","Business Firm:Administration","Intern",1099,null,1.75,"2015-06-12","2015-06-13","Fri",null,"NonBill","ZZ","2015-06-22",null,"Finance",null,{"$f":"IF(O1887=\"Business Firm billable\",VLOOKUP(A1887,'Hourly rates'!$B$2:$E$40,4,FALSE),VLOOKUP(A1887,'Hourly rates'!$B$2:$E$40,2,FALSE))","v":12},21]
["Dwyer, Andy","Business Firm:Administration","Intern",1099,null,1.25,"2015-06-12","2015-06-13","Fri",null,"NonBill","ZZ","2015-06-22",null,"Finance",null,{"$f":"IF(O1888=\"Business Firm billable\",VLOOKUP(A1888,'Hourly rates'!$B$2:$E$40,4,FALSE),VLOOKUP(A1888,'Hourly rates'!$B$2:$E$40,2,FALSE))","v":12},15]
["Dwyer, Andy","Business Firm:Administration","Intern",1099,null,1.25,"2015-06-12","2015-06-13","Fri",null,"NonBill","ZZ","2015-06-22",null,"Finance",null,{"$f":"IF(O1889=\"Business Firm billable\",VLOOKUP(A1889,'Hourly rates'!$B$2:$E$40,4,FALSE),VLOOKUP(A1889,'Hourly rates'!$B$2:$E$40,2,FALSE))","v":12},15]
["Dunphy, Phil","Business Firm:Admin SP","Intern",1099,null,1.25,"2015-06-13","2015-06-13","Sat",null,"NonBill","ZZ","2015-06-22",null,{"$f":"IF(B1890=$B$1454,\"Special Projects\",\"\")","v":"Special Projects"},null,{"$f":"IF(O1890=\"Business Firm billable\",VLOOKUP(A1890,'Hourly rates'!$B$2:$E$40,4,FALSE),VLOOKUP(A1890,'Hourly rates'!$B$2:$E$40,2,FALSE))","v":12},15]
["Dunphy, Phil","Business Firm:Admin SP","Intern",1099,null,2,"2015-06-14","2015-06-20","Sun",null,"NonBill","ZZ","2015-06-24",null,"Special Projects",null,{"$f":"IF(O1891=\"Business Firm billable\",VLOOKUP(A1891,'Hourly rates'!$B$2:$E$40,4,FALSE),VLOOKUP(A1891,'Hourly rates'!$B$2:$E$40,2,FALSE))","v":12},24]
["Wyatt, Ben","Business Firm:Admin SP","Intern",1099,null,1.25,"2015-06-15","2015-06-20","Mon",null,"NonBill","ZZ","2015-06-24",null,"Special Projects",null,{"$f":"IF(O1892=\"Business Firm billable\",VLOOKUP(A1892,'Hourly rates'!$B$2:$E$40,4,FALSE),VLOOKUP(A1892,'Hourly rates'!$B$2:$E$40,2,FALSE))","v":12},15]
["Meagle, Donna","Business Firm:Admin SP","Intern",1099,null,3,"2015-06-15","2015-06-20","Mon",null,"NonBill","ZZ","2015-06-24",null,"Special Projects",null,{"$f":"IF(O1893=\"Business Firm billable\",VLOOKUP(A1893,'Hourly rates'!$B$2:$E$40,4,FALSE),VLOOKUP(A1893,'Hourly rates'!$B$2:$E$40,2,FALSE))","v":12},36]
["Pritchett, Jay","Business Firm:Admin SP","Intern",1099,null,1.25,"2015-06-15","2015-06-20","Mon",null,"NonBill","ZZ","2015-06-24",null,"Special Projects",null,{"$f":"IF(O1894=\"Business Firm billable\",VLOOKUP(A1894,'Hourly rates'!$B$2:$E$40,4,FALSE),VLOOKUP(A1894,'Hourly rates'!$B$2:$E$40,2,FALSE))","v":12},15]
["Dunphy, Phil","Business Firm:Admin SP","Intern",1099,null,1.25,"2015-06-15","2015-06-20","Mon",null,"NonBill","ZZ","2015-06-24",null,"Special Projects",null,{"$f":"IF(O1895=\"Business Firm billable\",VLOOKUP(A1895,'Hourly rates'!$B$2:$E$40,4,FALSE),VLOOKUP(A1895,'Hourly rates'!$B$2:$E$40,2,FALSE))","v":12},15]
["Dwyer, Andy","Business Firm:Admin SP","Intern",1099,null,1.25,"2015-06-15","2015-06-20","Mon",null,"NonBill","ZZ","2015-06-24",null,"Special Projects",null,{"$f":"IF(O1896=\"Business Firm billable\",VLOOKUP(A1896,'Hourly rates'!$B$2:$E$40,4,FALSE),VLOOKUP(A1896,'Hourly rates'!$B$2:$E$40,2,FALSE))","v":12},15]
["Dwyer, Andy","Business Firm:Administration","Intern",1099,null,6,"2015-06-15","2015-06-20","Mon",null,"NonBill","ZZ","2015-06-24",null,"Finance",null,{"$f":"IF(O1897=\"Business Firm billable\",VLOOKUP(A1897,'Hourly rates'!$B$2:$E$40,4,FALSE),VLOOKUP(A1897,'Hourly rates'!$B$2:$E$40,2,FALSE))","v":12},72]
["Knope, Leslie","Business Firm:Admin SP","Intern",1099,null,2,"2015-06-16","2015-06-20","Tue",null,"NonBill","ZZ","2015-06-24",null,{"$f":"IF(B1898=$B$1454,\"Special Projects\",\"\")","v":"Special Projects"},null,{"$f":"IF(O1898=\"Business Firm billable\",VLOOKUP(A1898,'Hourly rates'!$B$2:$E$40,4,FALSE),VLOOKUP(A1898,'Hourly rates'!$B$2:$E$40,2,FALSE))","v":12},24]
["Knope, Leslie","Business Firm:Administration","Intern",1099,null,2,"2015-06-16","2015-06-20","Tue",null,"NonBill","ZZ","2015-06-24",null,"Finance",null,{"$f":"IF(O1899=\"Business Firm billable\",VLOOKUP(A1899,'Hourly rates'!$B$2:$E$40,4,FALSE),VLOOKUP(A1899,'Hourly rates'!$B$2:$E$40,2,FALSE))","v":12},24]
["Wyatt, Ben","Business Firm:Admin SP","Intern",1099,null,3,"2015-06-16","2015-06-20","Tue",null,"NonBill","ZZ","2015-06-24",null,{"$f":"IF(B1900=$B$1454,\"Special Projects\",\"\")","v":"Special Projects"},null,{"$f":"IF(O1900=\"Business Firm billable\",VLOOKUP(A1900,'Hourly rates'!$B$2:$E$40,4,FALSE),VLOOKUP(A1900,'Hourly rates'!$B$2:$E$40,2,FALSE))","v":12},36]
["Meagle, Donna","Business Firm:Admin SP","Intern",1099,null,3,"2015-06-16","2015-06-20","Tue",null,"NonBill","ZZ","2015-06-24",null,{"$f":"IF(B1901=$B$1454,\"Special Projects\",\"\")","v":"Special Projects"},null,{"$f":"IF(O1901=\"Business Firm billable\",VLOOKUP(A1901,'Hourly rates'!$B$2:$E$40,4,FALSE),VLOOKUP(A1901,'Hourly rates'!$B$2:$E$40,2,FALSE))","v":12},36]
["Tucker, Cameron","Business Firm:Administration","Intern",1099,null,1.25,"2015-06-16","2015-06-20","Tue",null,"NonBill","ZZ","2015-06-24",null,"BIZ Research Projects",null,{"$f":"IF(O1902=\"Business Firm billable\",VLOOKUP(A1902,'Hourly rates'!$B$2:$E$40,4,FALSE),VLOOKUP(A1902,'Hourly rates'!$B$2:$E$40,2,FALSE))","v":12},15]
["Dunphy, Phil","Business Firm:Admin SP","Intern",1099,null,1.25,"2015-06-16","2015-06-20","Tue",null,"NonBill","ZZ","2015-06-24",null,{"$f":"IF(B1903=$B$1454,\"Special Projects\",\"\")","v":"Special Projects"},null,{"$f":"IF(O1903=\"Business Firm billable\",VLOOKUP(A1903,'Hourly rates'!$B$2:$E$40,4,FALSE),VLOOKUP(A1903,'Hourly rates'!$B$2:$E$40,2,FALSE))","v":12},15]
["Dwyer, Andy","Business Firm:Administration","Intern",1099,null,7,"2015-06-16","2015-06-20","Tue",null,"NonBill","ZZ","2015-06-24",null,"Finance",null,{"$f":"IF(O1904=\"Business Firm billable\",VLOOKUP(A1904,'Hourly rates'!$B$2:$E$40,4,FALSE),VLOOKUP(A1904,'Hourly rates'!$B$2:$E$40,2,FALSE))","v":12},84]
["Dwyer, Andy","Business Firm:Administration","Intern",1099,null,1.25,"2015-06-16","2015-06-20","Tue",null,"NonBill","ZZ","2015-06-24",null,"Finance",null,{"$f":"IF(O1905=\"Business Firm billable\",VLOOKUP(A1905,'Hourly rates'!$B$2:$E$40,4,FALSE),VLOOKUP(A1905,'Hourly rates'!$B$2:$E$40,2,FALSE))","v":12},15]
["Wyatt, Ben","Business Firm:Admin SP","Intern",1099,null,2,"2015-06-17","2015-06-20","Wed",null,"NonBill","ZZ","2015-06-24",null,{"$f":"IF(B1906=$B$1454,\"Special Projects\",\"\")","v":"Special Projects"},null,{"$f":"IF(O1906=\"Business Firm billable\",VLOOKUP(A1906,'Hourly rates'!$B$2:$E$40,4,FALSE),VLOOKUP(A1906,'Hourly rates'!$B$2:$E$40,2,FALSE))","v":12},24]
["Meagle, Donna","Business Firm:Admin SP","Intern",1099,null,3,"2015-06-17","2015-06-20","Wed",null,"NonBill","ZZ","2015-06-24",null,{"$f":"IF(B1907=$B$1454,\"Special Projects\",\"\")","v":"Special Projects"},null,{"$f":"IF(O1907=\"Business Firm billable\",VLOOKUP(A1907,'Hourly rates'!$B$2:$E$40,4,FALSE),VLOOKUP(A1907,'Hourly rates'!$B$2:$E$40,2,FALSE))","v":12},36]
["Tucker, Cameron","Business Firm:Administration","Intern",1099,null,2,"2015-06-17","2015-06-20","Wed",null,"NonBill","ZZ","2015-06-24",null,"BIZ Research Projects",null,{"$f":"IF(O1908=\"Business Firm billable\",VLOOKUP(A1908,'Hourly rates'!$B$2:$E$40,4,FALSE),VLOOKUP(A1908,'Hourly rates'!$B$2:$E$40,2,FALSE))","v":12},24]
["Dunphy, Phil","Business Firm:Admin SP","Intern",1099,null,1.25,"2015-06-17","2015-06-20","Wed",null,"NonBill","ZZ","2015-06-24",null,{"$f":"IF(B1909=$B$1454,\"Special Projects\",\"\")","v":"Special Projects"},null,{"$f":"IF(O1909=\"Business Firm billable\",VLOOKUP(A1909,'Hourly rates'!$B$2:$E$40,4,FALSE),VLOOKUP(A1909,'Hourly rates'!$B$2:$E$40,2,FALSE))","v":12},15]
["Dwyer, Andy","Business Firm:Admin SP","Intern",1099,null,3,"2015-06-17","2015-06-20","Wed",null,"NonBill","ZZ","2015-06-24",null,{"$f":"IF(B1910=$B$1454,\"Special Projects\",\"\")","v":"Special Projects"},null,{"$f":"IF(O1910=\"Business Firm billable\",VLOOKUP(A1910,'Hourly rates'!$B$2:$E$40,4,FALSE),VLOOKUP(A1910,'Hourly rates'!$B$2:$E$40,2,FALSE))","v":12},36]
["Dwyer, Andy","Business Firm:Administration","Intern",1099,null,1.25,"2015-06-17","2015-06-20","Wed",null,"NonBill","ZZ","2015-06-24",null,"Finance",null,{"$f":"IF(O1911=\"Business Firm billable\",VLOOKUP(A1911,'Hourly rates'!$B$2:$E$40,4,FALSE),VLOOKUP(A1911,'Hourly rates'!$B$2:$E$40,2,FALSE))","v":12},15]
["Dwyer, Andy","Business Firm:Administration","Intern",1099,null,1,"2015-06-17","2015-06-20","Wed",null,"NonBill","ZZ","2015-06-24",null,"Finance",null,{"$f":"IF(O1912=\"Business Firm billable\",VLOOKUP(A1912,'Hourly rates'!$B$2:$E$40,4,FALSE),VLOOKUP(A1912,'Hourly rates'!$B$2:$E$40,2,FALSE))","v":12},12]
["Dwyer, Andy","Business Firm:Administration","Intern",1099,null,2,"2015-06-17","2015-06-20","Wed",null,"NonBill","ZZ","2015-06-24",null,"Finance",null,{"$f":"IF(O1913=\"Business Firm billable\",VLOOKUP(A1913,'Hourly rates'!$B$2:$E$40,4,FALSE),VLOOKUP(A1913,'Hourly rates'!$B$2:$E$40,2,FALSE))","v":12},24]
["Wyatt, Ben","Business Firm:**Strat","Intern",1099,null,2,"2015-06-18","2015-06-20","Thu",null,"NonBill","ZZ","2015-06-24",null,"Strat Firm",null,{"$f":"IF(O1914=\"Business Firm billable\",VLOOKUP(A1914,'Hourly rates'!$B$2:$E$40,4,FALSE),VLOOKUP(A1914,'Hourly rates'!$B$2:$E$40,2,FALSE))","v":12},24]
["Meagle, Donna","Business Firm:Admin SP","Intern",1099,null,3,"2015-06-18","2015-06-20","Thu",null,"NonBill","ZZ","2015-06-24",null,{"$f":"IF(B1915=$B$1454,\"Special Projects\",\"\")","v":"Special Projects"},null,{"$f":"IF(O1915=\"Business Firm billable\",VLOOKUP(A1915,'Hourly rates'!$B$2:$E$40,4,FALSE),VLOOKUP(A1915,'Hourly rates'!$B$2:$E$40,2,FALSE))","v":12},36]
["Dwyer, Andy","Business Firm:Administration","Intern",1099,null,5.25,"2015-06-18","2015-06-20","Thu",null,"NonBill","ZZ","2015-06-24",null,"Finance",null,{"$f":"IF(O1916=\"Business Firm billable\",VLOOKUP(A1916,'Hourly rates'!$B$2:$E$40,4,FALSE),VLOOKUP(A1916,'Hourly rates'!$B$2:$E$40,2,FALSE))","v":12},63]
["Pritchett, Jay","Business Firm:Admin SP","Intern",1099,null,1.25,"2015-06-19","2015-06-20","Fri",null,"NonBill","ZZ","2015-06-24",null,{"$f":"IF(B1917=$B$1454,\"Special Projects\",\"\")","v":"Special Projects"},null,{"$f":"IF(O1917=\"Business Firm billable\",VLOOKUP(A1917,'Hourly rates'!$B$2:$E$40,4,FALSE),VLOOKUP(A1917,'Hourly rates'!$B$2:$E$40,2,FALSE))","v":12},15]
["Raines, Audrey","Business Firm:Admin SP","Intern",1099,null,1.25,"2015-06-19","2015-06-20","Fri",null,"NonBill","ZZ","2015-06-24",null,{"$f":"IF(B1918=$B$1454,\"Special Projects\",\"\")","v":"Special Projects"},null,{"$f":"IF(O1918=\"Business Firm billable\",VLOOKUP(A1918,'Hourly rates'!$B$2:$E$40,4,FALSE),VLOOKUP(A1918,'Hourly rates'!$B$2:$E$40,2,FALSE))","v":12},15]
["Dunphy, Phil","Business Firm:Admin SP","Intern",1099,null,1,"2015-06-19","2015-06-20","Fri",null,"NonBill","ZZ","2015-06-24",null,{"$f":"IF(B1919=$B$1454,\"Special Projects\",\"\")","v":"Special Projects"},null,{"$f":"IF(O1919=\"Business Firm billable\",VLOOKUP(A1919,'Hourly rates'!$B$2:$E$40,4,FALSE),VLOOKUP(A1919,'Hourly rates'!$B$2:$E$40,2,FALSE))","v":12},12]
["Dwyer, Andy","Business Firm:Admin SP","Intern",1099,null,1.25,"2015-06-19","2015-06-20","Fri",null,"NonBill","ZZ","2015-06-24",null,{"$f":"IF(B1920=$B$1454,\"Special Projects\",\"\")","v":"Special Projects"},null,{"$f":"IF(O1920=\"Business Firm billable\",VLOOKUP(A1920,'Hourly rates'!$B$2:$E$40,4,FALSE),VLOOKUP(A1920,'Hourly rates'!$B$2:$E$40,2,FALSE))","v":12},15]
["Dwyer, Andy","Business Firm:Administration","Intern",1099,null,1.25,"2015-06-19","2015-06-20","Fri",null,"NonBill","ZZ","2015-06-24",null,"Finance",null,{"$f":"IF(O1921=\"Business Firm billable\",VLOOKUP(A1921,'Hourly rates'!$B$2:$E$40,4,FALSE),VLOOKUP(A1921,'Hourly rates'!$B$2:$E$40,2,FALSE))","v":12},15]
["Dwyer, Andy","Business Firm:Administration","Intern",1099,null,1.25,"2015-06-19","2015-06-20","Fri",null,"NonBill","ZZ","2015-06-24",null,"Finance",null,{"$f":"IF(O1922=\"Business Firm billable\",VLOOKUP(A1922,'Hourly rates'!$B$2:$E$40,4,FALSE),VLOOKUP(A1922,'Hourly rates'!$B$2:$E$40,2,FALSE))","v":12},{"$f":"Q1922*F1922","v":15}]
["Pritchett, Jay","Business Firm:Admin SP","Intern",1099,null,1.25,"2015-06-20","2015-06-20","Sat",null,"NonBill","ZZ","2015-06-24",null,{"$f":"IF(B1923=$B$1454,\"Special Projects\",\"\")","v":"Special Projects"},null,{"$f":"IF(O1923=\"Business Firm billable\",VLOOKUP(A1923,'Hourly rates'!$B$2:$E$40,4,FALSE),VLOOKUP(A1923,'Hourly rates'!$B$2:$E$40,2,FALSE))","v":12},15]
["Dunphy, Phil","Business Firm:Admin SP","Intern",1099,null,5,"2015-06-20","2015-06-20","Sat",null,"NonBill","ZZ","2015-06-24",null,"Special Projects",null,{"$f":"IF(O1924=\"Business Firm billable\",VLOOKUP(A1924,'Hourly rates'!$B$2:$E$40,4,FALSE),VLOOKUP(A1924,'Hourly rates'!$B$2:$E$40,2,FALSE))","v":12},60]
["Wyatt, Ben","Business Firm:Admin SP","Intern",1099,null,3,"2015-06-22","2015-06-27","Mon",null,"NonBill","ZZ",null,null,"Special Projects",null,{"$f":"IF(O1925=\"Business Firm billable\",VLOOKUP(A1925,'Hourly rates'!$B$2:$E$40,4,FALSE),VLOOKUP(A1925,'Hourly rates'!$B$2:$E$40,2,FALSE))","v":12},36]
["Wyatt, Ben","Business Firm:Admin SP","Intern",1099,null,2,"2015-06-23","2015-06-27","Tue",null,"NonBill","ZZ",null,null,"Special Projects",null,{"$f":"IF(O1926=\"Business Firm billable\",VLOOKUP(A1926,'Hourly rates'!$B$2:$E$40,4,FALSE),VLOOKUP(A1926,'Hourly rates'!$B$2:$E$40,2,FALSE))","v":12},24]
["Meagle, Donna","Business Firm:Admin SP","Intern",1099,null,4,"2015-06-23","2015-06-27","Tue",null,"NonBill","ZZ",null,null,"Special Projects",null,{"$f":"IF(O1927=\"Business Firm billable\",VLOOKUP(A1927,'Hourly rates'!$B$2:$E$40,4,FALSE),VLOOKUP(A1927,'Hourly rates'!$B$2:$E$40,2,FALSE))","v":12},48]
["Meagle, Donna","Business Firm:Admin SP","Intern",1099,null,3,"2015-06-25","2015-06-27","Thu",null,"NonBill","ZZ",null,null,"Special Projects",null,{"$f":"IF(O1928=\"Business Firm billable\",VLOOKUP(A1928,'Hourly rates'!$B$2:$E$40,4,FALSE),VLOOKUP(A1928,'Hourly rates'!$B$2:$E$40,2,FALSE))","v":12},36]
["Meagle, Donna","Business Firm:Admin SP","Intern",1099,null,3,"2015-06-26","2015-06-27","Fri",null,"NonBill","ZZ",null,null,"Special Projects",null,{"$f":"IF(O1929=\"Business Firm billable\",VLOOKUP(A1929,'Hourly rates'!$B$2:$E$40,4,FALSE),VLOOKUP(A1929,'Hourly rates'!$B$2:$E$40,2,FALSE))","v":12},36]
["Almeida, Tony","Some Client:Tech Acctg","Intern",1099,null,4.25,"2015-06-22","2015-06-27","Mon",null,"Admin 9%","ZZ",null,null,"Business Firm billable",null,{"$f":"IF(O1930=\"Business Firm billable\",VLOOKUP(A1930,'Hourly rates'!$B$2:$E$40,4,FALSE),VLOOKUP(A1930,'Hourly rates'!$B$2:$E$40,2,FALSE))","v":83},352.75,null,{"$f":"A1930&B1930&C1930&D1930&E1930&F1930&G1930&H1930&I1930&K1930&N1930&O1930","v":"Almeida, TonySome Client:Tech AcctgIntern10994.254217742182MonAdmin 9%Business Firm billable"}," "]
["Almeida, Tony","Some Client:Tech Acctg","Intern",1099,null,10,"2015-06-23","2015-06-27","Tue",null,"Admin 9%","ZZ",null,null,"Business Firm billable",null,{"$f":"IF(O1931=\"Business Firm billable\",VLOOKUP(A1931,'Hourly rates'!$B$2:$E$40,4,FALSE),VLOOKUP(A1931,'Hourly rates'!$B$2:$E$40,2,FALSE))","v":83},830,null,{"$f":"A1931&B1931&C1931&D1931&E1931&F1931&G1931&H1931&I1931&K1931&N1931&O1931","v":"Almeida, TonySome Client:Tech AcctgIntern1099104217842182TueAdmin 9%Business Firm billable"}," "]
["Almeida, Tony","Some Client:Tech Acctg","Intern",1099,null,6.75,"2015-06-24","2015-06-27","Wed",null,"Admin 9%","ZZ",null,null,"Business Firm billable",null,{"$f":"IF(O1932=\"Business Firm billable\",VLOOKUP(A1932,'Hourly rates'!$B$2:$E$40,4,FALSE),VLOOKUP(A1932,'Hourly rates'!$B$2:$E$40,2,FALSE))","v":83},560.25,null,{"$f":"A1932&B1932&C1932&D1932&E1932&F1932&G1932&H1932&I1932&K1932&N1932&O1932","v":"Almeida, TonySome Client:Tech AcctgIntern10996.754217942182WedAdmin 9%Business Firm billable"}," "]
["Almeida, Tony","Some Client:Tech Acctg","Intern",1099,null,8,"2015-06-25","2015-06-27","Thu",null,"Admin 9%","ZZ",null,null,"Business Firm billable",null,{"$f":"IF(O1933=\"Business Firm billable\",VLOOKUP(A1933,'Hourly rates'!$B$2:$E$40,4,FALSE),VLOOKUP(A1933,'Hourly rates'!$B$2:$E$40,2,FALSE))","v":83},664,null,{"$f":"A1933&B1933&C1933&D1933&E1933&F1933&G1933&H1933&I1933&K1933&N1933&O1933","v":"Almeida, TonySome Client:Tech AcctgIntern109984218042182ThuAdmin 9%Business Firm billable"}," "]
["Almeida, Tony","Some Client:Tech Acctg","Intern",1099,null,3.25,"2015-06-26","2015-06-27","Fri",null,"Admin 9%","ZZ",null,null,"Business Firm billable",null,{"$f":"IF(O1934=\"Business Firm billable\",VLOOKUP(A1934,'Hourly rates'!$B$2:$E$40,4,FALSE),VLOOKUP(A1934,'Hourly rates'!$B$2:$E$40,2,FALSE))","v":83},269.75,null,{"$f":"A1934&B1934&C1934&D1934&E1934&F1934&G1934&H1934&I1934&K1934&N1934&O1934","v":"Almeida, TonySome Client:Tech AcctgIntern10993.254218142182FriAdmin 9%Business Firm billable"}," "]
["Pritchett, Jay","Business Firm:Admin SP","Intern",1099,null,2,"2015-06-22","2015-06-27","Mon",null,"NonBill","ZZ",null,null,{"$f":"IF(B1935=$B$1454,\"Special Projects\",\"\")","v":"Special Projects"},null,{"$f":"IF(O1935=\"Business Firm billable\",VLOOKUP(A1935,'Hourly rates'!$B$2:$E$40,4,FALSE),VLOOKUP(A1935,'Hourly rates'!$B$2:$E$40,2,FALSE))","v":12},24]
["Pritchett, Jay","Business Firm:Admin SP","Intern",1099,null,1.25,"2015-06-23","2015-06-27","Tue",null,"NonBill","ZZ",null,null,"Special Projects",null,{"$f":"IF(O1936=\"Business Firm billable\",VLOOKUP(A1936,'Hourly rates'!$B$2:$E$40,4,FALSE),VLOOKUP(A1936,'Hourly rates'!$B$2:$E$40,2,FALSE))","v":12},15]
["Pritchett, Jay","Business Firm:Admin SP","Intern",1099,null,1.25,"2015-06-27","2015-06-27","Sat",null,"NonBill","ZZ",null,null,"Special Projects",null,{"$f":"IF(O1937=\"Business Firm billable\",VLOOKUP(A1937,'Hourly rates'!$B$2:$E$40,4,FALSE),VLOOKUP(A1937,'Hourly rates'!$B$2:$E$40,2,FALSE))","v":12},15]
["Dunphy, Phil","Business Firm:Admin SP","Intern",1099,null,2,"2015-06-22","2015-06-27","Mon",null,"NonBill","ZZ",null,null,"Special Projects",null,{"$f":"IF(O1938=\"Business Firm billable\",VLOOKUP(A1938,'Hourly rates'!$B$2:$E$40,4,FALSE),VLOOKUP(A1938,'Hourly rates'!$B$2:$E$40,2,FALSE))","v":12},24]
["Dunphy, Phil","Business Firm:Admin SP","Intern",1099,null,1,"2015-06-23","2015-06-27","Tue",null,"NonBill","ZZ",null,null,"Special Projects",null,{"$f":"IF(O1939=\"Business Firm billable\",VLOOKUP(A1939,'Hourly rates'!$B$2:$E$40,4,FALSE),VLOOKUP(A1939,'Hourly rates'!$B$2:$E$40,2,FALSE))","v":12},12]
["Dunphy, Phil","Business Firm:Admin SP","Intern",1099,null,1.25,"2015-06-24","2015-06-27","Wed",null,"NonBill","ZZ",null,null,"Special Projects",null,{"$f":"IF(O1940=\"Business Firm billable\",VLOOKUP(A1940,'Hourly rates'!$B$2:$E$40,4,FALSE),VLOOKUP(A1940,'Hourly rates'!$B$2:$E$40,2,FALSE))","v":12},15]
["Dunphy, Phil","Business Firm:Admin SP","Intern",1099,null,1.25,"2015-06-25","2015-06-27","Thu",null,"NonBill","ZZ",null,null,"Special Projects",null,{"$f":"IF(O1941=\"Business Firm billable\",VLOOKUP(A1941,'Hourly rates'!$B$2:$E$40,4,FALSE),VLOOKUP(A1941,'Hourly rates'!$B$2:$E$40,2,FALSE))","v":12},15]
["Dunphy, Phil","Business Firm:Admin SP","Intern",1099,null,2,"2015-06-26","2015-06-27","Fri",null,"NonBill","ZZ",null,null,"Special Projects",null,{"$f":"IF(O1942=\"Business Firm billable\",VLOOKUP(A1942,'Hourly rates'!$B$2:$E$40,4,FALSE),VLOOKUP(A1942,'Hourly rates'!$B$2:$E$40,2,FALSE))","v":12},24]
["Knope, Leslie","Business Firm:Admin SP","Intern",1099,null,1.25,"2015-06-29","2015-07-04","Mon",null,"NonBill","ZZ","2015-07-08",null,"Special Projects",null,{"$f":"IF(O1943=\"Business Firm billable\",VLOOKUP(A1943,'Hourly rates'!$B$2:$E$40,4,FALSE),VLOOKUP(A1943,'Hourly rates'!$B$2:$E$40,2,FALSE))","v":12},15]
["Knope, Leslie","Business Firm:Admin SP","Intern",1099,null,1,"2015-06-30","2015-07-04","Tue",null,"NonBill","ZZ","2015-07-08",null,"Special Projects",null,{"$f":"IF(O1944=\"Business Firm billable\",VLOOKUP(A1944,'Hourly rates'!$B$2:$E$40,4,FALSE),VLOOKUP(A1944,'Hourly rates'!$B$2:$E$40,2,FALSE))","v":12},12]
["Knope, Leslie","Business Firm:Admin SP","Intern",1099,null,2,"2015-07-03","2015-07-04","Fri",null,"NonBill","ZZ","2015-07-08",null,"Special Projects",null,{"$f":"IF(O1945=\"Business Firm billable\",VLOOKUP(A1945,'Hourly rates'!$B$2:$E$40,4,FALSE),VLOOKUP(A1945,'Hourly rates'!$B$2:$E$40,2,FALSE))","v":12},24]
["Wyatt, Ben","Business Firm:Admin SP","Intern",1099,null,1.75,"2015-06-29","2015-07-04","Mon",null,"NonBill","ZZ","2015-07-08",null,"Special Projects",null,{"$f":"IF(O1946=\"Business Firm billable\",VLOOKUP(A1946,'Hourly rates'!$B$2:$E$40,4,FALSE),VLOOKUP(A1946,'Hourly rates'!$B$2:$E$40,2,FALSE))","v":12},21]
["Wyatt, Ben","Business Firm:Admin SP","Intern",1099,null,1.25,"2015-06-30",{"$f":"G1947+7-WEEKDAY(G1947)","v":"2015-07-04"},"Tue",null,"NonBill","ZZ","2015-07-08",null,"Special Projects",null,{"$f":"IF(O1947=\"Business Firm billable\",VLOOKUP(A1947,'Hourly rates'!$B$2:$E$40,4,FALSE),VLOOKUP(A1947,'Hourly rates'!$B$2:$E$40,2,FALSE))","v":12},15]
["Wyatt, Ben","Business Firm:Admin SP","Intern",1099,null,1.25,"2015-07-01","2015-07-04","Wed",null,"NonBill","ZZ","2015-07-08",null,"Special Projects",null,{"$f":"IF(O1948=\"Business Firm billable\",VLOOKUP(A1948,'Hourly rates'!$B$2:$E$40,4,FALSE),VLOOKUP(A1948,'Hourly rates'!$B$2:$E$40,2,FALSE))","v":12},15]
["Meagle, Donna","Business Firm:Admin SP","Intern",1099,null,3,"2015-06-29","2015-07-04","Mon",null,"NonBill","ZZ","2015-07-08",null,"Special Projects",null,{"$f":"IF(O1949=\"Business Firm billable\",VLOOKUP(A1949,'Hourly rates'!$B$2:$E$40,4,FALSE),VLOOKUP(A1949,'Hourly rates'!$B$2:$E$40,2,FALSE))","v":12},36]
["Meagle, Donna","Business Firm:Admin SP","Intern",1099,null,3,"2015-06-30","2015-07-04","Tue",null,"NonBill","ZZ","2015-07-08",null,"Special Projects",null,{"$f":"IF(O1950=\"Business Firm billable\",VLOOKUP(A1950,'Hourly rates'!$B$2:$E$40,4,FALSE),VLOOKUP(A1950,'Hourly rates'!$B$2:$E$40,2,FALSE))","v":12},36]
["Meagle, Donna","Business Firm:Admin SP","Intern",1099,null,4,"2015-07-02","2015-07-04","Thu",null,"NonBill","ZZ","2015-07-08",null,"Special Projects",null,{"$f":"IF(O1951=\"Business Firm billable\",VLOOKUP(A1951,'Hourly rates'!$B$2:$E$40,4,FALSE),VLOOKUP(A1951,'Hourly rates'!$B$2:$E$40,2,FALSE))","v":12},48]
["Almeida, Tony","Some Client:Tech Acctg","Intern",1099,null,8,"2015-06-29","2015-07-04","Mon",null,"Admin 9%","ZZ","2015-07-08",null,"Business Firm billable",null,{"$f":"IF(O1952=\"Business Firm billable\",VLOOKUP(A1952,'Hourly rates'!$B$2:$E$40,4,FALSE),VLOOKUP(A1952,'Hourly rates'!$B$2:$E$40,2,FALSE))","v":83},664,null,{"$f":"A1952&B1952&C1952&D1952&E1952&F1952&G1952&H1952&I1952&K1952&N1952&O1952","v":"Almeida, TonySome Client:Tech AcctgIntern109984218442189MonAdmin 9%Business Firm billable"}," "]
["Almeida, Tony","Business Firm:Admin SP","Intern",1099,null,1.25,"2015-06-30","2015-07-04","Tue",null,"NonBill","ZZ","2015-07-08",null,{"$f":"IF(B1953=$B$1454,\"Special Projects\",\"\")","v":"Special Projects"},null,{"$f":"IF(O1953=\"Business Firm billable\",VLOOKUP(A1953,'Hourly rates'!$B$2:$E$40,4,FALSE),VLOOKUP(A1953,'Hourly rates'!$B$2:$E$40,2,FALSE))","v":12},15,null,{"$f":"A1953&B1953&C1953&D1953&E1953&F1953&G1953&H1953&I1953&K1953&N1953&O1953","v":"Almeida, TonyBusiness Firm:Admin SPIntern10991.254218542189TueNonBillSpecial Projects"}," "]
["Almeida, Tony","Some Client:Tech Acctg","Intern",1099,null,3.25,"2015-06-30","2015-07-04","Tue",null,"Admin 9%","ZZ","2015-07-08",null,"Business Firm billable",null,{"$f":"IF(O1954=\"Business Firm billable\",VLOOKUP(A1954,'Hourly rates'!$B$2:$E$40,4,FALSE),VLOOKUP(A1954,'Hourly rates'!$B$2:$E$40,2,FALSE))","v":83},269.75,null,{"$f":"A1954&B1954&C1954&D1954&E1954&F1954&G1954&H1954&I1954&K1954&N1954&O1954","v":"Almeida, TonySome Client:Tech AcctgIntern10993.254218542189TueAdmin 9%Business Firm billable"}," "]
["Pritchett, Jay","Business Firm:Admin SP","Intern",1099,null,1.25,"2015-06-29","2015-07-04","Mon",null,"NonBill","ZZ","2015-07-08",null,{"$f":"IF(B1955=$B$1454,\"Special Projects\",\"\")","v":"Special Projects"},null,{"$f":"IF(O1955=\"Business Firm billable\",VLOOKUP(A1955,'Hourly rates'!$B$2:$E$40,4,FALSE),VLOOKUP(A1955,'Hourly rates'!$B$2:$E$40,2,FALSE))","v":12},15]
["Pritchett, Jay","Business Firm:Admin SP","Intern",1099,null,3,"2015-06-30","2015-07-04","Tue",null,"NonBill","ZZ","2015-07-08",null,"Special Projects",null,{"$f":"IF(O1956=\"Business Firm billable\",VLOOKUP(A1956,'Hourly rates'!$B$2:$E$40,4,FALSE),VLOOKUP(A1956,'Hourly rates'!$B$2:$E$40,2,FALSE))","v":12},36]
["Pritchett, Jay","Business Firm:Admin SP","Intern",1099,null,1.25,"2015-07-01","2015-07-04","Wed",null,"NonBill","ZZ","2015-07-08",null,"Special Projects",null,{"$f":"IF(O1957=\"Business Firm billable\",VLOOKUP(A1957,'Hourly rates'!$B$2:$E$40,4,FALSE),VLOOKUP(A1957,'Hourly rates'!$B$2:$E$40,2,FALSE))","v":12},15]
["Pritchett, Jay","Business Firm:Admin SP","Intern",1099,null,1.25,"2015-07-02","2015-07-04","Thu",null,"NonBill","ZZ","2015-07-08",null,"Special Projects",null,{"$f":"IF(O1958=\"Business Firm billable\",VLOOKUP(A1958,'Hourly rates'!$B$2:$E$40,4,FALSE),VLOOKUP(A1958,'Hourly rates'!$B$2:$E$40,2,FALSE))","v":12},15]
["Pritchett, Jay","Business Firm:Admin SP","Intern",1099,null,1,"2015-07-03","2015-07-04","Fri",null,"NonBill","ZZ","2015-07-08",null,"Special Projects",null,{"$f":"IF(O1959=\"Business Firm billable\",VLOOKUP(A1959,'Hourly rates'!$B$2:$E$40,4,FALSE),VLOOKUP(A1959,'Hourly rates'!$B$2:$E$40,2,FALSE))","v":12},12]
["Dunphy, Phil","Business Firm:Admin SP","Intern",1099,null,1.75,"2015-06-29","2015-07-04","Mon",null,"NonBill","ZZ","2015-07-08",null,"Special Projects",null,{"$f":"IF(O1960=\"Business Firm billable\",VLOOKUP(A1960,'Hourly rates'!$B$2:$E$40,4,FALSE),VLOOKUP(A1960,'Hourly rates'!$B$2:$E$40,2,FALSE))","v":12},21]
["Dunphy, Phil","Business Firm:Admin SP","Intern",1099,null,1.25,"2015-06-30","2015-07-04","Tue",null,"NonBill","ZZ","2015-07-08",null,"Special Projects",null,{"$f":"IF(O1961=\"Business Firm billable\",VLOOKUP(A1961,'Hourly rates'!$B$2:$E$40,4,FALSE),VLOOKUP(A1961,'Hourly rates'!$B$2:$E$40,2,FALSE))","v":12},15]
["Dunphy, Phil","Business Firm:Admin SP","Intern",1099,null,1.25,"2015-07-04","2015-07-04","Sat",null,"NonBill","ZZ","2015-07-08",null,"Special Projects",null,{"$f":"IF(O1962=\"Business Firm billable\",VLOOKUP(A1962,'Hourly rates'!$B$2:$E$40,4,FALSE),VLOOKUP(A1962,'Hourly rates'!$B$2:$E$40,2,FALSE))","v":12},15]
["Knope, Leslie","Business Firm:Admin SP","Intern",1099,null,1.25,"2015-07-06","2015-07-11","Mon",null,"NonBill","ZZ","2015-07-20",null,"Special Projects",null,{"$f":"IF(O1963=\"Business Firm billable\",VLOOKUP(A1963,'Hourly rates'!$B$2:$E$40,4,FALSE),VLOOKUP(A1963,'Hourly rates'!$B$2:$E$40,2,FALSE))","v":12},15]
["Knope, Leslie","Business Firm:Admin SP","Intern",1099,null,1,"2015-07-07","2015-07-11","Tue",null,"NonBill","ZZ","2015-07-20",null,"Special Projects",null,{"$f":"IF(O1964=\"Business Firm billable\",VLOOKUP(A1964,'Hourly rates'!$B$2:$E$40,4,FALSE),VLOOKUP(A1964,'Hourly rates'!$B$2:$E$40,2,FALSE))","v":12},12]
["Knope, Leslie","Business Firm:Admin SP","Intern",1099,null,1.25,"2015-07-08","2015-07-11","Wed",null,"NonBill","ZZ","2015-07-20",null,"Special Projects",null,{"$f":"IF(O1965=\"Business Firm billable\",VLOOKUP(A1965,'Hourly rates'!$B$2:$E$40,4,FALSE),VLOOKUP(A1965,'Hourly rates'!$B$2:$E$40,2,FALSE))","v":12},15]
["Knope, Leslie","Business Firm:Admin SP","Intern",1099,null,1.75,"2015-07-09","2015-07-11","Thu",null,"NonBill","ZZ","2015-07-20",null,"Special Projects",null,{"$f":"IF(O1966=\"Business Firm billable\",VLOOKUP(A1966,'Hourly rates'!$B$2:$E$40,4,FALSE),VLOOKUP(A1966,'Hourly rates'!$B$2:$E$40,2,FALSE))","v":12},21]
["Knope, Leslie","Business Firm:Admin SP","Intern",1099,null,1.75,"2015-07-10","2015-07-11","Fri",null,"NonBill","ZZ","2015-07-20",null,"Special Projects",null,{"$f":"IF(O1967=\"Business Firm billable\",VLOOKUP(A1967,'Hourly rates'!$B$2:$E$40,4,FALSE),VLOOKUP(A1967,'Hourly rates'!$B$2:$E$40,2,FALSE))","v":12},21]
["Knope, Leslie","Business Firm:Administration","Intern",1099,null,1.75,"2015-07-08","2015-07-11","Wed",null,"NonBill","ZZ","2015-07-20","Internal Finance","Finance",null,{"$f":"IF(O1968=\"Business Firm billable\",VLOOKUP(A1968,'Hourly rates'!$B$2:$E$40,4,FALSE),VLOOKUP(A1968,'Hourly rates'!$B$2:$E$40,2,FALSE))","v":12},21]
["Wyatt, Ben","Business Firm:Admin SP","Intern",1099,null,8,"2015-07-06","2015-07-11","Mon",null,"NonBill","ZZ","2015-07-20",null,{"$f":"IF(B1969=$B$1454,\"Special Projects\",\"\")","v":"Special Projects"},null,{"$f":"IF(O1969=\"Business Firm billable\",VLOOKUP(A1969,'Hourly rates'!$B$2:$E$40,4,FALSE),VLOOKUP(A1969,'Hourly rates'!$B$2:$E$40,2,FALSE))","v":12},96]
["Wyatt, Ben","Business Firm:Admin SP","Intern",1099,null,1.25,"2015-07-07","2015-07-11","Tue",null,"NonBill","ZZ","2015-07-20",null,{"$f":"IF(B1970=$B$1454,\"Special Projects\",\"\")","v":"Special Projects"},null,{"$f":"IF(O1970=\"Business Firm billable\",VLOOKUP(A1970,'Hourly rates'!$B$2:$E$40,4,FALSE),VLOOKUP(A1970,'Hourly rates'!$B$2:$E$40,2,FALSE))","v":12},15]
["Wyatt, Ben","Business Firm:Admin SP","Intern",1099,null,1.25,"2015-07-08","2015-07-11","Wed",null,"NonBill","ZZ","2015-07-20",null,{"$f":"IF(B1971=$B$1454,\"Special Projects\",\"\")","v":"Special Projects"},null,{"$f":"IF(O1971=\"Business Firm billable\",VLOOKUP(A1971,'Hourly rates'!$B$2:$E$40,4,FALSE),VLOOKUP(A1971,'Hourly rates'!$B$2:$E$40,2,FALSE))","v":12},15]
["Wyatt, Ben","Business Firm:Admin SP","Intern",1099,null,2,"2015-07-09","2015-07-11","Thu",null,"NonBill","ZZ","2015-07-20",null,{"$f":"IF(B1972=$B$1454,\"Special Projects\",\"\")","v":"Special Projects"},null,{"$f":"IF(O1972=\"Business Firm billable\",VLOOKUP(A1972,'Hourly rates'!$B$2:$E$40,4,FALSE),VLOOKUP(A1972,'Hourly rates'!$B$2:$E$40,2,FALSE))","v":12},24]
["Wyatt, Ben","Business Firm:Administration","Intern",1099,null,6,"2015-07-07","2015-07-11","Tue",null,"NonBill","ZZ","2015-07-20","**Strat - IPO filings project for Bill Buchannan","Strat Firm",null,{"$f":"IF(O1973=\"Business Firm billable\",VLOOKUP(A1973,'Hourly rates'!$B$2:$E$40,4,FALSE),VLOOKUP(A1973,'Hourly rates'!$B$2:$E$40,2,FALSE))","v":12},72]
["Meagle, Donna","Business Firm:Admin SP","Intern",1099,null,2,"2015-07-07","2015-07-11","Tue",null,"NonBill","ZZ","2015-07-20",null,{"$f":"IF(B1974=$B$1454,\"Special Projects\",\"\")","v":"Special Projects"},null,{"$f":"IF(O1974=\"Business Firm billable\",VLOOKUP(A1974,'Hourly rates'!$B$2:$E$40,4,FALSE),VLOOKUP(A1974,'Hourly rates'!$B$2:$E$40,2,FALSE))","v":12},24]
["Almeida, Tony","Business Firm:Admin SP","Intern",1099,null,1.25,"2015-07-06","2015-07-11","Mon",null,"NonBill","ZZ","2015-07-20",null,{"$f":"IF(B1975=$B$1454,\"Special Projects\",\"\")","v":"Special Projects"},null,{"$f":"IF(O1975=\"Business Firm billable\",VLOOKUP(A1975,'Hourly rates'!$B$2:$E$40,4,FALSE),VLOOKUP(A1975,'Hourly rates'!$B$2:$E$40,2,FALSE))","v":12},15,null,{"$f":"A1975&B1975&C1975&D1975&E1975&F1975&G1975&H1975&I1975&K1975&N1975&O1975","v":"Almeida, TonyBusiness Firm:Admin SPIntern10991.254219142196MonNonBillSpecial Projects"}," "]
["Almeida, Tony","Business Firm:Admin SP","Intern",1099,null,1.25,"2015-07-07","2015-07-11","Tue",null,"NonBill","ZZ","2015-07-20",null,{"$f":"IF(B1976=$B$1454,\"Special Projects\",\"\")","v":"Special Projects"},null,{"$f":"IF(O1976=\"Business Firm billable\",VLOOKUP(A1976,'Hourly rates'!$B$2:$E$40,4,FALSE),VLOOKUP(A1976,'Hourly rates'!$B$2:$E$40,2,FALSE))","v":12},15,null,"Almeida, TonyBusiness Firm:Admin SPIntern10991.254219242196TueNonBillSpecial Projects"," "]
["Almeida, Tony","Some Client:Tech Acctg","Intern",1099,null,8,"2015-07-06","2015-07-11","Mon",null,"Admin 9%","ZZ","2015-07-20",null,"Business Firm billable",null,{"$f":"IF(O1977=\"Business Firm billable\",VLOOKUP(A1977,'Hourly rates'!$B$2:$E$40,4,FALSE),VLOOKUP(A1977,'Hourly rates'!$B$2:$E$40,2,FALSE))","v":83},664,null,"Almeida, TonySome Client:Tech AcctgIntern109984219142196MonAdmin 9%Business Firm billable"," "]
["Almeida, Tony","Some Client:Tech Acctg","Intern",1099,null,3.75,"2015-07-07","2015-07-11","Tue",null,"Admin 9%","ZZ","2015-07-20",null,"Business Firm billable",null,{"$f":"IF(O1978=\"Business Firm billable\",VLOOKUP(A1978,'Hourly rates'!$B$2:$E$40,4,FALSE),VLOOKUP(A1978,'Hourly rates'!$B$2:$E$40,2,FALSE))","v":83},311.25,null,"Almeida, TonySome Client:Tech AcctgIntern10993.754219242196TueAdmin 9%Business Firm billable"," "]
["Almeida, Tony","Some Client:Tech Acctg","Intern",1099,null,3.75,"2015-07-08","2015-07-11","Wed",null,"Admin 9%","ZZ","2015-07-20",null,"Business Firm billable",null,{"$f":"IF(O1979=\"Business Firm billable\",VLOOKUP(A1979,'Hourly rates'!$B$2:$E$40,4,FALSE),VLOOKUP(A1979,'Hourly rates'!$B$2:$E$40,2,FALSE))","v":83},311.25,null,"Almeida, TonySome Client:Tech AcctgIntern10993.754219342196WedAdmin 9%Business Firm billable"," "]
["Almeida, Tony","Some Client:Tech Acctg","Intern",1099,null,3.25,"2015-07-09","2015-07-11","Thu",null,"Admin 9%","ZZ","2015-07-20",null,"Business Firm billable",null,{"$f":"IF(O1980=\"Business Firm billable\",VLOOKUP(A1980,'Hourly rates'!$B$2:$E$40,4,FALSE),VLOOKUP(A1980,'Hourly rates'!$B$2:$E$40,2,FALSE))","v":83},269.75,null,"Almeida, TonySome Client:Tech AcctgIntern10993.254219442196ThuAdmin 9%Business Firm billable"," "]
["Almeida, Tony","Some Client:Tech Acctg","Intern",1099,null,3.25,"2015-07-10","2015-07-11","Fri",null,"Admin 9%","ZZ","2015-07-20",null,"Business Firm billable",null,{"$f":"IF(O1981=\"Business Firm billable\",VLOOKUP(A1981,'Hourly rates'!$B$2:$E$40,4,FALSE),VLOOKUP(A1981,'Hourly rates'!$B$2:$E$40,2,FALSE))","v":83},269.75,null,"Almeida, TonySome Client:Tech AcctgIntern10993.254219542196FriAdmin 9%Business Firm billable"," "]
["Pritchett, Jay","Business Firm:Admin SP","Intern",1099,null,7,"2015-07-06","2015-07-11","Mon",null,"NonBill","ZZ","2015-07-20",null,{"$f":"IF(B1982=$B$1454,\"Special Projects\",\"\")","v":"Special Projects"},null,{"$f":"IF(O1982=\"Business Firm billable\",VLOOKUP(A1982,'Hourly rates'!$B$2:$E$40,4,FALSE),VLOOKUP(A1982,'Hourly rates'!$B$2:$E$40,2,FALSE))","v":12},84]
["Pritchett, Jay","Business Firm:Admin SP","Intern",1099,null,1.25,"2015-07-07","2015-07-11","Tue",null,"NonBill","ZZ","2015-07-20",null,{"$f":"IF(B1983=$B$1454,\"Special Projects\",\"\")","v":"Special Projects"},null,{"$f":"IF(O1983=\"Business Firm billable\",VLOOKUP(A1983,'Hourly rates'!$B$2:$E$40,4,FALSE),VLOOKUP(A1983,'Hourly rates'!$B$2:$E$40,2,FALSE))","v":12},15]
["Pritchett, Jay","Business Firm:Admin SP","Intern",1099,null,3,"2015-07-08","2015-07-11","Wed",null,"NonBill","ZZ","2015-07-20",null,{"$f":"IF(B1984=$B$1454,\"Special Projects\",\"\")","v":"Special Projects"},null,{"$f":"IF(O1984=\"Business Firm billable\",VLOOKUP(A1984,'Hourly rates'!$B$2:$E$40,4,FALSE),VLOOKUP(A1984,'Hourly rates'!$B$2:$E$40,2,FALSE))","v":12},36]
["Pritchett, Jay","Business Firm:Admin SP","Intern",1099,null,1.25,"2015-07-09","2015-07-11","Thu",null,"NonBill","ZZ","2015-07-20",null,{"$f":"IF(B1985=$B$1454,\"Special Projects\",\"\")","v":"Special Projects"},null,{"$f":"IF(O1985=\"Business Firm billable\",VLOOKUP(A1985,'Hourly rates'!$B$2:$E$40,4,FALSE),VLOOKUP(A1985,'Hourly rates'!$B$2:$E$40,2,FALSE))","v":12},15]
["Tucker, Cameron","Business Firm:Administration","Intern",1099,null,1.25,"2015-07-08","2015-07-11","Wed",null,"NonBill","ZZ","2015-07-20","Accounting Library and Conference Call with Dave and Caroline","BIZ Research Projects",null,{"$f":"IF(O1986=\"Business Firm billable\",VLOOKUP(A1986,'Hourly rates'!$B$2:$E$40,4,FALSE),VLOOKUP(A1986,'Hourly rates'!$B$2:$E$40,2,FALSE))","v":12},{"$f":"Q1986*F1986","v":15}]
["Dunphy, Phil","Business Firm:Admin SP","Intern",1099,null,1.25,"2015-07-06","2015-07-11","Mon",null,"NonBill","ZZ","2015-07-20",null,{"$f":"IF(B1987=$B$1454,\"Special Projects\",\"\")","v":"Special Projects"},null,{"$f":"IF(O1987=\"Business Firm billable\",VLOOKUP(A1987,'Hourly rates'!$B$2:$E$40,4,FALSE),VLOOKUP(A1987,'Hourly rates'!$B$2:$E$40,2,FALSE))","v":12},15]
["Dunphy, Phil","Business Firm:Admin SP","Intern",1099,null,1.25,"2015-07-07","2015-07-11","Tue",null,"NonBill","ZZ","2015-07-20",null,"Special Projects",null,{"$f":"IF(O1988=\"Business Firm billable\",VLOOKUP(A1988,'Hourly rates'!$B$2:$E$40,4,FALSE),VLOOKUP(A1988,'Hourly rates'!$B$2:$E$40,2,FALSE))","v":12},15]
["Dunphy, Phil","Business Firm:Admin SP","Intern",1099,null,1.75,"2015-07-08","2015-07-11","Wed",null,"NonBill","ZZ","2015-07-20",null,"Special Projects",null,{"$f":"IF(O1989=\"Business Firm billable\",VLOOKUP(A1989,'Hourly rates'!$B$2:$E$40,4,FALSE),VLOOKUP(A1989,'Hourly rates'!$B$2:$E$40,2,FALSE))","v":12},21]
["Dunphy, Phil","Business Firm:Admin SP","Intern",1099,null,1.25,"2015-07-09","2015-07-11","Thu",null,"NonBill","ZZ","2015-07-20",null,"Special Projects",null,{"$f":"IF(O1990=\"Business Firm billable\",VLOOKUP(A1990,'Hourly rates'!$B$2:$E$40,4,FALSE),VLOOKUP(A1990,'Hourly rates'!$B$2:$E$40,2,FALSE))","v":12},15]
["Knope, Leslie","Business Firm:Admin SP","Intern",1099,null,1,"2015-07-14","2015-07-18","Tue",null,"NonBill","ZZ","2015-07-22",null,"Special Projects",null,{"$f":"IF(O1991=\"Business Firm billable\",VLOOKUP(A1991,'Hourly rates'!$B$2:$E$40,4,FALSE),VLOOKUP(A1991,'Hourly rates'!$B$2:$E$40,2,FALSE))","v":12},12]
["Knope, Leslie","Business Firm:Admin SP","Intern",1099,null,1.75,"2015-07-16","2015-07-18","Thu",null,"NonBill","ZZ","2015-07-22",null,"Special Projects",null,{"$f":"IF(O1992=\"Business Firm billable\",VLOOKUP(A1992,'Hourly rates'!$B$2:$E$40,4,FALSE),VLOOKUP(A1992,'Hourly rates'!$B$2:$E$40,2,FALSE))","v":12},21]
["Knope, Leslie","Business Firm:Admin SP","Intern",1099,null,1.25,"2015-07-17","2015-07-18","Fri",null,"NonBill","ZZ","2015-07-22",null,"Special Projects",null,{"$f":"IF(O1993=\"Business Firm billable\",VLOOKUP(A1993,'Hourly rates'!$B$2:$E$40,4,FALSE),VLOOKUP(A1993,'Hourly rates'!$B$2:$E$40,2,FALSE))","v":12},15]
["Wyatt, Ben","Business Firm:Admin SP","Intern",1099,null,2.25,"2015-07-13","2015-07-18","Mon",null,"NonBill","ZZ","2015-07-22",null,"Special Projects",null,{"$f":"IF(O1994=\"Business Firm billable\",VLOOKUP(A1994,'Hourly rates'!$B$2:$E$40,4,FALSE),VLOOKUP(A1994,'Hourly rates'!$B$2:$E$40,2,FALSE))","v":12},27]
["Wyatt, Ben","Business Firm:Admin SP","Intern",1099,null,1.25,"2015-07-15","2015-07-18","Wed",null,"NonBill","ZZ","2015-07-22",null,"Special Projects",null,{"$f":"IF(O1995=\"Business Firm billable\",VLOOKUP(A1995,'Hourly rates'!$B$2:$E$40,4,FALSE),VLOOKUP(A1995,'Hourly rates'!$B$2:$E$40,2,FALSE))","v":12},15]
["Wyatt, Ben","Business Firm:Administrative","Intern",1099,null,2.75,"2015-07-15","2015-07-18","Wed",null,"NonBill","ZZ","2015-07-22","IPO Filings Project for Bill Buchannan","Strat Firm",null,{"$f":"IF(O1996=\"Business Firm billable\",VLOOKUP(A1996,'Hourly rates'!$B$2:$E$40,4,FALSE),VLOOKUP(A1996,'Hourly rates'!$B$2:$E$40,2,FALSE))","v":12},33]
["Wyatt, Ben","Business Firm:Administrative","Intern",1099,null,1.25,"2015-07-16","2015-07-18","Thu",null,"NonBill","ZZ","2015-07-22","IPO Filings Project for Bill Buchannan","Strat Firm",null,{"$f":"IF(O1997=\"Business Firm billable\",VLOOKUP(A1997,'Hourly rates'!$B$2:$E$40,4,FALSE),VLOOKUP(A1997,'Hourly rates'!$B$2:$E$40,2,FALSE))","v":12},15]
["Wyatt, Ben","Claire's Shooting Range:Operational Services","Intern",1099,null,4,"2015-07-14","2015-07-18","Tue",null,"Admin 9%","ZZ","2015-07-22",null,"Business Firm billable",null,{"$f":"IF(O1998=\"Business Firm billable\",VLOOKUP(A1998,'Hourly rates'!$B$2:$E$40,4,FALSE),VLOOKUP(A1998,'Hourly rates'!$B$2:$E$40,2,FALSE))","v":83},332]
["Almeida, Tony","Business Firm:Admin SP","Intern",1099,null,1.25,"2015-07-14","2015-07-18","Tue",null,"NonBill","ZZ","2015-07-22",null,{"$f":"IF(B1999=$B$1454,\"Special Projects\",\"\")","v":"Special Projects"},null,{"$f":"IF(O1999=\"Business Firm billable\",VLOOKUP(A1999,'Hourly rates'!$B$2:$E$40,4,FALSE),VLOOKUP(A1999,'Hourly rates'!$B$2:$E$40,2,FALSE))","v":12},15,null,{"$f":"A1999&B1999&C1999&D1999&E1999&F1999&G1999&H1999&I1999&K1999&N1999&O1999","v":"Almeida, TonyBusiness Firm:Admin SPIntern10991.254219942203TueNonBillSpecial Projects"}," "]
["Almeida, Tony","Some Client:Tech Acctg","Intern",1099,null,4.75,"2015-07-13","2015-07-18","Mon",null,"Admin 9%","ZZ","2015-07-22",null,"Business Firm billable",null,{"$f":"IF(O2000=\"Business Firm billable\",VLOOKUP(A2000,'Hourly rates'!$B$2:$E$40,4,FALSE),VLOOKUP(A2000,'Hourly rates'!$B$2:$E$40,2,FALSE))","v":83},394.25,null,"Almeida, TonySome Client:Tech AcctgIntern10994.754219842203MonAdmin 9%Business Firm billable"," "]
["Almeida, Tony","Some Client:Tech Acctg","Intern",1099,null,3.75,"2015-07-14","2015-07-18","Tue",null,"Admin 9%","ZZ","2015-07-22",null,"Business Firm billable",null,{"$f":"IF(O2001=\"Business Firm billable\",VLOOKUP(A2001,'Hourly rates'!$B$2:$E$40,4,FALSE),VLOOKUP(A2001,'Hourly rates'!$B$2:$E$40,2,FALSE))","v":83},311.25,null,"Almeida, TonySome Client:Tech AcctgIntern10993.754219942203TueAdmin 9%Business Firm billable"," "]
["Almeida, Tony","Some Client:Tech Acctg","Intern",1099,null,8,"2015-07-15","2015-07-18","Wed",null,"Admin 9%","ZZ","2015-07-22",null,"Business Firm billable",null,{"$f":"IF(O2002=\"Business Firm billable\",VLOOKUP(A2002,'Hourly rates'!$B$2:$E$40,4,FALSE),VLOOKUP(A2002,'Hourly rates'!$B$2:$E$40,2,FALSE))","v":83},664,null,"Almeida, TonySome Client:Tech AcctgIntern109984220042203WedAdmin 9%Business Firm billable"," "]
["Almeida, Tony","Some Client:Tech Acctg","Intern",1099,null,5.25,"2015-07-16","2015-07-18","Thu",null,"Admin 9%","ZZ","2015-07-22",null,"Business Firm billable",null,{"$f":"IF(O2003=\"Business Firm billable\",VLOOKUP(A2003,'Hourly rates'!$B$2:$E$40,4,FALSE),VLOOKUP(A2003,'Hourly rates'!$B$2:$E$40,2,FALSE))","v":83},435.75,null,"Almeida, TonySome Client:Tech AcctgIntern10995.254220142203ThuAdmin 9%Business Firm billable"," "]
["Almeida, Tony","Some Client:Tech Acctg","Intern",1099,null,1.75,"2015-07-17","2015-07-18","Fri",null,"Admin 9%","ZZ","2015-07-22",null,"Business Firm billable",null,{"$f":"IF(O2004=\"Business Firm billable\",VLOOKUP(A2004,'Hourly rates'!$B$2:$E$40,4,FALSE),VLOOKUP(A2004,'Hourly rates'!$B$2:$E$40,2,FALSE))","v":83},145.25,null,"Almeida, TonySome Client:Tech AcctgIntern10991.754220242203FriAdmin 9%Business Firm billable"," "]
["Pritchett, Jay","Business Firm:Admin SP","Intern",1099,null,1,"2015-07-13","2015-07-18","Mon",null,"NonBill","ZZ","2015-07-22",null,{"$f":"IF(B2005=$B$1454,\"Special Projects\",\"\")","v":"Special Projects"},null,{"$f":"IF(O2005=\"Business Firm billable\",VLOOKUP(A2005,'Hourly rates'!$B$2:$E$40,4,FALSE),VLOOKUP(A2005,'Hourly rates'!$B$2:$E$40,2,FALSE))","v":12},12]
["Pritchett, Jay","Business Firm:Admin SP","Intern",1099,null,2,"2015-07-14","2015-07-18","Tue",null,"NonBill","ZZ","2015-07-22",null,"Special Projects",null,{"$f":"IF(O2006=\"Business Firm billable\",VLOOKUP(A2006,'Hourly rates'!$B$2:$E$40,4,FALSE),VLOOKUP(A2006,'Hourly rates'!$B$2:$E$40,2,FALSE))","v":12},24]
["Pritchett, Jay","Business Firm:Admin SP","Intern",1099,null,1,"2015-07-16","2015-07-18","Thu",null,"NonBill","ZZ","2015-07-22",null,"Special Projects",null,{"$f":"IF(O2007=\"Business Firm billable\",VLOOKUP(A2007,'Hourly rates'!$B$2:$E$40,4,FALSE),VLOOKUP(A2007,'Hourly rates'!$B$2:$E$40,2,FALSE))","v":12},12]
["Pritchett, Jay","Business Firm:Admin SP","Intern",1099,null,1.25,"2015-07-17","2015-07-18","Fri",null,"NonBill","ZZ","2015-07-22",null,"Special Projects",null,{"$f":"IF(O2008=\"Business Firm billable\",VLOOKUP(A2008,'Hourly rates'!$B$2:$E$40,4,FALSE),VLOOKUP(A2008,'Hourly rates'!$B$2:$E$40,2,FALSE))","v":12},15]
["Pritchett, Jay","Business Firm:Admin SP","Intern",1099,null,1,"2015-07-18","2015-07-18","Sat",null,"NonBill","ZZ","2015-07-22",null,"Special Projects",null,{"$f":"IF(O2009=\"Business Firm billable\",VLOOKUP(A2009,'Hourly rates'!$B$2:$E$40,4,FALSE),VLOOKUP(A2009,'Hourly rates'!$B$2:$E$40,2,FALSE))","v":12},12]
["Dunphy, Phil","Business Firm:Admin SP","Intern",1099,null,1.75,"2015-07-13","2015-07-18","Mon",null,"NonBill","ZZ","2015-07-22",null,"Special Projects",null,{"$f":"IF(O2010=\"Business Firm billable\",VLOOKUP(A2010,'Hourly rates'!$B$2:$E$40,4,FALSE),VLOOKUP(A2010,'Hourly rates'!$B$2:$E$40,2,FALSE))","v":12},21]
["Dunphy, Phil","Business Firm:Admin SP","Intern",1099,null,1.25,"2015-07-14",{"$f":"G2011+7-WEEKDAY(G2011)","v":"2015-07-18"},"Tue",null,"NonBill","ZZ","2015-07-22",null,"Special Projects",null,{"$f":"IF(O2011=\"Business Firm billable\",VLOOKUP(A2011,'Hourly rates'!$B$2:$E$40,4,FALSE),VLOOKUP(A2011,'Hourly rates'!$B$2:$E$40,2,FALSE))","v":12},15]
["Dunphy, Phil","Business Firm:Admin SP","Intern",1099,null,2,"2015-07-16","2015-07-18","Thu",null,"NonBill","ZZ","2015-07-22",null,"Special Projects",null,{"$f":"IF(O2012=\"Business Firm billable\",VLOOKUP(A2012,'Hourly rates'!$B$2:$E$40,4,FALSE),VLOOKUP(A2012,'Hourly rates'!$B$2:$E$40,2,FALSE))","v":12},24]
["Dunphy, Phil","Business Firm:Admin SP","Intern",1099,null,1.25,"2015-07-17","2015-07-18","Fri",null,"NonBill","ZZ","2015-07-22",null,"Special Projects",null,{"$f":"IF(O2013=\"Business Firm billable\",VLOOKUP(A2013,'Hourly rates'!$B$2:$E$40,4,FALSE),VLOOKUP(A2013,'Hourly rates'!$B$2:$E$40,2,FALSE))","v":12},15]
["Wyatt, Ben","_BIZ:Admin SP","Intern",1099,null,4,"2015-07-20","2015-07-25","Mon",null,"NonBill","ZZ","2015-07-31",null,{"$f":"IF(B2014=$B$2014,\"Special Projects\",\"\")","v":"Special Projects"},null,{"$f":"IF(O2014=\"Business Firm billable\",VLOOKUP(A2014,'Hourly rates'!$B$2:$E$40,4,FALSE),VLOOKUP(A2014,'Hourly rates'!$B$2:$E$40,2,FALSE))","v":12},48]
["Wyatt, Ben","_BIZ:Admin SP","Intern",1099,null,1.75,"2015-07-21","2015-07-25","Tue",null,"NonBill","ZZ","2015-07-31",null,{"$f":"IF(B2015=$B$2014,\"Special Projects\",\"\")","v":"Special Projects"},null,{"$f":"IF(O2015=\"Business Firm billable\",VLOOKUP(A2015,'Hourly rates'!$B$2:$E$40,4,FALSE),VLOOKUP(A2015,'Hourly rates'!$B$2:$E$40,2,FALSE))","v":12},21]
["Wyatt, Ben","_BIZ:Strat","Intern",1099,null,1.25,"2015-07-21","2015-07-25","Tue","Other Libraries","NonBill","ZZ","2015-07-31","**Strat - IPO Filings Project for Bill Buchannan","Strat Firm",null,{"$f":"IF(O2016=\"Business Firm billable\",VLOOKUP(A2016,'Hourly rates'!$B$2:$E$40,4,FALSE),VLOOKUP(A2016,'Hourly rates'!$B$2:$E$40,2,FALSE))","v":12},15]
["Wyatt, Ben","_BIZ:Strat","Intern",1099,null,3.25,"2015-07-22","2015-07-25","Wed","Other Libraries","NonBill","ZZ","2015-07-31","**Strat - IPO Filings Project for Bill Buchannan","Strat Firm",null,{"$f":"IF(O2017=\"Business Firm billable\",VLOOKUP(A2017,'Hourly rates'!$B$2:$E$40,4,FALSE),VLOOKUP(A2017,'Hourly rates'!$B$2:$E$40,2,FALSE))","v":12},39]
["Wyatt, Ben","_BIZ:Strat","Intern",1099,null,8,"2015-07-23","2015-07-25","Thu","Other Libraries","NonBill","ZZ","2015-07-31","**Strat - IPO Filings Project for Bill Buchannan","Strat Firm",null,{"$f":"IF(O2018=\"Business Firm billable\",VLOOKUP(A2018,'Hourly rates'!$B$2:$E$40,4,FALSE),VLOOKUP(A2018,'Hourly rates'!$B$2:$E$40,2,FALSE))","v":12},96]
["Wyatt, Ben","_BIZ:Strat","Intern",1099,null,1.75,"2015-07-24","2015-07-25","Fri","Other Libraries","NonBill","ZZ","2015-07-31","**Strat - IPO Filings Project for Bill Buchannan","Strat Firm",null,{"$f":"IF(O2019=\"Business Firm billable\",VLOOKUP(A2019,'Hourly rates'!$B$2:$E$40,4,FALSE),VLOOKUP(A2019,'Hourly rates'!$B$2:$E$40,2,FALSE))","v":12},21]
["Wyatt, Ben","_BIZ:Strat","Intern",1099,null,1.75,"2015-07-25","2015-07-25","Sat","Other Libraries","NonBill","ZZ","2015-07-31","**Strat - IPO Filings Project for Bill Buchannan","Strat Firm",null,{"$f":"IF(O2020=\"Business Firm billable\",VLOOKUP(A2020,'Hourly rates'!$B$2:$E$40,4,FALSE),VLOOKUP(A2020,'Hourly rates'!$B$2:$E$40,2,FALSE))","v":12},21]
["Almeida, Tony","_BIZ:Admin SP","Intern",1099,null,1,"2015-07-20","2015-07-25","Mon",null,"NonBill","ZZ","2015-07-31",null,{"$f":"IF(B2021=$B$2014,\"Special Projects\",\"\")","v":"Special Projects"},null,{"$f":"IF(O2021=\"Business Firm billable\",VLOOKUP(A2021,'Hourly rates'!$B$2:$E$40,4,FALSE),VLOOKUP(A2021,'Hourly rates'!$B$2:$E$40,2,FALSE))","v":12},12,null,{"$f":"A2021&B2021&C2021&D2021&E2021&F2021&G2021&H2021&I2021&K2021&N2021&O2021","v":"Almeida, Tony_BIZ:Admin SPIntern109914220542210MonNonBillSpecial Projects"}," "]
["Almeida, Tony","_BIZ:Admin SP","Intern",1099,null,1.25,"2015-07-21","2015-07-25","Tue",null,"NonBill","ZZ","2015-07-31",null,{"$f":"IF(B2022=$B$2014,\"Special Projects\",\"\")","v":"Special Projects"},null,{"$f":"IF(O2022=\"Business Firm billable\",VLOOKUP(A2022,'Hourly rates'!$B$2:$E$40,4,FALSE),VLOOKUP(A2022,'Hourly rates'!$B$2:$E$40,2,FALSE))","v":12},15,null,"Almeida, Tony_BIZ:Admin SPIntern10991.254220642210TueNonBillSpecial Projects"," "]
["Almeida, Tony","_BIZ:Admin SP","Intern",1099,null,2,"2015-07-22","2015-07-25","Wed",null,"NonBill","ZZ","2015-07-31",null,{"$f":"IF(B2023=$B$2014,\"Special Projects\",\"\")","v":"Special Projects"},null,{"$f":"IF(O2023=\"Business Firm billable\",VLOOKUP(A2023,'Hourly rates'!$B$2:$E$40,4,FALSE),VLOOKUP(A2023,'Hourly rates'!$B$2:$E$40,2,FALSE))","v":12},24,null,"Almeida, Tony_BIZ:Admin SPIntern109924220742210WedNonBillSpecial Projects"," "]
["Almeida, Tony","_BIZ:Administrative","Intern",1099,null,1.25,"2015-07-21","2015-07-25","Tue",null,"NonBill","ZZ","2015-07-31","Internal finance","Finance",null,{"$f":"IF(O2024=\"Business Firm billable\",VLOOKUP(A2024,'Hourly rates'!$B$2:$E$40,4,FALSE),VLOOKUP(A2024,'Hourly rates'!$B$2:$E$40,2,FALSE))","v":12},15,null,"Almeida, Tony_BIZ:AdministrativeIntern10991.254220642210TueNonBillInternal financeFinance"," "]
["Almeida, Tony","_BIZ:Administrative","Intern",1099,null,1,"2015-07-22","2015-07-25","Wed",null,"NonBill","ZZ","2015-07-31","Internal finance","Finance",null,{"$f":"IF(O2025=\"Business Firm billable\",VLOOKUP(A2025,'Hourly rates'!$B$2:$E$40,4,FALSE),VLOOKUP(A2025,'Hourly rates'!$B$2:$E$40,2,FALSE))","v":12},12,null,"Almeida, Tony_BIZ:AdministrativeIntern109914220742210WedNonBillInternal financeFinance"," "]
["Almeida, Tony","_BIZ:Administrative","Intern",1099,null,5.25,"2015-07-23","2015-07-25","Thu",null,"NonBill","ZZ","2015-07-31","Internal finance","Finance",null,{"$f":"IF(O2026=\"Business Firm billable\",VLOOKUP(A2026,'Hourly rates'!$B$2:$E$40,4,FALSE),VLOOKUP(A2026,'Hourly rates'!$B$2:$E$40,2,FALSE))","v":12},63,null,"Almeida, Tony_BIZ:AdministrativeIntern10995.254220842210ThuNonBillInternal financeFinance"," "]
["Almeida, Tony","_BIZ:Administrative","Intern",1099,null,1,"2015-07-24","2015-07-25","Fri",null,"NonBill","ZZ","2015-07-31","Internal finance","Finance",null,{"$f":"IF(O2027=\"Business Firm billable\",VLOOKUP(A2027,'Hourly rates'!$B$2:$E$40,4,FALSE),VLOOKUP(A2027,'Hourly rates'!$B$2:$E$40,2,FALSE))","v":12},12,null,"Almeida, Tony_BIZ:AdministrativeIntern109914220942210FriNonBillInternal financeFinance"," "]
["Almeida, Tony","Some Client:Tech Acctg","Intern",1099,null,1.25,"2015-07-23","2015-07-25","Thu",null,"Admin 9%","ZZ","2015-07-31",null,"Business Firm billable",null,{"$f":"IF(O2028=\"Business Firm billable\",VLOOKUP(A2028,'Hourly rates'!$B$2:$E$40,4,FALSE),VLOOKUP(A2028,'Hourly rates'!$B$2:$E$40,2,FALSE))","v":83},103.75,null,"Almeida, TonySome Client:Tech AcctgIntern10991.254220842210ThuAdmin 9%Business Firm billable"," "]
["Almeida, Tony","Some Client:Tech Acctg","Intern",1099,null,1.25,"2015-07-20","2015-07-25","Mon",null,"Admin 9%","ZZ","2015-07-31",null,"Business Firm billable",null,{"$f":"IF(O2029=\"Business Firm billable\",VLOOKUP(A2029,'Hourly rates'!$B$2:$E$40,4,FALSE),VLOOKUP(A2029,'Hourly rates'!$B$2:$E$40,2,FALSE))","v":83},103.75,null,"Almeida, TonySome Client:Tech AcctgIntern10991.254220542210MonAdmin 9%Business Firm billable"," "]
["Almeida, Tony","Some Client:Tech Acctg","Intern",1099,null,1.25,"2015-07-21","2015-07-25","Tue",null,"Admin 9%","ZZ","2015-07-31",null,"Business Firm billable",null,{"$f":"IF(O2030=\"Business Firm billable\",VLOOKUP(A2030,'Hourly rates'!$B$2:$E$40,4,FALSE),VLOOKUP(A2030,'Hourly rates'!$B$2:$E$40,2,FALSE))","v":83},103.75,null,"Almeida, TonySome Client:Tech AcctgIntern10991.254220642210TueAdmin 9%Business Firm billable"," "]
["Almeida, Tony","Some Client:Tech Acctg","Intern",1099,null,4,"2015-07-24","2015-07-25","Fri",null,"Admin 9%","ZZ","2015-07-31",null,"Business Firm billable",null,{"$f":"IF(O2031=\"Business Firm billable\",VLOOKUP(A2031,'Hourly rates'!$B$2:$E$40,4,FALSE),VLOOKUP(A2031,'Hourly rates'!$B$2:$E$40,2,FALSE))","v":83},332,null,"Almeida, TonySome Client:Tech AcctgIntern109944220942210FriAdmin 9%Business Firm billable"," "]
["Pritchett, Jay","_BIZ:Admin SP","Intern",1099,null,1.25,"2015-07-20","2015-07-25","Mon",null,"NonBill","ZZ","2015-07-31",null,{"$f":"IF(B2032=$B$2014,\"Special Projects\",\"\")","v":"Special Projects"},null,{"$f":"IF(O2032=\"Business Firm billable\",VLOOKUP(A2032,'Hourly rates'!$B$2:$E$40,4,FALSE),VLOOKUP(A2032,'Hourly rates'!$B$2:$E$40,2,FALSE))","v":12},15]
["Pritchett, Jay","_BIZ:Admin SP","Intern",1099,null,1.25,"2015-07-21","2015-07-25","Tue",null,"NonBill","ZZ","2015-07-31",null,"Special Projects",null,{"$f":"IF(O2033=\"Business Firm billable\",VLOOKUP(A2033,'Hourly rates'!$B$2:$E$40,4,FALSE),VLOOKUP(A2033,'Hourly rates'!$B$2:$E$40,2,FALSE))","v":12},15]
["Pritchett, Jay","_BIZ:Admin SP","Intern",1099,null,1.25,"2015-07-22","2015-07-25","Wed",null,"NonBill","ZZ","2015-07-31",null,"Special Projects",null,{"$f":"IF(O2034=\"Business Firm billable\",VLOOKUP(A2034,'Hourly rates'!$B$2:$E$40,4,FALSE),VLOOKUP(A2034,'Hourly rates'!$B$2:$E$40,2,FALSE))","v":12},15]
["Pritchett, Jay","_BIZ:Admin SP","Intern",1099,null,1.25,"2015-07-25","2015-07-25","Sat",null,"NonBill","ZZ","2015-07-31",null,"Special Projects",null,{"$f":"IF(O2035=\"Business Firm billable\",VLOOKUP(A2035,'Hourly rates'!$B$2:$E$40,4,FALSE),VLOOKUP(A2035,'Hourly rates'!$B$2:$E$40,2,FALSE))","v":12},15]
["Dunphy, Phil","_BIZ:Admin SP","Intern",1099,null,2,"2015-07-20","2015-07-25","Mon",null,"NonBill","ZZ","2015-07-31",null,"Special Projects",null,{"$f":"IF(O2036=\"Business Firm billable\",VLOOKUP(A2036,'Hourly rates'!$B$2:$E$40,4,FALSE),VLOOKUP(A2036,'Hourly rates'!$B$2:$E$40,2,FALSE))","v":12},24]
["Dunphy, Phil","_BIZ:Admin SP","Intern",1099,null,1.25,"2015-07-21","2015-07-25","Tue",null,"NonBill","ZZ","2015-07-31",null,"Special Projects",null,{"$f":"IF(O2037=\"Business Firm billable\",VLOOKUP(A2037,'Hourly rates'!$B$2:$E$40,4,FALSE),VLOOKUP(A2037,'Hourly rates'!$B$2:$E$40,2,FALSE))","v":12},15]
["Dunphy, Phil","_BIZ:Admin SP","Intern",1099,null,3,"2015-07-25","2015-07-25","Sat",null,"NonBill","ZZ","2015-07-31",null,"Special Projects",null,{"$f":"IF(O2038=\"Business Firm billable\",VLOOKUP(A2038,'Hourly rates'!$B$2:$E$40,4,FALSE),VLOOKUP(A2038,'Hourly rates'!$B$2:$E$40,2,FALSE))","v":12},36]
["Knope, Leslie","_BIZ:Admin SP","Intern",1099,null,2,"2015-07-27","2015-08-01","Mon",null,"NonBill","ZZ","2015-08-05",null,"Special Projects",null,{"$f":"IF(O2039=\"Business Firm billable\",VLOOKUP(A2039,'Hourly rates'!$B$2:$E$40,4,FALSE),VLOOKUP(A2039,'Hourly rates'!$B$2:$E$40,2,FALSE))","v":12},24]
["Knope, Leslie","_BIZ:Admin SP","Intern",1099,null,1,"2015-07-28","2015-08-01","Tue",null,"NonBill","ZZ","2015-08-05",null,"Special Projects",null,{"$f":"IF(O2040=\"Business Firm billable\",VLOOKUP(A2040,'Hourly rates'!$B$2:$E$40,4,FALSE),VLOOKUP(A2040,'Hourly rates'!$B$2:$E$40,2,FALSE))","v":12},12]
["Knope, Leslie","_BIZ:Admin SP","Intern",1099,null,1.25,"2015-07-31","2015-08-01","Fri",null,"NonBill","ZZ","2015-08-05",null,"Special Projects",null,{"$f":"IF(O2041=\"Business Firm billable\",VLOOKUP(A2041,'Hourly rates'!$B$2:$E$40,4,FALSE),VLOOKUP(A2041,'Hourly rates'!$B$2:$E$40,2,FALSE))","v":12},15]
["Wyatt, Ben","_BIZ:Admin SP","Intern",1099,null,1.25,"2015-07-27","2015-08-01","Mon",null,"NonBill","ZZ","2015-08-05",null,"Special Projects",null,{"$f":"IF(O2042=\"Business Firm billable\",VLOOKUP(A2042,'Hourly rates'!$B$2:$E$40,4,FALSE),VLOOKUP(A2042,'Hourly rates'!$B$2:$E$40,2,FALSE))","v":12},15]
["Wyatt, Ben","_BIZ:Admin SP","Intern",1099,null,1.25,"2015-07-28","2015-08-01","Tue",null,"NonBill","ZZ","2015-08-05",null,"Special Projects",null,{"$f":"IF(O2043=\"Business Firm billable\",VLOOKUP(A2043,'Hourly rates'!$B$2:$E$40,4,FALSE),VLOOKUP(A2043,'Hourly rates'!$B$2:$E$40,2,FALSE))","v":12},15]
["Wyatt, Ben","_BIZ:Admin SP","Intern",1099,null,1.75,"2015-07-30","2015-08-01","Thu",null,"NonBill","ZZ","2015-08-05",null,"Special Projects",null,{"$f":"IF(O2044=\"Business Firm billable\",VLOOKUP(A2044,'Hourly rates'!$B$2:$E$40,4,FALSE),VLOOKUP(A2044,'Hourly rates'!$B$2:$E$40,2,FALSE))","v":12},21]
["Wyatt, Ben","_BIZ:Strat","Intern",1099,null,5.25,"2015-07-27","2015-08-01","Mon","Other Libraries","NonBill","ZZ","2015-08-05",null,"Strat Firm",null,{"$f":"IF(O2045=\"Business Firm billable\",VLOOKUP(A2045,'Hourly rates'!$B$2:$E$40,4,FALSE),VLOOKUP(A2045,'Hourly rates'!$B$2:$E$40,2,FALSE))","v":12},63]
["Wyatt, Ben","_BIZ:Strat","Intern",1099,null,6,"2015-07-28","2015-08-01","Tue","Other Libraries","NonBill","ZZ","2015-08-05",null,"Strat Firm",null,{"$f":"IF(O2046=\"Business Firm billable\",VLOOKUP(A2046,'Hourly rates'!$B$2:$E$40,4,FALSE),VLOOKUP(A2046,'Hourly rates'!$B$2:$E$40,2,FALSE))","v":12},72]
["Almeida, Tony","_BIZ:Admin SP","Intern",1099,null,1,"2015-07-28","2015-08-01","Tue",null,"NonBill","ZZ","2015-08-05",null,{"$f":"IF(B2047=$B$2014,\"Special Projects\",\"\")","v":"Special Projects"},null,{"$f":"IF(O2047=\"Business Firm billable\",VLOOKUP(A2047,'Hourly rates'!$B$2:$E$40,4,FALSE),VLOOKUP(A2047,'Hourly rates'!$B$2:$E$40,2,FALSE))","v":12},12,null,{"$f":"A2047&B2047&C2047&D2047&E2047&F2047&G2047&H2047&I2047&K2047&N2047&O2047","v":"Almeida, Tony_BIZ:Admin SPIntern109914221342217TueNonBillSpecial Projects"}," "]
["Almeida, Tony","_BIZ:Administrative","Intern",1099,null,3,"2015-07-27","2015-08-01","Mon",null,"NonBill","ZZ","2015-08-05","2015 GL - BIZ Internal Finance","Finance",null,{"$f":"IF(O2048=\"Business Firm billable\",VLOOKUP(A2048,'Hourly rates'!$B$2:$E$40,4,FALSE),VLOOKUP(A2048,'Hourly rates'!$B$2:$E$40,2,FALSE))","v":12},36,null,"Almeida, Tony_BIZ:AdministrativeIntern109934221242217MonNonBill2015 GL - BIZ Internal FinanceFinance"," "]
["Almeida, Tony","_BIZ:Administrative","Intern",1099,null,1.25,"2015-07-28","2015-08-01","Tue",null,"NonBill","ZZ","2015-08-05","2015 GL - BIZ Internal Finance","Finance",null,{"$f":"IF(O2049=\"Business Firm billable\",VLOOKUP(A2049,'Hourly rates'!$B$2:$E$40,4,FALSE),VLOOKUP(A2049,'Hourly rates'!$B$2:$E$40,2,FALSE))","v":12},15,null,"Almeida, Tony_BIZ:AdministrativeIntern10991.254221342217TueNonBill2015 GL - BIZ Internal FinanceFinance"," "]
["Almeida, Tony","_BIZ:Administrative","Intern",1099,null,1.25,"2015-07-28","2015-08-01","Tue",null,"NonBill","ZZ","2015-08-05","Bonus Plan 2015-16 Script","Finance",null,{"$f":"IF(O2050=\"Business Firm billable\",VLOOKUP(A2050,'Hourly rates'!$B$2:$E$40,4,FALSE),VLOOKUP(A2050,'Hourly rates'!$B$2:$E$40,2,FALSE))","v":12},{"$f":"Q2050*F2050","v":15},null,"Almeida, Tony_BIZ:AdministrativeIntern10991.254221342217TueNonBillBonus Plan 2015-16 ScriptFinance"," "]
["Almeida, Tony","_BIZ:Administrative","Intern",1099,null,2,"2015-07-29","2015-08-01","Wed",null,"NonBill","ZZ","2015-08-05","2015 GL - BIZ Internal Finance","Finance",null,{"$f":"IF(O2051=\"Business Firm billable\",VLOOKUP(A2051,'Hourly rates'!$B$2:$E$40,4,FALSE),VLOOKUP(A2051,'Hourly rates'!$B$2:$E$40,2,FALSE))","v":12},24,null,"Almeida, Tony_BIZ:AdministrativeIntern109924221442217WedNonBill2015 GL - BIZ Internal FinanceFinance"," "]
["Almeida, Tony","_BIZ:Administrative","Intern",1099,null,3,"2015-07-29","2015-08-01","Wed",null,"NonBill","ZZ","2015-08-05","Bonus Plan 2015-16 Script","Finance",null,{"$f":"IF(O2052=\"Business Firm billable\",VLOOKUP(A2052,'Hourly rates'!$B$2:$E$40,4,FALSE),VLOOKUP(A2052,'Hourly rates'!$B$2:$E$40,2,FALSE))","v":12},36,null,"Almeida, Tony_BIZ:AdministrativeIntern109934221442217WedNonBillBonus Plan 2015-16 ScriptFinance"," "]
["Almeida, Tony","_BIZ:Administrative","Intern",1099,null,1.25,"2015-07-30","2015-08-01","Thu",null,"NonBill","ZZ","2015-08-05","2015 GL - BIZ Internal Finance","Finance",null,{"$f":"IF(O2053=\"Business Firm billable\",VLOOKUP(A2053,'Hourly rates'!$B$2:$E$40,4,FALSE),VLOOKUP(A2053,'Hourly rates'!$B$2:$E$40,2,FALSE))","v":12},15,null,"Almeida, Tony_BIZ:AdministrativeIntern10991.254221542217ThuNonBill2015 GL - BIZ Internal FinanceFinance"," "]
["Almeida, Tony","_BIZ:Administrative","Intern",1099,null,3,"2015-07-30","2015-08-01","Thu",null,"NonBill","ZZ","2015-08-05","Bonus Plan 2015-16 Script","Finance",null,{"$f":"IF(O2054=\"Business Firm billable\",VLOOKUP(A2054,'Hourly rates'!$B$2:$E$40,4,FALSE),VLOOKUP(A2054,'Hourly rates'!$B$2:$E$40,2,FALSE))","v":12},36,null,"Almeida, Tony_BIZ:AdministrativeIntern109934221542217ThuNonBillBonus Plan 2015-16 ScriptFinance"," "]
["Almeida, Tony","_BIZ:Administrative","Intern",1099,null,3,"2015-07-31","2015-08-01","Fri",null,"NonBill","ZZ","2015-08-05","2015 GL - BIZ Internal Finance","Finance",null,{"$f":"IF(O2055=\"Business Firm billable\",VLOOKUP(A2055,'Hourly rates'!$B$2:$E$40,4,FALSE),VLOOKUP(A2055,'Hourly rates'!$B$2:$E$40,2,FALSE))","v":12},36,null,"Almeida, Tony_BIZ:AdministrativeIntern109934221642217FriNonBill2015 GL - BIZ Internal FinanceFinance"," "]
["Almeida, Tony","Some Client:Tech Acctg","Intern",1099,null,1.25,"2015-07-29","2015-08-01","Wed",null,"Admin 9%","ZZ","2015-08-05","BlackScholes project","Business Firm billable",null,{"$f":"IF(O2056=\"Business Firm billable\",VLOOKUP(A2056,'Hourly rates'!$B$2:$E$40,4,FALSE),VLOOKUP(A2056,'Hourly rates'!$B$2:$E$40,2,FALSE))","v":83},103.75,null,"Almeida, TonySome Client:Tech AcctgIntern10991.254221442217WedAdmin 9%BlackScholes projectBusiness Firm billable"," "]
["Almeida, Tony","Some Client:Tech Acctg","Intern",1099,null,3,"2015-07-30","2015-08-01","Thu",null,"Admin 9%","ZZ","2015-08-05","BlackScholes project","Business Firm billable",null,{"$f":"IF(O2057=\"Business Firm billable\",VLOOKUP(A2057,'Hourly rates'!$B$2:$E$40,4,FALSE),VLOOKUP(A2057,'Hourly rates'!$B$2:$E$40,2,FALSE))","v":83},249,null,"Almeida, TonySome Client:Tech AcctgIntern109934221542217ThuAdmin 9%BlackScholes projectBusiness Firm billable"," "]
["Almeida, Tony","Some Client:Tech Acctg","Intern",1099,null,1.25,"2015-07-31","2015-08-01","Fri",null,"Admin 9%","ZZ","2015-08-05","BlackScholes project","Business Firm billable",null,{"$f":"IF(O2058=\"Business Firm billable\",VLOOKUP(A2058,'Hourly rates'!$B$2:$E$40,4,FALSE),VLOOKUP(A2058,'Hourly rates'!$B$2:$E$40,2,FALSE))","v":83},103.75,null,"Almeida, TonySome Client:Tech AcctgIntern10991.254221642217FriAdmin 9%BlackScholes projectBusiness Firm billable"," "]
["Almeida, Tony","Some Client:Tech Acctg","Intern",1099,null,2.75,"2015-07-27","2015-08-01","Mon",null,"Admin 9%","ZZ","2015-08-05",null,"Business Firm billable",null,{"$f":"IF(O2059=\"Business Firm billable\",VLOOKUP(A2059,'Hourly rates'!$B$2:$E$40,4,FALSE),VLOOKUP(A2059,'Hourly rates'!$B$2:$E$40,2,FALSE))","v":83},228.25,null,"Almeida, TonySome Client:Tech AcctgIntern10992.754221242217MonAdmin 9%Business Firm billable"," "]
["Almeida, Tony","Some Client:Tech Acctg","Intern",1099,null,1.25,"2015-07-28","2015-08-01","Tue",null,"Admin 9%","ZZ","2015-08-05",null,"Business Firm billable",null,{"$f":"IF(O2060=\"Business Firm billable\",VLOOKUP(A2060,'Hourly rates'!$B$2:$E$40,4,FALSE),VLOOKUP(A2060,'Hourly rates'!$B$2:$E$40,2,FALSE))","v":83},103.75,null,"Almeida, TonySome Client:Tech AcctgIntern10991.254221342217TueAdmin 9%Business Firm billable"," "]
["Almeida, Tony","Some Client:Tech Acctg","Intern",1099,null,1,"2015-07-31","2015-08-01","Fri",null,"Admin 9%","ZZ","2015-08-05",null,"Business Firm billable",null,{"$f":"IF(O2061=\"Business Firm billable\",VLOOKUP(A2061,'Hourly rates'!$B$2:$E$40,4,FALSE),VLOOKUP(A2061,'Hourly rates'!$B$2:$E$40,2,FALSE))","v":83},83,null,"Almeida, TonySome Client:Tech AcctgIntern109914221642217FriAdmin 9%Business Firm billable"," "]
["Pritchett, Jay","_BIZ:Admin SP","Intern",1099,null,1.25,"2015-07-27","2015-08-01","Mon",null,"NonBill","ZZ","2015-08-05",null,{"$f":"IF(B2062=$B$2014,\"Special Projects\",\"\")","v":"Special Projects"},null,{"$f":"IF(O2062=\"Business Firm billable\",VLOOKUP(A2062,'Hourly rates'!$B$2:$E$40,4,FALSE),VLOOKUP(A2062,'Hourly rates'!$B$2:$E$40,2,FALSE))","v":12},15]
["Pritchett, Jay","_BIZ:Admin SP","Intern",1099,null,3,"2015-07-28","2015-08-01","Tue",null,"NonBill","ZZ","2015-08-05",null,"Special Projects",null,{"$f":"IF(O2063=\"Business Firm billable\",VLOOKUP(A2063,'Hourly rates'!$B$2:$E$40,4,FALSE),VLOOKUP(A2063,'Hourly rates'!$B$2:$E$40,2,FALSE))","v":12},36]
["Pritchett, Jay","_BIZ:Admin SP","Intern",1099,null,1.75,"2015-07-31","2015-08-01","Fri",null,"NonBill","ZZ","2015-08-05",null,"Special Projects",null,{"$f":"IF(O2064=\"Business Firm billable\",VLOOKUP(A2064,'Hourly rates'!$B$2:$E$40,4,FALSE),VLOOKUP(A2064,'Hourly rates'!$B$2:$E$40,2,FALSE))","v":12},21]
["Pritchett, Jay","_BIZ:Admin SP","Intern",1099,null,1.25,"2015-08-01","2015-08-01","Sat",null,"NonBill","ZZ","2015-08-05",null,"Special Projects",null,{"$f":"IF(O2065=\"Business Firm billable\",VLOOKUP(A2065,'Hourly rates'!$B$2:$E$40,4,FALSE),VLOOKUP(A2065,'Hourly rates'!$B$2:$E$40,2,FALSE))","v":12},15]
["Dunphy, Phil","_BIZ:Admin SP","Intern",1099,null,2,"2015-07-27","2015-08-01","Mon",null,"NonBill","ZZ","2015-08-05",null,"Special Projects",null,{"$f":"IF(O2066=\"Business Firm billable\",VLOOKUP(A2066,'Hourly rates'!$B$2:$E$40,4,FALSE),VLOOKUP(A2066,'Hourly rates'!$B$2:$E$40,2,FALSE))","v":12},24]
["Dunphy, Phil","_BIZ:Admin SP","Intern",1099,null,1,"2015-07-28","2015-08-01","Tue",null,"NonBill","ZZ","2015-08-05",null,"Special Projects",null,{"$f":"IF(O2067=\"Business Firm billable\",VLOOKUP(A2067,'Hourly rates'!$B$2:$E$40,4,FALSE),VLOOKUP(A2067,'Hourly rates'!$B$2:$E$40,2,FALSE))","v":12},12]
["Almeida, Tony","_BIZ:Administrative","Intern",1099,null,1.25,"2015-08-03",{"$f":"G2068+7-WEEKDAY(G2068)","v":"2015-08-08"},"Mon",null,"NonBill","ZZ","2015-08-17","2015 GL - BIZ Internal Finance","",null,{"$f":"IF(O2068=\"Business Firm billable\",VLOOKUP(A2068,'Hourly rates'!$B$2:$E$40,4,FALSE),VLOOKUP(A2068,'Hourly rates'!$B$2:$E$40,2,FALSE))","v":12},15,null,{"$f":"A2068&B2068&C2068&D2068&E2068&F2068&G2068&H2068&I2068&K2068&N2068&O2068","v":"Almeida, Tony_BIZ:AdministrativeIntern10991.254221942224MonNonBill2015 GL - BIZ Internal Finance"}," "]
["Almeida, Tony","_BIZ:Administrative","Intern",1099,null,1.25,"2015-08-04","2015-08-08","Tue",null,"NonBill","ZZ","2015-08-17","2015 GL - BIZ Internal Finance","",null,{"$f":"IF(O2069=\"Business Firm billable\",VLOOKUP(A2069,'Hourly rates'!$B$2:$E$40,4,FALSE),VLOOKUP(A2069,'Hourly rates'!$B$2:$E$40,2,FALSE))","v":12},15,null,"Almeida, Tony_BIZ:AdministrativeIntern10991.254222042224TueNonBill2015 GL - BIZ Internal Finance"," "]
["Almeida, Tony","Some Client:Tech Acctg","Intern",1099,null,4,"2015-08-04","2015-08-08","Tue",null,"Admin 9%","ZZ","2015-08-17",null,"Business Firm billable",null,{"$f":"IF(O2070=\"Business Firm billable\",VLOOKUP(A2070,'Hourly rates'!$B$2:$E$40,4,FALSE),VLOOKUP(A2070,'Hourly rates'!$B$2:$E$40,2,FALSE))","v":83},332,null,"Almeida, TonySome Client:Tech AcctgIntern109944222042224TueAdmin 9%Business Firm billable"," "]
["Almeida, Tony","Some Client:Tech Acctg","Intern",1099,null,4.25,"2015-08-05","2015-08-08","Wed",null,"Admin 9%","ZZ","2015-08-17",null,"Business Firm billable",null,{"$f":"IF(O2071=\"Business Firm billable\",VLOOKUP(A2071,'Hourly rates'!$B$2:$E$40,4,FALSE),VLOOKUP(A2071,'Hourly rates'!$B$2:$E$40,2,FALSE))","v":83},352.75,null,"Almeida, TonySome Client:Tech AcctgIntern10994.254222142224WedAdmin 9%Business Firm billable"," "]
["Almeida, Tony","Some Client:Tech Acctg","Intern",1099,null,2.25,"2015-08-06","2015-08-08","Thu",null,"Admin 9%","ZZ","2015-08-17",null,"Business Firm billable",null,{"$f":"IF(O2072=\"Business Firm billable\",VLOOKUP(A2072,'Hourly rates'!$B$2:$E$40,4,FALSE),VLOOKUP(A2072,'Hourly rates'!$B$2:$E$40,2,FALSE))","v":83},186.75,null,"Almeida, TonySome Client:Tech AcctgIntern10992.254222242224ThuAdmin 9%Business Firm billable"," "]
["Almeida, Tony","Some Client:Tech Acctg","Intern",1099,null,2.25,"2015-08-07","2015-08-08","Fri",null,"Admin 9%","ZZ","2015-08-17",null,"Business Firm billable",null,{"$f":"IF(O2073=\"Business Firm billable\",VLOOKUP(A2073,'Hourly rates'!$B$2:$E$40,4,FALSE),VLOOKUP(A2073,'Hourly rates'!$B$2:$E$40,2,FALSE))","v":83},186.75,null,"Almeida, TonySome Client:Tech AcctgIntern10992.254222342224FriAdmin 9%Business Firm billable"," "]
["Pritchett, Jay","_BIZ:Admin SP","Intern",1099,null,1.25,"2015-08-05","2015-08-08","Wed",null,"NonBill","ZZ","2015-08-17",null,{"$f":"IF(B2074=$B$2014,\"Special Projects\",\"\")","v":"Special Projects"},null,{"$f":"IF(O2074=\"Business Firm billable\",VLOOKUP(A2074,'Hourly rates'!$B$2:$E$40,4,FALSE),VLOOKUP(A2074,'Hourly rates'!$B$2:$E$40,2,FALSE))","v":12},15]
["Pritchett, Jay","_BIZ:Admin SP","Intern",1099,null,1.25,"2015-08-06","2015-08-08","Thu",null,"NonBill","ZZ","2015-08-17",null,"Special Projects",null,{"$f":"IF(O2075=\"Business Firm billable\",VLOOKUP(A2075,'Hourly rates'!$B$2:$E$40,4,FALSE),VLOOKUP(A2075,'Hourly rates'!$B$2:$E$40,2,FALSE))","v":12},15]
["Dunphy, Phil","_BIZ:Admin SP","Intern",1099,null,2.25,"2015-08-03","2015-08-08","Mon",null,"NonBill","ZZ","2015-08-17",null,"Special Projects",null,{"$f":"IF(O2076=\"Business Firm billable\",VLOOKUP(A2076,'Hourly rates'!$B$2:$E$40,4,FALSE),VLOOKUP(A2076,'Hourly rates'!$B$2:$E$40,2,FALSE))","v":12},27]
["Dunphy, Phil","_BIZ:Admin SP","Intern",1099,null,1,"2015-08-06","2015-08-08","Thu",null,"NonBill","ZZ","2015-08-17",null,"Special Projects",null,{"$f":"IF(O2077=\"Business Firm billable\",VLOOKUP(A2077,'Hourly rates'!$B$2:$E$40,4,FALSE),VLOOKUP(A2077,'Hourly rates'!$B$2:$E$40,2,FALSE))","v":12},12]
["Knope, Leslie","_BIZ:Admin SP","Intern",1099,null,2,"2015-08-10","2015-08-15","Mon",null,"NonBill","ZZ","2015-08-20",null,"Special Projects",null,{"$f":"IF(O2078=\"Business Firm billable\",VLOOKUP(A2078,'Hourly rates'!$B$2:$E$40,4,FALSE),VLOOKUP(A2078,'Hourly rates'!$B$2:$E$40,2,FALSE))","v":12},24]
["Knope, Leslie","_BIZ:Admin SP","Intern",1099,null,1,"2015-08-11","2015-08-15","Tue",null,"NonBill","ZZ","2015-08-20",null,"Special Projects",null,{"$f":"IF(O2079=\"Business Firm billable\",VLOOKUP(A2079,'Hourly rates'!$B$2:$E$40,4,FALSE),VLOOKUP(A2079,'Hourly rates'!$B$2:$E$40,2,FALSE))","v":12},12]
["Knope, Leslie","_BIZ:Admin SP","Intern",1099,null,2,"2015-08-14","2015-08-15","Fri",null,"NonBill","ZZ","2015-08-20",null,"Special Projects",null,{"$f":"IF(O2080=\"Business Firm billable\",VLOOKUP(A2080,'Hourly rates'!$B$2:$E$40,4,FALSE),VLOOKUP(A2080,'Hourly rates'!$B$2:$E$40,2,FALSE))","v":12},24]
["Almeida, Tony","_BIZ:Admin SP","Intern",1099,null,1.25,"2015-08-10","2015-08-15","Mon",null,"NonBill","ZZ","2015-08-20",null,"Special Projects",null,{"$f":"IF(O2081=\"Business Firm billable\",VLOOKUP(A2081,'Hourly rates'!$B$2:$E$40,4,FALSE),VLOOKUP(A2081,'Hourly rates'!$B$2:$E$40,2,FALSE))","v":12},15,null,{"$f":"A2081&B2081&C2081&D2081&E2081&F2081&G2081&H2081&I2081&K2081&N2081&O2081","v":"Almeida, Tony_BIZ:Admin SPIntern10991.254222642231MonNonBillSpecial Projects"}," "]
["Almeida, Tony","_BIZ:Admin SP","Intern",1099,null,1.25,"2015-08-11","2015-08-15","Tue",null,"NonBill","ZZ","2015-08-20",null,"Finance",null,{"$f":"IF(O2082=\"Business Firm billable\",VLOOKUP(A2082,'Hourly rates'!$B$2:$E$40,4,FALSE),VLOOKUP(A2082,'Hourly rates'!$B$2:$E$40,2,FALSE))","v":12},15,null,"Almeida, Tony_BIZ:Admin SPIntern10991.254222742231TueNonBillFinance"," "]
["Almeida, Tony","_BIZ:Administrative","Intern",1099,null,1.25,"2015-08-10","2015-08-15","Mon",null,"NonBill","ZZ","2015-08-20","2015 GL - BIZ Internal Finance","Business Firm billable",null,{"$f":"IF(O2083=\"Business Firm billable\",VLOOKUP(A2083,'Hourly rates'!$B$2:$E$40,4,FALSE),VLOOKUP(A2083,'Hourly rates'!$B$2:$E$40,2,FALSE))","v":83},103.75,null,"Almeida, Tony_BIZ:AdministrativeIntern10991.254222642231MonNonBill2015 GL - BIZ Internal FinanceBusiness Firm billable"," "]
["Almeida, Tony","_BIZ:Administrative","Intern",1099,null,5,"2015-08-13","2015-08-15","Thu",null,"NonBill","ZZ","2015-08-20","Bonus Plan 2015-16 Script","Finance",null,{"$f":"IF(O2084=\"Business Firm billable\",VLOOKUP(A2084,'Hourly rates'!$B$2:$E$40,4,FALSE),VLOOKUP(A2084,'Hourly rates'!$B$2:$E$40,2,FALSE))","v":12},60,null,"Almeida, Tony_BIZ:AdministrativeIntern109954222942231ThuNonBillBonus Plan 2015-16 ScriptFinance"," "]
["Almeida, Tony","Some Client:Tech Acctg","Intern",1099,null,1.25,"2015-08-10","2015-08-15","Mon",null,"Admin 9%","ZZ","2015-08-20",null,"Business Firm billable",null,{"$f":"IF(O2085=\"Business Firm billable\",VLOOKUP(A2085,'Hourly rates'!$B$2:$E$40,4,FALSE),VLOOKUP(A2085,'Hourly rates'!$B$2:$E$40,2,FALSE))","v":83},103.75,null,"Almeida, TonySome Client:Tech AcctgIntern10991.254222642231MonAdmin 9%Business Firm billable"," "]
["Almeida, Tony","Some Client:Tech Acctg","Intern",1099,null,3.25,"2015-08-11","2015-08-15","Tue",null,"Admin 9%","ZZ","2015-08-20",null,"Business Firm billable",null,{"$f":"IF(O2086=\"Business Firm billable\",VLOOKUP(A2086,'Hourly rates'!$B$2:$E$40,4,FALSE),VLOOKUP(A2086,'Hourly rates'!$B$2:$E$40,2,FALSE))","v":83},269.75,null,"Almeida, TonySome Client:Tech AcctgIntern10993.254222742231TueAdmin 9%Business Firm billable"," "]
["Almeida, Tony","Some Client:Tech Acctg","Intern",1099,null,2.75,"2015-08-12","2015-08-15","Wed",null,"Admin 9%","ZZ","2015-08-20",null,"Finance",null,{"$f":"IF(O2087=\"Business Firm billable\",VLOOKUP(A2087,'Hourly rates'!$B$2:$E$40,4,FALSE),VLOOKUP(A2087,'Hourly rates'!$B$2:$E$40,2,FALSE))","v":12},33,null,"Almeida, TonySome Client:Tech AcctgIntern10992.754222842231WedAdmin 9%Finance"," "]
["Pritchett, Jay","_BIZ:Admin SP","Intern",1099,null,1,"2015-08-11","2015-08-15","Tue",null,"NonBill","ZZ","2015-08-20",null,{"$f":"IF(B2088=$B$2014,\"Special Projects\",\"\")","v":"Special Projects"},null,{"$f":"IF(O2088=\"Business Firm billable\",VLOOKUP(A2088,'Hourly rates'!$B$2:$E$40,4,FALSE),VLOOKUP(A2088,'Hourly rates'!$B$2:$E$40,2,FALSE))","v":12},12]
["Pritchett, Jay","_BIZ:Admin SP","Intern",1099,null,1.25,"2015-08-12","2015-08-15","Wed",null,"NonBill","ZZ","2015-08-20",null,{"$f":"IF(B2089=$B$2014,\"Special Projects\",\"\")","v":"Special Projects"},null,{"$f":"IF(O2089=\"Business Firm billable\",VLOOKUP(A2089,'Hourly rates'!$B$2:$E$40,4,FALSE),VLOOKUP(A2089,'Hourly rates'!$B$2:$E$40,2,FALSE))","v":12},15]
["Pritchett, Jay","_BIZ:Admin SP","Intern",1099,null,1.25,"2015-08-14","2015-08-15","Fri",null,"NonBill","ZZ","2015-08-20",null,"Business Firm billable",null,{"$f":"IF(O2090=\"Business Firm billable\",VLOOKUP(A2090,'Hourly rates'!$B$2:$E$40,4,FALSE),VLOOKUP(A2090,'Hourly rates'!$B$2:$E$40,2,FALSE))","v":83},103.75]
["Pritchett, Jay","Some Client:Tech Acctg","Intern",1099,null,3.75,"2015-08-12","2015-08-15","Wed",null,"Admin 9%","ZZ","2015-08-20",null,"Business Firm billable",null,{"$f":"IF(O2091=\"Business Firm billable\",VLOOKUP(A2091,'Hourly rates'!$B$2:$E$40,4,FALSE),VLOOKUP(A2091,'Hourly rates'!$B$2:$E$40,2,FALSE))","v":83},311.25]
["Dunphy, Phil","_BIZ:Admin SP","Intern",1099,null,1.75,"2015-08-09","2015-08-15","Sun",null,"NonBill","ZZ","2015-08-20",null,{"$f":"IF(B2092=$B$2014,\"Special Projects\",\"\")","v":"Special Projects"},null,{"$f":"IF(O2092=\"Business Firm billable\",VLOOKUP(A2092,'Hourly rates'!$B$2:$E$40,4,FALSE),VLOOKUP(A2092,'Hourly rates'!$B$2:$E$40,2,FALSE))","v":12},21]
["Dunphy, Phil","_BIZ:Admin SP","Intern",1099,null,3,"2015-08-10","2015-08-15","Mon",null,"NonBill","ZZ","2015-08-20",null,"Special Projects",null,{"$f":"IF(O2093=\"Business Firm billable\",VLOOKUP(A2093,'Hourly rates'!$B$2:$E$40,4,FALSE),VLOOKUP(A2093,'Hourly rates'!$B$2:$E$40,2,FALSE))","v":12},36]
["Dunphy, Phil","_BIZ:Admin SP","Intern",1099,null,1.25,"2015-08-13","2015-08-15","Thu",null,"NonBill","ZZ","2015-08-20",null,"Special Projects",null,{"$f":"IF(O2094=\"Business Firm billable\",VLOOKUP(A2094,'Hourly rates'!$B$2:$E$40,4,FALSE),VLOOKUP(A2094,'Hourly rates'!$B$2:$E$40,2,FALSE))","v":12},15]
["Knope, Leslie","_BIZ:Admin SP","Intern",1099,null,1.25,"2015-08-20","2015-08-22","Thu",null,"NonBill","ZZ","2015-09-08",null,"Special Projects",null,{"$f":"IF(O2095=\"Business Firm billable\",VLOOKUP(A2095,'Hourly rates'!$B$2:$E$40,4,FALSE),VLOOKUP(A2095,'Hourly rates'!$B$2:$E$40,2,FALSE))","v":12},15]
["Knope, Leslie","_BIZ:Admin SP","Intern",1099,null,3.25,"2015-08-21","2015-08-22","Fri",null,"NonBill","ZZ","2015-09-08",null,"Special Projects",null,{"$f":"IF(O2096=\"Business Firm billable\",VLOOKUP(A2096,'Hourly rates'!$B$2:$E$40,4,FALSE),VLOOKUP(A2096,'Hourly rates'!$B$2:$E$40,2,FALSE))","v":12},39]
["Knope, Leslie","_BIZ:Admin SP","Intern",1099,null,1.25,"2015-08-22","2015-08-22","Sat",null,"NonBill","ZZ","2015-09-08",null,"Special Projects",null,{"$f":"IF(O2097=\"Business Firm billable\",VLOOKUP(A2097,'Hourly rates'!$B$2:$E$40,4,FALSE),VLOOKUP(A2097,'Hourly rates'!$B$2:$E$40,2,FALSE))","v":12},15]
["Dunphy, Phil","_BIZ:Administrative","Intern",1099,null,1.75,"2015-08-17","2015-08-22","Mon",null,"NonBill","ZZ","2015-08-31","Special Projects","Special Projects",null,{"$f":"IF(O2098=\"Business Firm billable\",VLOOKUP(A2098,'Hourly rates'!$B$2:$E$40,4,FALSE),VLOOKUP(A2098,'Hourly rates'!$B$2:$E$40,2,FALSE))","v":12},21]
["Dunphy, Phil","_BIZ:Administrative","Intern",1099,null,1.75,"2015-08-18","2015-08-22","Tue",null,"NonBill","ZZ","2015-08-31","Special Projects","Special Projects",null,{"$f":"IF(O2099=\"Business Firm billable\",VLOOKUP(A2099,'Hourly rates'!$B$2:$E$40,4,FALSE),VLOOKUP(A2099,'Hourly rates'!$B$2:$E$40,2,FALSE))","v":12},21]
["Dunphy, Phil","_BIZ:Administrative","Intern",1099,null,1.75,"2015-08-20",{"$f":"G2100+7-WEEKDAY(G2100)","v":"2015-08-22"},"Thu",null,"NonBill","ZZ","2015-08-31","Special Projects","Special Projects",null,{"$f":"IF(O2100=\"Business Firm billable\",VLOOKUP(A2100,'Hourly rates'!$B$2:$E$40,4,FALSE),VLOOKUP(A2100,'Hourly rates'!$B$2:$E$40,2,FALSE))","v":12},21]
["Almeida, Tony","_BIZ:Administrative","Intern",1099,null,3.25,"2015-08-25","2015-08-29","Tue",null,"NonBill","ZZ","2015-09-08","Moving Budget","Finance",null,{"$f":"IF(O2101=\"Business Firm billable\",VLOOKUP(A2101,'Hourly rates'!$B$2:$E$40,4,FALSE),VLOOKUP(A2101,'Hourly rates'!$B$2:$E$40,2,FALSE))","v":12},39,null,{"$f":"A2101&B2101&C2101&D2101&E2101&F2101&G2101&H2101&I2101&K2101&N2101&O2101","v":"Almeida, Tony_BIZ:AdministrativeIntern10993.254224142245TueNonBillMoving BudgetFinance"}," "]
["Almeida, Tony","_BIZ:Administrative","Intern",1099,null,4,"2015-08-26","2015-08-29","Wed",null,"NonBill","ZZ","2015-09-08","Moving Budget","Finance",null,{"$f":"IF(O2102=\"Business Firm billable\",VLOOKUP(A2102,'Hourly rates'!$B$2:$E$40,4,FALSE),VLOOKUP(A2102,'Hourly rates'!$B$2:$E$40,2,FALSE))","v":12},48,null,{"$f":"A2102&B2102&C2102&D2102&E2102&F2102&G2102&H2102&I2102&K2102&N2102&O2102","v":"Almeida, Tony_BIZ:AdministrativeIntern109944224242245WedNonBillMoving BudgetFinance"}," "]
["Almeida, Tony","_BIZ:Administrative","Intern",1099,null,6,"2015-08-27","2015-08-29","Thu",null,"NonBill","ZZ","2015-09-08","Moving Budget","Finance",null,{"$f":"IF(O2103=\"Business Firm billable\",VLOOKUP(A2103,'Hourly rates'!$B$2:$E$40,4,FALSE),VLOOKUP(A2103,'Hourly rates'!$B$2:$E$40,2,FALSE))","v":12},72,null,{"$f":"A2103&B2103&C2103&D2103&E2103&F2103&G2103&H2103&I2103&K2103&N2103&O2103","v":"Almeida, Tony_BIZ:AdministrativeIntern109964224342245ThuNonBillMoving BudgetFinance"}," "]
["Almeida, Tony","_BIZ:Administrative","Intern",1099,null,2,"2015-08-28","2015-08-29","Fri",null,"NonBill","ZZ","2015-09-08","Moving Budget","Finance",null,{"$f":"IF(O2104=\"Business Firm billable\",VLOOKUP(A2104,'Hourly rates'!$B$2:$E$40,4,FALSE),VLOOKUP(A2104,'Hourly rates'!$B$2:$E$40,2,FALSE))","v":12},24,null,{"$f":"A2104&B2104&C2104&D2104&E2104&F2104&G2104&H2104&I2104&K2104&N2104&O2104","v":"Almeida, Tony_BIZ:AdministrativeIntern109924224442245FriNonBillMoving BudgetFinance"}," "]
["Almeida, Tony","Some Client:Tech Acctg","Intern",1099,null,1,"2015-08-28","2015-08-29","Fri",null,"Admin 9%","ZZ","2015-09-08","Xanga and Myspace","Business Firm billable",null,{"$f":"IF(O2105=\"Business Firm billable\",VLOOKUP(A2105,'Hourly rates'!$B$2:$E$40,4,FALSE),VLOOKUP(A2105,'Hourly rates'!$B$2:$E$40,2,FALSE))","v":83},83,null,{"$f":"A2105&B2105&C2105&D2105&E2105&F2105&G2105&H2105&I2105&K2105&N2105&O2105","v":"Almeida, TonySome Client:Tech AcctgIntern109914224442245FriAdmin 9%Xanga and MyspaceBusiness Firm billable"}," "]
["Pritchett, Jay","_BIZ:Admin SP","Intern",1099,null,1.25,"2015-08-23","2015-08-29","Sun",null,"NonBill","ZZ","2015-09-08",null,{"$f":"IF(B2106=$B$2014,\"Special Projects\",\"\")","v":"Special Projects"},null,{"$f":"IF(O2106=\"Business Firm billable\",VLOOKUP(A2106,'Hourly rates'!$B$2:$E$40,4,FALSE),VLOOKUP(A2106,'Hourly rates'!$B$2:$E$40,2,FALSE))","v":12},15]
["Pritchett, Jay","_BIZ:Admin SP","Intern",1099,null,1.25,"2015-08-24","2015-08-29","Mon",null,"NonBill","ZZ","2015-09-08",null,"Special Projects",null,{"$f":"IF(O2107=\"Business Firm billable\",VLOOKUP(A2107,'Hourly rates'!$B$2:$E$40,4,FALSE),VLOOKUP(A2107,'Hourly rates'!$B$2:$E$40,2,FALSE))","v":12},15]
["Pritchett, Jay","_BIZ:Admin SP","Intern",1099,null,1.75,"2015-08-28","2015-08-29","Fri",null,"NonBill","ZZ","2015-09-08",null,"Special Projects",null,{"$f":"IF(O2108=\"Business Firm billable\",VLOOKUP(A2108,'Hourly rates'!$B$2:$E$40,4,FALSE),VLOOKUP(A2108,'Hourly rates'!$B$2:$E$40,2,FALSE))","v":12},21]
["Dunphy, Phil","_BIZ:Admin SP","Intern",1099,null,1.25,"2015-08-25","2015-08-29","Tue",null,"NonBill","ZZ","2015-09-08",null,"Special Projects",null,{"$f":"IF(O2109=\"Business Firm billable\",VLOOKUP(A2109,'Hourly rates'!$B$2:$E$40,4,FALSE),VLOOKUP(A2109,'Hourly rates'!$B$2:$E$40,2,FALSE))","v":12},15]
["Dunphy, Phil","_BIZ:Admin SP","Intern",1099,null,1.25,"2015-08-27","2015-08-29","Thu",null,"NonBill","ZZ","2015-09-08",null,"Special Projects",null,{"$f":"IF(O2110=\"Business Firm billable\",VLOOKUP(A2110,'Hourly rates'!$B$2:$E$40,4,FALSE),VLOOKUP(A2110,'Hourly rates'!$B$2:$E$40,2,FALSE))","v":12},15]
["Almeida, Tony","_BIZ:Admin SP","Intern",1099,null,2,"2015-08-31","2015-09-05","Mon",null,"NonBill","ZZ","2015-09-10",null,"Special Projects",null,{"$f":"IF(O2111=\"Business Firm billable\",VLOOKUP(A2111,'Hourly rates'!$B$2:$E$40,4,FALSE),VLOOKUP(A2111,'Hourly rates'!$B$2:$E$40,2,FALSE))","v":12},24,null,{"$f":"A2111&B2111&C2111&D2111&E2111&F2111&G2111&H2111&I2111&K2111&N2111&O2111","v":"Almeida, Tony_BIZ:Admin SPIntern109924224742252MonNonBillSpecial Projects"}," "]
["Almeida, Tony","_BIZ:Administrative","Intern",1099,null,5,"2015-08-31","2015-09-05","Mon",null,"NonBill","ZZ","2015-09-10","Moving Budget","Finance",null,{"$f":"IF(O2112=\"Business Firm billable\",VLOOKUP(A2112,'Hourly rates'!$B$2:$E$40,4,FALSE),VLOOKUP(A2112,'Hourly rates'!$B$2:$E$40,2,FALSE))","v":12},60,null,"Almeida, Tony_BIZ:AdministrativeIntern109954224742252MonNonBillMoving BudgetFinance"," "]
["Almeida, Tony","_BIZ:Administrative","Intern",1099,null,1,"2015-09-01","2015-09-05","Tue",null,"NonBill","ZZ","2015-09-10","Moving Budget","Finance",null,{"$f":"IF(O2113=\"Business Firm billable\",VLOOKUP(A2113,'Hourly rates'!$B$2:$E$40,4,FALSE),VLOOKUP(A2113,'Hourly rates'!$B$2:$E$40,2,FALSE))","v":12},12,null,"Almeida, Tony_BIZ:AdministrativeIntern109914224842252TueNonBillMoving BudgetFinance"," "]
["Almeida, Tony","_BIZ:Administrative","Intern",1099,null,5.25,"2015-09-01","2015-09-05","Tue",null,"NonBill","ZZ","2015-09-10","Banking Research","Finance",null,{"$f":"IF(O2114=\"Business Firm billable\",VLOOKUP(A2114,'Hourly rates'!$B$2:$E$40,4,FALSE),VLOOKUP(A2114,'Hourly rates'!$B$2:$E$40,2,FALSE))","v":12},{"$f":"Q2114*F2114","v":63},null,"Almeida, Tony_BIZ:AdministrativeIntern10995.254224842252TueNonBillBanking ResearchFinance"," "]
["Almeida, Tony","_BIZ:Administrative","Intern",1099,null,1.25,"2015-09-02","2015-09-05","Wed",null,"NonBill","ZZ","2015-09-10","Banking Research","Finance",null,{"$f":"IF(O2115=\"Business Firm billable\",VLOOKUP(A2115,'Hourly rates'!$B$2:$E$40,4,FALSE),VLOOKUP(A2115,'Hourly rates'!$B$2:$E$40,2,FALSE))","v":12},15,null,"Almeida, Tony_BIZ:AdministrativeIntern10991.254224942252WedNonBillBanking ResearchFinance"," "]
["Almeida, Tony","Some Client:Tech Acctg","Intern",1099,null,3,"2015-09-02","2015-09-05","Wed",null,"Admin 9%","ZZ","2015-09-10",null,"Business Firm billable",null,{"$f":"IF(O2116=\"Business Firm billable\",VLOOKUP(A2116,'Hourly rates'!$B$2:$E$40,4,FALSE),VLOOKUP(A2116,'Hourly rates'!$B$2:$E$40,2,FALSE))","v":83},249,null,"Almeida, TonySome Client:Tech AcctgIntern109934224942252WedAdmin 9%Business Firm billable"," "]
["Almeida, Tony","_BIZ:Administrative","Intern",1099,null,5,"2015-09-03","2015-09-05","Thu",null,"NonBill","ZZ","2015-09-10","Banking Research","Finance",null,{"$f":"IF(O2117=\"Business Firm billable\",VLOOKUP(A2117,'Hourly rates'!$B$2:$E$40,4,FALSE),VLOOKUP(A2117,'Hourly rates'!$B$2:$E$40,2,FALSE))","v":12},60,null,"Almeida, Tony_BIZ:AdministrativeIntern109954225042252ThuNonBillBanking ResearchFinance"," "]
["Almeida, Tony","_BIZ:Admin SP","Intern",1099,null,1.25,"2015-09-04","2015-09-05","Fri",null,"NonBill","ZZ","2015-09-10",null,{"$f":"IF(B2118=$B$2014,\"Special Projects\",\"\")","v":"Special Projects"},null,{"$f":"IF(O2118=\"Business Firm billable\",VLOOKUP(A2118,'Hourly rates'!$B$2:$E$40,4,FALSE),VLOOKUP(A2118,'Hourly rates'!$B$2:$E$40,2,FALSE))","v":12},15,null,"Almeida, Tony_BIZ:Admin SPIntern10991.254225142252FriNonBillSpecial Projects"," "]
["Almeida, Tony","_BIZ:Administrative","Intern",1099,null,5.25,"2015-09-04","2015-09-05","Fri",null,"NonBill","ZZ","2015-09-10","Banking Research","Finance",null,{"$f":"IF(O2119=\"Business Firm billable\",VLOOKUP(A2119,'Hourly rates'!$B$2:$E$40,4,FALSE),VLOOKUP(A2119,'Hourly rates'!$B$2:$E$40,2,FALSE))","v":12},63,null,"Almeida, Tony_BIZ:AdministrativeIntern10995.254225142252FriNonBillBanking ResearchFinance"," "]
["Pritchett, Jay","_BIZ:Admin SP","Intern",1099,null,1.75,"2015-09-02","2015-09-05","Wed",null,"NonBill","ZZ","2015-09-10",null,{"$f":"IF(B2120=$B$2014,\"Special Projects\",\"\")","v":"Special Projects"},null,{"$f":"IF(O2120=\"Business Firm billable\",VLOOKUP(A2120,'Hourly rates'!$B$2:$E$40,4,FALSE),VLOOKUP(A2120,'Hourly rates'!$B$2:$E$40,2,FALSE))","v":12},21]
["Pritchett, Jay","_BIZ:Admin SP","Intern",1099,null,1.25,"2015-09-03","2015-09-05","Thu",null,"NonBill","ZZ","2015-09-10",null,"Special Projects",null,{"$f":"IF(O2121=\"Business Firm billable\",VLOOKUP(A2121,'Hourly rates'!$B$2:$E$40,4,FALSE),VLOOKUP(A2121,'Hourly rates'!$B$2:$E$40,2,FALSE))","v":12},15]
["Pritchett, Jay","_BIZ:Admin SP","Intern",1099,null,1,"2015-09-04","2015-09-05","Fri",null,"NonBill","ZZ","2015-09-10",null,"Special Projects",null,{"$f":"IF(O2122=\"Business Firm billable\",VLOOKUP(A2122,'Hourly rates'!$B$2:$E$40,4,FALSE),VLOOKUP(A2122,'Hourly rates'!$B$2:$E$40,2,FALSE))","v":12},12]
["Dunphy, Phil","_BIZ:Admin SP","Intern",1099,null,1.25,"2015-09-02","2015-09-05","Wed",null,"NonBill","ZZ","2015-09-10",null,"Special Projects",null,{"$f":"IF(O2123=\"Business Firm billable\",VLOOKUP(A2123,'Hourly rates'!$B$2:$E$40,4,FALSE),VLOOKUP(A2123,'Hourly rates'!$B$2:$E$40,2,FALSE))","v":12},15]
["Delgado, Manny","_BIZ:Admin SP","Intern",1099,null,2,"2015-09-07","2015-09-12","Mon",null,"NonBill","ZZ","Pending",null,"Special Projects",null,{"$f":"IF(O2124=\"Business Firm billable\",VLOOKUP(A2124,'Hourly rates'!$B$2:$E$40,4,FALSE),VLOOKUP(A2124,'Hourly rates'!$B$2:$E$40,2,FALSE))","v":12},24]
["Delgado, Manny","_BIZ:Admin SP","Intern",1099,null,2,"2015-09-08","2015-09-12","Tue",null,"NonBill","ZZ","Pending",null,"Special Projects",null,{"$f":"IF(O2125=\"Business Firm billable\",VLOOKUP(A2125,'Hourly rates'!$B$2:$E$40,4,FALSE),VLOOKUP(A2125,'Hourly rates'!$B$2:$E$40,2,FALSE))","v":12},24]
["Delgado, Manny","_BIZ:Admin SP","Intern",1099,null,2,"2015-09-09","2015-09-12","Wed",null,"NonBill","ZZ","Pending",null,"Special Projects",null,{"$f":"IF(O2126=\"Business Firm billable\",VLOOKUP(A2126,'Hourly rates'!$B$2:$E$40,4,FALSE),VLOOKUP(A2126,'Hourly rates'!$B$2:$E$40,2,FALSE))","v":12},24]
["Delgado, Manny","_BIZ:Admin SP","Intern",1099,null,1,"2015-09-10","2015-09-12","Thu",null,"NonBill","ZZ","Pending",null,"Special Projects",null,{"$f":"IF(O2127=\"Business Firm billable\",VLOOKUP(A2127,'Hourly rates'!$B$2:$E$40,4,FALSE),VLOOKUP(A2127,'Hourly rates'!$B$2:$E$40,2,FALSE))","v":12},12]
["Delgado, Manny","_BIZ:Admin SP","Intern",1099,null,1,"2015-09-11","2015-09-12","Fri",null,"NonBill","ZZ","Pending",null,"Special Projects",null,{"$f":"IF(O2128=\"Business Firm billable\",VLOOKUP(A2128,'Hourly rates'!$B$2:$E$40,4,FALSE),VLOOKUP(A2128,'Hourly rates'!$B$2:$E$40,2,FALSE))","v":12},12]
["Delgado, Manny","_BIZ:Admin SP","Intern",1099,null,2,"2015-09-12","2015-09-12","Sat",null,"NonBill","ZZ","Pending",null,"Special Projects",null,{"$f":"IF(O2129=\"Business Firm billable\",VLOOKUP(A2129,'Hourly rates'!$B$2:$E$40,4,FALSE),VLOOKUP(A2129,'Hourly rates'!$B$2:$E$40,2,FALSE))","v":12},24]
["Knope, Leslie","_BIZ:Admin SP","Intern",1099,null,1.25,"2015-09-10","2015-09-12","Thu",null,"NonBill","ZZ","Pending",null,"Special Projects",null,{"$f":"IF(O2130=\"Business Firm billable\",VLOOKUP(A2130,'Hourly rates'!$B$2:$E$40,4,FALSE),VLOOKUP(A2130,'Hourly rates'!$B$2:$E$40,2,FALSE))","v":12},15]
["Knope, Leslie","_BIZ:Admin SP","Intern",1099,null,4,"2015-09-11","2015-09-12","Fri",null,"NonBill","ZZ","Pending",null,"Special Projects",null,{"$f":"IF(O2131=\"Business Firm billable\",VLOOKUP(A2131,'Hourly rates'!$B$2:$E$40,4,FALSE),VLOOKUP(A2131,'Hourly rates'!$B$2:$E$40,2,FALSE))","v":12},48]
["Swanson, Ron","_BIZ:Admin SP","Intern",1099,null,2.25,"2015-09-10",{"$f":"G2132+7-WEEKDAY(G2132)","v":"2015-09-12"},"Thu",null,"NonBill","ZZ","Pending",null,"Special Projects",null,{"$f":"IF(O2132=\"Business Firm billable\",VLOOKUP(A2132,'Hourly rates'!$B$2:$E$40,4,FALSE),VLOOKUP(A2132,'Hourly rates'!$B$2:$E$40,2,FALSE))","v":12},27]
["Swanson, Ron","_BIZ:Admin SP","Intern",1099,null,1,"2015-09-11","2015-09-12","Fri",null,"NonBill","ZZ","Pending",null,"Special Projects",null,{"$f":"IF(O2133=\"Business Firm billable\",VLOOKUP(A2133,'Hourly rates'!$B$2:$E$40,4,FALSE),VLOOKUP(A2133,'Hourly rates'!$B$2:$E$40,2,FALSE))","v":12},12]
["Swanson, Ron","_BIZ:Admin SP","Intern",1099,null,1.25,"2015-09-12","2015-09-12","Sat",null,"NonBill","ZZ","Pending",null,"Special Projects",null,{"$f":"IF(O2134=\"Business Firm billable\",VLOOKUP(A2134,'Hourly rates'!$B$2:$E$40,4,FALSE),VLOOKUP(A2134,'Hourly rates'!$B$2:$E$40,2,FALSE))","v":12},15]
["Almeida, Tony","_BIZ:Admin SP","Intern",1099,null,1,"2015-09-08","2015-09-12","Tue",null,"NonBill","ZZ","Pending",null,"Special Projects",null,{"$f":"IF(O2135=\"Business Firm billable\",VLOOKUP(A2135,'Hourly rates'!$B$2:$E$40,4,FALSE),VLOOKUP(A2135,'Hourly rates'!$B$2:$E$40,2,FALSE))","v":12},12,null,{"$f":"A2135&B2135&C2135&D2135&E2135&F2135&G2135&H2135&I2135&K2135&N2135&O2135","v":"Almeida, Tony_BIZ:Admin SPIntern109914225542259TueNonBillSpecial Projects"}," "]
["Almeida, Tony","_BIZ:Admin SP","Intern",1099,null,1.25,"2015-09-11","2015-09-12","Fri",null,"NonBill","ZZ","Pending",null,"Special Projects",null,{"$f":"IF(O2136=\"Business Firm billable\",VLOOKUP(A2136,'Hourly rates'!$B$2:$E$40,4,FALSE),VLOOKUP(A2136,'Hourly rates'!$B$2:$E$40,2,FALSE))","v":12},15,null,"Almeida, Tony_BIZ:Admin SPIntern10991.254225842259FriNonBillSpecial Projects"," "]
["Almeida, Tony","_BIZ:Administrative","Intern",1099,null,5.25,"2015-09-08","2015-09-12","Tue",null,"NonBill","ZZ","Pending","Banking Research","Finance",null,{"$f":"IF(O2137=\"Business Firm billable\",VLOOKUP(A2137,'Hourly rates'!$B$2:$E$40,4,FALSE),VLOOKUP(A2137,'Hourly rates'!$B$2:$E$40,2,FALSE))","v":12},63,null,"Almeida, Tony_BIZ:AdministrativeIntern10995.254225542259TueNonBillBanking ResearchFinance"," "]
["Almeida, Tony","_BIZ:Administrative","Intern",1099,null,1.25,"2015-09-08","2015-09-12","Tue",null,"NonBill","ZZ","Pending","Finance","Finance",null,{"$f":"IF(O2138=\"Business Firm billable\",VLOOKUP(A2138,'Hourly rates'!$B$2:$E$40,4,FALSE),VLOOKUP(A2138,'Hourly rates'!$B$2:$E$40,2,FALSE))","v":12},15,null,"Almeida, Tony_BIZ:AdministrativeIntern10991.254225542259TueNonBillFinanceFinance"," "]
["Almeida, Tony","_BIZ:Administrative","Intern",1099,null,1.25,"2015-09-09","2015-09-12","Wed",null,"NonBill","ZZ","Pending","Finance","Finance",null,{"$f":"IF(O2139=\"Business Firm billable\",VLOOKUP(A2139,'Hourly rates'!$B$2:$E$40,4,FALSE),VLOOKUP(A2139,'Hourly rates'!$B$2:$E$40,2,FALSE))","v":12},15,null,"Almeida, Tony_BIZ:AdministrativeIntern10991.254225642259WedNonBillFinanceFinance"," "]
["Almeida, Tony","_BIZ:Administrative","Intern",1099,null,6,"2015-09-10","2015-09-12","Thu",null,"NonBill","ZZ","Pending","Bus Dev","Finance",null,{"$f":"IF(O2140=\"Business Firm billable\",VLOOKUP(A2140,'Hourly rates'!$B$2:$E$40,4,FALSE),VLOOKUP(A2140,'Hourly rates'!$B$2:$E$40,2,FALSE))","v":12},72,null,"Almeida, Tony_BIZ:AdministrativeIntern109964225742259ThuNonBillBus DevFinance"," "]
["Almeida, Tony","_BIZ:Administrative","Intern",1099,null,1,"2015-09-11","2015-09-12","Fri",null,"NonBill","ZZ","Pending","Finance","Finance",null,{"$f":"IF(O2141=\"Business Firm billable\",VLOOKUP(A2141,'Hourly rates'!$B$2:$E$40,4,FALSE),VLOOKUP(A2141,'Hourly rates'!$B$2:$E$40,2,FALSE))","v":12},12,null,"Almeida, Tony_BIZ:AdministrativeIntern109914225842259FriNonBillFinanceFinance"," "]
["Almeida, Tony","Some Client:Tech Acctg","Intern",1099,null,4,"2015-09-11","2015-09-12","Fri",null,"Admin 9%","ZZ","Pending",null,"Business Firm billable",null,{"$f":"IF(O2142=\"Business Firm billable\",VLOOKUP(A2142,'Hourly rates'!$B$2:$E$40,4,FALSE),VLOOKUP(A2142,'Hourly rates'!$B$2:$E$40,2,FALSE))","v":83},332,null,"Almeida, TonySome Client:Tech AcctgIntern109944225842259FriAdmin 9%Business Firm billable"," "]
["Almeida, Tony","Some Client:Tech Acctg","Intern",1099,null,2.25,"2015-09-09","2015-09-12","Wed",null,"Admin 9%","ZZ","Pending",null,"Business Firm billable",null,{"$f":"IF(O2143=\"Business Firm billable\",VLOOKUP(A2143,'Hourly rates'!$B$2:$E$40,4,FALSE),VLOOKUP(A2143,'Hourly rates'!$B$2:$E$40,2,FALSE))","v":83},186.75,null,"Almeida, TonySome Client:Tech AcctgIntern10992.254225642259WedAdmin 9%Business Firm billable"," "]
["Walker, Renee","_BIZ:Admin SP","Intern",1099,null,2,"2015-09-08","2015-09-12","Tue",null,"NonBill","ZZ","Pending",null,{"$f":"IF(B2144=$B$2014,\"Special Projects\",\"\")","v":"Special Projects"},null,{"$f":"IF(O2144=\"Business Firm billable\",VLOOKUP(A2144,'Hourly rates'!$B$2:$E$40,4,FALSE),VLOOKUP(A2144,'Hourly rates'!$B$2:$E$40,2,FALSE))","v":12},24]
["Walker, Renee","_BIZ:Admin SP","Intern",1099,null,4,"2015-09-10","2015-09-12","Thu",null,"NonBill","ZZ","Pending",null,"Special Projects",null,{"$f":"IF(O2145=\"Business Firm billable\",VLOOKUP(A2145,'Hourly rates'!$B$2:$E$40,4,FALSE),VLOOKUP(A2145,'Hourly rates'!$B$2:$E$40,2,FALSE))","v":12},48]
["Walker, Renee","_BIZ:Admin SP","Intern",1099,null,4,"2015-09-11","2015-09-12","Fri",null,"NonBill","ZZ","Pending",null,"Special Projects",null,{"$f":"IF(O2146=\"Business Firm billable\",VLOOKUP(A2146,'Hourly rates'!$B$2:$E$40,4,FALSE),VLOOKUP(A2146,'Hourly rates'!$B$2:$E$40,2,FALSE))","v":12},48]
["Walker, Renee","_BIZ:Admin SP","Intern",1099,null,1.75,"2015-09-12","2015-09-12","Sat",null,"NonBill","ZZ","Pending",null,"Special Projects",null,{"$f":"IF(O2147=\"Business Firm billable\",VLOOKUP(A2147,'Hourly rates'!$B$2:$E$40,4,FALSE),VLOOKUP(A2147,'Hourly rates'!$B$2:$E$40,2,FALSE))","v":12},21]
["Delgado, Manny","_BIZ:Admin SP","Intern",1099,null,2,"2015-09-14","2015-09-19","Mon",null,"NonBill","ZZ","Pending",null,"Special Projects",null,{"$f":"IF(O2148=\"Business Firm billable\",VLOOKUP(A2148,'Hourly rates'!$B$2:$E$40,4,FALSE),VLOOKUP(A2148,'Hourly rates'!$B$2:$E$40,2,FALSE))","v":12},24]
["Delgado, Manny","_BIZ:Admin SP","Intern",1099,null,1.25,"2015-09-15","2015-09-19","Tue",null,"NonBill","ZZ","Pending",null,"Special Projects",null,{"$f":"IF(O2149=\"Business Firm billable\",VLOOKUP(A2149,'Hourly rates'!$B$2:$E$40,4,FALSE),VLOOKUP(A2149,'Hourly rates'!$B$2:$E$40,2,FALSE))","v":12},15]
["Delgado, Manny","_BIZ:Admin SP","Intern",1099,null,2,"2015-09-16","2015-09-19","Wed",null,"NonBill","ZZ","Pending",null,"Special Projects",null,{"$f":"IF(O2150=\"Business Firm billable\",VLOOKUP(A2150,'Hourly rates'!$B$2:$E$40,4,FALSE),VLOOKUP(A2150,'Hourly rates'!$B$2:$E$40,2,FALSE))","v":12},24]
["Delgado, Manny","_BIZ:Admin SP","Intern",1099,null,2,"2015-09-17","2015-09-19","Thu",null,"NonBill","ZZ","Pending",null,"Special Projects",null,{"$f":"IF(O2151=\"Business Firm billable\",VLOOKUP(A2151,'Hourly rates'!$B$2:$E$40,4,FALSE),VLOOKUP(A2151,'Hourly rates'!$B$2:$E$40,2,FALSE))","v":12},24]
["Delgado, Manny","_BIZ:Admin SP","Intern",1099,null,1.25,"2015-09-18","2015-09-19","Fri",null,"NonBill","ZZ","Pending",null,"Special Projects",null,{"$f":"IF(O2152=\"Business Firm billable\",VLOOKUP(A2152,'Hourly rates'!$B$2:$E$40,4,FALSE),VLOOKUP(A2152,'Hourly rates'!$B$2:$E$40,2,FALSE))","v":12},15]
["Delgado, Manny","_BIZ:Admin SP","Intern",1099,null,2.25,"2015-09-21","2015-09-26","Mon",null,"NonBill","ZZ","Pending",null,"Special Projects",null,{"$f":"IF(O2153=\"Business Firm billable\",VLOOKUP(A2153,'Hourly rates'!$B$2:$E$40,4,FALSE),VLOOKUP(A2153,'Hourly rates'!$B$2:$E$40,2,FALSE))","v":12},27]
["Delgado, Manny","_BIZ:Admin SP","Intern",1099,null,4,"2015-09-22","2015-09-26","Tue",null,"NonBill","ZZ","Pending",null,"Special Projects",null,{"$f":"IF(O2154=\"Business Firm billable\",VLOOKUP(A2154,'Hourly rates'!$B$2:$E$40,4,FALSE),VLOOKUP(A2154,'Hourly rates'!$B$2:$E$40,2,FALSE))","v":12},48]
["Delgado, Manny","_BIZ:Admin SP","Intern",1099,null,1.25,"2015-09-25","2015-09-26","Fri",null,"NonBill","ZZ","Pending",null,"Special Projects",null,{"$f":"IF(O2155=\"Business Firm billable\",VLOOKUP(A2155,'Hourly rates'!$B$2:$E$40,4,FALSE),VLOOKUP(A2155,'Hourly rates'!$B$2:$E$40,2,FALSE))","v":12},15]
["Delgado, Manny","_BIZ:Admin SP","Intern",1099,null,4,"2015-09-28","2015-10-03","Mon",null,"NonBill","ZZ","Pending",null,"Special Projects",null,{"$f":"IF(O2156=\"Business Firm billable\",VLOOKUP(A2156,'Hourly rates'!$B$2:$E$40,4,FALSE),VLOOKUP(A2156,'Hourly rates'!$B$2:$E$40,2,FALSE))","v":12},48]
["Delgado, Manny","_BIZ:Admin SP","Intern",1099,null,1.25,"2015-09-29","2015-10-03","Tue",null,"NonBill","ZZ","Pending",null,"Special Projects",null,{"$f":"IF(O2157=\"Business Firm billable\",VLOOKUP(A2157,'Hourly rates'!$B$2:$E$40,4,FALSE),VLOOKUP(A2157,'Hourly rates'!$B$2:$E$40,2,FALSE))","v":12},15]
["Delgado, Manny","_BIZ:Admin SP","Intern",1099,null,2,"2015-09-30","2015-10-03","Wed",null,"NonBill","ZZ","Pending",null,"Special Projects",null,{"$f":"IF(O2158=\"Business Firm billable\",VLOOKUP(A2158,'Hourly rates'!$B$2:$E$40,4,FALSE),VLOOKUP(A2158,'Hourly rates'!$B$2:$E$40,2,FALSE))","v":12},24]
["Delgado, Manny","_BIZ:Admin SP","Intern",1099,null,1.25,"2015-10-01","2015-10-03","Thu",null,"NonBill","ZZ","Pending",null,"Special Projects",null,{"$f":"IF(O2159=\"Business Firm billable\",VLOOKUP(A2159,'Hourly rates'!$B$2:$E$40,4,FALSE),VLOOKUP(A2159,'Hourly rates'!$B$2:$E$40,2,FALSE))","v":12},15]
["Delgado, Manny","_BIZ:Admin SP","Intern",1099,null,1.25,"2015-10-02","2015-10-03","Fri",null,"NonBill","ZZ","Pending",null,"Special Projects",null,{"$f":"IF(O2160=\"Business Firm billable\",VLOOKUP(A2160,'Hourly rates'!$B$2:$E$40,4,FALSE),VLOOKUP(A2160,'Hourly rates'!$B$2:$E$40,2,FALSE))","v":12},15]
["Knope, Leslie","_BIZ:Admin SP","Intern",1099,null,3,"2015-09-15","2015-09-19","Tue",null,"NonBill","ZZ","Pending",null,"Special Projects",null,{"$f":"IF(O2161=\"Business Firm billable\",VLOOKUP(A2161,'Hourly rates'!$B$2:$E$40,4,FALSE),VLOOKUP(A2161,'Hourly rates'!$B$2:$E$40,2,FALSE))","v":12},36]
["Knope, Leslie","_BIZ:Admin SP","Intern",1099,null,2,"2015-09-17","2015-09-19","Thu",null,"NonBill","ZZ","Pending",null,"Special Projects",null,{"$f":"IF(O2162=\"Business Firm billable\",VLOOKUP(A2162,'Hourly rates'!$B$2:$E$40,4,FALSE),VLOOKUP(A2162,'Hourly rates'!$B$2:$E$40,2,FALSE))","v":12},24]
["Knope, Leslie","_BIZ:Admin SP","Intern",1099,null,5,"2015-09-18","2015-09-19","Fri",null,"NonBill","ZZ","Pending",null,"Special Projects",null,{"$f":"IF(O2163=\"Business Firm billable\",VLOOKUP(A2163,'Hourly rates'!$B$2:$E$40,4,FALSE),VLOOKUP(A2163,'Hourly rates'!$B$2:$E$40,2,FALSE))","v":12},60]
["Knope, Leslie","_BIZ:Admin SP","Intern",1099,null,3,"2015-09-22","2015-09-26","Tue",null,"NonBill","ZZ","Pending",null,"Special Projects",null,{"$f":"IF(O2164=\"Business Firm billable\",VLOOKUP(A2164,'Hourly rates'!$B$2:$E$40,4,FALSE),VLOOKUP(A2164,'Hourly rates'!$B$2:$E$40,2,FALSE))","v":12},36]
["Knope, Leslie","_BIZ:Admin SP","Intern",1099,null,1,"2015-09-23","2015-09-26","Wed",null,"NonBill","ZZ","Pending",null,"Special Projects",null,{"$f":"IF(O2165=\"Business Firm billable\",VLOOKUP(A2165,'Hourly rates'!$B$2:$E$40,4,FALSE),VLOOKUP(A2165,'Hourly rates'!$B$2:$E$40,2,FALSE))","v":12},12]
["Knope, Leslie","_BIZ:Admin SP","Intern",1099,null,1.25,"2015-09-24","2015-09-26","Thu",null,"NonBill","ZZ","Pending",null,"Special Projects",null,{"$f":"IF(O2166=\"Business Firm billable\",VLOOKUP(A2166,'Hourly rates'!$B$2:$E$40,4,FALSE),VLOOKUP(A2166,'Hourly rates'!$B$2:$E$40,2,FALSE))","v":12},15]
["Knope, Leslie","_BIZ:Admin SP","Intern",1099,null,4,"2015-09-25","2015-09-26","Fri",null,"NonBill","ZZ","Pending",null,"Special Projects",null,{"$f":"IF(O2167=\"Business Firm billable\",VLOOKUP(A2167,'Hourly rates'!$B$2:$E$40,4,FALSE),VLOOKUP(A2167,'Hourly rates'!$B$2:$E$40,2,FALSE))","v":12},48]
["Dessler, Michelle","_BIZ:Administrative","Internal",1099,null,1.25,"2015-09-14","2015-09-19","Mon",null,"NonBill","ZZ","Pending","Special Projects","Special Projects",null,18,22.5]
["Swanson, Ron","_BIZ:Admin SP","Intern",1099,null,2,"2015-09-14","2015-09-19","Mon",null,"NonBill","ZZ","Pending",null,{"$f":"IF(B2169=$B$2014,\"Special Projects\",\"\")","v":"Special Projects"},null,{"$f":"IF(O2169=\"Business Firm billable\",VLOOKUP(A2169,'Hourly rates'!$B$2:$E$40,4,FALSE),VLOOKUP(A2169,'Hourly rates'!$B$2:$E$40,2,FALSE))","v":12},24]
["Swanson, Ron","_BIZ:Admin SP","Intern",1099,null,4,"2015-09-17","2015-09-19","Thu",null,"NonBill","ZZ","Pending",null,"Special Projects",null,{"$f":"IF(O2170=\"Business Firm billable\",VLOOKUP(A2170,'Hourly rates'!$B$2:$E$40,4,FALSE),VLOOKUP(A2170,'Hourly rates'!$B$2:$E$40,2,FALSE))","v":12},48]
["Swanson, Ron","_BIZ:Admin SP","Intern",1099,null,3,"2015-09-18","2015-09-19","Fri",null,"NonBill","ZZ","Pending",null,"Special Projects",null,{"$f":"IF(O2171=\"Business Firm billable\",VLOOKUP(A2171,'Hourly rates'!$B$2:$E$40,4,FALSE),VLOOKUP(A2171,'Hourly rates'!$B$2:$E$40,2,FALSE))","v":12},36]
["Swanson, Ron","_BIZ:Admin SP","Intern",1099,null,4,"2015-09-24","2015-09-26","Thu",null,"NonBill","ZZ","Pending",null,"Special Projects",null,{"$f":"IF(O2172=\"Business Firm billable\",VLOOKUP(A2172,'Hourly rates'!$B$2:$E$40,4,FALSE),VLOOKUP(A2172,'Hourly rates'!$B$2:$E$40,2,FALSE))","v":12},48]
["Swanson, Ron","_BIZ:Admin SP","Intern",1099,null,3,"2015-09-25","2015-09-26","Fri",null,"NonBill","ZZ","Pending",null,"Special Projects",null,{"$f":"IF(O2173=\"Business Firm billable\",VLOOKUP(A2173,'Hourly rates'!$B$2:$E$40,4,FALSE),VLOOKUP(A2173,'Hourly rates'!$B$2:$E$40,2,FALSE))","v":12},36]
["Swanson, Ron","_BIZ:Admin SP","Intern",1099,null,1,"2015-09-26","2015-09-26","Sat",null,"NonBill","ZZ","Pending",null,"Special Projects",null,{"$f":"IF(O2174=\"Business Firm billable\",VLOOKUP(A2174,'Hourly rates'!$B$2:$E$40,4,FALSE),VLOOKUP(A2174,'Hourly rates'!$B$2:$E$40,2,FALSE))","v":12},12]
["Swanson, Ron","_BIZ:Admin SP","Intern",1099,null,1.25,"2015-09-28","2015-10-03","Mon",null,"NonBill","ZZ","Pending",null,"Special Projects",null,{"$f":"IF(O2175=\"Business Firm billable\",VLOOKUP(A2175,'Hourly rates'!$B$2:$E$40,4,FALSE),VLOOKUP(A2175,'Hourly rates'!$B$2:$E$40,2,FALSE))","v":12},15]
["Swanson, Ron","_BIZ:Admin SP","Intern",1099,null,1.25,"2015-10-01","2015-10-03","Thu",null,"NonBill","ZZ","Pending",null,"Special Projects",null,{"$f":"IF(O2176=\"Business Firm billable\",VLOOKUP(A2176,'Hourly rates'!$B$2:$E$40,4,FALSE),VLOOKUP(A2176,'Hourly rates'!$B$2:$E$40,2,FALSE))","v":12},15]
["Swanson, Ron","_BIZ:Admin SP","Intern",1099,null,2,"2015-10-02","2015-10-03","Fri",null,"NonBill","ZZ","Pending",null,"Special Projects",null,{"$f":"IF(O2177=\"Business Firm billable\",VLOOKUP(A2177,'Hourly rates'!$B$2:$E$40,4,FALSE),VLOOKUP(A2177,'Hourly rates'!$B$2:$E$40,2,FALSE))","v":12},24]
["Swanson, Ron","_BIZ:Admin SP","Intern",1099,null,1,"2015-10-03","2015-10-03","Sat",null,"NonBill","ZZ","Pending",null,"Special Projects",null,{"$f":"IF(O2178=\"Business Firm billable\",VLOOKUP(A2178,'Hourly rates'!$B$2:$E$40,4,FALSE),VLOOKUP(A2178,'Hourly rates'!$B$2:$E$40,2,FALSE))","v":12},{"$f":"Q2178*F2178","v":12}]
["Almeida, Tony","_BIZ:Admin SP","Intern",1099,null,1.25,"2015-09-14","2015-09-19","Mon",null,"NonBill","ZZ","Pending",null,"Special Projects",null,{"$f":"IF(O2179=\"Business Firm billable\",VLOOKUP(A2179,'Hourly rates'!$B$2:$E$40,4,FALSE),VLOOKUP(A2179,'Hourly rates'!$B$2:$E$40,2,FALSE))","v":12},15,null,{"$f":"A2179&B2179&C2179&D2179&E2179&F2179&G2179&H2179&I2179&K2179&N2179&O2179","v":"Almeida, Tony_BIZ:Admin SPIntern10991.254226142266MonNonBillSpecial Projects"}," "]
["Almeida, Tony","_BIZ:Admin SP","Intern",1099,null,1,"2015-09-15","2015-09-19","Tue",null,"NonBill","ZZ","Pending",null,"Special Projects",null,{"$f":"IF(O2180=\"Business Firm billable\",VLOOKUP(A2180,'Hourly rates'!$B$2:$E$40,4,FALSE),VLOOKUP(A2180,'Hourly rates'!$B$2:$E$40,2,FALSE))","v":12},12,null,"Almeida, Tony_BIZ:Admin SPIntern109914226242266TueNonBillSpecial Projects"," "]
["Almeida, Tony","_BIZ:Admin SP","Intern",1099,null,1.25,"2015-09-17","2015-09-19","Thu",null,"NonBill","ZZ","Pending",null,"Special Projects",null,{"$f":"IF(O2181=\"Business Firm billable\",VLOOKUP(A2181,'Hourly rates'!$B$2:$E$40,4,FALSE),VLOOKUP(A2181,'Hourly rates'!$B$2:$E$40,2,FALSE))","v":12},15,null,"Almeida, Tony_BIZ:Admin SPIntern10991.254226442266ThuNonBillSpecial Projects"," "]
["Almeida, Tony","_BIZ:Admin SP","Intern",1099,null,1.25,"2015-09-18","2015-09-19","Fri",null,"NonBill","ZZ","Pending",null,"Special Projects",null,{"$f":"IF(O2182=\"Business Firm billable\",VLOOKUP(A2182,'Hourly rates'!$B$2:$E$40,4,FALSE),VLOOKUP(A2182,'Hourly rates'!$B$2:$E$40,2,FALSE))","v":12},15,null,"Almeida, Tony_BIZ:Admin SPIntern10991.254226542266FriNonBillSpecial Projects"," "]
["Almeida, Tony","_BIZ:Admin SP","Intern",1099,null,1,"2015-09-21","2015-09-26","Mon",null,"NonBill","ZZ","Pending",null,"Special Projects",null,{"$f":"IF(O2183=\"Business Firm billable\",VLOOKUP(A2183,'Hourly rates'!$B$2:$E$40,4,FALSE),VLOOKUP(A2183,'Hourly rates'!$B$2:$E$40,2,FALSE))","v":12},12,null,"Almeida, Tony_BIZ:Admin SPIntern109914226842273MonNonBillSpecial Projects"," "]
["Almeida, Tony","_BIZ:Admin SP","Intern",1099,null,1.25,"2015-09-22","2015-09-26","Tue",null,"NonBill","ZZ","Pending",null,"Special Projects",null,{"$f":"IF(O2184=\"Business Firm billable\",VLOOKUP(A2184,'Hourly rates'!$B$2:$E$40,4,FALSE),VLOOKUP(A2184,'Hourly rates'!$B$2:$E$40,2,FALSE))","v":12},15,null,"Almeida, Tony_BIZ:Admin SPIntern10991.254226942273TueNonBillSpecial Projects"," "]
["Almeida, Tony","_BIZ:Admin SP","Intern",1099,null,1.25,"2015-09-23","2015-09-26","Wed",null,"NonBill","ZZ","Pending",null,"Special Projects",null,{"$f":"IF(O2185=\"Business Firm billable\",VLOOKUP(A2185,'Hourly rates'!$B$2:$E$40,4,FALSE),VLOOKUP(A2185,'Hourly rates'!$B$2:$E$40,2,FALSE))","v":12},15,null,"Almeida, Tony_BIZ:Admin SPIntern10991.254227042273WedNonBillSpecial Projects"," "]
["Almeida, Tony","_BIZ:Admin SP","Intern",1099,null,3.25,"2015-09-28","2015-10-03","Mon",null,"NonBill","ZZ","Pending",null,"Special Projects",null,{"$f":"IF(O2186=\"Business Firm billable\",VLOOKUP(A2186,'Hourly rates'!$B$2:$E$40,4,FALSE),VLOOKUP(A2186,'Hourly rates'!$B$2:$E$40,2,FALSE))","v":12},39,null,"Almeida, Tony_BIZ:Admin SPIntern10993.254227542280MonNonBillSpecial Projects"," "]
["Almeida, Tony","_BIZ:Admin SP","Intern",1099,null,3.25,"2015-09-29","2015-10-03","Tue",null,"NonBill","ZZ","Pending",null,"Special Projects",null,{"$f":"IF(O2187=\"Business Firm billable\",VLOOKUP(A2187,'Hourly rates'!$B$2:$E$40,4,FALSE),VLOOKUP(A2187,'Hourly rates'!$B$2:$E$40,2,FALSE))","v":12},39,null,"Almeida, Tony_BIZ:Admin SPIntern10993.254227642280TueNonBillSpecial Projects"," "]
["Almeida, Tony","_BIZ:Admin SP","Intern",1099,null,1,"2015-09-30","2015-10-03","Wed",null,"NonBill","ZZ","Pending",null,"Special Projects",null,{"$f":"IF(O2188=\"Business Firm billable\",VLOOKUP(A2188,'Hourly rates'!$B$2:$E$40,4,FALSE),VLOOKUP(A2188,'Hourly rates'!$B$2:$E$40,2,FALSE))","v":12},12,null,"Almeida, Tony_BIZ:Admin SPIntern109914227742280WedNonBillSpecial Projects"," "]
["Almeida, Tony","_BIZ:Admin SP","Intern",1099,null,1.25,"2015-10-01","2015-10-03","Thu",null,"NonBill","ZZ","Pending",null,"Special Projects",null,{"$f":"IF(O2189=\"Business Firm billable\",VLOOKUP(A2189,'Hourly rates'!$B$2:$E$40,4,FALSE),VLOOKUP(A2189,'Hourly rates'!$B$2:$E$40,2,FALSE))","v":12},15,null,"Almeida, Tony_BIZ:Admin SPIntern10991.254227842280ThuNonBillSpecial Projects"," "]
["Almeida, Tony","_BIZ:Admin SP","Intern",1099,null,1.25,"2015-10-02","2015-10-03","Fri",null,"NonBill","ZZ","Pending",null,"Special Projects",null,{"$f":"IF(O2190=\"Business Firm billable\",VLOOKUP(A2190,'Hourly rates'!$B$2:$E$40,4,FALSE),VLOOKUP(A2190,'Hourly rates'!$B$2:$E$40,2,FALSE))","v":12},15,null,"Almeida, Tony_BIZ:Admin SPIntern10991.254227942280FriNonBillSpecial Projects"," "]
["Almeida, Tony","_BIZ:Administrative","Intern",1099,null,4,"2015-09-14","2015-09-19","Mon",null,"NonBill","ZZ","Pending",null,"Finance",null,{"$f":"IF(O2191=\"Business Firm billable\",VLOOKUP(A2191,'Hourly rates'!$B$2:$E$40,4,FALSE),VLOOKUP(A2191,'Hourly rates'!$B$2:$E$40,2,FALSE))","v":12},48,null,"Almeida, Tony_BIZ:AdministrativeIntern109944226142266MonNonBillFinance"," "]
["Almeida, Tony","_BIZ:Administrative","Intern",1099,null,4,"2015-09-15","2015-09-19","Tue",null,"NonBill","ZZ","Pending",null,"Finance",null,{"$f":"IF(O2192=\"Business Firm billable\",VLOOKUP(A2192,'Hourly rates'!$B$2:$E$40,4,FALSE),VLOOKUP(A2192,'Hourly rates'!$B$2:$E$40,2,FALSE))","v":12},48,null,"Almeida, Tony_BIZ:AdministrativeIntern109944226242266TueNonBillFinance"," "]
["Almeida, Tony","_BIZ:Administrative","Intern",1099,null,1.25,"2015-09-16","2015-09-19","Wed",null,"NonBill","ZZ","Pending",null,"Finance",null,{"$f":"IF(O2193=\"Business Firm billable\",VLOOKUP(A2193,'Hourly rates'!$B$2:$E$40,4,FALSE),VLOOKUP(A2193,'Hourly rates'!$B$2:$E$40,2,FALSE))","v":12},15,null,"Almeida, Tony_BIZ:AdministrativeIntern10991.254226342266WedNonBillFinance"," "]
["Almeida, Tony","_BIZ:Administrative","Intern",1099,null,6,"2015-09-17","2015-09-19","Thu",null,"NonBill","ZZ","Pending",null,"Finance",null,{"$f":"IF(O2194=\"Business Firm billable\",VLOOKUP(A2194,'Hourly rates'!$B$2:$E$40,4,FALSE),VLOOKUP(A2194,'Hourly rates'!$B$2:$E$40,2,FALSE))","v":12},72,null,"Almeida, Tony_BIZ:AdministrativeIntern109964226442266ThuNonBillFinance"," "]
["Almeida, Tony","_BIZ:Administrative","Intern",1099,null,5.25,"2015-09-18","2015-09-19","Fri",null,"NonBill","ZZ","Pending",null,"Finance",null,{"$f":"IF(O2195=\"Business Firm billable\",VLOOKUP(A2195,'Hourly rates'!$B$2:$E$40,4,FALSE),VLOOKUP(A2195,'Hourly rates'!$B$2:$E$40,2,FALSE))","v":12},63,null,"Almeida, Tony_BIZ:AdministrativeIntern10995.254226542266FriNonBillFinance"," "]
["Almeida, Tony","Some Client:Tech Acctg","Intern",1099,null,1.25,"2015-09-14","2015-09-19","Mon",null,"Admin 9%","ZZ","Pending",null,"Business Firm billable",null,{"$f":"IF(O2196=\"Business Firm billable\",VLOOKUP(A2196,'Hourly rates'!$B$2:$E$40,4,FALSE),VLOOKUP(A2196,'Hourly rates'!$B$2:$E$40,2,FALSE))","v":83},103.75,null,"Almeida, TonySome Client:Tech AcctgIntern10991.254226142266MonAdmin 9%Business Firm billable"," "]
["Almeida, Tony","Some Client:Tech Acctg","Intern",1099,null,2,"2015-09-15","2015-09-19","Tue",null,"Admin 9%","ZZ","Pending",null,"Business Firm billable",null,{"$f":"IF(O2197=\"Business Firm billable\",VLOOKUP(A2197,'Hourly rates'!$B$2:$E$40,4,FALSE),VLOOKUP(A2197,'Hourly rates'!$B$2:$E$40,2,FALSE))","v":83},166,null,"Almeida, TonySome Client:Tech AcctgIntern109924226242266TueAdmin 9%Business Firm billable"," "]
["Almeida, Tony","Some Client:Tech Acctg","Intern",1099,null,1.25,"2015-09-17","2015-09-19","Thu",null,"Admin 9%","ZZ","Pending",null,"Business Firm billable",null,{"$f":"IF(O2198=\"Business Firm billable\",VLOOKUP(A2198,'Hourly rates'!$B$2:$E$40,4,FALSE),VLOOKUP(A2198,'Hourly rates'!$B$2:$E$40,2,FALSE))","v":83},103.75,null,"Almeida, TonySome Client:Tech AcctgIntern10991.254226442266ThuAdmin 9%Business Firm billable"," "]
["Almeida, Tony","Some Client:Tech Acctg","Intern",1099,null,1.25,"2015-09-30","2015-10-03","Wed",null,"Admin 9%","ZZ","Pending",null,"Business Firm billable",null,{"$f":"IF(O2199=\"Business Firm billable\",VLOOKUP(A2199,'Hourly rates'!$B$2:$E$40,4,FALSE),VLOOKUP(A2199,'Hourly rates'!$B$2:$E$40,2,FALSE))","v":83},103.75,null,"Almeida, TonySome Client:Tech AcctgIntern10991.254227742280WedAdmin 9%Business Firm billable"," "]
["Almeida, Tony","Some Client:Tech Acctg","Intern",1099,null,2,"2015-10-01","2015-10-03","Thu",null,"Admin 9%","ZZ","Pending",null,"Business Firm billable",null,{"$f":"IF(O2200=\"Business Firm billable\",VLOOKUP(A2200,'Hourly rates'!$B$2:$E$40,4,FALSE),VLOOKUP(A2200,'Hourly rates'!$B$2:$E$40,2,FALSE))","v":83},166,null,"Almeida, TonySome Client:Tech AcctgIntern109924227842280ThuAdmin 9%Business Firm billable"," "]
["Almeida, Tony","Some Client:Tech Acctg","Intern",1099,null,5,"2015-10-02","2015-10-03","Fri",null,"Admin 9%","ZZ","Pending",null,"Business Firm billable",null,{"$f":"IF(O2201=\"Business Firm billable\",VLOOKUP(A2201,'Hourly rates'!$B$2:$E$40,4,FALSE),VLOOKUP(A2201,'Hourly rates'!$B$2:$E$40,2,FALSE))","v":83},415,null,"Almeida, TonySome Client:Tech AcctgIntern109954227942280FriAdmin 9%Business Firm billable"," "]
["Walker, Renee","_BIZ:Admin SP","Intern",1099,null,1.25,"2015-09-14","2015-09-19","Mon",null,"NonBill","ZZ","Pending",null,{"$f":"IF(B2202=$B$2014,\"Special Projects\",\"\")","v":"Special Projects"},null,{"$f":"IF(O2202=\"Business Firm billable\",VLOOKUP(A2202,'Hourly rates'!$B$2:$E$40,4,FALSE),VLOOKUP(A2202,'Hourly rates'!$B$2:$E$40,2,FALSE))","v":12},15]
["Walker, Renee","_BIZ:Admin SP","Intern",1099,null,1.25,"2015-09-15","2015-09-19","Tue",null,"NonBill","ZZ","Pending",null,"Special Projects",null,{"$f":"IF(O2203=\"Business Firm billable\",VLOOKUP(A2203,'Hourly rates'!$B$2:$E$40,4,FALSE),VLOOKUP(A2203,'Hourly rates'!$B$2:$E$40,2,FALSE))","v":12},15]
["Walker, Renee","_BIZ:Admin SP","Intern",1099,null,1.25,"2015-09-16","2015-09-19","Wed",null,"NonBill","ZZ","Pending",null,"Special Projects",null,{"$f":"IF(O2204=\"Business Firm billable\",VLOOKUP(A2204,'Hourly rates'!$B$2:$E$40,4,FALSE),VLOOKUP(A2204,'Hourly rates'!$B$2:$E$40,2,FALSE))","v":12},15]
["Walker, Renee","_BIZ:Admin SP","Intern",1099,null,1.25,"2015-09-17","2015-09-19","Thu",null,"NonBill","ZZ","Pending",null,"Special Projects",null,{"$f":"IF(O2205=\"Business Firm billable\",VLOOKUP(A2205,'Hourly rates'!$B$2:$E$40,4,FALSE),VLOOKUP(A2205,'Hourly rates'!$B$2:$E$40,2,FALSE))","v":12},15]
["Walker, Renee","_BIZ:Admin SP","Intern",1099,null,1,"2015-09-18","2015-09-19","Fri",null,"NonBill","ZZ","Pending",null,"Special Projects",null,{"$f":"IF(O2206=\"Business Firm billable\",VLOOKUP(A2206,'Hourly rates'!$B$2:$E$40,4,FALSE),VLOOKUP(A2206,'Hourly rates'!$B$2:$E$40,2,FALSE))","v":12},12]
["Walker, Renee","_BIZ:Admin SP","Intern",1099,null,4,"2015-09-21","2015-09-26","Mon",null,"NonBill","ZZ","Pending",null,"Special Projects",null,{"$f":"IF(O2207=\"Business Firm billable\",VLOOKUP(A2207,'Hourly rates'!$B$2:$E$40,4,FALSE),VLOOKUP(A2207,'Hourly rates'!$B$2:$E$40,2,FALSE))","v":12},48]
["Walker, Renee","_BIZ:Admin SP","Intern",1099,null,2.25,"2015-09-22","2015-09-26","Tue",null,"NonBill","ZZ","Pending",null,"Special Projects",null,{"$f":"IF(O2208=\"Business Firm billable\",VLOOKUP(A2208,'Hourly rates'!$B$2:$E$40,4,FALSE),VLOOKUP(A2208,'Hourly rates'!$B$2:$E$40,2,FALSE))","v":12},27]
["Walker, Renee","_BIZ:Admin SP","Intern",1099,null,1.25,"2015-09-23","2015-09-26","Wed",null,"NonBill","ZZ","Pending",null,"Special Projects",null,{"$f":"IF(O2209=\"Business Firm billable\",VLOOKUP(A2209,'Hourly rates'!$B$2:$E$40,4,FALSE),VLOOKUP(A2209,'Hourly rates'!$B$2:$E$40,2,FALSE))","v":12},15]
["Walker, Renee","_BIZ:Admin SP","Intern",1099,null,1.25,"2015-09-24","2015-09-26","Thu",null,"NonBill","ZZ","Pending",null,"Special Projects",null,{"$f":"IF(O2210=\"Business Firm billable\",VLOOKUP(A2210,'Hourly rates'!$B$2:$E$40,4,FALSE),VLOOKUP(A2210,'Hourly rates'!$B$2:$E$40,2,FALSE))","v":12},15]
["Walker, Renee","_BIZ:Admin SP","Intern",1099,null,5.25,"2015-09-25","2015-09-26","Fri",null,"NonBill","ZZ","Pending",null,"Special Projects",null,{"$f":"IF(O2211=\"Business Firm billable\",VLOOKUP(A2211,'Hourly rates'!$B$2:$E$40,4,FALSE),VLOOKUP(A2211,'Hourly rates'!$B$2:$E$40,2,FALSE))","v":12},63]
["Walker, Renee","_BIZ:Admin SP","Intern",1099,null,2.25,"2015-09-28","2015-10-03","Mon",null,"NonBill","ZZ","Pending",null,"Special Projects",null,{"$f":"IF(O2212=\"Business Firm billable\",VLOOKUP(A2212,'Hourly rates'!$B$2:$E$40,4,FALSE),VLOOKUP(A2212,'Hourly rates'!$B$2:$E$40,2,FALSE))","v":12},27]
["Walker, Renee","_BIZ:Admin SP","Intern",1099,null,1.25,"2015-09-29","2015-10-03","Tue",null,"NonBill","ZZ","Pending",null,"Special Projects",null,{"$f":"IF(O2213=\"Business Firm billable\",VLOOKUP(A2213,'Hourly rates'!$B$2:$E$40,4,FALSE),VLOOKUP(A2213,'Hourly rates'!$B$2:$E$40,2,FALSE))","v":12},15]
["Walker, Renee","_BIZ:Admin SP","Intern",1099,null,1.25,"2015-09-30","2015-10-03","Wed",null,"NonBill","ZZ","Pending",null,"Special Projects",null,{"$f":"IF(O2214=\"Business Firm billable\",VLOOKUP(A2214,'Hourly rates'!$B$2:$E$40,4,FALSE),VLOOKUP(A2214,'Hourly rates'!$B$2:$E$40,2,FALSE))","v":12},15]
["Walker, Renee","_BIZ:Admin SP","Intern",1099,null,2.25,"2015-10-01","2015-10-03","Thu",null,"NonBill","ZZ","Pending",null,"Special Projects",null,{"$f":"IF(O2215=\"Business Firm billable\",VLOOKUP(A2215,'Hourly rates'!$B$2:$E$40,4,FALSE),VLOOKUP(A2215,'Hourly rates'!$B$2:$E$40,2,FALSE))","v":12},27]
["Walker, Renee","_BIZ:Admin SP","Intern",1099,null,1.75,"2015-10-02","2015-10-03","Fri",null,"NonBill","ZZ","Pending",null,"Special Projects",null,{"$f":"IF(O2216=\"Business Firm billable\",VLOOKUP(A2216,'Hourly rates'!$B$2:$E$40,4,FALSE),VLOOKUP(A2216,'Hourly rates'!$B$2:$E$40,2,FALSE))","v":12},21]
["Pritchett, Jay","_BIZ:Admin SP","Intern",1099,null,3,"2015-09-17","2015-09-19","Thu",null,"NonBill","ZZ","Pending",null,"Special Projects",null,{"$f":"IF(O2217=\"Business Firm billable\",VLOOKUP(A2217,'Hourly rates'!$B$2:$E$40,4,FALSE),VLOOKUP(A2217,'Hourly rates'!$B$2:$E$40,2,FALSE))","v":12},36]
["Pritchett, Jay","_BIZ:Admin SP","Intern",1099,null,1.75,"2015-09-18","2015-09-19","Fri",null,"NonBill","ZZ","Pending",null,"Special Projects",null,{"$f":"IF(O2218=\"Business Firm billable\",VLOOKUP(A2218,'Hourly rates'!$B$2:$E$40,4,FALSE),VLOOKUP(A2218,'Hourly rates'!$B$2:$E$40,2,FALSE))","v":12},21]
["Pritchett, Jay","_BIZ:Admin SP","Intern",1099,null,1.75,"2015-09-19","2015-09-19","Sat",null,"NonBill","ZZ","Pending",null,"Special Projects",null,{"$f":"IF(O2219=\"Business Firm billable\",VLOOKUP(A2219,'Hourly rates'!$B$2:$E$40,4,FALSE),VLOOKUP(A2219,'Hourly rates'!$B$2:$E$40,2,FALSE))","v":12},21]
["Pritchett, Jay","_BIZ:Admin SP","Intern",1099,null,1.25,"2015-09-21","2015-09-26","Mon",null,"NonBill","ZZ","Pending",null,"Special Projects",null,{"$f":"IF(O2220=\"Business Firm billable\",VLOOKUP(A2220,'Hourly rates'!$B$2:$E$40,4,FALSE),VLOOKUP(A2220,'Hourly rates'!$B$2:$E$40,2,FALSE))","v":12},15]
["Pritchett, Jay","_BIZ:Admin SP","Intern",1099,null,1.25,"2015-09-22","2015-09-26","Tue",null,"NonBill","ZZ","Pending",null,"Special Projects",null,{"$f":"IF(O2221=\"Business Firm billable\",VLOOKUP(A2221,'Hourly rates'!$B$2:$E$40,4,FALSE),VLOOKUP(A2221,'Hourly rates'!$B$2:$E$40,2,FALSE))","v":12},15]
["Pritchett, Jay","_BIZ:Admin SP","Intern",1099,null,1.75,"2015-09-23","2015-09-26","Wed",null,"NonBill","ZZ","Pending",null,"Special Projects",null,{"$f":"IF(O2222=\"Business Firm billable\",VLOOKUP(A2222,'Hourly rates'!$B$2:$E$40,4,FALSE),VLOOKUP(A2222,'Hourly rates'!$B$2:$E$40,2,FALSE))","v":12},21]
["Pritchett, Jay","_BIZ:Admin SP","Intern",1099,null,5,"2015-09-24","2015-09-26","Thu",null,"NonBill","ZZ","Pending",null,"Special Projects",null,{"$f":"IF(O2223=\"Business Firm billable\",VLOOKUP(A2223,'Hourly rates'!$B$2:$E$40,4,FALSE),VLOOKUP(A2223,'Hourly rates'!$B$2:$E$40,2,FALSE))","v":12},60]
["Pritchett, Jay","_BIZ:Admin SP","Intern",1099,null,5.25,"2015-09-25","2015-09-26","Fri",null,"NonBill","ZZ","Pending",null,"Special Projects",null,{"$f":"IF(O2224=\"Business Firm billable\",VLOOKUP(A2224,'Hourly rates'!$B$2:$E$40,4,FALSE),VLOOKUP(A2224,'Hourly rates'!$B$2:$E$40,2,FALSE))","v":12},63]
["Pritchett, Jay","_BIZ:Admin SP","Intern",1099,null,1.75,"2015-09-26","2015-09-26","Sat",null,"NonBill","ZZ","Pending",null,"Special Projects",null,{"$f":"IF(O2225=\"Business Firm billable\",VLOOKUP(A2225,'Hourly rates'!$B$2:$E$40,4,FALSE),VLOOKUP(A2225,'Hourly rates'!$B$2:$E$40,2,FALSE))","v":12},21]
["Pritchett, Jay","_BIZ:Admin SP","Intern",1099,null,1.25,"2015-09-28","2015-10-03","Mon",null,"NonBill","ZZ","Pending",null,"Special Projects",null,{"$f":"IF(O2226=\"Business Firm billable\",VLOOKUP(A2226,'Hourly rates'!$B$2:$E$40,4,FALSE),VLOOKUP(A2226,'Hourly rates'!$B$2:$E$40,2,FALSE))","v":12},15]
["Pritchett, Jay","_BIZ:Admin SP","Intern",1099,null,2,"2015-10-01","2015-10-03","Thu",null,"NonBill","ZZ","Pending",null,"Special Projects",null,{"$f":"IF(O2227=\"Business Firm billable\",VLOOKUP(A2227,'Hourly rates'!$B$2:$E$40,4,FALSE),VLOOKUP(A2227,'Hourly rates'!$B$2:$E$40,2,FALSE))","v":12},24]
["Pritchett, Jay","_BIZ:Admin SP","Intern",1099,null,1.75,"2015-10-02","2015-10-03","Fri",null,"NonBill","ZZ","Pending",null,"Special Projects",null,{"$f":"IF(O2228=\"Business Firm billable\",VLOOKUP(A2228,'Hourly rates'!$B$2:$E$40,4,FALSE),VLOOKUP(A2228,'Hourly rates'!$B$2:$E$40,2,FALSE))","v":12},21]
["Delgado, Manny","_BIZ:Admin SP","Intern",1099,null,1,"2015-10-05","2015-10-10","Mon",null,"NonBill","ZZ","Pending",null,"Special Projects",null,{"$f":"IF(O2229=\"Business Firm billable\",VLOOKUP(A2229,'Hourly rates'!$B$2:$E$40,4,FALSE),VLOOKUP(A2229,'Hourly rates'!$B$2:$E$40,2,FALSE))","v":12},12]
["Delgado, Manny","_BIZ:Admin SP","Intern",1099,null,1.25,"2015-10-06","2015-10-10","Tue",null,"NonBill","ZZ","Pending",null,"Special Projects",null,{"$f":"IF(O2230=\"Business Firm billable\",VLOOKUP(A2230,'Hourly rates'!$B$2:$E$40,4,FALSE),VLOOKUP(A2230,'Hourly rates'!$B$2:$E$40,2,FALSE))","v":12},15]
["Delgado, Manny","_BIZ:Admin SP","Intern",1099,null,1.25,"2015-10-07","2015-10-10","Wed",null,"NonBill","ZZ","Pending",null,"Special Projects",null,{"$f":"IF(O2231=\"Business Firm billable\",VLOOKUP(A2231,'Hourly rates'!$B$2:$E$40,4,FALSE),VLOOKUP(A2231,'Hourly rates'!$B$2:$E$40,2,FALSE))","v":12},15]
["Delgado, Manny","_BIZ:Admin SP","Intern",1099,null,1.25,"2015-10-09","2015-10-10","Fri",null,"NonBill","ZZ","Pending",null,"Special Projects",null,{"$f":"IF(O2232=\"Business Firm billable\",VLOOKUP(A2232,'Hourly rates'!$B$2:$E$40,4,FALSE),VLOOKUP(A2232,'Hourly rates'!$B$2:$E$40,2,FALSE))","v":12},15]
["Delgado, Manny","_BIZ:Admin SP","Intern",1099,null,1.25,"2015-10-10","2015-10-10","Sat",null,"NonBill","ZZ","Pending",null,"Special Projects",null,{"$f":"IF(O2233=\"Business Firm billable\",VLOOKUP(A2233,'Hourly rates'!$B$2:$E$40,4,FALSE),VLOOKUP(A2233,'Hourly rates'!$B$2:$E$40,2,FALSE))","v":12},15]
["Knope, Leslie","_BIZ:Admin SP","Intern",1099,null,3,"2015-10-07","2015-10-10","Wed",null,"NonBill","ZZ","Pending",null,"Special Projects",null,{"$f":"IF(O2234=\"Business Firm billable\",VLOOKUP(A2234,'Hourly rates'!$B$2:$E$40,4,FALSE),VLOOKUP(A2234,'Hourly rates'!$B$2:$E$40,2,FALSE))","v":12},36]
["Knope, Leslie","_BIZ:Admin SP","Intern",1099,null,3,"2015-10-08","2015-10-10","Thu",null,"NonBill","ZZ","Pending",null,"Special Projects",null,{"$f":"IF(O2235=\"Business Firm billable\",VLOOKUP(A2235,'Hourly rates'!$B$2:$E$40,4,FALSE),VLOOKUP(A2235,'Hourly rates'!$B$2:$E$40,2,FALSE))","v":12},36]
["Knope, Leslie","_BIZ:Admin SP","Intern",1099,null,1.25,"2015-10-09","2015-10-10","Fri",null,"NonBill","ZZ","Pending",null,"Special Projects",null,{"$f":"IF(O2236=\"Business Firm billable\",VLOOKUP(A2236,'Hourly rates'!$B$2:$E$40,4,FALSE),VLOOKUP(A2236,'Hourly rates'!$B$2:$E$40,2,FALSE))","v":12},15]
["Swanson, Ron","_BIZ:Admin SP","Intern",1099,null,1,"2015-10-05","2015-10-10","Mon",null,"NonBill","ZZ","Pending",null,"Special Projects",null,{"$f":"IF(O2237=\"Business Firm billable\",VLOOKUP(A2237,'Hourly rates'!$B$2:$E$40,4,FALSE),VLOOKUP(A2237,'Hourly rates'!$B$2:$E$40,2,FALSE))","v":12},12]
["Swanson, Ron","_BIZ:Admin SP","Intern",1099,null,1,"2015-10-07","2015-10-10","Wed",null,"NonBill","ZZ","Pending",null,"Special Projects",null,{"$f":"IF(O2238=\"Business Firm billable\",VLOOKUP(A2238,'Hourly rates'!$B$2:$E$40,4,FALSE),VLOOKUP(A2238,'Hourly rates'!$B$2:$E$40,2,FALSE))","v":12},12]
["Swanson, Ron","_BIZ:Admin SP","Intern",1099,null,1.25,"2015-10-08","2015-10-10","Thu",null,"NonBill","ZZ","Pending",null,"Special Projects",null,{"$f":"IF(O2239=\"Business Firm billable\",VLOOKUP(A2239,'Hourly rates'!$B$2:$E$40,4,FALSE),VLOOKUP(A2239,'Hourly rates'!$B$2:$E$40,2,FALSE))","v":12},15]
["Swanson, Ron","_BIZ:Admin SP","Intern",1099,null,3,"2015-10-09","2015-10-10","Fri",null,"NonBill","ZZ","Pending",null,"Special Projects",null,{"$f":"IF(O2240=\"Business Firm billable\",VLOOKUP(A2240,'Hourly rates'!$B$2:$E$40,4,FALSE),VLOOKUP(A2240,'Hourly rates'!$B$2:$E$40,2,FALSE))","v":12},36]
["Swanson, Ron","_BIZ:Admin SP","Intern",1099,null,1.25,"2015-10-10","2015-10-10","Sat",null,"NonBill","ZZ","Pending",null,"Special Projects",null,{"$f":"IF(O2241=\"Business Firm billable\",VLOOKUP(A2241,'Hourly rates'!$B$2:$E$40,4,FALSE),VLOOKUP(A2241,'Hourly rates'!$B$2:$E$40,2,FALSE))","v":12},15]
["Almeida, Tony","_BIZ:Admin SP","Intern",1099,null,2,"2015-10-04","2015-10-10","Sun",null,"NonBill","ZZ","Pending",null,"Special Projects",null,{"$f":"IF(O2242=\"Business Firm billable\",VLOOKUP(A2242,'Hourly rates'!$B$2:$E$40,4,FALSE),VLOOKUP(A2242,'Hourly rates'!$B$2:$E$40,2,FALSE))","v":12},{"$f":"Q2242*F2242","v":24},null,{"$f":"A2242&B2242&C2242&D2242&E2242&F2242&G2242&H2242&I2242&K2242&N2242&O2242","v":"Almeida, Tony_BIZ:Admin SPIntern109924228142287SunNonBillSpecial Projects"}," "]
["Almeida, Tony","_BIZ:Admin SP","Intern",1099,null,1.25,"2015-10-05","2015-10-10","Mon",null,"NonBill","ZZ","Pending",null,"Special Projects",null,{"$f":"IF(O2243=\"Business Firm billable\",VLOOKUP(A2243,'Hourly rates'!$B$2:$E$40,4,FALSE),VLOOKUP(A2243,'Hourly rates'!$B$2:$E$40,2,FALSE))","v":12},15,null,"Almeida, Tony_BIZ:Admin SPIntern10991.254228242287MonNonBillSpecial Projects"," "]
["Almeida, Tony","_BIZ:Admin SP","Intern",1099,null,1,"2015-10-06","2015-10-10","Tue",null,"NonBill","ZZ","Pending",null,"Special Projects",null,{"$f":"IF(O2244=\"Business Firm billable\",VLOOKUP(A2244,'Hourly rates'!$B$2:$E$40,4,FALSE),VLOOKUP(A2244,'Hourly rates'!$B$2:$E$40,2,FALSE))","v":12},12,null,"Almeida, Tony_BIZ:Admin SPIntern109914228342287TueNonBillSpecial Projects"," "]
["Almeida, Tony","_BIZ:Admin SP","Intern",1099,null,1.25,"2015-10-07","2015-10-10","Wed",null,"NonBill","ZZ","Pending",null,"Special Projects",null,{"$f":"IF(O2245=\"Business Firm billable\",VLOOKUP(A2245,'Hourly rates'!$B$2:$E$40,4,FALSE),VLOOKUP(A2245,'Hourly rates'!$B$2:$E$40,2,FALSE))","v":12},15,null,"Almeida, Tony_BIZ:Admin SPIntern10991.254228442287WedNonBillSpecial Projects"," "]
["Almeida, Tony","_BIZ:Admin SP","Intern",1099,null,1.25,"2015-10-08","2015-10-10","Thu",null,"NonBill","ZZ","Pending",null,"Special Projects",null,{"$f":"IF(O2246=\"Business Firm billable\",VLOOKUP(A2246,'Hourly rates'!$B$2:$E$40,4,FALSE),VLOOKUP(A2246,'Hourly rates'!$B$2:$E$40,2,FALSE))","v":12},15,null,"Almeida, Tony_BIZ:Admin SPIntern10991.254228542287ThuNonBillSpecial Projects"," "]
["Almeida, Tony","Some Client:Tech Acctg","Intern",1099,null,1.25,"2015-10-05","2015-10-10","Mon",null,"Admin 9%","ZZ","Pending",null,"Business Firm billable",null,{"$f":"IF(O2247=\"Business Firm billable\",VLOOKUP(A2247,'Hourly rates'!$B$2:$E$40,4,FALSE),VLOOKUP(A2247,'Hourly rates'!$B$2:$E$40,2,FALSE))","v":83},103.75,null,"Almeida, TonySome Client:Tech AcctgIntern10991.254228242287MonAdmin 9%Business Firm billable"," "]
["Almeida, Tony","Some Client:Tech Acctg","Intern",1099,null,1.25,"2015-10-09","2015-10-10","Fri",null,"Admin 9%","ZZ","Pending",null,"Business Firm billable",null,{"$f":"IF(O2248=\"Business Firm billable\",VLOOKUP(A2248,'Hourly rates'!$B$2:$E$40,4,FALSE),VLOOKUP(A2248,'Hourly rates'!$B$2:$E$40,2,FALSE))","v":83},103.75,null,"Almeida, TonySome Client:Tech AcctgIntern10991.254228642287FriAdmin 9%Business Firm billable"," "]
["Walker, Renee","_BIZ:Admin SP","Intern",1099,null,4,"2015-10-05","2015-10-10","Mon",null,"NonBill","ZZ","Pending",null,{"$f":"IF(B2249=$B$2014,\"Special Projects\",\"\")","v":"Special Projects"},null,{"$f":"IF(O2249=\"Business Firm billable\",VLOOKUP(A2249,'Hourly rates'!$B$2:$E$40,4,FALSE),VLOOKUP(A2249,'Hourly rates'!$B$2:$E$40,2,FALSE))","v":12},48]
["Walker, Renee","_BIZ:Admin SP","Intern",1099,null,3.25,"2015-10-06","2015-10-10","Tue",null,"NonBill","ZZ","Pending",null,"Special Projects",null,{"$f":"IF(O2250=\"Business Firm billable\",VLOOKUP(A2250,'Hourly rates'!$B$2:$E$40,4,FALSE),VLOOKUP(A2250,'Hourly rates'!$B$2:$E$40,2,FALSE))","v":12},39]
["Walker, Renee","_BIZ:Admin SP","Intern",1099,null,5,"2015-10-07","2015-10-10","Wed",null,"NonBill","ZZ","Pending",null,"Special Projects",null,{"$f":"IF(O2251=\"Business Firm billable\",VLOOKUP(A2251,'Hourly rates'!$B$2:$E$40,4,FALSE),VLOOKUP(A2251,'Hourly rates'!$B$2:$E$40,2,FALSE))","v":12},60]
["Walker, Renee","_BIZ:Admin SP","Intern",1099,null,4,"2015-10-08","2015-10-10","Thu",null,"NonBill","ZZ","Pending",null,"Special Projects",null,{"$f":"IF(O2252=\"Business Firm billable\",VLOOKUP(A2252,'Hourly rates'!$B$2:$E$40,4,FALSE),VLOOKUP(A2252,'Hourly rates'!$B$2:$E$40,2,FALSE))","v":12},48]
["Walker, Renee","_BIZ:Admin SP","Intern",1099,null,1.75,"2015-10-09","2015-10-10","Fri",null,"NonBill","ZZ","Pending",null,"Special Projects",null,{"$f":"IF(O2253=\"Business Firm billable\",VLOOKUP(A2253,'Hourly rates'!$B$2:$E$40,4,FALSE),VLOOKUP(A2253,'Hourly rates'!$B$2:$E$40,2,FALSE))","v":12},21]
["Pritchett, Jay","_BIZ:Admin SP","Intern",1099,null,1.25,"2015-10-05","2015-10-10","Mon",null,"NonBill","ZZ","Pending",null,"Special Projects",null,{"$f":"IF(O2254=\"Business Firm billable\",VLOOKUP(A2254,'Hourly rates'!$B$2:$E$40,4,FALSE),VLOOKUP(A2254,'Hourly rates'!$B$2:$E$40,2,FALSE))","v":12},15]
["Pritchett, Jay","_BIZ:Admin SP","Intern",1099,null,1.75,"2015-10-06","2015-10-10","Tue",null,"NonBill","ZZ","Pending",null,"Special Projects",null,{"$f":"IF(O2255=\"Business Firm billable\",VLOOKUP(A2255,'Hourly rates'!$B$2:$E$40,4,FALSE),VLOOKUP(A2255,'Hourly rates'!$B$2:$E$40,2,FALSE))","v":12},21]
["Pritchett, Jay","_BIZ:Admin SP","Intern",1099,null,1.75,"2015-10-07","2015-10-10","Wed",null,"NonBill","ZZ","Pending",null,"Special Projects",null,{"$f":"IF(O2256=\"Business Firm billable\",VLOOKUP(A2256,'Hourly rates'!$B$2:$E$40,4,FALSE),VLOOKUP(A2256,'Hourly rates'!$B$2:$E$40,2,FALSE))","v":12},21]
["Pritchett, Jay","_BIZ:Admin SP","Intern",1099,null,1.25,"2015-10-08","2015-10-10","Thu",null,"NonBill","ZZ","Pending",null,"Special Projects",null,{"$f":"IF(O2257=\"Business Firm billable\",VLOOKUP(A2257,'Hourly rates'!$B$2:$E$40,4,FALSE),VLOOKUP(A2257,'Hourly rates'!$B$2:$E$40,2,FALSE))","v":12},15]
["Pritchett, Jay","_BIZ:Admin SP","Intern",1099,null,1,"2015-10-09","2015-10-10","Fri",null,"NonBill","ZZ","Pending",null,"Special Projects",null,{"$f":"IF(O2258=\"Business Firm billable\",VLOOKUP(A2258,'Hourly rates'!$B$2:$E$40,4,FALSE),VLOOKUP(A2258,'Hourly rates'!$B$2:$E$40,2,FALSE))","v":12},12]
["Pritchett, Jay","_BIZ:Admin SP","Intern",1099,null,1.25,"2015-10-10","2015-10-10","Sat",null,"NonBill","ZZ","Pending",null,"Special Projects",null,{"$f":"IF(O2259=\"Business Firm billable\",VLOOKUP(A2259,'Hourly rates'!$B$2:$E$40,4,FALSE),VLOOKUP(A2259,'Hourly rates'!$B$2:$E$40,2,FALSE))","v":12},15]
["Delgado, Manny","_BIZ:Admin SP","Intern",1099,null,2,"2015-10-12","2015-10-17","Mon",null,"NonBill","ZZ","Pending",null,"Special Projects",null,{"$f":"IF(O2260=\"Business Firm billable\",VLOOKUP(A2260,'Hourly rates'!$B$2:$E$40,4,FALSE),VLOOKUP(A2260,'Hourly rates'!$B$2:$E$40,2,FALSE))","v":12},24]
["Delgado, Manny","_BIZ:Admin SP","Intern",1099,null,1,"2015-10-13","2015-10-17","Tue",null,"NonBill","ZZ","Pending",null,"Special Projects",null,{"$f":"IF(O2261=\"Business Firm billable\",VLOOKUP(A2261,'Hourly rates'!$B$2:$E$40,4,FALSE),VLOOKUP(A2261,'Hourly rates'!$B$2:$E$40,2,FALSE))","v":12},12]
["Delgado, Manny","_BIZ:Admin SP","Intern",1099,null,3,"2015-10-14","2015-10-17","Wed",null,"NonBill","ZZ","Pending",null,"Special Projects",null,{"$f":"IF(O2262=\"Business Firm billable\",VLOOKUP(A2262,'Hourly rates'!$B$2:$E$40,4,FALSE),VLOOKUP(A2262,'Hourly rates'!$B$2:$E$40,2,FALSE))","v":12},36]
["Delgado, Manny","_BIZ:Admin SP","Intern",1099,null,1,"2015-10-15","2015-10-17","Thu",null,"NonBill","ZZ","Pending",null,"Special Projects",null,{"$f":"IF(O2263=\"Business Firm billable\",VLOOKUP(A2263,'Hourly rates'!$B$2:$E$40,4,FALSE),VLOOKUP(A2263,'Hourly rates'!$B$2:$E$40,2,FALSE))","v":12},12]
["Swanson, Ron","_BIZ:Admin SP","Intern",1099,null,3,"2015-10-16","2015-10-17","Fri",null,"NonBill","ZZ","Pending",null,"Special Projects",null,{"$f":"IF(O2264=\"Business Firm billable\",VLOOKUP(A2264,'Hourly rates'!$B$2:$E$40,4,FALSE),VLOOKUP(A2264,'Hourly rates'!$B$2:$E$40,2,FALSE))","v":12},36]
["Swanson, Ron","_BIZ:Admin SP","Intern",1099,null,3,"2015-10-17","2015-10-17","Sat",null,"NonBill","ZZ","Pending",null,"Special Projects",null,{"$f":"IF(O2265=\"Business Firm billable\",VLOOKUP(A2265,'Hourly rates'!$B$2:$E$40,4,FALSE),VLOOKUP(A2265,'Hourly rates'!$B$2:$E$40,2,FALSE))","v":12},36]
["Almeida, Tony","_BIZ:Admin SP","Intern",1099,null,2,"2015-10-12","2015-10-17","Mon",null,"NonBill","ZZ","Pending",null,"Special Projects",null,{"$f":"IF(O2266=\"Business Firm billable\",VLOOKUP(A2266,'Hourly rates'!$B$2:$E$40,4,FALSE),VLOOKUP(A2266,'Hourly rates'!$B$2:$E$40,2,FALSE))","v":12},24,null,{"$f":"A2266&B2266&C2266&D2266&E2266&F2266&G2266&H2266&I2266&K2266&N2266&O2266","v":"Almeida, Tony_BIZ:Admin SPIntern109924228942294MonNonBillSpecial Projects"}," "]
["Almeida, Tony","_BIZ:Admin SP","Intern",1099,null,1,"2015-10-16","2015-10-17","Fri",null,"NonBill","ZZ","Pending",null,"Special Projects",null,{"$f":"IF(O2267=\"Business Firm billable\",VLOOKUP(A2267,'Hourly rates'!$B$2:$E$40,4,FALSE),VLOOKUP(A2267,'Hourly rates'!$B$2:$E$40,2,FALSE))","v":12},12,null,{"$f":"A2267&B2267&C2267&D2267&E2267&F2267&G2267&H2267&I2267&K2267&N2267&O2267","v":"Almeida, Tony_BIZ:Admin SPIntern109914229342294FriNonBillSpecial Projects"}," "]
["Walker, Renee","_BIZ:Admin SP","Intern",1099,null,1.25,"2015-10-12","2015-10-17","Mon",null,"NonBill","ZZ","Pending",null,"Special Projects",null,{"$f":"IF(O2268=\"Business Firm billable\",VLOOKUP(A2268,'Hourly rates'!$B$2:$E$40,4,FALSE),VLOOKUP(A2268,'Hourly rates'!$B$2:$E$40,2,FALSE))","v":12},15]
["Walker, Renee","_BIZ:Admin SP","Intern",1099,null,4,"2015-10-13","2015-10-17","Tue",null,"NonBill","ZZ","Pending",null,"Special Projects",null,{"$f":"IF(O2269=\"Business Firm billable\",VLOOKUP(A2269,'Hourly rates'!$B$2:$E$40,4,FALSE),VLOOKUP(A2269,'Hourly rates'!$B$2:$E$40,2,FALSE))","v":12},48]
["Walker, Renee","_BIZ:Admin SP","Intern",1099,null,2,"2015-10-14","2015-10-17","Wed",null,"NonBill","ZZ","Pending",null,"Special Projects",null,{"$f":"IF(O2270=\"Business Firm billable\",VLOOKUP(A2270,'Hourly rates'!$B$2:$E$40,4,FALSE),VLOOKUP(A2270,'Hourly rates'!$B$2:$E$40,2,FALSE))","v":12},24]
["Walker, Renee","_BIZ:Admin SP","Intern",1099,null,1.25,"2015-10-15","2015-10-17","Thu",null,"NonBill","ZZ","Pending",null,"Special Projects",null,{"$f":"IF(O2271=\"Business Firm billable\",VLOOKUP(A2271,'Hourly rates'!$B$2:$E$40,4,FALSE),VLOOKUP(A2271,'Hourly rates'!$B$2:$E$40,2,FALSE))","v":12},15]
["Walker, Renee","_BIZ:Admin SP","Intern",1099,null,2,"2015-10-16","2015-10-17","Fri",null,"NonBill","ZZ","Pending",null,"Special Projects",null,{"$f":"IF(O2272=\"Business Firm billable\",VLOOKUP(A2272,'Hourly rates'!$B$2:$E$40,4,FALSE),VLOOKUP(A2272,'Hourly rates'!$B$2:$E$40,2,FALSE))","v":12},24]
["Pritchett, Jay","_BIZ:Admin SP","Intern",1099,null,1.25,"2015-10-13","2015-10-17","Tue",null,"NonBill","ZZ","Pending",null,"Special Projects",null,{"$f":"IF(O2273=\"Business Firm billable\",VLOOKUP(A2273,'Hourly rates'!$B$2:$E$40,4,FALSE),VLOOKUP(A2273,'Hourly rates'!$B$2:$E$40,2,FALSE))","v":12},15]
["Pritchett, Jay","_BIZ:Admin SP","Intern",1099,null,1.75,"2015-10-14","2015-10-17","Wed",null,"NonBill","ZZ","Pending",null,"Special Projects",null,{"$f":"IF(O2274=\"Business Firm billable\",VLOOKUP(A2274,'Hourly rates'!$B$2:$E$40,4,FALSE),VLOOKUP(A2274,'Hourly rates'!$B$2:$E$40,2,FALSE))","v":12},21]
["Pritchett, Jay","_BIZ:Admin SP","Intern",1099,null,1.25,"2015-10-15","2015-10-17","Thu",null,"NonBill","ZZ","Pending",null,"Special Projects",null,{"$f":"IF(O2275=\"Business Firm billable\",VLOOKUP(A2275,'Hourly rates'!$B$2:$E$40,4,FALSE),VLOOKUP(A2275,'Hourly rates'!$B$2:$E$40,2,FALSE))","v":12},15]
["Delgado, Manny","_BIZ:Admin SP","Intern",1099,null,2,"2015-10-19","2015-10-24","Mon",null,"NonBill","ZZ","2015-11-05",null,"Special Projects",null,{"$f":"IF(O2276=\"Business Firm billable\",VLOOKUP(A2276,'Hourly rates'!$B$2:$E$40,4,FALSE),VLOOKUP(A2276,'Hourly rates'!$B$2:$E$40,2,FALSE))","v":12},24,null,{"$f":"A2276&B2276&C2276&D2276&E2276&F2276&G2276&H2276&I2276&K2276&N2276&O2276","v":"Delgado, Manny_BIZ:Admin SPIntern109924229642301MonNonBillSpecial Projects"}," "]
["Delgado, Manny","_BIZ:Admin SP","Intern",1099,null,2.25,"2015-10-21","2015-10-24","Wed",null,"NonBill","ZZ","2015-11-05",null,"Special Projects",null,{"$f":"IF(O2277=\"Business Firm billable\",VLOOKUP(A2277,'Hourly rates'!$B$2:$E$40,4,FALSE),VLOOKUP(A2277,'Hourly rates'!$B$2:$E$40,2,FALSE))","v":12},27,null,"Delgado, Manny_BIZ:Admin SPIntern10992.254229842301WedNonBillSpecial Projects"," "]
["Delgado, Manny","_BIZ:Admin SP","Intern",1099,null,1.75,"2015-10-22","2015-10-24","Thu",null,"NonBill","ZZ","2015-11-05",null,"Special Projects",null,{"$f":"IF(O2278=\"Business Firm billable\",VLOOKUP(A2278,'Hourly rates'!$B$2:$E$40,4,FALSE),VLOOKUP(A2278,'Hourly rates'!$B$2:$E$40,2,FALSE))","v":12},21,null,"Delgado, Manny_BIZ:Admin SPIntern10991.754229942301ThuNonBillSpecial Projects"," "]
["Delgado, Manny","_BIZ:Admin SP","Intern",1099,null,2,"2015-10-23","2015-10-24","Fri",null,"NonBill","ZZ","2015-11-05",null,"Special Projects",null,{"$f":"IF(O2279=\"Business Firm billable\",VLOOKUP(A2279,'Hourly rates'!$B$2:$E$40,4,FALSE),VLOOKUP(A2279,'Hourly rates'!$B$2:$E$40,2,FALSE))","v":12},24,null,"Delgado, Manny_BIZ:Admin SPIntern109924230042301FriNonBillSpecial Projects"," "]
["Delgado, Manny","_BIZ:Admin SP","Intern",1099,null,1.25,"2015-10-26","2015-10-31","Mon",null,"NonBill","ZZ","2015-11-05",null,"Special Projects",null,{"$f":"IF(O2280=\"Business Firm billable\",VLOOKUP(A2280,'Hourly rates'!$B$2:$E$40,4,FALSE),VLOOKUP(A2280,'Hourly rates'!$B$2:$E$40,2,FALSE))","v":12},15,null,"Delgado, Manny_BIZ:Admin SPIntern10991.254230342308MonNonBillSpecial Projects"," "]
["Delgado, Manny","_BIZ:Admin SP","Intern",1099,null,2,"2015-10-27","2015-10-31","Tue",null,"NonBill","ZZ","2015-11-05",null,{"$f":"IF(B2281=$B$2014,\"Special Projects\",\"\")","v":"Special Projects"},null,{"$f":"IF(O2281=\"Business Firm billable\",VLOOKUP(A2281,'Hourly rates'!$B$2:$E$40,4,FALSE),VLOOKUP(A2281,'Hourly rates'!$B$2:$E$40,2,FALSE))","v":12},24,null,"Delgado, Manny_BIZ:Admin SPIntern109924230442308TueNonBillSpecial Projects"," "]
["Delgado, Manny","_BIZ:Admin SP","Intern",1099,null,1.25,"2015-10-28","2015-10-31","Wed",null,"NonBill","ZZ","2015-11-05",null,"Special Projects",null,{"$f":"IF(O2282=\"Business Firm billable\",VLOOKUP(A2282,'Hourly rates'!$B$2:$E$40,4,FALSE),VLOOKUP(A2282,'Hourly rates'!$B$2:$E$40,2,FALSE))","v":12},15,null,"Delgado, Manny_BIZ:Admin SPIntern10991.254230542308WedNonBillSpecial Projects"," "]
["Delgado, Manny","_BIZ:Admin SP","Intern",1099,null,1.25,"2015-10-29","2015-10-31","Thu",null,"NonBill","ZZ","2015-11-05",null,"Special Projects",null,{"$f":"IF(O2283=\"Business Firm billable\",VLOOKUP(A2283,'Hourly rates'!$B$2:$E$40,4,FALSE),VLOOKUP(A2283,'Hourly rates'!$B$2:$E$40,2,FALSE))","v":12},15,null,"Delgado, Manny_BIZ:Admin SPIntern10991.254230642308ThuNonBillSpecial Projects"," "]
["Delgado, Manny","_BIZ:Admin SP","Intern",1099,null,2,"2015-10-30","2015-10-31","Fri",null,"NonBill","ZZ","2015-11-05",null,"Special Projects",null,{"$f":"IF(O2284=\"Business Firm billable\",VLOOKUP(A2284,'Hourly rates'!$B$2:$E$40,4,FALSE),VLOOKUP(A2284,'Hourly rates'!$B$2:$E$40,2,FALSE))","v":12},24,null,"Delgado, Manny_BIZ:Admin SPIntern109924230742308FriNonBillSpecial Projects"," "]
["Delgado, Manny","_BIZ:Admin SP","Intern",1099,null,1.25,"2015-11-02","2015-11-07","Mon",null,"NonBill","ZZ","2015-11-13",null,"Special Projects",null,{"$f":"IF(O2285=\"Business Firm billable\",VLOOKUP(A2285,'Hourly rates'!$B$2:$E$40,4,FALSE),VLOOKUP(A2285,'Hourly rates'!$B$2:$E$40,2,FALSE))","v":12},15,null,"Delgado, Manny_BIZ:Admin SPIntern10991.254231042315MonNonBillSpecial Projects"," "]
["Delgado, Manny","_BIZ:Admin SP","Intern",1099,null,1.25,"2015-11-03","2015-11-07","Tue",null,"NonBill","ZZ","2015-11-13",null,"Special Projects",null,{"$f":"IF(O2286=\"Business Firm billable\",VLOOKUP(A2286,'Hourly rates'!$B$2:$E$40,4,FALSE),VLOOKUP(A2286,'Hourly rates'!$B$2:$E$40,2,FALSE))","v":12},15,null,"Delgado, Manny_BIZ:Admin SPIntern10991.254231142315TueNonBillSpecial Projects"," "]
["Delgado, Manny","_BIZ:Admin SP","Intern",1099,null,1.25,"2015-11-04","2015-11-07","Wed",null,"NonBill","ZZ","2015-11-13",null,"Special Projects",null,{"$f":"IF(O2287=\"Business Firm billable\",VLOOKUP(A2287,'Hourly rates'!$B$2:$E$40,4,FALSE),VLOOKUP(A2287,'Hourly rates'!$B$2:$E$40,2,FALSE))","v":12},15,null,"Delgado, Manny_BIZ:Admin SPIntern10991.254231242315WedNonBillSpecial Projects"," "]
["Delgado, Manny","_BIZ:Admin SP","Intern",1099,null,3,"2015-11-05","2015-11-07","Thu",null,"NonBill","ZZ","2015-11-13",null,"Special Projects",null,{"$f":"IF(O2288=\"Business Firm billable\",VLOOKUP(A2288,'Hourly rates'!$B$2:$E$40,4,FALSE),VLOOKUP(A2288,'Hourly rates'!$B$2:$E$40,2,FALSE))","v":12},36,null,"Delgado, Manny_BIZ:Admin SPIntern109934231342315ThuNonBillSpecial Projects"," "]
["Delgado, Manny","_BIZ:Admin SP","Intern",1099,null,3,"2015-11-06","2015-11-07","Fri",null,"NonBill","ZZ","2015-11-13",null,"Special Projects",null,{"$f":"IF(O2289=\"Business Firm billable\",VLOOKUP(A2289,'Hourly rates'!$B$2:$E$40,4,FALSE),VLOOKUP(A2289,'Hourly rates'!$B$2:$E$40,2,FALSE))","v":12},36,null,"Delgado, Manny_BIZ:Admin SPIntern109934231442315FriNonBillSpecial Projects"," "]
["Delgado, Manny","_BIZ:Admin SP","Intern",1099,null,2,"2015-11-09","2015-11-14","Mon",null,"NonBill","ZZ","2015-12-01",null,"Special Projects",null,{"$f":"IF(O2290=\"Business Firm billable\",VLOOKUP(A2290,'Hourly rates'!$B$2:$E$40,4,FALSE),VLOOKUP(A2290,'Hourly rates'!$B$2:$E$40,2,FALSE))","v":12},24,null,"Delgado, Manny_BIZ:Admin SPIntern109924231742322MonNonBillSpecial Projects"," "]
["Delgado, Manny","_BIZ:Admin SP","Intern",1099,null,2,"2015-11-10","2015-11-14","Tue",null,"NonBill","ZZ","2015-12-01",null,"Special Projects",null,{"$f":"IF(O2291=\"Business Firm billable\",VLOOKUP(A2291,'Hourly rates'!$B$2:$E$40,4,FALSE),VLOOKUP(A2291,'Hourly rates'!$B$2:$E$40,2,FALSE))","v":12},24,null,"Delgado, Manny_BIZ:Admin SPIntern109924231842322TueNonBillSpecial Projects"," "]
["Delgado, Manny","_BIZ:Admin SP","Intern",1099,null,2,"2015-11-11","2015-11-14","Wed",null,"NonBill","ZZ","2015-12-01",null,"Special Projects",null,{"$f":"IF(O2292=\"Business Firm billable\",VLOOKUP(A2292,'Hourly rates'!$B$2:$E$40,4,FALSE),VLOOKUP(A2292,'Hourly rates'!$B$2:$E$40,2,FALSE))","v":12},24,null,"Delgado, Manny_BIZ:Admin SPIntern109924231942322WedNonBillSpecial Projects"," "]
["Delgado, Manny","_BIZ:Admin SP","Intern",1099,null,2,"2015-11-12","2015-11-14","Thu",null,"NonBill","ZZ","2015-12-01",null,"Special Projects",null,{"$f":"IF(O2293=\"Business Firm billable\",VLOOKUP(A2293,'Hourly rates'!$B$2:$E$40,4,FALSE),VLOOKUP(A2293,'Hourly rates'!$B$2:$E$40,2,FALSE))","v":12},24,null,"Delgado, Manny_BIZ:Admin SPIntern109924232042322ThuNonBillSpecial Projects"," "]
["Delgado, Manny","_BIZ:Admin SP","Intern",1099,null,2,"2015-11-13","2015-11-14","Fri",null,"NonBill","ZZ","2015-12-01",null,"Special Projects",null,{"$f":"IF(O2294=\"Business Firm billable\",VLOOKUP(A2294,'Hourly rates'!$B$2:$E$40,4,FALSE),VLOOKUP(A2294,'Hourly rates'!$B$2:$E$40,2,FALSE))","v":12},24,null,"Delgado, Manny_BIZ:Admin SPIntern109924232142322FriNonBillSpecial Projects"," "]
["Delgado, Manny","_BIZ:Admin SP","Intern",1099,null,2,"2015-12-02","2015-12-05","Wed",null,"NonBill","ZZ","Pending",null,"Special Projects",null,{"$f":"IF(O2295=\"Business Firm billable\",VLOOKUP(A2295,'Hourly rates'!$B$2:$E$40,4,FALSE),VLOOKUP(A2295,'Hourly rates'!$B$2:$E$40,2,FALSE))","v":12},24,null,"Delgado, Manny_BIZ:Admin SPIntern109924234042343WedNonBillSpecial Projects"," "]
["Delgado, Manny","_BIZ:Admin SP","Intern",1099,null,1.75,"2015-12-03","2015-12-05","Thu",null,"NonBill","ZZ","Pending",null,"Special Projects",null,{"$f":"IF(O2296=\"Business Firm billable\",VLOOKUP(A2296,'Hourly rates'!$B$2:$E$40,4,FALSE),VLOOKUP(A2296,'Hourly rates'!$B$2:$E$40,2,FALSE))","v":12},21,null,"Delgado, Manny_BIZ:Admin SPIntern10991.754234142343ThuNonBillSpecial Projects"," "]
["Delgado, Manny","_BIZ:Admin SP","Intern",1099,null,1.25,"2015-12-04","2015-12-05","Fri",null,"NonBill","ZZ","Pending",null,"Special Projects",null,{"$f":"IF(O2297=\"Business Firm billable\",VLOOKUP(A2297,'Hourly rates'!$B$2:$E$40,4,FALSE),VLOOKUP(A2297,'Hourly rates'!$B$2:$E$40,2,FALSE))","v":12},15,null,"Delgado, Manny_BIZ:Admin SPIntern10991.254234242343FriNonBillSpecial Projects"," "]
["Delgado, Manny","_BIZ:Admin SP","Intern",1099,null,1,"2015-12-05","2015-12-05","Sat",null,"NonBill","ZZ","Pending",null,"Special Projects",null,{"$f":"IF(O2298=\"Business Firm billable\",VLOOKUP(A2298,'Hourly rates'!$B$2:$E$40,4,FALSE),VLOOKUP(A2298,'Hourly rates'!$B$2:$E$40,2,FALSE))","v":12},12,null,"Delgado, Manny_BIZ:Admin SPIntern109914234342343SatNonBillSpecial Projects"," "]
["Knope, Leslie","_BIZ:Admin SP","Intern",1099,null,1.25,"2015-10-22","2015-10-24","Thu",null,"NonBill","ZZ","2015-11-09",null,"Special Projects",null,{"$f":"IF(O2299=\"Business Firm billable\",VLOOKUP(A2299,'Hourly rates'!$B$2:$E$40,4,FALSE),VLOOKUP(A2299,'Hourly rates'!$B$2:$E$40,2,FALSE))","v":12},15,null,"Knope, Leslie_BIZ:Admin SPIntern10991.254229942301ThuNonBillSpecial Projects"," "]
["Knope, Leslie","_BIZ:Admin SP","Intern",1099,null,1,"2015-10-23","2015-10-24","Fri",null,"NonBill","ZZ","2015-11-09",null,"Special Projects",null,{"$f":"IF(O2300=\"Business Firm billable\",VLOOKUP(A2300,'Hourly rates'!$B$2:$E$40,4,FALSE),VLOOKUP(A2300,'Hourly rates'!$B$2:$E$40,2,FALSE))","v":12},12,null,"Knope, Leslie_BIZ:Admin SPIntern109914230042301FriNonBillSpecial Projects"," "]
["Knope, Leslie","_BIZ:Admin SP","Intern",1099,null,3,"2015-10-28","2015-10-31","Wed",null,"NonBill","ZZ","2015-11-09",null,"Special Projects",null,{"$f":"IF(O2301=\"Business Firm billable\",VLOOKUP(A2301,'Hourly rates'!$B$2:$E$40,4,FALSE),VLOOKUP(A2301,'Hourly rates'!$B$2:$E$40,2,FALSE))","v":12},36,null,"Knope, Leslie_BIZ:Admin SPIntern109934230542308WedNonBillSpecial Projects"," "]
["Knope, Leslie","_BIZ:Admin SP","Intern",1099,null,1.25,"2015-10-29","2015-10-31","Thu",null,"NonBill","ZZ","2015-11-09",null,"Special Projects",null,{"$f":"IF(O2302=\"Business Firm billable\",VLOOKUP(A2302,'Hourly rates'!$B$2:$E$40,4,FALSE),VLOOKUP(A2302,'Hourly rates'!$B$2:$E$40,2,FALSE))","v":12},15,null,"Knope, Leslie_BIZ:Admin SPIntern10991.254230642308ThuNonBillSpecial Projects"," "]
["Knope, Leslie","_BIZ:Admin SP","Intern",1099,null,4,"2015-10-30","2015-10-31","Fri",null,"NonBill","ZZ","2015-11-09",null,"Special Projects",null,{"$f":"IF(O2303=\"Business Firm billable\",VLOOKUP(A2303,'Hourly rates'!$B$2:$E$40,4,FALSE),VLOOKUP(A2303,'Hourly rates'!$B$2:$E$40,2,FALSE))","v":12},48,null,"Knope, Leslie_BIZ:Admin SPIntern109944230742308FriNonBillSpecial Projects"," "]
["Dessler, Michelle","_BIZ:Admin SP","Internal",1099,null,1.75,"2015-11-11","2015-11-14","Wed",null,"NonBill","BIZ","2015-12-02",null,"Special Projects",null,13.25,23.1875,null,"Dessler, Michelle_BIZ:Admin SPInternal10991.754231942322WedNonBillSpecial Projects"," "]
["Dessler, Michelle","_BIZ:Admin SP","Internal",1099,null,1,"2015-11-12","2015-11-14","Thu",null,"NonBill","BIZ","2015-12-02",null,"Special Projects",null,13.25,13.25,null,"Dessler, Michelle_BIZ:Admin SPInternal109914232042322ThuNonBillSpecial Projects"," "]
["Dessler, Michelle","_BIZ:Admin SP","Internal",1099,null,1.75,"2015-11-23","2015-11-28","Mon",null,"NonBill","BIZ","2015-12-02",null,"Special Projects",null,13.25,{"$f":"Q2306*F2306","v":23.1875},null,"Dessler, Michelle_BIZ:Admin SPInternal10991.754233142336MonNonBillSpecial Projects"," "]
["Swanson, Ron","_BIZ:Admin SP","Intern",1099,null,3,"2015-10-17","2015-10-17","Sat",null,"NonBill","ZZ","2015-11-05",null,"Special Projects",null,{"$f":"IF(O2307=\"Business Firm billable\",VLOOKUP(A2307,'Hourly rates'!$B$2:$E$40,4,FALSE),VLOOKUP(A2307,'Hourly rates'!$B$2:$E$40,2,FALSE))","v":12},36,null,"Swanson, Ron_BIZ:Admin SPIntern109934229442294SatNonBillSpecial Projects"," "]
["Swanson, Ron","_BIZ:Admin SP","Intern",1099,null,3,"2015-10-29","2015-10-31","Thu",null,"NonBill","ZZ","2015-11-13",null,"Special Projects",null,{"$f":"IF(O2308=\"Business Firm billable\",VLOOKUP(A2308,'Hourly rates'!$B$2:$E$40,4,FALSE),VLOOKUP(A2308,'Hourly rates'!$B$2:$E$40,2,FALSE))","v":12},36,null,{"$f":"A2308&B2308&C2308&D2308&E2308&F2308&G2308&H2308&I2308&K2308&N2308&O2308","v":"Swanson, Ron_BIZ:Admin SPIntern109934230642308ThuNonBillSpecial Projects"}," "]
["Swanson, Ron","_BIZ:Admin SP","Intern",1099,null,2,"2015-10-30","2015-10-31","Fri",null,"NonBill","ZZ","2015-11-13",null,"Special Projects",null,{"$f":"IF(O2309=\"Business Firm billable\",VLOOKUP(A2309,'Hourly rates'!$B$2:$E$40,4,FALSE),VLOOKUP(A2309,'Hourly rates'!$B$2:$E$40,2,FALSE))","v":12},24,null,"Swanson, Ron_BIZ:Admin SPIntern109924230742308FriNonBillSpecial Projects"," "]
["Swanson, Ron","_BIZ:Admin SP","Intern",1099,null,1,"2015-11-02","2015-11-07","Mon",null,"NonBill","ZZ","2015-11-13",null,"Special Projects",null,{"$f":"IF(O2310=\"Business Firm billable\",VLOOKUP(A2310,'Hourly rates'!$B$2:$E$40,4,FALSE),VLOOKUP(A2310,'Hourly rates'!$B$2:$E$40,2,FALSE))","v":12},12,null,"Swanson, Ron_BIZ:Admin SPIntern109914231042315MonNonBillSpecial Projects"," "]
["Swanson, Ron","_BIZ:Admin SP","Intern",1099,null,4,"2015-11-05","2015-11-07","Thu",null,"NonBill","ZZ","2015-11-13",null,"Special Projects",null,{"$f":"IF(O2311=\"Business Firm billable\",VLOOKUP(A2311,'Hourly rates'!$B$2:$E$40,4,FALSE),VLOOKUP(A2311,'Hourly rates'!$B$2:$E$40,2,FALSE))","v":12},48,null,"Swanson, Ron_BIZ:Admin SPIntern109944231342315ThuNonBillSpecial Projects"," "]
["Swanson, Ron","_BIZ:Admin SP","Intern",1099,null,1,"2015-11-06","2015-11-07","Fri",null,"NonBill","ZZ","2015-11-13",null,"Special Projects",null,{"$f":"IF(O2312=\"Business Firm billable\",VLOOKUP(A2312,'Hourly rates'!$B$2:$E$40,4,FALSE),VLOOKUP(A2312,'Hourly rates'!$B$2:$E$40,2,FALSE))","v":12},12,null,"Swanson, Ron_BIZ:Admin SPIntern109914231442315FriNonBillSpecial Projects"," "]
["Swanson, Ron","_BIZ:Admin SP","Intern",1099,null,2,"2015-11-11","2015-11-14","Wed",null,"NonBill","ZZ","Pending",null,{"$f":"IF(B2313=$B$2014,\"Special Projects\",\"\")","v":"Special Projects"},null,{"$f":"IF(O2313=\"Business Firm billable\",VLOOKUP(A2313,'Hourly rates'!$B$2:$E$40,4,FALSE),VLOOKUP(A2313,'Hourly rates'!$B$2:$E$40,2,FALSE))","v":12},24,null,"Swanson, Ron_BIZ:Admin SPIntern109924231942322WedNonBillSpecial Projects"," "]
["Swanson, Ron","_BIZ:Admin SP","Intern",1099,null,4,"2015-11-12","2015-11-14","Thu",null,"NonBill","ZZ","Pending",null,"Special Projects",null,{"$f":"IF(O2314=\"Business Firm billable\",VLOOKUP(A2314,'Hourly rates'!$B$2:$E$40,4,FALSE),VLOOKUP(A2314,'Hourly rates'!$B$2:$E$40,2,FALSE))","v":12},48,null,"Swanson, Ron_BIZ:Admin SPIntern109944232042322ThuNonBillSpecial Projects"," "]
["Swanson, Ron","_BIZ:Admin SP","Intern",1099,null,2,"2015-11-13","2015-11-14","Fri",null,"NonBill","ZZ","Pending",null,"Special Projects",null,{"$f":"IF(O2315=\"Business Firm billable\",VLOOKUP(A2315,'Hourly rates'!$B$2:$E$40,4,FALSE),VLOOKUP(A2315,'Hourly rates'!$B$2:$E$40,2,FALSE))","v":12},24,null,"Swanson, Ron_BIZ:Admin SPIntern109924232142322FriNonBillSpecial Projects"," "]
["Swanson, Ron","_BIZ:Admin SP","Intern",1099,null,1.25,"2015-11-18","2015-11-21","Wed",null,"NonBill","ZZ","Pending",null,"Special Projects",null,{"$f":"IF(O2316=\"Business Firm billable\",VLOOKUP(A2316,'Hourly rates'!$B$2:$E$40,4,FALSE),VLOOKUP(A2316,'Hourly rates'!$B$2:$E$40,2,FALSE))","v":12},15,null,"Swanson, Ron_BIZ:Admin SPIntern10991.254232642329WedNonBillSpecial Projects"," "]
["Swanson, Ron","_BIZ:Admin SP","Intern",1099,null,5,"2015-12-04","2015-12-05","Fri",null,"NonBill","ZZ","Pending",null,"Special Projects",null,{"$f":"IF(O2317=\"Business Firm billable\",VLOOKUP(A2317,'Hourly rates'!$B$2:$E$40,4,FALSE),VLOOKUP(A2317,'Hourly rates'!$B$2:$E$40,2,FALSE))","v":12},60,null,"Swanson, Ron_BIZ:Admin SPIntern109954234242343FriNonBillSpecial Projects"," "]
["Almeida, Tony","_BIZ:Admin SP","Intern",1099,null,1.25,"2015-10-20","2015-10-24","Tue",null,"NonBill","ZZ","2015-11-05",null,"Special Projects",null,{"$f":"IF(O2318=\"Business Firm billable\",VLOOKUP(A2318,'Hourly rates'!$B$2:$E$40,4,FALSE),VLOOKUP(A2318,'Hourly rates'!$B$2:$E$40,2,FALSE))","v":12},15,null,"Almeida, Tony_BIZ:Admin SPIntern10991.254229742301TueNonBillSpecial Projects"," "]
["Almeida, Tony","_BIZ:Admin SP","Intern",1099,null,1.25,"2015-10-21","2015-10-24","Wed",null,"NonBill","ZZ","2015-11-05",null,"Special Projects",null,{"$f":"IF(O2319=\"Business Firm billable\",VLOOKUP(A2319,'Hourly rates'!$B$2:$E$40,4,FALSE),VLOOKUP(A2319,'Hourly rates'!$B$2:$E$40,2,FALSE))","v":12},15,null,"Almeida, Tony_BIZ:Admin SPIntern10991.254229842301WedNonBillSpecial Projects"," "]
["Almeida, Tony","_BIZ:Admin SP","Intern",1099,null,1.25,"2015-10-22","2015-10-24","Thu",null,"NonBill","ZZ","2015-11-05",null,"Special Projects",null,{"$f":"IF(O2320=\"Business Firm billable\",VLOOKUP(A2320,'Hourly rates'!$B$2:$E$40,4,FALSE),VLOOKUP(A2320,'Hourly rates'!$B$2:$E$40,2,FALSE))","v":12},15,null,"Almeida, Tony_BIZ:Admin SPIntern10991.254229942301ThuNonBillSpecial Projects"," "]
["Almeida, Tony","_BIZ:Admin SP","Intern",1099,null,1,"2015-10-23","2015-10-24","Fri",null,"NonBill","ZZ","2015-11-05",null,"Special Projects",null,{"$f":"IF(O2321=\"Business Firm billable\",VLOOKUP(A2321,'Hourly rates'!$B$2:$E$40,4,FALSE),VLOOKUP(A2321,'Hourly rates'!$B$2:$E$40,2,FALSE))","v":12},12,null,"Almeida, Tony_BIZ:Admin SPIntern109914230042301FriNonBillSpecial Projects"," "]
["Almeida, Tony","_BIZ:Administrative","Intern",1099,null,3.25,"2015-10-26","2015-10-31","Mon",null,"NonBill","ZZ","2015-11-05",null,"Finance",null,{"$f":"IF(O2322=\"Business Firm billable\",VLOOKUP(A2322,'Hourly rates'!$B$2:$E$40,4,FALSE),VLOOKUP(A2322,'Hourly rates'!$B$2:$E$40,2,FALSE))","v":12},39,null,"Almeida, Tony_BIZ:AdministrativeIntern10993.254230342308MonNonBillFinance"," "]
["Almeida, Tony","_BIZ:Administrative","Intern",1099,null,7,"2015-10-27","2015-10-31","Tue",null,"NonBill","ZZ","2015-11-05",null,"Finance",null,{"$f":"IF(O2323=\"Business Firm billable\",VLOOKUP(A2323,'Hourly rates'!$B$2:$E$40,4,FALSE),VLOOKUP(A2323,'Hourly rates'!$B$2:$E$40,2,FALSE))","v":12},84,null,"Almeida, Tony_BIZ:AdministrativeIntern109974230442308TueNonBillFinance"," "]
["Almeida, Tony","_BIZ:Administrative","Intern",1099,null,6,"2015-10-28","2015-10-31","Wed",null,"NonBill","ZZ","2015-11-05",null,"Finance",null,{"$f":"IF(O2324=\"Business Firm billable\",VLOOKUP(A2324,'Hourly rates'!$B$2:$E$40,4,FALSE),VLOOKUP(A2324,'Hourly rates'!$B$2:$E$40,2,FALSE))","v":12},72,null,"Almeida, Tony_BIZ:AdministrativeIntern109964230542308WedNonBillFinance"," "]
["Almeida, Tony","_BIZ:Administrative","Intern",1099,null,3.25,"2015-10-29","2015-10-31","Thu",null,"NonBill","ZZ","2015-11-05",null,"Finance",null,{"$f":"IF(O2325=\"Business Firm billable\",VLOOKUP(A2325,'Hourly rates'!$B$2:$E$40,4,FALSE),VLOOKUP(A2325,'Hourly rates'!$B$2:$E$40,2,FALSE))","v":12},39,null,"Almeida, Tony_BIZ:AdministrativeIntern10993.254230642308ThuNonBillFinance"," "]
["Almeida, Tony","_BIZ:Administrative","Intern",1099,null,5,"2015-10-30","2015-10-31","Fri",null,"NonBill","ZZ","2015-11-05",null,"Finance",null,{"$f":"IF(O2326=\"Business Firm billable\",VLOOKUP(A2326,'Hourly rates'!$B$2:$E$40,4,FALSE),VLOOKUP(A2326,'Hourly rates'!$B$2:$E$40,2,FALSE))","v":12},60,null,"Almeida, Tony_BIZ:AdministrativeIntern109954230742308FriNonBillFinance"," "]
["Almeida, Tony","_BIZ:Admin SP","Intern",1099,null,1.25,"2015-11-02","2015-11-07","Mon",null,"NonBill","ZZ","2015-11-13",null,{"$f":"IF(B2327=$B$2014,\"Special Projects\",\"\")","v":"Special Projects"},null,{"$f":"IF(O2327=\"Business Firm billable\",VLOOKUP(A2327,'Hourly rates'!$B$2:$E$40,4,FALSE),VLOOKUP(A2327,'Hourly rates'!$B$2:$E$40,2,FALSE))","v":12},15,null,"Almeida, Tony_BIZ:Admin SPIntern10991.254231042315MonNonBillSpecial Projects"," "]
["Almeida, Tony","_BIZ:Admin SP","Intern",1099,null,1.25,"2015-11-06","2015-11-07","Fri",null,"NonBill","ZZ","2015-11-13",null,{"$f":"IF(B2328=$B$2014,\"Special Projects\",\"\")","v":"Special Projects"},null,{"$f":"IF(O2328=\"Business Firm billable\",VLOOKUP(A2328,'Hourly rates'!$B$2:$E$40,4,FALSE),VLOOKUP(A2328,'Hourly rates'!$B$2:$E$40,2,FALSE))","v":12},15,null,"Almeida, Tony_BIZ:Admin SPIntern10991.254231442315FriNonBillSpecial Projects"," "]
["Almeida, Tony","_BIZ:Admin SP","Intern",1099,null,1.25,"2015-11-13","2015-11-14","Fri",null,"NonBill","ZZ","2015-12-01",null,{"$f":"IF(B2329=$B$2014,\"Special Projects\",\"\")","v":"Special Projects"},null,{"$f":"IF(O2329=\"Business Firm billable\",VLOOKUP(A2329,'Hourly rates'!$B$2:$E$40,4,FALSE),VLOOKUP(A2329,'Hourly rates'!$B$2:$E$40,2,FALSE))","v":12},15,null,"Almeida, Tony_BIZ:Admin SPIntern10991.254232142322FriNonBillSpecial Projects"," "]
["Almeida, Tony","_BIZ:Admin SP","Intern",1099,null,1,"2015-11-16","2015-11-21","Mon",null,"NonBill","ZZ","2015-12-01",null,{"$f":"IF(B2330=$B$2014,\"Special Projects\",\"\")","v":"Special Projects"},null,{"$f":"IF(O2330=\"Business Firm billable\",VLOOKUP(A2330,'Hourly rates'!$B$2:$E$40,4,FALSE),VLOOKUP(A2330,'Hourly rates'!$B$2:$E$40,2,FALSE))","v":12},12,null,"Almeida, Tony_BIZ:Admin SPIntern109914232442329MonNonBillSpecial Projects"," "]
["Almeida, Tony","_BIZ:Admin SP","Intern",1099,null,1,"2015-11-30","2015-12-05","Mon",null,"NonBill","ZZ","Pending",null,{"$f":"IF(B2331=$B$2014,\"Special Projects\",\"\")","v":"Special Projects"},null,{"$f":"IF(O2331=\"Business Firm billable\",VLOOKUP(A2331,'Hourly rates'!$B$2:$E$40,4,FALSE),VLOOKUP(A2331,'Hourly rates'!$B$2:$E$40,2,FALSE))","v":12},12,null,"Almeida, Tony_BIZ:Admin SPIntern109914233842343MonNonBillSpecial Projects"," "]
["Almeida, Tony","_BIZ:Administrative","Intern",1099,null,4.25,"2015-10-19","2015-10-24","Mon",null,"NonBill","ZZ","2015-11-05",null,"Finance",null,{"$f":"IF(O2332=\"Business Firm billable\",VLOOKUP(A2332,'Hourly rates'!$B$2:$E$40,4,FALSE),VLOOKUP(A2332,'Hourly rates'!$B$2:$E$40,2,FALSE))","v":12},51,null,"Almeida, Tony_BIZ:AdministrativeIntern10994.254229642301MonNonBillFinance"," "]
["Almeida, Tony","_BIZ:Administrative","Intern",1099,null,5.25,"2015-10-20","2015-10-24","Tue",null,"NonBill","ZZ","2015-11-05",null,"Finance",null,{"$f":"IF(O2333=\"Business Firm billable\",VLOOKUP(A2333,'Hourly rates'!$B$2:$E$40,4,FALSE),VLOOKUP(A2333,'Hourly rates'!$B$2:$E$40,2,FALSE))","v":12},63,null,"Almeida, Tony_BIZ:AdministrativeIntern10995.254229742301TueNonBillFinance"," "]
["Almeida, Tony","_BIZ:Administrative","Intern",1099,null,6,"2015-10-21","2015-10-24","Wed",null,"NonBill","ZZ","2015-11-05",null,"Finance",null,{"$f":"IF(O2334=\"Business Firm billable\",VLOOKUP(A2334,'Hourly rates'!$B$2:$E$40,4,FALSE),VLOOKUP(A2334,'Hourly rates'!$B$2:$E$40,2,FALSE))","v":12},72,null,"Almeida, Tony_BIZ:AdministrativeIntern109964229842301WedNonBillFinance"," "]
["Almeida, Tony","_BIZ:Administrative","Intern",1099,null,5.25,"2015-10-22","2015-10-24","Thu",null,"NonBill","ZZ","2015-11-05",null,"Finance",null,{"$f":"IF(O2335=\"Business Firm billable\",VLOOKUP(A2335,'Hourly rates'!$B$2:$E$40,4,FALSE),VLOOKUP(A2335,'Hourly rates'!$B$2:$E$40,2,FALSE))","v":12},63,null,"Almeida, Tony_BIZ:AdministrativeIntern10995.254229942301ThuNonBillFinance"," "]
["Almeida, Tony","_BIZ:Administrative","Intern",1099,null,4,"2015-10-23","2015-10-24","Fri",null,"NonBill","ZZ","2015-11-05",null,"Finance",null,{"$f":"IF(O2336=\"Business Firm billable\",VLOOKUP(A2336,'Hourly rates'!$B$2:$E$40,4,FALSE),VLOOKUP(A2336,'Hourly rates'!$B$2:$E$40,2,FALSE))","v":12},48,null,"Almeida, Tony_BIZ:AdministrativeIntern109944230042301FriNonBillFinance"," "]
["Almeida, Tony","_BIZ:Administrative","Intern",1099,null,3.25,"2015-11-02","2015-11-07","Mon",null,"NonBill","ZZ","2015-11-13",null,"Finance",null,{"$f":"IF(O2337=\"Business Firm billable\",VLOOKUP(A2337,'Hourly rates'!$B$2:$E$40,4,FALSE),VLOOKUP(A2337,'Hourly rates'!$B$2:$E$40,2,FALSE))","v":12},39,null,"Almeida, Tony_BIZ:AdministrativeIntern10993.254231042315MonNonBillFinance"," "]
["Almeida, Tony","_BIZ:Administrative","Intern",1099,null,4.25,"2015-11-03","2015-11-07","Tue",null,"NonBill","ZZ","2015-11-13",null,"Finance",null,{"$f":"IF(O2338=\"Business Firm billable\",VLOOKUP(A2338,'Hourly rates'!$B$2:$E$40,4,FALSE),VLOOKUP(A2338,'Hourly rates'!$B$2:$E$40,2,FALSE))","v":12},51,null,"Almeida, Tony_BIZ:AdministrativeIntern10994.254231142315TueNonBillFinance"," "]
["Almeida, Tony","_BIZ:Administrative","Intern",1099,null,3.25,"2015-11-04","2015-11-07","Wed",null,"NonBill","ZZ","2015-11-13",null,"Finance",null,{"$f":"IF(O2339=\"Business Firm billable\",VLOOKUP(A2339,'Hourly rates'!$B$2:$E$40,4,FALSE),VLOOKUP(A2339,'Hourly rates'!$B$2:$E$40,2,FALSE))","v":12},39,null,"Almeida, Tony_BIZ:AdministrativeIntern10993.254231242315WedNonBillFinance"," "]
["Almeida, Tony","_BIZ:Administrative","Intern",1099,null,3.25,"2015-11-05","2015-11-07","Thu",null,"NonBill","ZZ","2015-11-13",null,"Finance",null,{"$f":"IF(O2340=\"Business Firm billable\",VLOOKUP(A2340,'Hourly rates'!$B$2:$E$40,4,FALSE),VLOOKUP(A2340,'Hourly rates'!$B$2:$E$40,2,FALSE))","v":12},39,null,{"$f":"A2340&B2340&C2340&D2340&E2340&F2340&G2340&H2340&I2340&K2340&N2340&O2340","v":"Almeida, Tony_BIZ:AdministrativeIntern10993.254231342315ThuNonBillFinance"}," "]
["Almeida, Tony","_BIZ:Administrative","Intern",1099,null,6,"2015-11-06","2015-11-07","Fri",null,"NonBill","ZZ","2015-11-13",null,"Finance",null,{"$f":"IF(O2341=\"Business Firm billable\",VLOOKUP(A2341,'Hourly rates'!$B$2:$E$40,4,FALSE),VLOOKUP(A2341,'Hourly rates'!$B$2:$E$40,2,FALSE))","v":12},72,null,"Almeida, Tony_BIZ:AdministrativeIntern109964231442315FriNonBillFinance"," "]
["Almeida, Tony","_BIZ:Administrative","Intern",1099,null,6,"2015-11-09","2015-11-14","Mon",null,"NonBill","ZZ","2015-12-01",null,"Finance",null,{"$f":"IF(O2342=\"Business Firm billable\",VLOOKUP(A2342,'Hourly rates'!$B$2:$E$40,4,FALSE),VLOOKUP(A2342,'Hourly rates'!$B$2:$E$40,2,FALSE))","v":12},72,null,"Almeida, Tony_BIZ:AdministrativeIntern109964231742322MonNonBillFinance"," "]
["Almeida, Tony","_BIZ:Administrative","Intern",1099,null,5.25,"2015-11-10","2015-11-14","Tue",null,"NonBill","ZZ","2015-12-01",null,"Finance",null,{"$f":"IF(O2343=\"Business Firm billable\",VLOOKUP(A2343,'Hourly rates'!$B$2:$E$40,4,FALSE),VLOOKUP(A2343,'Hourly rates'!$B$2:$E$40,2,FALSE))","v":12},63,null,"Almeida, Tony_BIZ:AdministrativeIntern10995.254231842322TueNonBillFinance"," "]
["Almeida, Tony","_BIZ:Administrative","Intern",1099,null,3.25,"2015-11-11","2015-11-14","Wed",null,"NonBill","ZZ","2015-12-01",null,"Finance",null,{"$f":"IF(O2344=\"Business Firm billable\",VLOOKUP(A2344,'Hourly rates'!$B$2:$E$40,4,FALSE),VLOOKUP(A2344,'Hourly rates'!$B$2:$E$40,2,FALSE))","v":12},39,null,"Almeida, Tony_BIZ:AdministrativeIntern10993.254231942322WedNonBillFinance"," "]
["Almeida, Tony","_BIZ:Administrative","Intern",1099,null,6,"2015-11-12","2015-11-14","Thu",null,"NonBill","ZZ","2015-12-01",null,"Finance",null,{"$f":"IF(O2345=\"Business Firm billable\",VLOOKUP(A2345,'Hourly rates'!$B$2:$E$40,4,FALSE),VLOOKUP(A2345,'Hourly rates'!$B$2:$E$40,2,FALSE))","v":12},72,null,"Almeida, Tony_BIZ:AdministrativeIntern109964232042322ThuNonBillFinance"," "]
["Almeida, Tony","_BIZ:Administrative","Intern",1099,null,2.25,"2015-11-13","2015-11-14","Fri",null,"NonBill","ZZ","2015-12-01",null,"Finance",null,{"$f":"IF(O2346=\"Business Firm billable\",VLOOKUP(A2346,'Hourly rates'!$B$2:$E$40,4,FALSE),VLOOKUP(A2346,'Hourly rates'!$B$2:$E$40,2,FALSE))","v":12},27,null,"Almeida, Tony_BIZ:AdministrativeIntern10992.254232142322FriNonBillFinance"," "]
["Almeida, Tony","_BIZ:Administrative","Intern",1099,null,7,"2015-11-16","2015-11-21","Mon",null,"NonBill","ZZ","2015-12-01",null,"Finance",null,{"$f":"IF(O2347=\"Business Firm billable\",VLOOKUP(A2347,'Hourly rates'!$B$2:$E$40,4,FALSE),VLOOKUP(A2347,'Hourly rates'!$B$2:$E$40,2,FALSE))","v":12},84,null,"Almeida, Tony_BIZ:AdministrativeIntern109974232442329MonNonBillFinance"," "]
["Almeida, Tony","_BIZ:Administrative","Intern",1099,null,7,"2015-11-17","2015-11-21","Tue",null,"NonBill","ZZ","2015-12-01",null,"Finance",null,{"$f":"IF(O2348=\"Business Firm billable\",VLOOKUP(A2348,'Hourly rates'!$B$2:$E$40,4,FALSE),VLOOKUP(A2348,'Hourly rates'!$B$2:$E$40,2,FALSE))","v":12},84,null,"Almeida, Tony_BIZ:AdministrativeIntern109974232542329TueNonBillFinance"," "]
["Almeida, Tony","_BIZ:Administrative","Intern",1099,null,7,"2015-11-18","2015-11-21","Wed",null,"NonBill","ZZ","2015-12-01",null,"Finance",null,{"$f":"IF(O2349=\"Business Firm billable\",VLOOKUP(A2349,'Hourly rates'!$B$2:$E$40,4,FALSE),VLOOKUP(A2349,'Hourly rates'!$B$2:$E$40,2,FALSE))","v":12},84,null,"Almeida, Tony_BIZ:AdministrativeIntern109974232642329WedNonBillFinance"," "]
["Almeida, Tony","_BIZ:Administrative","Intern",1099,null,5,"2015-11-19","2015-11-21","Thu",null,"NonBill","ZZ","2015-12-01",null,"Finance",null,{"$f":"IF(O2350=\"Business Firm billable\",VLOOKUP(A2350,'Hourly rates'!$B$2:$E$40,4,FALSE),VLOOKUP(A2350,'Hourly rates'!$B$2:$E$40,2,FALSE))","v":12},60,null,"Almeida, Tony_BIZ:AdministrativeIntern109954232742329ThuNonBillFinance"," "]
["Almeida, Tony","_BIZ:Administrative","Intern",1099,null,3.25,"2015-11-30","2015-12-05","Mon",null,"NonBill","ZZ","Pending",null,"Finance",null,{"$f":"IF(O2351=\"Business Firm billable\",VLOOKUP(A2351,'Hourly rates'!$B$2:$E$40,4,FALSE),VLOOKUP(A2351,'Hourly rates'!$B$2:$E$40,2,FALSE))","v":12},39,null,"Almeida, Tony_BIZ:AdministrativeIntern10993.254233842343MonNonBillFinance"," "]
["Almeida, Tony","_BIZ:Administrative","Intern",1099,null,6,"2015-12-01","2015-12-05","Tue",null,"NonBill","ZZ","Pending",null,"Finance",null,{"$f":"IF(O2352=\"Business Firm billable\",VLOOKUP(A2352,'Hourly rates'!$B$2:$E$40,4,FALSE),VLOOKUP(A2352,'Hourly rates'!$B$2:$E$40,2,FALSE))","v":12},72,null,"Almeida, Tony_BIZ:AdministrativeIntern109964233942343TueNonBillFinance"," "]
["Almeida, Tony","_BIZ:Administrative","Intern",1099,null,6,"2015-12-02","2015-12-05","Wed",null,"NonBill","ZZ","Pending",null,"Finance",null,{"$f":"IF(O2353=\"Business Firm billable\",VLOOKUP(A2353,'Hourly rates'!$B$2:$E$40,4,FALSE),VLOOKUP(A2353,'Hourly rates'!$B$2:$E$40,2,FALSE))","v":12},72,null,"Almeida, Tony_BIZ:AdministrativeIntern109964234042343WedNonBillFinance"," "]
["Almeida, Tony","_BIZ:Administrative","Intern",1099,null,6,"2015-12-03","2015-12-05","Thu",null,"NonBill","ZZ","Pending",null,"Finance",null,{"$f":"IF(O2354=\"Business Firm billable\",VLOOKUP(A2354,'Hourly rates'!$B$2:$E$40,4,FALSE),VLOOKUP(A2354,'Hourly rates'!$B$2:$E$40,2,FALSE))","v":12},72,null,"Almeida, Tony_BIZ:AdministrativeIntern109964234142343ThuNonBillFinance"," "]
["Almeida, Tony","_BIZ:Administrative","Intern",1099,null,7,"2015-12-04","2015-12-05","Fri",null,"NonBill","ZZ","Pending",null,"Finance",null,{"$f":"IF(O2355=\"Business Firm billable\",VLOOKUP(A2355,'Hourly rates'!$B$2:$E$40,4,FALSE),VLOOKUP(A2355,'Hourly rates'!$B$2:$E$40,2,FALSE))","v":12},84,null,"Almeida, Tony_BIZ:AdministrativeIntern109974234242343FriNonBillFinance"," "]
["Walker, Renee","_BIZ:Admin SP","Intern",1099,null,3,"2015-10-22","2015-10-24","Thu",null,"NonBill","ZZ","2015-11-05",null,{"$f":"IF(B2356=$B$2014,\"Special Projects\",\"\")","v":"Special Projects"},null,{"$f":"IF(O2356=\"Business Firm billable\",VLOOKUP(A2356,'Hourly rates'!$B$2:$E$40,4,FALSE),VLOOKUP(A2356,'Hourly rates'!$B$2:$E$40,2,FALSE))","v":12},36,null,"Walker, Renee_BIZ:Admin SPIntern109934229942301ThuNonBillSpecial Projects"," "]
["Walker, Renee","_BIZ:Admin SP","Intern",1099,null,4,"2015-10-23","2015-10-24","Fri",null,"NonBill","ZZ","2015-11-05",null,"Special Projects",null,{"$f":"IF(O2357=\"Business Firm billable\",VLOOKUP(A2357,'Hourly rates'!$B$2:$E$40,4,FALSE),VLOOKUP(A2357,'Hourly rates'!$B$2:$E$40,2,FALSE))","v":12},48,null,"Walker, Renee_BIZ:Admin SPIntern109944230042301FriNonBillSpecial Projects"," "]
["Walker, Renee","_BIZ:Admin SP","Intern",1099,null,2,"2015-10-26","2015-10-31","Mon",null,"NonBill","ZZ","2015-11-05",null,"Special Projects",null,{"$f":"IF(O2358=\"Business Firm billable\",VLOOKUP(A2358,'Hourly rates'!$B$2:$E$40,4,FALSE),VLOOKUP(A2358,'Hourly rates'!$B$2:$E$40,2,FALSE))","v":12},24,null,"Walker, Renee_BIZ:Admin SPIntern109924230342308MonNonBillSpecial Projects"," "]
["Walker, Renee","_BIZ:Admin SP","Intern",1099,null,2,"2015-10-27","2015-10-31","Tue",null,"NonBill","ZZ","2015-11-05",null,"Special Projects",null,{"$f":"IF(O2359=\"Business Firm billable\",VLOOKUP(A2359,'Hourly rates'!$B$2:$E$40,4,FALSE),VLOOKUP(A2359,'Hourly rates'!$B$2:$E$40,2,FALSE))","v":12},24,null,"Walker, Renee_BIZ:Admin SPIntern109924230442308TueNonBillSpecial Projects"," "]
["Walker, Renee","_BIZ:Admin SP","Intern",1099,null,1.25,"2015-10-29","2015-10-31","Thu",null,"NonBill","ZZ","2015-11-05",null,"Special Projects",null,{"$f":"IF(O2360=\"Business Firm billable\",VLOOKUP(A2360,'Hourly rates'!$B$2:$E$40,4,FALSE),VLOOKUP(A2360,'Hourly rates'!$B$2:$E$40,2,FALSE))","v":12},15,null,"Walker, Renee_BIZ:Admin SPIntern10991.254230642308ThuNonBillSpecial Projects"," "]
["Walker, Renee","_BIZ:Admin SP","Intern",1099,null,2,"2015-11-02","2015-11-07","Mon",null,"NonBill","ZZ","2015-11-13",null,"Special Projects",null,{"$f":"IF(O2361=\"Business Firm billable\",VLOOKUP(A2361,'Hourly rates'!$B$2:$E$40,4,FALSE),VLOOKUP(A2361,'Hourly rates'!$B$2:$E$40,2,FALSE))","v":12},24,null,"Walker, Renee_BIZ:Admin SPIntern109924231042315MonNonBillSpecial Projects"," "]
["Walker, Renee","_BIZ:Admin SP","Intern",1099,null,1,"2015-11-03","2015-11-07","Tue",null,"NonBill","ZZ","2015-11-13",null,"Special Projects",null,{"$f":"IF(O2362=\"Business Firm billable\",VLOOKUP(A2362,'Hourly rates'!$B$2:$E$40,4,FALSE),VLOOKUP(A2362,'Hourly rates'!$B$2:$E$40,2,FALSE))","v":12},12,null,"Walker, Renee_BIZ:Admin SPIntern109914231142315TueNonBillSpecial Projects"," "]
["Walker, Renee","_BIZ:Admin SP","Intern",1099,null,1,"2015-11-05","2015-11-07","Thu",null,"NonBill","ZZ","2015-11-13",null,"Special Projects",null,{"$f":"IF(O2363=\"Business Firm billable\",VLOOKUP(A2363,'Hourly rates'!$B$2:$E$40,4,FALSE),VLOOKUP(A2363,'Hourly rates'!$B$2:$E$40,2,FALSE))","v":12},12,null,"Walker, Renee_BIZ:Admin SPIntern109914231342315ThuNonBillSpecial Projects"," "]
["Walker, Renee","_BIZ:Admin SP","Intern",1099,null,1.25,"2015-11-06","2015-11-07","Fri",null,"NonBill","ZZ","2015-11-13",null,"Special Projects",null,{"$f":"IF(O2364=\"Business Firm billable\",VLOOKUP(A2364,'Hourly rates'!$B$2:$E$40,4,FALSE),VLOOKUP(A2364,'Hourly rates'!$B$2:$E$40,2,FALSE))","v":12},15,null,"Walker, Renee_BIZ:Admin SPIntern10991.254231442315FriNonBillSpecial Projects"," "]
["Walker, Renee","_BIZ:Admin SP","Intern",1099,null,1.25,"2015-11-07","2015-11-07","Sat",null,"NonBill","ZZ","2015-11-13",null,"Special Projects",null,{"$f":"IF(O2365=\"Business Firm billable\",VLOOKUP(A2365,'Hourly rates'!$B$2:$E$40,4,FALSE),VLOOKUP(A2365,'Hourly rates'!$B$2:$E$40,2,FALSE))","v":12},15,null,"Walker, Renee_BIZ:Admin SPIntern10991.254231542315SatNonBillSpecial Projects"," "]
["Walker, Renee","_BIZ:Admin SP","Intern",1099,null,1,"2015-11-09","2015-11-14","Mon",null,"NonBill","ZZ","2015-12-01",null,"Special Projects",null,{"$f":"IF(O2366=\"Business Firm billable\",VLOOKUP(A2366,'Hourly rates'!$B$2:$E$40,4,FALSE),VLOOKUP(A2366,'Hourly rates'!$B$2:$E$40,2,FALSE))","v":12},12,null,"Walker, Renee_BIZ:Admin SPIntern109914231742322MonNonBillSpecial Projects"," "]
["Walker, Renee","_BIZ:Admin SP","Intern",1099,null,1.25,"2015-11-10","2015-11-14","Tue",null,"NonBill","ZZ","2015-12-01",null,"Special Projects",null,{"$f":"IF(O2367=\"Business Firm billable\",VLOOKUP(A2367,'Hourly rates'!$B$2:$E$40,4,FALSE),VLOOKUP(A2367,'Hourly rates'!$B$2:$E$40,2,FALSE))","v":12},15,null,"Walker, Renee_BIZ:Admin SPIntern10991.254231842322TueNonBillSpecial Projects"," "]
["Walker, Renee","_BIZ:Admin SP","Intern",1099,null,1.75,"2015-11-11","2015-11-14","Wed",null,"NonBill","ZZ","2015-12-01",null,"Special Projects",null,{"$f":"IF(O2368=\"Business Firm billable\",VLOOKUP(A2368,'Hourly rates'!$B$2:$E$40,4,FALSE),VLOOKUP(A2368,'Hourly rates'!$B$2:$E$40,2,FALSE))","v":12},21,null,"Walker, Renee_BIZ:Admin SPIntern10991.754231942322WedNonBillSpecial Projects"," "]
["Walker, Renee","_BIZ:Admin SP","Intern",1099,null,1.25,"2015-11-12","2015-11-14","Thu",null,"NonBill","ZZ","2015-12-01",null,"Special Projects",null,{"$f":"IF(O2369=\"Business Firm billable\",VLOOKUP(A2369,'Hourly rates'!$B$2:$E$40,4,FALSE),VLOOKUP(A2369,'Hourly rates'!$B$2:$E$40,2,FALSE))","v":12},15,null,"Walker, Renee_BIZ:Admin SPIntern10991.254232042322ThuNonBillSpecial Projects"," "]
["Walker, Renee","_BIZ:Admin SP","Intern",1099,null,2.75,"2015-11-13","2015-11-14","Fri",null,"NonBill","ZZ","2015-12-01",null,"Special Projects",null,{"$f":"IF(O2370=\"Business Firm billable\",VLOOKUP(A2370,'Hourly rates'!$B$2:$E$40,4,FALSE),VLOOKUP(A2370,'Hourly rates'!$B$2:$E$40,2,FALSE))","v":12},{"$f":"Q2370*F2370","v":33},null,"Walker, Renee_BIZ:Admin SPIntern10992.754232142322FriNonBillSpecial Projects"," "]
["Walker, Renee","_BIZ:Admin SP","Intern",1099,null,1.25,"2015-11-14","2015-11-14","Sat",null,"NonBill","ZZ","2015-12-01",null,"Special Projects",null,{"$f":"IF(O2371=\"Business Firm billable\",VLOOKUP(A2371,'Hourly rates'!$B$2:$E$40,4,FALSE),VLOOKUP(A2371,'Hourly rates'!$B$2:$E$40,2,FALSE))","v":12},15,null,"Walker, Renee_BIZ:Admin SPIntern10991.254232242322SatNonBillSpecial Projects"," "]
["Walker, Renee","_BIZ:Admin SP","Intern",1099,null,2,"2015-11-16","2015-11-21","Mon",null,"NonBill","ZZ","2015-12-01",null,"Special Projects",null,{"$f":"IF(O2372=\"Business Firm billable\",VLOOKUP(A2372,'Hourly rates'!$B$2:$E$40,4,FALSE),VLOOKUP(A2372,'Hourly rates'!$B$2:$E$40,2,FALSE))","v":12},24,null,{"$f":"A2372&B2372&C2372&D2372&E2372&F2372&G2372&H2372&I2372&K2372&N2372&O2372","v":"Walker, Renee_BIZ:Admin SPIntern109924232442329MonNonBillSpecial Projects"}," "]
["Walker, Renee","_BIZ:Admin SP","Intern",1099,null,2,"2015-11-17","2015-11-21","Tue",null,"NonBill","ZZ","2015-12-01",null,"Special Projects",null,{"$f":"IF(O2373=\"Business Firm billable\",VLOOKUP(A2373,'Hourly rates'!$B$2:$E$40,4,FALSE),VLOOKUP(A2373,'Hourly rates'!$B$2:$E$40,2,FALSE))","v":12},24,null,"Walker, Renee_BIZ:Admin SPIntern109924232542329TueNonBillSpecial Projects"," "]
["Walker, Renee","_BIZ:Admin SP","Intern",1099,null,2,"2015-11-19","2015-11-21","Thu",null,"NonBill","ZZ","2015-12-01",null,"Special Projects",null,{"$f":"IF(O2374=\"Business Firm billable\",VLOOKUP(A2374,'Hourly rates'!$B$2:$E$40,4,FALSE),VLOOKUP(A2374,'Hourly rates'!$B$2:$E$40,2,FALSE))","v":12},24,null,"Walker, Renee_BIZ:Admin SPIntern109924232742329ThuNonBillSpecial Projects"," "]
["Walker, Renee","_BIZ:Admin SP","Intern",1099,null,3,"2015-11-20","2015-11-21","Fri",null,"NonBill","ZZ","2015-12-01",null,"Special Projects",null,{"$f":"IF(O2375=\"Business Firm billable\",VLOOKUP(A2375,'Hourly rates'!$B$2:$E$40,4,FALSE),VLOOKUP(A2375,'Hourly rates'!$B$2:$E$40,2,FALSE))","v":12},36,null,"Walker, Renee_BIZ:Admin SPIntern109934232842329FriNonBillSpecial Projects"," "]
["Walker, Renee","_BIZ:Admin SP","Intern",1099,null,1.75,"2015-11-23","2015-11-28","Mon",null,"NonBill","ZZ","2015-12-01",null,"Special Projects",null,{"$f":"IF(O2376=\"Business Firm billable\",VLOOKUP(A2376,'Hourly rates'!$B$2:$E$40,4,FALSE),VLOOKUP(A2376,'Hourly rates'!$B$2:$E$40,2,FALSE))","v":12},21,null,"Walker, Renee_BIZ:Admin SPIntern10991.754233142336MonNonBillSpecial Projects"," "]
["Walker, Renee","_BIZ:Admin SP","Intern",1099,null,1.75,"2015-11-25","2015-11-28","Wed",null,"NonBill","ZZ","2015-12-01",null,"Special Projects",null,{"$f":"IF(O2377=\"Business Firm billable\",VLOOKUP(A2377,'Hourly rates'!$B$2:$E$40,4,FALSE),VLOOKUP(A2377,'Hourly rates'!$B$2:$E$40,2,FALSE))","v":12},21,null,"Walker, Renee_BIZ:Admin SPIntern10991.754233342336WedNonBillSpecial Projects"," "]
["Walker, Renee","_BIZ:Admin SP","Intern",1099,null,4,"2015-11-30","2015-12-05","Mon",null,"NonBill","ZZ","Pending",null,"Special Projects",null,{"$f":"IF(O2378=\"Business Firm billable\",VLOOKUP(A2378,'Hourly rates'!$B$2:$E$40,4,FALSE),VLOOKUP(A2378,'Hourly rates'!$B$2:$E$40,2,FALSE))","v":12},48,null,"Walker, Renee_BIZ:Admin SPIntern109944233842343MonNonBillSpecial Projects"," "]
["Walker, Renee","_BIZ:Admin SP","Intern",1099,null,3,"2015-12-02","2015-12-05","Wed",null,"NonBill","ZZ","Pending",null,"Special Projects",null,{"$f":"IF(O2379=\"Business Firm billable\",VLOOKUP(A2379,'Hourly rates'!$B$2:$E$40,4,FALSE),VLOOKUP(A2379,'Hourly rates'!$B$2:$E$40,2,FALSE))","v":12},36,null,"Walker, Renee_BIZ:Admin SPIntern109934234042343WedNonBillSpecial Projects"," "]
["Walker, Renee","_BIZ:Admin SP","Intern",1099,null,1,"2015-12-03","2015-12-05","Thu",null,"NonBill","ZZ","Pending",null,"Special Projects",null,{"$f":"IF(O2380=\"Business Firm billable\",VLOOKUP(A2380,'Hourly rates'!$B$2:$E$40,4,FALSE),VLOOKUP(A2380,'Hourly rates'!$B$2:$E$40,2,FALSE))","v":12},12,null,"Walker, Renee_BIZ:Admin SPIntern109914234142343ThuNonBillSpecial Projects"," "]
["Walker, Renee","_BIZ:Admin SP","Intern",1099,null,1.25,"2015-12-05","2015-12-05","Sat",null,"NonBill","ZZ","Pending",null,"Special Projects",null,{"$f":"IF(O2381=\"Business Firm billable\",VLOOKUP(A2381,'Hourly rates'!$B$2:$E$40,4,FALSE),VLOOKUP(A2381,'Hourly rates'!$B$2:$E$40,2,FALSE))","v":12},15,null,"Walker, Renee_BIZ:Admin SPIntern10991.254234342343SatNonBillSpecial Projects"," "]
["Walker, Renee","_BIZ:Administrative","Intern",1099,null,1.25,"2015-11-24","2015-11-28","Tue",null,"NonBill","ZZ","2015-12-01",null,"Finance",null,{"$f":"IF(O2382=\"Business Firm billable\",VLOOKUP(A2382,'Hourly rates'!$B$2:$E$40,4,FALSE),VLOOKUP(A2382,'Hourly rates'!$B$2:$E$40,2,FALSE))","v":12},15,null,"Walker, Renee_BIZ:AdministrativeIntern10991.254233242336TueNonBillFinance"," "]
["Pritchett, Jay","_BIZ:Admin SP","Intern",1099,null,1.25,"2015-10-19","2015-10-24","Mon",null,"NonBill","ZZ","2015-11-05",null,{"$f":"IF(B2383=$B$2014,\"Special Projects\",\"\")","v":"Special Projects"},null,{"$f":"IF(O2383=\"Business Firm billable\",VLOOKUP(A2383,'Hourly rates'!$B$2:$E$40,4,FALSE),VLOOKUP(A2383,'Hourly rates'!$B$2:$E$40,2,FALSE))","v":12},15,null,"Pritchett, Jay_BIZ:Admin SPIntern10991.254229642301MonNonBillSpecial Projects"," "]
["Pritchett, Jay","_BIZ:Admin SP","Intern",1099,null,1.25,"2015-10-20","2015-10-24","Tue",null,"NonBill","ZZ","2015-11-05",null,"Special Projects",null,{"$f":"IF(O2384=\"Business Firm billable\",VLOOKUP(A2384,'Hourly rates'!$B$2:$E$40,4,FALSE),VLOOKUP(A2384,'Hourly rates'!$B$2:$E$40,2,FALSE))","v":12},15,null,"Pritchett, Jay_BIZ:Admin SPIntern10991.254229742301TueNonBillSpecial Projects"," "]
["Pritchett, Jay","_BIZ:Admin SP","Intern",1099,null,1,"2015-10-21","2015-10-24","Wed",null,"NonBill","ZZ","2015-11-05",null,"Special Projects",null,{"$f":"IF(O2385=\"Business Firm billable\",VLOOKUP(A2385,'Hourly rates'!$B$2:$E$40,4,FALSE),VLOOKUP(A2385,'Hourly rates'!$B$2:$E$40,2,FALSE))","v":12},12,null,"Pritchett, Jay_BIZ:Admin SPIntern109914229842301WedNonBillSpecial Projects"," "]
["Pritchett, Jay","_BIZ:Admin SP","Intern",1099,null,1.25,"2015-10-22","2015-10-24","Thu",null,"NonBill","ZZ","2015-11-05",null,"Special Projects",null,{"$f":"IF(O2386=\"Business Firm billable\",VLOOKUP(A2386,'Hourly rates'!$B$2:$E$40,4,FALSE),VLOOKUP(A2386,'Hourly rates'!$B$2:$E$40,2,FALSE))","v":12},15,null,"Pritchett, Jay_BIZ:Admin SPIntern10991.254229942301ThuNonBillSpecial Projects"," "]
["Pritchett, Jay","_BIZ:Admin SP","Intern",1099,null,7,"2015-10-23","2015-10-24","Fri",null,"NonBill","ZZ","2015-11-05",null,"Special Projects",null,{"$f":"IF(O2387=\"Business Firm billable\",VLOOKUP(A2387,'Hourly rates'!$B$2:$E$40,4,FALSE),VLOOKUP(A2387,'Hourly rates'!$B$2:$E$40,2,FALSE))","v":12},84,null,"Pritchett, Jay_BIZ:Admin SPIntern109974230042301FriNonBillSpecial Projects"," "]
["Pritchett, Jay","_BIZ:Admin SP","Intern",1099,null,1.25,"2015-10-24","2015-10-24","Sat",null,"NonBill","ZZ","2015-11-05",null,"Special Projects",null,{"$f":"IF(O2388=\"Business Firm billable\",VLOOKUP(A2388,'Hourly rates'!$B$2:$E$40,4,FALSE),VLOOKUP(A2388,'Hourly rates'!$B$2:$E$40,2,FALSE))","v":12},15,null,"Pritchett, Jay_BIZ:Admin SPIntern10991.254230142301SatNonBillSpecial Projects"," "]
["Pritchett, Jay","_BIZ:Admin SP","Intern",1099,null,1,"2015-10-26","2015-10-31","Mon",null,"NonBill","ZZ","2015-11-09",null,"Special Projects",null,{"$f":"IF(O2389=\"Business Firm billable\",VLOOKUP(A2389,'Hourly rates'!$B$2:$E$40,4,FALSE),VLOOKUP(A2389,'Hourly rates'!$B$2:$E$40,2,FALSE))","v":12},12,null,"Pritchett, Jay_BIZ:Admin SPIntern109914230342308MonNonBillSpecial Projects"," "]
["Pritchett, Jay","_BIZ:Admin SP","Intern",1099,null,1.75,"2015-10-27","2015-10-31","Tue",null,"NonBill","ZZ","2015-11-09",null,"Special Projects",null,{"$f":"IF(O2390=\"Business Firm billable\",VLOOKUP(A2390,'Hourly rates'!$B$2:$E$40,4,FALSE),VLOOKUP(A2390,'Hourly rates'!$B$2:$E$40,2,FALSE))","v":12},21,null,"Pritchett, Jay_BIZ:Admin SPIntern10991.754230442308TueNonBillSpecial Projects"," "]
["Pritchett, Jay","_BIZ:Admin SP","Intern",1099,null,1.75,"2015-10-28","2015-10-31","Wed",null,"NonBill","ZZ","2015-11-09",null,"Special Projects",null,{"$f":"IF(O2391=\"Business Firm billable\",VLOOKUP(A2391,'Hourly rates'!$B$2:$E$40,4,FALSE),VLOOKUP(A2391,'Hourly rates'!$B$2:$E$40,2,FALSE))","v":12},21,null,"Pritchett, Jay_BIZ:Admin SPIntern10991.754230542308WedNonBillSpecial Projects"," "]
["Pritchett, Jay","_BIZ:Admin SP","Intern",1099,null,1.75,"2015-10-29","2015-10-31","Thu",null,"NonBill","ZZ","2015-11-09",null,"Special Projects",null,{"$f":"IF(O2392=\"Business Firm billable\",VLOOKUP(A2392,'Hourly rates'!$B$2:$E$40,4,FALSE),VLOOKUP(A2392,'Hourly rates'!$B$2:$E$40,2,FALSE))","v":12},21,null,"Pritchett, Jay_BIZ:Admin SPIntern10991.754230642308ThuNonBillSpecial Projects"," "]
["Pritchett, Jay","_BIZ:Admin SP","Intern",1099,null,1.25,"2015-10-30","2015-10-31","Fri",null,"NonBill","ZZ","2015-11-09",null,"Special Projects",null,{"$f":"IF(O2393=\"Business Firm billable\",VLOOKUP(A2393,'Hourly rates'!$B$2:$E$40,4,FALSE),VLOOKUP(A2393,'Hourly rates'!$B$2:$E$40,2,FALSE))","v":12},15,null,"Pritchett, Jay_BIZ:Admin SPIntern10991.254230742308FriNonBillSpecial Projects"," "]
["Pritchett, Jay","_BIZ:Admin SP","Intern",1099,null,1.25,"2015-11-02","2015-11-07","Mon",null,"NonBill","ZZ","2015-11-13",null,"Special Projects",null,{"$f":"IF(O2394=\"Business Firm billable\",VLOOKUP(A2394,'Hourly rates'!$B$2:$E$40,4,FALSE),VLOOKUP(A2394,'Hourly rates'!$B$2:$E$40,2,FALSE))","v":12},15,null,"Pritchett, Jay_BIZ:Admin SPIntern10991.254231042315MonNonBillSpecial Projects"," "]
["Pritchett, Jay","_BIZ:Admin SP","Intern",1099,null,1.25,"2015-11-03","2015-11-07","Tue",null,"NonBill","ZZ","2015-11-13",null,"Special Projects",null,{"$f":"IF(O2395=\"Business Firm billable\",VLOOKUP(A2395,'Hourly rates'!$B$2:$E$40,4,FALSE),VLOOKUP(A2395,'Hourly rates'!$B$2:$E$40,2,FALSE))","v":12},15,null,"Pritchett, Jay_BIZ:Admin SPIntern10991.254231142315TueNonBillSpecial Projects"," "]
["Pritchett, Jay","_BIZ:Admin SP","Intern",1099,null,1.25,"2015-11-04","2015-11-07","Wed",null,"NonBill","ZZ","2015-11-13",null,"Special Projects",null,{"$f":"IF(O2396=\"Business Firm billable\",VLOOKUP(A2396,'Hourly rates'!$B$2:$E$40,4,FALSE),VLOOKUP(A2396,'Hourly rates'!$B$2:$E$40,2,FALSE))","v":12},15,null,"Pritchett, Jay_BIZ:Admin SPIntern10991.254231242315WedNonBillSpecial Projects"," "]
["Pritchett, Jay","_BIZ:Admin SP","Intern",1099,null,1.25,"2015-11-05","2015-11-07","Thu",null,"NonBill","ZZ","2015-11-13",null,"Special Projects",null,{"$f":"IF(O2397=\"Business Firm billable\",VLOOKUP(A2397,'Hourly rates'!$B$2:$E$40,4,FALSE),VLOOKUP(A2397,'Hourly rates'!$B$2:$E$40,2,FALSE))","v":12},15,null,"Pritchett, Jay_BIZ:Admin SPIntern10991.254231342315ThuNonBillSpecial Projects"," "]
["Pritchett, Jay","_BIZ:Admin SP","Intern",1099,null,1.25,"2015-11-06","2015-11-07","Fri",null,"NonBill","ZZ","2015-11-13",null,"Special Projects",null,{"$f":"IF(O2398=\"Business Firm billable\",VLOOKUP(A2398,'Hourly rates'!$B$2:$E$40,4,FALSE),VLOOKUP(A2398,'Hourly rates'!$B$2:$E$40,2,FALSE))","v":12},15,null,"Pritchett, Jay_BIZ:Admin SPIntern10991.254231442315FriNonBillSpecial Projects"," "]
["Pritchett, Jay","_BIZ:Admin SP","Intern",1099,null,1.25,"2015-11-07","2015-11-07","Sat",null,"NonBill","ZZ","2015-11-13",null,"Special Projects",null,{"$f":"IF(O2399=\"Business Firm billable\",VLOOKUP(A2399,'Hourly rates'!$B$2:$E$40,4,FALSE),VLOOKUP(A2399,'Hourly rates'!$B$2:$E$40,2,FALSE))","v":12},15,null,"Pritchett, Jay_BIZ:Admin SPIntern10991.254231542315SatNonBillSpecial Projects"," "]
["Pritchett, Jay","_BIZ:Admin SP","Intern",1099,null,1.25,"2015-11-09","2015-11-14","Mon",null,"NonBill","ZZ","2015-12-01",null,"Special Projects",null,{"$f":"IF(O2400=\"Business Firm billable\",VLOOKUP(A2400,'Hourly rates'!$B$2:$E$40,4,FALSE),VLOOKUP(A2400,'Hourly rates'!$B$2:$E$40,2,FALSE))","v":12},15,null,"Pritchett, Jay_BIZ:Admin SPIntern10991.254231742322MonNonBillSpecial Projects"," "]
["Pritchett, Jay","_BIZ:Admin SP","Intern",1099,null,1.25,"2015-11-11","2015-11-14","Wed",null,"NonBill","ZZ","2015-12-01",null,"Special Projects",null,{"$f":"IF(O2401=\"Business Firm billable\",VLOOKUP(A2401,'Hourly rates'!$B$2:$E$40,4,FALSE),VLOOKUP(A2401,'Hourly rates'!$B$2:$E$40,2,FALSE))","v":12},15,null,"Pritchett, Jay_BIZ:Admin SPIntern10991.254231942322WedNonBillSpecial Projects"," "]
["Pritchett, Jay","_BIZ:Admin SP","Intern",1099,null,3.25,"2015-11-12","2015-11-14","Thu",null,"NonBill","ZZ","2015-12-01",null,"Special Projects",null,{"$f":"IF(O2402=\"Business Firm billable\",VLOOKUP(A2402,'Hourly rates'!$B$2:$E$40,4,FALSE),VLOOKUP(A2402,'Hourly rates'!$B$2:$E$40,2,FALSE))","v":12},39,null,"Pritchett, Jay_BIZ:Admin SPIntern10993.254232042322ThuNonBillSpecial Projects"," "]
["Pritchett, Jay","_BIZ:Admin SP","Intern",1099,null,1.25,"2015-11-13","2015-11-14","Fri",null,"NonBill","ZZ","2015-12-01",null,"Special Projects",null,{"$f":"IF(O2403=\"Business Firm billable\",VLOOKUP(A2403,'Hourly rates'!$B$2:$E$40,4,FALSE),VLOOKUP(A2403,'Hourly rates'!$B$2:$E$40,2,FALSE))","v":12},15,null,"Pritchett, Jay_BIZ:Admin SPIntern10991.254232142322FriNonBillSpecial Projects"," "]
["Pritchett, Jay","_BIZ:Admin SP","Intern",1099,null,1.25,"2015-11-16","2015-11-21","Mon",null,"NonBill","ZZ","2015-12-01",null,"Special Projects",null,{"$f":"IF(O2404=\"Business Firm billable\",VLOOKUP(A2404,'Hourly rates'!$B$2:$E$40,4,FALSE),VLOOKUP(A2404,'Hourly rates'!$B$2:$E$40,2,FALSE))","v":12},15,null,"Pritchett, Jay_BIZ:Admin SPIntern10991.254232442329MonNonBillSpecial Projects"," "]
["Pritchett, Jay","_BIZ:Admin SP","Intern",1099,null,1.25,"2015-11-18","2015-11-21","Wed",null,"NonBill","ZZ","2015-12-01",null,"Special Projects",null,{"$f":"IF(O2405=\"Business Firm billable\",VLOOKUP(A2405,'Hourly rates'!$B$2:$E$40,4,FALSE),VLOOKUP(A2405,'Hourly rates'!$B$2:$E$40,2,FALSE))","v":12},15,null,"Pritchett, Jay_BIZ:Admin SPIntern10991.254232642329WedNonBillSpecial Projects"," "]
["Pritchett, Jay","_BIZ:Admin SP","Intern",1099,null,1.25,"2015-11-19","2015-11-21","Thu",null,"NonBill","ZZ","2015-12-01",null,"Special Projects",null,{"$f":"IF(O2406=\"Business Firm billable\",VLOOKUP(A2406,'Hourly rates'!$B$2:$E$40,4,FALSE),VLOOKUP(A2406,'Hourly rates'!$B$2:$E$40,2,FALSE))","v":12},15,null,"Pritchett, Jay_BIZ:Admin SPIntern10991.254232742329ThuNonBillSpecial Projects"," "]
["Pritchett, Jay","_BIZ:Admin SP","Intern",1099,null,1.25,"2015-11-20","2015-11-21","Fri",null,"NonBill","ZZ","2015-12-01",null,"Special Projects",null,{"$f":"IF(O2407=\"Business Firm billable\",VLOOKUP(A2407,'Hourly rates'!$B$2:$E$40,4,FALSE),VLOOKUP(A2407,'Hourly rates'!$B$2:$E$40,2,FALSE))","v":12},15,null,"Pritchett, Jay_BIZ:Admin SPIntern10991.254232842329FriNonBillSpecial Projects"," "]
["Pritchett, Jay","_BIZ:Admin SP","Intern",1099,null,1.75,"2015-11-24",{"$f":"IF(I2408=\"Sun\",G2408+6,IF(I2408=\"Mon\",G2408+5,IF(I2408=\"Tue\",G2408+4,IF(I2408=\"Wed\",G2408+3,IF(I2408=\"Thu\",G2408+2,IF(I2408=\"Fri\",G2408+1,G2408))))))","v":"2015-11-28"},"Tue",null,"NonBill","ZZ","Pending",null,"Special Projects",null,{"$f":"IF(O2408=\"Business Firm billable\",VLOOKUP(A2408,'Hourly rates'!$B$2:$E$40,4,FALSE),VLOOKUP(A2408,'Hourly rates'!$B$2:$E$40,2,FALSE))","v":12},21,null,"Pritchett, Jay_BIZ:Admin SPIntern10991.754233242336TueNonBillSpecial Projects"," "]
["Delgado, Manny","_BIZ:Admin SP","Intern",1099,null,2,"2015-12-07",{"$f":"IF(I2409=\"Sun\",G2409+6,IF(I2409=\"Mon\",G2409+5,IF(I2409=\"Tue\",G2409+4,IF(I2409=\"Wed\",G2409+3,IF(I2409=\"Thu\",G2409+2,IF(I2409=\"Fri\",G2409+1,G2409))))))","v":"2015-12-12"},"Mon",null,"NonBill","ZZ","2016-01-04",null,{"$f":"IF(B2409=$B$2014,\"Special Projects\",IF(OR(ISNUMBER(SEARCH(\"BIZ\",B2409)),ISNUMBER(SEARCH(\"business\",B2409)))=FALSE,\"Business Firm Billable\",\"\"))","v":"Special Projects"},null,{"$f":"IF(O2409=\"Business Firm billable\",VLOOKUP(A2409,'Hourly rates'!$B$2:$E$40,4,FALSE),VLOOKUP(A2409,'Hourly rates'!$B$2:$E$40,2,FALSE))","v":12},{"$f":"Q2409*F2409","v":24},null,"Delgado, Manny_BIZ:Admin SPIntern109924234542350MonNonBillSpecial Projects"," "]
["Delgado, Manny","_BIZ:Admin SP","Intern",1099,null,2,"2015-12-08","2015-12-12","Tue",null,"NonBill","ZZ","2016-01-04",null,"Special Projects",null,{"$f":"IF(O2410=\"Business Firm billable\",VLOOKUP(A2410,'Hourly rates'!$B$2:$E$40,4,FALSE),VLOOKUP(A2410,'Hourly rates'!$B$2:$E$40,2,FALSE))","v":12},24,null,"Delgado, Manny_BIZ:Admin SPIntern109924234642350TueNonBillSpecial Projects"," "]
["Delgado, Manny","_BIZ:Admin SP","Intern",1099,null,1.25,"2015-12-10","2015-12-12","Thu",null,"NonBill","ZZ","2016-01-04",null,"Special Projects",null,{"$f":"IF(O2411=\"Business Firm billable\",VLOOKUP(A2411,'Hourly rates'!$B$2:$E$40,4,FALSE),VLOOKUP(A2411,'Hourly rates'!$B$2:$E$40,2,FALSE))","v":12},15,null,"Delgado, Manny_BIZ:Admin SPIntern10991.254234842350ThuNonBillSpecial Projects"," "]
["Delgado, Manny","_BIZ:Admin SP","Intern",1099,null,1.25,"2015-12-11","2015-12-12","Fri",null,"NonBill","ZZ","2016-01-04",null,"Special Projects",null,{"$f":"IF(O2412=\"Business Firm billable\",VLOOKUP(A2412,'Hourly rates'!$B$2:$E$40,4,FALSE),VLOOKUP(A2412,'Hourly rates'!$B$2:$E$40,2,FALSE))","v":12},15,null,"Delgado, Manny_BIZ:Admin SPIntern10991.254234942350FriNonBillSpecial Projects"," "]
["Delgado, Manny","_BIZ:Admin SP","Intern",1099,null,1,"2015-12-12","2015-12-12","Sat",null,"NonBill","ZZ","2016-01-04",null,"Special Projects",null,{"$f":"IF(O2413=\"Business Firm billable\",VLOOKUP(A2413,'Hourly rates'!$B$2:$E$40,4,FALSE),VLOOKUP(A2413,'Hourly rates'!$B$2:$E$40,2,FALSE))","v":12},12,null,"Delgado, Manny_BIZ:Admin SPIntern109914235042350SatNonBillSpecial Projects"," "]
["Delgado, Manny","_BIZ:Admin SP","Intern",1099,null,2,"2015-12-15","2015-12-19","Tue",null,"NonBill","ZZ","2016-01-04",null,"Special Projects",null,{"$f":"IF(O2414=\"Business Firm billable\",VLOOKUP(A2414,'Hourly rates'!$B$2:$E$40,4,FALSE),VLOOKUP(A2414,'Hourly rates'!$B$2:$E$40,2,FALSE))","v":12},24,null,"Delgado, Manny_BIZ:Admin SPIntern109924235342357TueNonBillSpecial Projects"," "]
["Delgado, Manny","_BIZ:Admin SP","Intern",1099,null,1,"2015-12-16","2015-12-19","Wed",null,"NonBill","ZZ","2016-01-04",null,"Special Projects",null,{"$f":"IF(O2415=\"Business Firm billable\",VLOOKUP(A2415,'Hourly rates'!$B$2:$E$40,4,FALSE),VLOOKUP(A2415,'Hourly rates'!$B$2:$E$40,2,FALSE))","v":12},12,null,"Delgado, Manny_BIZ:Admin SPIntern109914235442357WedNonBillSpecial Projects"," "]
["Delgado, Manny","_BIZ:Admin SP","Intern",1099,null,5,"2015-12-17","2015-12-19","Thu",null,"NonBill","ZZ","2016-01-04",null,"Special Projects",null,{"$f":"IF(O2416=\"Business Firm billable\",VLOOKUP(A2416,'Hourly rates'!$B$2:$E$40,4,FALSE),VLOOKUP(A2416,'Hourly rates'!$B$2:$E$40,2,FALSE))","v":12},60,null,"Delgado, Manny_BIZ:Admin SPIntern109954235542357ThuNonBillSpecial Projects"," "]
["Delgado, Manny","_BIZ:Admin SP","Intern",1099,null,2,"2015-12-18","2015-12-19","Fri",null,"NonBill","ZZ","2016-01-04",null,"Special Projects",null,{"$f":"IF(O2417=\"Business Firm billable\",VLOOKUP(A2417,'Hourly rates'!$B$2:$E$40,4,FALSE),VLOOKUP(A2417,'Hourly rates'!$B$2:$E$40,2,FALSE))","v":12},24,null,"Delgado, Manny_BIZ:Admin SPIntern109924235642357FriNonBillSpecial Projects"," "]
["Delgado, Manny","_BIZ:Admin SP","Intern",1099,null,1,"2016-01-24","2016-01-30","Sun",null,"NonBill","ZZ","2016-02-02",null,"Special Projects",null,{"$f":"IF(O2418=\"Business Firm billable\",VLOOKUP(A2418,'Hourly rates'!$B$2:$E$40,4,FALSE),VLOOKUP(A2418,'Hourly rates'!$B$2:$E$40,2,FALSE))","v":12},12,null,"Delgado, Manny_BIZ:Admin SPIntern109914239342399SunNonBillSpecial Projects"," "]
["Delgado, Manny","_BIZ:Admin SP","Intern",1099,null,1,"2016-01-25","2016-01-30","Mon",null,"NonBill","ZZ","2016-02-02",null,"Special Projects",null,{"$f":"IF(O2419=\"Business Firm billable\",VLOOKUP(A2419,'Hourly rates'!$B$2:$E$40,4,FALSE),VLOOKUP(A2419,'Hourly rates'!$B$2:$E$40,2,FALSE))","v":12},12,null,"Delgado, Manny_BIZ:Admin SPIntern109914239442399MonNonBillSpecial Projects"," "]
["Delgado, Manny","_BIZ:Admin SP","Intern",1099,null,2,"2016-01-29","2016-01-30","Fri",null,"NonBill","ZZ","2016-02-02",null,"Special Projects",null,{"$f":"IF(O2420=\"Business Firm billable\",VLOOKUP(A2420,'Hourly rates'!$B$2:$E$40,4,FALSE),VLOOKUP(A2420,'Hourly rates'!$B$2:$E$40,2,FALSE))","v":12},24,null,"Delgado, Manny_BIZ:Admin SPIntern109924239842399FriNonBillSpecial Projects"," "]
["Delgado, Manny","_BIZ:Admin SP","Intern",1099,null,2,"2016-01-30","2016-01-30","Sat",null,"NonBill","ZZ","2016-02-02",null,"Special Projects",null,{"$f":"IF(O2421=\"Business Firm billable\",VLOOKUP(A2421,'Hourly rates'!$B$2:$E$40,4,FALSE),VLOOKUP(A2421,'Hourly rates'!$B$2:$E$40,2,FALSE))","v":12},24,null,"Delgado, Manny_BIZ:Admin SPIntern109924239942399SatNonBillSpecial Projects"," "]
["Delgado, Manny","_BIZ:Admin SP","Intern",1099,null,1.25,"2016-01-31","2016-02-06","Sun",null,"NonBill","ZZ","2016-02-08",null,"Special Projects",null,{"$f":"IF(O2422=\"Business Firm billable\",VLOOKUP(A2422,'Hourly rates'!$B$2:$E$40,4,FALSE),VLOOKUP(A2422,'Hourly rates'!$B$2:$E$40,2,FALSE))","v":12},15,null,"Delgado, Manny_BIZ:Admin SPIntern10991.254240042406SunNonBillSpecial Projects"," "]
["Delgado, Manny","_BIZ:Admin SP","Intern",1099,null,2,"2016-02-01","2016-02-06","Mon",null,"NonBill","ZZ","2016-02-08",null,"Special Projects",null,{"$f":"IF(O2423=\"Business Firm billable\",VLOOKUP(A2423,'Hourly rates'!$B$2:$E$40,4,FALSE),VLOOKUP(A2423,'Hourly rates'!$B$2:$E$40,2,FALSE))","v":12},24,null,"Delgado, Manny_BIZ:Admin SPIntern109924240142406MonNonBillSpecial Projects"," "]
["Delgado, Manny","_BIZ:Admin SP","Intern",1099,null,0,"2016-02-02","2016-02-06","Tue",null,"NonBill","ZZ","2016-02-08",null,"Special Projects",null,{"$f":"IF(O2424=\"Business Firm billable\",VLOOKUP(A2424,'Hourly rates'!$B$2:$E$40,4,FALSE),VLOOKUP(A2424,'Hourly rates'!$B$2:$E$40,2,FALSE))","v":12},0,null,"Delgado, Manny_BIZ:Admin SPIntern109904240242406TueNonBillSpecial Projects"," "]
["Delgado, Manny","_BIZ:Admin SP","Intern",1099,null,0,"2016-02-04","2016-02-06","Thu",null,"NonBill","ZZ","2016-02-08",null,"Special Projects",null,{"$f":"IF(O2425=\"Business Firm billable\",VLOOKUP(A2425,'Hourly rates'!$B$2:$E$40,4,FALSE),VLOOKUP(A2425,'Hourly rates'!$B$2:$E$40,2,FALSE))","v":12},0,null,"Delgado, Manny_BIZ:Admin SPIntern109904240442406ThuNonBillSpecial Projects"," "]
["Delgado, Manny","_BIZ:Admin SP","Intern",1099,null,1.25,"2016-02-05","2016-02-06","Fri",null,"NonBill","ZZ","2016-02-08",null,"Special Projects",null,{"$f":"IF(O2426=\"Business Firm billable\",VLOOKUP(A2426,'Hourly rates'!$B$2:$E$40,4,FALSE),VLOOKUP(A2426,'Hourly rates'!$B$2:$E$40,2,FALSE))","v":12},15,null,"Delgado, Manny_BIZ:Admin SPIntern10991.254240542406FriNonBillSpecial Projects"," "]
["Delgado, Manny","_BIZ:Admin SP","Intern",1099,null,1.25,"2016-02-29","2016-03-05","Mon",null,"NonBill","ZZ","2016-03-14",null,"Special Projects",null,{"$f":"IF(O2427=\"Business Firm billable\",VLOOKUP(A2427,'Hourly rates'!$B$2:$E$40,4,FALSE),VLOOKUP(A2427,'Hourly rates'!$B$2:$E$40,2,FALSE))","v":12},15,null,"Delgado, Manny_BIZ:Admin SPIntern10991.254242942434MonNonBillSpecial Projects"," "]
["Delgado, Manny","_BIZ:Admin SP","Intern",1099,null,3,"2016-03-01","2016-03-05","Tue",null,"NonBill","ZZ","2016-03-14",null,"Special Projects",null,{"$f":"IF(O2428=\"Business Firm billable\",VLOOKUP(A2428,'Hourly rates'!$B$2:$E$40,4,FALSE),VLOOKUP(A2428,'Hourly rates'!$B$2:$E$40,2,FALSE))","v":12},36,null,"Delgado, Manny_BIZ:Admin SPIntern109934243042434TueNonBillSpecial Projects"," "]
["Delgado, Manny","_BIZ:Admin SP","Intern",1099,null,1.25,"2016-03-02","2016-03-05","Wed",null,"NonBill","ZZ","2016-03-14",null,"Special Projects",null,{"$f":"IF(O2429=\"Business Firm billable\",VLOOKUP(A2429,'Hourly rates'!$B$2:$E$40,4,FALSE),VLOOKUP(A2429,'Hourly rates'!$B$2:$E$40,2,FALSE))","v":12},15,null,"Delgado, Manny_BIZ:Admin SPIntern10991.254243142434WedNonBillSpecial Projects"," "]
["Delgado, Manny","_BIZ:Admin SP","Intern",1099,null,5,"2016-03-03","2016-03-05","Thu",null,"NonBill","ZZ","2016-03-14",null,"Special Projects",null,{"$f":"IF(O2430=\"Business Firm billable\",VLOOKUP(A2430,'Hourly rates'!$B$2:$E$40,4,FALSE),VLOOKUP(A2430,'Hourly rates'!$B$2:$E$40,2,FALSE))","v":12},60,null,"Delgado, Manny_BIZ:Admin SPIntern109954243242434ThuNonBillSpecial Projects"," "]
["Delgado, Manny","_BIZ:Admin SP","Intern",1099,null,5,"2016-03-04","2016-03-05","Fri",null,"NonBill","ZZ","2016-03-14",null,"Special Projects",null,{"$f":"IF(O2431=\"Business Firm billable\",VLOOKUP(A2431,'Hourly rates'!$B$2:$E$40,4,FALSE),VLOOKUP(A2431,'Hourly rates'!$B$2:$E$40,2,FALSE))","v":12},60,null,"Delgado, Manny_BIZ:Admin SPIntern109954243342434FriNonBillSpecial Projects"," "]
["Delgado, Manny","_BIZ:Admin SP","Intern",1099,null,1.25,"2016-03-09","2016-03-12","Wed",null,"NonBill","ZZ","Pending",null,"Special Projects",null,{"$f":"IF(O2432=\"Business Firm billable\",VLOOKUP(A2432,'Hourly rates'!$B$2:$E$40,4,FALSE),VLOOKUP(A2432,'Hourly rates'!$B$2:$E$40,2,FALSE))","v":12},15,null,"Delgado, Manny_BIZ:Admin SPIntern10991.254243842441WedNonBillSpecial Projects"," "]
["Delgado, Manny","_BIZ:Admin SP","Intern",1099,null,2.25,"2016-03-11","2016-03-12","Fri",null,"NonBill","ZZ","Pending",null,"Special Projects",null,{"$f":"IF(O2433=\"Business Firm billable\",VLOOKUP(A2433,'Hourly rates'!$B$2:$E$40,4,FALSE),VLOOKUP(A2433,'Hourly rates'!$B$2:$E$40,2,FALSE))","v":12},27,null,"Delgado, Manny_BIZ:Admin SPIntern10992.254244042441FriNonBillSpecial Projects"," "]
["Delgado, Manny","_BIZ:Admin SP","Intern",1099,null,3,"2016-03-12","2016-03-12","Sat",null,"NonBill","ZZ","Pending",null,"Special Projects",null,{"$f":"IF(O2434=\"Business Firm billable\",VLOOKUP(A2434,'Hourly rates'!$B$2:$E$40,4,FALSE),VLOOKUP(A2434,'Hourly rates'!$B$2:$E$40,2,FALSE))","v":12},36,null,"Delgado, Manny_BIZ:Admin SPIntern109934244142441SatNonBillSpecial Projects"," "]
["Delgado, Manny","_BIZ:Admin SP","Intern",1099,null,2,"2016-03-14","2016-03-19","Mon",null,"NonBill","ZZ","Pending",null,"Special Projects",null,{"$f":"IF(O2435=\"Business Firm billable\",VLOOKUP(A2435,'Hourly rates'!$B$2:$E$40,4,FALSE),VLOOKUP(A2435,'Hourly rates'!$B$2:$E$40,2,FALSE))","v":12},24,null,"Delgado, Manny_BIZ:Admin SPIntern109924244342448MonNonBillSpecial Projects"," "]
["Delgado, Manny","_BIZ:Admin SP","Intern",1099,null,2,"2016-03-16","2016-03-19","Wed",null,"NonBill","ZZ","Pending",null,"Special Projects",null,{"$f":"IF(O2436=\"Business Firm billable\",VLOOKUP(A2436,'Hourly rates'!$B$2:$E$40,4,FALSE),VLOOKUP(A2436,'Hourly rates'!$B$2:$E$40,2,FALSE))","v":12},24,null,{"$f":"A2436&B2436&C2436&D2436&E2436&F2436&G2436&H2436&I2436&K2436&N2436&O2436","v":"Delgado, Manny_BIZ:Admin SPIntern109924244542448WedNonBillSpecial Projects"}," "]
["Knope, Leslie","_BIZ:Admin SP","Intern",1099,null,1,"2016-02-01","2016-02-06","Mon",null,"NonBill","ZZ","2016-02-08",null,"Special Projects",null,{"$f":"IF(O2437=\"Business Firm billable\",VLOOKUP(A2437,'Hourly rates'!$B$2:$E$40,4,FALSE),VLOOKUP(A2437,'Hourly rates'!$B$2:$E$40,2,FALSE))","v":12},12,null,"Knope, Leslie_BIZ:Admin SPIntern109914240142406MonNonBillSpecial Projects"," "]
["Knope, Leslie","_BIZ:Admin SP","Intern",1099,null,3,"2016-02-02","2016-02-06","Tue",null,"NonBill","ZZ","2016-02-08",null,"Special Projects",null,{"$f":"IF(O2438=\"Business Firm billable\",VLOOKUP(A2438,'Hourly rates'!$B$2:$E$40,4,FALSE),VLOOKUP(A2438,'Hourly rates'!$B$2:$E$40,2,FALSE))","v":12},36,null,"Knope, Leslie_BIZ:Admin SPIntern109934240242406TueNonBillSpecial Projects"," "]
["Knope, Leslie","_BIZ:Admin SP","Intern",1099,null,3,"2016-02-03","2016-02-06","Wed",null,"NonBill","ZZ","2016-02-08",null,"Special Projects",null,{"$f":"IF(O2439=\"Business Firm billable\",VLOOKUP(A2439,'Hourly rates'!$B$2:$E$40,4,FALSE),VLOOKUP(A2439,'Hourly rates'!$B$2:$E$40,2,FALSE))","v":12},36,null,"Knope, Leslie_BIZ:Admin SPIntern109934240342406WedNonBillSpecial Projects"," "]
["Knope, Leslie","_BIZ:Admin SP","Intern",1099,null,3,"2016-02-04","2016-02-06","Thu",null,"NonBill","ZZ","2016-02-08",null,"Special Projects",null,{"$f":"IF(O2440=\"Business Firm billable\",VLOOKUP(A2440,'Hourly rates'!$B$2:$E$40,4,FALSE),VLOOKUP(A2440,'Hourly rates'!$B$2:$E$40,2,FALSE))","v":12},36,null,"Knope, Leslie_BIZ:Admin SPIntern109934240442406ThuNonBillSpecial Projects"," "]
["Knope, Leslie","_BIZ:Admin SP","Intern",1099,null,1,"2016-02-05","2016-02-06","Fri",null,"NonBill","ZZ","2016-02-08",null,"Special Projects",null,{"$f":"IF(O2441=\"Business Firm billable\",VLOOKUP(A2441,'Hourly rates'!$B$2:$E$40,4,FALSE),VLOOKUP(A2441,'Hourly rates'!$B$2:$E$40,2,FALSE))","v":12},12,null,"Knope, Leslie_BIZ:Admin SPIntern109914240542406FriNonBillSpecial Projects"," "]
["Swanson, Ron","_BIZ:Admin SP","Intern",1099,null,5,"2016-01-01","2016-01-02","Fri",null,"NonBill","ZZ","2016-01-04",null,"Special Projects",null,{"$f":"IF(O2442=\"Business Firm billable\",VLOOKUP(A2442,'Hourly rates'!$B$2:$E$40,4,FALSE),VLOOKUP(A2442,'Hourly rates'!$B$2:$E$40,2,FALSE))","v":12},60,null,"Swanson, Ron_BIZ:Admin SPIntern109954237042371FriNonBillSpecial Projects"," "]
["Swanson, Ron","_BIZ:Admin SP","Intern",1099,null,1,"2016-01-05","2016-01-09","Tue",null,"NonBill","ZZ","2016-01-14",null,"Special Projects",null,{"$f":"IF(O2443=\"Business Firm billable\",VLOOKUP(A2443,'Hourly rates'!$B$2:$E$40,4,FALSE),VLOOKUP(A2443,'Hourly rates'!$B$2:$E$40,2,FALSE))","v":12},12,null,"Swanson, Ron_BIZ:Admin SPIntern109914237442378TueNonBillSpecial Projects"," "]
["Swanson, Ron","_BIZ:Admin SP","Intern",1099,null,1,"2016-01-06","2016-01-09","Wed",null,"NonBill","ZZ","2016-01-14",null,"Special Projects",null,{"$f":"IF(O2444=\"Business Firm billable\",VLOOKUP(A2444,'Hourly rates'!$B$2:$E$40,4,FALSE),VLOOKUP(A2444,'Hourly rates'!$B$2:$E$40,2,FALSE))","v":12},12,null,"Swanson, Ron_BIZ:Admin SPIntern109914237542378WedNonBillSpecial Projects"," "]
["Swanson, Ron","_BIZ:Admin SP","Intern",1099,null,6,"2016-01-07","2016-01-09","Thu",null,"NonBill","ZZ","2016-01-14",null,"Special Projects",null,{"$f":"IF(O2445=\"Business Firm billable\",VLOOKUP(A2445,'Hourly rates'!$B$2:$E$40,4,FALSE),VLOOKUP(A2445,'Hourly rates'!$B$2:$E$40,2,FALSE))","v":12},72,null,"Swanson, Ron_BIZ:Admin SPIntern109964237642378ThuNonBillSpecial Projects"," "]
["Swanson, Ron","_BIZ:Admin SP","Intern",1099,null,2,"2016-01-08","2016-01-09","Fri",null,"NonBill","ZZ","2016-01-14",null,"Special Projects",null,{"$f":"IF(O2446=\"Business Firm billable\",VLOOKUP(A2446,'Hourly rates'!$B$2:$E$40,4,FALSE),VLOOKUP(A2446,'Hourly rates'!$B$2:$E$40,2,FALSE))","v":12},24,null,"Swanson, Ron_BIZ:Admin SPIntern109924237742378FriNonBillSpecial Projects"," "]
["Swanson, Ron","_BIZ:Admin SP","Intern",1099,null,4,"2016-01-13","2016-01-16","Wed",null,"NonBill","ZZ","2016-02-02",null,"Special Projects",null,{"$f":"IF(O2447=\"Business Firm billable\",VLOOKUP(A2447,'Hourly rates'!$B$2:$E$40,4,FALSE),VLOOKUP(A2447,'Hourly rates'!$B$2:$E$40,2,FALSE))","v":12},48,null,"Swanson, Ron_BIZ:Admin SPIntern109944238242385WedNonBillSpecial Projects"," "]
["Swanson, Ron","_BIZ:Admin SP","Intern",1099,null,4,"2016-01-14","2016-01-16","Thu",null,"NonBill","ZZ","2016-02-02",null,"Special Projects",null,{"$f":"IF(O2448=\"Business Firm billable\",VLOOKUP(A2448,'Hourly rates'!$B$2:$E$40,4,FALSE),VLOOKUP(A2448,'Hourly rates'!$B$2:$E$40,2,FALSE))","v":12},48,null,"Swanson, Ron_BIZ:Admin SPIntern109944238342385ThuNonBillSpecial Projects"," "]
["Swanson, Ron","_BIZ:Admin SP","Intern",1099,null,2,"2016-01-15","2016-01-16","Fri",null,"NonBill","ZZ","2016-02-02",null,"Special Projects",null,{"$f":"IF(O2449=\"Business Firm billable\",VLOOKUP(A2449,'Hourly rates'!$B$2:$E$40,4,FALSE),VLOOKUP(A2449,'Hourly rates'!$B$2:$E$40,2,FALSE))","v":12},24,null,"Swanson, Ron_BIZ:Admin SPIntern109924238442385FriNonBillSpecial Projects"," "]
["Swanson, Ron","_BIZ:Admin SP","Intern",1099,null,3,"2016-01-19","2016-01-23","Tue",null,"NonBill","ZZ","2016-02-02",null,"Special Projects",null,{"$f":"IF(O2450=\"Business Firm billable\",VLOOKUP(A2450,'Hourly rates'!$B$2:$E$40,4,FALSE),VLOOKUP(A2450,'Hourly rates'!$B$2:$E$40,2,FALSE))","v":12},36,null,"Swanson, Ron_BIZ:Admin SPIntern109934238842392TueNonBillSpecial Projects"," "]
["Swanson, Ron","_BIZ:Admin SP","Intern",1099,null,3,"2016-01-20","2016-01-23","Wed",null,"NonBill","ZZ","2016-02-02",null,"Special Projects",null,{"$f":"IF(O2451=\"Business Firm billable\",VLOOKUP(A2451,'Hourly rates'!$B$2:$E$40,4,FALSE),VLOOKUP(A2451,'Hourly rates'!$B$2:$E$40,2,FALSE))","v":12},36,null,"Swanson, Ron_BIZ:Admin SPIntern109934238942392WedNonBillSpecial Projects"," "]
["Swanson, Ron","_BIZ:Admin SP","Intern",1099,null,4,"2016-01-21","2016-01-23","Thu",null,"NonBill","ZZ","2016-02-02",null,"Special Projects",null,{"$f":"IF(O2452=\"Business Firm billable\",VLOOKUP(A2452,'Hourly rates'!$B$2:$E$40,4,FALSE),VLOOKUP(A2452,'Hourly rates'!$B$2:$E$40,2,FALSE))","v":12},48,null,"Swanson, Ron_BIZ:Admin SPIntern109944239042392ThuNonBillSpecial Projects"," "]
["Swanson, Ron","_BIZ:Admin SP","Intern",1099,null,3,"2016-01-28","2016-01-30","Thu",null,"NonBill","ZZ","2016-02-02",null,"Special Projects",null,{"$f":"IF(O2453=\"Business Firm billable\",VLOOKUP(A2453,'Hourly rates'!$B$2:$E$40,4,FALSE),VLOOKUP(A2453,'Hourly rates'!$B$2:$E$40,2,FALSE))","v":12},36,null,"Swanson, Ron_BIZ:Admin SPIntern109934239742399ThuNonBillSpecial Projects"," "]
["Swanson, Ron","_BIZ:Admin SP","Intern",1099,null,2,"2016-01-29","2016-01-30","Fri",null,"NonBill","ZZ","2016-02-02",null,"Special Projects",null,{"$f":"IF(O2454=\"Business Firm billable\",VLOOKUP(A2454,'Hourly rates'!$B$2:$E$40,4,FALSE),VLOOKUP(A2454,'Hourly rates'!$B$2:$E$40,2,FALSE))","v":12},24,null,"Swanson, Ron_BIZ:Admin SPIntern109924239842399FriNonBillSpecial Projects"," "]
["Swanson, Ron","_BIZ:Admin SP","Intern",1099,null,2,"2016-01-30","2016-01-30","Sat",null,"NonBill","ZZ","2016-02-02",null,"Special Projects",null,{"$f":"IF(O2455=\"Business Firm billable\",VLOOKUP(A2455,'Hourly rates'!$B$2:$E$40,4,FALSE),VLOOKUP(A2455,'Hourly rates'!$B$2:$E$40,2,FALSE))","v":12},24,null,"Swanson, Ron_BIZ:Admin SPIntern109924239942399SatNonBillSpecial Projects"," "]
["Swanson, Ron","_BIZ:Admin SP","Intern",1099,null,1,"2016-02-01","2016-02-06","Mon",null,"NonBill","ZZ","2016-02-08",null,"Special Projects",null,{"$f":"IF(O2456=\"Business Firm billable\",VLOOKUP(A2456,'Hourly rates'!$B$2:$E$40,4,FALSE),VLOOKUP(A2456,'Hourly rates'!$B$2:$E$40,2,FALSE))","v":12},12,null,"Swanson, Ron_BIZ:Admin SPIntern109914240142406MonNonBillSpecial Projects"," "]
["Swanson, Ron","_BIZ:Admin SP","Intern",1099,null,2,"2016-02-02","2016-02-06","Tue",null,"NonBill","ZZ","2016-02-08",null,"Special Projects",null,{"$f":"IF(O2457=\"Business Firm billable\",VLOOKUP(A2457,'Hourly rates'!$B$2:$E$40,4,FALSE),VLOOKUP(A2457,'Hourly rates'!$B$2:$E$40,2,FALSE))","v":12},24,null,"Swanson, Ron_BIZ:Admin SPIntern109924240242406TueNonBillSpecial Projects"," "]
["Swanson, Ron","_BIZ:Admin SP","Intern",1099,null,3,"2016-02-03","2016-02-06","Wed",null,"NonBill","ZZ","2016-02-08",null,"Special Projects",null,{"$f":"IF(O2458=\"Business Firm billable\",VLOOKUP(A2458,'Hourly rates'!$B$2:$E$40,4,FALSE),VLOOKUP(A2458,'Hourly rates'!$B$2:$E$40,2,FALSE))","v":12},36,null,"Swanson, Ron_BIZ:Admin SPIntern109934240342406WedNonBillSpecial Projects"," "]
["Swanson, Ron","_BIZ:Admin SP","Intern",1099,null,2,"2016-02-04","2016-02-06","Thu",null,"NonBill","ZZ","2016-02-08",null,"Special Projects",null,{"$f":"IF(O2459=\"Business Firm billable\",VLOOKUP(A2459,'Hourly rates'!$B$2:$E$40,4,FALSE),VLOOKUP(A2459,'Hourly rates'!$B$2:$E$40,2,FALSE))","v":12},24,null,"Swanson, Ron_BIZ:Admin SPIntern109924240442406ThuNonBillSpecial Projects"," "]
["Swanson, Ron","_BIZ:Admin SP","Intern",1099,null,2,"2016-02-05","2016-02-06","Fri",null,"NonBill","ZZ","2016-02-08",null,"Special Projects",null,{"$f":"IF(O2460=\"Business Firm billable\",VLOOKUP(A2460,'Hourly rates'!$B$2:$E$40,4,FALSE),VLOOKUP(A2460,'Hourly rates'!$B$2:$E$40,2,FALSE))","v":12},24,null,"Swanson, Ron_BIZ:Admin SPIntern109924240542406FriNonBillSpecial Projects"," "]
["Swanson, Ron","_BIZ:Admin SP","Intern",1099,null,2,"2016-02-09","2016-02-13","Tue",null,"NonBill","ZZ","2016-02-23",null,"Special Projects",null,{"$f":"IF(O2461=\"Business Firm billable\",VLOOKUP(A2461,'Hourly rates'!$B$2:$E$40,4,FALSE),VLOOKUP(A2461,'Hourly rates'!$B$2:$E$40,2,FALSE))","v":12},24,null,"Swanson, Ron_BIZ:Admin SPIntern109924240942413TueNonBillSpecial Projects"," "]
["Swanson, Ron","_BIZ:Admin SP","Intern",1099,null,5,"2016-02-11","2016-02-13","Thu",null,"NonBill","ZZ","2016-02-23",null,"Special Projects",null,{"$f":"IF(O2462=\"Business Firm billable\",VLOOKUP(A2462,'Hourly rates'!$B$2:$E$40,4,FALSE),VLOOKUP(A2462,'Hourly rates'!$B$2:$E$40,2,FALSE))","v":12},60,null,"Swanson, Ron_BIZ:Admin SPIntern109954241142413ThuNonBillSpecial Projects"," "]
["Swanson, Ron","_BIZ:Admin SP","Intern",1099,null,3,"2016-02-12","2016-02-13","Fri",null,"NonBill","ZZ","2016-02-23",null,"Special Projects",null,{"$f":"IF(O2463=\"Business Firm billable\",VLOOKUP(A2463,'Hourly rates'!$B$2:$E$40,4,FALSE),VLOOKUP(A2463,'Hourly rates'!$B$2:$E$40,2,FALSE))","v":12},36,null,"Swanson, Ron_BIZ:Admin SPIntern109934241242413FriNonBillSpecial Projects"," "]
["Swanson, Ron","_BIZ:Admin SP","Intern",1099,null,1.25,"2016-02-24","2016-02-27","Wed",null,"NonBill","ZZ","2016-03-04",null,"Special Projects",null,{"$f":"IF(O2464=\"Business Firm billable\",VLOOKUP(A2464,'Hourly rates'!$B$2:$E$40,4,FALSE),VLOOKUP(A2464,'Hourly rates'!$B$2:$E$40,2,FALSE))","v":12},15,null,"Swanson, Ron_BIZ:Admin SPIntern10991.254242442427WedNonBillSpecial Projects"," "]
["Swanson, Ron","_BIZ:Admin SP","Intern",1099,null,1,"2016-02-25","2016-02-27","Thu",null,"NonBill","ZZ","2016-03-04",null,"Special Projects",null,{"$f":"IF(O2465=\"Business Firm billable\",VLOOKUP(A2465,'Hourly rates'!$B$2:$E$40,4,FALSE),VLOOKUP(A2465,'Hourly rates'!$B$2:$E$40,2,FALSE))","v":12},12,null,"Swanson, Ron_BIZ:Admin SPIntern109914242542427ThuNonBillSpecial Projects"," "]
["Swanson, Ron","_BIZ:Admin SP","Intern",1099,null,4,"2016-02-26","2016-02-27","Fri",null,"NonBill","ZZ","2016-03-04",null,"Special Projects",null,{"$f":"IF(O2466=\"Business Firm billable\",VLOOKUP(A2466,'Hourly rates'!$B$2:$E$40,4,FALSE),VLOOKUP(A2466,'Hourly rates'!$B$2:$E$40,2,FALSE))","v":12},48,null,"Swanson, Ron_BIZ:Admin SPIntern109944242642427FriNonBillSpecial Projects"," "]
["Swanson, Ron","_BIZ:Admin SP","Intern",1099,null,1.25,"2016-02-27","2016-02-27","Sat",null,"NonBill","ZZ","2016-03-04",null,"Special Projects",null,{"$f":"IF(O2467=\"Business Firm billable\",VLOOKUP(A2467,'Hourly rates'!$B$2:$E$40,4,FALSE),VLOOKUP(A2467,'Hourly rates'!$B$2:$E$40,2,FALSE))","v":12},15,null,"Swanson, Ron_BIZ:Admin SPIntern10991.254242742427SatNonBillSpecial Projects"," "]
["Swanson, Ron","_BIZ:Admin SP","Intern",1099,null,1,"2016-03-02","2016-03-05","Wed",null,"NonBill","ZZ","2016-03-14",null,"Special Projects",null,{"$f":"IF(O2468=\"Business Firm billable\",VLOOKUP(A2468,'Hourly rates'!$B$2:$E$40,4,FALSE),VLOOKUP(A2468,'Hourly rates'!$B$2:$E$40,2,FALSE))","v":12},12,null,"Swanson, Ron_BIZ:Admin SPIntern109914243142434WedNonBillSpecial Projects"," "]
["Swanson, Ron","_BIZ:Admin SP","Intern",1099,null,3,"2016-03-03","2016-03-05","Thu",null,"NonBill","ZZ","2016-03-14",null,"Special Projects",null,{"$f":"IF(O2469=\"Business Firm billable\",VLOOKUP(A2469,'Hourly rates'!$B$2:$E$40,4,FALSE),VLOOKUP(A2469,'Hourly rates'!$B$2:$E$40,2,FALSE))","v":12},36,null,"Swanson, Ron_BIZ:Admin SPIntern109934243242434ThuNonBillSpecial Projects"," "]
["Swanson, Ron","_BIZ:Admin SP","Intern",1099,null,1.25,"2016-03-04","2016-03-05","Fri",null,"NonBill","ZZ","2016-03-14",null,"Special Projects",null,{"$f":"IF(O2470=\"Business Firm billable\",VLOOKUP(A2470,'Hourly rates'!$B$2:$E$40,4,FALSE),VLOOKUP(A2470,'Hourly rates'!$B$2:$E$40,2,FALSE))","v":12},15,null,"Swanson, Ron_BIZ:Admin SPIntern10991.254243342434FriNonBillSpecial Projects"," "]
["Swanson, Ron","_BIZ:Admin SP","Intern",1099,null,2,"2016-03-07","2016-03-12","Mon",null,"NonBill","ZZ","Pending",null,"Special Projects",null,{"$f":"IF(O2471=\"Business Firm billable\",VLOOKUP(A2471,'Hourly rates'!$B$2:$E$40,4,FALSE),VLOOKUP(A2471,'Hourly rates'!$B$2:$E$40,2,FALSE))","v":12},24,null,"Swanson, Ron_BIZ:Admin SPIntern109924243642441MonNonBillSpecial Projects"," "]
["Swanson, Ron","_BIZ:Admin SP","Intern",1099,null,1.25,"2016-03-08","2016-03-12","Tue",null,"NonBill","ZZ","Pending",null,"Special Projects",null,{"$f":"IF(O2472=\"Business Firm billable\",VLOOKUP(A2472,'Hourly rates'!$B$2:$E$40,4,FALSE),VLOOKUP(A2472,'Hourly rates'!$B$2:$E$40,2,FALSE))","v":12},15,null,"Swanson, Ron_BIZ:Admin SPIntern10991.254243742441TueNonBillSpecial Projects"," "]
["Swanson, Ron","_BIZ:Admin SP","Intern",1099,null,1.25,"2016-03-09",{"$f":"IF(I2473=\"Sun\",G2473+6,IF(I2473=\"Mon\",G2473+5,IF(I2473=\"Tue\",G2473+4,IF(I2473=\"Wed\",G2473+3,IF(I2473=\"Thu\",G2473+2,IF(I2473=\"Fri\",G2473+1,G2473))))))","v":"2016-03-12"},"Wed",null,"NonBill","ZZ","Pending",null,{"$f":"IF(B2473=$B$2014,\"Special Projects\",IF(OR(ISNUMBER(SEARCH(\"BIZ\",B2473)),ISNUMBER(SEARCH(\"business\",B2473)))=FALSE,\"Business Firm Billable\",\"\"))","v":"Special Projects"},null,{"$f":"IF(O2473=\"Business Firm billable\",VLOOKUP(A2473,'Hourly rates'!$B$2:$E$40,4,FALSE),VLOOKUP(A2473,'Hourly rates'!$B$2:$E$40,2,FALSE))","v":12},{"$f":"Q2473*F2473","v":15},null,"Swanson, Ron_BIZ:Admin SPIntern10991.254243842441WedNonBillSpecial Projects"," "]
["Swanson, Ron","_BIZ:Admin SP","Intern",1099,null,3,"2016-03-10","2016-03-12","Thu",null,"NonBill","ZZ","Pending",null,"Special Projects",null,{"$f":"IF(O2474=\"Business Firm billable\",VLOOKUP(A2474,'Hourly rates'!$B$2:$E$40,4,FALSE),VLOOKUP(A2474,'Hourly rates'!$B$2:$E$40,2,FALSE))","v":12},36,null,"Swanson, Ron_BIZ:Admin SPIntern109934243942441ThuNonBillSpecial Projects"," "]
["Swanson, Ron","_BIZ:Admin SP","Intern",1099,null,3,"2016-03-11","2016-03-12","Fri",null,"NonBill","ZZ","Pending",null,"Special Projects",null,{"$f":"IF(O2475=\"Business Firm billable\",VLOOKUP(A2475,'Hourly rates'!$B$2:$E$40,4,FALSE),VLOOKUP(A2475,'Hourly rates'!$B$2:$E$40,2,FALSE))","v":12},36,null,"Swanson, Ron_BIZ:Admin SPIntern109934244042441FriNonBillSpecial Projects"," "]
["Swanson, Ron","_BIZ:Administrative","Intern",1099,null,1.25,"2016-03-01","2016-03-05","Tue",null,"NonBill","ZZ","2016-03-14",null,"",null,{"$f":"IF(O2476=\"Business Firm billable\",VLOOKUP(A2476,'Hourly rates'!$B$2:$E$40,4,FALSE),VLOOKUP(A2476,'Hourly rates'!$B$2:$E$40,2,FALSE))","v":12},15,null,"Swanson, Ron_BIZ:AdministrativeIntern10991.254243042434TueNonBill"," "]
["Swanson, Ron","_BIZ:Administrative","Intern",1099,null,2,"2016-03-03","2016-03-05","Thu",null,"NonBill","ZZ","2016-03-14",null,"",null,{"$f":"IF(O2477=\"Business Firm billable\",VLOOKUP(A2477,'Hourly rates'!$B$2:$E$40,4,FALSE),VLOOKUP(A2477,'Hourly rates'!$B$2:$E$40,2,FALSE))","v":12},24,null,"Swanson, Ron_BIZ:AdministrativeIntern109924243242434ThuNonBill"," "]
["Almeida, Tony","_BIZ:Admin SP","Intern",1099,null,1,"2015-12-07","2015-12-12","Mon",null,"NonBill","ZZ","2016-01-04",null,"Special Projects",null,{"$f":"IF(O2478=\"Business Firm billable\",VLOOKUP(A2478,'Hourly rates'!$B$2:$E$40,4,FALSE),VLOOKUP(A2478,'Hourly rates'!$B$2:$E$40,2,FALSE))","v":12},12,null,"Almeida, Tony_BIZ:Admin SPIntern109914234542350MonNonBillSpecial Projects"," "]
["Almeida, Tony","_BIZ:Admin SP","Intern",1099,null,1,"2015-12-11","2015-12-12","Fri",null,"NonBill","ZZ","2016-01-04",null,"Special Projects",null,{"$f":"IF(O2479=\"Business Firm billable\",VLOOKUP(A2479,'Hourly rates'!$B$2:$E$40,4,FALSE),VLOOKUP(A2479,'Hourly rates'!$B$2:$E$40,2,FALSE))","v":12},12,null,"Almeida, Tony_BIZ:Admin SPIntern109914234942350FriNonBillSpecial Projects"," "]
["Almeida, Tony","_BIZ:Administrative","Intern",1099,null,3.25,"2015-12-07","2015-12-12","Mon",null,"NonBill","ZZ","2016-01-04",null,"",null,{"$f":"IF(O2480=\"Business Firm billable\",VLOOKUP(A2480,'Hourly rates'!$B$2:$E$40,4,FALSE),VLOOKUP(A2480,'Hourly rates'!$B$2:$E$40,2,FALSE))","v":12},39,null,"Almeida, Tony_BIZ:AdministrativeIntern10993.254234542350MonNonBill"," "]
["Almeida, Tony","_BIZ:Administrative","Intern",1099,null,6,"2015-12-08","2015-12-12","Tue",null,"NonBill","ZZ","2016-01-04",null,"",null,{"$f":"IF(O2481=\"Business Firm billable\",VLOOKUP(A2481,'Hourly rates'!$B$2:$E$40,4,FALSE),VLOOKUP(A2481,'Hourly rates'!$B$2:$E$40,2,FALSE))","v":12},72,null,"Almeida, Tony_BIZ:AdministrativeIntern109964234642350TueNonBill"," "]
["Almeida, Tony","_BIZ:Administrative","Intern",1099,null,7,"2015-12-09","2015-12-12","Wed",null,"NonBill","ZZ","2016-01-04",null,"",null,{"$f":"IF(O2482=\"Business Firm billable\",VLOOKUP(A2482,'Hourly rates'!$B$2:$E$40,4,FALSE),VLOOKUP(A2482,'Hourly rates'!$B$2:$E$40,2,FALSE))","v":12},84,null,"Almeida, Tony_BIZ:AdministrativeIntern109974234742350WedNonBill"," "]
["Almeida, Tony","_BIZ:Administrative","Intern",1099,null,6,"2015-12-10","2015-12-12","Thu",null,"NonBill","ZZ","2016-01-04",null,"",null,{"$f":"IF(O2483=\"Business Firm billable\",VLOOKUP(A2483,'Hourly rates'!$B$2:$E$40,4,FALSE),VLOOKUP(A2483,'Hourly rates'!$B$2:$E$40,2,FALSE))","v":12},72,null,"Almeida, Tony_BIZ:AdministrativeIntern109964234842350ThuNonBill"," "]
["Almeida, Tony","_BIZ:Administrative","Intern",1099,null,3,"2015-12-11","2015-12-12","Fri",null,"NonBill","ZZ","2016-01-04",null,"",null,{"$f":"IF(O2484=\"Business Firm billable\",VLOOKUP(A2484,'Hourly rates'!$B$2:$E$40,4,FALSE),VLOOKUP(A2484,'Hourly rates'!$B$2:$E$40,2,FALSE))","v":12},36,null,"Almeida, Tony_BIZ:AdministrativeIntern109934234942350FriNonBill"," "]
["Almeida, Tony","_BIZ:Administrative","Intern",1099,null,4,"2015-12-14","2015-12-19","Mon",null,"NonBill","ZZ","2016-01-04",null,"",null,{"$f":"IF(O2485=\"Business Firm billable\",VLOOKUP(A2485,'Hourly rates'!$B$2:$E$40,4,FALSE),VLOOKUP(A2485,'Hourly rates'!$B$2:$E$40,2,FALSE))","v":12},48,null,"Almeida, Tony_BIZ:AdministrativeIntern109944235242357MonNonBill"," "]
["Almeida, Tony","_BIZ:Administrative","Intern",1099,null,4,"2015-12-15","2015-12-19","Tue",null,"NonBill","ZZ","2016-01-04",null,"",null,{"$f":"IF(O2486=\"Business Firm billable\",VLOOKUP(A2486,'Hourly rates'!$B$2:$E$40,4,FALSE),VLOOKUP(A2486,'Hourly rates'!$B$2:$E$40,2,FALSE))","v":12},48,null,"Almeida, Tony_BIZ:AdministrativeIntern109944235342357TueNonBill"," "]
["Almeida, Tony","_BIZ:Administrative","Intern",1099,null,5.25,"2015-12-16","2015-12-19","Wed",null,"NonBill","ZZ","2016-01-04",null,"",null,{"$f":"IF(O2487=\"Business Firm billable\",VLOOKUP(A2487,'Hourly rates'!$B$2:$E$40,4,FALSE),VLOOKUP(A2487,'Hourly rates'!$B$2:$E$40,2,FALSE))","v":12},63,null,"Almeida, Tony_BIZ:AdministrativeIntern10995.254235442357WedNonBill"," "]
["Walker, Renee","_BIZ:Admin XX","Intern",1099,null,2,"2016-02-10","2016-02-13","Wed",null,"NonBill","ZZ","2016-02-23",null,"",null,{"$f":"IF(O2488=\"Business Firm billable\",VLOOKUP(A2488,'Hourly rates'!$B$2:$E$40,4,FALSE),VLOOKUP(A2488,'Hourly rates'!$B$2:$E$40,2,FALSE))","v":12},24,null,"Walker, Renee_BIZ:Admin XXIntern109924241042413WedNonBill"," "]
["Walker, Renee","_BIZ:Admin XX","Intern",1099,null,1,"2016-02-26","2016-02-27","Fri",null,"NonBill","ZZ","2016-03-04",null,"",null,{"$f":"IF(O2489=\"Business Firm billable\",VLOOKUP(A2489,'Hourly rates'!$B$2:$E$40,4,FALSE),VLOOKUP(A2489,'Hourly rates'!$B$2:$E$40,2,FALSE))","v":12},12,null,"Walker, Renee_BIZ:Admin XXIntern109914242642427FriNonBill"," "]
["Walker, Renee","_BIZ:Admin XX","Intern",1099,null,1.75,"2016-02-29","2016-03-05","Mon",null,"NonBill","ZZ","2016-03-14",null,"",null,{"$f":"IF(O2490=\"Business Firm billable\",VLOOKUP(A2490,'Hourly rates'!$B$2:$E$40,4,FALSE),VLOOKUP(A2490,'Hourly rates'!$B$2:$E$40,2,FALSE))","v":12},21,null,"Walker, Renee_BIZ:Admin XXIntern10991.754242942434MonNonBill"," "]
["Walker, Renee","_BIZ:Admin XX","Intern",1099,null,1.75,"2016-03-01","2016-03-05","Tue",null,"NonBill","ZZ","2016-03-14",null,"",null,{"$f":"IF(O2491=\"Business Firm billable\",VLOOKUP(A2491,'Hourly rates'!$B$2:$E$40,4,FALSE),VLOOKUP(A2491,'Hourly rates'!$B$2:$E$40,2,FALSE))","v":12},21,null,"Walker, Renee_BIZ:Admin XXIntern10991.754243042434TueNonBill"," "]
["Walker, Renee","_BIZ:Admin XX","Intern",1099,null,1,"2016-03-02","2016-03-05","Wed",null,"NonBill","ZZ","2016-03-14",null,"",null,{"$f":"IF(O2492=\"Business Firm billable\",VLOOKUP(A2492,'Hourly rates'!$B$2:$E$40,4,FALSE),VLOOKUP(A2492,'Hourly rates'!$B$2:$E$40,2,FALSE))","v":12},12,null,"Walker, Renee_BIZ:Admin XXIntern109914243142434WedNonBill"," "]
["Walker, Renee","_BIZ:Admin XX","Intern",1099,null,3,"2016-03-22","2016-03-26","Tue",null,"NonBill","ZZ","Pending",null,"",null,{"$f":"IF(O2493=\"Business Firm billable\",VLOOKUP(A2493,'Hourly rates'!$B$2:$E$40,4,FALSE),VLOOKUP(A2493,'Hourly rates'!$B$2:$E$40,2,FALSE))","v":12},36,null,"Walker, Renee_BIZ:Admin XXIntern109934245142455TueNonBill"," "]
["Walker, Renee","_BIZ:Admin XX","Intern",1099,null,1,"2016-03-23","2016-03-26","Wed",null,"NonBill","ZZ","Pending",null,"",null,{"$f":"IF(O2494=\"Business Firm billable\",VLOOKUP(A2494,'Hourly rates'!$B$2:$E$40,4,FALSE),VLOOKUP(A2494,'Hourly rates'!$B$2:$E$40,2,FALSE))","v":12},12,null,"Walker, Renee_BIZ:Admin XXIntern109914245242455WedNonBill"," "]
["Walker, Renee","_BIZ:Admin XX","Intern",1099,null,1.75,"2016-03-24","2016-03-26","Thu",null,"NonBill","ZZ","Pending",null,"",null,{"$f":"IF(O2495=\"Business Firm billable\",VLOOKUP(A2495,'Hourly rates'!$B$2:$E$40,4,FALSE),VLOOKUP(A2495,'Hourly rates'!$B$2:$E$40,2,FALSE))","v":12},21,null,"Walker, Renee_BIZ:Admin XXIntern10991.754245342455ThuNonBill"," "]
["Walker, Renee","_BIZ:Admin XX","Intern",1099,null,1.25,"2016-03-25","2016-03-26","Fri",null,"NonBill","ZZ","Pending",null,"",null,{"$f":"IF(O2496=\"Business Firm billable\",VLOOKUP(A2496,'Hourly rates'!$B$2:$E$40,4,FALSE),VLOOKUP(A2496,'Hourly rates'!$B$2:$E$40,2,FALSE))","v":12},15,null,"Walker, Renee_BIZ:Admin XXIntern10991.254245442455FriNonBill"," "]
["Walker, Renee","_BIZ:Admin SP","Intern",1099,null,1,"2015-12-06","2015-12-12","Sun",null,"NonBill","ZZ","2016-01-04",null,"Special Projects",null,{"$f":"IF(O2497=\"Business Firm billable\",VLOOKUP(A2497,'Hourly rates'!$B$2:$E$40,4,FALSE),VLOOKUP(A2497,'Hourly rates'!$B$2:$E$40,2,FALSE))","v":12},12,null,"Walker, Renee_BIZ:Admin SPIntern109914234442350SunNonBillSpecial Projects"," "]
["Walker, Renee","_BIZ:Admin SP","Intern",1099,null,1,"2015-12-07","2015-12-12","Mon",null,"NonBill","ZZ","2016-01-04",null,"Special Projects",null,{"$f":"IF(O2498=\"Business Firm billable\",VLOOKUP(A2498,'Hourly rates'!$B$2:$E$40,4,FALSE),VLOOKUP(A2498,'Hourly rates'!$B$2:$E$40,2,FALSE))","v":12},12,null,"Walker, Renee_BIZ:Admin SPIntern109914234542350MonNonBillSpecial Projects"," "]
["Walker, Renee","_BIZ:Admin SP","Intern",1099,null,1,"2015-12-11","2015-12-12","Fri",null,"NonBill","ZZ","2016-01-04",null,"Special Projects",null,{"$f":"IF(O2499=\"Business Firm billable\",VLOOKUP(A2499,'Hourly rates'!$B$2:$E$40,4,FALSE),VLOOKUP(A2499,'Hourly rates'!$B$2:$E$40,2,FALSE))","v":12},12,null,"Walker, Renee_BIZ:Admin SPIntern109914234942350FriNonBillSpecial Projects"," "]
["Walker, Renee","_BIZ:Admin SP","Intern",1099,null,5,"2016-01-04",{"$f":"IF(I2500=\"Sun\",G2500+6,IF(I2500=\"Mon\",G2500+5,IF(I2500=\"Tue\",G2500+4,IF(I2500=\"Wed\",G2500+3,IF(I2500=\"Thu\",G2500+2,IF(I2500=\"Fri\",G2500+1,G2500))))))","v":"2016-01-09"},"Mon",null,"NonBill","ZZ","2016-01-14",null,"Special Projects",null,{"$f":"IF(O2500=\"Business Firm billable\",VLOOKUP(A2500,'Hourly rates'!$B$2:$E$40,4,FALSE),VLOOKUP(A2500,'Hourly rates'!$B$2:$E$40,2,FALSE))","v":12},60,null,{"$f":"A2500&B2500&C2500&D2500&E2500&F2500&G2500&H2500&I2500&K2500&N2500&O2500","v":"Walker, Renee_BIZ:Admin SPIntern109954237342378MonNonBillSpecial Projects"}," "]
["Walker, Renee","_BIZ:Admin SP","Intern",1099,null,1.25,"2016-01-06","2016-01-09","Wed",null,"NonBill","ZZ","2016-01-14",null,"Special Projects",null,{"$f":"IF(O2501=\"Business Firm billable\",VLOOKUP(A2501,'Hourly rates'!$B$2:$E$40,4,FALSE),VLOOKUP(A2501,'Hourly rates'!$B$2:$E$40,2,FALSE))","v":12},15,null,"Walker, Renee_BIZ:Admin SPIntern10991.254237542378WedNonBillSpecial Projects"," "]
["Walker, Renee","_BIZ:Admin SP","Intern",1099,null,1.25,"2016-01-07","2016-01-09","Thu",null,"NonBill","ZZ","2016-01-14",null,"Special Projects",null,{"$f":"IF(O2502=\"Business Firm billable\",VLOOKUP(A2502,'Hourly rates'!$B$2:$E$40,4,FALSE),VLOOKUP(A2502,'Hourly rates'!$B$2:$E$40,2,FALSE))","v":12},15,null,"Walker, Renee_BIZ:Admin SPIntern10991.254237642378ThuNonBillSpecial Projects"," "]
["Walker, Renee","_BIZ:Admin SP","Intern",1099,null,1.75,"2016-01-08","2016-01-09","Fri",null,"NonBill","ZZ","2016-01-14",null,"Special Projects",null,{"$f":"IF(O2503=\"Business Firm billable\",VLOOKUP(A2503,'Hourly rates'!$B$2:$E$40,4,FALSE),VLOOKUP(A2503,'Hourly rates'!$B$2:$E$40,2,FALSE))","v":12},21,null,"Walker, Renee_BIZ:Admin SPIntern10991.754237742378FriNonBillSpecial Projects"," "]
["Walker, Renee","_BIZ:Admin SP","Intern",1099,null,1.75,"2016-01-09","2016-01-09","Sat",null,"NonBill","ZZ","2016-01-14",null,"Special Projects",null,{"$f":"IF(O2504=\"Business Firm billable\",VLOOKUP(A2504,'Hourly rates'!$B$2:$E$40,4,FALSE),VLOOKUP(A2504,'Hourly rates'!$B$2:$E$40,2,FALSE))","v":12},21,null,"Walker, Renee_BIZ:Admin SPIntern10991.754237842378SatNonBillSpecial Projects"," "]
["Walker, Renee","_BIZ:Admin SP","Intern",1099,null,2,"2016-01-11","2016-01-16","Mon",null,"NonBill","ZZ","2016-02-02",null,"Special Projects",null,{"$f":"IF(O2505=\"Business Firm billable\",VLOOKUP(A2505,'Hourly rates'!$B$2:$E$40,4,FALSE),VLOOKUP(A2505,'Hourly rates'!$B$2:$E$40,2,FALSE))","v":12},24,null,"Walker, Renee_BIZ:Admin SPIntern109924238042385MonNonBillSpecial Projects"," "]
["Walker, Renee","_BIZ:Admin SP","Intern",1099,null,2,"2016-01-12","2016-01-16","Tue",null,"NonBill","ZZ","2016-02-02",null,"Special Projects",null,{"$f":"IF(O2506=\"Business Firm billable\",VLOOKUP(A2506,'Hourly rates'!$B$2:$E$40,4,FALSE),VLOOKUP(A2506,'Hourly rates'!$B$2:$E$40,2,FALSE))","v":12},24,null,"Walker, Renee_BIZ:Admin SPIntern109924238142385TueNonBillSpecial Projects"," "]
["Walker, Renee","_BIZ:Admin SP","Intern",1099,null,1,"2016-01-13","2016-01-16","Wed",null,"NonBill","ZZ","2016-02-02",null,"Special Projects",null,{"$f":"IF(O2507=\"Business Firm billable\",VLOOKUP(A2507,'Hourly rates'!$B$2:$E$40,4,FALSE),VLOOKUP(A2507,'Hourly rates'!$B$2:$E$40,2,FALSE))","v":12},12,null,"Walker, Renee_BIZ:Admin SPIntern109914238242385WedNonBillSpecial Projects"," "]
["Walker, Renee","_BIZ:Admin SP","Intern",1099,null,1.25,"2016-01-14","2016-01-16","Thu",null,"NonBill","ZZ","2016-02-02",null,"Special Projects",null,{"$f":"IF(O2508=\"Business Firm billable\",VLOOKUP(A2508,'Hourly rates'!$B$2:$E$40,4,FALSE),VLOOKUP(A2508,'Hourly rates'!$B$2:$E$40,2,FALSE))","v":12},15,null,"Walker, Renee_BIZ:Admin SPIntern10991.254238342385ThuNonBillSpecial Projects"," "]
["Walker, Renee","_BIZ:Admin SP","Intern",1099,null,2,"2016-01-15","2016-01-16","Fri",null,"NonBill","ZZ","2016-02-02",null,"Special Projects",null,{"$f":"IF(O2509=\"Business Firm billable\",VLOOKUP(A2509,'Hourly rates'!$B$2:$E$40,4,FALSE),VLOOKUP(A2509,'Hourly rates'!$B$2:$E$40,2,FALSE))","v":12},24,null,"Walker, Renee_BIZ:Admin SPIntern109924238442385FriNonBillSpecial Projects"," "]
["Walker, Renee","_BIZ:Admin SP","Intern",1099,null,1.25,"2016-01-16","2016-01-16","Sat",null,"NonBill","ZZ","2016-02-02",null,"Special Projects",null,{"$f":"IF(O2510=\"Business Firm billable\",VLOOKUP(A2510,'Hourly rates'!$B$2:$E$40,4,FALSE),VLOOKUP(A2510,'Hourly rates'!$B$2:$E$40,2,FALSE))","v":12},15,null,"Walker, Renee_BIZ:Admin SPIntern10991.254238542385SatNonBillSpecial Projects"," "]
["Walker, Renee","_BIZ:Admin SP","Intern",1099,null,2.25,"2016-01-19","2016-01-23","Tue",null,"NonBill","ZZ","2016-02-02",null,"Special Projects",null,{"$f":"IF(O2511=\"Business Firm billable\",VLOOKUP(A2511,'Hourly rates'!$B$2:$E$40,4,FALSE),VLOOKUP(A2511,'Hourly rates'!$B$2:$E$40,2,FALSE))","v":12},27,null,"Walker, Renee_BIZ:Admin SPIntern10992.254238842392TueNonBillSpecial Projects"," "]
["Walker, Renee","_BIZ:Admin SP","Intern",1099,null,1.25,"2016-01-20","2016-01-23","Wed",null,"NonBill","ZZ","2016-02-02",null,"Special Projects",null,{"$f":"IF(O2512=\"Business Firm billable\",VLOOKUP(A2512,'Hourly rates'!$B$2:$E$40,4,FALSE),VLOOKUP(A2512,'Hourly rates'!$B$2:$E$40,2,FALSE))","v":12},15,null,"Walker, Renee_BIZ:Admin SPIntern10991.254238942392WedNonBillSpecial Projects"," "]
["Walker, Renee","_BIZ:Admin SP","Intern",1099,null,1,"2016-01-21","2016-01-23","Thu",null,"NonBill","ZZ","2016-02-02",null,"Special Projects",null,{"$f":"IF(O2513=\"Business Firm billable\",VLOOKUP(A2513,'Hourly rates'!$B$2:$E$40,4,FALSE),VLOOKUP(A2513,'Hourly rates'!$B$2:$E$40,2,FALSE))","v":12},12,null,"Walker, Renee_BIZ:Admin SPIntern109914239042392ThuNonBillSpecial Projects"," "]
["Walker, Renee","_BIZ:Admin SP","Intern",1099,null,3,"2016-01-22","2016-01-23","Fri",null,"NonBill","ZZ","2016-02-02",null,"Special Projects",null,{"$f":"IF(O2514=\"Business Firm billable\",VLOOKUP(A2514,'Hourly rates'!$B$2:$E$40,4,FALSE),VLOOKUP(A2514,'Hourly rates'!$B$2:$E$40,2,FALSE))","v":12},36,null,"Walker, Renee_BIZ:Admin SPIntern109934239142392FriNonBillSpecial Projects"," "]
["Walker, Renee","_BIZ:Admin SP","Intern",1099,null,1.75,"2016-01-25","2016-01-30","Mon",null,"NonBill","ZZ","2016-02-02",null,"Special Projects",null,{"$f":"IF(O2515=\"Business Firm billable\",VLOOKUP(A2515,'Hourly rates'!$B$2:$E$40,4,FALSE),VLOOKUP(A2515,'Hourly rates'!$B$2:$E$40,2,FALSE))","v":12},21,null,"Walker, Renee_BIZ:Admin SPIntern10991.754239442399MonNonBillSpecial Projects"," "]
["Walker, Renee","_BIZ:Admin SP","Intern",1099,null,1.25,"2016-01-26","2016-01-30","Tue",null,"NonBill","ZZ","2016-02-02",null,"Special Projects",null,{"$f":"IF(O2516=\"Business Firm billable\",VLOOKUP(A2516,'Hourly rates'!$B$2:$E$40,4,FALSE),VLOOKUP(A2516,'Hourly rates'!$B$2:$E$40,2,FALSE))","v":12},15,null,"Walker, Renee_BIZ:Admin SPIntern10991.254239542399TueNonBillSpecial Projects"," "]
["Walker, Renee","_BIZ:Admin SP","Intern",1099,null,2,"2016-01-28","2016-01-30","Thu",null,"NonBill","ZZ","2016-02-02",null,"Special Projects",null,{"$f":"IF(O2517=\"Business Firm billable\",VLOOKUP(A2517,'Hourly rates'!$B$2:$E$40,4,FALSE),VLOOKUP(A2517,'Hourly rates'!$B$2:$E$40,2,FALSE))","v":12},24,null,"Walker, Renee_BIZ:Admin SPIntern109924239742399ThuNonBillSpecial Projects"," "]
["Walker, Renee","_BIZ:Admin SP","Intern",1099,null,4,"2016-01-29","2016-01-30","Fri",null,"NonBill","ZZ","2016-02-02",null,"Special Projects",null,{"$f":"IF(O2518=\"Business Firm billable\",VLOOKUP(A2518,'Hourly rates'!$B$2:$E$40,4,FALSE),VLOOKUP(A2518,'Hourly rates'!$B$2:$E$40,2,FALSE))","v":12},48,null,"Walker, Renee_BIZ:Admin SPIntern109944239842399FriNonBillSpecial Projects"," "]
["Walker, Renee","_BIZ:Admin SP","Intern",1099,null,2,"2016-02-01","2016-02-06","Mon",null,"NonBill","ZZ","2016-02-08",null,"Special Projects",null,{"$f":"IF(O2519=\"Business Firm billable\",VLOOKUP(A2519,'Hourly rates'!$B$2:$E$40,4,FALSE),VLOOKUP(A2519,'Hourly rates'!$B$2:$E$40,2,FALSE))","v":12},24,null,"Walker, Renee_BIZ:Admin SPIntern109924240142406MonNonBillSpecial Projects"," "]
["Walker, Renee","_BIZ:Admin SP","Intern",1099,null,3,"2016-02-02","2016-02-06","Tue",null,"NonBill","ZZ","2016-02-08",null,"Special Projects",null,{"$f":"IF(O2520=\"Business Firm billable\",VLOOKUP(A2520,'Hourly rates'!$B$2:$E$40,4,FALSE),VLOOKUP(A2520,'Hourly rates'!$B$2:$E$40,2,FALSE))","v":12},36,null,"Walker, Renee_BIZ:Admin SPIntern109934240242406TueNonBillSpecial Projects"," "]
["Walker, Renee","_BIZ:Admin SP","Intern",1099,null,2,"2016-02-04","2016-02-06","Thu",null,"NonBill","ZZ","2016-02-08",null,"Special Projects",null,{"$f":"IF(O2521=\"Business Firm billable\",VLOOKUP(A2521,'Hourly rates'!$B$2:$E$40,4,FALSE),VLOOKUP(A2521,'Hourly rates'!$B$2:$E$40,2,FALSE))","v":12},24,null,"Walker, Renee_BIZ:Admin SPIntern109924240442406ThuNonBillSpecial Projects"," "]
["Walker, Renee","_BIZ:Admin SP","Intern",1099,null,3,"2016-02-05","2016-02-06","Fri",null,"NonBill","ZZ","2016-02-08",null,"Special Projects",null,{"$f":"IF(O2522=\"Business Firm billable\",VLOOKUP(A2522,'Hourly rates'!$B$2:$E$40,4,FALSE),VLOOKUP(A2522,'Hourly rates'!$B$2:$E$40,2,FALSE))","v":12},36,null,"Walker, Renee_BIZ:Admin SPIntern109934240542406FriNonBillSpecial Projects"," "]
["Walker, Renee","_BIZ:Admin SP","Intern",1099,null,2,"2016-02-08","2016-02-13","Mon",null,"NonBill","ZZ","2016-02-23",null,"Special Projects",null,{"$f":"IF(O2523=\"Business Firm billable\",VLOOKUP(A2523,'Hourly rates'!$B$2:$E$40,4,FALSE),VLOOKUP(A2523,'Hourly rates'!$B$2:$E$40,2,FALSE))","v":12},24,null,"Walker, Renee_BIZ:Admin SPIntern109924240842413MonNonBillSpecial Projects"," "]
["Walker, Renee","_BIZ:Admin SP","Intern",1099,null,2,"2016-02-09","2016-02-13","Tue",null,"NonBill","ZZ","2016-02-23",null,"Special Projects",null,{"$f":"IF(O2524=\"Business Firm billable\",VLOOKUP(A2524,'Hourly rates'!$B$2:$E$40,4,FALSE),VLOOKUP(A2524,'Hourly rates'!$B$2:$E$40,2,FALSE))","v":12},24,null,"Walker, Renee_BIZ:Admin SPIntern109924240942413TueNonBillSpecial Projects"," "]
["Walker, Renee","_BIZ:Admin SP","Intern",1099,null,1.25,"2016-02-10","2016-02-13","Wed",null,"NonBill","ZZ","2016-02-23",null,"Special Projects",null,{"$f":"IF(O2525=\"Business Firm billable\",VLOOKUP(A2525,'Hourly rates'!$B$2:$E$40,4,FALSE),VLOOKUP(A2525,'Hourly rates'!$B$2:$E$40,2,FALSE))","v":12},15,null,"Walker, Renee_BIZ:Admin SPIntern10991.254241042413WedNonBillSpecial Projects"," "]
["Walker, Renee","_BIZ:Admin SP","Intern",1099,null,4,"2016-02-11","2016-02-13","Thu",null,"NonBill","ZZ","2016-02-23",null,"Special Projects",null,{"$f":"IF(O2526=\"Business Firm billable\",VLOOKUP(A2526,'Hourly rates'!$B$2:$E$40,4,FALSE),VLOOKUP(A2526,'Hourly rates'!$B$2:$E$40,2,FALSE))","v":12},48,null,"Walker, Renee_BIZ:Admin SPIntern109944241142413ThuNonBillSpecial Projects"," "]
["Walker, Renee","_BIZ:Admin SP","Intern",1099,null,1.25,"2016-02-12","2016-02-13","Fri",null,"NonBill","ZZ","2016-02-23",null,"Special Projects",null,{"$f":"IF(O2527=\"Business Firm billable\",VLOOKUP(A2527,'Hourly rates'!$B$2:$E$40,4,FALSE),VLOOKUP(A2527,'Hourly rates'!$B$2:$E$40,2,FALSE))","v":12},15,null,"Walker, Renee_BIZ:Admin SPIntern10991.254241242413FriNonBillSpecial Projects"," "]
["Walker, Renee","_BIZ:Admin SP","Intern",1099,null,1.25,"2016-02-15","2016-02-20","Mon",null,"NonBill","ZZ","2016-02-23",null,"Special Projects",null,{"$f":"IF(O2528=\"Business Firm billable\",VLOOKUP(A2528,'Hourly rates'!$B$2:$E$40,4,FALSE),VLOOKUP(A2528,'Hourly rates'!$B$2:$E$40,2,FALSE))","v":12},15,null,"Walker, Renee_BIZ:Admin SPIntern10991.254241542420MonNonBillSpecial Projects"," "]
["Walker, Renee","_BIZ:Admin SP","Intern",1099,null,1.75,"2016-02-18","2016-02-20","Thu",null,"NonBill","ZZ","2016-02-23",null,"Special Projects",null,{"$f":"IF(O2529=\"Business Firm billable\",VLOOKUP(A2529,'Hourly rates'!$B$2:$E$40,4,FALSE),VLOOKUP(A2529,'Hourly rates'!$B$2:$E$40,2,FALSE))","v":12},21,null,"Walker, Renee_BIZ:Admin SPIntern10991.754241842420ThuNonBillSpecial Projects"," "]
["Walker, Renee","_BIZ:Admin SP","Intern",1099,null,1,"2016-02-19","2016-02-20","Fri",null,"NonBill","ZZ","2016-02-23",null,"Special Projects",null,{"$f":"IF(O2530=\"Business Firm billable\",VLOOKUP(A2530,'Hourly rates'!$B$2:$E$40,4,FALSE),VLOOKUP(A2530,'Hourly rates'!$B$2:$E$40,2,FALSE))","v":12},12,null,"Walker, Renee_BIZ:Admin SPIntern109914241942420FriNonBillSpecial Projects"," "]
["Walker, Renee","_BIZ:Admin SP","Intern",1099,null,2,"2016-02-22","2016-02-27","Mon",null,"NonBill","ZZ","2016-03-04",null,"Special Projects",null,{"$f":"IF(O2531=\"Business Firm billable\",VLOOKUP(A2531,'Hourly rates'!$B$2:$E$40,4,FALSE),VLOOKUP(A2531,'Hourly rates'!$B$2:$E$40,2,FALSE))","v":12},24,null,"Walker, Renee_BIZ:Admin SPIntern109924242242427MonNonBillSpecial Projects"," "]
["Walker, Renee","_BIZ:Admin SP","Intern",1099,null,2.25,"2016-02-23","2016-02-27","Tue",null,"NonBill","ZZ","2016-03-04",null,"Special Projects",null,{"$f":"IF(O2532=\"Business Firm billable\",VLOOKUP(A2532,'Hourly rates'!$B$2:$E$40,4,FALSE),VLOOKUP(A2532,'Hourly rates'!$B$2:$E$40,2,FALSE))","v":12},27,null,"Walker, Renee_BIZ:Admin SPIntern10992.254242342427TueNonBillSpecial Projects"," "]
["Walker, Renee","_BIZ:Admin SP","Intern",1099,null,1.25,"2016-02-24","2016-02-27","Wed",null,"NonBill","ZZ","2016-03-04",null,"Special Projects",null,{"$f":"IF(O2533=\"Business Firm billable\",VLOOKUP(A2533,'Hourly rates'!$B$2:$E$40,4,FALSE),VLOOKUP(A2533,'Hourly rates'!$B$2:$E$40,2,FALSE))","v":12},15,null,"Walker, Renee_BIZ:Admin SPIntern10991.254242442427WedNonBillSpecial Projects"," "]
["Walker, Renee","_BIZ:Admin SP","Intern",1099,null,1.25,"2016-02-26","2016-02-27","Fri",null,"NonBill","ZZ","2016-03-04",null,"Special Projects",null,{"$f":"IF(O2534=\"Business Firm billable\",VLOOKUP(A2534,'Hourly rates'!$B$2:$E$40,4,FALSE),VLOOKUP(A2534,'Hourly rates'!$B$2:$E$40,2,FALSE))","v":12},15,null,"Walker, Renee_BIZ:Admin SPIntern10991.254242642427FriNonBillSpecial Projects"," "]
["Walker, Renee","_BIZ:Admin SP","Intern",1099,null,2.75,"2016-02-27","2016-02-27","Sat",null,"NonBill","ZZ","2016-03-04",null,"Special Projects",null,{"$f":"IF(O2535=\"Business Firm billable\",VLOOKUP(A2535,'Hourly rates'!$B$2:$E$40,4,FALSE),VLOOKUP(A2535,'Hourly rates'!$B$2:$E$40,2,FALSE))","v":12},33,null,"Walker, Renee_BIZ:Admin SPIntern10992.754242742427SatNonBillSpecial Projects"," "]
["Walker, Renee","_BIZ:Admin SP","Intern",1099,null,2,"2016-03-02","2016-03-05","Wed",null,"NonBill","ZZ","2016-03-14",null,"Special Projects",null,{"$f":"IF(O2536=\"Business Firm billable\",VLOOKUP(A2536,'Hourly rates'!$B$2:$E$40,4,FALSE),VLOOKUP(A2536,'Hourly rates'!$B$2:$E$40,2,FALSE))","v":12},24,null,"Walker, Renee_BIZ:Admin SPIntern109924243142434WedNonBillSpecial Projects"," "]
["Walker, Renee","_BIZ:Admin SP","Intern",1099,null,1.25,"2016-03-04",{"$f":"IF(I2537=\"Sun\",G2537+6,IF(I2537=\"Mon\",G2537+5,IF(I2537=\"Tue\",G2537+4,IF(I2537=\"Wed\",G2537+3,IF(I2537=\"Thu\",G2537+2,IF(I2537=\"Fri\",G2537+1,G2537))))))","v":"2016-03-05"},"Fri",null,"NonBill","ZZ","2016-03-14",null,{"$f":"IF(B2537=$B$2014,\"Special Projects\",IF(OR(ISNUMBER(SEARCH(\"BIZ\",B2537)),ISNUMBER(SEARCH(\"business\",B2537)))=FALSE,\"Business Firm Billable\",\"\"))","v":"Special Projects"},null,{"$f":"IF(O2537=\"Business Firm billable\",VLOOKUP(A2537,'Hourly rates'!$B$2:$E$40,4,FALSE),VLOOKUP(A2537,'Hourly rates'!$B$2:$E$40,2,FALSE))","v":12},{"$f":"Q2537*F2537","v":15},null,"Walker, Renee_BIZ:Admin SPIntern10991.254243342434FriNonBillSpecial Projects"," "]
["Walker, Renee","_BIZ:Admin SP","Intern",1099,null,0,"2016-03-06","2016-03-12","Sun",null,"NonBill","ZZ","2016-03-14",null,"Special Projects",null,{"$f":"IF(O2538=\"Business Firm billable\",VLOOKUP(A2538,'Hourly rates'!$B$2:$E$40,4,FALSE),VLOOKUP(A2538,'Hourly rates'!$B$2:$E$40,2,FALSE))","v":12},0,null,"Walker, Renee_BIZ:Admin SPIntern109904243542441SunNonBillSpecial Projects"," "]
["Walker, Renee","_BIZ:Admin SP","Intern",1099,null,0,"2016-03-07","2016-03-12","Mon",null,"NonBill","ZZ","2016-03-14",null,"Special Projects",null,{"$f":"IF(O2539=\"Business Firm billable\",VLOOKUP(A2539,'Hourly rates'!$B$2:$E$40,4,FALSE),VLOOKUP(A2539,'Hourly rates'!$B$2:$E$40,2,FALSE))","v":12},0,null,"Walker, Renee_BIZ:Admin SPIntern109904243642441MonNonBillSpecial Projects"," "]
["Walker, Renee","_BIZ:Admin SP","Intern",1099,null,0,"2016-03-08","2016-03-12","Tue",null,"NonBill","ZZ","2016-03-14",null,"Special Projects",null,{"$f":"IF(O2540=\"Business Firm billable\",VLOOKUP(A2540,'Hourly rates'!$B$2:$E$40,4,FALSE),VLOOKUP(A2540,'Hourly rates'!$B$2:$E$40,2,FALSE))","v":12},0,null,"Walker, Renee_BIZ:Admin SPIntern109904243742441TueNonBillSpecial Projects"," "]
["Walker, Renee","_BIZ:Admin SP","Intern",1099,null,0,"2016-03-09","2016-03-12","Wed",null,"NonBill","ZZ","2016-03-14",null,"Special Projects",null,{"$f":"IF(O2541=\"Business Firm billable\",VLOOKUP(A2541,'Hourly rates'!$B$2:$E$40,4,FALSE),VLOOKUP(A2541,'Hourly rates'!$B$2:$E$40,2,FALSE))","v":12},0,null,"Walker, Renee_BIZ:Admin SPIntern109904243842441WedNonBillSpecial Projects"," "]
["Walker, Renee","_BIZ:Admin SP","Intern",1099,null,0,"2016-03-10","2016-03-12","Thu",null,"NonBill","ZZ","2016-03-14",null,"Special Projects",null,{"$f":"IF(O2542=\"Business Firm billable\",VLOOKUP(A2542,'Hourly rates'!$B$2:$E$40,4,FALSE),VLOOKUP(A2542,'Hourly rates'!$B$2:$E$40,2,FALSE))","v":12},0,null,"Walker, Renee_BIZ:Admin SPIntern109904243942441ThuNonBillSpecial Projects"," "]
["Walker, Renee","_BIZ:Admin SP","Intern",1099,null,0,"2016-03-11","2016-03-12","Fri",null,"NonBill","ZZ","2016-03-14",null,"Special Projects",null,{"$f":"IF(O2543=\"Business Firm billable\",VLOOKUP(A2543,'Hourly rates'!$B$2:$E$40,4,FALSE),VLOOKUP(A2543,'Hourly rates'!$B$2:$E$40,2,FALSE))","v":12},0,null,"Walker, Renee_BIZ:Admin SPIntern109904244042441FriNonBillSpecial Projects"," "]
["Walker, Renee","_BIZ:Admin SP","Intern",1099,null,0,"2016-03-12","2016-03-12","Sat",null,"NonBill","ZZ","2016-03-14",null,"Special Projects",null,{"$f":"IF(O2544=\"Business Firm billable\",VLOOKUP(A2544,'Hourly rates'!$B$2:$E$40,4,FALSE),VLOOKUP(A2544,'Hourly rates'!$B$2:$E$40,2,FALSE))","v":12},0,null,"Walker, Renee_BIZ:Admin SPIntern109904244142441SatNonBillSpecial Projects"," "]
["Walker, Renee","_BIZ:Admin SP","Intern",1099,null,1,"2016-03-22","2016-03-26","Tue",null,"NonBill","ZZ","Pending",null,"Special Projects",null,{"$f":"IF(O2545=\"Business Firm billable\",VLOOKUP(A2545,'Hourly rates'!$B$2:$E$40,4,FALSE),VLOOKUP(A2545,'Hourly rates'!$B$2:$E$40,2,FALSE))","v":12},12,null,"Walker, Renee_BIZ:Admin SPIntern109914245142455TueNonBillSpecial Projects"," "]
["Walker, Renee","_BIZ:Admin SP","Intern",1099,null,1.25,"2016-03-24","2016-03-26","Thu",null,"NonBill","ZZ","Pending",null,"Special Projects",null,{"$f":"IF(O2546=\"Business Firm billable\",VLOOKUP(A2546,'Hourly rates'!$B$2:$E$40,4,FALSE),VLOOKUP(A2546,'Hourly rates'!$B$2:$E$40,2,FALSE))","v":12},15,null,"Walker, Renee_BIZ:Admin SPIntern10991.254245342455ThuNonBillSpecial Projects"," "]
["Walker, Renee","_BIZ:Admin SP","Intern",1099,null,1.25,"2016-03-25","2016-03-26","Fri",null,"NonBill","ZZ","Pending",null,"Special Projects",null,{"$f":"IF(O2547=\"Business Firm billable\",VLOOKUP(A2547,'Hourly rates'!$B$2:$E$40,4,FALSE),VLOOKUP(A2547,'Hourly rates'!$B$2:$E$40,2,FALSE))","v":12},15,null,"Walker, Renee_BIZ:Admin SPIntern10991.254245442455FriNonBillSpecial Projects"," "]
["Walker, Renee","_BIZ:Administrative","Intern",1099,null,1.75,"2015-12-16","2015-12-19","Wed",null,"NonBill","ZZ","2016-01-04",null,"",null,{"$f":"IF(O2548=\"Business Firm billable\",VLOOKUP(A2548,'Hourly rates'!$B$2:$E$40,4,FALSE),VLOOKUP(A2548,'Hourly rates'!$B$2:$E$40,2,FALSE))","v":12},21,null,"Walker, Renee_BIZ:AdministrativeIntern10991.754235442357WedNonBill"," "]
["Walker, Renee","_BIZ:Administrative","Intern",1099,null,2.25,"2015-12-18","2015-12-19","Fri",null,"NonBill","ZZ","2016-01-04",null,"",null,{"$f":"IF(O2549=\"Business Firm billable\",VLOOKUP(A2549,'Hourly rates'!$B$2:$E$40,4,FALSE),VLOOKUP(A2549,'Hourly rates'!$B$2:$E$40,2,FALSE))","v":12},27,null,"Walker, Renee_BIZ:AdministrativeIntern10992.254235642357FriNonBill"," "]
["Pritchett, Jay","_BIZ:Admin SP","Intern",1099,null,1.25,"2015-12-09","2015-12-12","Wed",null,"NonBill","ZZ","2016-01-04",null,"Special Projects",null,{"$f":"IF(O2550=\"Business Firm billable\",VLOOKUP(A2550,'Hourly rates'!$B$2:$E$40,4,FALSE),VLOOKUP(A2550,'Hourly rates'!$B$2:$E$40,2,FALSE))","v":12},15,null,"Pritchett, Jay_BIZ:Admin SPIntern10991.254234742350WedNonBillSpecial Projects"," "]
["Pritchett, Jay","_BIZ:Admin SP","Intern",1099,null,1.75,"2015-12-10","2015-12-12","Thu",null,"NonBill","ZZ","2016-01-04",null,"Special Projects",null,{"$f":"IF(O2551=\"Business Firm billable\",VLOOKUP(A2551,'Hourly rates'!$B$2:$E$40,4,FALSE),VLOOKUP(A2551,'Hourly rates'!$B$2:$E$40,2,FALSE))","v":12},21,null,"Pritchett, Jay_BIZ:Admin SPIntern10991.754234842350ThuNonBillSpecial Projects"," "]
["Pritchett, Jay","_BIZ:Admin SP","Intern",1099,null,1.25,"2015-12-11","2015-12-12","Fri",null,"NonBill","ZZ","2016-01-04",null,"Special Projects",null,{"$f":"IF(O2552=\"Business Firm billable\",VLOOKUP(A2552,'Hourly rates'!$B$2:$E$40,4,FALSE),VLOOKUP(A2552,'Hourly rates'!$B$2:$E$40,2,FALSE))","v":12},15,null,"Pritchett, Jay_BIZ:Admin SPIntern10991.254234942350FriNonBillSpecial Projects"," "]
["Pritchett, Jay","_BIZ:Admin SP","Intern",1099,null,1.25,"2015-12-12","2015-12-12","Sat",null,"NonBill","ZZ","2016-01-04",null,"Special Projects",null,{"$f":"IF(O2553=\"Business Firm billable\",VLOOKUP(A2553,'Hourly rates'!$B$2:$E$40,4,FALSE),VLOOKUP(A2553,'Hourly rates'!$B$2:$E$40,2,FALSE))","v":12},15,null,"Pritchett, Jay_BIZ:Admin SPIntern10991.254235042350SatNonBillSpecial Projects"," "]
["Pritchett, Jay","_BIZ:Admin SP","Intern",1099,null,1.25,"2016-01-06","2016-01-09","Wed",null,"NonBill","ZZ","2016-01-14",null,"Special Projects",null,{"$f":"IF(O2554=\"Business Firm billable\",VLOOKUP(A2554,'Hourly rates'!$B$2:$E$40,4,FALSE),VLOOKUP(A2554,'Hourly rates'!$B$2:$E$40,2,FALSE))","v":12},15,null,"Pritchett, Jay_BIZ:Admin SPIntern10991.254237542378WedNonBillSpecial Projects"," "]
["Pritchett, Jay","_BIZ:Admin SP","Intern",1099,null,1.75,"2016-01-07","2016-01-09","Thu",null,"NonBill","ZZ","2016-01-14",null,"Special Projects",null,{"$f":"IF(O2555=\"Business Firm billable\",VLOOKUP(A2555,'Hourly rates'!$B$2:$E$40,4,FALSE),VLOOKUP(A2555,'Hourly rates'!$B$2:$E$40,2,FALSE))","v":12},21,null,"Pritchett, Jay_BIZ:Admin SPIntern10991.754237642378ThuNonBillSpecial Projects"," "]
["Pritchett, Jay","_BIZ:Admin SP","Intern",1099,null,3,"2016-01-08","2016-01-09","Fri",null,"NonBill","ZZ","2016-01-14",null,"Special Projects",null,{"$f":"IF(O2556=\"Business Firm billable\",VLOOKUP(A2556,'Hourly rates'!$B$2:$E$40,4,FALSE),VLOOKUP(A2556,'Hourly rates'!$B$2:$E$40,2,FALSE))","v":12},36,null,"Pritchett, Jay_BIZ:Admin SPIntern109934237742378FriNonBillSpecial Projects"," "]
["Pritchett, Jay","_BIZ:Admin SP","Intern",1099,null,1.75,"2016-01-11","2016-01-16","Mon",null,"NonBill","ZZ","2016-02-02",null,"Special Projects",null,{"$f":"IF(O2557=\"Business Firm billable\",VLOOKUP(A2557,'Hourly rates'!$B$2:$E$40,4,FALSE),VLOOKUP(A2557,'Hourly rates'!$B$2:$E$40,2,FALSE))","v":12},21,null,"Pritchett, Jay_BIZ:Admin SPIntern10991.754238042385MonNonBillSpecial Projects"," "]
["Pritchett, Jay","_BIZ:Admin SP","Intern",1099,null,1.25,"2016-01-12","2016-01-16","Tue",null,"NonBill","ZZ","2016-02-02",null,"Special Projects",null,{"$f":"IF(O2558=\"Business Firm billable\",VLOOKUP(A2558,'Hourly rates'!$B$2:$E$40,4,FALSE),VLOOKUP(A2558,'Hourly rates'!$B$2:$E$40,2,FALSE))","v":12},15,null,"Pritchett, Jay_BIZ:Admin SPIntern10991.254238142385TueNonBillSpecial Projects"," "]
["Pritchett, Jay","_BIZ:Admin SP","Intern",1099,null,1.25,"2016-01-14","2016-01-16","Thu",null,"NonBill","ZZ","2016-02-02",null,"Special Projects",null,{"$f":"IF(O2559=\"Business Firm billable\",VLOOKUP(A2559,'Hourly rates'!$B$2:$E$40,4,FALSE),VLOOKUP(A2559,'Hourly rates'!$B$2:$E$40,2,FALSE))","v":12},15,null,"Pritchett, Jay_BIZ:Admin SPIntern10991.254238342385ThuNonBillSpecial Projects"," "]
["Pritchett, Jay","_BIZ:Admin SP","Intern",1099,null,1.25,"2016-01-15","2016-01-16","Fri",null,"NonBill","ZZ","2016-02-02",null,"Special Projects",null,{"$f":"IF(O2560=\"Business Firm billable\",VLOOKUP(A2560,'Hourly rates'!$B$2:$E$40,4,FALSE),VLOOKUP(A2560,'Hourly rates'!$B$2:$E$40,2,FALSE))","v":12},15,null,"Pritchett, Jay_BIZ:Admin SPIntern10991.254238442385FriNonBillSpecial Projects"," "]
["Pritchett, Jay","_BIZ:Admin SP","Intern",1099,null,1.75,"2016-01-16","2016-01-16","Sat",null,"NonBill","ZZ","2016-02-02",null,"Special Projects",null,{"$f":"IF(O2561=\"Business Firm billable\",VLOOKUP(A2561,'Hourly rates'!$B$2:$E$40,4,FALSE),VLOOKUP(A2561,'Hourly rates'!$B$2:$E$40,2,FALSE))","v":12},21,null,"Pritchett, Jay_BIZ:Admin SPIntern10991.754238542385SatNonBillSpecial Projects"," "]
["Pritchett, Jay","_BIZ:Admin SP","Intern",1099,null,2,"2016-01-18","2016-01-23","Mon",null,"NonBill","ZZ","2016-02-02",null,"Special Projects",null,{"$f":"IF(O2562=\"Business Firm billable\",VLOOKUP(A2562,'Hourly rates'!$B$2:$E$40,4,FALSE),VLOOKUP(A2562,'Hourly rates'!$B$2:$E$40,2,FALSE))","v":12},24,null,"Pritchett, Jay_BIZ:Admin SPIntern109924238742392MonNonBillSpecial Projects"," "]
["Pritchett, Jay","_BIZ:Admin SP","Intern",1099,null,1.75,"2016-01-21","2016-01-23","Thu",null,"NonBill","ZZ","2016-02-02",null,"Special Projects",null,{"$f":"IF(O2563=\"Business Firm billable\",VLOOKUP(A2563,'Hourly rates'!$B$2:$E$40,4,FALSE),VLOOKUP(A2563,'Hourly rates'!$B$2:$E$40,2,FALSE))","v":12},21,null,{"$f":"A2563&B2563&C2563&D2563&E2563&F2563&G2563&H2563&I2563&K2563&N2563&O2563","v":"Pritchett, Jay_BIZ:Admin SPIntern10991.754239042392ThuNonBillSpecial Projects"}," "]
["Pritchett, Jay","_BIZ:Admin SP","Intern",1099,null,1.25,"2016-01-22","2016-01-23","Fri",null,"NonBill","ZZ","2016-02-02",null,"Special Projects",null,{"$f":"IF(O2564=\"Business Firm billable\",VLOOKUP(A2564,'Hourly rates'!$B$2:$E$40,4,FALSE),VLOOKUP(A2564,'Hourly rates'!$B$2:$E$40,2,FALSE))","v":12},15,null,"Pritchett, Jay_BIZ:Admin SPIntern10991.254239142392FriNonBillSpecial Projects"," "]
["Pritchett, Jay","_BIZ:Admin SP","Intern",1099,null,2,"2016-01-23","2016-01-23","Sat",null,"NonBill","ZZ","2016-02-02",null,"Special Projects",null,{"$f":"IF(O2565=\"Business Firm billable\",VLOOKUP(A2565,'Hourly rates'!$B$2:$E$40,4,FALSE),VLOOKUP(A2565,'Hourly rates'!$B$2:$E$40,2,FALSE))","v":12},24,null,"Pritchett, Jay_BIZ:Admin SPIntern109924239242392SatNonBillSpecial Projects"," "]
["Pritchett, Jay","_BIZ:Admin SP","Intern",1099,null,1.25,"2016-01-25","2016-01-30","Mon",null,"NonBill","ZZ","2016-02-03",null,"Special Projects",null,{"$f":"IF(O2566=\"Business Firm billable\",VLOOKUP(A2566,'Hourly rates'!$B$2:$E$40,4,FALSE),VLOOKUP(A2566,'Hourly rates'!$B$2:$E$40,2,FALSE))","v":12},15,null,"Pritchett, Jay_BIZ:Admin SPIntern10991.254239442399MonNonBillSpecial Projects"," "]
["Pritchett, Jay","_BIZ:Admin SP","Intern",1099,null,1.75,"2016-01-28","2016-01-30","Thu",null,"NonBill","ZZ","2016-02-03",null,"Special Projects",null,{"$f":"IF(O2567=\"Business Firm billable\",VLOOKUP(A2567,'Hourly rates'!$B$2:$E$40,4,FALSE),VLOOKUP(A2567,'Hourly rates'!$B$2:$E$40,2,FALSE))","v":12},21,null,"Pritchett, Jay_BIZ:Admin SPIntern10991.754239742399ThuNonBillSpecial Projects"," "]
["Pritchett, Jay","_BIZ:Admin SP","Intern",1099,null,1,"2016-02-04","2016-02-06","Thu",null,"NonBill","ZZ","2016-02-23",null,"Special Projects",null,{"$f":"IF(O2568=\"Business Firm billable\",VLOOKUP(A2568,'Hourly rates'!$B$2:$E$40,4,FALSE),VLOOKUP(A2568,'Hourly rates'!$B$2:$E$40,2,FALSE))","v":12},12,null,"Pritchett, Jay_BIZ:Admin SPIntern109914240442406ThuNonBillSpecial Projects"," "]
["Pritchett, Jay","_BIZ:Admin SP","Intern",1099,null,1.25,"2016-02-18","2016-02-20","Thu",null,"NonBill","ZZ","2016-02-23",null,"Special Projects",null,{"$f":"IF(O2569=\"Business Firm billable\",VLOOKUP(A2569,'Hourly rates'!$B$2:$E$40,4,FALSE),VLOOKUP(A2569,'Hourly rates'!$B$2:$E$40,2,FALSE))","v":12},15,null,"Pritchett, Jay_BIZ:Admin SPIntern10991.254241842420ThuNonBillSpecial Projects"," "]
["Pritchett, Jay","_BIZ:Admin SP","Intern",1099,null,1.25,"2016-02-19","2016-02-20","Fri",null,"NonBill","ZZ","2016-02-23",null,"Special Projects",null,{"$f":"IF(O2570=\"Business Firm billable\",VLOOKUP(A2570,'Hourly rates'!$B$2:$E$40,4,FALSE),VLOOKUP(A2570,'Hourly rates'!$B$2:$E$40,2,FALSE))","v":12},15,null,"Pritchett, Jay_BIZ:Admin SPIntern10991.254241942420FriNonBillSpecial Projects"," "]
["Pritchett, Jay","_BIZ:Admin SP","Intern",1099,null,1.25,"2016-02-24","2016-02-27","Wed",null,"NonBill","ZZ","Pending",null,"Special Projects",null,{"$f":"IF(O2571=\"Business Firm billable\",VLOOKUP(A2571,'Hourly rates'!$B$2:$E$40,4,FALSE),VLOOKUP(A2571,'Hourly rates'!$B$2:$E$40,2,FALSE))","v":12},15,null,"Pritchett, Jay_BIZ:Admin SPIntern10991.254242442427WedNonBillSpecial Projects"," "]
["Pritchett, Jay","_BIZ:Admin SP","Intern",1099,null,1.25,"2016-02-25","2016-02-27","Thu",null,"NonBill","ZZ","Pending",null,"Special Projects",null,{"$f":"IF(O2572=\"Business Firm billable\",VLOOKUP(A2572,'Hourly rates'!$B$2:$E$40,4,FALSE),VLOOKUP(A2572,'Hourly rates'!$B$2:$E$40,2,FALSE))","v":12},15,null,"Pritchett, Jay_BIZ:Admin SPIntern10991.254242542427ThuNonBillSpecial Projects"," "]
["Pritchett, Jay","_BIZ:Admin SP","Intern",1099,null,1,"2016-02-26","2016-02-27","Fri",null,"NonBill","ZZ","Pending",null,"Special Projects",null,{"$f":"IF(O2573=\"Business Firm billable\",VLOOKUP(A2573,'Hourly rates'!$B$2:$E$40,4,FALSE),VLOOKUP(A2573,'Hourly rates'!$B$2:$E$40,2,FALSE))","v":12},12,null,"Pritchett, Jay_BIZ:Admin SPIntern109914242642427FriNonBillSpecial Projects"," "]
["Pritchett, Jay","_BIZ:Admin SP","Intern",1099,null,1.25,"2016-03-03","2016-03-05","Thu",null,"NonBill","ZZ","Pending",null,"Special Projects",null,{"$f":"IF(O2574=\"Business Firm billable\",VLOOKUP(A2574,'Hourly rates'!$B$2:$E$40,4,FALSE),VLOOKUP(A2574,'Hourly rates'!$B$2:$E$40,2,FALSE))","v":12},15,null,"Pritchett, Jay_BIZ:Admin SPIntern10991.254243242434ThuNonBillSpecial Projects"," "]
["Pritchett, Jay","_BIZ:Admin SP","Intern",1099,null,1.75,"2016-03-04","2016-03-05","Fri",null,"NonBill","ZZ","Pending",null,"Special Projects",null,{"$f":"IF(O2575=\"Business Firm billable\",VLOOKUP(A2575,'Hourly rates'!$B$2:$E$40,4,FALSE),VLOOKUP(A2575,'Hourly rates'!$B$2:$E$40,2,FALSE))","v":12},21,null,"Pritchett, Jay_BIZ:Admin SPIntern10991.754243342434FriNonBillSpecial Projects"," "]
["Pritchett, Jay","_BIZ:Admin SP","Intern",1099,null,1.25,"2016-03-05","2016-03-05","Sat",null,"NonBill","ZZ","Pending",null,"Special Projects",null,{"$f":"IF(O2576=\"Business Firm billable\",VLOOKUP(A2576,'Hourly rates'!$B$2:$E$40,4,FALSE),VLOOKUP(A2576,'Hourly rates'!$B$2:$E$40,2,FALSE))","v":12},15,null,"Pritchett, Jay_BIZ:Admin SPIntern10991.254243442434SatNonBillSpecial Projects"," "]
["Pritchett, Jay","_BIZ:Admin SP","Intern",1099,null,1.75,"2016-03-10","2016-03-12","Thu",null,"NonBill","ZZ","Pending",null,"Special Projects",null,{"$f":"IF(O2577=\"Business Firm billable\",VLOOKUP(A2577,'Hourly rates'!$B$2:$E$40,4,FALSE),VLOOKUP(A2577,'Hourly rates'!$B$2:$E$40,2,FALSE))","v":12},21,null,"Pritchett, Jay_BIZ:Admin SPIntern10991.754243942441ThuNonBillSpecial Projects"," "]
["Pritchett, Jay","_BIZ:Admin SP","Intern",1099,null,1.25,"2016-03-11","2016-03-12","Fri",null,"NonBill","ZZ","Pending",null,"Special Projects",null,{"$f":"IF(O2578=\"Business Firm billable\",VLOOKUP(A2578,'Hourly rates'!$B$2:$E$40,4,FALSE),VLOOKUP(A2578,'Hourly rates'!$B$2:$E$40,2,FALSE))","v":12},15,null,"Pritchett, Jay_BIZ:Admin SPIntern10991.254244042441FriNonBillSpecial Projects"," "]
["Pritchett, Jay","_BIZ:Admin SP","Intern",1099,null,1.25,"2016-03-12","2016-03-12","Sat",null,"NonBill","ZZ","Pending",null,"Special Projects",null,{"$f":"IF(O2579=\"Business Firm billable\",VLOOKUP(A2579,'Hourly rates'!$B$2:$E$40,4,FALSE),VLOOKUP(A2579,'Hourly rates'!$B$2:$E$40,2,FALSE))","v":12},15,null,"Pritchett, Jay_BIZ:Admin SPIntern10991.254244142441SatNonBillSpecial Projects"," "]
["Pritchett, Jay","_BIZ:Admin SP","Intern",1099,null,1.25,"2016-03-15","2016-03-19","Tue",null,"NonBill","ZZ","Pending",null,"Special Projects",null,{"$f":"IF(O2580=\"Business Firm billable\",VLOOKUP(A2580,'Hourly rates'!$B$2:$E$40,4,FALSE),VLOOKUP(A2580,'Hourly rates'!$B$2:$E$40,2,FALSE))","v":12},15,null,"Pritchett, Jay_BIZ:Admin SPIntern10991.254244442448TueNonBillSpecial Projects"," "]
["Pritchett, Jay","_BIZ:Admin SP","Intern",1099,null,1.25,"2016-03-17","2016-03-19","Thu",null,"NonBill","ZZ","Pending",null,"Special Projects",null,{"$f":"IF(O2581=\"Business Firm billable\",VLOOKUP(A2581,'Hourly rates'!$B$2:$E$40,4,FALSE),VLOOKUP(A2581,'Hourly rates'!$B$2:$E$40,2,FALSE))","v":12},15,null,"Pritchett, Jay_BIZ:Admin SPIntern10991.254244642448ThuNonBillSpecial Projects"," "]
["Pritchett, Jay","_BIZ:Admin SP","Intern",1099,null,2,"2016-03-18","2016-03-19","Fri",null,"NonBill","ZZ","Pending",null,"Special Projects",null,{"$f":"IF(O2582=\"Business Firm billable\",VLOOKUP(A2582,'Hourly rates'!$B$2:$E$40,4,FALSE),VLOOKUP(A2582,'Hourly rates'!$B$2:$E$40,2,FALSE))","v":12},24,null,"Pritchett, Jay_BIZ:Admin SPIntern109924244742448FriNonBillSpecial Projects"," "]
["Pritchett, Jay","_BIZ:Admin SP","Intern",1099,null,1.25,"2016-03-19","2016-03-19","Sat",null,"NonBill","ZZ","Pending",null,"Special Projects",null,{"$f":"IF(O2583=\"Business Firm billable\",VLOOKUP(A2583,'Hourly rates'!$B$2:$E$40,4,FALSE),VLOOKUP(A2583,'Hourly rates'!$B$2:$E$40,2,FALSE))","v":12},15,null,"Pritchett, Jay_BIZ:Admin SPIntern10991.254244842448SatNonBillSpecial Projects"," "]
["Bauer, Jack","_BIZ:Admin SP","Intern",1099,null,1.25,"2016-03-04","2016-03-05","Fri",null,"NonBill","ZZ","2016-03-14",null,"Special Projects",null,{"$f":"IF(O2584=\"Business Firm billable\",VLOOKUP(A2584,'Hourly rates'!$B$2:$E$40,4,FALSE),VLOOKUP(A2584,'Hourly rates'!$B$2:$E$40,2,FALSE))","v":12},15,null,"Bauer, Jack_BIZ:Admin SPIntern10991.254243342434FriNonBillSpecial Projects"," "]
["Bauer, Jack","_BIZ:Admin SP","Intern",1099,null,1.25,"2016-03-08","2016-03-12","Tue",null,"NonBill","ZZ","2016-03-14",null,"Special Projects",null,{"$f":"IF(O2585=\"Business Firm billable\",VLOOKUP(A2585,'Hourly rates'!$B$2:$E$40,4,FALSE),VLOOKUP(A2585,'Hourly rates'!$B$2:$E$40,2,FALSE))","v":12},15,null,"Bauer, Jack_BIZ:Admin SPIntern10991.254243742441TueNonBillSpecial Projects"," "]
["Bauer, Jack","_BIZ:Admin SP","Intern",1099,null,1,"2016-03-09","2016-03-12","Wed",null,"NonBill","ZZ","2016-03-14",null,"Special Projects",null,{"$f":"IF(O2586=\"Business Firm billable\",VLOOKUP(A2586,'Hourly rates'!$B$2:$E$40,4,FALSE),VLOOKUP(A2586,'Hourly rates'!$B$2:$E$40,2,FALSE))","v":12},12,null,"Bauer, Jack_BIZ:Admin SPIntern109914243842441WedNonBillSpecial Projects"," "]
["Bauer, Jack","_BIZ:Admin SP","Intern",1099,null,1.25,"2016-03-10","2016-03-12","Thu",null,"NonBill","ZZ","2016-03-14",null,"Special Projects",null,{"$f":"IF(O2587=\"Business Firm billable\",VLOOKUP(A2587,'Hourly rates'!$B$2:$E$40,4,FALSE),VLOOKUP(A2587,'Hourly rates'!$B$2:$E$40,2,FALSE))","v":12},15,null,"Bauer, Jack_BIZ:Admin SPIntern10991.254243942441ThuNonBillSpecial Projects"," "]
["Bauer, Jack","_BIZ:Admin SP","Intern",1099,null,1.25,"2016-03-11","2016-03-12","Fri",null,"NonBill","ZZ","2016-03-14",null,"Special Projects",null,{"$f":"IF(O2588=\"Business Firm billable\",VLOOKUP(A2588,'Hourly rates'!$B$2:$E$40,4,FALSE),VLOOKUP(A2588,'Hourly rates'!$B$2:$E$40,2,FALSE))","v":12},15,null,"Bauer, Jack_BIZ:Admin SPIntern10991.254244042441FriNonBillSpecial Projects"," "]
["Bauer, Jack","_BIZ:Admin SP","Intern",1099,null,2,"2016-03-12","2016-03-12","Sat",null,"NonBill","ZZ","2016-03-14",null,"Special Projects",null,{"$f":"IF(O2589=\"Business Firm billable\",VLOOKUP(A2589,'Hourly rates'!$B$2:$E$40,4,FALSE),VLOOKUP(A2589,'Hourly rates'!$B$2:$E$40,2,FALSE))","v":12},24,null,"Bauer, Jack_BIZ:Admin SPIntern109924244142441SatNonBillSpecial Projects"," "]
["Bauer, Jack","_BIZ:Admin SP","Intern",1099,null,1.25,"2016-03-17","2016-03-19","Thu",null,"NonBill","ZZ","Pending",null,"Special Projects",null,{"$f":"IF(O2590=\"Business Firm billable\",VLOOKUP(A2590,'Hourly rates'!$B$2:$E$40,4,FALSE),VLOOKUP(A2590,'Hourly rates'!$B$2:$E$40,2,FALSE))","v":12},15,null,"Bauer, Jack_BIZ:Admin SPIntern10991.254244642448ThuNonBillSpecial Projects"," "]
["Bauer, Jack","_BIZ:Admin SP","Intern",1099,null,1.25,"2016-03-18","2016-03-19","Fri",null,"NonBill","ZZ","Pending",null,"Special Projects",null,{"$f":"IF(O2591=\"Business Firm billable\",VLOOKUP(A2591,'Hourly rates'!$B$2:$E$40,4,FALSE),VLOOKUP(A2591,'Hourly rates'!$B$2:$E$40,2,FALSE))","v":12},15,null,"Bauer, Jack_BIZ:Admin SPIntern10991.254244742448FriNonBillSpecial Projects"," "]
["Bauer, Jack","_BIZ:Admin SP","Intern",1099,null,1.25,"2016-03-19","2016-03-19","Sat",null,"NonBill","ZZ","Pending",null,"Special Projects",null,{"$f":"IF(O2592=\"Business Firm billable\",VLOOKUP(A2592,'Hourly rates'!$B$2:$E$40,4,FALSE),VLOOKUP(A2592,'Hourly rates'!$B$2:$E$40,2,FALSE))","v":12},15,null,"Bauer, Jack_BIZ:Admin SPIntern10991.254244842448SatNonBillSpecial Projects"," "]
["Dunphy, Phil","_BIZ:Admin XX","Intern",1099,null,1.25,"2016-02-10","2016-02-13","Wed",null,"NonBill","ZZ","2016-02-23",null,"",null,{"$f":"IF(O2593=\"Business Firm billable\",VLOOKUP(A2593,'Hourly rates'!$B$2:$E$40,4,FALSE),VLOOKUP(A2593,'Hourly rates'!$B$2:$E$40,2,FALSE))","v":12},15,null,"Dunphy, Phil_BIZ:Admin XXIntern10991.254241042413WedNonBill"," "]
["Dunphy, Phil","_BIZ:Admin XX","Intern",1099,null,1,"2016-02-26","2016-02-27","Fri",null,"NonBill","ZZ","2016-03-21",null,"",null,{"$f":"IF(O2594=\"Business Firm billable\",VLOOKUP(A2594,'Hourly rates'!$B$2:$E$40,4,FALSE),VLOOKUP(A2594,'Hourly rates'!$B$2:$E$40,2,FALSE))","v":12},12,null,"Dunphy, Phil_BIZ:Admin XXIntern109914242642427FriNonBill"," "]
["Dunphy, Phil","_BIZ:Admin XX","Intern",1099,null,1.25,"2016-03-01","2016-03-05","Tue",null,"NonBill","ZZ","2016-03-14",null,"",null,{"$f":"IF(O2595=\"Business Firm billable\",VLOOKUP(A2595,'Hourly rates'!$B$2:$E$40,4,FALSE),VLOOKUP(A2595,'Hourly rates'!$B$2:$E$40,2,FALSE))","v":12},15,null,"Dunphy, Phil_BIZ:Admin XXIntern10991.254243042434TueNonBill"," "]
["Dunphy, Phil","_BIZ:Admin XX","Intern",1099,null,1.25,"2016-03-08","2016-03-12","Tue",null,"NonBill","ZZ","2016-03-14",null,"",null,{"$f":"IF(O2596=\"Business Firm billable\",VLOOKUP(A2596,'Hourly rates'!$B$2:$E$40,4,FALSE),VLOOKUP(A2596,'Hourly rates'!$B$2:$E$40,2,FALSE))","v":12},15,null,"Dunphy, Phil_BIZ:Admin XXIntern10991.254243742441TueNonBill"," "]
["Dunphy, Phil","_BIZ:Admin XX","Intern",1099,null,1.25,"2016-03-16","2016-03-19","Wed",null,"NonBill","ZZ","Pending",null,"",null,{"$f":"IF(O2597=\"Business Firm billable\",VLOOKUP(A2597,'Hourly rates'!$B$2:$E$40,4,FALSE),VLOOKUP(A2597,'Hourly rates'!$B$2:$E$40,2,FALSE))","v":12},15,null,"Dunphy, Phil_BIZ:Admin XXIntern10991.254244542448WedNonBill"," "]
["Dunphy, Phil","_BIZ:Admin XX","Intern",1099,null,1.25,"2016-03-18","2016-03-19","Fri",null,"NonBill","ZZ","Pending",null,"",null,{"$f":"IF(O2598=\"Business Firm billable\",VLOOKUP(A2598,'Hourly rates'!$B$2:$E$40,4,FALSE),VLOOKUP(A2598,'Hourly rates'!$B$2:$E$40,2,FALSE))","v":12},15,null,"Dunphy, Phil_BIZ:Admin XXIntern10991.254244742448FriNonBill"," "]
["Dunphy, Phil","_BIZ:Admin SP","Intern",1099,null,1.25,"2016-01-07","2016-01-09","Thu",null,"NonBill","ZZ","2016-02-02",null,"Special Projects",null,{"$f":"IF(O2599=\"Business Firm billable\",VLOOKUP(A2599,'Hourly rates'!$B$2:$E$40,4,FALSE),VLOOKUP(A2599,'Hourly rates'!$B$2:$E$40,2,FALSE))","v":12},15,null,"Dunphy, Phil_BIZ:Admin SPIntern10991.254237642378ThuNonBillSpecial Projects"," "]
["Dunphy, Phil","_BIZ:Admin SP","Intern",1099,null,1.25,"2016-01-08",{"$f":"IF(I2600=\"Sun\",G2600+6,IF(I2600=\"Mon\",G2600+5,IF(I2600=\"Tue\",G2600+4,IF(I2600=\"Wed\",G2600+3,IF(I2600=\"Thu\",G2600+2,IF(I2600=\"Fri\",G2600+1,G2600))))))","v":"2016-01-09"},"Fri",null,"NonBill","ZZ","2016-02-02",null,"Special Projects",null,{"$f":"IF(O2600=\"Business Firm billable\",VLOOKUP(A2600,'Hourly rates'!$B$2:$E$40,4,FALSE),VLOOKUP(A2600,'Hourly rates'!$B$2:$E$40,2,FALSE))","v":12},{"$f":"Q2600*F2600","v":15},null,"Dunphy, Phil_BIZ:Admin SPIntern10991.254237742378FriNonBillSpecial Projects"," "]
["Dunphy, Phil","_BIZ:Admin SP","Intern",1099,null,1.25,"2016-01-11","2016-01-16","Mon",null,"NonBill","ZZ","2016-02-02",null,{"$f":"IF(B2601=$B$2014,\"Special Projects\",IF(OR(ISNUMBER(SEARCH(\"BIZ\",B2601)),ISNUMBER(SEARCH(\"business\",B2601)))=FALSE,\"Business Firm Billable\",\"\"))","v":"Special Projects"},null,{"$f":"IF(O2601=\"Business Firm billable\",VLOOKUP(A2601,'Hourly rates'!$B$2:$E$40,4,FALSE),VLOOKUP(A2601,'Hourly rates'!$B$2:$E$40,2,FALSE))","v":12},15,null,"Dunphy, Phil_BIZ:Admin SPIntern10991.254238042385MonNonBillSpecial Projects"," "]
["Dunphy, Phil","_BIZ:Admin SP","Intern",1099,null,1.25,"2016-01-14","2016-01-16","Thu",null,"NonBill","ZZ","2016-02-02",null,"Special Projects",null,{"$f":"IF(O2602=\"Business Firm billable\",VLOOKUP(A2602,'Hourly rates'!$B$2:$E$40,4,FALSE),VLOOKUP(A2602,'Hourly rates'!$B$2:$E$40,2,FALSE))","v":12},15,null,"Dunphy, Phil_BIZ:Admin SPIntern10991.254238342385ThuNonBillSpecial Projects"," "]
["Dunphy, Phil","_BIZ:Admin SP","Intern",1099,null,1.75,"2016-01-15","2016-01-16","Fri",null,"NonBill","ZZ","2016-02-02",null,"Special Projects",null,{"$f":"IF(O2603=\"Business Firm billable\",VLOOKUP(A2603,'Hourly rates'!$B$2:$E$40,4,FALSE),VLOOKUP(A2603,'Hourly rates'!$B$2:$E$40,2,FALSE))","v":12},21,null,"Dunphy, Phil_BIZ:Admin SPIntern10991.754238442385FriNonBillSpecial Projects"," "]
["Dunphy, Phil","_BIZ:Admin SP","Intern",1099,null,1.25,"2016-01-18","2016-01-23","Mon",null,"NonBill","ZZ","2016-02-02",null,"Special Projects",null,{"$f":"IF(O2604=\"Business Firm billable\",VLOOKUP(A2604,'Hourly rates'!$B$2:$E$40,4,FALSE),VLOOKUP(A2604,'Hourly rates'!$B$2:$E$40,2,FALSE))","v":12},15,null,"Dunphy, Phil_BIZ:Admin SPIntern10991.254238742392MonNonBillSpecial Projects"," "]
["Dunphy, Phil","_BIZ:Admin SP","Intern",1099,null,2,"2016-01-19","2016-01-23","Tue",null,"NonBill","ZZ","2016-02-02",null,"Special Projects",null,{"$f":"IF(O2605=\"Business Firm billable\",VLOOKUP(A2605,'Hourly rates'!$B$2:$E$40,4,FALSE),VLOOKUP(A2605,'Hourly rates'!$B$2:$E$40,2,FALSE))","v":12},24,null,"Dunphy, Phil_BIZ:Admin SPIntern109924238842392TueNonBillSpecial Projects"," "]
["Dunphy, Phil","_BIZ:Admin SP","Intern",1099,null,1,"2016-01-20","2016-01-23","Wed",null,"NonBill","ZZ","2016-02-02",null,"Special Projects",null,{"$f":"IF(O2606=\"Business Firm billable\",VLOOKUP(A2606,'Hourly rates'!$B$2:$E$40,4,FALSE),VLOOKUP(A2606,'Hourly rates'!$B$2:$E$40,2,FALSE))","v":12},12,null,"Dunphy, Phil_BIZ:Admin SPIntern109914238942392WedNonBillSpecial Projects"," "]
["Dunphy, Phil","_BIZ:Admin SP","Intern",1099,null,1.75,"2016-01-22","2016-01-23","Fri",null,"NonBill","ZZ","2016-02-02",null,"Special Projects",null,{"$f":"IF(O2607=\"Business Firm billable\",VLOOKUP(A2607,'Hourly rates'!$B$2:$E$40,4,FALSE),VLOOKUP(A2607,'Hourly rates'!$B$2:$E$40,2,FALSE))","v":12},21,null,"Dunphy, Phil_BIZ:Admin SPIntern10991.754239142392FriNonBillSpecial Projects"," "]
["Dunphy, Phil","_BIZ:Admin SP","Intern",1099,null,1,"2016-01-25","2016-01-30","Mon",null,"NonBill","ZZ","2016-02-03",null,"Special Projects",null,{"$f":"IF(O2608=\"Business Firm billable\",VLOOKUP(A2608,'Hourly rates'!$B$2:$E$40,4,FALSE),VLOOKUP(A2608,'Hourly rates'!$B$2:$E$40,2,FALSE))","v":12},12,null,"Dunphy, Phil_BIZ:Admin SPIntern109914239442399MonNonBillSpecial Projects"," "]
["Dunphy, Phil","_BIZ:Admin SP","Intern",1099,null,2,"2016-01-26","2016-01-30","Tue",null,"NonBill","ZZ","2016-02-03",null,"Special Projects",null,{"$f":"IF(O2609=\"Business Firm billable\",VLOOKUP(A2609,'Hourly rates'!$B$2:$E$40,4,FALSE),VLOOKUP(A2609,'Hourly rates'!$B$2:$E$40,2,FALSE))","v":12},24,null,"Dunphy, Phil_BIZ:Admin SPIntern109924239542399TueNonBillSpecial Projects"," "]
["Dunphy, Phil","_BIZ:Admin SP","Intern",1099,null,1.25,"2016-01-27","2016-01-30","Wed",null,"NonBill","ZZ","2016-02-03",null,"Special Projects",null,{"$f":"IF(O2610=\"Business Firm billable\",VLOOKUP(A2610,'Hourly rates'!$B$2:$E$40,4,FALSE),VLOOKUP(A2610,'Hourly rates'!$B$2:$E$40,2,FALSE))","v":12},15,null,"Dunphy, Phil_BIZ:Admin SPIntern10991.254239642399WedNonBillSpecial Projects"," "]
["Dunphy, Phil","_BIZ:Admin SP","Intern",1099,null,1.25,"2016-01-28","2016-01-30","Thu",null,"NonBill","ZZ","2016-02-03",null,"Special Projects",null,{"$f":"IF(O2611=\"Business Firm billable\",VLOOKUP(A2611,'Hourly rates'!$B$2:$E$40,4,FALSE),VLOOKUP(A2611,'Hourly rates'!$B$2:$E$40,2,FALSE))","v":12},15,null,"Dunphy, Phil_BIZ:Admin SPIntern10991.254239742399ThuNonBillSpecial Projects"," "]
["Dunphy, Phil","_BIZ:Admin SP","Intern",1099,null,1.75,"2016-01-29","2016-01-30","Fri",null,"NonBill","ZZ","2016-02-03",null,"Special Projects",null,{"$f":"IF(O2612=\"Business Firm billable\",VLOOKUP(A2612,'Hourly rates'!$B$2:$E$40,4,FALSE),VLOOKUP(A2612,'Hourly rates'!$B$2:$E$40,2,FALSE))","v":12},21,null,"Dunphy, Phil_BIZ:Admin SPIntern10991.754239842399FriNonBillSpecial Projects"," "]
["Dunphy, Phil","_BIZ:Admin SP","Intern",1099,null,1.25,"2016-02-02","2016-02-06","Tue",null,"NonBill","ZZ","2016-02-08",null,"Special Projects",null,{"$f":"IF(O2613=\"Business Firm billable\",VLOOKUP(A2613,'Hourly rates'!$B$2:$E$40,4,FALSE),VLOOKUP(A2613,'Hourly rates'!$B$2:$E$40,2,FALSE))","v":12},15,null,"Dunphy, Phil_BIZ:Admin SPIntern10991.254240242406TueNonBillSpecial Projects"," "]
["Dunphy, Phil","_BIZ:Admin SP","Intern",1099,null,1,"2016-02-03","2016-02-06","Wed",null,"NonBill","ZZ","2016-02-08",null,"Special Projects",null,{"$f":"IF(O2614=\"Business Firm billable\",VLOOKUP(A2614,'Hourly rates'!$B$2:$E$40,4,FALSE),VLOOKUP(A2614,'Hourly rates'!$B$2:$E$40,2,FALSE))","v":12},12,null,"Dunphy, Phil_BIZ:Admin SPIntern109914240342406WedNonBillSpecial Projects"," "]
["Dunphy, Phil","_BIZ:Admin SP","Intern",1099,null,1.75,"2016-02-04","2016-02-06","Thu",null,"NonBill","ZZ","2016-02-08",null,"Special Projects",null,{"$f":"IF(O2615=\"Business Firm billable\",VLOOKUP(A2615,'Hourly rates'!$B$2:$E$40,4,FALSE),VLOOKUP(A2615,'Hourly rates'!$B$2:$E$40,2,FALSE))","v":12},21,null,"Dunphy, Phil_BIZ:Admin SPIntern10991.754240442406ThuNonBillSpecial Projects"," "]
["Dunphy, Phil","_BIZ:Admin SP","Intern",1099,null,3,"2016-02-05","2016-02-06","Fri",null,"NonBill","ZZ","2016-02-08",null,"Special Projects",null,{"$f":"IF(O2616=\"Business Firm billable\",VLOOKUP(A2616,'Hourly rates'!$B$2:$E$40,4,FALSE),VLOOKUP(A2616,'Hourly rates'!$B$2:$E$40,2,FALSE))","v":12},36,null,"Dunphy, Phil_BIZ:Admin SPIntern109934240542406FriNonBillSpecial Projects"," "]
["Dunphy, Phil","_BIZ:Admin SP","Intern",1099,null,1.75,"2016-02-08","2016-02-13","Mon",null,"NonBill","ZZ","2016-02-23",null,"Special Projects",null,{"$f":"IF(O2617=\"Business Firm billable\",VLOOKUP(A2617,'Hourly rates'!$B$2:$E$40,4,FALSE),VLOOKUP(A2617,'Hourly rates'!$B$2:$E$40,2,FALSE))","v":12},21,null,"Dunphy, Phil_BIZ:Admin SPIntern10991.754240842413MonNonBillSpecial Projects"," "]
["Dunphy, Phil","_BIZ:Admin SP","Intern",1099,null,1.25,"2016-02-09","2016-02-13","Tue",null,"NonBill","ZZ","2016-02-23",null,"Special Projects",null,{"$f":"IF(O2618=\"Business Firm billable\",VLOOKUP(A2618,'Hourly rates'!$B$2:$E$40,4,FALSE),VLOOKUP(A2618,'Hourly rates'!$B$2:$E$40,2,FALSE))","v":12},15,null,"Dunphy, Phil_BIZ:Admin SPIntern10991.254240942413TueNonBillSpecial Projects"," "]
["Dunphy, Phil","_BIZ:Admin SP","Intern",1099,null,1.75,"2016-02-10","2016-02-13","Wed",null,"NonBill","ZZ","2016-02-23",null,"Special Projects",null,{"$f":"IF(O2619=\"Business Firm billable\",VLOOKUP(A2619,'Hourly rates'!$B$2:$E$40,4,FALSE),VLOOKUP(A2619,'Hourly rates'!$B$2:$E$40,2,FALSE))","v":12},21,null,"Dunphy, Phil_BIZ:Admin SPIntern10991.754241042413WedNonBillSpecial Projects"," "]
["Dunphy, Phil","_BIZ:Admin SP","Intern",1099,null,1.75,"2016-02-11","2016-02-13","Thu",null,"NonBill","ZZ","2016-02-23",null,"Special Projects",null,{"$f":"IF(O2620=\"Business Firm billable\",VLOOKUP(A2620,'Hourly rates'!$B$2:$E$40,4,FALSE),VLOOKUP(A2620,'Hourly rates'!$B$2:$E$40,2,FALSE))","v":12},21,null,"Dunphy, Phil_BIZ:Admin SPIntern10991.754241142413ThuNonBillSpecial Projects"," "]
["Dunphy, Phil","_BIZ:Admin SP","Intern",1099,null,1.25,"2016-02-12","2016-02-13","Fri",null,"NonBill","ZZ","2016-02-23",null,"Special Projects",null,{"$f":"IF(O2621=\"Business Firm billable\",VLOOKUP(A2621,'Hourly rates'!$B$2:$E$40,4,FALSE),VLOOKUP(A2621,'Hourly rates'!$B$2:$E$40,2,FALSE))","v":12},15,null,"Dunphy, Phil_BIZ:Admin SPIntern10991.254241242413FriNonBillSpecial Projects"," "]
["Dunphy, Phil","_BIZ:Admin SP","Intern",1099,null,1.25,"2016-02-15","2016-02-20","Mon",null,"NonBill","ZZ","2016-02-23",null,"Special Projects",null,{"$f":"IF(O2622=\"Business Firm billable\",VLOOKUP(A2622,'Hourly rates'!$B$2:$E$40,4,FALSE),VLOOKUP(A2622,'Hourly rates'!$B$2:$E$40,2,FALSE))","v":12},15,null,"Dunphy, Phil_BIZ:Admin SPIntern10991.254241542420MonNonBillSpecial Projects"," "]
["Dunphy, Phil","_BIZ:Admin SP","Intern",1099,null,1.25,"2016-02-16","2016-02-20","Tue",null,"NonBill","ZZ","2016-02-23",null,"Special Projects",null,{"$f":"IF(O2623=\"Business Firm billable\",VLOOKUP(A2623,'Hourly rates'!$B$2:$E$40,4,FALSE),VLOOKUP(A2623,'Hourly rates'!$B$2:$E$40,2,FALSE))","v":12},15,null,"Dunphy, Phil_BIZ:Admin SPIntern10991.254241642420TueNonBillSpecial Projects"," "]
["Dunphy, Phil","_BIZ:Admin SP","Intern",1099,null,1.25,"2016-02-17","2016-02-20","Wed",null,"NonBill","ZZ","2016-02-23",null,"Special Projects",null,{"$f":"IF(O2624=\"Business Firm billable\",VLOOKUP(A2624,'Hourly rates'!$B$2:$E$40,4,FALSE),VLOOKUP(A2624,'Hourly rates'!$B$2:$E$40,2,FALSE))","v":12},15,null,"Dunphy, Phil_BIZ:Admin SPIntern10991.254241742420WedNonBillSpecial Projects"," "]
["Dunphy, Phil","_BIZ:Admin SP","Intern",1099,null,1.75,"2016-02-18","2016-02-20","Thu",null,"NonBill","ZZ","2016-02-23",null,"Special Projects",null,{"$f":"IF(O2625=\"Business Firm billable\",VLOOKUP(A2625,'Hourly rates'!$B$2:$E$40,4,FALSE),VLOOKUP(A2625,'Hourly rates'!$B$2:$E$40,2,FALSE))","v":12},21,null,"Dunphy, Phil_BIZ:Admin SPIntern10991.754241842420ThuNonBillSpecial Projects"," "]
["Dunphy, Phil","_BIZ:Admin SP","Intern",1099,null,1,"2016-02-19","2016-02-20","Fri",null,"NonBill","ZZ","2016-02-23",null,"Special Projects",null,{"$f":"IF(O2626=\"Business Firm billable\",VLOOKUP(A2626,'Hourly rates'!$B$2:$E$40,4,FALSE),VLOOKUP(A2626,'Hourly rates'!$B$2:$E$40,2,FALSE))","v":12},12,null,"Dunphy, Phil_BIZ:Admin SPIntern109914241942420FriNonBillSpecial Projects"," "]
["Dunphy, Phil","_BIZ:Admin SP","Intern",1099,null,1.75,"2016-02-21","2016-02-27","Sun",null,"NonBill","ZZ","2016-03-04",null,"Special Projects",null,{"$f":"IF(O2627=\"Business Firm billable\",VLOOKUP(A2627,'Hourly rates'!$B$2:$E$40,4,FALSE),VLOOKUP(A2627,'Hourly rates'!$B$2:$E$40,2,FALSE))","v":12},21,null,{"$f":"A2627&B2627&C2627&D2627&E2627&F2627&G2627&H2627&I2627&K2627&N2627&O2627","v":"Dunphy, Phil_BIZ:Admin SPIntern10991.754242142427SunNonBillSpecial Projects"}," "]
["Dunphy, Phil","_BIZ:Admin SP","Intern",1099,null,1.25,"2016-02-23","2016-02-27","Tue",null,"NonBill","ZZ","2016-03-04",null,"Special Projects",null,{"$f":"IF(O2628=\"Business Firm billable\",VLOOKUP(A2628,'Hourly rates'!$B$2:$E$40,4,FALSE),VLOOKUP(A2628,'Hourly rates'!$B$2:$E$40,2,FALSE))","v":12},15,null,"Dunphy, Phil_BIZ:Admin SPIntern10991.254242342427TueNonBillSpecial Projects"," "]
["Dunphy, Phil","_BIZ:Admin SP","Intern",1099,null,1.75,"2016-02-24","2016-02-27","Wed",null,"NonBill","ZZ","2016-03-04",null,"Special Projects",null,{"$f":"IF(O2629=\"Business Firm billable\",VLOOKUP(A2629,'Hourly rates'!$B$2:$E$40,4,FALSE),VLOOKUP(A2629,'Hourly rates'!$B$2:$E$40,2,FALSE))","v":12},21,null,"Dunphy, Phil_BIZ:Admin SPIntern10991.754242442427WedNonBillSpecial Projects"," "]
["Dunphy, Phil","_BIZ:Admin SP","Intern",1099,null,1.75,"2016-02-25","2016-02-27","Thu",null,"NonBill","ZZ","2016-03-04",null,"Special Projects",null,{"$f":"IF(O2630=\"Business Firm billable\",VLOOKUP(A2630,'Hourly rates'!$B$2:$E$40,4,FALSE),VLOOKUP(A2630,'Hourly rates'!$B$2:$E$40,2,FALSE))","v":12},21,null,"Dunphy, Phil_BIZ:Admin SPIntern10991.754242542427ThuNonBillSpecial Projects"," "]
["Dunphy, Phil","_BIZ:Admin SP","Intern",1099,null,1.25,"2016-02-26","2016-02-27","Fri",null,"NonBill","ZZ","2016-03-04",null,"Special Projects",null,{"$f":"IF(O2631=\"Business Firm billable\",VLOOKUP(A2631,'Hourly rates'!$B$2:$E$40,4,FALSE),VLOOKUP(A2631,'Hourly rates'!$B$2:$E$40,2,FALSE))","v":12},15,null,"Dunphy, Phil_BIZ:Admin SPIntern10991.254242642427FriNonBillSpecial Projects"," "]
["Dunphy, Phil","_BIZ:Admin SP","Intern",1099,null,1,"2016-02-27","2016-02-27","Sat",null,"NonBill","ZZ","2016-03-04",null,"Special Projects",null,{"$f":"IF(O2632=\"Business Firm billable\",VLOOKUP(A2632,'Hourly rates'!$B$2:$E$40,4,FALSE),VLOOKUP(A2632,'Hourly rates'!$B$2:$E$40,2,FALSE))","v":12},12,null,"Dunphy, Phil_BIZ:Admin SPIntern109914242742427SatNonBillSpecial Projects"," "]
["Dunphy, Phil","_BIZ:Admin SP","Intern",1099,null,1.75,"2016-02-28","2016-03-05","Sun",null,"NonBill","ZZ","2016-03-14",null,"Special Projects",null,{"$f":"IF(O2633=\"Business Firm billable\",VLOOKUP(A2633,'Hourly rates'!$B$2:$E$40,4,FALSE),VLOOKUP(A2633,'Hourly rates'!$B$2:$E$40,2,FALSE))","v":12},21,null,"Dunphy, Phil_BIZ:Admin SPIntern10991.754242842434SunNonBillSpecial Projects"," "]
["Dunphy, Phil","_BIZ:Admin SP","Intern",1099,null,1.25,"2016-02-29","2016-03-05","Mon",null,"NonBill","ZZ","2016-03-14",null,"Special Projects",null,{"$f":"IF(O2634=\"Business Firm billable\",VLOOKUP(A2634,'Hourly rates'!$B$2:$E$40,4,FALSE),VLOOKUP(A2634,'Hourly rates'!$B$2:$E$40,2,FALSE))","v":12},15,null,"Dunphy, Phil_BIZ:Admin SPIntern10991.254242942434MonNonBillSpecial Projects"," "]
["Dunphy, Phil","_BIZ:Admin SP","Intern",1099,null,1.25,"2016-03-01","2016-03-05","Tue",null,"NonBill","ZZ","2016-03-14",null,"Special Projects",null,{"$f":"IF(O2635=\"Business Firm billable\",VLOOKUP(A2635,'Hourly rates'!$B$2:$E$40,4,FALSE),VLOOKUP(A2635,'Hourly rates'!$B$2:$E$40,2,FALSE))","v":12},15,null,"Dunphy, Phil_BIZ:Admin SPIntern10991.254243042434TueNonBillSpecial Projects"," "]
["Dunphy, Phil","_BIZ:Admin SP","Intern",1099,null,1.25,"2016-03-02","2016-03-05","Wed",null,"NonBill","ZZ","2016-03-14",null,"Special Projects",null,{"$f":"IF(O2636=\"Business Firm billable\",VLOOKUP(A2636,'Hourly rates'!$B$2:$E$40,4,FALSE),VLOOKUP(A2636,'Hourly rates'!$B$2:$E$40,2,FALSE))","v":12},15,null,"Dunphy, Phil_BIZ:Admin SPIntern10991.254243142434WedNonBillSpecial Projects"," "]
["Dunphy, Phil","_BIZ:Admin SP","Intern",1099,null,3,"2016-03-03","2016-03-05","Thu",null,"NonBill","ZZ","2016-03-14",null,"Special Projects",null,{"$f":"IF(O2637=\"Business Firm billable\",VLOOKUP(A2637,'Hourly rates'!$B$2:$E$40,4,FALSE),VLOOKUP(A2637,'Hourly rates'!$B$2:$E$40,2,FALSE))","v":12},36,null,"Dunphy, Phil_BIZ:Admin SPIntern109934243242434ThuNonBillSpecial Projects"," "]
["Dunphy, Phil","_BIZ:Admin SP","Intern",1099,null,1.25,"2016-03-07","2016-03-12","Mon",null,"NonBill","ZZ","2016-03-14",null,"Special Projects",null,{"$f":"IF(O2638=\"Business Firm billable\",VLOOKUP(A2638,'Hourly rates'!$B$2:$E$40,4,FALSE),VLOOKUP(A2638,'Hourly rates'!$B$2:$E$40,2,FALSE))","v":12},15,null,"Dunphy, Phil_BIZ:Admin SPIntern10991.254243642441MonNonBillSpecial Projects"," "]
["Dunphy, Phil","_BIZ:Admin SP","Intern",1099,null,1.25,"2016-03-08","2016-03-12","Tue",null,"NonBill","ZZ","2016-03-14",null,"Special Projects",null,{"$f":"IF(O2639=\"Business Firm billable\",VLOOKUP(A2639,'Hourly rates'!$B$2:$E$40,4,FALSE),VLOOKUP(A2639,'Hourly rates'!$B$2:$E$40,2,FALSE))","v":12},15,null,"Dunphy, Phil_BIZ:Admin SPIntern10991.254243742441TueNonBillSpecial Projects"," "]
["Dunphy, Phil","_BIZ:Admin SP","Intern",1099,null,1.25,"2016-03-09","2016-03-12","Wed",null,"NonBill","ZZ","2016-03-14",null,"Special Projects",null,{"$f":"IF(O2640=\"Business Firm billable\",VLOOKUP(A2640,'Hourly rates'!$B$2:$E$40,4,FALSE),VLOOKUP(A2640,'Hourly rates'!$B$2:$E$40,2,FALSE))","v":12},15,null,"Dunphy, Phil_BIZ:Admin SPIntern10991.254243842441WedNonBillSpecial Projects"," "]
["Dunphy, Phil","_BIZ:Admin SP","Intern",1099,null,3,"2016-03-10","2016-03-12","Thu",null,"NonBill","ZZ","2016-03-14",null,"Special Projects",null,{"$f":"IF(O2641=\"Business Firm billable\",VLOOKUP(A2641,'Hourly rates'!$B$2:$E$40,4,FALSE),VLOOKUP(A2641,'Hourly rates'!$B$2:$E$40,2,FALSE))","v":12},36,null,"Dunphy, Phil_BIZ:Admin SPIntern109934243942441ThuNonBillSpecial Projects"," "]
["Dunphy, Phil","_BIZ:Admin SP","Intern",1099,null,1,"2016-03-11","2016-03-12","Fri",null,"NonBill","ZZ","2016-03-14",null,"Special Projects",null,{"$f":"IF(O2642=\"Business Firm billable\",VLOOKUP(A2642,'Hourly rates'!$B$2:$E$40,4,FALSE),VLOOKUP(A2642,'Hourly rates'!$B$2:$E$40,2,FALSE))","v":12},12,null,"Dunphy, Phil_BIZ:Admin SPIntern109914244042441FriNonBillSpecial Projects"," "]
["Dunphy, Phil","_BIZ:Admin SP","Intern",1099,null,1,"2016-03-16","2016-03-19","Wed",null,"NonBill","ZZ","Pending",null,"Special Projects",null,{"$f":"IF(O2643=\"Business Firm billable\",VLOOKUP(A2643,'Hourly rates'!$B$2:$E$40,4,FALSE),VLOOKUP(A2643,'Hourly rates'!$B$2:$E$40,2,FALSE))","v":12},12,null,"Dunphy, Phil_BIZ:Admin SPIntern109914244542448WedNonBillSpecial Projects"," "]
["Dunphy, Phil","_BIZ:Admin SP","Intern",1099,null,1.25,"2016-03-17","2016-03-19","Thu",null,"NonBill","ZZ","Pending",null,"Special Projects",null,{"$f":"IF(O2644=\"Business Firm billable\",VLOOKUP(A2644,'Hourly rates'!$B$2:$E$40,4,FALSE),VLOOKUP(A2644,'Hourly rates'!$B$2:$E$40,2,FALSE))","v":12},15,null,"Dunphy, Phil_BIZ:Admin SPIntern10991.254244642448ThuNonBillSpecial Projects"," "]
["Dunphy, Phil","_BIZ:Admin SP","Intern",1099,null,3,"2016-03-18","2016-03-19","Fri",null,"NonBill","ZZ","Pending",null,"Special Projects",null,{"$f":"IF(O2645=\"Business Firm billable\",VLOOKUP(A2645,'Hourly rates'!$B$2:$E$40,4,FALSE),VLOOKUP(A2645,'Hourly rates'!$B$2:$E$40,2,FALSE))","v":12},36,null,"Dunphy, Phil_BIZ:Admin SPIntern109934244742448FriNonBillSpecial Projects"," "]
["Dunphy, Phil","_BIZ:Administrative","Intern",1099,null,1,"2016-03-14","2016-03-19","Mon",null,"NonBill","ZZ","Pending",null,"",null,{"$f":"IF(O2646=\"Business Firm billable\",VLOOKUP(A2646,'Hourly rates'!$B$2:$E$40,4,FALSE),VLOOKUP(A2646,'Hourly rates'!$B$2:$E$40,2,FALSE))","v":12},12,null,"Dunphy, Phil_BIZ:AdministrativeIntern109914244342448MonNonBill"," "]
["Dunphy, Phil","_BIZ:Administrative","Intern",1099,null,2,"2016-03-15","2016-03-19","Tue",null,"NonBill","ZZ","Pending",null,"",null,{"$f":"IF(O2647=\"Business Firm billable\",VLOOKUP(A2647,'Hourly rates'!$B$2:$E$40,4,FALSE),VLOOKUP(A2647,'Hourly rates'!$B$2:$E$40,2,FALSE))","v":12},24,null,"Dunphy, Phil_BIZ:AdministrativeIntern109924244442448TueNonBill"," "]
["Dunphy, Phil","_BIZ:Administrative","Intern",1099,null,1.25,"2016-03-16","2016-03-19","Wed",null,"NonBill","ZZ","Pending",null,"",null,{"$f":"IF(O2648=\"Business Firm billable\",VLOOKUP(A2648,'Hourly rates'!$B$2:$E$40,4,FALSE),VLOOKUP(A2648,'Hourly rates'!$B$2:$E$40,2,FALSE))","v":12},15,null,"Dunphy, Phil_BIZ:AdministrativeIntern10991.254244542448WedNonBill"," "]
["Dunphy, Phil","Some Client:Equity Assistance","Intern",1099,null,2,"2016-01-08","2016-01-09","Fri",null,"Admin 5%","ZZ","2016-02-02",null,"Business Firm Billable",null,66.25,132.5,null,"Dunphy, PhilSome Client:Equity AssistanceIntern109924237742378FriAdmin 5%Business Firm Billable"," "]
["Dunphy, Phil","Some Client:Equity Assistance","Intern",1099,null,1.25,"2016-01-09","2016-01-09","Sat",null,"Admin 5%","ZZ","2016-02-02",null,"Business Firm Billable",null,66.25,82.8125,null,"Dunphy, PhilSome Client:Equity AssistanceIntern10991.254237842378SatAdmin 5%Business Firm Billable"," "]
["Dunphy, Phil","Some Client:Equity Assistance","Intern",1099,null,1.25,"2016-01-11","2016-01-16","Mon",null,"Admin 5%","ZZ","2016-02-02",null,"Business Firm Billable",null,66.25,82.8125,null,"Dunphy, PhilSome Client:Equity AssistanceIntern10991.254238042385MonAdmin 5%Business Firm Billable"," "]
["Dunphy, Phil","Some Client:Equity Assistance","Intern",1099,null,1.25,"2016-01-14","2016-01-16","Thu",null,"Admin 5%","ZZ","2016-02-02",null,"Business Firm Billable",null,66.25,82.8125,null,"Dunphy, PhilSome Client:Equity AssistanceIntern10991.254238342385ThuAdmin 5%Business Firm Billable"," "]

{"sheet":"Hourly rates","index":2,"n_rows":20,"n_cols":6,"rows_kept":20,"cut":false,"hidden":true,"merged":[]}
[null,"Intern","Cost\nHourly Rates","Gross Revenue\nHourly Rates","Net Revenue Hourly Rates"]
[null,"O'Brian, Chloe",12,95,{"$f":"D2-C2","v":83}]
[null,"Myers, Nina",12,95,{"$f":"D3-C3","v":83}]
[null,"Delgado, Gloria",12,95,83]
[null,"Dwyer, Andy",12,95,83]
[null,"Almeida, Tony",12,95,83]
[null,"Ludgate, April",12,95,83," "]
[null,"Perkins, Ann",12,95,83]
[null,"Haverford, Tom",12,95,83]
[null,"Wyatt, Ben",12,95,83]
[null,"Meagle, Donna",12,95,83]
[null,"Delgado, Manny",12,95,83]
[null,"Swanson, Ron",12,95,83]
[null,"Walker, Renee",12,95,83]
[null,"Tucker, Cameron",12,95,83]
[null,"Knope, Leslie",12,95,{"$f":"D16-C16","v":83}]
[null,"Pritchett, Jay",12,95,{"$f":"D17-C17","v":83}]
[null,"Raines, Audrey",12,95,83]
[null,"Dunphy, Phil",12,95,83]
[null,"Bauer, Jack",12,95,83]