{"text_format":"1","workbook":"xlsx","n_sheets":3,"sheets":["Report","Data","C R"],"not_rendered":{"charts":3,"images":0,"macros":1,"external_links":0,"defined_names":0,"comments":0,"pivot_tables":0},"unopened":[],"bounds":{"document_bytes":16777216,"sheet_cells":100000,"rows_first":2000,"rows_last":500,"rows_between":2000,"halvings":0,"cell_chars":16384,"cell_head_chars":4096},"cells_cut":0,"cells_raw":0,"read":"whole","date_system":"1900"}

{"sheet":"Report","index":0,"n_rows":8,"n_cols":5,"rows_kept":8,"cut":false,"hidden":false,"merged":[]}
[]
[null,"Date:","2016-04-07"]
[null,null,"Revenue","Cost ","C / R"]
[null,"Total",{"$f":"SUM(Data!B:B)","v":1958788.5260000054},{"$f":"SUM(Data!C:C)","v":208387.75459999789},{"$f":"D4/C4","v":0.10638604006198743}]
[null,"Daily Average Total",{"$f":"AVERAGE(Data!B:B)","v":873.67909277431113},{"$f":"AVERAGE(Data!C:C)","v":92.94725896520869},{"$f":"D5/C5","v":0.10638604006198742}]
[null,"1-week",{"$f":"VLOOKUP($C$2,Data!AL:AU,5)","v":5680.2099999999991},{"$f":"VLOOKUP($C$2,Data!AL:AU,8)","v":746.24233000000004},{"$f":"D6/C6","v":0.13137583469625244}]
[null,"2-week",{"$f":"VLOOKUP($C$2,Data!AL:AU,6)","v":14291.16},{"$f":"VLOOKUP($C$2,Data!AL:AU,9)","v":1310.361202},{"$f":"D7/C7","v":9.1690331785523368E-2}]
[null,"4-week",{"$f":"VLOOKUP($C$2,Data!AL:AU,7)","v":28105.02},{"$f":"VLOOKUP($C$2,Data!AL:AU,10)","v":2104.6613989999837},7.4885604030880737E-2]

{"sheet":"Data","index":1,"n_rows":2243,"n_cols":47,"rows_kept":1125,"cut":true,"hidden":false,"merged":[[0,44,0,46],[0,22,0,25],[0,27,0,30],[0,32,0,35],[0,38,0,40],[0,41,0,43]],"bounds":{"rows_first":500,"rows_last":125,"rows_between":500,"halvings":2}}
["Date","Revenue","Web Cost","Cost / Rev",null,null,null,null,null,null,"Facebook",null,null,null,"Adroll",null,null,null,null,null,null,null,"Historical Revenue (Daily Averages)",null,null,null,null,"Historical Cost (Daily Averages)",null,null,null,null,"Historical Profit (Daily Averages)",null,null,null,null,null,"C/R Ratios",null,null,"Revenue",null,null,"Cost"]
["2010-02-17",1000,{"$f":"SUM(K2:Q2)","v":21},{"$f":"C2/B2","v":2.1000000000000001E-2},null,null,null,null,null,null,11,null,null,null,10,null,null,null,null,null,null,null,"Date","1-week","2-week","4-week",null,"Date","1-week","2-week","4-week",null,"Date","1-week","2-week","4-week",null,"Date","1-week ratio","2-week ratio","4-week ratio","1-week rev","2-week rev","4-week rev","1-week cost","2-week cost","4-week cost"]
["2010-02-18",777,44.000000999999997,{"$f":"C3/B3","v":5.6628057915057914E-2},null,null,null,null,null,null,{"$f":"K2+0.000001","v":11.000000999999999},null,null,null,33,null,null,null,null,null,null,null,"2010-02-22",{"$f":"(VLOOKUP($W3,$AG:$AU,10))/7","v":0},null,null,null,"2010-02-22",{"$f":"(VLOOKUP($AB3,$AG:$AU,8))/7","v":0},null,null,null,"2010-02-22",{"$f":"X3-AC3","v":0},null,null,null,"2010-02-22"]
["2010-02-19",{"$f":"B3+0.0001","v":777.00009999999997},44.010002,5.6640921925235274E-2,null,null,null,null,null,null,{"$f":"K3+0.000001","v":11.000001999999999},null,null,null,{"$f":"O3+0.01","v":33.01},null,null,null,null,null,null,null,{"$f":"W3+7","v":"2010-03-01"},{"$f":"(VLOOKUP($W4,$AG:$AU,10))/7","v":0},{"$f":"VLOOKUP($W4,$AG:$AU,11)/14","v":0},null,null,{"$f":"AB3+7","v":"2010-03-01"},{"$f":"(VLOOKUP($AB4,$AG:$AU,8))/7","v":0},{"$f":"VLOOKUP($AB4,$AG:$AU,9)/14","v":0},null,null,{"$f":"AG3+7","v":"2010-03-01"},{"$f":"X4-AC4","v":0},{"$f":"Y4-AD4","v":0},null,null,"2010-02-23"]
["2010-02-20",754,44.020002999999996,5.8381966843501318E-2,null,null,null,null,null,null,11.000002999999998,null,null,null,33.019999999999996,null,null,null,null,null,null,null,{"$f":"W4+7","v":"2010-03-08"},{"$f":"(VLOOKUP($W5,$AG:$AU,10))/7","v":0},{"$f":"VLOOKUP($W5,$AG:$AU,11)/14","v":0},null,null,{"$f":"AB4+7","v":"2010-03-08"},{"$f":"(VLOOKUP($AB5,$AG:$AU,8))/7","v":0},{"$f":"VLOOKUP($AB5,$AG:$AU,9)/14","v":0},null,null,{"$f":"AG4+7","v":"2010-03-08"},0,{"$f":"Y5-AD5","v":0},null,null,"2010-02-24"]
["2010-02-21",888,22.000003999999997,2.4774779279279277E-2,null,null,null,null,null,null,11.000003999999997,null,null,null,11,null,null,null,null,null,null,null,"2010-03-15",{"$f":"(VLOOKUP($W6,$AG:$AU,10))/7","v":0},{"$f":"VLOOKUP($W6,$AG:$AU,11)/14","v":0},{"$f":"VLOOKUP($W6,$AG:$AU,12)/28","v":0},null,"2010-03-15",{"$f":"(VLOOKUP($AB6,$AG:$AU,8))/7","v":0},{"$f":"VLOOKUP($AB6,$AG:$AU,9)/14","v":0},{"$f":"VLOOKUP($AB6,$AG:$AU,10)/28","v":0},null,"2010-03-15",0,0,0,null,"2010-02-25"]
["2010-02-22",888.00009999999997,22.010004999999996,2.478603887544607E-2,null,null,null,null,null,null,11.000004999999996,null,null,null,{"$f":"O6+0.01","v":11.01},null,null,null,null,null,null,null,"2010-03-22",{"$f":"(VLOOKUP($W7,$AG:$AU,10))/7","v":0},{"$f":"VLOOKUP($W7,$AG:$AU,11)/14","v":0},{"$f":"VLOOKUP($W7,$AG:$AU,12)/28","v":0},null,"2010-03-22",{"$f":"(VLOOKUP($AB7,$AG:$AU,8))/7","v":0},{"$f":"VLOOKUP($AB7,$AG:$AU,9)/14","v":0},{"$f":"VLOOKUP($AB7,$AG:$AU,10)/28","v":0},null,"2010-03-22",0,0,0,null,"2010-02-26"]
["2010-02-23",999,22.020005999999995,2.2042048048048043E-2,null,null,null,null,null,null,11.000005999999996,null,null,null,11.02,null,null,null,null,null,null,null,"2010-03-29",{"$f":"(VLOOKUP($W8,$AG:$AU,10))/7","v":0},{"$f":"VLOOKUP($W8,$AG:$AU,11)/14","v":0},{"$f":"VLOOKUP($W8,$AG:$AU,12)/28","v":0},null,"2010-03-29",{"$f":"(VLOOKUP($AB8,$AG:$AU,8))/7","v":0},{"$f":"VLOOKUP($AB8,$AG:$AU,9)/14","v":0},{"$f":"VLOOKUP($AB8,$AG:$AU,10)/28","v":0},null,"2010-03-29",0,0,0,null,"2010-02-27"]
["2010-02-24",999.00009999999997,22.030006999999994,2.2052056851645956E-2,null,null,null,null,null,null,11.000006999999995,null,null,null,11.03,null,null,null,null,null,null,null,"2010-04-05",{"$f":"(VLOOKUP($W9,$AG:$AU,10))/7","v":868.85718571428583},{"$f":"VLOOKUP($W9,$AG:$AU,11)/14","v":0},{"$f":"VLOOKUP($W9,$AG:$AU,12)/28","v":0},null,"2010-04-05",{"$f":"(VLOOKUP($AB9,$AG:$AU,8))/7","v":0},{"$f":"VLOOKUP($AB9,$AG:$AU,9)/14","v":0},{"$f":"VLOOKUP($AB9,$AG:$AU,10)/28","v":217.21429642857146},null,"2010-04-05",868.85718571428583,0,-217.21429642857146,null,"2010-02-28",{"$f":"AS9/AP9","v":3.6187112322240422E-2},null,null,{"$f":"SUM(B3:B9)","v":6082.0003000000006},null,null,{"$f":"SUM(C3:C9)","v":220.09002799999996}]
["2010-02-25",999.00019999999995,23.000007999999994,2.3023026421816528E-2,null,null,null,null,null,null,11.000007999999994,null,null,null,12,null,null,null,null,null,null,null,"2010-04-12",{"$f":"(VLOOKUP($W10,$AG:$AU,10))/7","v":900.57150000000001},{"$f":"VLOOKUP($W10,$AG:$AU,11)/14","v":0},{"$f":"VLOOKUP($W10,$AG:$AU,12)/28","v":0},null,"2010-04-12",{"$f":"(VLOOKUP($AB10,$AG:$AU,8))/7","v":0},{"$f":"VLOOKUP($AB10,$AG:$AU,9)/14","v":0},{"$f":"VLOOKUP($AB10,$AG:$AU,10)/28","v":225.142875},null,"2010-04-12",900.57150000000001,0,-225.142875,null,"2010-03-01",{"$f":"AS10/AP10","v":3.1581538580144453E-2},null,null,{"$f":"SUM(B4:B10)","v":6304.0005000000001},null,null,{"$f":"SUM(C4:C10)","v":199.09003499999994}]
["2010-02-26",999.00029999999992,23.010008999999993,2.3033035125214672E-2,null,null,null,null,null,null,11.000008999999993,null,null,null,{"$f":"O10+0.01","v":12.01},null,null,null,null,null,null,null,"2010-04-19",{"$f":"(VLOOKUP($W11,$AG:$AU,10))/7","v":932.28581428571431},{"$f":"VLOOKUP($W11,$AG:$AU,11)/14","v":0},{"$f":"VLOOKUP($W11,$AG:$AU,12)/28","v":0},null,"2010-04-19",{"$f":"(VLOOKUP($AB11,$AG:$AU,8))/7","v":0},{"$f":"VLOOKUP($AB11,$AG:$AU,9)/14","v":0},{"$f":"VLOOKUP($AB11,$AG:$AU,10)/28","v":233.07145357142858},null,"2010-04-19",932.28581428571431,0,-233.07145357142858,null,"2010-03-02",2.7289307829832125E-2,null,null,6526.0007000000005,null,null,178.09004199999995]
["2010-02-27",999.0003999999999,23.020009999999992,2.3043043826609072E-2,null,null,null,null,null,null,11.000009999999993,null,null,null,12.02,null,null,null,null,null,null,null,"2010-04-26",{"$f":"(VLOOKUP($W12,$AG:$AU,10))/7","v":967.28587142857145},{"$f":"VLOOKUP($W12,$AG:$AU,11)/14","v":0},{"$f":"VLOOKUP($W12,$AG:$AU,12)/28","v":0},null,"2010-04-26",{"$f":"(VLOOKUP($AB12,$AG:$AU,8))/7","v":0},{"$f":"VLOOKUP($AB12,$AG:$AU,9)/14","v":0},{"$f":"VLOOKUP($AB12,$AG:$AU,10)/28","v":241.82146785714286},null,"2010-04-26",967.28587142857145,0,-241.82146785714286,null,"2010-03-03",2.3200416995944655E-2,null,null,6771.0011000000004,null,null,157.09004899999996]
["2010-02-28",666,23.030010999999991,3.457959609609608E-2,null,null,null,null,null,null,11.000010999999992,null,null,null,12.03,null,null,null,null,null,null,null,"2010-05-03",{"$f":"(VLOOKUP($W13,$AG:$AU,10))/7","v":935.57158571428567},{"$f":"VLOOKUP($W13,$AG:$AU,11)/14","v":0},{"$f":"VLOOKUP($W13,$AG:$AU,12)/28","v":0},null,"2010-05-03",{"$f":"(VLOOKUP($AB13,$AG:$AU,8))/7","v":0},{"$f":"VLOOKUP($AB13,$AG:$AU,9)/14","v":0},{"$f":"VLOOKUP($AB13,$AG:$AU,10)/28","v":233.89289642857142},null,"2010-05-03",935.57158571428567,0,-233.89289642857142,null,"2010-03-04",2.4144148639706289E-2,null,null,6549.0010999999995,null,null,158.12005599999998]
["2010-03-01",666.00009999999997,24.000011999999991,3.6036048643235924E-2,null,null,null,null,null,null,11.000011999999991,null,null,null,13,null,null,null,null,null,null,null,"2010-05-10",{"$f":"(VLOOKUP($W14,$AG:$AU,10))/7","v":903.8572999999999},{"$f":"VLOOKUP($W14,$AG:$AU,11)/14","v":0},{"$f":"VLOOKUP($W14,$AG:$AU,12)/28","v":0},null,"2010-05-10",{"$f":"(VLOOKUP($AB14,$AG:$AU,8))/7","v":0},{"$f":"VLOOKUP($AB14,$AG:$AU,9)/14","v":0},{"$f":"VLOOKUP($AB14,$AG:$AU,10)/28","v":225.96432499999997},null,"2010-05-10",903.8572999999999,0,-225.96432499999997,null,"2010-03-05",2.5305837705639087E-2,null,null,6327.0010999999995,null,null,160.11006299999997]
["2010-03-02",666.00019999999995,24.01001299999999,3.6051059744426489E-2,null,null,null,null,null,null,11.00001299999999,null,null,null,{"$f":"O14+0.01","v":13.01},null,null,null,null,null,null,null,"2010-05-17",{"$f":"(VLOOKUP($W15,$AG:$AU,10))/7","v":856.28589999999997},{"$f":"VLOOKUP($W15,$AG:$AU,11)/14","v":0},{"$f":"VLOOKUP($W15,$AG:$AU,12)/28","v":0},null,"2010-05-17",{"$f":"(VLOOKUP($AB15,$AG:$AU,8))/7","v":0},{"$f":"VLOOKUP($AB15,$AG:$AU,9)/14","v":0},{"$f":"VLOOKUP($AB15,$AG:$AU,10)/28","v":214.07147499999999},null,"2010-05-17",856.28589999999997,0,-214.07147499999999,null,"2010-03-06",2.7043716190051532E-2,null,null,5994.0012999999999,null,null,162.10006999999993]
["2010-03-03",666.00029999999992,24.020013999999989,3.6066070841109216E-2,null,null,null,null,null,null,11.00001399999999,null,null,null,13.02,null,null,null,null,null,null,null,"2010-05-24",{"$f":"(VLOOKUP($W16,$AG:$AU,10))/7","v":808.71450000000004},{"$f":"VLOOKUP($W16,$AG:$AU,11)/14","v":838.78584285714271},{"$f":"VLOOKUP($W16,$AG:$AU,12)/28","v":0},null,"2010-05-24",{"$f":"(VLOOKUP($AB16,$AG:$AU,8))/7","v":4.6736663314534401E-3},{"$f":"VLOOKUP($AB16,$AG:$AU,9)/14","v":0},{"$f":"VLOOKUP($AB16,$AG:$AU,10)/28","v":202.17862500000001},null,"2010-05-24",808.70982633366862,838.78584285714271,-202.17862500000001,null,"2010-03-07",2.898605078977632E-2,{"$f":"AT16/AQ16","v":3.271566432017408E-2},null,5661.0015000000003,{"$f":"SUM(B3:B16)","v":11743.001799999998},null,164.09007699999995,{"$f":"SUM(C3:C16)","v":384.18010499999991}]
["2010-03-04",888,24.030014999999988,2.706082770270269E-2,null,null,null,null,null,null,11.000014999999989,null,null,null,13.03,null,null,null,null,null,null,null,"2010-05-31",{"$f":"(VLOOKUP($W17,$AG:$AU,10))/7","v":792.85732857142852},{"$f":"VLOOKUP($W17,$AG:$AU,11)/14","v":846.71441428571416},{"$f":"VLOOKUP($W17,$AG:$AU,12)/28","v":0},null,"2010-05-31",{"$f":"(VLOOKUP($AB17,$AG:$AU,8))/7","v":4.3892364686497678E-3},{"$f":"VLOOKUP($AB17,$AG:$AU,9)/14","v":0},{"$f":"VLOOKUP($AB17,$AG:$AU,10)/28","v":198.21433214285713},null,"2010-05-31",792.85293933495984,846.71441428571416,-198.21433214285713,null,"2010-03-08",2.9751359517699555E-2,{"$f":"AT17/AQ17","v":3.0724655280548376E-2},null,5550.0012999999999,{"$f":"SUM(B4:B17)","v":11854.001799999998},null,165.12008399999991,{"$f":"SUM(C4:C17)","v":364.21011899999991}]
["2010-03-05",888.00009999999997,25.000015999999988,2.8153168000769356E-2,null,null,null,null,null,null,11.000015999999988,null,null,null,14,null,null,null,null,null,null,null,"2010-06-07",{"$f":"(VLOOKUP($W18,$AG:$AU,10))/7","v":777.00015714285723},{"$f":"VLOOKUP($W18,$AG:$AU,11)/14","v":854.64298571428571},{"$f":"VLOOKUP($W18,$AG:$AU,12)/28","v":0},null,"2010-06-07",{"$f":"(VLOOKUP($AB18,$AG:$AU,8))/7","v":4.1215459503136645E-3},{"$f":"VLOOKUP($AB18,$AG:$AU,9)/14","v":0},{"$f":"VLOOKUP($AB18,$AG:$AU,10)/28","v":194.25003928571431},null,"2010-06-07",776.99603559690695,854.64298571428571,-194.25003928571431,null,"2010-03-09",3.0724408384473375E-2,2.885082165219565E-2,null,5439.0011000000004,11965.0018,null,167.11009099999993,345.20013299999994]
["2010-03-06",778,25.010016999999987,3.214655141388173E-2,null,null,null,null,null,null,11.000016999999987,null,null,null,{"$f":"O18+0.01","v":14.01},null,null,null,null,null,null,null,"2010-06-14",{"$f":"(VLOOKUP($W19,$AG:$AU,10))/7","v":745.42867142857142},{"$f":"VLOOKUP($W19,$AG:$AU,11)/14","v":856.35727142857138},{"$f":"VLOOKUP($W19,$AG:$AU,12)/28","v":0},null,"2010-06-14",{"$f":"(VLOOKUP($AB19,$AG:$AU,8))/7","v":3.8867783328359684E-3},{"$f":"VLOOKUP($AB19,$AG:$AU,9)/14","v":0},{"$f":"VLOOKUP($AB19,$AG:$AU,10)/28","v":186.35716785714285},null,"2010-06-14",745.42478465023862,856.35727142857138,-186.35716785714285,null,"2010-03-10",3.2407066944241676E-2,2.720744832985178E-2,null,5218.0006999999996,11989.0018,null,169.10009799999992,326.19014699999997]
["2010-03-07",888,25.020017999999986,2.817569594594593E-2,null,null,null,null,null,null,11.000017999999987,null,null,null,14.02,null,null,null,null,null,null,null,"2010-06-21",{"$f":"(VLOOKUP($W20,$AG:$AU,10))/7","v":777.14295714285709},{"$f":"VLOOKUP($W20,$AG:$AU,11)/14","v":856.35727142857127},{"$f":"VLOOKUP($W20,$AG:$AU,12)/28","v":0},null,"2010-06-21",{"$f":"(VLOOKUP($AB20,$AG:$AU,8))/7","v":3.9227638617920632E-3},{"$f":"VLOOKUP($AB20,$AG:$AU,9)/14","v":0},{"$f":"VLOOKUP($AB20,$AG:$AU,10)/28","v":194.28573928571427},null,"2010-06-21",777.13903437899535,{"$f":"Y20-AD20","v":856.35727142857127},-194.28573928571427,null,"2010-03-11",3.145038290160513E-2,2.7459347032544445E-2,null,5440.0006999999996,11989.001799999998,null,171.09010499999994,329.21016099999997]
["2010-03-08",888.00009999999997,25.030018999999985,2.8186955159126656E-2,null,null,null,null,null,null,11.000018999999986,null,null,null,14.03,null,null,null,null,null,null,null,"2010-06-28",{"$f":"(VLOOKUP($W21,$AG:$AU,10))/7","v":808.85724285714298},{"$f":"VLOOKUP($W21,$AG:$AU,11)/14","v":856.35727142857127},{"$f":"VLOOKUP($W21,$AG:$AU,12)/28","v":0},null,"2010-06-28",{"$f":"(VLOOKUP($AB21,$AG:$AU,8))/7","v":3.958749390748157E-3},{"$f":"VLOOKUP($AB21,$AG:$AU,9)/14","v":0},{"$f":"VLOOKUP($AB21,$AG:$AU,10)/28","v":202.21431071428574},null,"2010-06-28",808.85328410775219,856.35727142857127,-202.21431071428574,null,"2010-03-12",3.0399168265733332E-2,2.7711245735237099E-2,null,5662.0007000000005,11989.001799999998,null,172.12011199999992,332.23017499999986]
["2010-03-09",888.00019999999995,26.000019999999985,2.927929520736593E-2,null,null,null,null,null,null,11.000019999999985,null,null,null,15,null,null,null,null,null,null,null,"2010-07-05",{"$f":"(VLOOKUP($W22,$AG:$AU,10))/7","v":840.57152857142864},{"$f":"VLOOKUP($W22,$AG:$AU,11)/14","v":848.42871428571414},{"$f":"VLOOKUP($W22,$AG:$AU,12)/28","v":0},null,"2010-07-05",{"$f":"(VLOOKUP($AB22,$AG:$AU,8))/7","v":4.0436116276121167E-3},{"$f":"VLOOKUP($AB22,$AG:$AU,9)/14","v":0},{"$f":"VLOOKUP($AB22,$AG:$AU,10)/28","v":210.14288214285716},null,"2010-07-05",840.56748495980105,848.42871428571414,-210.14288214285716,null,"2010-03-13",2.959043138795002E-2,2.8305281393284819E-2,null,5884.0007000000005,11878.001999999999,null,174.11011899999991,336.21018899999984]
["2010-03-10",888.00029999999992,26.010020999999984,2.9290554293731643E-2,null,null,null,null,null,null,11.000020999999984,null,null,null,{"$f":"O22+0.01","v":15.01},null,null,null,null,null,null,null,"2010-07-12",{"$f":"(VLOOKUP($W23,$AG:$AU,10))/7","v":872.28581428571431},{"$f":"VLOOKUP($W23,$AG:$AU,11)/14","v":840.50015714285712},{"$f":"VLOOKUP($W23,$AG:$AU,12)/28","v":0},null,"2010-07-12",{"$f":"(VLOOKUP($AB23,$AG:$AU,8))/7","v":4.1300748994991619E-3},{"$f":"VLOOKUP($AB23,$AG:$AU,9)/14","v":0},{"$f":"VLOOKUP($AB23,$AG:$AU,10)/28","v":218.07145357142858},null,"2010-07-12",872.28168421081477,840.50015714285712,-218.07145357142858,null,"2010-03-14",2.8840502098206423E-2,2.8910524296494131E-2,null,6106.0007000000005,11767.002199999999,null,176.1001259999999,340.19020299999988]
["2010-03-11",888.0003999999999,26.020021999999983,2.9301813377561527E-2,null,null,null,null,null,null,11.000021999999984,null,null,null,15.02,null,null,null,null,null,null,null,"2010-07-19",{"$f":"(VLOOKUP($W24,$AG:$AU,10))/7","v":872.28587142857145},{"$f":"VLOOKUP($W24,$AG:$AU,11)/14","v":832.5716000000001},{"$f":"VLOOKUP($W24,$AG:$AU,12)/28","v":0},null,"2010-07-19",{"$f":"(VLOOKUP($AB24,$AG:$AU,8))/7","v":4.2064190892754077E-3},{"$f":"VLOOKUP($AB24,$AG:$AU,9)/14","v":0},{"$f":"VLOOKUP($AB24,$AG:$AU,10)/28","v":218.07146785714286},null,"2010-07-19",872.28166500948214,832.5716000000001,-218.07146785714286,null,"2010-03-15",2.9166410238609337E-2,2.9444933624927856E-2,null,6106.0011000000004,11656.002400000001,null,178.09013299999989,343.21021699999983]
["2010-03-12",888.00049999999987,55.000022999999985,6.1936927963441454E-2,null,null,null,null,null,null,11.000022999999983,null,null,null,44,null,null,null,null,null,null,null,"2010-07-26",{"$f":"(VLOOKUP($W25,$AG:$AU,10))/7","v":872.2859285714286},{"$f":"VLOOKUP($W25,$AG:$AU,11)/14","v":824.64304285714297},{"$f":"VLOOKUP($W25,$AG:$AU,12)/28","v":0},null,"2010-07-26",{"$f":"(VLOOKUP($AB25,$AG:$AU,8))/7","v":4.6427042814178292E-3},{"$f":"VLOOKUP($AB25,$AG:$AU,9)/14","v":0},{"$f":"VLOOKUP($AB25,$AG:$AU,10)/28","v":218.07148214285715},null,"2010-07-26",872.28128586714718,824.64304285714297,-218.07148214285715,null,"2010-03-16",3.4079608398392941E-2,3.2498929969924803E-2,null,6106.0015000000003,11545.002600000002,null,208.09013999999991,375.20023099999986]
["2010-03-13",888.00059999999985,27.000023999999982,3.0405411888235194E-2,null,null,null,null,null,null,11.000023999999982,null,null,null,16,null,null,null,null,null,null,null,"2010-08-02",{"$f":"(VLOOKUP($W26,$AG:$AU,10))/7","v":888.00029999999992},{"$f":"VLOOKUP($W26,$AG:$AU,11)/14","v":816.71448571428573},{"$f":"VLOOKUP($W26,$AG:$AU,12)/28","v":0},null,"2010-08-02",{"$f":"(VLOOKUP($AB26,$AG:$AU,8))/7","v":4.7375015885575437E-3},{"$f":"VLOOKUP($AB26,$AG:$AU,9)/14","v":0},{"$f":"VLOOKUP($AB26,$AG:$AU,10)/28","v":222.00007499999998},null,"2010-08-02",887.99556249841135,816.71448571428573,-222.00007499999998,null,"2010-03-17",3.3796666027509852E-2,3.3162511119902809E-2,null,6216.0020999999997,11434.0028,null,210.0801469999999,379.18024499999984]
["2010-03-14",888.00069999999982,27.010024999999985,3.0416670842714415E-2,null,null,null,null,null,null,11.000024999999981,null,null,null,{"$f":"O26+0.01","v":16.010000000000002},null,null,null,null,null,null,null,"2010-08-09",{"$f":"(VLOOKUP($W27,$AG:$AU,10))/7","v":888.0003999999999},{"$f":"VLOOKUP($W27,$AG:$AU,11)/14","v":832.57167857142861},{"$f":"VLOOKUP($W27,$AG:$AU,12)/28","v":0},null,"2010-08-09",{"$f":"(VLOOKUP($AB27,$AG:$AU,8))/7","v":4.6960503964453022E-3},{"$f":"VLOOKUP($AB27,$AG:$AU,9)/14","v":0},{"$f":"VLOOKUP($AB27,$AG:$AU,10)/28","v":222.00009999999997},null,"2010-08-09",887.99570394960347,832.57167857142861,-222.00009999999997,null,"2010-03-18",3.4116804773640048E-2,3.2872352775117117E-2,null,6216.0027999999993,11656.003500000001,null,212.07015399999989,383.16025899999983]
["2010-03-15",888.0007999999998,27.020025999999984,3.0427929794657832E-2,null,null,null,null,null,null,11.000025999999981,null,null,null,16.020000000000003,null,null,null,null,null,null,null,"2010-08-16",{"$f":"(VLOOKUP($W28,$AG:$AU,10))/7","v":888.00049999999999},{"$f":"VLOOKUP($W28,$AG:$AU,11)/14","v":848.42887142857137},{"$f":"VLOOKUP($W28,$AG:$AU,12)/28","v":0},{"$f":"AC28/X28","v":5.2304055056988681E-6},"2010-08-16",{"$f":"(VLOOKUP($AB28,$AG:$AU,8))/7","v":4.6446027042633476E-3},{"$f":"VLOOKUP($AB28,$AG:$AU,9)/14","v":0},{"$f":"VLOOKUP($AB28,$AG:$AU,10)/28","v":222.000125},null,"2010-08-16",887.99585539729571,848.42887142857137,-222.000125,null,"2010-03-19",3.4436943447666957E-2,3.2512218929843434E-2,null,6216.0034999999998,11878.004199999999,null,214.06016099999988,386.18027299999983]
["2010-03-16",888.00089999999977,27.030026999999983,3.0439188744065451E-2,null,null,null,null,null,null,11.00002699999998,null,null,null,16.030000000000005,null,null,null,null,null,null,null,"2010-08-23",{"$f":"(VLOOKUP($W29,$AG:$AU,10))/7","v":888.00059999999996},{"$f":"VLOOKUP($W29,$AG:$AU,11)/14","v":864.28606428571413},{"$f":"VLOOKUP($W29,$AG:$AU,12)/28","v":0},5.1745943076404723E-6,"2010-08-23",{"$f":"(VLOOKUP($AB29,$AG:$AU,8))/7","v":4.5950428499413236E-3},{"$f":"VLOOKUP($AB29,$AG:$AU,9)/14","v":0},{"$f":"VLOOKUP($AB29,$AG:$AU,10)/28","v":222.00014999999999},null,"2010-08-23",887.99600495715003,864.28606428571413,-222.00014999999999,null,"2010-03-20",3.4602641999501846E-2,3.2165299949589263E-2,null,6216.0041999999994,12100.004899999998,null,215.09016799999986,389.20028699999978]
["2010-03-17",888.00099999999975,28.000027999999979,3.1531527554586075E-2,null,null,null,null,null,null,11.000027999999979,null,null,null,17,null,null,null,null,null,null,null,"2010-08-30",{"$f":"(VLOOKUP($W30,$AG:$AU,10))/7","v":888.00069999999971},{"$f":"VLOOKUP($W30,$AG:$AU,11)/14","v":880.14325714285712},{"$f":"VLOOKUP($W30,$AG:$AU,12)/28","v":859.46454999999969},5.1333278338068092E-6,"2010-08-30",{"$f":"(VLOOKUP($AB30,$AG:$AU,8))/7","v":4.5583987097499289E-3},{"$f":"VLOOKUP($AB30,$AG:$AU,9)/14","v":2.307322925889243E-3},{"$f":"VLOOKUP($AB30,$AG:$AU,10)/28","v":222.00017499999993},null,"2010-08-30",887.99614160128999,880.14094981993128,637.46437499999979,null,"2010-03-21",3.4922780546714167E-2,3.1908790968249501E-2,{"$f":"AU30/AR30","v":3.2302520962449399E-2},6216.0048999999981,12322.0056,{"$f":"SUM(B3:B30)","v":24065.007399999991},217.08017499999988,393.18030099999976,{"$f":"SUM(C3:C30)","v":777.36040599999967}]
["2010-03-18",888.00109999999972,28.010028999999982,3.1542786377179027E-2,null,null,null,null,null,null,11.000028999999978,null,null,null,{"$f":"O30+0.01","v":17.010000000000002},null,null,null,null,null,null,null,"2010-09-06",{"$f":"(VLOOKUP($W31,$AG:$AU,10))/7","v":888.0007999999998},{"$f":"VLOOKUP($W31,$AG:$AU,11)/14","v":880.14333571428574},{"$f":"VLOOKUP($W31,$AG:$AU,12)/28","v":863.42887499999995},5.185289503814206E-6,"2010-09-06",{"$f":"(VLOOKUP($AB31,$AG:$AU,8))/7","v":4.6045412276186169E-3},{"$f":"VLOOKUP($AB31,$AG:$AU,9)/14","v":2.2494864041999077E-3},{"$f":"VLOOKUP($AB31,$AG:$AU,10)/28","v":222.00019999999995},null,"2010-09-06",887.99619545877215,880.14108622788149,641.428675,null,"2010-03-22",3.5242919021823263E-2,3.223178859333032E-2,{"$f":"AU31/AR31","v":3.1492809658798707E-2},6216.0055999999986,12322.0067,{"$f":"SUM(B4:B31)","v":24176.0085},219.07018199999987,397.16031499999974,{"$f":"SUM(C4:C31)","v":761.37043399999959}]
["2010-03-19",888.0011999999997,28.020029999999981,3.1554045197236209E-2,null,null,null,null,null,null,11.000029999999978,null,null,null,17.020000000000003,null,null,null,null,null,null,null,"2010-09-13",{"$f":"(VLOOKUP($W32,$AG:$AU,10))/7","v":888.00089999999977},{"$f":"VLOOKUP($W32,$AG:$AU,11)/14","v":880.14341428571424},{"$f":"VLOOKUP($W32,$AG:$AU,12)/28","v":867.39319999999975},5.224717481346962E-6,"2010-09-13",{"$f":"(VLOOKUP($AB32,$AG:$AU,8))/7","v":4.6395538256818339E-3},{"$f":"VLOOKUP($AB32,$AG:$AU,9)/14","v":2.1921785534036505E-3},{"$f":"VLOOKUP($AB32,$AG:$AU,10)/28","v":222.00022499999994},null,"2010-09-13",887.99626044617412,880.14122210716084,645.39297499999975,null,"2010-03-23",3.0902508737804844E-2,3.2476876779772838E-2,3.0690499747651107E-2,6216.0062999999982,12322.007799999999,24287.009599999994,192.0901889999999,400.18032899999974,745.38046199999985]
["2010-03-20",777,28.03003099999998,3.6074685971685942E-2,null,null,null,null,null,null,11.000030999999977,null,null,null,17.030000000000005,null,null,null,null,null,null,null,"2010-09-20",{"$f":"(VLOOKUP($W33,$AG:$AU,10))/7","v":872.14367142857122},{"$f":"VLOOKUP($W33,$AG:$AU,11)/14","v":880.07198571428569},{"$f":"VLOOKUP($W33,$AG:$AU,12)/28","v":868.21462857142831},5.3602937062318532E-6,"2010-09-20",{"$f":"(VLOOKUP($AB33,$AG:$AU,8))/7","v":4.6749462328885116E-3},{"$f":"VLOOKUP($AB33,$AG:$AU,9)/14","v":2.1431221777175164E-3},{"$f":"VLOOKUP($AB33,$AG:$AU,10)/28","v":218.03591785714281},null,"2010-09-20",872.13899648233837,880.06984259210799,650.17871071428544,null,"2010-03-24",3.1633090203339188E-2,3.2724623630219579E-2,3.0003710488045229E-2,6105.0056999999988,12321.007799999999,24310.009599999994,193.12019599999988,403.20034299999975,729.39049]
["2010-03-21",777.00009999999997,29.000031999999976,3.7323073703594091E-2,null,null,null,null,null,null,11.000031999999976,null,null,null,18,null,null,null,null,null,null,null,"2010-09-27",{"$f":"(VLOOKUP($W34,$AG:$AU,10))/7","v":856.28644285714267},{"$f":"VLOOKUP($W34,$AG:$AU,11)/14","v":872.14342142857129},{"$f":"VLOOKUP($W34,$AG:$AU,12)/28","v":864.25034642857122},5.5635726786151388E-6,"2010-09-27",{"$f":"(VLOOKUP($AB34,$AG:$AU,8))/7","v":4.7640118585485424E-3},{"$f":"VLOOKUP($AB34,$AG:$AU,9)/14","v":2.1736146795414408E-3},{"$f":"VLOOKUP($AB34,$AG:$AU,10)/28","v":214.07161071428567},null,"2010-09-27",856.28167884528409,872.14124781389171,650.17873571428549,null,"2010-03-25",3.2550890388798624E-2,3.3348083009839796E-2,3.0430605513580171E-2,5994.0050999999985,12210.007899999999,24199.009699999995,195.11020299999987,407.18035699999967,736.39051799999993]
["2010-03-22",777.00019999999995,29.010032999999979,3.7335940196669165E-2,null,null,null,null,null,null,11.000032999999975,null,null,null,{"$f":"O34+0.01","v":18.010000000000002},null,null,null,null,null,null,null,"2010-10-04",{"$f":"(VLOOKUP($W35,$AG:$AU,10))/7","v":840.42921428571412},{"$f":"VLOOKUP($W35,$AG:$AU,11)/14","v":864.214857142857},{"$f":"VLOOKUP($W35,$AG:$AU,12)/28","v":860.28606428571413},5.7764671084705905E-6,"2010-10-04",{"$f":"(VLOOKUP($AB35,$AG:$AU,8))/7","v":4.8547117133192095E-3},{"$f":"VLOOKUP($AB35,$AG:$AU,9)/14","v":2.204388206213936E-3},{"$f":"VLOOKUP($AB35,$AG:$AU,10)/28","v":210.10730357142853},null,"2010-10-04",840.42435957400085,864.21265275465078,650.17876071428554,null,"2010-03-26",3.3503324704239112E-2,3.3982981993234469E-2,3.0861434886995106E-2,5883.0044999999991,12099.007999999998,24088.009799999996,197.10020999999983,411.16037099999971,743.39054599999986]
["2010-03-23",777.00029999999992,29.020033999999978,3.7348806686432402E-2,null,null,null,null,null,null,11.000033999999975,null,null,null,18.020000000000003,null,null,null,null,null,null,null,"2010-10-11",{"$f":"(VLOOKUP($W36,$AG:$AU,10))/7","v":824.57198571428569},{"$f":"VLOOKUP($W36,$AG:$AU,11)/14","v":856.28629285714283},{"$f":"VLOOKUP($W36,$AG:$AU,12)/28","v":852.35750357142842},5.9857129203779906E-6,"2010-10-11",{"$f":"(VLOOKUP($AB36,$AG:$AU,8))/7","v":4.9356511886717355E-3},{"$f":"VLOOKUP($AB36,$AG:$AU,9)/14","v":2.2458436282269787E-3},{"$f":"VLOOKUP($AB36,$AG:$AU,10)/28","v":206.14299642857142},null,"2010-10-11",824.56705006309699,{"$f":"Y36-AD36","v":856.28404701351462},646.21450714285697,null,"2010-03-27",3.4492391281994779E-2,3.4549558320702146E-2,3.1441810795177702E-2,5772.0038999999997,11988.008099999999,23866.010099999996,199.09021699999985,414.18038499999972,750.3905739999999]
["2010-03-24",777.0003999999999,29.030034999999977,3.7361673172883796E-2,null,null,null,null,null,null,11.000034999999974,null,null,null,18.030000000000005,null,null,null,null,null,null,null,"2010-10-18",{"$f":"(VLOOKUP($W37,$AG:$AU,10))/7","v":808.71475714285702},{"$f":"VLOOKUP($W37,$AG:$AU,11)/14","v":848.35772857142831},{"$f":"VLOOKUP($W37,$AG:$AU,12)/28","v":844.42894285714283},6.2050352175286494E-6,"2010-10-18",{"$f":"(VLOOKUP($AB37,$AG:$AU,8))/7","v":5.0181035490065567E-3},{"$f":"VLOOKUP($AB37,$AG:$AU,9)/14","v":2.2880775214971865E-3},{"$f":"VLOOKUP($AB37,$AG:$AU,10)/28","v":202.17868928571426},null,"2010-10-18",808.70973903930803,848.35544049390683,642.25025357142863,null,"2010-03-28",3.5350663724220029E-2,3.5126724843045895E-2,3.2033085300960613E-2,5661.0032999999994,11877.008199999997,23644.010399999999,200.12022399999984,417.20039899999966,757.39060199999983]
["2010-03-25",777.00049999999987,30.000035999999973,3.8610060096486397E-2,null,null,null,null,null,null,11.000035999999973,null,null,null,19,null,null,null,null,null,null,null,"2010-10-25",{"$f":"(VLOOKUP($W38,$AG:$AU,10))/7","v":792.85752857142859},{"$f":"VLOOKUP($W38,$AG:$AU,11)/14","v":840.42916428571425},{"$f":"VLOOKUP($W38,$AG:$AU,12)/28","v":836.50038214285712},6.4497936640124306E-6,"2010-10-25",{"$f":"(VLOOKUP($AB38,$AG:$AU,8))/7","v":5.1137674642445551E-3},{"$f":"VLOOKUP($AB38,$AG:$AU,9)/14","v":2.3311120216628414E-3},{"$f":"VLOOKUP($AB38,$AG:$AU,10)/28","v":198.21438214285715},null,"2010-10-25",792.85241480396439,840.42683317369256,638.28599999999994,null,"2010-03-29",3.6416240121829098E-2,3.5796372249711883E-2,3.263556830327978E-2,5550.0027,11766.0083,23422.010699999999,202.11023099999983,421.1804129999997,764.39062999999987]
["2010-03-26",777.00059999999985,30.010036999999976,3.8622926417302611E-2,null,null,null,null,null,null,11.000036999999972,null,null,null,{"$f":"O38+0.01","v":19.010000000000002},null,null,null,null,null,null,null,"2010-11-01",{"$f":"(VLOOKUP($W39,$AG:$AU,10))/7","v":777.00029999999992},{"$f":"VLOOKUP($W39,$AG:$AU,11)/14","v":832.50059999999974},{"$f":"VLOOKUP($W39,$AG:$AU,12)/28","v":828.57182142857141},6.2498869287449622E-6,"2010-11-01",{"$f":"(VLOOKUP($AB39,$AG:$AU,8))/7","v":4.8561640186009138E-3},{"$f":"VLOOKUP($AB39,$AG:$AU,9)/14","v":2.3749701116213134E-3},{"$f":"VLOOKUP($AB39,$AG:$AU,10)/28","v":194.25007499999998},null,"2010-11-01",776.99544383598129,832.49822502988809,634.32174642857149,null,"2010-03-30",3.7525309651930426E-2,3.3993148130206395E-2,3.3249581562698388E-2,5439.0020999999997,11655.008399999997,23200.010999999999,204.10023799999985,396.19042699999972,771.3906579999998]
["2010-03-27",777.00069999999982,30.020037999999975,3.8635792734807037E-2,null,null,null,null,null,null,11.000037999999972,null,null,null,19.020000000000003,null,null,null,null,null,null,null,"2010-11-08",{"$f":"(VLOOKUP($W40,$AG:$AU,10))/7","v":777.0003999999999},{"$f":"VLOOKUP($W40,$AG:$AU,11)/14","v":824.57203571428556},{"$f":"VLOOKUP($W40,$AG:$AU,12)/28","v":820.6432607142857},6.3580797513772592E-6,"2010-11-08",{"$f":"(VLOOKUP($AB40,$AG:$AU,8))/7","v":4.9402305100520304E-3},{"$f":"VLOOKUP($AB40,$AG:$AU,9)/14","v":2.4196756624575992E-3},{"$f":"VLOOKUP($AB40,$AG:$AU,10)/28","v":194.25009999999997},null,"2010-11-08",776.9954597694898,824.56961603862305,626.39316071428573,null,"2010-03-31",3.7891182001230053E-2,3.4581613570364211E-2,3.387545927440639E-2,5439.0027999999993,11544.008499999998,22978.011299999998,206.09024499999984,399.21044099999972,778.39068599999985]
["2010-03-28",777.0007999999998,30.030038999999974,3.8648659048999667E-2,null,null,null,null,null,null,11.000038999999971,null,null,null,19.030000000000005,null,null,null,null,null,null,null,"2010-11-15",{"$f":"(VLOOKUP($W41,$AG:$AU,10))/7","v":777.00049999999999},{"$f":"VLOOKUP($W41,$AG:$AU,11)/14","v":816.64347142857127},{"$f":"VLOOKUP($W41,$AG:$AU,12)/28","v":824.607575},6.4683733895434874E-6,"2010-11-15",{"$f":"(VLOOKUP($AB41,$AG:$AU,8))/7","v":5.0259293578619841E-3},{"$f":"VLOOKUP($AB41,$AG:$AU,9)/14","v":2.4296984414627987E-3},{"$f":"VLOOKUP($AB41,$AG:$AU,10)/28","v":194.250125},null,"2010-11-15",776.9954740706421,816.64104173012981,630.35744999999997,null,"2010-04-01",3.8080551336287946E-2,3.5181505505033892E-2,3.4015778180479184E-2,5439.0034999999998,11433.008599999997,23089.0121,207.12025199999982,402.23045499999972,785.39071399999978]
["2010-03-29",777.00089999999977,31.00003999999997,3.989704516429772E-2,null,null,null,null,null,null,11.00003999999997,null,null,null,20,null,null,null,null,null,null,null,"2010-11-22",{"$f":"(VLOOKUP($W42,$AG:$AU,10))/7","v":777.00059999999996},{"$f":"VLOOKUP($W42,$AG:$AU,11)/14","v":808.71490714285687},{"$f":"VLOOKUP($W42,$AG:$AU,12)/28","v":828.57188928571406},6.5964189942883225E-6,"2010-11-22",{"$f":"(VLOOKUP($AB42,$AG:$AU,8))/7","v":5.1254215164134231E-3},{"$f":"VLOOKUP($AB42,$AG:$AU,9)/14","v":2.4396253122034132E-3},{"$f":"VLOOKUP($AB42,$AG:$AU,10)/28","v":194.25014999999999},null,"2010-11-22",776.99547457848359,808.71246751754472,634.3217392857141,null,"2010-04-02",3.8446423519952394E-2,3.5877950614893961E-2,3.4154754370847785E-2,5439.0041999999994,11322.008699999997,23200.012899999994,209.11025899999981,406.21046899999965,792.39074199999982]
["2010-03-30",777.00099999999975,31.010040999999973,3.9909911312855428E-2,null,null,null,null,null,null,11.000040999999969,null,null,null,{"$f":"O42+0.01","v":20.010000000000002},null,null,null,null,null,null,null,"2010-11-29",{"$f":"(VLOOKUP($W43,$AG:$AU,10))/7","v":777.00069999999971},{"$f":"VLOOKUP($W43,$AG:$AU,11)/14","v":800.78634285714281},{"$f":"VLOOKUP($W43,$AG:$AU,12)/28","v":832.53620357142825},6.7270001344876614E-6,"2010-11-29",{"$f":"(VLOOKUP($AB43,$AG:$AU,8))/7","v":5.226883813397005E-3},{"$f":"VLOOKUP($AB43,$AG:$AU,9)/14","v":2.4494576447478011E-3},{"$f":"VLOOKUP($AB43,$AG:$AU,10)/28","v":194.25017499999993},null,"2010-11-29",776.9954731161863,800.78389339949808,638.28602857142835,null,"2010-04-03",3.8812295609441327E-2,3.6588186693779036E-2,3.4292407026469213E-2,5439.0048999999981,11211.0088,23311.013699999992,211.10026599999978,410.19048299999963,799.39076999999975]
["2010-03-31",777.00109999999972,31.020041999999972,3.992277745810139E-2,null,null,null,null,null,null,11.000041999999969,null,null,null,20.020000000000003,null,null,null,null,null,null,null,"2010-12-06",{"$f":"(VLOOKUP($W44,$AG:$AU,10))/7","v":777.0007999999998},{"$f":"VLOOKUP($W44,$AG:$AU,11)/14","v":792.85777857142853},{"$f":"VLOOKUP($W44,$AG:$AU,12)/28","v":836.50051785714288},6.844291730994709E-6,"2010-12-06",{"$f":"(VLOOKUP($AB44,$AG:$AU,8))/7","v":5.318020150416272E-3},{"$f":"VLOOKUP($AB44,$AG:$AU,9)/14","v":2.4591967831923975E-3},{"$f":"VLOOKUP($AB44,$AG:$AU,10)/28","v":194.25019999999995},null,"2010-12-06",776.99548197984939,792.85531937464532,642.25031785714293,null,"2010-04-04",3.9178167604754781E-2,3.7226141052913907E-2,3.4428754964693567E-2,5439.0055999999986,11100.008899999999,23422.014500000001,213.0902729999998,413.21049699999969,806.39079799999968]
["2010-04-01",777.0011999999997,31.030042999999971,3.9935643600035604E-2,null,null,null,null,null,null,11.000042999999968,null,null,null,20.030000000000005,null,null,null,null,null,null,null,"2010-12-13",{"$f":"(VLOOKUP($W45,$AG:$AU,10))/7","v":777.00089999999989},{"$f":"VLOOKUP($W45,$AG:$AU,11)/14","v":784.92921428571412},{"$f":"VLOOKUP($W45,$AG:$AU,12)/28","v":832.53627500000005},6.9639528376229238E-6,"2010-12-13",{"$f":"(VLOOKUP($AB45,$AG:$AU,8))/7","v":5.4109976223905652E-3},{"$f":"VLOOKUP($AB45,$AG:$AU,9)/14","v":2.4923557798592912E-3},{"$f":"VLOOKUP($AB45,$AG:$AU,10)/28","v":194.25022499999997},null,"2010-12-13",776.99548900237755,784.92672192993427,638.28605000000005,null,"2010-04-05",3.9367536676690344E-2,3.7876983356733958E-2,3.489298091803008E-2,5439.0062999999991,10989.008999999998,23311.0157,214.12027999999981,416.23051099999964,813.39082599999961]
["2010-04-02",777.00129999999967,32.000043999999967,4.1184028907030115E-2,null,null,null,null,null,null,11.000043999999967,null,null,null,21,null,null,null,null,null,null,null,"2010-12-20",{"$f":"(VLOOKUP($W46,$AG:$AU,10))/7","v":777.00099999999986},{"$f":"VLOOKUP($W46,$AG:$AU,11)/14","v":777.00064999999995},{"$f":"VLOOKUP($W46,$AG:$AU,12)/28","v":828.57203214285698},7.1022816437759332E-6,"2010-12-20",{"$f":"(VLOOKUP($AB46,$AG:$AU,8))/7","v":5.5184799394955427E-3},{"$f":"VLOOKUP($AB46,$AG:$AU,9)/14","v":2.525832070160505E-3},{"$f":"VLOOKUP($AB46,$AG:$AU,10)/28","v":194.25024999999997},null,"2010-12-20",776.99548152006037,776.99812416792975,634.32178214285705,null,"2010-04-06",3.9733408506368875E-2,3.8629359576468798E-2,3.5361648982247071E-2,5439.0069999999987,10878.009099999999,23200.016899999995,216.1102869999998,420.21052499999968,820.39085399999965]
["2010-04-03",777.00139999999965,32.01004499999997,4.1196894883329664E-2,null,null,null,null,null,null,11.000044999999966,null,null,null,{"$f":"O46+0.01","v":21.01},null,null,null,null,null,null,null,"2010-12-27",{"$f":"(VLOOKUP($W47,$AG:$AU,10))/7","v":777.00109999999972},{"$f":"VLOOKUP($W47,$AG:$AU,11)/14","v":777.00074999999993},{"$f":"VLOOKUP($W47,$AG:$AU,12)/28","v":828.53636785714298},7.1695488901164821E-6,"2010-12-27",{"$f":"(VLOOKUP($AB47,$AG:$AU,8))/7","v":5.5707473741242837E-3},{"$f":"VLOOKUP($AB47,$AG:$AU,9)/14","v":2.5474935167530631E-3},{"$f":"VLOOKUP($AB47,$AG:$AU,10)/28","v":194.25027499999993},null,"2010-12-27",776.9955292526256,776.99820250648315,634.2860928571431,null,"2010-04-07",4.0099280241872037E-2,3.8995231618869988E-2,3.5664909234542887E-2,5439.0076999999983,10878.010499999999,23199.018300000003,218.10029399999979,424.19053899999966,827.39088199999958]
["2010-04-04",777.00149999999962,32.020045999999965,4.1209760856317501E-2,null,null,null,null,null,null,11.000045999999966,null,null,null,21.020000000000003,null,null,null,null,null,null,null,"2011-01-03",{"$f":"(VLOOKUP($W48,$AG:$AU,10))/7","v":777.0011999999997},{"$f":"VLOOKUP($W48,$AG:$AU,11)/14","v":777.00084999999979},{"$f":"VLOOKUP($W48,$AG:$AU,12)/28","v":824.57213571428554},7.2205904566750675E-6,"2011-01-03",{"$f":"(VLOOKUP($AB48,$AG:$AU,8))/7","v":5.6104074495450735E-3},{"$f":"VLOOKUP($AB48,$AG:$AU,9)/14","v":2.5813972454357343E-3},{"$f":"VLOOKUP($AB48,$AG:$AU,10)/28","v":194.25029999999992},null,"2011-01-03",776.99558959255012,776.99826860275437,630.32183571428561,null,"2010-04-08",4.0465151883199865E-2,3.9272852146815515E-2,3.6139561436100281E-2,5439.0083999999979,10878.011899999998,23088.019799999995,220.09030099999978,427.21055299999961,834.39090999999951]
["2010-04-05",777.0015999999996,32.030046999999968,4.1222626825993647E-2,null,null,null,null,null,null,11.000046999999965,null,null,null,21.030000000000005,null,null,null,null,null,null,null,"2011-01-10",{"$f":"(VLOOKUP($W49,$AG:$AU,10))/7","v":777.00129999999979},{"$f":"VLOOKUP($W49,$AG:$AU,11)/14","v":777.00094999999976},{"$f":"VLOOKUP($W49,$AG:$AU,12)/28","v":820.60790357142844},7.2716319969572307E-6,"2011-01-10",{"$f":"(VLOOKUP($AB49,$AG:$AU,8))/7","v":5.6500675147573625E-3},{"$f":"VLOOKUP($AB49,$AG:$AU,9)/14","v":2.6156285416458962E-3},{"$f":"VLOOKUP($AB49,$AG:$AU,10)/28","v":194.25032499999995},null,"2011-01-10",776.99564993248498,776.9983343714581,626.35757857142846,null,"2010-04-09",4.0654520692013522E-2,3.9550472603301537E-2,3.6618799583042545E-2,5439.0090999999984,10878.013299999997,22977.021299999997,221.1203079999998,430.23056699999961,841.39093799999955]
["2010-04-06",777.00169999999957,33.000047999999964,4.2471011324685622E-2,null,null,null,null,null,null,11.000047999999964,null,null,null,22,null,null,null,null,null,null,null,"2011-01-17",{"$f":"(VLOOKUP($W50,$AG:$AU,10))/7","v":777.00139999999976},{"$f":"VLOOKUP($W50,$AG:$AU,11)/14","v":777.00104999999974},{"$f":"VLOOKUP($W50,$AG:$AU,12)/28","v":816.64367142857134},7.3388991477625928E-6,"2011-01-17",{"$f":"(VLOOKUP($AB50,$AG:$AU,8))/7","v":5.7023349122703399E-3},{"$f":"VLOOKUP($AB50,$AG:$AU,9)/14","v":2.6501921757152136E-3},{"$f":"VLOOKUP($AB50,$AG:$AU,10)/28","v":194.25034999999994},null,"2011-01-17",776.9956976650875,776.99839980782406,622.39332142857143,null,"2010-04-10",4.1020392167706671E-2,3.991634438589238E-2,3.7102690460012994E-2,5439.009799999998,10878.014699999996,22866.022799999999,223.11031499999976,434.21058099999959,848.39096599999948]
["2010-04-07",777.00179999999955,33.010048999999967,4.2483877128727351E-2,null,null,null,null,null,null,11.000048999999963,null,null,null,{"$f":"O50+0.01","v":22.01},null,null,null,null,null,null,null,"2011-01-24",{"$f":"(VLOOKUP($W51,$AG:$AU,10))/7","v":777.00149999999951},{"$f":"VLOOKUP($W51,$AG:$AU,11)/14","v":777.00114999999983},{"$f":"VLOOKUP($W51,$AG:$AU,12)/28","v":812.67943928571401},7.4061662639386129E-6,"2011-01-24",{"$f":"(VLOOKUP($AB51,$AG:$AU,8))/7","v":5.7546022963296944E-3},{"$f":"VLOOKUP($AB51,$AG:$AU,9)/14","v":2.6850930110536375E-3},{"$f":"VLOOKUP($AB51,$AG:$AU,10)/28","v":194.25037499999988},null,"2011-01-24",776.99574539770322,776.99846490698872,618.42906428571416,null,"2010-04-11",4.138626354922461E-2,4.0282216074307861E-2,3.7591302154750927E-2,5439.0104999999967,10878.016099999997,22755.024299999994,225.10032199999978,438.19059499999958,855.39099399999941]
["2010-04-08",999,33.020049999999969,3.3053103103103075E-2,null,null,null,null,null,null,11.000049999999963,null,null,null,22.020000000000003,null,null,null,null,null,null,null,"2011-01-31",{"$f":"(VLOOKUP($W52,$AG:$AU,10))/7","v":808.71561428571397},{"$f":"VLOOKUP($W52,$AG:$AU,11)/14","v":792.85825714285681},{"$f":"VLOOKUP($W52,$AG:$AU,12)/28","v":816.64371071428559},7.021477186152873E-6,"2011-01-31",{"$f":"(VLOOKUP($AB52,$AG:$AU,8))/7","v":5.6783782357927469E-3},{"$f":"VLOOKUP($AB52,$AG:$AU,9)/14","v":2.6939252308874604E-3},{"$f":"VLOOKUP($AB52,$AG:$AU,10)/28","v":202.17890357142849},null,"2011-01-31",808.70993590747821,{"$f":"Y52-AD52","v":792.8555632176259},614.46480714285713,null,"2010-04-12",4.0114812918607967E-2,3.9748647650549231E-2,3.7714953232424443E-2,5661.0092999999979,11100.015599999995,22866.023899999997,227.09032899999977,441.21060899999964,862.39102199999945]
["2010-04-09",999.00009999999997,33.030050999999965,3.3063110804493381E-2,null,null,null,null,null,null,11.000050999999962,null,null,null,22.030000000000005,null,null,null,null,null,null,null,"2011-02-07",{"$f":"(VLOOKUP($W53,$AG:$AU,10))/7","v":840.42972857142831},{"$f":"VLOOKUP($W53,$AG:$AU,11)/14","v":808.71536428571403},{"$f":"VLOOKUP($W53,$AG:$AU,12)/28","v":820.60798214285694},6.669377763336704E-6,"2011-02-07",{"$f":"(VLOOKUP($AB53,$AG:$AU,8))/7","v":5.6051433433813858E-3},{"$f":"VLOOKUP($AB53,$AG:$AU,9)/14","v":2.6126132046650854E-3},{"$f":"VLOOKUP($AB53,$AG:$AU,10)/28","v":210.10743214285708},null,"2011-02-07",840.42412342808495,808.7127516725094,610.50054999999986,null,"2010-04-13",3.8776138350038965E-2,3.92360034036697E-2,3.6576584865311193E-2,5883.0080999999982,11322.015099999997,22977.023499999996,228.12033599999978,444.23062299999958,840.42104999999947]
["2010-04-10",999.00019999999995,34.000051999999961,3.4034079272456566E-2,null,null,null,null,null,null,11.000051999999961,null,null,null,23,null,null,null,null,null,null,null,"2011-02-14",{"$f":"(VLOOKUP($W54,$AG:$AU,10))/7","v":872.14384285714266},{"$f":"VLOOKUP($W54,$AG:$AU,11)/14","v":824.57247142857125},{"$f":"VLOOKUP($W54,$AG:$AU,12)/28","v":824.5722535714284},6.3597366535080607E-6,"2011-02-14",{"$f":"(VLOOKUP($AB54,$AG:$AU,8))/7","v":5.5466051645499444E-3},{"$f":"VLOOKUP($AB54,$AG:$AU,9)/14","v":2.6217089587024871E-3},{"$f":"VLOOKUP($AB54,$AG:$AU,10)/28","v":218.03596071428566},null,"2011-02-14",872.13829625197809,824.56984971961253,606.53629285714271,null,"2010-04-14",3.7692069275138705E-2,3.8826236151849609E-2,3.6703925421834822E-2,6105.0068999999985,11544.014599999997,23088.023099999995,230.11034299999974,448.21063699999956,847.4210779999994]
["2010-04-11",999.00029999999992,34.010052999999964,3.4044086873647551E-2,null,null,null,null,null,null,11.00005299999996,null,null,null,{"$f":"O54+0.01","v":23.01},null,null,null,null,null,null,null,"2011-02-21",{"$f":"(VLOOKUP($W55,$AG:$AU,10))/7","v":903.85795714285689},{"$f":"VLOOKUP($W55,$AG:$AU,11)/14","v":840.42957857142835},{"$f":"VLOOKUP($W55,$AG:$AU,12)/28","v":828.53652499999976},6.0742685535807184E-6,"2011-02-21",{"$f":"(VLOOKUP($AB55,$AG:$AU,8))/7","v":5.4902759659765646E-3},{"$f":"VLOOKUP($AB55,$AG:$AU,9)/14","v":2.6307176724302259E-3},{"$f":"VLOOKUP($AB55,$AG:$AU,10)/28","v":225.96448928571422},null,"2011-02-21",903.85246686689095,840.42694785375591,602.57203571428556,null,"2010-04-15",3.6684074743286513E-2,3.8431931761835951E-2,3.6830047414023161E-2,6327.0056999999979,11766.014099999997,23199.022699999994,232.10034999999974,452.19065099999955,854.42110599999944]
["2010-04-12",999.0003999999999,34.020053999999959,3.4054094472835007E-2,null,null,null,null,null,null,11.00005399999996,null,null,null,23.020000000000003,null,null,null,null,null,null,null,"2011-02-28",{"$f":"(VLOOKUP($W56,$AG:$AU,10))/7","v":935.57207142857112},{"$f":"VLOOKUP($W56,$AG:$AU,11)/14","v":856.28668571428557},{"$f":"VLOOKUP($W56,$AG:$AU,12)/28","v":832.50079642857122},5.7981562235035958E-6,"2011-02-28",{"$f":"(VLOOKUP($AB56,$AG:$AU,8))/7","v":5.4245930284897203E-3},{"$f":"VLOOKUP($AB56,$AG:$AU,9)/14","v":2.6396405892756256E-3},{"$f":"VLOOKUP($AB56,$AG:$AU,10)/28","v":233.89301785714278},null,"2011-02-28",935.56664683554266,856.28404607369635,598.60777857142841,null,"2010-04-16",3.5744418407408302E-2,3.7972151199428039E-2,3.6954968249858756E-2,6549.0044999999982,11988.013599999998,23310.022299999993,234.09035699999976,455.21066499999955,861.42113399999937]
["2010-04-13",999.00049999999987,34.030054999999962,3.4064102070018948E-2,null,null,null,null,null,null,11.000054999999959,null,null,null,23.030000000000005,null,null,null,null,null,null,null,"2011-03-07",{"$f":"(VLOOKUP($W57,$AG:$AU,10))/7","v":967.28618571428558},{"$f":"VLOOKUP($W57,$AG:$AU,11)/14","v":872.14379285714278},{"$f":"VLOOKUP($W57,$AG:$AU,12)/28","v":836.46506785714269},5.5426187540928553E-6,"2011-03-07",{"$f":"(VLOOKUP($AB57,$AG:$AU,8))/7","v":5.3612985535149435E-3},{"$f":"VLOOKUP($AB57,$AG:$AU,9)/14","v":2.6484789290940358E-3},{"$f":"VLOOKUP($AB57,$AG:$AU,10)/28","v":241.82154642857139},null,"2011-03-07",967.28082441573201,872.14114437821365,594.64352142857126,null,"2010-04-17",3.4724597461058659E-2,3.7529089874604606E-2,3.7078705007316498E-2,6771.0032999999994,12210.013099999998,23421.021899999996,235.12036399999977,458.2306789999995,868.42116199999919]
["2010-04-14",999.00059999999985,35.000055999999958,3.5035070049006939E-2,null,null,null,null,null,null,11.000055999999958,null,null,null,24,null,null,null,null,null,null,null,"2011-03-14",{"$f":"(VLOOKUP($W58,$AG:$AU,10))/7","v":999.00029999999992},{"$f":"VLOOKUP($W58,$AG:$AU,11)/14","v":888.00089999999977},{"$f":"VLOOKUP($W58,$AG:$AU,12)/28","v":840.42933928571415},5.316611032592892E-6,"2011-03-14",{"$f":"(VLOOKUP($AB58,$AG:$AU,8))/7","v":5.3112960165436086E-3},{"$f":"VLOOKUP($AB58,$AG:$AU,9)/14","v":2.6572338887247728E-3},{"$f":"VLOOKUP($AB58,$AG:$AU,10)/28","v":249.75007499999998},null,"2011-03-14",998.99498870398338,887.99824276611105,590.67926428571423,null,"2010-04-18",3.3906806777592668E-2,3.7179072115805262E-2,3.7201274442146819E-2,6993.0020999999997,12432.012599999996,23532.021499999995,237.11037099999976,462.21069299999954,875.42118999999923]
["2010-04-15",999.00069999999982,35.010056999999961,3.5045077545991676E-2,null,null,null,null,null,null,11.000056999999957,null,null,null,{"$f":"O58+0.01","v":24.01},null,null,null,null,null,null,null,"2011-03-21",{"$f":"(VLOOKUP($W59,$AG:$AU,10))/7","v":999.0003999999999},{"$f":"VLOOKUP($W59,$AG:$AU,11)/14","v":903.85800714285699},{"$f":"VLOOKUP($W59,$AG:$AU,12)/28","v":844.3936107142855},5.2683141557546376E-6,"2011-03-21",{"$f":"(VLOOKUP($AB59,$AG:$AU,8))/7","v":5.2630479489245447E-3},{"$f":"VLOOKUP($AB59,$AG:$AU,9)/14","v":2.6659066425313961E-3},{"$f":"VLOOKUP($AB59,$AG:$AU,10)/28","v":249.75009999999997},null,"2011-03-21",998.99513695205098,903.85534123621449,594.64351071428553,null,"2010-04-19",3.4191374555148153E-2,3.6841335642471815E-2,3.7322692995439548E-2,6993.0027999999993,12654.012099999998,23643.021099999994,239.10037799999975,466.19070699999952,882.42121799999916]
["2010-04-16",999.0007999999998,35.020057999999963,3.5055085040972912E-2,null,null,null,null,null,null,11.000057999999957,null,null,null,24.020000000000003,null,null,null,null,null,null,null,"2011-03-28",{"$f":"(VLOOKUP($W60,$AG:$AU,10))/7","v":999.00049999999999},{"$f":"VLOOKUP($W60,$AG:$AU,11)/14","v":919.71511428571409},{"$f":"VLOOKUP($W60,$AG:$AU,12)/28","v":848.35788214285697},5.2110209824628195E-6,"2011-03-28",{"$f":"(VLOOKUP($AB60,$AG:$AU,8))/7","v":5.2058125669908481E-3},{"$f":"VLOOKUP($AB60,$AG:$AU,9)/14","v":2.6744983429268445E-3},{"$f":"VLOOKUP($AB60,$AG:$AU,10)/28","v":249.750125},null,"2011-03-28",998.99529418743305,919.71243978737118,598.60775714285694,null,"2010-04-20",3.4475942275733133E-2,3.6440687968935938E-2,3.7442976800975823E-2,6993.0034999999998,12876.011599999998,23754.020699999994,241.09038499999974,469.21072099999952,889.4212459999992]
["2010-04-17",999.00089999999977,88.000058999999951,8.8088067788527485E-2,null,null,null,null,null,null,11.000058999999956,null,null,null,77,null,null,null,null,null,null,null,"2011-04-04",{"$f":"(VLOOKUP($W61,$AG:$AU,10))/7","v":999.00059999999996},{"$f":"VLOOKUP($W61,$AG:$AU,11)/14","v":935.5722214285712},{"$f":"VLOOKUP($W61,$AG:$AU,12)/28","v":856.2864857142855},5.733980107974694E-6,"2011-04-04",{"$f":"(VLOOKUP($AB61,$AG:$AU,8))/7","v":5.7282495682547839E-3},{"$f":"VLOOKUP($AB61,$AG:$AU,9)/14","v":2.8283951174189544E-3},{"$f":"VLOOKUP($AB61,$AG:$AU,10)/28","v":249.75014999999999},null,"2011-04-04",998.99487175043168,935.56939303345382,606.53633571428554,null,"2010-04-21",4.2197942909858364E-2,4.009774697778349E-2,3.9597531643865362E-2,6993.0041999999994,13098.011099999996,23976.021599999993,295.09039199999972,525.20073499999944,949.39127399999916]
["2010-04-18",999.00099999999975,36.000059999999955,3.6036060023963902E-2,null,null,null,null,null,null,11.000059999999955,null,null,null,25,null,null,null,null,null,null,null,"2011-04-11",{"$f":"(VLOOKUP($W62,$AG:$AU,10))/7","v":999.00069999999971},{"$f":"VLOOKUP($W62,$AG:$AU,11)/14","v":951.4293285714283},{"$f":"VLOOKUP($W62,$AG:$AU,12)/28","v":864.21508928571416},5.6811418570410051E-6,"2011-04-11",{"$f":"(VLOOKUP($AB62,$AG:$AU,8))/7","v":5.6754646919832622E-3},{"$f":"VLOOKUP($AB62,$AG:$AU,9)/14","v":2.8231093854289699E-3},{"$f":"VLOOKUP($AB62,$AG:$AU,10)/28","v":249.75017499999993},null,"2011-04-11",998.99502453530772,951.42650546204288,614.46491428571426,null,"2010-04-22",4.2482509772015148E-2,3.9728252843882837E-2,3.9523531396005576E-2,6993.0048999999981,13320.010599999996,24198.022499999995,297.08039899999972,529.18074899999942,956.39130199999909]
["2010-04-19",999.00109999999972,36.010060999999958,3.6046067416742551E-2,null,null,null,null,null,null,11.000060999999954,null,null,null,{"$f":"O62+0.01","v":25.01},null,null,null,null,null,null,null,"2011-04-18",{"$f":"(VLOOKUP($W63,$AG:$AU,10))/7","v":999.0007999999998},{"$f":"VLOOKUP($W63,$AG:$AU,11)/14","v":967.28643571428552},{"$f":"VLOOKUP($W63,$AG:$AU,12)/28","v":872.1436928571427},5.6300359941695229E-6,"2011-04-18",{"$f":"(VLOOKUP($AB63,$AG:$AU,8))/7","v":5.6244104622041472E-3},{"$f":"VLOOKUP($AB63,$AG:$AU,9)/14","v":2.8179197579545063E-3},{"$f":"VLOOKUP($AB63,$AG:$AU,10)/28","v":249.75019999999995},null,"2011-04-18",998.99517558953755,967.28361779452757,622.39349285714275,null,"2010-04-23",4.2767076577201621E-2,3.9370873235429031E-2,3.9450876611363088E-2,6993.0055999999986,13542.010099999998,24420.023399999995,299.07040599999971,533.16076299999952,963.39132999999913]
["2010-04-20",999.0011999999997,36.020061999999953,3.6056074807517713E-2,null,null,null,null,null,null,11.000061999999954,null,null,null,25.020000000000003,null,null,null,null,null,null,null,"2011-04-25",{"$f":"(VLOOKUP($W64,$AG:$AU,10))/7","v":999.00089999999977},{"$f":"VLOOKUP($W64,$AG:$AU,11)/14","v":983.14354285714273},{"$f":"VLOOKUP($W64,$AG:$AU,12)/28","v":880.07229642857124},5.5706048555342E-6,"2011-04-25",{"$f":"(VLOOKUP($AB64,$AG:$AU,8))/7","v":5.5650392642230349E-3},{"$f":"VLOOKUP($AB64,$AG:$AU,9)/14","v":2.8128236375682572E-3},{"$f":"VLOOKUP($AB64,$AG:$AU,10)/28","v":249.75022499999994},null,"2011-04-25",998.99533496073559,983.14073003350518,630.32207142857123,null,"2010-04-24",4.3051643325417818E-2,3.8955274849561246E-2,3.93795309259556E-2,6993.0062999999982,13764.009599999998,24642.024299999994,301.0604129999997,536.18077699999947,970.39135799999906]
["2010-04-21",999.00129999999967,36.030062999999956,3.6066082196289401E-2,null,null,null,null,null,null,11.000062999999953,null,null,null,25.030000000000005,null,null,null,null,null,null,null,"2011-05-02",{"$f":"(VLOOKUP($W65,$AG:$AU,10))/7","v":999.00099999999986},{"$f":"VLOOKUP($W65,$AG:$AU,11)/14","v":999.00064999999995},{"$f":"VLOOKUP($W65,$AG:$AU,12)/28","v":888.00089999999989},5.51306040805409E-6,"2011-05-02",{"$f":"(VLOOKUP($AB65,$AG:$AU,8))/7","v":5.5075528607064434E-3},{"$f":"VLOOKUP($AB65,$AG:$AU,9)/14","v":2.8078185196084571E-3},{"$f":"VLOOKUP($AB65,$AG:$AU,10)/28","v":249.75024999999997},null,"2011-05-02",998.9954924471391,998.99784218148034,638.25064999999995,null,"2010-04-25",4.3198930016801029E-2,3.8552870024945105E-2,3.9309459274518399E-2,6993.0069999999987,13986.009099999999,24864.025199999996,302.09041999999965,539.20079099999941,977.39138599999899]
["2010-04-22",999.00139999999965,{"$f":"SUM(K66:Q66)","v":37.000063999999952},3.703704919732842E-2,null,null,null,null,null,null,11.000063999999952,null,null,null,26,null,null,null,null,null,null,null,"2011-05-09",{"$f":"(VLOOKUP($W66,$AG:$AU,10))/7","v":999.00109999999972},{"$f":"VLOOKUP($W66,$AG:$AU,11)/14","v":999.00074999999993},{"$f":"VLOOKUP($W66,$AG:$AU,12)/28","v":895.92950357142843},5.5537529635111368E-6,"2011-05-09",{"$f":"(VLOOKUP($AB66,$AG:$AU,8))/7","v":5.5482053196758844E-3},{"$f":"VLOOKUP($AB66,$AG:$AU,9)/14","v":2.8029019880742045E-3},{"$f":"VLOOKUP($AB66,$AG:$AU,10)/28","v":249.75027499999993},null,"2011-05-09",998.99555179468007,998.99794709801188,646.17922857142844,null,"2010-04-26",4.3483496664818447E-2,3.8837437237731191E-2,3.924062783303886E-2,6993.0076999999983,13986.010499999999,25086.026099999995,304.08042699999964,543.1808049999994,984.39141399999903]
["2010-04-23",999.00149999999962,37.010064999999955,{"$f":"C67/B67","v":3.7047056485901141E-2},null,null,null,null,null,null,11.000064999999951,null,null,null,{"$f":"O66+0.01","v":26.01},null,null,null,null,null,null,null,"2011-05-16",{"$f":"(VLOOKUP($W67,$AG:$AU,10))/7","v":999.0011999999997},{"$f":"VLOOKUP($W67,$AG:$AU,11)/14","v":999.00084999999979},{"$f":"VLOOKUP($W67,$AG:$AU,12)/28","v":903.85810714285697},5.5944455026747764E-6,"2011-05-16",{"$f":"(VLOOKUP($AB67,$AG:$AU,8))/7","v":5.5888577705067027E-3},{"$f":"VLOOKUP($AB67,$AG:$AU,9)/14","v":2.7980717117368084E-3},{"$f":"VLOOKUP($AB67,$AG:$AU,10)/28","v":249.75029999999992},null,"2011-05-16",998.99561114222922,998.99805192828808,654.10780714285704,null,"2010-04-27",4.3768063255865637E-2,3.9122004393546919E-2,3.917300396431532E-2,6993.0083999999979,13986.011899999998,25308.026999999995,306.07043399999964,547.16081899999938,991.39144199999896]
["2010-04-24",666,37.020065999999957,5.5585684684684618E-2,null,null,null,null,null,null,{"$f":"K67+0.000001","v":11.000065999999951},null,null,null,26.020000000000003,null,null,null,null,null,null,null,"2011-05-23",{"$f":"(VLOOKUP($W68,$AG:$AU,10))/7","v":951.42964285714265},{"$f":"VLOOKUP($W68,$AG:$AU,11)/14","v":975.21512142857136},{"$f":"VLOOKUP($W68,$AG:$AU,12)/28","v":899.89379642857114},6.0506533994846633E-6,"2011-05-23",{"$f":"(VLOOKUP($AB68,$AG:$AU,8))/7","v":5.756771002924049E-3},{"$f":"VLOOKUP($AB68,$AG:$AU,9)/14","v":2.8302417745450928E-3},{"$f":"VLOOKUP($AB68,$AG:$AU,10)/28","v":237.85741071428566},null,"2011-05-23",{"$f":"X68-AC68","v":951.42388608613976},{"$f":"Y68-AD68","v":975.21229118679685},662.03638571428542,null,"2010-04-28",3.8301824885332299E-2,4.0297397020468341E-2,3.9623384843631301E-2,6660.0074999999988,13653.011699999999,25197.02629999999,255.09044099999969,550.18083299999932,998.39146999999889]
["2010-04-25",{"$f":"B68+0.0001","v":666.00009999999997},37.030066999999953,5.5600692852748754E-2,null,null,null,null,null,null,11.00006699999995,null,null,null,26.030000000000005,null,null,null,null,null,null,null,{"$f":"W68+7","v":"2011-05-30"},{"$f":"(VLOOKUP($W69,$AG:$AU,10))/7","v":903.85808571428549},{"$f":"VLOOKUP($W69,$AG:$AU,11)/14","v":951.42939285714249},{"$f":"VLOOKUP($W69,$AG:$AU,12)/28","v":895.92948571428565},6.5641719519137853E-6,{"$f":"AB68+7","v":"2011-05-30"},{"$f":"(VLOOKUP($AB69,$AG:$AU,8))/7","v":5.9330798947561988E-3},{"$f":"VLOOKUP($AB69,$AG:$AU,9)/14","v":2.86269652967951E-3},{"$f":"VLOOKUP($AB69,$AG:$AU,10)/28","v":225.96452142857137},null,{"$f":"AG68+7","v":"2011-05-30"},903.85215263439079,951.42653016061286,669.96496428571425,null,"2010-04-29",4.0480509060951464E-2,4.153155926329339E-2,4.007775141551314E-2,6327.0065999999988,13320.011499999995,25086.025599999997,256.12044799999967,553.20084699999927,1005.3914979999988]
["2010-04-26",666.00019999999995,38.000067999999949,5.7057142024882206E-2,null,null,null,null,null,null,11.000067999999949,null,null,null,27,null,null,null,null,null,null,null,"2011-06-06",{"$f":"(VLOOKUP($W70,$AG:$AU,10))/7","v":856.28652857142822},{"$f":"VLOOKUP($W70,$AG:$AU,11)/14","v":927.64366428571407},{"$f":"VLOOKUP($W70,$AG:$AU,12)/28","v":891.96517499999993},7.157639484742368E-6,"2011-06-06",{"$f":"(VLOOKUP($AB70,$AG:$AU,8))/7","v":6.1289902671558287E-3},{"$f":"VLOOKUP($AB70,$AG:$AU,9)/14","v":2.8954397730578982E-3},{"$f":"VLOOKUP($AB70,$AG:$AU,10)/28","v":214.07163214285706},null,"2011-06-06",856.28039958116108,927.64076884594101,677.89354285714285,null,"2010-04-30",4.3061429687996415E-2,4.2902931870090803E-2,4.0536156822810573E-2,5994.0056999999979,12987.011299999996,24975.024899999997,258.11045499999966,557.18086099999925,1012.3915259999987]
["2010-04-27",666.00029999999992,38.010068999999952,5.7072149967499951E-2,null,null,null,null,null,null,11.000068999999948,null,null,null,{"$f":"O70+0.01","v":27.01},null,null,null,null,null,null,null,"2011-06-13",{"$f":"(VLOOKUP($W71,$AG:$AU,10))/7","v":808.71497142857129},{"$f":"VLOOKUP($W71,$AG:$AU,11)/14","v":903.85793571428553},{"$f":"VLOOKUP($W71,$AG:$AU,12)/28","v":888.0008642857141},7.8336767993105065E-6,"2011-06-13",{"$f":"(VLOOKUP($AB71,$AG:$AU,8))/7","v":6.3352117089350585E-3},{"$f":"VLOOKUP($AB71,$AG:$AU,9)/14","v":2.9284753683826992E-3},{"$f":"VLOOKUP($AB71,$AG:$AU,10)/28","v":202.17874285714282},null,"2011-06-13",808.70863621686237,903.8550072389171,685.82212142857134,null,"2010-05-01",4.5945988599055722E-2,4.4346481962545412E-2,4.0998655157357788E-2,5661.0047999999988,12654.011099999998,24864.024199999996,260.10046199999965,561.16087499999935,1019.3915539999987]
["2010-04-28",666.0003999999999,38.020069999999947,5.7087157905610794E-2,null,null,null,null,null,null,11.000069999999948,null,null,null,27.020000000000003,null,null,null,null,null,null,null,"2011-06-20",{"$f":"(VLOOKUP($W72,$AG:$AU,10))/7","v":761.14341428571424},{"$f":"VLOOKUP($W72,$AG:$AU,11)/14","v":880.072207142857},{"$f":"VLOOKUP($W72,$AG:$AU,12)/28","v":884.03655357142839},8.5942403463517917E-6,"2011-06-20",{"$f":"(VLOOKUP($AB72,$AG:$AU,8))/7","v":6.5414494404142419E-3},{"$f":"VLOOKUP($AB72,$AG:$AU,9)/14","v":2.9618072486608097E-3},{"$f":"VLOOKUP($AB72,$AG:$AU,10)/28","v":190.28585357142856},null,"2011-06-20",761.13687283627382,880.06924533560834,693.75069999999982,null,"2010-05-02",4.9191118084579419E-2,4.5790146082899691E-2,4.1465301481251333E-2,5328.0038999999997,12321.010899999997,24753.023499999996,262.09046899999964,564.1808889999993,1026.3915819999988]
["2010-04-29",666.00049999999987,38.03007099999995,5.710216583921477E-2,null,null,null,null,null,null,11.000070999999947,null,null,null,27.030000000000005,null,null,null,null,null,null,null,"2011-06-27",{"$f":"(VLOOKUP($W73,$AG:$AU,10))/7","v":713.57185714285708},{"$f":"VLOOKUP($W73,$AG:$AU,11)/14","v":856.28647857142835},{"$f":"VLOOKUP($W73,$AG:$AU,12)/28","v":880.07224285714267},9.4722693343887439E-6,"2011-06-27",{"$f":"(VLOOKUP($AB73,$AG:$AU,8))/7","v":6.7591448202971105E-3},{"$f":"VLOOKUP($AB73,$AG:$AU,9)/14","v":2.9954394177644926E-3},{"$f":"VLOOKUP($AB73,$AG:$AU,10)/28","v":178.39296428571427},null,"2011-06-27",713.56509799803678,856.28348313201059,701.67927857142843,null,"2010-05-03",5.2676740334290026E-2,4.7314013742079775E-2,4.1936151848702898E-2,4995.0029999999997,11988.010699999997,24642.022799999995,263.12047599999966,567.20090299999924,1033.3916099999988]
["2010-04-30",666.00059999999985,39.000071999999946,5.8558613911158568E-2,null,null,null,null,null,null,11.000071999999946,null,null,null,28,null,null,null,null,null,null,null,"2011-07-04",{"$f":"(VLOOKUP($W74,$AG:$AU,10))/7","v":666.00029999999992},{"$f":"VLOOKUP($W74,$AG:$AU,11)/14","v":832.50074999999993},{"$f":"VLOOKUP($W74,$AG:$AU,12)/28","v":876.10793214285695},1.0512077533218207E-5,"2011-07-04",{"$f":"(VLOOKUP($AB74,$AG:$AU,8))/7","v":7.0010467907465849E-3},{"$f":"VLOOKUP($AB74,$AG:$AU,9)/14","v":3.0293759520346832E-3},{"$f":"VLOOKUP($AB74,$AG:$AU,10)/28","v":166.50007499999998},null,"2011-07-04",665.99329895320921,832.49772062404793,709.60785714285703,null,"2010-05-04",{"$f":"AS74/AP74","v":5.6866229854336543E-2},4.9007327535226096E-2,4.2411263328485563E-2,{"$f":"SUM(B68:B74)","v":4662.0020999999997},11655.010499999999,24531.022099999995,{"$f":"SUM(C68:C74)","v":265.11048299999965},571.18091699999923,1040.3916379999987]
["2010-05-01",666.00069999999982,39.010072999999949,5.8573621619316556E-2,null,null,null,null,null,null,11.000072999999945,null,null,null,{"$f":"O74+0.01","v":28.01},null,null,null,null,null,null,null,"2011-07-11",{"$f":"(VLOOKUP($W75,$AG:$AU,10))/7","v":666.0003999999999},{"$f":"VLOOKUP($W75,$AG:$AU,11)/14","v":808.71502142857139},{"$f":"VLOOKUP($W75,$AG:$AU,12)/28","v":872.14362142857124},9.8931193726518373E-6,"2011-07-11",{"$f":"(VLOOKUP($AB75,$AG:$AU,8))/7","v":6.5888214594338719E-3},{"$f":"VLOOKUP($AB75,$AG:$AU,9)/14","v":3.0636210019280058E-3},{"$f":"VLOOKUP($AB75,$AG:$AU,10)/28","v":166.50009999999997},null,"2011-07-11",665.99381117854045,808.71195780756943,705.64352142857126,null,"2010-05-05",5.7293077987855268E-2,4.6121750216037101E-2,4.2890694026992082E-2,4662.0027999999993,11322.0103,24420.021399999994,267.10048999999958,522.1909309999993,1047.3916659999986]
["2010-05-02",666.0007999999998,39.020073999999951,5.8588629322967725E-2,null,null,null,null,null,null,11.000073999999945,null,null,null,28.020000000000003,null,null,null,null,null,null,null,"2011-07-18",{"$f":"(VLOOKUP($W76,$AG:$AU,10))/7","v":666.00049999999987},{"$f":"VLOOKUP($W76,$AG:$AU,11)/14","v":784.92929285714285},{"$f":"VLOOKUP($W76,$AG:$AU,12)/28","v":868.17931071428552},1.0251858425578339E-5,"2011-07-18",{"$f":"(VLOOKUP($AB76,$AG:$AU,8))/7","v":6.8277428373643857E-3},{"$f":"VLOOKUP($AB76,$AG:$AU,9)/14","v":3.0981787937089276E-3},{"$f":"VLOOKUP($AB76,$AG:$AU,10)/28","v":166.50012499999997},null,"2011-07-18",665.99367225716253,784.92619467834913,701.6791857142855,null,"2010-05-06",5.7719925993191486E-2,4.7794199861550701E-2,4.3374503111924985E-2,4662.0034999999989,10989.0101,24309.020699999994,269.09049699999963,525.21094499999924,1054.3916939999986]
["2010-05-03",666.00089999999977,39.030074999999947,5.8603637022112069E-2,null,null,null,null,null,null,11.000074999999944,null,null,null,28.030000000000005,null,null,null,null,null,null,null,"2011-07-25",{"$f":"(VLOOKUP($W77,$AG:$AU,10))/7","v":666.00059999999996},{"$f":"VLOOKUP($W77,$AG:$AU,11)/14","v":761.14356428571409},{"$f":"VLOOKUP($W77,$AG:$AU,12)/28","v":864.21499999999992},1.0633018643693273E-5,"2011-07-25",{"$f":"(VLOOKUP($AB77,$AG:$AU,8))/7","v":7.0815967965109057E-3},{"$f":"VLOOKUP($AB77,$AG:$AU,9)/14","v":3.1330536311884745E-3},{"$f":"VLOOKUP($AB77,$AG:$AU,10)/28","v":166.50014999999999},null,"2011-07-25",665.99351840320344,761.14043123208285,697.71484999999996,null,"2010-05-07",5.7940853849938544E-2,4.9571177575576338E-2,4.3862750836638646E-2,4662.0041999999994,10656.009899999997,24198.019999999997,270.12050399999964,528.2309589999993,1061.3917219999985]
["2010-05-04",666.00099999999975,40.000075999999943,6.0060083993867815E-2,null,null,null,null,null,null,11.000075999999943,null,null,null,29,null,null,null,null,null,null,null,"2011-08-01",{"$f":"(VLOOKUP($W78,$AG:$AU,10))/7","v":666.00069999999971},{"$f":"VLOOKUP($W78,$AG:$AU,11)/14","v":737.35783571428567},{"$f":"VLOOKUP($W78,$AG:$AU,12)/28","v":860.2506892857142},1.1058717486303466E-5,"2011-08-01",{"$f":"(VLOOKUP($AB78,$AG:$AU,8))/7","v":7.3651135869803458E-3},{"$f":"VLOOKUP($AB78,$AG:$AU,9)/14","v":3.1682498975110357E-3},{"$f":"VLOOKUP($AB78,$AG:$AU,10)/28","v":166.50017499999993},null,"2011-08-01",665.99333488641275,737.35466746438817,693.7505142857143,null,"2010-05-08",5.836770162982878E-2,5.1555795108862421E-2,4.43554985651545E-2,4662.0048999999981,10323.009699999999,24087.019299999996,272.11051099999963,532.21097299999929,1068.3917499999986]
["2010-05-05",666.00109999999972,40.010076999999946,6.0075091467566587E-2,null,null,null,null,null,null,11.000076999999942,null,null,null,{"$f":"O78+0.01","v":29.01},null,null,null,null,null,null,null,"2011-08-08",{"$f":"(VLOOKUP($W79,$AG:$AU,10))/7","v":666.0007999999998},{"$f":"VLOOKUP($W79,$AG:$AU,11)/14","v":713.57210714285702},{"$f":"VLOOKUP($W79,$AG:$AU,12)/28","v":856.2863785714286},1.151279621614931E-5,"2011-08-08",{"$f":"(VLOOKUP($AB79,$AG:$AU,8))/7","v":7.667531490192411E-3},{"$f":"VLOOKUP($AB79,$AG:$AU,9)/14","v":3.2037720569907846E-3},{"$f":"VLOOKUP($AB79,$AG:$AU,10)/28","v":166.50019999999995},null,"2011-08-08",665.99313246850966,713.56890337080006,689.78617857142865,null,"2010-05-09",5.8794549281536622E-2,5.3672720431346875E-2,4.4852808797870986E-2,4662.0055999999986,9990.0094999999983,23976.018599999999,274.10051799999962,536.19098699999927,1075.3917779999983]
["2010-05-06",666.0011999999997,40.020077999999941,6.009009893675861E-2,null,null,null,null,null,null,11.000077999999942,null,null,null,29.020000000000003,null,null,null,null,null,null,null,"2011-08-15",{"$f":"(VLOOKUP($W80,$AG:$AU,10))/7","v":666.00089999999977},{"$f":"VLOOKUP($W80,$AG:$AU,11)/14","v":689.78637857142837},{"$f":"VLOOKUP($W80,$AG:$AU,12)/28","v":844.39356428571421},1.197686731823964E-5,"2011-08-15",{"$f":"(VLOOKUP($AB80,$AG:$AU,8))/7","v":7.9766044131281844E-3},{"$f":"VLOOKUP($AB80,$AG:$AU,9)/14","v":3.2700433820459485E-3},{"$f":"VLOOKUP($AB80,$AG:$AU,10)/28","v":166.50022499999994},null,"2011-08-15",665.99292339558667,689.78310852804634,677.89333928571432,null,"2010-05-10",5.9221396805062172E-2,5.5836230891897293E-2,4.5780607348643282E-2,4662.0062999999982,9657.0092999999979,23643.019799999998,276.09052499999962,539.21100099999933,1082.3918059999985]
["2010-05-07",666.00129999999967,40.030078999999944,6.0105106401443904E-2,null,null,null,null,null,null,11.000078999999941,null,null,null,29.030000000000005,null,null,null,null,null,null,null,"2011-08-22",{"$f":"(VLOOKUP($W81,$AG:$AU,10))/7","v":666.00099999999986},{"$f":"VLOOKUP($W81,$AG:$AU,11)/14","v":666.00064999999995},{"$f":"VLOOKUP($W81,$AG:$AU,12)/28","v":832.50074999999981},1.2474086322887648E-5,"2011-08-22",{"$f":"(VLOOKUP($AB81,$AG:$AU,8))/7","v":8.3077539651294947E-3},{"$f":"VLOOKUP($AB81,$AG:$AU,9)/14","v":3.3382081650021387E-3},{"$f":"VLOOKUP($AB81,$AG:$AU,10)/28","v":166.50024999999997},null,"2011-08-22",665.99269224603472,665.99731179183493,666.00049999999987,null,"2010-05-11",5.9442324303674299E-2,{"$f":"AT81/AQ81","v":5.815427775590646E-2},4.6734914310029942E-2,4662.0069999999987,{"$f":"SUM(B68:B81)","v":9324.0090999999993},23310.020999999993,277.12053199999963,{"$f":"SUM(C68:C81)","v":542.23101499999939},1089.3918339999982]
["2010-05-08",666.00139999999965,41.00007999999994,6.156155227301318E-2,null,null,null,null,null,null,11.00007999999994,null,null,null,30,null,null,null,null,null,null,null,"2011-08-29",{"$f":"(VLOOKUP($W82,$AG:$AU,10))/7","v":666.00109999999972},{"$f":"VLOOKUP($W82,$AG:$AU,11)/14","v":666.00074999999981},{"$f":"VLOOKUP($W82,$AG:$AU,12)/28","v":820.60793571428565},1.2565643225279427E-5,"2011-08-29",{"$f":"(VLOOKUP($AB82,$AG:$AU,8))/7","v":8.3687322102436422E-3},{"$f":"VLOOKUP($AB82,$AG:$AU,9)/14","v":3.4083487297397186E-3},{"$f":"VLOOKUP($AB82,$AG:$AU,10)/28","v":166.50027499999993},null,"2011-08-29",665.99273126778951,665.99734165127006,654.10766071428566,null,"2010-05-12",5.9869171601754256E-2,5.8581125471705492E-2,4.771688221635606E-2,4662.0076999999983,9324.0104999999967,22977.022199999999,279.11053899999956,546.21102899999926,1096.3918619999984]
["2010-05-09",666.00149999999962,41.010080999999943,6.1576559512253298E-2,null,null,null,null,null,null,11.000080999999939,null,null,null,{"$f":"O82+0.01","v":30.01},null,null,null,null,null,null,null,"2011-09-05",{"$f":"(VLOOKUP($W83,$AG:$AU,10))/7","v":666.0011999999997},{"$f":"VLOOKUP($W83,$AG:$AU,11)/14","v":666.00084999999979},{"$f":"VLOOKUP($W83,$AG:$AU,12)/28","v":808.71512142857136},1.2657200072681596E-5,"2011-09-05",{"$f":"(VLOOKUP($AB83,$AG:$AU,8))/7","v":8.4297104370460261E-3},{"$f":"VLOOKUP($AB83,$AG:$AU,9)/14","v":3.4805522426977933E-3},{"$f":"VLOOKUP($AB83,$AG:$AU,10)/28","v":166.50029999999992},null,"2011-09-05",665.9927702895626,665.99736944775714,642.21482142857144,null,"2010-05-13",6.0296018771652089E-2,5.9007973059322177E-2,4.8727731397769106E-2,4662.0083999999979,9324.0118999999977,22644.023399999998,281.10054599999961,550.19104299999924,1103.3918899999983]
["2010-05-10",666.0015999999996,41.020081999999945,6.1591566746986751E-2,null,null,null,null,null,null,11.000081999999939,null,null,null,30.020000000000003,null,null,null,null,null,null,null,"2011-09-12",{"$f":"(VLOOKUP($W84,$AG:$AU,10))/7","v":666.00129999999967},{"$f":"VLOOKUP($W84,$AG:$AU,11)/14","v":666.00094999999988},{"$f":"VLOOKUP($W84,$AG:$AU,12)/28","v":796.82230714285686},1.2726671975535466E-5,"2011-09-12",{"$f":"(VLOOKUP($AB84,$AG:$AU,8))/7","v":8.4759800803801844E-3},{"$f":"VLOOKUP($AB84,$AG:$AU,9)/14","v":3.5549110742574921E-3},{"$f":"VLOOKUP($AB84,$AG:$AU,10)/28","v":166.50032499999992},null,"2011-09-12",665.99282401991934,{"$f":"Y84-AD84","v":665.9973950889256},630.321982142857,null,"2010-05-14",6.0722865813367839E-2,5.9331860562661293E-2,4.9768755039604887E-2,4662.0090999999975,9324.0132999999987,22311.024599999993,283.0905529999996,553.2110569999993,1110.3919179999982]
["2010-05-11",666.00169999999957,41.030082999999941,6.1606573977213523E-2,null,null,null,null,null,null,11.000082999999938,null,null,null,30.030000000000005,null,null,null,null,null,null,null,"2011-09-19",{"$f":"(VLOOKUP($W85,$AG:$AU,10))/7","v":666.00139999999976},{"$f":"VLOOKUP($W85,$AG:$AU,11)/14","v":666.00104999999962},{"$f":"VLOOKUP($W85,$AG:$AU,12)/28","v":784.92949285714269},1.2796143836663987E-5,"2011-09-19",{"$f":"(VLOOKUP($AB85,$AG:$AU,8))/7","v":8.5222497098195842E-3},{"$f":"VLOOKUP($AB85,$AG:$AU,9)/14","v":3.6315231929781124E-3},{"$f":"VLOOKUP($AB85,$AG:$AU,10)/28","v":166.50034999999994},null,"2011-09-19",665.99287775028995,665.99741847680662,618.42914285714278,null,"2010-05-15",6.0943792953845728E-2,5.9655747968737086E-2,5.0841324701693572E-2,4662.009799999998,9324.0146999999943,21978.025799999996,284.12055999999961,556.23107099999936,1117.3919459999984]
["2010-05-12",666.00179999999955,42.000083999999937,6.3063018748597918E-2,null,null,null,null,null,null,11.000083999999937,null,null,null,31,null,null,null,null,null,null,null,"2011-09-26",{"$f":"(VLOOKUP($W86,$AG:$AU,10))/7","v":666.00149999999951},{"$f":"VLOOKUP($W86,$AG:$AU,11)/14","v":666.00114999999983},{"$f":"VLOOKUP($W86,$AG:$AU,12)/28","v":773.03667857142841},1.2887700532361731E-5,"2011-09-26",{"$f":"(VLOOKUP($AB86,$AG:$AU,8))/7","v":8.5832278861037049E-3},{"$f":"VLOOKUP($AB86,$AG:$AU,9)/14","v":3.7104925962241262E-3},{"$f":"VLOOKUP($AB86,$AG:$AU,10)/28","v":166.50037499999988},null,"2011-09-26",665.9929167721134,665.99743950740356,606.53630357142856,null,"2010-05-16",6.1370639770116309E-2,6.0082595202725936E-2,5.1946896347137769E-2,4662.0104999999967,9324.0160999999971,21645.026999999995,286.11056699999961,560.21108499999923,1124.3919739999981]
["2010-05-13",666.00189999999952,42.01008499999994,6.3078025753379938E-2,null,null,null,null,null,null,11.000084999999936,null,null,null,{"$f":"O86+0.01","v":31.01},null,null,null,null,null,null,null,"2011-10-03",{"$f":"(VLOOKUP($W87,$AG:$AU,10))/7","v":666.0015999999996},{"$f":"VLOOKUP($W87,$AG:$AU,11)/14","v":666.00124999999969},{"$f":"VLOOKUP($W87,$AG:$AU,12)/28","v":761.14386428571402},1.2979257173070016E-5,"2011-10-03",{"$f":"(VLOOKUP($AB87,$AG:$AU,8))/7","v":8.6442060440761019E-3},{"$f":"VLOOKUP($AB87,$AG:$AU,9)/14","v":3.7919297811632642E-3},{"$f":"VLOOKUP($AB87,$AG:$AU,10)/28","v":166.5003999999999},null,"2011-10-03",665.9929557939555,665.9974580702185,594.64346428571412,null,"2010-05-17",6.1797486458204931E-2,6.0509442308532717E-2,5.3087016936285696E-2,4662.0111999999972,9324.0174999999963,21312.028199999993,288.10057399999954,564.19109899999921,1131.392001999998]
["2010-05-14",666.0019999999995,42.020085999999935,6.309303275365534E-2,null,null,null,null,null,null,11.000085999999936,null,null,null,31.020000000000003,null,null,null,null,null,null,null,"2011-10-10",{"$f":"(VLOOKUP($W88,$AG:$AU,10))/7","v":666.00169999999957},{"$f":"VLOOKUP($W88,$AG:$AU,11)/14","v":666.00134999999966},{"$f":"VLOOKUP($W88,$AG:$AU,12)/28","v":749.25104999999985},1.3048728895758474E-5,"2011-10-10",{"$f":"(VLOOKUP($AB88,$AG:$AU,8))/7","v":8.6904756274142608E-3},{"$f":"VLOOKUP($AB88,$AG:$AU,9)/14","v":3.8759522606213286E-3},{"$f":"VLOOKUP($AB88,$AG:$AU,10)/28","v":166.50042499999989},null,"2011-10-10",665.99300952437216,665.99747404773905,582.7506249999999,null,"2010-05-18",6.2224333018111727E-2,6.0833329391899824E-2,5.42633316486986E-2,4662.0118999999968,9324.0188999999955,20979.029399999996,290.09058099999959,567.21111299999916,1138.3920299999982]
["2010-05-15",666.00209999999947,42.030086999999938,6.3108039749424166E-2,null,null,null,null,null,null,11.000086999999935,null,null,null,31.030000000000005,null,null,null,null,null,null,null,"2011-10-17",{"$f":"(VLOOKUP($W89,$AG:$AU,10))/7","v":666.00179999999966},{"$f":"VLOOKUP($W89,$AG:$AU,11)/14","v":666.00144999999964},{"$f":"VLOOKUP($W89,$AG:$AU,12)/28","v":737.35823571428557},1.3118200576721692E-5,"2011-10-17",{"$f":"(VLOOKUP($AB89,$AG:$AU,8))/7","v":8.7367451968576801E-3},{"$f":"VLOOKUP($AB89,$AG:$AU,9)/14","v":3.7794261043088777E-3},{"$f":"VLOOKUP($AB89,$AG:$AU,10)/28","v":166.50044999999992},null,"2011-10-17",665.99306325480279,665.99767057389533,570.85778571428568,null,"2010-05-19",6.2445259800456086E-2,6.1157216378003761E-2,5.2911965460324291E-2,4662.0125999999973,9324.0202999999947,20646.030599999995,291.1205879999996,570.23112699999922,1092.4220579999981]
["2010-05-16",666.00219999999945,43.000087999999934,6.456448342062529E-2,null,null,null,null,null,null,11.000087999999934,null,null,null,32,null,null,null,null,null,null,null,"2011-10-24",{"$f":"(VLOOKUP($W90,$AG:$AU,10))/7","v":666.00189999999952},{"$f":"VLOOKUP($W90,$AG:$AU,11)/14","v":666.00154999999961},{"$f":"VLOOKUP($W90,$AG:$AU,12)/28","v":725.46542142857118},1.3209757065725959E-5,"2011-10-24",{"$f":"(VLOOKUP($AB90,$AG:$AU,8))/7","v":8.7977233043119076E-3},{"$f":"VLOOKUP($AB90,$AG:$AU,9)/14","v":3.8659984276694678E-3},{"$f":"VLOOKUP($AB90,$AG:$AU,10)/28","v":166.50047499999988},null,"2011-10-24",665.99310227669525,665.997684001572,558.96494642857124,null,"2010-05-20",6.2872106134918102E-2,6.1584063130183359E-2,5.4123977987372549E-2,4662.0132999999969,9324.0216999999939,20313.031799999993,293.11059499999959,574.2111409999992,1099.4220859999982]
["2010-05-17",666.00229999999942,43.01008899999993,6.4579490190949745E-2,null,null,null,null,null,null,11.000088999999933,null,null,null,{"$f":"O90+0.01","v":32.01},null,null,null,null,null,null,null,"2011-10-31",{"$f":"(VLOOKUP($W91,$AG:$AU,10))/7","v":666.0019999999995},{"$f":"VLOOKUP($W91,$AG:$AU,11)/14","v":666.00164999999959},{"$f":"VLOOKUP($W91,$AG:$AU,12)/28","v":713.5726071428569},1.3301313499740906E-5,"2011-10-31",{"$f":"(VLOOKUP($AB91,$AG:$AU,8))/7","v":8.8587013934544358E-3},{"$f":"VLOOKUP($AB91,$AG:$AU,9)/14","v":3.9554564799767792E-3},{"$f":"VLOOKUP($AB91,$AG:$AU,10)/28","v":166.50049999999987},null,"2011-10-31",665.99314129860602,665.99769454351963,547.07210714285702,null,"2010-05-21",6.3298952341198422E-2,6.2010909754181047E-2,5.5376390719674914E-2,4662.0139999999965,9324.0230999999949,19980.032999999992,295.10060199999958,578.19115499999907,1106.4221139999981]
["2010-05-18",666.0023999999994,43.020089999999925,6.4594496956767666E-2,null,null,null,null,null,null,11.000089999999933,null,null,null,32.019999999999996,null,null,null,null,null,null,null,"2011-11-07",{"$f":"(VLOOKUP($W92,$AG:$AU,10))/7","v":666.00209999999947},{"$f":"VLOOKUP($W92,$AG:$AU,11)/14","v":666.00174999999967},{"$f":"VLOOKUP($W92,$AG:$AU,12)/28","v":701.67979285714262},{"$f":"AC92/X92","v":1.3370785042264448E-5},"2011-11-07",{"$f":"(VLOOKUP($AB92,$AG:$AU,8))/7","v":8.9049709167967044E-3},{"$f":"VLOOKUP($AB92,$AG:$AU,9)/14","v":4.0479469924269741E-3},{"$f":"VLOOKUP($AB92,$AG:$AU,10)/28","v":166.50052499999987},null,"2011-11-07",665.9931950290827,665.99770205300729,535.1792678571428,null,"2010-05-22",6.3725798419297097E-2,6.2334796417576929E-2,5.6671257893977638E-2,4662.0146999999961,9324.0244999999959,19647.034199999995,297.09060899999957,581.21116899999924,1113.4221419999983]
["2010-05-19",777,43.030090999999928,5.5379782496782402E-2,null,null,null,null,null,null,11.000090999999932,null,null,null,32.029999999999994,null,null,null,null,null,null,null,"2011-11-14",{"$f":"(VLOOKUP($W93,$AG:$AU,10))/7","v":681.85898571428527},{"$f":"VLOOKUP($W93,$AG:$AU,11)/14","v":673.9302428571425},{"$f":"VLOOKUP($W93,$AG:$AU,12)/28","v":693.75117499999965},1.2973260650178188E-5,"2011-11-14",{"$f":"(VLOOKUP($AB93,$AG:$AU,8))/7","v":8.8459343483375478E-3},{"$f":"VLOOKUP($AB93,$AG:$AU,9)/14","v":4.1199495214239721E-3},{"$f":"VLOOKUP($AB93,$AG:$AU,10)/28","v":170.46474642857132},null,"2011-11-14",681.85013977993697,673.92612290762111,523.28642857142836,null,"2010-05-23",6.2459629220779966E-2,6.1921540438362829E-2,5.7679293299935611E-2,4773.012899999997,9435.0233999999946,19425.032899999991,298.12061599999953,584.23118299999919,1120.4221699999982]
["2010-05-20",777.00009999999997,44.000091999999931,5.6628167744122472E-2,null,null,null,null,null,null,11.000091999999931,null,null,null,33,null,null,null,null,null,null,null,"2011-11-21",{"$f":"(VLOOKUP($W94,$AG:$AU,10))/7","v":697.71587142857095},{"$f":"VLOOKUP($W94,$AG:$AU,11)/14","v":681.85873571428533},{"$f":"VLOOKUP($W94,$AG:$AU,12)/28","v":685.82255714285679},1.2616363708235649E-5,"2011-11-21",{"$f":"(VLOOKUP($AB94,$AG:$AU,8))/7","v":8.802637198951432E-3},{"$f":"VLOOKUP($AB94,$AG:$AU,9)/14","v":4.1936168557885371E-3},{"$f":"VLOOKUP($AB94,$AG:$AU,10)/28","v":174.42896785714274},null,"2011-11-21",697.70706879137197,681.85454209742954,511.39358928571403,null,"2010-05-24",6.1447571853389053E-2,6.1618460392660022E-2,5.8710635981039518E-2,4884.011099999997,9546.0222999999951,19203.031599999991,300.11062299999952,588.21119699999906,1127.4221979999984]
["2010-05-21",777.00019999999995,44.010092999999927,5.6641031752630092E-2,null,null,null,null,null,null,11.00009299999993,null,null,null,{"$f":"O94+0.01","v":33.01},null,null,null,null,null,null,null,"2011-11-28",{"$f":"(VLOOKUP($W95,$AG:$AU,10))/7","v":713.57275714285686},{"$f":"VLOOKUP($W95,$AG:$AU,11)/14","v":689.78722857142827},{"$f":"VLOOKUP($W95,$AG:$AU,12)/28","v":677.89393928571405},1.2276723412704883E-5,"2011-11-28",{"$f":"(VLOOKUP($AB95,$AG:$AU,8))/7","v":8.7603353742840857E-3},{"$f":"VLOOKUP($AB95,$AG:$AU,9)/14","v":4.2690074099929077E-3},{"$f":"VLOOKUP($AB95,$AG:$AU,10)/28","v":178.39318928571421},null,"2011-11-28",713.56399680748257,689.78295956401826,499.50074999999981,null,"2010-05-25",6.0480494000281368E-2,6.1322347619988594E-2,{"$f":"AU95/AR95","v":5.9766103739900704E-2},4995.0092999999979,9657.0211999999956,{"$f":"SUM(B68:B95)","v":18981.030299999995},302.10062999999951,592.19121099999916,{"$f":"SUM(C68:C95)","v":1134.4222259999983}]
["2010-05-22",777.00029999999992,44.020093999999929,5.665389575782652E-2,null,null,null,null,null,null,11.00009399999993,null,null,null,33.019999999999996,null,null,null,null,null,null,null,"2011-12-05",{"$f":"(VLOOKUP($W96,$AG:$AU,10))/7","v":729.42964285714254},{"$f":"VLOOKUP($W96,$AG:$AU,11)/14","v":697.7157214285711},{"$f":"VLOOKUP($W96,$AG:$AU,12)/28","v":681.85823571428534},1.1933919937734893E-5,"2011-12-05",{"$f":"(VLOOKUP($AB96,$AG:$AU,8))/7","v":8.7049549580676955E-3},{"$f":"VLOOKUP($AB96,$AG:$AU,9)/14","v":4.2703766146278809E-3},{"$f":"VLOOKUP($AB96,$AG:$AU,10)/28","v":182.35741071428563},null,"2011-12-05",729.42093790218451,697.71145105195649,499.50082499999974,null,"2010-05-26",5.9555462266751395E-2,6.0934684706473868E-2,5.9785272604790336E-2,5106.0074999999979,9768.0200999999961,19092.030599999991,304.0906369999995,595.2112249999991,1141.4222539999982]
["2010-05-23",777.0003999999999,44.030094999999925,5.6666759759711749E-2,null,null,null,null,null,null,11.000094999999929,null,null,null,33.029999999999994,null,null,null,null,null,null,null,"2011-12-12",{"$f":"(VLOOKUP($W97,$AG:$AU,10))/7","v":745.28652857142845},{"$f":"VLOOKUP($W97,$AG:$AU,11)/14","v":705.64421428571404},{"$f":"VLOOKUP($W97,$AG:$AU,12)/28","v":685.82253214285697},1.1607373405020563E-5,"2011-12-12",{"$f":"(VLOOKUP($AB97,$AG:$AU,8))/7","v":8.6508190308600963E-3},{"$f":"VLOOKUP($AB97,$AG:$AU,9)/14","v":4.271729990290225E-3},{"$f":"VLOOKUP($AB97,$AG:$AU,10)/28","v":186.32163214285711},null,"2011-12-12",745.27787775239756,705.63994255572379,499.50089999999989,null,"2010-05-27",5.8485779304400513E-2,6.0555733216020674E-2,5.9804219864063153E-2,5217.0056999999988,9879.0189999999966,19203.030899999994,305.12064399999946,598.23123899999916,1148.4222819999982]
["2010-05-24",777.00049999999987,45.000095999999928,5.7915144198748825E-2,null,null,null,null,null,null,11.000095999999928,null,null,null,34,null,null,null,null,null,null,null,"2011-12-19",{"$f":"(VLOOKUP($W98,$AG:$AU,10))/7","v":761.14341428571424},{"$f":"VLOOKUP($W98,$AG:$AU,11)/14","v":713.57270714285698},{"$f":"VLOOKUP($W98,$AG:$AU,12)/28","v":689.78682857142837},1.1314049281227145E-5,"2011-12-19",{"$f":"(VLOOKUP($AB98,$AG:$AU,8))/7","v":8.6116140993100602E-3},{"$f":"VLOOKUP($AB98,$AG:$AU,9)/14","v":4.2730678098935613E-3},{"$f":"VLOOKUP($AB98,$AG:$AU,10)/28","v":190.28585357142856},null,"2011-12-19",761.13480267161492,713.56843407504709,499.50097499999981,null,"2010-05-28",5.7640845758389826E-2,6.0281298695170425E-2,5.9822949338509852E-2,5328.0038999999997,9990.0178999999971,19314.031199999994,307.11065099999945,602.21125299999903,1155.4223099999983]
["2010-05-25",777.00059999999985,45.010096999999924,5.7928008035000145E-2,null,null,null,null,null,null,11.000096999999927,null,null,null,{"$f":"O98+0.01","v":34.01},null,null,null,null,null,null,null,"2011-12-26",{"$f":"(VLOOKUP($W99,$AG:$AU,10))/7","v":777.00029999999992},{"$f":"VLOOKUP($W99,$AG:$AU,11)/14","v":721.5011999999997},{"$f":"VLOOKUP($W99,$AG:$AU,12)/28","v":693.75112499999966},1.1033806299219402E-5,"2011-12-26",{"$f":"(VLOOKUP($AB99,$AG:$AU,8))/7","v":8.5732708046353644E-3},{"$f":"VLOOKUP($AB99,$AG:$AU,9)/14","v":4.2743903401134724E-3},{"$f":"VLOOKUP($AB99,$AG:$AU,10)/28","v":194.25007499999998},null,"2011-12-26",776.99172672919531,721.49692560965957,499.50104999999968,null,"2010-05-29",5.6830398723324536E-2,6.0012895632447556E-2,5.9841464761588616E-2,5439.0020999999997,10101.016799999996,19425.03149999999,309.10065799999944,606.19126699999913,1162.4223379999983]
["2010-05-26",777.00069999999982,45.020097999999919,5.7940871867940308E-2,null,null,null,null,null,null,11.000097999999927,null,null,null,34.019999999999996,null,null,null,null,null,null,null,"2012-01-02",{"$f":"(VLOOKUP($W100,$AG:$AU,10))/7","v":777.0003999999999},{"$f":"VLOOKUP($W100,$AG:$AU,11)/14","v":729.42969285714264},{"$f":"VLOOKUP($W100,$AG:$AU,12)/28","v":697.71542142857118},1.096824595238655E-5,"2012-01-02",{"$f":"(VLOOKUP($AB100,$AG:$AU,8))/7","v":8.5223314923027291E-3},{"$f":"VLOOKUP($AB100,$AG:$AU,9)/14","v":4.2756978415647287E-3},{"$f":"VLOOKUP($AB100,$AG:$AU,10)/28","v":194.25009999999997},null,"2012-01-02",776.99187766850764,{"$f":"Y100-AD100","v":729.42541715930111},503.4653214285712,null,"2010-05-30",5.7196268588058007E-2,5.9656320446119106E-2,5.98597697819062E-2,5439.0027999999993,10212.015699999996,19536.031799999993,311.09066499999949,609.21128099999908,1169.4223659999982]
["2010-05-27",777.0007999999998,45.030098999999922,5.7953735697569335E-2,null,null,null,null,null,null,11.000098999999926,null,null,null,34.029999999999994,null,null,null,null,null,null,null,"2012-01-09",{"$f":"(VLOOKUP($W101,$AG:$AU,10))/7","v":777.00049999999999},{"$f":"VLOOKUP($W101,$AG:$AU,11)/14","v":737.35818571428547},{"$f":"VLOOKUP($W101,$AG:$AU,12)/28","v":701.67971785714246},1.0904095475674974E-5,"2012-01-09",{"$f":"(VLOOKUP($AB101,$AG:$AU,8))/7","v":8.4724876366471923E-3},{"$f":"VLOOKUP($AB101,$AG:$AU,9)/14","v":4.2769905689724972E-3},{"$f":"VLOOKUP($AB101,$AG:$AU,10)/28","v":194.250125},null,"2012-01-09",776.99202751236339,737.35390872371647,507.42959285714244,null,"2010-05-31",5.738563543855036E-2,5.9307413456530345E-2,5.9877867965614957E-2,5439.0034999999998,10323.014599999997,19647.032099999989,312.12067199999944,612.23129499999902,1176.4223939999981]
["2010-05-28",777.00089999999977,44.000099999999925,5.6628119735768569E-2,null,null,null,null,null,null,11.000099999999925,null,null,null,33,null,null,null,null,null,null,null,"2012-01-16",{"$f":"(VLOOKUP($W102,$AG:$AU,10))/7","v":777.00059999999996},{"$f":"VLOOKUP($W102,$AG:$AU,11)/14","v":745.28667857142841},{"$f":"VLOOKUP($W102,$AG:$AU,12)/28","v":705.64401428571387},1.0822984090263359E-5,"2012-01-16",{"$f":"(VLOOKUP($AB102,$AG:$AU,8))/7","v":8.4094651319250834E-3},{"$f":"VLOOKUP($AB102,$AG:$AU,9)/14","v":4.2710384388853799E-3},{"$f":"VLOOKUP($AB102,$AG:$AU,10)/28","v":194.25014999999999},null,"2012-01-16",776.99219053486809,745.28240753298951,511.3938642857139,null,"2010-06-01",5.7383790768170309E-2,5.886625592347558E-2,5.9794538144395323E-2,5439.0041999999994,10434.013499999997,19758.032399999989,312.11067899999949,614.21130899999901,1181.4224219999981]
["2010-05-29",777.00099999999975,44.010100999999921,5.6640983731037584E-2,null,null,null,null,null,null,11.000100999999924,null,null,null,{"$f":"O102+0.01","v":33.01},null,null,null,null,null,null,null,"2012-01-23",{"$f":"(VLOOKUP($W103,$AG:$AU,10))/7","v":777.00069999999971},{"$f":"VLOOKUP($W103,$AG:$AU,11)/14","v":753.21517142857124},{"$f":"VLOOKUP($W103,$AG:$AU,12)/28","v":709.60831071428549},1.0743580285149725E-5,"2012-01-23",{"$f":"(VLOOKUP($AB103,$AG:$AU,8))/7","v":8.3477694020675335E-3},{"$f":"VLOOKUP($AB103,$AG:$AU,9)/14","v":4.2651528131153358E-3},{"$f":"VLOOKUP($AB103,$AG:$AU,10)/28","v":194.25017499999993},null,"2012-01-23",776.99235223059759,753.21090627575813,515.35813571428559,null,"2010-06-02",5.7381946098265073E-2,5.8434385814472738E-2,5.9712139383614707E-2,5439.0048999999981,10545.012399999998,19869.032699999992,312.10068599999948,616.19132299999899,1186.422449999998]
["2010-05-30",777.00109999999972,44.020101999999923,5.6653847722995421E-2,null,null,null,null,null,null,11.000101999999924,null,null,null,33.019999999999996,null,null,null,null,null,null,null,"2012-01-30",{"$f":"(VLOOKUP($W104,$AG:$AU,10))/7","v":777.0007999999998},{"$f":"VLOOKUP($W104,$AG:$AU,11)/14","v":761.14366428571407},{"$f":"VLOOKUP($W104,$AG:$AU,12)/28","v":713.5726071428569},1.0649267010526464E-5,"2012-01-30",{"$f":"(VLOOKUP($AB104,$AG:$AU,8))/7","v":8.2744889865926687E-3},{"$f":"VLOOKUP($AB104,$AG:$AU,9)/14","v":4.2593325832559177E-3},{"$f":"VLOOKUP($AB104,$AG:$AU,10)/28","v":194.25019999999995},null,"2012-01-30",776.99252551101324,761.13940495313079,519.32240714285695,null,"2010-06-03",5.7380101428834623E-2,5.7921422906148684E-2,5.9630656165582843E-2,5439.0055999999986,10656.011299999996,19980.032999999992,312.09069299999942,617.21133699999905,1191.4224779999981]
["2010-05-31",777.0011999999997,44.030102999999919,5.6666711711642059E-2,null,null,null,null,null,null,11.000102999999923,null,null,null,33.029999999999994,null,null,null,null,null,null,null,"2012-02-06",{"$f":"(VLOOKUP($W105,$AG:$AU,10))/7","v":777.00089999999989},{"$f":"VLOOKUP($W105,$AG:$AU,11)/14","v":769.0721571428569},{"$f":"VLOOKUP($W105,$AG:$AU,12)/28","v":717.5369035714283},1.0556898313907678E-5,"2012-02-06",{"$f":"(VLOOKUP($AB105,$AG:$AU,8))/7","v":8.2027194911147468E-3},{"$f":"VLOOKUP($AB105,$AG:$AU,9)/14","v":4.2535766653958671E-3},{"$f":"VLOOKUP($AB105,$AG:$AU,10)/28","v":194.25022499999997},null,"2012-02-06",776.99269728050876,769.06790356619149,523.2866785714283,null,"2010-06-04",5.7201753930676551E-2,5.7419036437803231E-2,5.9550073315542143E-2,5439.0062999999991,10767.010199999997,20091.033299999992,311.12069999999949,618.23135099999888,1196.4225059999981]
["2010-06-01",777.00129999999967,47.000103999999922,6.0489093132791334E-2,null,null,null,null,null,null,11.000103999999922,null,null,null,36,null,null,null,null,null,null,null,"2012-02-13",{"$f":"(VLOOKUP($W106,$AG:$AU,10))/7","v":777.00099999999986},{"$f":"VLOOKUP($W106,$AG:$AU,11)/14","v":777.00064999999995},{"$f":"VLOOKUP($W106,$AG:$AU,12)/28","v":721.50119999999981},1.0516443766343697E-5,"2012-02-13",{"$f":"(VLOOKUP($AB106,$AG:$AU,8))/7","v":8.1712873228928177E-3},{"$f":"VLOOKUP($AB106,$AG:$AU,9)/14","v":4.2549554233278436E-3},{"$f":"VLOOKUP($AB106,$AG:$AU,10)/28","v":194.25024999999997},null,"2012-02-13",776.99282871267701,776.99639504457662,527.25094999999988,null,"2010-06-05",5.756762346509197E-2,5.7199011260249726E-2,5.9569375926589813E-2,5439.0069999999987,10878.009099999999,20202.033599999995,313.11070699999942,622.21136499999898,1203.4225339999982]
["2010-06-02",777.00139999999965,47.010104999999918,6.0501956624531103E-2,null,null,null,null,null,null,11.000104999999921,null,null,null,{"$f":"O106+0.01","v":36.01},null,null,null,null,null,null,null,"2012-02-20",{"$f":"(VLOOKUP($W107,$AG:$AU,10))/7","v":777.00109999999972},{"$f":"VLOOKUP($W107,$AG:$AU,11)/14","v":777.00074999999993},{"$f":"VLOOKUP($W107,$AG:$AU,12)/28","v":725.46549642857121},1.0583710133879145E-5,"2012-02-20",{"$f":"(VLOOKUP($AB107,$AG:$AU,8))/7","v":8.2235544161052398E-3},{"$f":"VLOOKUP($AB107,$AG:$AU,9)/14","v":4.2563191128515429E-3},{"$f":"VLOOKUP($AB107,$AG:$AU,10)/28","v":194.25027499999993},null,"2012-02-20",776.99287644558365,776.99649368088706,531.21522142857134,null,"2010-06-06",5.7933492905332624E-2,5.7564880912736677E-2,5.9588467579921603E-2,5439.0076999999983,10878.010499999999,20313.033899999995,315.10071399999941,626.19137899999907,1210.4225619999982]
["2010-06-03",777.00149999999962,47.020105999999913,6.0514820112959805E-2,null,null,null,null,null,null,11.000105999999921,null,null,null,36.019999999999996,null,null,null,null,null,null,null,"2012-02-27",{"$f":"(VLOOKUP($W108,$AG:$AU,10))/7","v":777.0011999999997},{"$f":"VLOOKUP($W108,$AG:$AU,11)/14","v":777.00084999999979},{"$f":"VLOOKUP($W108,$AG:$AU,12)/28","v":729.42979285714262},1.0634750821632962E-5,"2012-02-27",{"$f":"(VLOOKUP($AB108,$AG:$AU,8))/7","v":8.263214150109794E-3},{"$f":"VLOOKUP($AB108,$AG:$AU,9)/14","v":4.2576679796477871E-3},{"$f":"VLOOKUP($AB108,$AG:$AU,10)/28","v":194.25029999999992},null,"2012-02-27",776.99293678584957,776.9965923320201,535.17949285714269,null,"2010-06-07",5.8299362251398541E-2,5.7842499050768562E-2,5.9607351715069021E-2,5439.0083999999979,10878.011899999998,20424.034199999995,317.09072099999946,629.21139299999902,1217.4225899999981]
["2010-06-04",777.0015999999996,47.030106999999916,6.0527683598077454E-2,null,null,null,null,null,null,11.00010699999992,null,null,null,36.029999999999994,null,null,null,null,null,null,null,"2012-03-05",{"$f":"(VLOOKUP($W109,$AG:$AU,10))/7","v":777.00129999999979},{"$f":"VLOOKUP($W109,$AG:$AU,11)/14","v":777.00094999999976},{"$f":"VLOOKUP($W109,$AG:$AU,12)/28","v":733.39408928571413},1.0685791483110697E-5,"2012-03-05",{"$f":"(VLOOKUP($AB109,$AG:$AU,8))/7","v":8.3028738739059377E-3},{"$f":"VLOOKUP($AB109,$AG:$AU,9)/14","v":4.2590022640853773E-3},{"$f":"VLOOKUP($AB109,$AG:$AU,10)/28","v":194.25032499999995},null,"2012-03-05",776.99299712612583,776.99669099773564,539.14376428571416,null,"2010-06-08",5.8856442803156842E-2,5.8120117117341559E-2,5.9626031697195277E-2,5439.0090999999984,10878.013299999997,20535.034499999994,320.12072799999947,632.23140699999897,1224.4226179999982]
["2010-06-05",777.00169999999957,48.000107999999919,6.1776065612211592E-2,null,null,null,null,null,null,11.000107999999919,null,null,null,37,null,null,null,null,null,null,null,"2012-03-12",{"$f":"(VLOOKUP($W110,$AG:$AU,10))/7","v":777.00139999999976},{"$f":"VLOOKUP($W110,$AG:$AU,11)/14","v":777.00104999999974},{"$f":"VLOOKUP($W110,$AG:$AU,12)/28","v":737.35838571428553},1.0753057755111971E-5,"2012-03-12",{"$f":"(VLOOKUP($AB110,$AG:$AU,8))/7","v":8.3551409300028565E-3},{"$f":"VLOOKUP($AB110,$AG:$AU,9)/14","v":4.2603222013638826E-3},{"$f":"VLOOKUP($AB110,$AG:$AU,10)/28","v":194.25034999999994},null,"2012-03-12",776.99304485906976,776.99678967779835,543.10803571428562,null,"2010-06-09",5.9590025927145698E-2,5.8485986510019995E-2,5.9644510819094353E-2,5439.009799999998,10878.014699999996,20646.034799999994,324.11073499999941,636.21142099999895,1231.4226459999982]
["2010-06-06",777.00179999999955,48.010108999999915,6.1788928931696095E-2,null,null,null,null,null,null,11.000108999999918,null,null,null,{"$f":"O110+0.01","v":37.01},null,null,null,null,null,null,null,"2012-03-19",{"$f":"(VLOOKUP($W111,$AG:$AU,10))/7","v":777.00149999999951},{"$f":"VLOOKUP($W111,$AG:$AU,11)/14","v":777.00114999999983},{"$f":"VLOOKUP($W111,$AG:$AU,12)/28","v":741.32268214285693},{"$f":"AC111/X111","v":1.0820323992484242E-5},"2012-03-19",{"$f":"(VLOOKUP($AB111,$AG:$AU,8))/7","v":8.40740797264624E-3},{"$f":"VLOOKUP($AB111,$AG:$AU,9)/14","v":4.2616280216518651E-3},{"$f":"VLOOKUP($AB111,$AG:$AU,10)/28","v":194.25037499999988},null,"2012-03-19",776.99309259202687,776.99688837197823,547.07230714285708,null,"2010-06-10",6.0323608862310453E-2,5.885185580852368E-2,5.9662792303126107E-2,5439.0104999999967,10878.016099999997,20757.035099999994,328.1007419999994,640.19143499999893,1238.4226739999981]
["2010-06-07",777.00189999999952,48.020109999999917,6.1801792247869594E-2,null,null,null,null,null,null,11.000109999999918,null,null,null,37.019999999999996,null,null,null,null,null,null,null,"2012-03-26",{"$f":"(VLOOKUP($W112,$AG:$AU,10))/7","v":777.0015999999996},{"$f":"VLOOKUP($W112,$AG:$AU,11)/14","v":777.00124999999957},{"$f":"VLOOKUP($W112,$AG:$AU,12)/28","v":745.28697857142834},{"$f":"AC112/X112","v":1.0871364566780874E-5},"2012-03-26",{"$f":"(VLOOKUP($AB112,$AG:$AU,8))/7","v":8.4470676625720414E-3},{"$f":"VLOOKUP($AB112,$AG:$AU,9)/14","v":4.262919950220676E-3},{"$f":"VLOOKUP($AB112,$AG:$AU,10)/28","v":194.2503999999999},null,"2012-03-26",776.99315293233701,776.99698708004939,551.03657857142844,null,"2010-06-11",6.1057191608651147E-2,5.912947363800429E-2,5.9680879303089469E-2,5439.0111999999972,10878.017499999994,20868.035399999993,332.09074899999945,643.21144899999899,1245.422701999998]
["2010-06-08",777.0019999999995,48.030110999999913,6.1814655560732075E-2,null,null,null,null,null,null,11.000110999999917,null,null,null,37.029999999999994,null,null,null,null,null,null,null,"2012-04-02",{"$f":"(VLOOKUP($W113,$AG:$AU,10))/7","v":777.00169999999969},{"$f":"VLOOKUP($W113,$AG:$AU,11)/14","v":777.00134999999966},{"$f":"VLOOKUP($W113,$AG:$AU,12)/28","v":749.25127499999974},1.092240511480148E-5,"2012-04-02",{"$f":"(VLOOKUP($AB113,$AG:$AU,8))/7","v":8.486727342289441E-3},{"$f":"VLOOKUP($AB113,$AG:$AU,9)/14","v":4.2641982075740182E-3},{"$f":"VLOOKUP($AB113,$AG:$AU,10)/28","v":194.25042499999992},null,"2012-04-02",776.99321327265739,776.99708580179208,555.00084999999979,null,"2010-06-12",6.1246557669785498E-2,5.9407091396026082E-2,5.9698774906036249E-2,5439.0118999999977,10878.018899999995,20979.035699999993,333.12075599999946,646.23146299999883,1252.4227299999982]
["2010-06-09",777.00209999999947,49.000111999999916,6.3063036766567229E-2,null,null,null,null,null,null,11.000111999999916,null,null,null,38,null,null,null,null,null,null,null,"2012-04-09",{"$f":"(VLOOKUP($W114,$AG:$AU,10))/7","v":777.00179999999966},{"$f":"VLOOKUP($W114,$AG:$AU,11)/14","v":777.00144999999964},{"$f":"VLOOKUP($W114,$AG:$AU,12)/28","v":753.21557142857102},1.0989671256639799E-5,"2012-04-09",{"$f":"(VLOOKUP($AB114,$AG:$AU,8))/7","v":8.5389943478173819E-3},{"$f":"VLOOKUP($AB114,$AG:$AU,9)/14","v":4.2654630095734E-3},{"$f":"VLOOKUP($AB114,$AG:$AU,10)/28","v":194.25044999999992},null,"2012-04-09",776.99326100565179,776.99718453699006,558.96512142857114,null,"2010-06-13",6.1612426306936599E-2,5.9772960434721668E-2,5.9716482134027596E-2,5439.0125999999973,10878.020299999995,21090.035999999989,335.11076299999945,650.21147699999881,1259.4227579999981]
["2010-06-10",777.00219999999945,49.010112999999912,6.3075899913796835E-2,null,null,null,null,null,null,11.000112999999915,null,null,null,{"$f":"O114+0.01","v":38.01},null,null,null,null,null,null,null,"2012-04-16",{"$f":"(VLOOKUP($W115,$AG:$AU,10))/7","v":777.00189999999952},{"$f":"VLOOKUP($W115,$AG:$AU,11)/14","v":777.00154999999972},{"$f":"VLOOKUP($W115,$AG:$AU,12)/28","v":757.17986785714243},1.1056937363849193E-5,"2012-04-16",{"$f":"(VLOOKUP($AB115,$AG:$AU,8))/7","v":8.5912613398918085E-3},{"$f":"VLOOKUP($AB115,$AG:$AU,9)/14","v":4.2667145675596681E-3},{"$f":"VLOOKUP($AB115,$AG:$AU,10)/28","v":194.25047499999988},null,"2012-04-16",776.99330873865961,776.99728328543222,562.9293928571426,null,"2010-06-14",6.197829484991324E-2,6.0138829379242656E-2,5.9734003945835348E-2,5439.0132999999969,10878.021699999996,21201.036299999989,337.10076999999944,654.1914909999989,1266.4227859999978]
["2010-06-11",777.00229999999942,49.020113999999907,6.3088763057715463E-2,null,null,null,null,null,null,11.000113999999915,null,null,null,38.019999999999996,null,null,null,null,null,null,null,"2012-04-23",{"$f":"(VLOOKUP($W116,$AG:$AU,10))/7","v":777.0019999999995},{"$f":"VLOOKUP($W116,$AG:$AU,11)/14","v":777.00164999999981},{"$f":"VLOOKUP($W116,$AG:$AU,12)/28","v":761.14416428571406},1.1141781182482185E-5,"2012-04-23",{"$f":"(VLOOKUP($AB116,$AG:$AU,8))/7","v":8.6571862623510167E-3},{"$f":"VLOOKUP($AB116,$AG:$AU,9)/14","v":4.2679530884707339E-3},{"$f":"VLOOKUP($AB116,$AG:$AU,10)/28","v":194.25049999999987},null,"2012-04-23",776.99334281373717,{"$f":"Y116-AD116","v":776.9973820469113},566.89366428571418,null,"2010-06-15",6.2344163298715477E-2,6.060030383645712E-2,5.9751343238590271E-2,5439.0139999999965,10878.023099999997,21312.036599999992,339.09077699999943,659.21150499999897,1273.422813999998]
["2010-06-12",777.0023999999994,49.03011499999991,6.310162619832313E-2,null,null,null,null,null,null,11.000114999999914,null,null,null,38.029999999999994,null,null,null,null,null,null,null,"2012-04-30",{"$f":"(VLOOKUP($W117,$AG:$AU,10))/7","v":777.00209999999959},{"$f":"VLOOKUP($W117,$AG:$AU,11)/14","v":777.00174999999956},{"$f":"VLOOKUP($W117,$AG:$AU,12)/28","v":765.10846071428546},1.1226624957437281E-5,"2012-04-30",{"$f":"(VLOOKUP($AB117,$AG:$AU,8))/7","v":8.7231111678411737E-3},{"$f":"VLOOKUP($AB117,$AG:$AU,9)/14","v":4.269178774955632E-3},{"$f":"VLOOKUP($AB117,$AG:$AU,10)/28","v":194.2505249999999},null,"2012-04-30",776.99337688883179,776.9974808212246,570.85793571428553,null,"2010-06-16",6.2533529096731363E-2,6.1061778174888212E-2,5.9768502849378846E-2,5439.014699999997,10878.024499999994,21423.036899999992,340.12078399999939,664.23151899999891,1280.4228419999977]
["2010-06-13",776,50.000115999999913,6.4433139175257614E-2,null,null,null,null,null,null,11.000115999999913,null,null,null,39,null,null,null,null,null,null,null,"2012-05-07",{"$f":"(VLOOKUP($W118,$AG:$AU,10))/7","v":776.85898571428527},{"$f":"VLOOKUP($W118,$AG:$AU,11)/14","v":776.9302428571425},{"$f":"VLOOKUP($W118,$AG:$AU,12)/28","v":769.03695357142817},1.13308267867261E-5,"2012-05-07",{"$f":"(VLOOKUP($AB118,$AG:$AU,8))/7","v":8.8024546048402919E-3},{"$f":"VLOOKUP($AB118,$AG:$AU,9)/14","v":4.2705906394406787E-3},{"$f":"VLOOKUP($AB118,$AG:$AU,10)/28","v":194.21474642857132},null,"2012-05-07",776.85018325968042,776.92597226650309,574.82220714285688,null,"2010-06-17",6.2910992910664029E-2,6.1617182233882038E-2,5.9788268952169502E-2,5438.012899999997,10877.023399999995,21533.034699999989,342.11079099999938,670.21153299999889,1287.4228699999978]
["2010-06-14",67,50.010116999999909,0.74641965671641652,null,null,null,null,null,null,11.000116999999912,null,null,null,{"$f":"O118+0.01","v":39.01},null,null,null,null,null,null,null,"2012-05-14",{"$f":"(VLOOKUP($W119,$AG:$AU,10))/7","v":675.43014285714241},{"$f":"VLOOKUP($W119,$AG:$AU,11)/14","v":726.21587142857118},{"$f":"VLOOKUP($W119,$AG:$AU,12)/28","v":747.64401428571387},1.4066870432115905E-5,"2012-05-14",{"$f":"(VLOOKUP($AB119,$AG:$AU,8))/7","v":9.5011883055169579E-3},{"$f":"VLOOKUP($AB119,$AG:$AU,9)/14","v":4.4166731311914521E-3},{"$f":"VLOOKUP($AB119,$AG:$AU,10)/28","v":168.8575357142856},null,"2012-05-14",675.42064166883688,726.21145475543995,578.78647857142823,null,"2010-06-18",7.2779187273464399E-2,6.6508318138618711E-2,6.1833423836680335E-2,4728.0109999999968,10167.022199999996,20934.032399999989,344.10079799999943,676.19154699999888,1294.4228979999978]
["2010-06-15",67.000100000000003,50.020117999999911,0.74656781109281789,null,null,null,null,null,null,11.000117999999912,null,null,null,39.019999999999996,null,null,null,null,null,null,null,"2012-05-21",{"$f":"(VLOOKUP($W120,$AG:$AU,10))/7","v":574.00129999999967},{"$f":"VLOOKUP($W120,$AG:$AU,11)/14","v":675.50149999999962},{"$f":"VLOOKUP($W120,$AG:$AU,12)/28","v":726.25107499999979},1.7874742744159083E-5,"2012-05-21",{"$f":"(VLOOKUP($AB120,$AG:$AU,8))/7","v":1.0260125572312876E-2},{"$f":"VLOOKUP($AB120,$AG:$AU,9)/14","v":4.5713618308620696E-3},{"$f":"VLOOKUP($AB120,$AG:$AU,10)/28","v":143.50032499999992},null,"2012-05-21",573.99103987442732,675.49692863816881,582.75074999999993,null,"2010-06-19",8.6134898250976963E-2,7.1820879006190136E-2,6.3999065632068974E-2,4018.0090999999979,9457.0209999999952,20335.030099999993,346.09080499999936,679.21156099999894,1301.4229259999977]
["2010-06-16",67.000200000000007,50.030118999999907,0.74671596502696858,null,null,null,null,null,null,11.000118999999911,null,null,null,39.029999999999994,null,null,null,null,null,null,null,"2012-05-28",{"$f":"(VLOOKUP($W121,$AG:$AU,10))/7","v":472.57245714285693},{"$f":"VLOOKUP($W121,$AG:$AU,11)/14","v":624.78712857142818},{"$f":"VLOOKUP($W121,$AG:$AU,12)/28","v":700.89393928571428},2.3577907512063576E-5,"2012-05-28",{"$f":"(VLOOKUP($AB121,$AG:$AU,8))/7","v":1.114226968726291E-2},{"$f":"VLOOKUP($AB121,$AG:$AU,9)/14","v":4.7622235991437575E-3},{"$f":"VLOOKUP($AB121,$AG:$AU,10)/28","v":118.14311428571423},null,"2012-05-28",472.56131487316969,624.782366347829,582.75082500000008,null,"2010-06-20",0.10493351163201807,7.7995887810840367E-2,6.6671130388012603E-2,3308.0071999999986,8747.0197999999946,19625.030299999999,347.12081199999938,682.23157499999888,1308.4229539999981]
["2010-06-17",67.00030000000001,51.00011999999991,0.76119241257128556,null,null,null,null,null,null,11.00011999999991,null,null,null,40,null,null,null,null,null,null,null,"2012-06-04",{"$f":"(VLOOKUP($W122,$AG:$AU,10))/7","v":371.14361428571414},{"$f":"VLOOKUP($W122,$AG:$AU,11)/14","v":574.07275714285686},{"$f":"VLOOKUP($W122,$AG:$AU,12)/28","v":675.53680357142832},3.2864198282136928E-5,"2012-06-04",{"$f":"(VLOOKUP($AB122,$AG:$AU,8))/7","v":1.2197337331034657E-2},{"$f":"VLOOKUP($AB122,$AG:$AU,9)/14","v":4.9674138473406806E-3},{"$f":"VLOOKUP($AB122,$AG:$AU,10)/28","v":92.785903571428534},null,"2012-06-04",371.13141694838311,574.06778972900952,582.75089999999977,null,"2010-06-21",0.13437648452834161,8.5381361317242596E-2,6.9543793862769529E-2,2598.0052999999989,8037.0185999999958,18915.030499999993,349.11081899999937,686.21158899999887,1315.422981999998]
["2010-06-18",67.000400000000013,51.010120999999906,0.76134054423555519,null,null,null,null,null,null,11.000120999999909,null,null,null,{"$f":"O122+0.01","v":40.01},null,null,null,null,null,null,null,"2012-06-11",{"$f":"(VLOOKUP($W123,$AG:$AU,10))/7","v":269.71477142857128},{"$f":"VLOOKUP($W123,$AG:$AU,11)/14","v":523.35838571428542},{"$f":"VLOOKUP($W123,$AG:$AU,12)/28","v":650.17966785714259},4.9893006669326676E-5,"2012-06-11",{"$f":"(VLOOKUP($AB123,$AG:$AU,8))/7","v":1.3456880889701628E-2},{"$f":"VLOOKUP($AB123,$AG:$AU,9)/14","v":5.1886090161095593E-3},{"$f":"VLOOKUP($AB123,$AG:$AU,10)/28","v":67.428692857142821},null,"2012-06-11",269.70131454768159,523.35319710526926,582.75097499999981,null,"2010-06-22",0.18596408565789632,9.4198166227911398E-2,7.2640526225533825E-2,1888.0033999999991,7327.0173999999961,18205.030699999992,351.10082599999936,690.19160299999885,1322.4230099999977]
["2010-06-19",67.000500000000017,51.020121999999901,0.7614886754576442,null,null,null,null,null,null,11.000121999999909,null,null,null,40.019999999999996,null,null,null,null,null,null,null,"2012-06-18",{"$f":"(VLOOKUP($W124,$AG:$AU,10))/7","v":168.28592857142854},{"$f":"VLOOKUP($W124,$AG:$AU,11)/14","v":472.64401428571409},{"$f":"VLOOKUP($W124,$AG:$AU,12)/28","v":624.82253214285686},8.8931945005847751E-5,"2012-06-18",{"$f":"(VLOOKUP($AB124,$AG:$AU,8))/7","v":1.4965994944972307E-2},{"$f":"VLOOKUP($AB124,$AG:$AU,9)/14","v":5.4277576856735536E-3},{"$f":"VLOOKUP($AB124,$AG:$AU,10)/28","v":42.071482142857135},null,"2012-06-18",168.27096257648358,472.63858652802844,582.75104999999974,null,"2010-06-23",0.29973716756727337,0.10476196461480615,7.5988607599429756E-2,1178.0014999999999,6617.0161999999973,17495.030899999991,353.09083299999935,693.2116169999988,1329.4230379999976]
["2010-06-20",67.00060000000002,51.030122999999904,0.76163680623755436,null,null,null,null,null,null,11.000122999999908,null,null,null,40.029999999999994,null,null,null,null,null,null,null,"2012-06-25",{"$f":"(VLOOKUP($W125,$AG:$AU,10))/7","v":67.00030000000001},{"$f":"VLOOKUP($W125,$AG:$AU,11)/14","v":421.92964285714271},{"$f":"VLOOKUP($W125,$AG:$AU,12)/28","v":599.46539642857113},2.5131064751281261E-4,"2012-06-25",{"$f":"(VLOOKUP($AB125,$AG:$AU,8))/7","v":1.6837888776552699E-2},{"$f":"VLOOKUP($AB125,$AG:$AU,9)/14","v":5.6871381327718426E-3},{"$f":"VLOOKUP($AB125,$AG:$AU,10)/28","v":16.750075000000002},null,"2012-06-25",66.98346211122346,421.92395571900994,582.71532142857109,null,"2010-06-24",0.7550517151202506,0.11786522143586889,7.9619933858805794E-2,469.0021000000001,5907.0149999999976,16785.031099999993,354.12083999999936,696.23163099999874,1336.4230659999978]
["2010-06-21",67.000700000000023,52.000123999999907,0.77611314508654217,null,null,null,null,null,null,11.000123999999907,null,null,null,41,null,null,null,null,null,null,null,"2012-07-02",{"$f":"(VLOOKUP($W126,$AG:$AU,10))/7","v":67.000400000000013},{"$f":"VLOOKUP($W126,$AG:$AU,11)/14","v":371.21527142857121},{"$f":"VLOOKUP($W126,$AG:$AU,12)/28","v":574.10826071428551},2.8727644879028314E-4,"2012-07-02",{"$f":"(VLOOKUP($AB126,$AG:$AU,8))/7","v":1.9247636979528492E-2},{"$f":"VLOOKUP($AB126,$AG:$AU,9)/14","v":5.9694311406144089E-3},{"$f":"VLOOKUP($AB126,$AG:$AU,10)/28","v":16.750100000000003},null,"2012-07-02",66.981152363020485,371.2093019974306,557.35816071428553,null,"2010-06-25",0.75929364814026545,0.13473345885669943,8.3572035968601729E-2,469.00280000000009,5197.013799999997,16075.031299999993,356.11084699999935,700.21164499999873,1343.4230939999979]
["2010-06-22",67.000800000000027,52.010124999999903,0.77626125359697018,null,null,null,null,null,null,11.000124999999906,null,null,null,{"$f":"O126+0.01","v":41.01},null,null,null,null,null,null,null,"2012-07-09",{"$f":"(VLOOKUP($W127,$AG:$AU,10))/7","v":67.000500000000017},{"$f":"VLOOKUP($W127,$AG:$AU,11)/14","v":320.50089999999983},{"$f":"VLOOKUP($W127,$AG:$AU,12)/28","v":548.75112499999977},3.346243216953289E-4,"2012-07-09",{"$f":"(VLOOKUP($AB127,$AG:$AU,8))/7","v":2.2419996865747891E-2},{"$f":"VLOOKUP($AB127,$AG:$AU,9)/14","v":6.2778129956044234E-3},{"$f":"VLOOKUP($AB127,$AG:$AU,10)/28","v":16.750125000000004},null,"2012-07-09",66.978080003134266,320.49462218700421,532.00099999999975,null,"2010-06-26",0.76353556849788806,0.15693997806023524,8.7889381938461922E-2,469.00350000000014,4487.0125999999973,15365.031499999994,358.10085399999934,704.19165899999871,1350.4231219999979]
["2010-06-23",67.00090000000003,52.020125999999905,0.77640936166528929,null,null,null,null,null,null,11.000125999999906,null,null,null,41.019999999999996,null,null,null,null,null,null,null,"2012-07-16",{"$f":"(VLOOKUP($W128,$AG:$AU,10))/7","v":67.000600000000006},{"$f":"VLOOKUP($W128,$AG:$AU,11)/14","v":269.78652857142845},{"$f":"VLOOKUP($W128,$AG:$AU,12)/28","v":523.39398928571404},3.9923112525916719E-4,"2012-07-16",{"$f":"(VLOOKUP($AB128,$AG:$AU,8))/7","v":2.6748724931039358E-2},{"$f":"VLOOKUP($AB128,$AG:$AU,9)/14","v":6.6160755168186555E-3},{"$f":"VLOOKUP($AB128,$AG:$AU,10)/28","v":16.750150000000001},null,"2012-07-16",66.973851275068967,269.77991249591162,506.64383928571402,null,"2010-06-27",0.76777747619317538,0.18724107451727551,9.2625057235461175E-2,469.00420000000008,3777.0113999999985,14655.031699999994,360.09086099999934,707.21167299999877,1357.4231499999973]
["2010-06-24",67.001000000000033,52.030126999999901,0.77655746929150127,null,null,null,null,null,null,11.000126999999905,null,null,null,41.029999999999994,null,null,null,null,null,null,null,"2012-07-23",{"$f":"(VLOOKUP($W129,$AG:$AU,10))/7","v":67.000700000000023},{"$f":"VLOOKUP($W129,$AG:$AU,11)/14","v":219.07215714285707},{"$f":"VLOOKUP($W129,$AG:$AU,12)/28","v":498.03685357142842},4.9375038131578217E-4,"2012-07-23",{"$f":"(VLOOKUP($AB129,$AG:$AU,8))/7","v":3.3081621173424336E-2},{"$f":"VLOOKUP($AB129,$AG:$AU,9)/14","v":6.9887827526999985E-3},{"$f":"VLOOKUP($AB129,$AG:$AU,10)/28","v":16.750175000000006},null,"2012-07-23",66.9676183788266,219.06516836010437,481.28667857142841,null,"2010-06-28",0.76997248429600451,0.23157134821397035,9.7842958537799979E-2,469.00490000000019,3067.0101999999988,13945.031899999996,361.12086799999929,710.2316869999986,1364.4231779999977]
["2010-06-25",67.001100000000037,{"$f":"SUM(K130:Q130)","v":53.000127999999904},0.79103369944672364,null,null,null,null,null,null,11.000127999999904,null,null,null,42,null,null,null,null,null,null,null,"2012-07-30",{"$f":"(VLOOKUP($W130,$AG:$AU,10))/7","v":67.000800000000027},{"$f":"VLOOKUP($W130,$AG:$AU,11)/14","v":168.35778571428568},{"$f":"VLOOKUP($W130,$AG:$AU,12)/28","v":472.67971785714275},6.4608207470600047E-4,"2012-07-30",{"$f":"(VLOOKUP($AB130,$AG:$AU,8))/7","v":4.3288015870961816E-2},{"$f":"VLOOKUP($AB130,$AG:$AU,9)/14","v":7.4122719786549251E-3},{"$f":"VLOOKUP($AB130,$AG:$AU,10)/28","v":16.750200000000007},null,"2012-07-30",66.95751198412907,168.35037344230702,455.92951785714274,null,"2010-06-29",0.77421436972180957,0.30301611109673271,0.10377180770116895,469.00560000000019,2357.0089999999996,13235.032099999997,363.11087499999928,714.2117009999987,1373.4232059999979]
["2010-06-26",67.00120000000004,53.0101289999999,{"$f":"C131/B131","v":0.79118178480385226},null,null,null,null,null,null,11.000128999999903,null,null,null,{"$f":"O130+0.01","v":42.01},null,null,null,null,null,null,null,"2012-08-06",{"$f":"(VLOOKUP($W131,$AG:$AU,10))/7","v":67.00090000000003},{"$f":"VLOOKUP($W131,$AG:$AU,11)/14","v":117.64341428571427},{"$f":"VLOOKUP($W131,$AG:$AU,12)/28","v":447.32258214285696},9.297497246628549E-4,"2012-08-06",{"$f":"(VLOOKUP($AB131,$AG:$AU,8))/7","v":6.2294068327163506E-2},{"$f":"VLOOKUP($AB131,$AG:$AU,9)/14","v":7.8837734186350643E-3},{"$f":"VLOOKUP($AB131,$AG:$AU,10)/28","v":16.750225000000007},null,"2012-08-06",66.938605931672868,117.63553051229563,430.57235714285696,null,"2010-06-30",0.7784562424854401,0.43605847829014455,0.11037282786089091,469.00630000000024,1647.0077999999999,12525.032299999995,365.10088199999927,718.19171499999868,1382.423233999998]
["2010-06-27",{"$f":"B131+0.0001","v":67.001300000000043},53.020129999999895,0.7913298697189437,null,null,null,null,null,null,{"$f":"K131+0.000001","v":11.000129999999903},null,null,null,42.019999999999996,null,null,null,null,null,null,null,"2012-08-13",{"$f":"(VLOOKUP($W132,$AG:$AU,10))/7","v":67.001000000000019},{"$f":"VLOOKUP($W132,$AG:$AU,11)/14","v":67.000650000000022},{"$f":"VLOOKUP($W132,$AG:$AU,12)/28","v":421.96544642857128},1.6393678155413771E-3,"2012-08-13",{"$f":"(VLOOKUP($AB132,$AG:$AU,8))/7","v":0.10983928300908784},{"$f":"VLOOKUP($AB132,$AG:$AU,9)/14","v":8.4119426550153583E-3},{"$f":"VLOOKUP($AB132,$AG:$AU,10)/28","v":16.750250000000005},null,"2012-08-13",{"$f":"X132-AC132","v":66.891160716990925},{"$f":"Y132-AD132","v":66.992238057345006},405.21519642857129,null,"2010-07-01",0.78269810258695316,0.76887498106361485,0.11776719717021501,469.00700000000018,938.00910000000033,11815.032499999996,367.09088899999927,721.21172899999863,1391.423261999998]
["2010-06-28",67.001400000000046,99.000130999999897,1.4775830206532972,null,null,null,null,null,null,11.000130999999902,null,null,null,88,null,null,null,null,null,null,null,{"$f":"W132+7","v":"2012-08-20"},{"$f":"(VLOOKUP($W133,$AG:$AU,10))/7","v":67.001100000000037},{"$f":"VLOOKUP($W133,$AG:$AU,11)/14","v":67.000750000000025},{"$f":"VLOOKUP($W133,$AG:$AU,12)/28","v":396.60831071428555},1.7507205292781698E-3,{"$f":"AB132+7","v":"2012-08-20"},{"$f":"(VLOOKUP($AB133,$AG:$AU,8))/7","v":0.11730020125421965},{"$f":"VLOOKUP($AB133,$AG:$AU,9)/14","v":9.303332031482564E-3},{"$f":"VLOOKUP($AB133,$AG:$AU,10)/28","v":16.750275000000009},null,{"$f":"AG132+7","v":"2012-08-20"},66.883799798745812,66.991446667968546,379.85803571428556,null,"2010-07-02",0.88290852367668815,0.82110140877953752,0.1302466484407559,469.00770000000028,938.01050000000032,11105.032699999996,414.0908959999993,770.2017429999986,1446.3932899999977]
["2010-06-29",777,54.000131999999901,6.9498239382239257E-2,null,null,null,null,null,null,11.000131999999901,null,null,null,43,null,null,null,null,null,null,null,"2012-08-27",{"$f":"(VLOOKUP($W134,$AG:$AU,10))/7","v":168.42955714285719},{"$f":"VLOOKUP($W134,$AG:$AU,11)/14","v":117.71502857142859},{"$f":"VLOOKUP($W134,$AG:$AU,12)/28","v":396.60826428571414},3.9844340102182518E-4,"2012-08-27",{"$f":"(VLOOKUP($AB134,$AG:$AU,8))/7","v":6.7109645580599869E-2},{"$f":"VLOOKUP($AB134,$AG:$AU,9)/14","v":9.3483579369772248E-3},{"$f":"VLOOKUP($AB134,$AG:$AU,10)/28","v":42.107389285714298},null,"2012-08-27",168.36244749727661,117.70568021349162,354.50087499999984,null,"2010-07-03",0.35290794566172529,0.46976751906419911,0.13087701111768116,1179.0069000000003,1648.0104000000003,11105.031399999996,416.0809029999993,774.18175699999858,1453.3933179999979]
["2010-06-30",777.00009999999997,54.010132999999897,6.9511101736022818E-2,null,null,null,null,null,null,11.0001329999999,null,null,null,{"$f":"O134+0.01","v":43.01},null,null,null,null,null,null,null,"2012-09-03",{"$f":"(VLOOKUP($W135,$AG:$AU,10))/7","v":269.85801428571432},{"$f":"VLOOKUP($W135,$AG:$AU,11)/14","v":168.42930714285714},{"$f":"VLOOKUP($W135,$AG:$AU,12)/28","v":396.60821785714268},1.746991665694285E-4,"2012-09-03",{"$f":"(VLOOKUP($AB135,$AG:$AU,8))/7","v":4.7143970187795224E-2},{"$f":"VLOOKUP($AB135,$AG:$AU,9)/14","v":9.3933838530137204E-3},{"$f":"VLOOKUP($AB135,$AG:$AU,10)/28","v":67.46450357142858},null,"2012-09-03",269.81087031552653,168.41991375900412,329.14371428571411,null,"2010-07-04",0.22131792480712434,0.33000779131456659,0.13150737394219209,1889.0061000000003,2358.0102999999999,11105.030099999994,418.07090999999929,778.16177099999857,1460.393345999998]
["2010-07-01",777.00019999999995,54.020133999999899,6.952396408649561E-2,null,null,null,null,null,null,11.0001339999999,null,null,null,43.019999999999996,null,null,null,null,null,null,null,"2012-09-10",{"$f":"(VLOOKUP($W136,$AG:$AU,10))/7","v":371.28647142857142},{"$f":"VLOOKUP($W136,$AG:$AU,11)/14","v":219.14358571428573},{"$f":"VLOOKUP($W136,$AG:$AU,12)/28","v":396.60817142857132},9.7968880173813656E-5,"2012-09-10",{"$f":"(VLOOKUP($AB136,$AG:$AU,8))/7","v":3.6374519829543803E-2},{"$f":"VLOOKUP($AB136,$AG:$AU,9)/14","v":9.438409779592042E-3},{"$f":"VLOOKUP($AB136,$AG:$AU,10)/28","v":92.821617857142854},null,"2012-09-10",371.25009690874185,219.13414730450614,303.7865535714285,null,"2010-07-05",0.16162372466112296,0.2546216388068066,0.13213773691428859,2599.0052999999998,3068.0102000000002,11105.028799999996,420.06091699999922,781.18178499999851,1467.3933739999975]
["2010-07-02",777.00029999999992,54.030134999999895,6.953682643365762E-2,null,null,null,null,null,null,11.000134999999899,null,null,null,43.029999999999994,null,null,null,null,null,null,null,"2012-09-17",{"$f":"(VLOOKUP($W137,$AG:$AU,10))/7","v":472.71492857142857},{"$f":"VLOOKUP($W137,$AG:$AU,11)/14","v":269.8578642857143},{"$f":"VLOOKUP($W137,$AG:$AU,12)/28","v":396.60812499999986},6.2728855218725264E-5,"2012-09-17",{"$f":"(VLOOKUP($AB137,$AG:$AU,8))/7","v":2.9652866314087197E-2},{"$f":"VLOOKUP($AB137,$AG:$AU,9)/14","v":9.4834357167122105E-3},{"$f":"VLOOKUP($AB137,$AG:$AU,10)/28","v":118.17873214285714},null,"2012-09-17",472.68527570511446,269.84838084999757,278.42939285714272,null,"2010-07-06",0.12725607474997369,0.20757006419861038,0.13276810003397094,3309.0045,3778.0101000000004,11105.027499999997,421.09092399999935,784.20179899999846,1474.3934019999979]
["2010-07-03",777.0003999999999,55.000135999999898,7.0785209376983474E-2,null,null,null,null,null,null,11.000135999999898,null,null,null,44,null,null,null,null,null,null,null,"2012-09-24",{"$f":"(VLOOKUP($W138,$AG:$AU,10))/7","v":574.14338571428573},{"$f":"VLOOKUP($W138,$AG:$AU,11)/14","v":320.57214285714286},{"$f":"VLOOKUP($W138,$AG:$AU,12)/28","v":396.60807857142845},4.369725816555773E-5,"2012-09-24",{"$f":"(VLOOKUP($AB138,$AG:$AU,8))/7","v":2.5088491749604532E-2},{"$f":"VLOOKUP($AB138,$AG:$AU,9)/14","v":9.5284616643742156E-3},{"$f":"VLOOKUP($AB138,$AG:$AU,10)/28","v":143.53584642857143},null,"2012-09-24",574.11829722253617,320.56261439547848,253.07223214285702,null,"2010-07-07",{"$f":"AS138/AP138","v":0.10527010238880825},0.17561944224723172,0.13339846330123903,{"$f":"SUM(B132:B138)","v":4019.0037000000002},4488.01,11105.026199999997,{"$f":"SUM(C132:C138)","v":423.08093099999923},788.18181299999844,1481.3934299999976]
["2010-07-04",777.00049999999987,55.010136999999894,7.0798071558512379E-2,null,null,null,null,null,null,11.000136999999897,null,null,null,{"$f":"O138+0.01","v":44.01},null,null,null,null,null,null,null,"2012-10-01",{"$f":"(VLOOKUP($W139,$AG:$AU,10))/7","v":675.57184285714277},{"$f":"VLOOKUP($W139,$AG:$AU,11)/14","v":371.28642142857143},{"$f":"VLOOKUP($W139,$AG:$AU,12)/28","v":396.6080321428571},3.222606123320076E-5,"2012-10-01",{"$f":"(VLOOKUP($AB139,$AG:$AU,8))/7","v":2.1771019575340566E-2},{"$f":"VLOOKUP($AB139,$AG:$AU,9)/14","v":9.5734876225780727E-3},{"$f":"VLOOKUP($AB139,$AG:$AU,10)/28","v":168.89296071428569},null,"2012-10-01",675.55007183756743,371.27684794094887,227.71507142857141,null,"2010-07-08",8.9885954182857289E-2,0.15239713702738397,0.13402882671609301,4729.0028999999995,5198.0099,11105.024899999999,425.07093799999922,792.16182699999842,1488.3934579999977]
["2010-07-05",777.00059999999985,55.020137999999889,7.0810933736730572E-2,null,null,null,null,null,null,11.000137999999897,null,null,null,44.019999999999996,null,null,null,null,null,null,null,"2012-10-08",{"$f":"(VLOOKUP($W140,$AG:$AU,10))/7","v":777.00029999999992},{"$f":"VLOOKUP($W140,$AG:$AU,11)/14","v":422.00069999999999},{"$f":"VLOOKUP($W140,$AG:$AU,12)/28","v":396.60798571428552},2.4746057647076447E-5,"2012-10-08",{"$f":"(VLOOKUP($AB140,$AG:$AU,8))/7","v":1.9227694215595691E-2},{"$f":"VLOOKUP($AB140,$AG:$AU,9)/14","v":9.6185135913237768E-3},{"$f":"VLOOKUP($AB140,$AG:$AU,10)/28","v":194.25007499999998},null,"2012-10-08",776.98107230578432,421.99108148640869,202.35791071428554,null,"2010-07-09",7.0066335330151691E-2,0.13459385950916983,0.13465919027853288,5439.0020999999997,5908.0097999999998,11105.023599999995,381.09094499999924,795.18184099999849,1495.3934859999974]
["2010-07-06",777.00069999999982,55.030138999999892,7.0823795911638052E-2,null,null,null,null,null,null,11.000138999999896,null,null,null,44.029999999999994,null,null,null,null,null,null,null,"2012-10-15",{"$f":"(VLOOKUP($W141,$AG:$AU,10))/7","v":777.0003999999999},{"$f":"VLOOKUP($W141,$AG:$AU,11)/14","v":472.71497857142856},{"$f":"VLOOKUP($W141,$AG:$AU,12)/28","v":396.60793928571422},2.217512369152108E-5,"2012-10-15",{"$f":"(VLOOKUP($AB141,$AG:$AU,8))/7","v":1.7230079978361353E-2},{"$f":"VLOOKUP($AB141,$AG:$AU,9)/14","v":9.663539570611333E-3},{"$f":"VLOOKUP($AB141,$AG:$AU,10)/28","v":194.25009999999997},null,"2012-10-15",776.98316992002151,472.70531503185794,202.35783928571425,null,"2010-07-10",7.0255700548637209E-2,0.12061055984852946,0.13528955398855866,5439.0027999999993,6618.0096999999996,11105.022299999999,382.12095199999925,798.20185499999843,1502.3935139999976]
["2010-07-07",777.0007999999998,56.000139999999895,7.207217804666341E-2,null,null,null,null,null,null,11.000139999999895,null,null,null,45,null,null,null,null,null,null,null,"2012-10-22",{"$f":"(VLOOKUP($W142,$AG:$AU,10))/7","v":777.00049999999999},{"$f":"VLOOKUP($W142,$AG:$AU,11)/14","v":523.42925714285707},{"$f":"VLOOKUP($W142,$AG:$AU,12)/28","v":396.60789285714276},2.0126463680564671E-5,"2012-10-22",{"$f":"(VLOOKUP($AB142,$AG:$AU,8))/7","v":1.5638272343030588E-2},{"$f":"VLOOKUP($AB142,$AG:$AU,9)/14","v":9.7085655604407482E-3},{"$f":"VLOOKUP($AB142,$AG:$AU,10)/28","v":194.250125},null,"2012-10-22",776.98486172765695,523.41954857729661,202.35776785714276,null,"2010-07-11",7.0621568638446222E-2,0.10946790640121412,0.13591991784617047,5439.0034999999998,7328.0095999999985,11105.020999999997,384.11095899999924,802.18186899999841,1509.3935419999975]
["2010-07-08",777.00089999999977,56.010140999999891,7.2085040055938035E-2,null,null,null,null,null,null,11.000140999999894,null,null,null,{"$f":"O142+0.01","v":45.01},null,null,null,null,null,null,null,"2012-10-29",{"$f":"(VLOOKUP($W143,$AG:$AU,10))/7","v":777.00059999999996},{"$f":"VLOOKUP($W143,$AG:$AU,11)/14","v":574.14353571428558},{"$f":"VLOOKUP($W143,$AG:$AU,12)/28","v":396.60784642857141},1.843972120870515E-5,"2012-10-29",{"$f":"(VLOOKUP($AB143,$AG:$AU,8))/7","v":1.4327674442996626E-2},{"$f":"VLOOKUP($AB143,$AG:$AU,9)/14","v":9.7535915608120225E-3},{"$f":"VLOOKUP($AB143,$AG:$AU,10)/28","v":194.25014999999999},null,"2012-10-29",776.98627232555691,574.13378212272471,202.35769642857142,null,"2010-07-12",7.0987436634080803E-2,0.10029372110097638,0.1365502818513683,5439.0041999999994,8038.0094999999983,11105.019699999999,386.10096599999929,806.1618829999984,1516.3935699999975]
["2010-07-09",777.00099999999975,56.020141999999893,7.2097902061901989E-2,null,null,null,null,null,null,11.000141999999894,null,null,null,45.019999999999996,null,null,null,null,null,null,null,"2012-11-05",{"$f":"(VLOOKUP($W144,$AG:$AU,10))/7","v":777.00069999999971},{"$f":"VLOOKUP($W144,$AG:$AU,11)/14","v":624.8578142857142},{"$f":"VLOOKUP($W144,$AG:$AU,12)/28","v":396.60779999999994},1.7006598824371952E-5,"2012-11-05",{"$f":"(VLOOKUP($AB144,$AG:$AU,8))/7","v":1.3214139191156177E-2},{"$f":"VLOOKUP($AB144,$AG:$AU,9)/14","v":9.7986175717251628E-3},{"$f":"VLOOKUP($AB144,$AG:$AU,10)/28","v":194.25017499999993},null,"2012-11-05",776.98748586080853,624.84801566814247,202.35762500000001,null,"2010-07-13",7.1353304535540937E-2,9.2498974338093246E-2,0.13718064600415228,5439.0048999999981,8748.009399999999,11105.018399999999,388.09097299999922,809.18189699999846,1523.3935979999974]
["2010-07-10",777.00109999999972,56.030142999999889,7.2110764064555258E-2,null,null,null,null,null,null,11.000142999999893,null,null,null,45.029999999999994,null,null,null,null,null,null,null,"2012-11-12",{"$f":"(VLOOKUP($W145,$AG:$AU,10))/7","v":777.0007999999998},{"$f":"VLOOKUP($W145,$AG:$AU,11)/14","v":675.57209285714282},{"$f":"VLOOKUP($W145,$AG:$AU,12)/28","v":396.60775357142853},1.5788641523055942E-5,"2012-11-12",{"$f":"(VLOOKUP($AB145,$AG:$AU,8))/7","v":1.2267787094327682E-2},{"$f":"VLOOKUP($AB145,$AG:$AU,9)/14","v":9.8436435931801725E-3},{"$f":"VLOOKUP($AB145,$AG:$AU,10)/28","v":194.25019999999995},null,"2012-11-12",776.98853221290551,675.56224921354965,202.35755357142858,null,"2010-07-14",7.1542669490908303E-2,{"$f":"AT145/AQ145","v":8.5874509660293766E-2},0.13781101030452242,5439.0055999999986,{"$f":"SUM(B132:B145)","v":9458.0092999999997},11105.017099999999,389.12097999999929,{"$f":"SUM(C132:C145)","v":812.20191099999829},1530.3936259999975]
["2010-07-11",777.0011999999997,57.000143999999892,7.3359145391281133E-2,null,null,null,null,null,null,11.000143999999892,null,null,null,46,null,null,null,null,null,null,null,"2012-11-19",{"$f":"(VLOOKUP($W146,$AG:$AU,10))/7","v":777.00089999999989},{"$f":"VLOOKUP($W146,$AG:$AU,11)/14","v":726.28637142857121},{"$f":"VLOOKUP($W146,$AG:$AU,12)/28","v":396.6435107142857},1.4758135056320521E-5,"2012-11-19",{"$f":"(VLOOKUP($AB146,$AG:$AU,8))/7","v":1.1467084221082594E-2},{"$f":"VLOOKUP($AB146,$AG:$AU,9)/14","v":9.8877770108276551E-3},{"$f":"VLOOKUP($AB146,$AG:$AU,10)/28","v":194.25022499999997},null,"2012-11-19",776.98943291577882,726.2764836515604,202.39328571428572,null,"2010-07-15",7.1908537226735569E-2,8.0269589547578152E-2,0.13842887815158716,5439.0062999999991,10168.009199999997,11106.0183,391.11098699999923,816.18192499999827,1537.3936539999972]
["2010-07-12",777.00129999999967,57.010144999999888,7.3372007228301825E-2,null,null,null,null,null,null,11.000144999999891,null,null,null,{"$f":"O146+0.01","v":46.01},null,null,null,null,null,null,null,"2012-11-26",{"$f":"(VLOOKUP($W147,$AG:$AU,10))/7","v":777.00099999999986},{"$f":"VLOOKUP($W147,$AG:$AU,11)/14","v":777.00064999999995},{"$f":"VLOOKUP($W147,$AG:$AU,12)/28","v":422.00069999999999},1.308517723852583E-5,"2012-11-26",{"$f":"(VLOOKUP($AB147,$AG:$AU,8))/7","v":1.0167195799511806E-2},{"$f":"VLOOKUP($AB147,$AG:$AU,9)/14","v":9.3359556062831226E-3},{"$f":"VLOOKUP($AB147,$AG:$AU,10)/28","v":194.25024999999997},null,"2012-11-26",776.99083280420029,776.99131404439368,227.75045000000003,null,"2010-07-16",7.2274404868388542E-2,7.1170370596582641E-2,0.13070337848796371,5439.0069999999987,10878.009099999999,11816.0196,393.10099399999928,774.19193899999834,1544.3936819999974]
["2010-07-13",777.00139999999965,57.020145999999883,7.3384869062011873E-2,null,null,null,null,null,null,11.000145999999891,null,null,null,46.019999999999996,null,null,null,null,null,null,null,"2012-12-03",{"$f":"(VLOOKUP($W148,$AG:$AU,10))/7","v":777.00109999999972},{"$f":"VLOOKUP($W148,$AG:$AU,11)/14","v":777.00074999999993},{"$f":"VLOOKUP($W148,$AG:$AU,12)/28","v":447.35788928571418},1.3136217295540401E-5,"2012-12-03",{"$f":"(VLOOKUP($AB148,$AG:$AU,8))/7","v":1.0206855288473914E-2},{"$f":"VLOOKUP($AB148,$AG:$AU,9)/14","v":8.846691005327258E-3},{"$f":"VLOOKUP($AB148,$AG:$AU,10)/28","v":194.25027499999993},null,"2012-12-03",776.99089314471121,{"$f":"Y148-AD148","v":776.99190330899455},253.10761428571425,null,"2010-07-17",7.2640272415867221E-2,7.1447987019317399E-2,0.1238536740745816,5439.0076999999983,10878.010499999999,12526.020899999998,395.09100099999932,777.21195299999829,1551.3937099999971]
["2010-07-14",777.00149999999962,57.030146999999886,7.3397730892411292E-2,null,null,null,null,null,null,11.00014699999989,null,null,null,46.029999999999994,null,null,null,null,null,null,null,"2012-12-10",{"$f":"(VLOOKUP($W149,$AG:$AU,10))/7","v":777.0011999999997},{"$f":"VLOOKUP($W149,$AG:$AU,11)/14","v":777.00084999999979},{"$f":"VLOOKUP($W149,$AG:$AU,12)/28","v":472.71507857142853},1.318725732627913E-5,"2012-12-10",{"$f":"(VLOOKUP($AB149,$AG:$AU,8))/7","v":1.0246514767227672E-2},{"$f":"VLOOKUP($AB149,$AG:$AU,9)/14","v":8.4099162683915138E-3},{"$f":"VLOOKUP($AB149,$AG:$AU,10)/28","v":194.25029999999992},null,"2012-12-10",776.99095348523247,776.99244008373137,278.46477857142861,null,"2010-07-18",7.2829637108116865E-2,7.1725603370593707E-2,0.11773882775748119,5439.0083999999979,10878.011899999998,13236.022199999999,396.12100799999922,780.23196699999835,1558.3937379999973]
["2010-07-15",888,58.000147999999889,6.5315481981981852E-2,null,null,null,null,null,null,11.000147999999889,null,null,null,47,null,null,null,null,null,null,null,"2012-12-17",{"$f":"(VLOOKUP($W150,$AG:$AU,10))/7","v":792.8582142857141},{"$f":"VLOOKUP($W150,$AG:$AU,11)/14","v":784.92940714285692},{"$f":"VLOOKUP($W150,$AG:$AU,12)/28","v":502.03649642857141},1.2858232291360922E-5,"2012-12-17",{"$f":"(VLOOKUP($AB150,$AG:$AU,8))/7","v":1.0194755093399326E-2},{"$f":"VLOOKUP($AB150,$AG:$AU,9)/14","v":7.954305060061919E-3},{"$f":"VLOOKUP($AB150,$AG:$AU,10)/28","v":198.21455357142852},null,"2012-12-17",792.84801953062072,784.92145283779689,303.82194285714286,null,"2010-07-19",7.1731617479796075E-2,7.136328565379528E-2,0.11136027084086687,5550.0074999999988,10989.011699999997,14057.0219,398.11101499999921,784.21198099999833,1565.393765999997]
["2010-07-16",888.00009999999997,58.010148999999885,6.532673701275471E-2,null,null,null,null,null,null,11.000148999999888,null,null,null,{"$f":"O150+0.01","v":47.01},null,null,null,null,null,null,null,"2012-12-24",{"$f":"(VLOOKUP($W151,$AG:$AU,10))/7","v":808.71522857142838},{"$f":"VLOOKUP($W151,$AG:$AU,11)/14","v":792.85796428571405},{"$f":"VLOOKUP($W151,$AG:$AU,12)/28","v":531.35791428571417},1.254339012266279E-5,"2012-12-24",{"$f":"(VLOOKUP($AB151,$AG:$AU,8))/7","v":1.0144030610109836E-2},{"$f":"VLOOKUP($AB151,$AG:$AU,9)/14","v":7.5489769707399292E-3},{"$f":"VLOOKUP($AB151,$AG:$AU,10)/28","v":202.1788071428571},null,"2012-12-24",808.70508454081823,792.85041530874332,329.17910714285711,null,"2010-07-20",7.0676657045409444E-2,7.1008214270768852E-2,0.105685677590359,5661.0065999999988,11100.011499999997,14878.021599999998,400.10102199999926,788.1919949999982,1572.3937939999971]
["2010-07-17",888.00019999999995,58.020149999999887,6.5337992040992665E-2,null,null,null,null,null,null,11.000149999999888,null,null,null,47.019999999999996,null,null,null,null,null,null,null,"2012-12-31",{"$f":"(VLOOKUP($W152,$AG:$AU,10))/7","v":824.57224285714256},{"$f":"VLOOKUP($W152,$AG:$AU,11)/14","v":800.78652142857129},{"$f":"VLOOKUP($W152,$AG:$AU,12)/28","v":560.67933214285699},1.2227039880808201E-5,"2012-12-31",{"$f":"(VLOOKUP($AB152,$AG:$AU,8))/7","v":1.0082077698021748E-2},{"$f":"VLOOKUP($AB152,$AG:$AU,9)/14","v":7.1860431470700172E-3},{"$f":"VLOOKUP($AB152,$AG:$AU,10)/28","v":206.14306071428564},null,"2012-12-31",824.56216077944453,800.77933538542425,354.53627142857135,null,"2010-07-21",6.9662271643286741E-2,7.0574543886152238E-2,0.10060460405898024,5772.0056999999979,11211.011299999998,15699.021299999997,402.09102899999925,791.21200899999849,1579.3938219999968]
["2010-07-18",888.00029999999992,58.030150999999883,6.534924706669569E-2,null,null,null,null,null,null,11.000150999999887,null,null,null,47.029999999999994,null,null,null,null,null,null,null,"2013-01-07",{"$f":"(VLOOKUP($W153,$AG:$AU,10))/7","v":840.42925714285695},{"$f":"VLOOKUP($W153,$AG:$AU,11)/14","v":808.71507857142831},{"$f":"VLOOKUP($W153,$AG:$AU,12)/28","v":590.00074999999993},1.1924072681149698E-5,"2013-01-07",{"$f":"(VLOOKUP($AB153,$AG:$AU,8))/7","v":1.0021339545536075E-2},{"$f":"VLOOKUP($AB153,$AG:$AU,9)/14","v":6.8591829531313084E-3},{"$f":"VLOOKUP($AB153,$AG:$AU,10)/28","v":210.10731428571424},null,"2013-01-07",840.41923580331138,808.70821938847519,379.89343571428572,null,"2010-07-22",6.8522982677151525E-2,7.0149376818752524E-2,9.6028561343838317E-2,5883.0047999999988,11322.011099999996,16520.020999999997,403.12103599999921,794.23202299999843,1586.393849999997]
["2010-07-19",888.0003999999999,59.000151999999886,6.6441582683971642E-2,null,null,null,null,null,null,11.000151999999886,null,null,null,48,null,null,null,null,null,null,null,"2013-01-14",{"$f":"(VLOOKUP($W154,$AG:$AU,10))/7","v":856.28627142857124},{"$f":"VLOOKUP($W154,$AG:$AU,11)/14","v":816.64363571428555},{"$f":"VLOOKUP($W154,$AG:$AU,12)/28","v":619.32216785714274},1.1647712271654338E-5,"2013-01-14",{"$f":"(VLOOKUP($AB154,$AG:$AU,8))/7","v":9.9737761117677064E-3},{"$f":"VLOOKUP($AB154,$AG:$AU,9)/14","v":6.5632727391053292E-3},{"$f":"VLOOKUP($AB154,$AG:$AU,10)/28","v":214.07156785714281},null,"2013-01-14",856.27629765245945,816.63707244154648,405.25059999999996,null,"2010-07-23",6.7586049285019531E-2,6.9816432782373941E-2,9.1885818347474613E-2,5994.0038999999988,11433.010899999997,17341.020699999997,405.1110429999992,798.21203699999842,1593.3938779999969]
["2010-07-20",888.00049999999987,59.010152999999882,6.6452837582861593E-2,null,null,null,null,null,null,11.000152999999885,null,null,null,{"$f":"O154+0.01","v":48.01},null,null,null,null,null,null,null,"2013-01-21",{"$f":"(VLOOKUP($W155,$AG:$AU,10))/7","v":872.14328571428564},{"$f":"VLOOKUP($W155,$AG:$AU,11)/14","v":824.57219285714268},{"$f":"VLOOKUP($W155,$AG:$AU,12)/28","v":648.64358571428568},1.1382450016560941E-5,"2013-01-21",{"$f":"(VLOOKUP($AB155,$AG:$AU,8))/7","v":9.927127356922083E-3},{"$f":"VLOOKUP($AB155,$AG:$AU,9)/14","v":6.2941152972480537E-3},{"$f":"VLOOKUP($AB155,$AG:$AU,10)/28","v":218.03582142857141},null,"2013-01-21",872.13335858692869,824.56589874184544,430.60776428571427,null,"2010-07-24",6.6683185905068221E-2,6.9489891498454581E-2,8.8117614161472749E-2,6105.0029999999997,11544.010699999997,18162.020399999998,407.10104999999919,802.19205099999851,1600.3939059999968]
["2010-07-21",888.00059999999985,59.020153999999877,6.6464092479216669E-2,null,null,null,null,null,null,11.000153999999885,null,null,null,48.019999999999996,null,null,null,null,null,null,null,"2013-01-28",{"$f":"(VLOOKUP($W156,$AG:$AU,10))/7","v":888.00029999999992},{"$f":"VLOOKUP($W156,$AG:$AU,11)/14","v":832.50074999999993},{"$f":"VLOOKUP($W156,$AG:$AU,12)/28","v":677.96500357142838},1.1114410985083418E-5,"2013-01-28",{"$f":"(VLOOKUP($AB156,$AG:$AU,8))/7","v":9.8696002890773689E-3},{"$f":"VLOOKUP($AB156,$AG:$AU,9)/14","v":6.0482395226759116E-3},{"$f":"VLOOKUP($AB156,$AG:$AU,10)/28","v":222.00007499999998},null,"2013-01-28",887.99043039971082,832.49470176047726,455.9649285714284,null,"2010-07-25",6.581256737348902E-2,6.9087202023541586E-2,8.4675353317462759E-2,6216.0020999999997,11655.010499999999,18983.020099999994,409.09105699999918,805.21206499999835,1607.3939339999968]
["2010-07-22",888.00069999999982,59.03015499999988,6.6475347373036855E-2,null,null,null,null,null,null,11.000154999999884,null,null,null,48.029999999999994,null,null,null,null,null,null,null,"2013-02-04",{"$f":"(VLOOKUP($W157,$AG:$AU,10))/7","v":888.0003999999999},{"$f":"VLOOKUP($W157,$AG:$AU,11)/14","v":840.42930714285717},{"$f":"VLOOKUP($W157,$AG:$AU,12)/28","v":707.2864214285712},1.1050849340497155E-5,"2013-02-04",{"$f":"(VLOOKUP($AB157,$AG:$AU,8))/7","v":9.8131586347012089E-3},{"$f":"VLOOKUP($AB157,$AG:$AU,9)/14","v":5.8227499059848049E-3},{"$f":"VLOOKUP($AB157,$AG:$AU,10)/28","v":222.00009999999997},null,"2013-02-04",887.99058684136514,840.4234843929512,485.28632142857123,null,"2010-07-26",6.5978262429353993E-2,6.8692110442908461E-2,8.1518498683787272E-2,6216.0027999999993,11766.0103,19804.019799999995,410.12106399999919,808.23207899999852,1614.3939619999967]
["2010-07-23",888.0007999999998,60.000155999999883,6.7567682371457202E-2,null,null,null,null,null,null,11.000155999999883,null,null,null,49,null,null,null,null,null,null,null,"2013-02-11",{"$f":"(VLOOKUP($W158,$AG:$AU,10))/7","v":888.00049999999999},{"$f":"VLOOKUP($W158,$AG:$AU,11)/14","v":848.3578642857143},{"$f":"VLOOKUP($W158,$AG:$AU,12)/28","v":736.60783928571414},1.1001479029951509E-5,"2013-02-11",{"$f":"(VLOOKUP($AB158,$AG:$AU,8))/7","v":9.7693188793364551E-3},{"$f":"VLOOKUP($AB158,$AG:$AU,9)/14","v":5.6152119724575886E-3},{"$f":"VLOOKUP($AB158,$AG:$AU,10)/28","v":222.000125},null,"2013-02-11",887.99073068112068,848.35224907374186,514.60771428571411,null,"2010-07-27",6.6298397515380941E-2,6.8385232155355191E-2,7.861296761440624E-2,6216.0034999999998,11877.0101,20625.019499999995,412.11107099999919,812.21209299999828,1621.3939899999968]
["2010-07-24",888.00089999999977,60.010156999999879,6.7578937138464495E-2,null,null,null,null,null,null,11.000156999999883,null,null,null,{"$f":"O158+0.01","v":49.01},null,null,null,null,null,null,null,"2013-02-18",{"$f":"(VLOOKUP($W159,$AG:$AU,10))/7","v":888.00059999999996},{"$f":"VLOOKUP($W159,$AG:$AU,11)/14","v":856.28642142857109},{"$f":"VLOOKUP($W159,$AG:$AU,12)/28","v":765.92925714285695},1.0953022969984533E-5,"2013-02-18",{"$f":"(VLOOKUP($AB159,$AG:$AU,8))/7","v":9.7262909691600476E-3},{"$f":"VLOOKUP($AB159,$AG:$AU,9)/14","v":5.4235640350714228E-3},{"$f":"VLOOKUP($AB159,$AG:$AU,10)/28","v":222.00014999999999},null,"2013-02-18",887.99087370903078,856.28099786453606,543.92910714285699,null,"2010-07-28",6.6618532529305441E-2,6.8084036784120339E-2,{"$f":"AU159/AR159","v":7.5929896490999918E-2},6216.0041999999994,11988.009899999995,{"$f":"SUM(B132:B159)","v":21446.019199999995},414.10107799999918,816.19210699999849,{"$f":"SUM(C132:C159)","v":1628.3940179999965}]
["2010-07-25",888.00099999999975,60.020157999999881,6.7590191902936927E-2,null,null,null,null,null,null,11.000157999999882,null,null,null,49.019999999999996,null,null,null,null,null,null,null,"2013-02-25",{"$f":"(VLOOKUP($W160,$AG:$AU,10))/7","v":888.00069999999971},{"$f":"VLOOKUP($W160,$AG:$AU,11)/14","v":864.21497857142845},{"$f":"VLOOKUP($W160,$AG:$AU,12)/28","v":795.25067499999966},1.0892691314036212E-5,"2013-02-25",{"$f":"(VLOOKUP($AB160,$AG:$AU,8))/7","v":9.6727175117480736E-3},{"$f":"VLOOKUP($AB160,$AG:$AU,9)/14","v":5.2460484698547234E-3},{"$f":"VLOOKUP($AB160,$AG:$AU,10)/28","v":222.00017499999993},null,"2013-02-25",887.99102728248795,864.20973252295857,573.25049999999976,null,"2010-07-29",6.6938667471127519E-2,6.7709022582236517E-2,7.3444678577966133E-2,6216.0048999999981,12099.009699999999,22267.018899999992,416.09108499999917,819.21212099999855,1635.3940459999965]
["2010-07-26",888.00109999999972,60.030158999999877,6.7601446664874512E-2,null,null,null,null,null,null,11.000158999999881,null,null,null,49.029999999999994,null,null,null,null,null,null,null,"2013-03-04",{"$f":"(VLOOKUP($W161,$AG:$AU,10))/7","v":888.0007999999998},{"$f":"VLOOKUP($W161,$AG:$AU,11)/14","v":872.14353571428558},{"$f":"VLOOKUP($W161,$AG:$AU,12)/28","v":824.57209285714282},1.0833456585495419E-5,"2013-03-04",{"$f":"(VLOOKUP($AB161,$AG:$AU,8))/7","v":9.6201181146851993E-3},{"$f":"VLOOKUP($AB161,$AG:$AU,9)/14","v":4.9389379390052885E-3},{"$f":"VLOOKUP($AB161,$AG:$AU,10)/28","v":222.00019999999995},null,"2013-03-04",887.99117988188516,872.13859677634662,602.57189285714287,null,"2010-07-30",6.7104362325542177E-2,6.7340826802796391E-2,6.914513114607404E-2,6216.0055999999986,12210.009499999998,23088.018599999999,417.12109199999912,822.23213499999849,1596.4240739999966]
["2010-07-27",888.0011999999997,61.00015999999988,6.8693781044439919E-2,null,null,null,null,null,null,11.00015999999988,null,null,null,50,null,null,null,null,null,null,null,"2013-03-11",{"$f":"(VLOOKUP($W162,$AG:$AU,10))/7","v":888.00089999999977},{"$f":"VLOOKUP($W162,$AG:$AU,11)/14","v":880.07209285714271},{"$f":"VLOOKUP($W162,$AG:$AU,12)/28","v":828.53642142857132},1.0787823824979621E-5,"2013-03-11",{"$f":"(VLOOKUP($AB162,$AG:$AU,8))/7","v":9.5795972656233432E-3},{"$f":"VLOOKUP($AB162,$AG:$AU,9)/14","v":4.936859142643594E-3},{"$f":"VLOOKUP($AB162,$AG:$AU,10)/28","v":222.00022499999994},null,"2013-03-11",887.99132040273412,880.06715599800009,606.53619642857143,null,"2010-07-31",6.7424497140551362E-2,6.7057180859363408E-2,6.9116027997010318E-2,6216.0062999999982,12321.009299999998,23199.019799999998,419.11109899999911,826.21214899999836,1603.4241019999965]
["2010-07-28",888.00129999999967,61.010160999999876,6.8705035679564763E-2,null,null,null,null,null,null,11.00016099999988,null,null,null,{"$f":"O162+0.01","v":50.01},null,null,null,null,null,null,null,"2013-03-18",{"$f":"(VLOOKUP($W163,$AG:$AU,10))/7","v":888.00099999999986},{"$f":"VLOOKUP($W163,$AG:$AU,11)/14","v":888.00064999999995},{"$f":"VLOOKUP($W163,$AG:$AU,12)/28","v":832.50075000000004},1.0743005921523143E-5,"2013-03-18",{"$f":"(VLOOKUP($AB163,$AG:$AU,8))/7","v":9.5398000013184707E-3},{"$f":"VLOOKUP($AB163,$AG:$AU,9)/14","v":4.9348001445386836E-3},{"$f":"VLOOKUP($AB163,$AG:$AU,10)/28","v":222.00024999999997},null,"2013-03-18",887.99146019999853,887.99571519985545,610.5005000000001,null,"2010-08-01",6.7744631883458167E-2,6.6778600009229291E-2,6.9087202023541572E-2,6216.0069999999987,12432.009099999999,23310.021000000001,421.10110599999911,830.19216299999857,1610.4241299999967]
["2010-07-29",888.00139999999965,110.00016199999988,0.1238738610096785,null,null,null,null,null,null,11.000161999999879,null,null,null,99,null,null,null,null,null,null,null,"2013-03-25",{"$f":"(VLOOKUP($W164,$AG:$AU,10))/7","v":888.00109999999972},{"$f":"VLOOKUP($W164,$AG:$AU,11)/14","v":888.00074999999993},{"$f":"VLOOKUP($W164,$AG:$AU,12)/28","v":836.46507857142831},1.1415903533271656E-5,"2013-03-25",{"$f":"(VLOOKUP($AB164,$AG:$AU,8))/7","v":1.0137334895039114E-2},{"$f":"VLOOKUP($AB164,$AG:$AU,9)/14","v":5.0821380643484996E-3},{"$f":"VLOOKUP($AB164,$AG:$AU,10)/28","v":222.00027499999993},null,"2013-03-25",887.99096266510469,{"$f":"Y164-AD164","v":887.99566786193554},614.46480357142832,null,"2010-08-02",7.5944422173093398E-2,7.0961344265273799E-2,7.1149932900878995E-2,6216.0076999999983,12432.010499999999,23421.022199999992,472.07111299999917,882.19217699999854,1666.4041579999966]
["2010-07-30",888.00149999999962,110.01016299999988,0.12388510942830606,null,null,null,null,null,null,11.000162999999878,null,null,null,99.01,null,null,null,null,null,null,null,"2013-04-01",{"$f":"(VLOOKUP($W165,$AG:$AU,10))/7","v":888.0011999999997},{"$f":"VLOOKUP($W165,$AG:$AU,11)/14","v":888.00084999999979},{"$f":"VLOOKUP($W165,$AG:$AU,12)/28","v":840.4294071428568},1.2088800841913231E-5,"2013-04-01",{"$f":"(VLOOKUP($AB165,$AG:$AU,8))/7","v":1.0734869654179956E-2},{"$f":"VLOOKUP($AB165,$AG:$AU,9)/14","v":5.2280859901381307E-3},{"$f":"VLOOKUP($AB165,$AG:$AU,10)/28","v":222.00029999999992},null,"2013-04-01",887.99046513034557,887.99562191400969,618.42910714285688,null,"2010-08-03",8.3989770670193961E-2,7.5144087579259694E-2,7.3193203861933828E-2,6216.0083999999979,12432.011899999998,23532.023399999991,522.08111999999915,934.1921909999985,1722.3841859999966]
["2010-07-31",888.0015999999996,62.000163999999877,6.9819878702921154E-2,null,null,null,null,null,null,11.000163999999877,null,null,null,51,null,null,null,null,null,null,null,"2013-04-08",{"$f":"(VLOOKUP($W166,$AG:$AU,10))/7","v":888.00129999999979},{"$f":"VLOOKUP($W166,$AG:$AU,11)/14","v":888.00094999999988},{"$f":"VLOOKUP($W166,$AG:$AU,12)/28","v":844.39373571428564},{"$f":"AC166/X166","v":1.2140300996481775E-5},"2013-04-08",{"$f":"(VLOOKUP($AB166,$AG:$AU,8))/7","v":1.0780603067267108E-2},{"$f":"VLOOKUP($AB166,$AG:$AU,9)/14","v":5.2246887167364644E-3},{"$f":"VLOOKUP($AB166,$AG:$AU,10)/28","v":222.00032499999995},null,"2013-04-08",887.99051939693254,887.99572531128319,622.39341071428566,null,"2010-08-04",8.430990343949131E-2,7.5464221470869758E-2,7.3145642034310496E-2,6216.0090999999984,12432.013299999999,23643.024599999997,524.07112699999914,938.17220499999837,1729.3842139999967]
["2010-08-01",888.00169999999957,62.010164999999873,6.9831133206163798E-2,null,null,null,null,null,null,11.000164999999877,null,null,null,{"$f":"O166+0.01","v":51.01},null,null,null,null,null,null,null,"2013-04-15",{"$f":"(VLOOKUP($W167,$AG:$AU,10))/7","v":888.00139999999976},{"$f":"VLOOKUP($W167,$AG:$AU,11)/14","v":888.00104999999962},{"$f":"VLOOKUP($W167,$AG:$AU,12)/28","v":848.35806428571414},{"$f":"AC167/X167","v":1.2191801127851785E-5},"2013-04-15",{"$f":"(VLOOKUP($AB167,$AG:$AU,8))/7","v":1.0826336470053962E-2},{"$f":"VLOOKUP($AB167,$AG:$AU,9)/14","v":5.2213231938622647E-3},{"$f":"VLOOKUP($AB167,$AG:$AU,10)/28","v":222.00034999999994},null,"2013-04-15",887.99057366352974,887.99582867680579,626.35771428571422,null,"2010-08-05",8.4630036136686806E-2,7.5784355290377733E-2,7.3098524714071703E-2,6216.009799999998,12432.014699999994,23754.025799999996,526.06113399999913,942.15221899999835,1736.3842419999967]
["2010-08-02",888.00179999999955,62.020165999999875,6.9842387706871664E-2,null,null,null,null,null,null,11.000165999999876,null,null,null,51.019999999999996,null,null,null,null,null,null,null,"2013-04-22",{"$f":"(VLOOKUP($W168,$AG:$AU,10))/7","v":888.00149999999951},{"$f":"VLOOKUP($W168,$AG:$AU,11)/14","v":888.00114999999983},{"$f":"VLOOKUP($W168,$AG:$AU,12)/28","v":852.32239285714263},{"$f":"AC168/X168","v":1.2230878480750131E-5},"2013-04-22",{"$f":"(VLOOKUP($AB168,$AG:$AU,8))/7","v":1.0861038437223832E-2},{"$f":"VLOOKUP($AB168,$AG:$AU,9)/14","v":5.2179889784806296E-3},{"$f":"VLOOKUP($AB168,$AG:$AU,10)/28","v":222.00037499999988},null,"2013-04-22",887.99063896156224,887.9959320110213,630.32201785714278,null,"2010-08-06",8.4950168761780465E-2,7.6027269060566824E-2,7.3051845698728815E-2,6216.0104999999967,12432.016099999997,23865.026999999995,528.05114099999912,945.17223299999841,1743.3842699999966]
["2010-08-03",888.00189999999952,62.030166999999871,6.9853642205044725E-2,null,null,null,null,null,null,11.000166999999875,null,null,null,51.029999999999994,null,null,null,null,null,null,null,"2013-04-29",{"$f":"(VLOOKUP($W169,$AG:$AU,10))/7","v":888.0015999999996},{"$f":"VLOOKUP($W169,$AG:$AU,11)/14","v":888.00124999999969},{"$f":"VLOOKUP($W169,$AG:$AU,12)/28","v":856.28672142857124},1.2269955816045783E-5,"2013-04-29",{"$f":"(VLOOKUP($AB169,$AG:$AU,8))/7","v":1.0895740396577955E-2},{"$f":"VLOOKUP($AB169,$AG:$AU,9)/14","v":5.2146856357610837E-3},{"$f":"VLOOKUP($AB169,$AG:$AU,10)/28","v":222.0003999999999},null,"2013-04-29",887.99070425960304,887.99603531436389,634.28632142857134,null,"2010-08-07",8.5115861438602183E-2,7.6270182776045692E-2,7.3005598900655166E-2,6216.0111999999972,12432.017499999996,23976.028199999993,529.08114799999908,948.19224699999836,1750.3842979999968]
["2010-08-04",888.0019999999995,63.000167999999874,7.0945975346902265E-2,null,null,null,null,null,null,11.000167999999874,null,null,null,52,null,null,null,null,null,null,null,"2013-05-06",{"$f":"(VLOOKUP($W170,$AG:$AU,10))/7","v":888.00169999999957},{"$f":"VLOOKUP($W170,$AG:$AU,11)/14","v":888.00134999999966},{"$f":"VLOOKUP($W170,$AG:$AU,12)/28","v":860.25104999999985},1.2321455883416064E-5,"2013-05-06",{"$f":"(VLOOKUP($AB170,$AG:$AU,8))/7","v":1.0941473770948461E-2},{"$f":"VLOOKUP($AB170,$AG:$AU,9)/14","v":5.2114127388885332E-3},{"$f":"VLOOKUP($AB170,$AG:$AU,10)/28","v":222.00042499999989},null,"2013-05-06",887.99075852622866,887.99613858726082,638.2506249999999,null,"2010-08-08",8.54359939368841E-2,7.6590316396639227E-2,7.2959778344439466E-2,6216.0118999999968,12432.018899999995,24087.029399999996,531.07115499999918,952.17226099999846,1757.3843259999965]
["2010-08-05",888.00209999999947,63.01016899999987,7.0957229718262946E-2,null,null,null,null,null,null,11.000168999999874,null,null,null,{"$f":"O170+0.01","v":52.01},null,null,null,null,null,null,null,"2013-05-13",{"$f":"(VLOOKUP($W171,$AG:$AU,10))/7","v":888.00179999999966},{"$f":"VLOOKUP($W171,$AG:$AU,11)/14","v":888.00144999999964},{"$f":"VLOOKUP($W171,$AG:$AU,12)/28","v":864.21537857142835},1.2372955927587847E-5,"2013-05-13",{"$f":"(VLOOKUP($AB171,$AG:$AU,8))/7","v":1.0987207135018674E-2},{"$f":"VLOOKUP($AB171,$AG:$AU,9)/14","v":5.2081698688794384E-3},{"$f":"VLOOKUP($AB171,$AG:$AU,10)/28","v":222.00044999999992},null,"2013-05-13",887.99081279286463,887.99624183013077,642.21492857142846,null,"2010-08-09",7.7876476955661147E-2,7.6910449945130716E-2,7.2914378164312135E-2,6216.0125999999973,12432.020299999995,24198.030599999995,484.08116199999915,956.15227499999855,1764.3843539999966]
["2010-08-06",888.00219999999945,63.020169999999865,7.0968484087088862E-2,null,null,null,null,null,null,11.000169999999873,null,null,null,52.019999999999996,null,null,null,null,null,null,null,"2013-05-20",{"$f":"(VLOOKUP($W172,$AG:$AU,10))/7","v":888.00189999999952},{"$f":"VLOOKUP($W172,$AG:$AU,11)/14","v":888.00154999999972},{"$f":"VLOOKUP($W172,$AG:$AU,12)/28","v":868.17970714285696},1.2412033204479662E-5,"2013-05-20",{"$f":"(VLOOKUP($AB172,$AG:$AU,8))/7","v":1.1021909068441022E-2},{"$f":"VLOOKUP($AB172,$AG:$AU,9)/14","v":5.2049566144029913E-3},{"$f":"VLOOKUP($AB172,$AG:$AU,10)/28","v":222.00047499999988},null,"2013-05-20",887.99087809093112,887.9963450433853,646.17923214285702,null,"2010-08-10",7.0316961677028486E-2,7.7153363479087148E-2,7.286939260164188E-2,6216.0132999999969,12432.021699999996,24309.031799999993,437.09116899999913,959.1722889999985,1771.3843819999965]
["2010-08-07",888.00229999999942,63.030170999999868,7.0979738453380029E-2,null,null,null,null,null,null,11.000170999999872,null,null,null,52.029999999999994,null,null,null,null,null,null,null,"2013-05-27",{"$f":"(VLOOKUP($W173,$AG:$AU,10))/7","v":888.0019999999995},{"$f":"VLOOKUP($W173,$AG:$AU,11)/14","v":888.00164999999981},{"$f":"VLOOKUP($W173,$AG:$AU,12)/28","v":872.14403571428534},1.2451110463768817E-5,"2013-05-27",{"$f":"(VLOOKUP($AB173,$AG:$AU,8))/7","v":1.105661099404763E-2},{"$f":"VLOOKUP($AB173,$AG:$AU,9)/14","v":5.2017725716071994E-3},{"$f":"VLOOKUP($AB173,$AG:$AU,10)/28","v":222.00049999999987},null,"2013-05-27",887.99094338900545,887.99644822742823,650.14353571428546,null,"2010-08-11",7.0482655927094004E-2,7.7396276958333413E-2,7.2824816002500792E-2,6216.0139999999965,12432.023099999997,24420.032999999989,438.12117599999908,962.19230299999845,1778.3844099999967]
["2010-08-08",888.0023999999994,64.000171999999878,7.2072070976384656E-2,null,null,null,null,null,null,11.000171999999871,null,null,null,53,null,null,null,null,null,null,null,"2013-06-03",{"$f":"(VLOOKUP($W174,$AG:$AU,10))/7","v":888.00209999999959},{"$f":"VLOOKUP($W174,$AG:$AU,11)/14","v":888.00174999999967},{"$f":"VLOOKUP($W174,$AG:$AU,12)/28","v":876.10836428571406},1.2502610443940996E-5,"2013-06-03",{"$f":"(VLOOKUP($AB174,$AG:$AU,8))/7","v":1.1102344329701532E-2},{"$f":"VLOOKUP($AB174,$AG:$AU,9)/14","v":5.1986173439496752E-3},{"$f":"VLOOKUP($AB174,$AG:$AU,10)/28","v":222.0005249999999},null,"2013-06-03",887.99099765566984,887.99655138265575,654.10783928571414,null,"2010-08-12",7.0802789929052021E-2,7.7716410307910724E-2,7.2780642815295449E-2,6216.014699999997,12432.024499999996,24531.034199999995,440.11118299999907,966.17231699999843,1785.3844379999966]
["2010-08-09",888.00249999999937,64.010172999999867,7.2083325215863595E-2,null,null,null,null,null,null,11.000172999999871,null,null,null,{"$f":"O174+0.01","v":53.01},null,null,null,null,null,null,null,"2013-06-10",{"$f":"(VLOOKUP($W175,$AG:$AU,10))/7","v":888.00219999999956},{"$f":"VLOOKUP($W175,$AG:$AU,11)/14","v":888.00184999999942},{"$f":"VLOOKUP($W175,$AG:$AU,12)/28","v":880.07269285714244},1.2554110400914732E-5,"2013-06-10",{"$f":"(VLOOKUP($AB175,$AG:$AU,8))/7","v":1.1148077655055159E-2},{"$f":"VLOOKUP($AB175,$AG:$AU,9)/14","v":5.1954905420330119E-3},{"$f":"VLOOKUP($AB175,$AG:$AU,10)/28","v":222.00054999999989},null,"2013-06-10",887.99105192234447,887.99665450945736,658.07214285714258,null,"2010-08-13",7.1122923858907977E-2,7.8036543585386114E-2,7.2736867588462165E-2,6216.0153999999966,12432.025899999991,24642.03539999999,442.10118999999918,970.15233099999841,1792.3844659999966]
["2010-08-10",888.00259999999935,64.020173999999869,7.2094579452807811E-2,null,null,null,null,null,null,11.00017399999987,null,null,null,53.019999999999996,null,null,null,null,null,null,null,"2013-06-17",{"$f":"(VLOOKUP($W176,$AG:$AU,10))/7","v":888.00229999999931},{"$f":"VLOOKUP($W176,$AG:$AU,11)/14","v":888.00194999999962},{"$f":"VLOOKUP($W176,$AG:$AU,12)/28","v":884.03702142857105},1.2593187601800171E-5,"2013-06-17",{"$f":"(VLOOKUP($AB176,$AG:$AU,8))/7","v":1.1182779554730028E-2},{"$f":"VLOOKUP($AB176,$AG:$AU,9)/14","v":5.1923917834445681E-3},{"$f":"VLOOKUP($AB176,$AG:$AU,10)/28","v":222.00057499999983},null,"2013-06-17",887.99111722044461,887.99675760821617,662.03644642857125,null,"2010-08-14",7.1443057716661887E-2,7.8279456883110193E-2,7.2693484968223948E-2,6216.0160999999953,12432.027299999994,24753.036599999989,444.09119699999917,973.17234499999836,1799.3844939999963]
["2010-08-11",888.00269999999932,64.030174999999858,7.2105833687217291E-2,null,null,null,null,null,null,11.000174999999869,null,null,null,53.029999999999994,null,null,null,null,null,null,null,"2013-06-24",{"$f":"(VLOOKUP($W177,$AG:$AU,10))/7","v":888.0023999999994},{"$f":"VLOOKUP($W177,$AG:$AU,11)/14","v":888.00204999999949},{"$f":"VLOOKUP($W177,$AG:$AU,12)/28","v":888.00134999999966},1.2632264785082991E-5,"2013-06-24",{"$f":"(VLOOKUP($AB177,$AG:$AU,8))/7","v":1.1217481446589173E-2},{"$f":"VLOOKUP($AB177,$AG:$AU,9)/14","v":5.1893206926005653E-3},{"$f":"VLOOKUP($AB177,$AG:$AU,10)/28","v":222.00059999999985},null,"2013-06-24",887.99118251855282,887.99686067930691,666.00074999999981,null,"2010-08-15",7.1608751765278283E-2,7.8522370126124216E-2,7.2650489696407916E-2,6216.0167999999958,12432.028699999993,24864.037799999991,445.12120399999912,976.19235899999842,1806.3845219999964]
["2010-08-12",888.0027999999993,65.000175999999868,7.3198165591369671E-2,null,null,null,null,null,null,11.000175999999868,null,null,null,54,null,null,null,null,null,null,null,"2013-07-01",{"$f":"(VLOOKUP($W178,$AG:$AU,10))/7","v":888.00249999999937},{"$f":"VLOOKUP($W178,$AG:$AU,11)/14","v":888.00214999999946},{"$f":"VLOOKUP($W178,$AG:$AU,12)/28","v":888.00144999999964},1.204994677924238E-5,"2013-07-01",{"$f":"(VLOOKUP($AB178,$AG:$AU,8))/7","v":1.0700382864834174E-2},{"$f":"VLOOKUP($AB178,$AG:$AU,9)/14","v":5.2094295509291701E-3},{"$f":"VLOOKUP($AB178,$AG:$AU,10)/28","v":222.00062499999984},null,"2013-07-01",887.99179961713457,887.99694057044849,666.00082499999985,null,"2010-08-16",7.1928885496219966E-2,7.4902680053839224E-2,7.2932013713008378E-2,6216.0174999999954,12432.030099999993,24864.040599999989,447.11121099999912,931.19237299999838,1813.3845499999964]
["2010-08-13",888.00289999999927,65.010176999999871,7.3209419698967118E-2,null,null,null,null,null,null,11.000176999999868,null,null,null,{"$f":"O178+0.01","v":54.01},null,null,null,null,null,null,null,"2013-07-08",{"$f":"(VLOOKUP($W179,$AG:$AU,10))/7","v":888.00259999999946},{"$f":"VLOOKUP($W179,$AG:$AU,11)/14","v":888.00224999999955},{"$f":"VLOOKUP($W179,$AG:$AU,12)/28","v":888.00154999999972},1.1467629035706124E-5,"2013-07-08",{"$f":"(VLOOKUP($AB179,$AG:$AU,8))/7","v":1.0183284399542525E-2},{"$f":"VLOOKUP($AB179,$AG:$AU,9)/14","v":5.2295384047287589E-3},{"$f":"VLOOKUP($AB179,$AG:$AU,10)/28","v":222.00064999999987},null,"2013-07-08",887.99241671559992,887.99702046159484,666.00089999999989,null,"2010-08-17",7.2249019155059643E-2,7.1282990796797674E-2,7.321353766620263E-2,6216.0181999999959,12432.031499999994,24864.043399999991,449.10121799999911,886.19238699999835,1820.3845779999963]
["2010-08-14",888.00299999999925,65.020177999999859,7.3220673804029843E-2,null,null,null,null,null,null,11.000177999999867,null,null,null,54.019999999999996,null,null,null,null,null,null,null,"2013-07-15",{"$f":"(VLOOKUP($W180,$AG:$AU,10))/7","v":888.00269999999932},{"$f":"VLOOKUP($W180,$AG:$AU,11)/14","v":888.00234999999952},{"$f":"VLOOKUP($W180,$AG:$AU,12)/28","v":888.00164999999959},1.1506706446088012E-5,"2013-07-15",{"$f":"(VLOOKUP($AB180,$AG:$AU,8))/7","v":1.0217986392233551E-2},{"$f":"VLOOKUP($AB180,$AG:$AU,9)/14","v":5.2496472539993368E-3},{"$f":"VLOOKUP($AB180,$AG:$AU,10)/28","v":222.00067499999983},null,"2013-07-15",887.99248201360706,{"$f":"Y180-AD180","v":887.99710035274552},666.0009749999997,null,"2010-08-18",7.2569152741797399E-2,7.1525904745634861E-2,7.3495061555990712E-2,6216.0188999999955,12432.032899999993,24864.04619999999,451.0912249999991,889.21240099999829,1827.3846059999962]
["2010-08-15",777,65.030178999999862,8.3693924066923886E-2,null,null,null,null,null,null,11.000178999999866,null,null,null,54.029999999999994,null,null,null,null,null,null,null,"2013-07-22",{"$f":"(VLOOKUP($W181,$AG:$AU,10))/7","v":872.14521428571368},{"$f":"VLOOKUP($W181,$AG:$AU,11)/14","v":880.07365714285663},{"$f":"VLOOKUP($W181,$AG:$AU,12)/28","v":884.03735357142818},1.1861622485931747E-5,"2013-07-22",{"$f":"(VLOOKUP($AB181,$AG:$AU,8))/7","v":1.0345057284769183E-2},{"$f":"VLOOKUP($AB181,$AG:$AU,9)/14","v":5.2933879081581078E-3},{"$f":"VLOOKUP($AB181,$AG:$AU,10)/28","v":218.03630357142842},null,"2013-07-22",872.1348692284289,880.06836375494845,666.00104999999974,null,"2010-08-19",7.4057331704181203E-2,7.2415400993384282E-2,7.410743071421351E-2,6105.0164999999961,12321.031199999992,24753.04589999999,452.12123199999905,892.23241499999824,1834.3846339999961]
["2010-08-16",777.00009999999997,66.000179999999858,8.4942305670230756E-2,null,null,null,null,null,null,11.000179999999865,null,null,null,55,null,null,null,null,null,null,null,"2013-07-29",{"$f":"(VLOOKUP($W182,$AG:$AU,10))/7","v":856.28772857142826},{"$f":"VLOOKUP($W182,$AG:$AU,11)/14","v":872.14496428571385},{"$f":"VLOOKUP($W182,$AG:$AU,12)/28","v":880.0730571428569},1.2245499055042805E-5,"2013-07-29",{"$f":"(VLOOKUP($AB182,$AG:$AU,8))/7","v":1.0485670571066174E-2},{"$f":"VLOOKUP($AB182,$AG:$AU,9)/14","v":5.3375226226000739E-3},{"$f":"VLOOKUP($AB182,$AG:$AU,10)/28","v":214.07193214285707},null,"2013-07-29",856.27724290085723,872.1396267630912,666.00112499999977,null,"2010-08-20",7.5760789251396524E-2,7.3399693997463225E-2,7.4725316716401036E-2,5994.0140999999976,12210.029499999993,24642.045599999994,454.11123899999905,896.21242899999834,1841.3846619999961]
["2010-08-17",777.00019999999995,66.010180999999861,8.4955166034706125E-2,null,null,null,null,null,null,11.000180999999865,null,null,null,{"$f":"O182+0.01","v":55.01},null,null,null,null,null,null,null,"2013-08-05",{"$f":"(VLOOKUP($W183,$AG:$AU,10))/7","v":840.4302428571425},{"$f":"VLOOKUP($W183,$AG:$AU,11)/14","v":864.21627142857074},{"$f":"VLOOKUP($W183,$AG:$AU,12)/28","v":876.10876071428538},1.2646931784741867E-5,"2013-08-05",{"$f":"(VLOOKUP($AB183,$AG:$AU,8))/7","v":1.0628863951248322E-2},{"$f":"VLOOKUP($AB183,$AG:$AU,9)/14","v":5.3820567465644288E-3},{"$f":"VLOOKUP($AB183,$AG:$AU,10)/28","v":210.10756071428563},null,"2013-08-05",840.41961399319121,864.21088937182412,666.0011999999997,null,"2010-08-21",7.7528529477512209E-2,7.4402047658738257E-2,7.5348794451901999E-2,5883.0116999999973,12099.027799999991,24531.045299999991,456.10124599999904,900.19244299999832,1848.384689999996]
["2010-08-18",777.00029999999992,66.020181999999863,8.4968026395871241E-2,null,null,null,null,null,null,11.000181999999864,null,null,null,55.019999999999996,null,null,null,null,null,null,null,"2013-08-12",{"$f":"(VLOOKUP($W184,$AG:$AU,10))/7","v":824.57275714285686},{"$f":"VLOOKUP($W184,$AG:$AU,11)/14","v":856.28757857142807},{"$f":"VLOOKUP($W184,$AG:$AU,12)/28","v":872.14446428571398},1.3053146633528592E-5,"2013-08-12",{"$f":"(VLOOKUP($AB184,$AG:$AU,8))/7","v":1.0763269108998672E-2},{"$f":"VLOOKUP($AB184,$AG:$AU,9)/14","v":5.4269957265493428E-3},{"$f":"VLOOKUP($AB184,$AG:$AU,10)/28","v":206.14318928571421},null,"2013-08-12",824.56199387374784,856.2821515757015,666.00127499999974,null,"2010-08-22",7.9364261072829387E-2,7.5342883762990698E-2,7.5977940171690794E-2,5772.0092999999979,11988.026099999994,24420.044999999991,458.09125299999903,903.21245699999827,1855.3847179999962]
["2010-08-19",777.0003999999999,66.030182999999852,8.4980886753726073E-2,null,null,null,null,null,null,11.000182999999863,null,null,null,55.029999999999994,null,null,null,null,null,null,null,"2013-08-19",{"$f":"(VLOOKUP($W185,$AG:$AU,10))/7","v":808.7152714285711},{"$f":"VLOOKUP($W185,$AG:$AU,11)/14","v":848.35888571428529},{"$f":"VLOOKUP($W185,$AG:$AU,12)/28","v":868.18016785714258},1.3478398307908873E-5,"2013-08-19",{"$f":"(VLOOKUP($AB185,$AG:$AU,8))/7","v":1.0900186546002917E-2},{"$f":"VLOOKUP($AB185,$AG:$AU,9)/14","v":5.4723451085324894E-3},{"$f":"VLOOKUP($AB185,$AG:$AU,10)/28","v":202.17881785714277},null,"2013-08-19",808.7043712420251,848.35341336917679,666.00134999999977,null,"2010-08-23",8.1102402471899343E-2,7.6301305822020424E-2,7.6612831519454846E-2,5661.0068999999976,11877.024399999995,24309.044699999991,459.12125999999904,906.23247099999821,1862.3847459999961]
["2010-08-20",777.00049999999987,67.000183999999862,8.6229267548733723E-2,null,null,null,null,null,null,11.000183999999862,null,null,null,56,null,null,null,null,null,null,null,"2013-08-26",{"$f":"(VLOOKUP($W186,$AG:$AU,10))/7","v":792.85778571428557},{"$f":"VLOOKUP($W186,$AG:$AU,11)/14","v":840.43019285714252},{"$f":"VLOOKUP($W186,$AG:$AU,12)/28","v":864.21587142857118},1.3938619766122005E-5,"2013-08-26",{"$f":"(VLOOKUP($AB186,$AG:$AU,8))/7","v":1.1051343203680866E-2},{"$f":"VLOOKUP($AB186,$AG:$AU,9)/14","v":5.5181105402526921E-3},{"$f":"VLOOKUP($AB186,$AG:$AU,10)/28","v":198.21444642857139},null,"2013-08-26",792.84673437108188,840.42467474660225,666.00142499999981,null,"2010-08-24",8.3083043806540899E-2,7.7359402425766055E-2,7.7253547563537694E-2,5550.0044999999991,11766.022699999996,24198.044399999992,461.11126699999903,910.2124849999982,1869.3847739999962]
["2010-08-21",777.00059999999985,67.010184999999865,8.6242127740956548E-2,null,null,null,null,null,null,11.000184999999862,null,null,null,{"$f":"O186+0.01","v":56.01},null,null,null,null,null,null,null,"2013-09-02",{"$f":"(VLOOKUP($W187,$AG:$AU,10))/7","v":777.00029999999992},{"$f":"VLOOKUP($W187,$AG:$AU,11)/14","v":832.50149999999962},{"$f":"VLOOKUP($W187,$AG:$AU,12)/28","v":860.25157499999966},1.4421331722392476E-5,"2013-09-02",{"$f":"(VLOOKUP($AB187,$AG:$AU,8))/7","v":1.1205379074698469E-2},{"$f":"VLOOKUP($AB187,$AG:$AU,9)/14","v":5.5642977735546476E-3},{"$f":"VLOOKUP($AB187,$AG:$AU,10)/28","v":194.25007499999998},null,"2013-09-02",776.98909462092524,832.49593570222612,666.00149999999962,null,"2010-08-25",8.5144529361369251E-2,7.8437653522889283E-2,7.7900168829765068E-2,5439.0020999999997,11655.020999999995,24087.044099999992,463.10127399999902,914.19249899999818,1876.3848019999959]
["2010-08-22",777.00069999999982,67.020185999999853,8.6254987929869131E-2,null,null,null,null,null,null,11.000185999999861,null,null,null,56.019999999999996,null,null,null,null,null,null,null,"2013-09-09",{"$f":"(VLOOKUP($W188,$AG:$AU,10))/7","v":777.0003999999999},{"$f":"VLOOKUP($W188,$AG:$AU,11)/14","v":824.57280714285673},{"$f":"VLOOKUP($W188,$AG:$AU,12)/28","v":856.28727857142826},1.4608097013079458E-5,"2013-09-09",{"$f":"(VLOOKUP($AB188,$AG:$AU,8))/7","v":1.1350497222401543E-2},{"$f":"VLOOKUP($AB188,$AG:$AU,9)/14","v":5.6109126667987907E-3},{"$f":"VLOOKUP($AB188,$AG:$AU,10)/28","v":194.25009999999997},null,"2013-09-09",776.98904950277745,824.56719623018989,662.03717857142829,null,"2010-08-26",8.5510395582072338E-2,7.9453480556810799E-2,7.8552777335183066E-2,5439.0027999999993,11544.019299999994,23976.043799999992,465.09128099999901,917.21251299999813,1883.3848299999959]
["2010-08-23",777.0007999999998,67.030186999999856,8.6267848115471529E-2,null,null,null,null,null,null,11.00018699999986,null,null,null,56.029999999999994,null,null,null,null,null,null,null,"2013-09-16",{"$f":"(VLOOKUP($W189,$AG:$AU,10))/7","v":777.00049999999999},{"$f":"VLOOKUP($W189,$AG:$AU,11)/14","v":816.64411428571395},{"$f":"VLOOKUP($W189,$AG:$AU,12)/28","v":852.32298214285663},1.4798488851723321E-5,"2013-09-16",{"$f":"(VLOOKUP($AB189,$AG:$AU,8))/7","v":1.1498433237033446E-2},{"$f":"VLOOKUP($AB189,$AG:$AU,9)/14","v":5.657961187338403E-3},{"$f":"VLOOKUP($AB189,$AG:$AU,10)/28","v":194.250125},null,"2013-09-16",776.98900156676291,816.6384563245266,658.07285714285661,null,"2010-08-27",8.5699758788535266E-2,8.0489032659234114E-2,7.9211456622737639E-2,5439.0034999999998,11433.017599999996,23865.043499999985,466.12128799999903,920.23252699999807,1890.3848579999958]
["2010-08-24",777.00089999999977,68.000187999999866,8.7516228102180946E-2,null,null,null,null,null,null,11.000187999999859,null,null,null,57,null,null,null,null,null,null,null,"2013-09-23",{"$f":"(VLOOKUP($W190,$AG:$AU,10))/7","v":777.00059999999996},{"$f":"VLOOKUP($W190,$AG:$AU,11)/14","v":808.71542142857106},{"$f":"VLOOKUP($W190,$AG:$AU,12)/28","v":848.35868571428523},1.5008203255524976E-5,"2013-09-23",{"$f":"(VLOOKUP($AB190,$AG:$AU,8))/7","v":1.1661382934464859E-2},{"$f":"VLOOKUP($AB190,$AG:$AU,9)/14","v":5.7054494140661776E-3},{"$f":"VLOOKUP($AB190,$AG:$AU,10)/28","v":194.25014999999999},null,"2013-09-23",776.98893861706551,808.70971597915695,654.10853571428527,null,"2010-08-28",8.6065624843606317E-2,8.162968054125401E-2,7.9876291796926485E-2,5439.0041999999994,11322.015899999995,23754.043199999986,468.11129499999902,924.21254099999805,1897.3848859999962]
["2010-08-25",777.00099999999975,68.010188999999855,8.7529088122151544E-2,null,null,null,null,null,null,11.000188999999859,null,null,null,{"$f":"O190+0.01","v":57.01},null,null,null,null,null,null,null,"2013-09-30",{"$f":"(VLOOKUP($W191,$AG:$AU,10))/7","v":777.00069999999971},{"$f":"VLOOKUP($W191,$AG:$AU,11)/14","v":800.7867285714284},{"$f":"VLOOKUP($W191,$AG:$AU,12)/28","v":844.39438928571394},1.5222070461338511E-5,"2013-09-30",{"$f":"(VLOOKUP($AB191,$AG:$AU,8))/7","v":1.1827559403909341E-2},{"$f":"VLOOKUP($AB191,$AG:$AU,9)/14","v":5.7533835400325169E-3},{"$f":"VLOOKUP($AB191,$AG:$AU,10)/28","v":194.25017499999993},null,"2013-09-30",776.98887244059586,800.78097518788832,650.14421428571404,null,"2010-08-29",8.643149080450345E-2,8.2792915827365393E-2,8.0547369560455231E-2,5439.0048999999981,11211.014199999998,23643.042899999989,470.10130199999901,928.19255499999804,1904.3849139999963]
["2010-08-26",777.00109999999972,68.020189999999857,8.7541948138812012E-2,null,null,null,null,null,null,11.000189999999858,null,null,null,57.019999999999996,null,null,null,null,null,null,null,"2013-10-07",{"$f":"(VLOOKUP($W192,$AG:$AU,10))/7","v":777.0007999999998},{"$f":"VLOOKUP($W192,$AG:$AU,11)/14","v":792.85803571428539},{"$f":"VLOOKUP($W192,$AG:$AU,12)/28","v":840.43009285714254},1.5424313915068246E-5,"2013-10-07",{"$f":"(VLOOKUP($AB192,$AG:$AU,8))/7","v":1.1984704251459156E-2},{"$f":"VLOOKUP($AB192,$AG:$AU,9)/14","v":5.6530972125883889E-3},{"$f":"VLOOKUP($AB192,$AG:$AU,10)/28","v":194.25019999999995},null,"2013-10-07",776.9888152957484,792.85238261707275,646.17989285714259,null,"2010-08-30",8.679735667122665E-2,8.3892929760214091E-2,7.9143360976237448E-2,5439.0055999999986,11100.012499999995,23532.04259999999,472.091308999999,931.21256899999798,1862.4049419999965]
["2010-08-27",777.0011999999997,68.030190999999846,8.7554808152162281E-2,null,null,null,null,null,null,11.000190999999857,null,null,null,57.029999999999994,null,null,null,null,null,null,null,"2013-10-14",{"$f":"(VLOOKUP($W193,$AG:$AU,10))/7","v":777.00089999999989},{"$f":"VLOOKUP($W193,$AG:$AU,11)/14","v":784.92934285714261},{"$f":"VLOOKUP($W193,$AG:$AU,12)/28","v":836.46579642857102},1.5630643140689272E-5,"2013-10-14",{"$f":"(VLOOKUP($AB193,$AG:$AU,8))/7","v":1.2145023787894388E-2},{"$f":"VLOOKUP($AB193,$AG:$AU,9)/14","v":5.5518603029891542E-3},{"$f":"VLOOKUP($AB193,$AG:$AU,10)/28","v":194.25022499999997},null,"2013-10-14",776.98875497621202,784.92379099683967,642.21557142857102,null,"2010-08-31",8.6986719614573535E-2,8.5015166515260712E-2,7.7726044241848161E-2,5439.0062999999991,10989.010799999996,23421.04229999999,473.12131599999896,934.23258299999804,1820.4249699999964]
["2010-08-28",777.00129999999967,{"$f":"SUM(K194:Q194)","v":69.000191999999856},8.8803187330574462E-2,null,null,null,null,null,null,11.000191999999856,null,null,null,58,null,null,null,null,null,null,null,"2013-10-21",{"$f":"(VLOOKUP($W194,$AG:$AU,10))/7","v":777.00099999999986},{"$f":"VLOOKUP($W194,$AG:$AU,11)/14","v":777.00064999999995},{"$f":"VLOOKUP($W194,$AG:$AU,12)/28","v":832.50149999999951},1.5857408868167778E-5,"2013-10-21",{"$f":"(VLOOKUP($AB194,$AG:$AU,8))/7","v":1.2321222547975229E-2},{"$f":"VLOOKUP($AB194,$AG:$AU,9)/14","v":5.599747825422185E-3},{"$f":"VLOOKUP($AB194,$AG:$AU,10)/28","v":194.25024999999997},null,"2013-10-21",776.98867877745192,776.99505025217456,638.25124999999957,null,"2010-09-01",8.7352585315664991E-2,8.6248557835826606E-2,7.8396469555910592E-2,5439.0069999999987,10878.009099999999,23310.041999999987,475.11132299999895,938.21259699999803,1827.4249979999963]
["2010-08-29",777.00139999999965,69.010192999999859,{"$f":"C195/B195","v":8.8816047178293236E-2},null,null,null,null,null,null,11.000192999999856,null,null,null,{"$f":"O194+0.01","v":58.01},null,null,null,null,null,null,null,"2013-10-28",{"$f":"(VLOOKUP($W195,$AG:$AU,10))/7","v":777.00109999999972},{"$f":"VLOOKUP($W195,$AG:$AU,11)/14","v":777.00074999999993},{"$f":"VLOOKUP($W195,$AG:$AU,12)/28","v":828.53720357142834},1.5924673860939154E-5,"2013-10-28",{"$f":"(VLOOKUP($AB195,$AG:$AU,8))/7","v":1.2373489107090966E-2},{"$f":"VLOOKUP($AB195,$AG:$AU,9)/14","v":5.6480936020732175E-3},{"$f":"VLOOKUP($AB195,$AG:$AU,10)/28","v":194.25027499999993},null,"2013-10-28",776.98872651089266,776.99510190639785,634.28692857142846,null,"2010-09-02",8.7718450922582639E-2,8.6614423749636765E-2,7.9073310429025045E-2,5439.0076999999983,10878.010499999999,23199.041699999994,477.10132999999894,942.19261099999801,1834.4250259999965]
["2010-08-30",{"$f":"B195+0.0001","v":777.00149999999962},122.00019399999985,0.15701410357637652,null,null,null,null,null,null,{"$f":"K195+0.000001","v":11.000193999999855},null,null,null,111,null,null,null,null,null,null,null,"2013-11-04",{"$f":"(VLOOKUP($W196,$AG:$AU,10))/7","v":777.0011999999997},{"$f":"VLOOKUP($W196,$AG:$AU,11)/14","v":777.00084999999979},{"$f":"VLOOKUP($W196,$AG:$AU,12)/28","v":824.57290714285671},1.6871165965786492E-5,"2013-11-04",{"$f":"(VLOOKUP($AB196,$AG:$AU,8))/7","v":1.3108916200815257E-2},{"$f":"VLOOKUP($AB196,$AG:$AU,9)/14","v":5.860810987383518E-3},{"$f":"VLOOKUP($AB196,$AG:$AU,10)/28","v":194.25029999999992},null,"2013-11-04",{"$f":"X196-AC196","v":776.98809108379885},{"$f":"Y196-AD196","v":776.99498918901236},630.32260714285678,null,"2010-09-03",9.7825062561035792E-2,9.1762413405706802E-2,8.2051353823369255E-2,5439.0083999999979,10878.011899999998,23088.041399999987,532.07133699999895,998.19262499999797,1894.4050539999967]
["2010-08-31",777.0015999999996,122.01019499999985,0.15702695464204955,null,null,null,null,null,null,11.000194999999854,null,null,null,111.01,null,null,null,null,null,null,null,{"$f":"W196+7","v":"2013-11-11"},{"$f":"(VLOOKUP($W197,$AG:$AU,10))/7","v":777.00129999999979},{"$f":"VLOOKUP($W197,$AG:$AU,11)/14","v":777.00094999999976},{"$f":"VLOOKUP($W197,$AG:$AU,12)/28","v":820.60861071428531},1.7817657583379414E-5,{"$f":"AB196+7","v":"2013-11-11"},{"$f":"(VLOOKUP($AB197,$AG:$AU,8))/7","v":1.384434310524066E-2},{"$f":"VLOOKUP($AB197,$AG:$AU,9)/14","v":6.0755836150099959E-3},{"$f":"VLOOKUP($AB197,$AG:$AU,10)/28","v":194.25032499999995},null,{"$f":"AG196+7","v":"2013-11-11"},776.98745565689455,776.99487441638473,626.35828571428533,null,"2010-09-04",0.10775516885970995,9.6910401736684623E-2,8.5058170610139941E-2,5439.0090999999984,10878.013299999997,22977.041099999988,586.08134399999892,1054.1926389999981,1954.3850819999966]
["2010-09-01",777.00169999999957,70.000195999999846,9.0090145233916327E-2,null,null,null,null,null,null,11.000195999999853,null,null,null,59,null,null,null,null,null,null,null,"2013-11-18",{"$f":"(VLOOKUP($W198,$AG:$AU,10))/7","v":777.00139999999976},{"$f":"VLOOKUP($W198,$AG:$AU,11)/14","v":777.00104999999974},{"$f":"VLOOKUP($W198,$AG:$AU,12)/28","v":816.64431428571402},1.7884922019639529E-5,"2013-11-18",{"$f":"(VLOOKUP($AB198,$AG:$AU,8))/7","v":1.3896609448150738E-2},{"$f":"VLOOKUP($AB198,$AG:$AU,9)/14","v":6.1269433416112516E-3},{"$f":"VLOOKUP($AB198,$AG:$AU,10)/28","v":194.25034999999994},null,"2013-11-18",776.98750339055164,776.99492305665808,622.39396428571411,null,"2010-09-05",0.10812103169955664,9.7276266137055159E-2,8.5777206782557527E-2,5439.009799999998,10878.014699999996,22866.040799999992,588.07135099999903,1058.1726529999978,1961.3851099999965]
["2010-09-02",777.00179999999955,70.010196999999849,9.0103004909383597E-2,null,null,null,null,null,null,11.000196999999853,null,null,null,{"$f":"O198+0.01","v":59.01},null,null,null,null,null,null,null,"2013-11-25",{"$f":"(VLOOKUP($W199,$AG:$AU,10))/7","v":777.00149999999951},{"$f":"VLOOKUP($W199,$AG:$AU,11)/14","v":777.00114999999983},{"$f":"VLOOKUP($W199,$AG:$AU,12)/28","v":812.68001785714262},1.7952186421271354E-5,"2013-11-25",{"$f":"(VLOOKUP($AB199,$AG:$AU,8))/7","v":1.3948875777607466E-2},{"$f":"VLOOKUP($AB199,$AG:$AU,9)/14","v":6.1788041391783611E-3},{"$f":"VLOOKUP($AB199,$AG:$AU,10)/28","v":194.25037499999988},null,"2013-11-25",776.98755112422191,776.99497119586067,618.42964285714277,null,"2010-09-06",0.1084868944452303,9.7642130443252262E-2,8.6503257948497059E-2,5439.0104999999967,10878.016099999997,22755.040499999992,590.0613579999989,1062.152666999998,1968.3851379999967]
["2010-09-03",777.00189999999952,70.020197999999851,9.0115864581540778E-2,null,null,null,null,null,null,11.000197999999852,null,null,null,59.019999999999996,null,null,null,null,null,null,null,"2013-12-02",{"$f":"(VLOOKUP($W200,$AG:$AU,10))/7","v":777.0015999999996},{"$f":"VLOOKUP($W200,$AG:$AU,11)/14","v":777.00124999999957},{"$f":"VLOOKUP($W200,$AG:$AU,12)/28","v":808.7157214285711},1.8003225159828245E-5,"2013-12-02",{"$f":"(VLOOKUP($AB200,$AG:$AU,8))/7","v":1.3988534754346795E-2},{"$f":"VLOOKUP($AB200,$AG:$AU,9)/14","v":6.231173376408829E-3},{"$f":"VLOOKUP($AB200,$AG:$AU,10)/28","v":194.2503999999999},null,"2013-12-02",776.98761146524521,776.99501882662321,614.4653214285712,null,"2010-09-07",0.10885275709673096,9.7919743280427574E-2,8.723642726972361E-2,5439.0111999999972,10878.017499999994,22644.040199999992,592.0513649999989,1065.172680999998,1975.3851659999968]
["2010-09-04",777.0019999999995,70.03019899999984,9.0128724250387884E-2,null,null,null,null,null,null,11.000198999999851,null,null,null,59.029999999999994,null,null,null,null,null,null,null,"2013-12-09",{"$f":"(VLOOKUP($W201,$AG:$AU,10))/7","v":777.00169999999969},{"$f":"VLOOKUP($W201,$AG:$AU,11)/14","v":777.00134999999966},{"$f":"VLOOKUP($W201,$AG:$AU,12)/28","v":804.7514249999997},1.8054263872109822E-5,"2013-12-09",{"$f":"(VLOOKUP($AB201,$AG:$AU,8))/7","v":1.4028193720877907E-2},{"$f":"VLOOKUP($AB201,$AG:$AU,9)/14","v":6.2840585671963076E-3},{"$f":"VLOOKUP($AB201,$AG:$AU,10)/28","v":194.25042499999992},null,"2013-12-09",776.98767180627885,776.99506594143247,610.50099999999975,null,"2010-09-08",0.10904211700658333,9.8197356046145351E-2,8.797681994074831E-2,5439.0118999999977,10878.018899999995,22533.039899999992,593.08137199999885,1068.1926949999979,1982.3851939999968]
["2010-09-05",777.00209999999947,71.00019999999985,9.1377101812208608E-2,null,null,null,null,null,null,11.00019999999985,null,null,null,60,null,null,null,null,null,null,null,"2013-12-16",{"$f":"(VLOOKUP($W202,$AG:$AU,10))/7","v":777.00179999999966},{"$f":"VLOOKUP($W202,$AG:$AU,11)/14","v":777.00144999999964},{"$f":"VLOOKUP($W202,$AG:$AU,12)/28","v":800.78712857142818},1.8121528178209819E-5,"2013-12-16",{"$f":"(VLOOKUP($AB202,$AG:$AU,8))/7","v":1.4080460013219744E-2},{"$f":"VLOOKUP($AB202,$AG:$AU,9)/14","v":6.3374673742245674E-3},{"$f":"VLOOKUP($AB202,$AG:$AU,10)/28","v":194.25044999999992},null,"2013-12-16",776.98771953998641,776.9951125326254,606.5366785714283,null,"2010-09-09",{"$f":"AS202/AP202","v":0.10940797949245404},9.8563220092538206E-2,8.8724543239143944E-2,{"$f":"SUM(B196:B202)","v":5439.0125999999973},10878.020299999995,22422.039599999989,{"$f":"SUM(C196:C202)","v":595.07137899999884},1072.1727089999979,1989.3852219999967]
["2010-09-06",777.00219999999945,71.010200999999853,9.138996131542472E-2,null,null,null,null,null,null,11.00020099999985,null,null,null,{"$f":"O202+0.01","v":60.01},null,null,null,null,null,null,null,"2013-12-23",{"$f":"(VLOOKUP($W203,$AG:$AU,10))/7","v":777.00189999999952},{"$f":"VLOOKUP($W203,$AG:$AU,11)/14","v":777.00154999999972},{"$f":"VLOOKUP($W203,$AG:$AU,12)/28","v":796.82283214285678},1.8188792449681598E-5,"2013-12-23",{"$f":"(VLOOKUP($AB203,$AG:$AU,8))/7","v":1.4132726292108247E-2},{"$f":"VLOOKUP($AB203,$AG:$AU,9)/14","v":6.3914076126687308E-3},{"$f":"VLOOKUP($AB203,$AG:$AU,10)/28","v":194.25047499999988},null,"2013-12-23",776.98776727370739,776.99515859238704,602.57235714285684,null,"2010-09-10",0.10003310453386814,9.8929084044757726E-2,8.9479706577362234E-2,5439.0132999999969,10878.021699999996,22311.039299999989,544.08138599999882,1076.1527229999979,1996.3852499999964]
["2010-09-07",777.00229999999942,71.020201999999841,9.1402820815330785E-2,null,null,null,null,null,null,11.000201999999849,null,null,null,60.019999999999996,null,null,null,null,null,null,null,"2013-12-30",{"$f":"(VLOOKUP($W204,$AG:$AU,10))/7","v":777.0019999999995},{"$f":"VLOOKUP($W204,$AG:$AU,11)/14","v":777.00164999999981},{"$f":"VLOOKUP($W204,$AG:$AU,12)/28","v":792.85853571428538},1.8239831074784396E-5,"2013-12-30",{"$f":"(VLOOKUP($AB204,$AG:$AU,8))/7","v":1.4172385224769617E-2},{"$f":"VLOOKUP($AB204,$AG:$AU,9)/14","v":6.4458872540075832E-3},{"$f":"VLOOKUP($AB204,$AG:$AU,10)/28","v":194.25049999999987},null,"2013-12-30",776.98782761477469,776.9952041127458,598.60803571428551,null,"2010-09-11",9.0658231988371279E-2,9.9206696573387321E-2,9.0242421556106164E-2,5439.0139999999965,10878.023099999997,22200.03899999999,493.0913929999989,1079.1727369999978,2003.3852779999966]
["2010-09-08",777.0023999999994,71.030202999999844,9.1415680311926831E-2,null,null,null,null,null,null,11.000202999999848,null,null,null,60.029999999999994,null,null,null,null,null,null,null,"2014-01-06",{"$f":"(VLOOKUP($W205,$AG:$AU,10))/7","v":777.00209999999959},{"$f":"VLOOKUP($W205,$AG:$AU,11)/14","v":777.00174999999956},{"$f":"VLOOKUP($W205,$AG:$AU,12)/28","v":788.89423928571398},1.8290869673611957E-5,"2014-01-06",{"$f":"(VLOOKUP($AB205,$AG:$AU,8))/7","v":1.4212044147222797E-2},{"$f":"VLOOKUP($AB205,$AG:$AU,9)/14","v":6.5009144299507807E-3},{"$f":"VLOOKUP($AB205,$AG:$AU,10)/28","v":194.2505249999999},null,"2014-01-06",776.98788795585233,776.99524908556964,594.64371428571405,null,"2010-09-12",9.0847594142372728E-2,9.9484309030559576E-2,9.1012802019310932E-2,5439.014699999997,10878.024499999994,22089.03869999999,494.12139999999891,1082.1927509999978,2010.3853059999965]
["2010-09-09",777.00249999999937,72.000203999999854,9.2664057065453345E-2,null,null,null,null,null,null,11.000203999999847,null,null,null,61,null,null,null,null,null,null,null,"2014-01-13",{"$f":"(VLOOKUP($W206,$AG:$AU,10))/7","v":777.00219999999956},{"$f":"VLOOKUP($W206,$AG:$AU,11)/14","v":777.00184999999954},{"$f":"VLOOKUP($W206,$AG:$AU,12)/28","v":784.92994285714235},1.8358133849552128E-5,"2014-01-13",{"$f":"(VLOOKUP($AB206,$AG:$AU,8))/7","v":1.4264310388996466E-2},{"$f":"VLOOKUP($AB206,$AG:$AU,9)/14","v":6.5564974364851073E-3},{"$f":"VLOOKUP($AB206,$AG:$AU,10)/28","v":194.25054999999989},null,"2014-01-13",776.98793568961059,776.99529350256307,590.67939285714249,null,"2010-09-13",9.1213458781528603E-2,9.9850172722975264E-2,9.1790964110791504E-2,5439.0153999999966,10878.025899999993,21978.038399999987,496.11140699999896,1086.1727649999978,2017.3853339999964]
["2010-09-10",777.00259999999935,72.010204999999843,9.2676916396418632E-2,null,null,null,null,null,null,11.000204999999847,null,null,null,{"$f":"O206+0.01","v":61.01},null,null,null,null,null,null,null,"2014-01-20",{"$f":"(VLOOKUP($W207,$AG:$AU,10))/7","v":777.00229999999931},{"$f":"VLOOKUP($W207,$AG:$AU,11)/14","v":777.00194999999962},{"$f":"VLOOKUP($W207,$AG:$AU,12)/28","v":780.96564642857095},1.8425397990864163E-5,"2014-01-20",{"$f":"(VLOOKUP($AB207,$AG:$AU,8))/7","v":1.4316576617316822E-2},{"$f":"VLOOKUP($AB207,$AG:$AU,9)/14","v":6.6126447380439341E-3},{"$f":"VLOOKUP($AB207,$AG:$AU,10)/28","v":194.25057499999983},null,"2014-01-20",776.98798342338205,776.99533735526154,586.71507142857115,null,"2010-09-14",9.1579323326511086E-2,0.10021603632121776,9.2577026332615081E-2,5439.0160999999953,10878.027299999994,21867.038099999987,498.10141399999895,1090.1527789999977,2024.3853619999961]
["2010-09-11",777.00269999999932,72.020205999999845,9.2689775724073942E-2,null,null,null,null,null,null,11.000205999999846,null,null,null,61.019999999999996,null,null,null,null,null,null,null,"2014-01-27",{"$f":"(VLOOKUP($W208,$AG:$AU,10))/7","v":777.0023999999994},{"$f":"VLOOKUP($W208,$AG:$AU,11)/14","v":777.00204999999949},{"$f":"VLOOKUP($W208,$AG:$AU,12)/28","v":777.00134999999966},1.8476436502513152E-5,"2014-01-27",{"$f":"(VLOOKUP($AB208,$AG:$AU,8))/7","v":1.4356235505900313E-2},{"$f":"VLOOKUP($AB208,$AG:$AU,9)/14","v":6.6693649718043433E-3},{"$f":"VLOOKUP($AB208,$AG:$AU,10)/28","v":194.25059999999985},null,"2014-01-27",776.98804376449345,776.99538063502769,582.75074999999981,null,"2010-09-15",9.1945187777320206E-2,0.10049364854130219,9.3371109605260807E-2,5439.0167999999958,10878.028699999993,21756.037799999991,500.09142099999889,1093.1727929999977,2031.3853899999963]
["2010-09-12",777.0027999999993,72.030206999999834,9.270263504841926E-2,null,null,null,null,null,null,11.000206999999845,null,null,null,61.029999999999994,null,null,null,null,null,null,null,"2014-02-03",{"$f":"(VLOOKUP($W209,$AG:$AU,10))/7","v":777.00249999999949},{"$f":"VLOOKUP($W209,$AG:$AU,11)/14","v":777.00214999999946},{"$f":"VLOOKUP($W209,$AG:$AU,12)/28","v":777.00144999999986},1.8527474987886955E-5,"2014-02-03",{"$f":"(VLOOKUP($AB209,$AG:$AU,8))/7","v":1.4395894384275623E-2},{"$f":"VLOOKUP($AB209,$AG:$AU,9)/14","v":6.6923463283374823E-3},{"$f":"VLOOKUP($AB209,$AG:$AU,10)/28","v":194.25062499999987},null,"2014-02-03",776.98810410561521,776.99545765367111,582.75082499999996,null,"2010-09-16",9.2134549668207402E-2,{"$f":"AT209/AQ209","v":0.10077126068992937},9.3692848596724748E-2,5439.0174999999963,{"$f":"SUM(B196:B209)","v":10878.030099999993},21756.040599999997,501.1214279999989,{"$f":"SUM(C196:C209)","v":1096.1928069999976},2038.3854179999962]
["2010-09-13",777.00289999999927,73.000207999999844,9.3951010993652551E-2,null,null,null,null,null,null,11.000207999999844,null,null,null,62,null,null,null,null,null,null,null,"2014-02-10",{"$f":"(VLOOKUP($W210,$AG:$AU,10))/7","v":777.00259999999946},{"$f":"VLOOKUP($W210,$AG:$AU,11)/14","v":777.00224999999955},{"$f":"VLOOKUP($W210,$AG:$AU,12)/28","v":777.00154999999972},1.7699289468654471E-5,"2014-02-10",{"$f":"(VLOOKUP($AB210,$AG:$AU,8))/7","v":1.3752393935297133E-2},{"$f":"VLOOKUP($AB210,$AG:$AU,9)/14","v":6.7153276789552281E-3},{"$f":"VLOOKUP($AB210,$AG:$AU,10)/28","v":194.25064999999987},null,"2014-02-10",776.98884760606416,776.99553467232056,582.75089999999989,null,"2010-09-17",9.2500413953385791E-2,9.6266757547079931E-2,9.4014587505373198E-2,5439.0181999999959,10878.031499999994,21756.043399999991,503.11143499999889,1047.1928209999976,2045.3854459999961]
["2010-09-14",777.00299999999925,73.010208999999847,9.3963870152367387E-2,null,null,null,null,null,null,11.000208999999844,null,null,null,{"$f":"O210+0.01","v":62.01},null,null,null,null,null,null,null,"2014-02-17",{"$f":"(VLOOKUP($W211,$AG:$AU,10))/7","v":777.00269999999932},{"$f":"VLOOKUP($W211,$AG:$AU,11)/14","v":777.00234999999952},{"$f":"VLOOKUP($W211,$AG:$AU,12)/28","v":777.00164999999959},{"$f":"AC211/X211","v":1.6871104375770296E-5},"2014-02-17",{"$f":"(VLOOKUP($AB211,$AG:$AU,8))/7","v":1.3108893651955325E-2},{"$f":"VLOOKUP($AB211,$AG:$AU,9)/14","v":6.7383090236575816E-3},{"$f":"VLOOKUP($AB211,$AG:$AU,10)/28","v":194.25067499999983},null,"2014-02-17",776.98959110634735,{"$f":"Y211-AD211","v":776.99561169097592},{"$f":"Z211-AE211","v":582.7509749999997},null,"2010-09-18",9.2866278144390954E-2,9.1762255563687278E-2,9.4336326331206144E-2,5439.0188999999955,10878.032899999993,21756.04619999999,505.10144199999894,998.19283499999756,2052.3854739999965]
["2010-09-15",666,73.020209999999835,0.10963995495495471,null,null,null,null,null,null,11.000209999999843,null,null,null,62.019999999999996,null,null,null,null,null,null,null,"2014-02-24",{"$f":"(VLOOKUP($W212,$AG:$AU,10))/7","v":761.14521428571368},{"$f":"VLOOKUP($W212,$AG:$AU,11)/14","v":769.07365714285663},{"$f":"VLOOKUP($W212,$AG:$AU,12)/28","v":773.03735357142818},{"$f":"AC212/X212","v":1.7452790753391137E-5},"2014-02-24",{"$f":"(VLOOKUP($AB212,$AG:$AU,8))/7","v":1.3284108157873618E-2},{"$f":"VLOOKUP($AB212,$AG:$AU,9)/14","v":6.795964541178044E-3},{"$f":"VLOOKUP($AB212,$AG:$AU,10)/28","v":190.28630357142842},null,"2014-02-24",761.13193017755577,{"$f":"Y212-AD212","v":769.06686117831543},582.75104999999974,null,"2010-09-19",9.5174526768075765E-2,9.2988757105115324E-2,9.5143503576492622E-2,5328.0164999999961,10767.031199999992,21645.04589999999,507.09144899999899,1001.2128489999976,2059.385501999996]
["2010-09-16",666.00009999999997,73.030210999999838,0.10965495500676327,null,null,null,null,null,null,11.000210999999842,null,null,null,62.029999999999994,null,null,null,null,null,null,null,"2014-03-03",{"$f":"(VLOOKUP($W213,$AG:$AU,10))/7","v":745.28772857142826},{"$f":"VLOOKUP($W213,$AG:$AU,11)/14","v":761.14496428571363},{"$f":"VLOOKUP($W213,$AG:$AU,12)/28","v":769.0730571428569},1.8064128115465382E-5,"2014-03-03",{"$f":"(VLOOKUP($AB213,$AG:$AU,8))/7","v":1.346297301179847E-2},{"$f":"VLOOKUP($AB213,$AG:$AU,9)/14","v":6.8542144458248579E-3},{"$f":"VLOOKUP($AB213,$AG:$AU,10)/28","v":186.32193214285707},null,"2014-03-03",745.27426559841649,761.13811007126776,582.75112499999977,null,"2010-09-20",9.7396987292021911E-2,9.424081108258929E-2,9.5959002241548005E-2,5217.0140999999976,10656.029499999991,21534.045599999994,508.12145599999889,1004.2328629999977,2066.3855299999964]
["2010-09-17",666.00019999999995,74.000211999999834,0.11111139606264359,null,null,null,null,null,null,11.000211999999841,null,null,null,63,null,null,null,null,null,null,null,"2014-03-10",{"$f":"(VLOOKUP($W214,$AG:$AU,10))/7","v":729.4302428571425},{"$f":"VLOOKUP($W214,$AG:$AU,11)/14","v":753.21627142857085},{"$f":"VLOOKUP($W214,$AG:$AU,12)/28","v":765.10876071428538},1.8725037898404197E-5,"2014-03-10",{"$f":"(VLOOKUP($AB214,$AG:$AU,8))/7","v":1.365860894174217E-2},{"$f":"VLOOKUP($AB214,$AG:$AU,9)/14","v":6.9130679767815829E-3},{"$f":"VLOOKUP($AB214,$AG:$AU,10)/28","v":182.35756071428563},null,"2014-03-10",729.41658424820071,753.20935836059402,582.7511999999997,null,"2010-09-21",9.9904092072487655E-2,9.5610262592195183E-2,9.6782951674942164E-2,5106.0116999999973,10545.027799999993,21423.045299999991,510.11146299999893,1008.2128769999975,2073.3855579999959]
["2010-09-18",666.00029999999992,74.010212999999837,0.11112639588901063,null,null,null,null,null,null,11.000212999999841,null,null,null,{"$f":"O214+0.01","v":63.01},null,null,null,null,null,null,null,"2014-03-17",{"$f":"(VLOOKUP($W215,$AG:$AU,10))/7","v":713.57275714285686},{"$f":"VLOOKUP($W215,$AG:$AU,11)/14","v":745.28757857142807},{"$f":"VLOOKUP($W215,$AG:$AU,12)/28","v":761.14446428571398},1.9421155380295963E-5,"2014-03-17",{"$f":"(VLOOKUP($AB215,$AG:$AU,8))/7","v":1.385840739161762E-2},{"$f":"VLOOKUP($AB215,$AG:$AU,9)/14","v":6.9725345657148914E-3},{"$f":"VLOOKUP($AB215,$AG:$AU,10)/28","v":178.39318928571421},null,"2014-03-17",713.55889873546528,745.28060603686231,582.75127499999974,null,"2010-09-22",0.10252262593384942,9.7008851741323343E-2,9.7615483920008475E-2,4995.0092999999979,10434.026099999994,21312.044999999991,512.10146999999881,1012.1928909999975,2080.3855859999962]
["2010-09-19",666.0003999999999,74.020213999999839,0.11114139571087323,null,null,null,null,null,null,11.00021399999984,null,null,null,63.019999999999996,null,null,null,null,null,null,null,"2014-03-24",{"$f":"(VLOOKUP($W216,$AG:$AU,10))/7","v":697.71527142857121},{"$f":"VLOOKUP($W216,$AG:$AU,11)/14","v":737.35888571428529},{"$f":"VLOOKUP($W216,$AG:$AU,12)/28","v":757.18016785714258},2.013603266280905E-5,"2014-03-24",{"$f":"(VLOOKUP($AB216,$AG:$AU,8))/7","v":1.4049217494826393E-2},{"$f":"VLOOKUP($AB216,$AG:$AU,9)/14","v":7.0326238418133794E-3},{"$f":"VLOOKUP($AB216,$AG:$AU,10)/28","v":174.4288178571428},null,"2014-03-24",697.70122221107636,737.35185309044346,582.75134999999977,null,"2010-09-23",0.10526018646697634,9.834452246378475E-2,9.8456733785387315E-2,4884.0068999999985,10323.024399999995,21201.044699999991,514.09147699999892,1015.2129049999976,2087.3856139999957]
["2010-09-20",666.00049999999987,74.030214999999828,0.11115639552823135,null,null,null,null,null,null,11.000214999999839,null,null,null,63.029999999999994,null,null,null,null,null,null,null,"2014-03-31",{"$f":"(VLOOKUP($W217,$AG:$AU,10))/7","v":681.85778571428557},{"$f":"VLOOKUP($W217,$AG:$AU,11)/14","v":729.43019285714252},{"$f":"VLOOKUP($W217,$AG:$AU,12)/28","v":753.21587142857118},2.0890244265735583E-5,"2014-03-31",{"$f":"(VLOOKUP($AB217,$AG:$AU,8))/7","v":1.4244175698065015E-2},{"$f":"VLOOKUP($AB217,$AG:$AU,9)/14","v":7.0933456369855347E-3},{"$f":"VLOOKUP($AB217,$AG:$AU,10)/28","v":170.46444642857139},null,"2014-03-31",681.84354153858749,729.42309951150548,582.75142499999981,null,"2010-09-24",0.10792394685569623,9.97092298864551E-2,9.9306838917797485E-2,4773.0044999999991,10212.022699999996,21090.044399999992,515.12148399999887,1018.2329189999975,2094.3856419999961]
["2010-09-21",666.00059999999985,33.000215999999838,4.9549829234387846E-2,null,null,null,null,null,null,11.000215999999838,null,null,null,22,null,null,null,null,null,null,null,"2014-04-07",{"$f":"(VLOOKUP($W218,$AG:$AU,10))/7","v":666.00029999999992},{"$f":"VLOOKUP($W218,$AG:$AU,11)/14","v":721.50149999999962},{"$f":"VLOOKUP($W218,$AG:$AU,12)/28","v":749.25157499999966},2.0815300718072839E-5,"2014-04-07",{"$f":"(VLOOKUP($AB218,$AG:$AU,8))/7","v":1.3862996522826725E-2},{"$f":"VLOOKUP($AB218,$AG:$AU,9)/14","v":7.0117101488228039E-3},{"$f":"VLOOKUP($AB218,$AG:$AU,10)/28","v":166.50007499999998},null,"2014-04-07",665.98643700347714,721.49448828985078,582.75149999999962,null,"2010-09-25",0.10191147082494856,9.7040975659787074E-2,9.8163942083519251E-2,4662.0020999999997,10101.020999999995,20979.044099999992,475.11149099999886,980.21293299999763,2059.3856699999956]
["2010-09-22",666.00069999999982,33.010216999999841,4.9564838295214776E-2,null,null,null,null,null,null,11.000216999999838,null,null,null,{"$f":"O218+0.01","v":22.01},null,null,null,null,null,null,null,"2014-04-14",{"$f":"(VLOOKUP($W219,$AG:$AU,10))/7","v":666.0003999999999},{"$f":"VLOOKUP($W219,$AG:$AU,11)/14","v":713.57280714285673},{"$f":"VLOOKUP($W219,$AG:$AU,12)/28","v":745.28727857142803},2.0230237978662012E-5,"2014-04-14",{"$f":"(VLOOKUP($AB219,$AG:$AU,8))/7","v":1.347334658588409E-2},{"$f":"VLOOKUP($AB219,$AG:$AU,9)/14","v":6.9292061974956772E-3},{"$f":"VLOOKUP($AB219,$AG:$AU,10)/28","v":166.50009999999997},null,"2014-04-14",665.986926653414,713.56587793665926,578.78717857142806,null,"2010-09-26",9.3329308596725627E-2,9.4313426101188633E-2,9.7008886764939475E-2,4662.0027999999993,9990.0192999999945,20868.043799999985,435.10149799999886,942.19294699999773,2024.3856979999957]
["2010-09-23",666.0007999999998,33.020217999999844,4.9579847351534492E-2,null,null,null,null,null,null,11.000217999999837,null,null,null,22.020000000000003,null,null,null,null,null,null,null,"2014-04-21",{"$f":"(VLOOKUP($W220,$AG:$AU,10))/7","v":666.00049999999987},{"$f":"VLOOKUP($W220,$AG:$AU,11)/14","v":705.64411428571407},{"$f":"VLOOKUP($W220,$AG:$AU,12)/28","v":741.32298214285663},1.9611183648868312E-5,"2014-04-21",{"$f":"(VLOOKUP($AB220,$AG:$AU,8))/7","v":1.3061058115738117E-2},{"$f":"VLOOKUP($AB220,$AG:$AU,9)/14","v":6.845819850431552E-3},{"$f":"VLOOKUP($AB220,$AG:$AU,10)/28","v":166.50012499999997},null,"2014-04-21",665.98743894188419,705.6372684658636,574.82285714285672,null,"2010-09-27",8.4747148945726644E-2,9.1427406810166825E-2,9.5841477906041722E-2,4662.0034999999989,9879.0175999999974,20757.043499999985,395.09150499999885,903.21296099999768,1989.3857259999957]
["2010-09-24",666.00089999999977,33.030218999999839,4.959485640334698E-2,null,null,null,null,null,null,11.000218999999836,null,null,null,22.030000000000005,null,null,null,null,null,null,null,"2014-04-28",{"$f":"(VLOOKUP($W221,$AG:$AU,10))/7","v":666.00059999999996},{"$f":"VLOOKUP($W221,$AG:$AU,11)/14","v":697.71542142857118},{"$f":"VLOOKUP($W221,$AG:$AU,12)/28","v":737.35868571428546},1.8978059966964073E-5,"2014-04-28",{"$f":"(VLOOKUP($AB221,$AG:$AU,8))/7","v":1.2639399324834053E-2},{"$f":"VLOOKUP($AB221,$AG:$AU,9)/14","v":6.7615368754324395E-3},{"$f":"VLOOKUP($AB221,$AG:$AU,10)/28","v":166.50014999999999},null,"2014-04-28",665.98796060067514,697.70865989169579,570.85853571428549,null,"2010-09-28",7.5959071851543783E-2,8.8475795273838365E-2,9.4661516256054151E-2,4662.0041999999994,9768.0158999999967,20646.043199999993,354.12151199999886,864.23297499999774,1954.3857539999956]
["2010-09-25",666.00099999999975,76.000219999999842,0.11411427310169185,null,null,null,null,null,null,11.000219999999835,null,null,null,65,null,null,null,null,null,null,null,"2014-05-05",{"$f":"(VLOOKUP($W222,$AG:$AU,10))/7","v":666.00069999999971},{"$f":"VLOOKUP($W222,$AG:$AU,11)/14","v":689.7867285714284},{"$f":"VLOOKUP($W222,$AG:$AU,12)/28","v":733.39438928571394},1.9284602132341539E-5,"2014-05-05",{"$f":"(VLOOKUP($AB222,$AG:$AU,8))/7","v":1.2843558519360952E-2},{"$f":"VLOOKUP($AB222,$AG:$AU,9)/14","v":6.8224344653582967E-3},{"$f":"VLOOKUP($AB222,$AG:$AU,10)/28","v":166.50017499999993},null,"2014-05-05",665.9878564414804,689.77990613696306,566.89421428571404,null,"2010-09-29",7.638591692599872E-2,8.9904909635526664E-2,9.5514082515016155E-2,4662.0048999999981,9657.0141999999978,20535.042899999989,356.11151899999885,868.21298899999761,1961.3857819999955]
["2010-09-26",666.00109999999972,76.010220999999845,0.11412927245915942,null,null,null,null,null,null,11.000220999999835,null,null,null,{"$f":"O222+0.01","v":65.010000000000005},null,null,null,null,null,null,null,"2014-05-12",{"$f":"(VLOOKUP($W223,$AG:$AU,10))/7","v":666.0007999999998},{"$f":"VLOOKUP($W223,$AG:$AU,11)/14","v":681.85803571428551},{"$f":"VLOOKUP($W223,$AG:$AU,12)/28","v":729.43009285714254},1.9598273258276681E-5,"2014-05-12",{"$f":"(VLOOKUP($AB223,$AG:$AU,8))/7","v":1.3052465668630872E-2},{"$f":"VLOOKUP($AB223,$AG:$AU,9)/14","v":6.8839939860177914E-3},{"$f":"VLOOKUP($AB223,$AG:$AU,10)/28","v":166.50019999999995},null,"2014-05-12",665.98774753433122,681.85115172029953,562.92989285714259,null,"2010-09-30",7.6812761872272081E-2,9.1367259680416105E-2,{"$f":"AU223/AR223","v":9.6375915804249077E-2},4662.0055999999986,9546.0124999999971,{"$f":"SUM(B196:B223)","v":20424.04259999999},358.10152599999884,872.19300299999793,{"$f":"SUM(C196:C223)","v":1968.3858099999954}]
["2010-09-27",666.0011999999997,76.020221999999848,0.11414427181212268,null,null,null,null,null,null,11.000221999999834,null,null,null,65.02000000000001,null,null,null,null,null,null,null,"2014-05-19",{"$f":"(VLOOKUP($W224,$AG:$AU,10))/7","v":666.00089999999977},{"$f":"VLOOKUP($W224,$AG:$AU,11)/14","v":673.92934285714261},{"$f":"VLOOKUP($W224,$AG:$AU,12)/28","v":725.46579642857102},1.9897499872121587E-5,"2014-05-19",{"$f":"(VLOOKUP($AB224,$AG:$AU,8))/7","v":1.3251752822582856E-2},{"$f":"VLOOKUP($AB224,$AG:$AU,9)/14","v":6.7599279658018263E-3},{"$f":"VLOOKUP($AB224,$AG:$AU,10)/28","v":166.50022499999994},null,"2014-05-19",665.98764824717716,673.92258292917677,558.96557142857114,null,"2010-10-01",7.7239606690363977E-2,9.2762269758079996E-2,9.4638991521225568E-2,4662.0062999999982,9435.0107999999964,20313.04229999999,360.09153299999889,875.21301699999788,1922.4058379999954]
["2010-09-28",666.00129999999967,76.03022299999985,0.11415927116058165,null,null,null,null,null,null,11.000222999999833,null,null,null,65.030000000000015,null,null,null,null,null,null,null,"2014-05-26",{"$f":"(VLOOKUP($W225,$AG:$AU,10))/7","v":666.00099999999986},{"$f":"VLOOKUP($W225,$AG:$AU,11)/14","v":666.00064999999995},{"$f":"VLOOKUP($W225,$AG:$AU,12)/28","v":721.50149999999962},2.0203851010450317E-5,"2014-05-26",{"$f":"(VLOOKUP($AB225,$AG:$AU,8))/7","v":1.3455784976810919E-2},{"$f":"VLOOKUP($AB225,$AG:$AU,9)/14","v":6.6344985818760161E-3},{"$f":"VLOOKUP($AB225,$AG:$AU,10)/28","v":166.50024999999997},null,"2014-05-26",665.98754421502304,665.99401550141806,555.00124999999969,null,"2010-10-02",8.6469526965532034E-2,9.4190494837676428E-2,9.2882980146264227E-2,4662.0069999999987,9324.0090999999993,20202.04199999999,403.12153999999896,878.23303099999794,1876.4258659999953]
["2010-09-29",666.00139999999965,77.000223999999832,0.11561570891592701,null,null,null,null,null,null,11.000223999999832,null,null,null,66,null,null,null,null,null,null,null,"2014-06-02",{"$f":"(VLOOKUP($W226,$AG:$AU,10))/7","v":666.00109999999972},{"$f":"VLOOKUP($W226,$AG:$AU,11)/14","v":666.00074999999981},{"$f":"VLOOKUP($W226,$AG:$AU,12)/28","v":717.53720357142822},2.029540559159484E-5,"2014-06-02",{"$f":"(VLOOKUP($AB226,$AG:$AU,8))/7","v":1.3516762448948309E-2},{"$f":"VLOOKUP($AB226,$AG:$AU,9)/14","v":6.6960401062728242E-3},{"$f":"VLOOKUP($AB226,$AG:$AU,10)/28","v":166.50027499999993},null,"2014-06-02",665.98758323755078,665.99405395989356,551.03692857142823,null,"2010-10-03",9.5905364334769122E-2,9.4617337142638161E-2,9.3744561487819539E-2,4662.0076999999983,9324.0104999999967,20091.041699999991,447.11154699999889,882.21304499999792,1883.4258939999954]
["2010-09-30",666.00149999999962,77.010224999999835,0.11563070803894568,null,null,null,null,null,null,11.000224999999832,null,null,null,{"$f":"O226+0.01","v":66.010000000000005},null,null,null,null,null,null,null,"2014-06-09",{"$f":"(VLOOKUP($W227,$AG:$AU,10))/7","v":666.0011999999997},{"$f":"VLOOKUP($W227,$AG:$AU,11)/14","v":666.00084999999979},{"$f":"VLOOKUP($W227,$AG:$AU,12)/28","v":713.57290714285682},2.0386960117750794E-5,"2014-06-09",{"$f":"(VLOOKUP($AB227,$AG:$AU,8))/7","v":1.3577739902774165E-2},{"$f":"VLOOKUP($AB227,$AG:$AU,9)/14","v":6.758265425816372E-3},{"$f":"VLOOKUP($AB227,$AG:$AU,10)/28","v":166.50029999999992},null,"2014-06-09",665.98762226009694,665.994091734574,547.0726071428569,null,"2010-10-04",0.10534119887042656,9.504417931941915E-2,9.4615715961429203E-2,4662.0083999999979,9324.0118999999977,19980.041399999991,491.10155399999894,886.19305899999779,1890.4259219999954]
["2010-10-01",666.0015999999996,77.020225999999838,0.11564570715746011,null,null,null,null,null,null,11.000225999999831,null,null,null,66.02000000000001,null,null,null,null,null,null,null,"2014-06-16",{"$f":"(VLOOKUP($W228,$AG:$AU,10))/7","v":666.00129999999967},{"$f":"VLOOKUP($W228,$AG:$AU,11)/14","v":666.00094999999988},{"$f":"VLOOKUP($W228,$AG:$AU,12)/28","v":709.60861071428542},2.0456429699359494E-5,"2014-06-16",{"$f":"(VLOOKUP($AB228,$AG:$AU,8))/7","v":1.3624008773132025E-2},{"$f":"VLOOKUP($AB228,$AG:$AU,9)/14","v":6.8211860007677833E-3},{"$f":"VLOOKUP($AB228,$AG:$AU,10)/28","v":166.50032499999992},null,"2014-06-16",665.98767599122652,{"$f":"Y228-AD228","v":665.99412881399905},543.10828571428556,null,"2010-10-05",0.11477703057250556,9.5368061411924179E-2,9.549660401074897E-2,4662.0090999999975,9324.0132999999987,19869.041099999991,535.09156099999882,889.21307299999773,1897.4259499999953]
["2010-10-02",666.00169999999957,77.03022699999984,0.11566070627147031,null,null,null,null,null,null,11.00022699999983,null,null,null,66.030000000000015,null,null,null,null,null,null,null,"2014-06-23",{"$f":"(VLOOKUP($W229,$AG:$AU,10))/7","v":666.00139999999976},{"$f":"VLOOKUP($W229,$AG:$AU,11)/14","v":666.00104999999962},{"$f":"VLOOKUP($W229,$AG:$AU,12)/28","v":705.64431428571402},2.0525899239243897E-5,"2014-06-23",{"$f":"(VLOOKUP($AB229,$AG:$AU,8))/7","v":1.3670277629595365E-2},{"$f":"VLOOKUP($AB229,$AG:$AU,9)/14","v":6.8848135489223052E-3},{"$f":"VLOOKUP($AB229,$AG:$AU,10)/28","v":166.50034999999994},null,"2014-06-23",665.9877297223702,665.99416518645069,539.14396428571411,null,"2010-10-06",0.11499794959675956,9.5691943407167551E-2,9.638738968491227E-2,4662.009799999998,9324.0146999999943,19758.040799999992,536.12156799999889,892.23308699999779,1904.425977999995]
["2010-10-03",666.00179999999955,78.000227999999822,0.11711714292664055,null,null,null,null,null,null,11.000227999999829,null,null,null,67,null,null,null,null,null,null,null,"2014-06-30",{"$f":"(VLOOKUP($W230,$AG:$AU,10))/7","v":666.00149999999951},{"$f":"VLOOKUP($W230,$AG:$AU,11)/14","v":666.00114999999983},{"$f":"VLOOKUP($W230,$AG:$AU,12)/28","v":701.68001785714262},2.0617453613698564E-5,"2014-06-30",{"$f":"(VLOOKUP($AB230,$AG:$AU,8))/7","v":1.3731255032903655E-2},{"$f":"VLOOKUP($AB230,$AG:$AU,9)/14","v":6.9491600528842857E-3},{"$f":"VLOOKUP($AB230,$AG:$AU,10)/28","v":166.50037499999988},null,"2014-06-30",665.98776874496662,665.99420083994698,535.17964285714277,null,"2010-10-07",0.11542478829680868,9.611878523032559E-2,9.7288240740380005E-2,4662.0104999999967,9324.0160999999971,19647.040499999992,538.11157499999877,896.21310099999778,1911.4260059999951]
["2010-10-04",666.00189999999952,78.010228999999839,0.11713214181521088,null,null,null,null,null,null,11.000228999999829,null,null,null,{"$f":"O230+0.01","v":67.010000000000005},null,null,null,null,null,null,null,"2014-07-07",{"$f":"(VLOOKUP($W231,$AG:$AU,10))/7","v":666.0015999999996},{"$f":"VLOOKUP($W231,$AG:$AU,11)/14","v":666.00124999999969},{"$f":"VLOOKUP($W231,$AG:$AU,12)/28","v":697.7157214285711},2.0709007933164824E-5,"2014-07-07",{"$f":"(VLOOKUP($AB231,$AG:$AU,8))/7","v":1.3792232417900457E-2},{"$f":"VLOOKUP($AB231,$AG:$AU,9)/14","v":7.0142377675901637E-3},{"$f":"VLOOKUP($AB231,$AG:$AU,10)/28","v":166.5003999999999},null,"2014-07-07",665.98780776758167,665.99423576223205,531.2153214285712,null,"2010-10-08",0.11585162686867831,9.6545626925303205E-2,9.819932874626229E-2,4662.0111999999972,9324.0174999999963,19536.040199999992,540.10158199999887,900.19311499999787,1918.4260339999951]
["2010-10-05",666.0019999999995,78.020229999999842,0.11714714069927704,null,null,null,null,null,null,11.000229999999828,null,null,null,67.02000000000001,null,null,null,null,null,null,null,"2014-07-14",{"$f":"(VLOOKUP($W232,$AG:$AU,10))/7","v":666.00169999999957},{"$f":"VLOOKUP($W232,$AG:$AU,11)/14","v":666.00134999999966},{"$f":"VLOOKUP($W232,$AG:$AU,12)/28","v":693.7514249999997},2.1744690092192484E-5,"2014-07-14",{"$f":"(VLOOKUP($AB232,$AG:$AU,8))/7","v":1.4482000567373341E-2},{"$f":"VLOOKUP($AB232,$AG:$AU,9)/14","v":7.0800592280893951E-3},{"$f":"VLOOKUP($AB232,$AG:$AU,10)/28","v":166.50042499999989},null,"2014-07-14",665.98721799943223,665.99426994077157,527.25099999999975,null,"2010-10-09",0.11627846531236852,0.10137400397161339,9.9120829193251533E-2,4662.0118999999968,9324.0188999999955,19425.039899999992,542.09158899999886,945.21312899999782,1925.4260619999952]
["2010-10-06",666.00209999999947,78.030230999999844,0.11716213957883903,null,null,null,null,null,null,11.000230999999827,null,null,null,67.030000000000015,null,null,null,null,null,null,null,"2014-07-21",{"$f":"(VLOOKUP($W233,$AG:$AU,10))/7","v":666.00179999999966},{"$f":"VLOOKUP($W233,$AG:$AU,11)/14","v":666.00144999999964},{"$f":"VLOOKUP($W233,$AG:$AU,12)/28","v":689.78712857142818},2.2780371629189443E-5,"2014-07-21",{"$f":"(VLOOKUP($AB233,$AG:$AU,8))/7","v":1.5171768509709095E-2},{"$f":"VLOOKUP($AB233,$AG:$AU,9)/14","v":7.1466372575936807E-3},{"$f":"VLOOKUP($AB233,$AG:$AU,10)/28","v":166.50044999999992},null,"2014-07-21",665.98662823148993,665.99430336274202,523.2866785714283,null,"2010-10-10",0.11649938397849874,0.10620237956796366,0.10005292160631153,4662.0125999999973,9324.0202999999947,19314.039599999989,543.12159599999893,990.23314299999788,1932.4260899999954]
["2010-10-07",666.00219999999945,79.000231999999826,0.11861857513383574,null,null,null,null,null,null,11.000231999999826,null,null,null,68,null,null,null,null,null,null,null,"2014-07-28",{"$f":"(VLOOKUP($W234,$AG:$AU,10))/7","v":666.00189999999952},{"$f":"VLOOKUP($W234,$AG:$AU,11)/14","v":666.00154999999961},{"$f":"VLOOKUP($W234,$AG:$AU,12)/28","v":685.82283214285678},2.3838137393922395E-5,"2014-07-28",{"$f":"(VLOOKUP($AB234,$AG:$AU,8))/7","v":1.5876244796813353E-2},{"$f":"VLOOKUP($AB234,$AG:$AU,9)/14","v":7.2139849758053529E-3},{"$f":"VLOOKUP($AB234,$AG:$AU,10)/28","v":166.50047499999988},null,"2014-07-28",665.98602375520272,665.9943360150238,519.32235714285684,null,"2010-10-11",0.11692622219674904,0.11113371357769347,0.10099578966127494,4662.0132999999969,9324.0216999999939,19203.039299999989,545.11160299999892,1036.2131569999979,1939.4261179999953]
["2010-10-08",666.00229999999942,79.010232999999829,0.11863357378795823,null,null,null,null,null,null,11.000232999999826,null,null,null,{"$f":"O234+0.01","v":68.010000000000005},null,null,null,null,null,null,null,"2014-08-04",{"$f":"(VLOOKUP($W235,$AG:$AU,10))/7","v":666.0019999999995},{"$f":"VLOOKUP($W235,$AG:$AU,11)/14","v":666.00164999999959},{"$f":"VLOOKUP($W235,$AG:$AU,12)/28","v":681.85853571428538},2.4895902523361342E-5,"2014-08-04",{"$f":"(VLOOKUP($AB235,$AG:$AU,8))/7","v":1.6580720872363688E-2},{"$f":"VLOOKUP($AB235,$AG:$AU,9)/14","v":7.2821158075363091E-3},{"$f":"VLOOKUP($AB235,$AG:$AU,10)/28","v":166.50049999999987},null,"2014-08-04",665.98541927912709,665.994367884192,515.35803571428551,null,"2010-10-12",0.11735306028682008,0.11606504610654582,0.10194962130550833,4662.0139999999965,9324.0230999999949,19092.03899999999,547.1016099999988,1082.1931709999976,1946.426145999995]
["2010-10-09",666.0023999999994,79.020233999999832,0.11864857243757665,null,null,null,null,null,null,11.000233999999825,null,null,null,68.02000000000001,null,null,null,null,null,null,null,"2014-08-11",{"$f":"(VLOOKUP($W236,$AG:$AU,10))/7","v":666.00209999999947},{"$f":"VLOOKUP($W236,$AG:$AU,11)/14","v":666.00174999999967},{"$f":"VLOOKUP($W236,$AG:$AU,12)/28","v":677.89423928571398},2.4965370584036642E-5,"2014-08-11",{"$f":"(VLOOKUP($AB236,$AG:$AU,8))/7","v":1.6626989236246618E-2},{"$f":"VLOOKUP($AB236,$AG:$AU,9)/14","v":7.3510434916293447E-3},{"$f":"VLOOKUP($AB236,$AG:$AU,10)/28","v":166.50052499999987},null,"2014-08-11",665.98547301076326,665.99439895650801,511.39371428571411,null,"2010-10-13",0.11777989824871192,0.11638892465372633,0.10291460888281083,4662.0146999999961,9324.0244999999959,18981.03869999999,549.09161699999879,1085.2131849999978,1953.4261739999952]
["2010-10-10",666.00249999999937,79.030234999999834,0.11866357108269099,null,null,null,null,null,null,11.000234999999824,null,null,null,68.030000000000015,null,null,null,null,null,null,null,"2014-08-18",{"$f":"(VLOOKUP($W237,$AG:$AU,10))/7","v":666.00219999999956},{"$f":"VLOOKUP($W237,$AG:$AU,11)/14","v":666.00184999999954},{"$f":"VLOOKUP($W237,$AG:$AU,12)/28","v":673.92994285714269},2.5034838602988393E-5,"2014-08-18",{"$f":"(VLOOKUP($AB237,$AG:$AU,8))/7","v":1.6673257586235186E-2},{"$f":"VLOOKUP($AB237,$AG:$AU,9)/14","v":7.4207820901943536E-3},{"$f":"VLOOKUP($AB237,$AG:$AU,10)/28","v":166.50054999999989},null,"2014-08-18",665.9855267424133,665.99442921790933,507.42939285714283,null,"2010-10-14",0.11800081655671907,0.1167128031036463,0.10389094926272095,4662.0153999999966,9324.0258999999933,18870.038399999994,550.12162399999886,1088.2331989999977,1960.4262019999956]
["2010-10-11",666.00259999999935,80.00023599999983,0.12012000553751578,null,null,null,null,null,null,11.000235999999823,null,null,null,69,null,null,null,null,null,null,null,"2014-08-25",{"$f":"(VLOOKUP($W238,$AG:$AU,10))/7","v":666.00229999999931},{"$f":"VLOOKUP($W238,$AG:$AU,11)/14","v":666.00194999999962},{"$f":"VLOOKUP($W238,$AG:$AU,12)/28","v":669.96564642857095},2.5126391403454626E-5,"2014-08-25",{"$f":"(VLOOKUP($AB238,$AG:$AU,8))/7","v":1.6734234465400993E-2},{"$f":"VLOOKUP($AB238,$AG:$AU,9)/14","v":7.4913459981724639E-3},{"$f":"VLOOKUP($AB238,$AG:$AU,10)/28","v":166.50057499999983},null,"2014-08-25",665.98556576553392,665.99445865400151,503.46507142857115,null,"2010-10-15",0.11842765429317145,0.11713964125780696,0.10487884397441449,4662.0160999999953,9324.0272999999943,18759.038099999987,552.11163099999885,1092.2132129999977,1967.4262299999955]
["2010-10-12",666.00269999999932,80.010236999999833,0.12013500395719104,null,null,null,null,null,null,11.000236999999823,null,null,null,{"$f":"O238+0.01","v":69.010000000000005},null,null,null,null,null,null,null,"2014-09-01",{"$f":"(VLOOKUP($W239,$AG:$AU,10))/7","v":666.0023999999994},{"$f":"VLOOKUP($W239,$AG:$AU,11)/14","v":666.00204999999949},{"$f":"VLOOKUP($W239,$AG:$AU,12)/28","v":666.00134999999977},2.5217944148933249E-5,"2014-09-01",{"$f":"(VLOOKUP($AB239,$AG:$AU,8))/7","v":1.6795211326255485E-2},{"$f":"VLOOKUP($AB239,$AG:$AU,9)/14","v":7.5627499532417135E-3},{"$f":"VLOOKUP($AB239,$AG:$AU,10)/28","v":166.50059999999985},null,"2014-09-01",665.98560478867319,665.99448725004629,499.50074999999993,null,"2010-10-16",0.11885449190144474,0.1175664792837884,0.10587849934538399,4662.0167999999958,9324.0286999999935,18648.037799999995,554.10163799999884,1096.1932269999977,1974.4262579999952]
["2010-10-13",666.0027999999993,122.00023799999983,0.18318277040276701,null,null,null,null,null,null,11.000237999999822,null,null,null,111,null,null,null,null,null,null,null,"2014-09-08",{"$f":"(VLOOKUP($W240,$AG:$AU,10))/7","v":666.00249999999937},{"$f":"VLOOKUP($W240,$AG:$AU,11)/14","v":666.00214999999946},{"$f":"VLOOKUP($W240,$AG:$AU,12)/28","v":666.00144999999964},2.6253162365600458E-5,"2014-09-08",{"$f":"(VLOOKUP($AB240,$AG:$AU,8))/7","v":1.7484671768395802E-2},{"$f":"VLOOKUP($AB240,$AG:$AU,9)/14","v":7.7503595969525708E-3},{"$f":"VLOOKUP($AB240,$AG:$AU,10)/28","v":166.50062499999984},null,"2014-09-08",665.98501532823093,665.99439964040255,499.50082499999979,null,"2010-10-17",0.12828601458488723,0.12239270237877062,0.10850503435733599,4662.0174999999954,9324.0300999999927,18648.040599999989,598.07164499999885,1141.1932409999979,2023.4062859999954]
["2010-10-14",666.00289999999927,122.01023899999983,0.18319775934909588,null,null,null,null,null,null,11.000238999999821,null,null,null,111.01,null,null,null,null,null,null,null,"2014-09-15",{"$f":"(VLOOKUP($W241,$AG:$AU,10))/7","v":666.00259999999946},{"$f":"VLOOKUP($W241,$AG:$AU,11)/14","v":666.00224999999955},{"$f":"VLOOKUP($W241,$AG:$AU,12)/28","v":666.00154999999972},2.7288379960516138E-5,"2014-09-15",{"$f":"(VLOOKUP($AB241,$AG:$AU,8))/7","v":1.817413200349163E-2},{"$f":"VLOOKUP($AB241,$AG:$AU,9)/14","v":7.9379691843243245E-3},{"$f":"VLOOKUP($AB241,$AG:$AU,10)/28","v":166.50064999999987},null,"2014-09-15",665.98442586799592,665.99431203081519,499.50089999999989,null,"2010-10-18",0.13751161503402098,0.1272189240244414,0.11113156858054053,4662.0181999999959,9324.0314999999937,18648.043399999991,641.08165199999883,1186.1932549999976,2072.3863139999953]
["2010-10-15",666.00299999999925,81.00023999999982,0.12162143413768393,null,null,null,null,null,null,11.00023999999982,null,null,null,70,null,null,null,null,null,null,null,"2014-09-22",{"$f":"(VLOOKUP($W242,$AG:$AU,10))/7","v":666.00269999999932},{"$f":"VLOOKUP($W242,$AG:$AU,11)/14","v":666.00234999999941},{"$f":"VLOOKUP($W242,$AG:$AU,12)/28","v":666.00164999999981},2.7379931974268446E-5,"2014-09-22",{"$f":"(VLOOKUP($AB242,$AG:$AU,8))/7","v":1.8235108620679098E-2},{"$f":"VLOOKUP($AB242,$AG:$AU,9)/14","v":7.9647805600751125E-3},{"$f":"VLOOKUP($AB242,$AG:$AU,10)/28","v":166.50067499999983},null,"2014-09-22",665.98446489137859,665.99438521943932,499.50097499999998,null,"2010-10-19",0.13793844958457793,0.12764576034475369,0.11150692784105157,4662.0188999999955,9324.0328999999911,18648.046199999993,643.07165899999882,1190.1732689999976,2079.3863419999952]
["2010-10-16",55,81.010240999999823,1.4729134727272695,null,null,null,null,null,null,11.00024099999982,null,null,null,{"$f":"O242+0.01","v":70.010000000000005},null,null,null,null,null,null,null,"2014-09-29",{"$f":"(VLOOKUP($W243,$AG:$AU,10))/7","v":578.71664285714223},{"$f":"VLOOKUP($W243,$AG:$AU,11)/14","v":622.35937142857085},{"$f":"VLOOKUP($W243,$AG:$AU,12)/28","v":644.18021071428541},3.3831931723202933E-5,"2014-09-29",{"$f":"(VLOOKUP($AB243,$AG:$AU,8))/7","v":1.9579101948224053E-2},{"$f":"VLOOKUP($AB243,$AG:$AU,9)/14","v":8.2623062935789603E-3},{"$f":"VLOOKUP($AB243,$AG:$AU,10)/28","v":144.67916071428556},null,"2014-09-29",578.69706375519399,622.35110912227731,499.50104999999985,null,"2010-10-20",0.159234519533554,0.13705371363756838,0.11567228811010545,4051.0164999999956,8713.0311999999922,18037.04589999999,645.06166599999881,1194.1532829999976,2086.3863699999952]
["2010-10-17",55.000100000000003,81.020241999999826,1.4730926307406682,null,null,null,null,null,null,11.000241999999819,null,null,null,70.02000000000001,null,null,null,null,null,null,null,"2014-10-06",{"$f":"(VLOOKUP($W244,$AG:$AU,10))/7","v":491.43058571428526},{"$f":"VLOOKUP($W244,$AG:$AU,11)/14","v":578.71639285714241},{"$f":"VLOOKUP($W244,$AG:$AU,12)/28","v":622.35877142857123},4.2953937264847873E-5,"2014-10-06",{"$f":"(VLOOKUP($AB244,$AG:$AU,8))/7","v":2.1108878548798855E-2},{"$f":"VLOOKUP($AB244,$AG:$AU,9)/14","v":8.580696004671453E-3},{"$f":"VLOOKUP($AB244,$AG:$AU,10)/28","v":122.85764642857131},null,"2014-10-06",491.40947683573648,{"$f":"Y244-AD244","v":578.70781216113778},499.50112499999989,null,"2010-10-21",0.18809564559633621,0.14776214984159197,0.12012974406540035,3440.0140999999967,8102.0294999999942,17426.045599999994,647.0516729999988,1197.1732969999975,2093.3863979999951]
["2010-10-18",55.000200000000007,81.030242999999828,1.4732717881025854,null,null,null,null,null,null,11.000242999999818,null,null,null,70.030000000000015,null,null,null,null,null,null,null,"2014-10-13",{"$f":"(VLOOKUP($W245,$AG:$AU,10))/7","v":404.14452857142817},{"$f":"VLOOKUP($W245,$AG:$AU,11)/14","v":535.07341428571385},{"$f":"VLOOKUP($W245,$AG:$AU,12)/28","v":600.53733214285683},5.663371482612742E-5,"2014-10-13",{"$f":"(VLOOKUP($AB245,$AG:$AU,8))/7","v":2.2888205979653967E-2},{"$f":"VLOOKUP($AB245,$AG:$AU,9)/14","v":8.9222240666305304E-3},{"$f":"VLOOKUP($AB245,$AG:$AU,10)/28","v":101.03613214285704},null,"2014-10-13",404.12164036544851,535.06449206164723,499.50119999999981,null,"2010-10-22",0.22908412856687704,0.16021744185757777,0.12491113693282742,2829.0116999999973,7491.0277999999935,16815.045299999991,648.08167999999876,1200.1933109999977,2100.386425999995]
["2010-10-19",55.00030000000001,82.00024399999981,1.4909053950614777,null,null,null,null,null,null,11.000243999999817,null,null,null,71,null,null,null,null,null,null,null,"2014-10-20",{"$f":"(VLOOKUP($W246,$AG:$AU,10))/7","v":316.85847142857114},{"$f":"VLOOKUP($W246,$AG:$AU,11)/14","v":491.43043571428535},{"$f":"VLOOKUP($W246,$AG:$AU,12)/28","v":578.71589285714242},7.8910637846894255E-5,"2014-10-20",{"$f":"(VLOOKUP($AB246,$AG:$AU,8))/7","v":2.5003504087620469E-2},{"$f":"VLOOKUP($AB246,$AG:$AU,9)/14","v":9.4746468463363688E-3},{"$f":"VLOOKUP($AB246,$AG:$AU,10)/28","v":79.214617857142784},null,"2014-10-20",316.8334679244835,491.42096106743901,499.50127499999962,null,"2010-10-23",0.29308789958635401,0.17502452861334328,0.13264505584870917,2218.0092999999979,6880.0260999999946,16204.044999999989,650.07168699999875,1204.1733249999977,2149.386453999995]
["2010-10-20",55.000400000000013,82.010244999999827,1.4910845193853099,null,null,null,null,null,null,11.000244999999817,null,null,null,{"$f":"O246+0.01","v":71.010000000000005},null,null,null,null,null,null,null,"2014-10-27",{"$f":"(VLOOKUP($W247,$AG:$AU,10))/7","v":229.57241428571407},{"$f":"VLOOKUP($W247,$AG:$AU,11)/14","v":447.78745714285679},{"$f":"VLOOKUP($W247,$AG:$AU,12)/28","v":556.89445357142824},1.1992351706410472E-4,"2014-10-27",{"$f":"(VLOOKUP($AB247,$AG:$AU,8))/7","v":2.7531131342040549E-2},{"$f":"VLOOKUP($AB247,$AG:$AU,9)/14","v":1.0070362067078703E-2},{"$f":"VLOOKUP($AB247,$AG:$AU,10)/28","v":57.393103571428519},null,"2014-10-27",229.54488315437203,447.7773867807897,499.50134999999972,null,"2010-10-24",0.37963850310785802,0.19271791939428384,0.14098506893910184,1607.0068999999985,6269.0243999999948,15593.044699999989,610.08169399999872,1208.1533389999977,2198.3864819999953]
["2010-10-21",55.000500000000017,82.02024599999983,1.4912636430577868,null,null,null,null,null,null,11.000245999999816,null,null,null,71.02000000000001,null,null,null,null,null,null,null,"2014-11-03",{"$f":"(VLOOKUP($W248,$AG:$AU,10))/7","v":142.28635714285704},{"$f":"VLOOKUP($W248,$AG:$AU,11)/14","v":404.14447857142829},{"$f":"VLOOKUP($W248,$AG:$AU,12)/28","v":535.07301428571384},2.1492172678832226E-4,"2014-11-03",{"$f":"(VLOOKUP($AB248,$AG:$AU,8))/7","v":3.0580429575562767E-2},{"$f":"VLOOKUP($AB248,$AG:$AU,9)/14","v":1.0714666408086645E-2},{"$f":"VLOOKUP($AB248,$AG:$AU,10)/28","v":35.571589285714261},null,"2014-11-03",142.25577671328148,404.1337639050202,499.50142499999959,null,"2010-10-25",0.57237863985554194,0.21406300702893938,0.15000532971321304,996.00449999999921,5658.0226999999959,14982.044399999988,570.09170099999869,1211.1733529999976,2247.3865099999953]
["2010-10-22",55.00060000000002,82.030246999999832,1.491442766078912,null,null,null,null,null,null,11.000246999999815,null,null,null,71.030000000000015,null,null,null,null,null,null,null,"2014-11-10",{"$f":"(VLOOKUP($W249,$AG:$AU,10))/7","v":55.000300000000017},{"$f":"VLOOKUP($W249,$AG:$AU,11)/14","v":360.50149999999974},{"$f":"VLOOKUP($W249,$AG:$AU,12)/28","v":513.25157499999955},6.2486995854016251E-4,"2014-11-10",{"$f":"(VLOOKUP($AB249,$AG:$AU,8))/7","v":3.4368035180696511E-2},{"$f":"VLOOKUP($AB249,$AG:$AU,9)/14","v":1.1413757324503837E-2},{"$f":"VLOOKUP($AB249,$AG:$AU,10)/28","v":13.750075000000004},null,"2014-11-10",54.965931964819319,360.49008624267526,499.50149999999957,null,"2010-10-26",1.4834249163835693,0.24057624626487556,0.15979260254305372,385.0021000000001,5047.0209999999961,14371.044099999988,571.12170799999876,1214.1933669999976,2296.3865379999952]
["2010-10-23",55.000700000000023,83.000247999999814,1.5090762117573009,null,null,null,null,null,null,11.000247999999814,null,null,null,72,null,null,null,null,null,null,null,{"$f":"W249+7","v":"2014-11-17"},{"$f":"(VLOOKUP($W250,$AG:$AU,10))/7","v":55.000400000000013},{"$f":"VLOOKUP($W250,$AG:$AU,11)/14","v":316.85852142857112},{"$f":"VLOOKUP($W250,$AG:$AU,12)/28","v":491.43013571428543},{"$f":"AC250/X250","v":7.1326643969375693E-4},{"$f":"AB249+7","v":"2014-11-17"},{"$f":"(VLOOKUP($AB250,$AG:$AU,8))/7","v":3.9229939489732517E-2},{"$f":"VLOOKUP($AB250,$AG:$AU,9)/14","v":1.1956910475615101E-2},{"$f":"VLOOKUP($AB250,$AG:$AU,10)/28","v":13.750100000000003},null,{"$f":"AG249+7","v":"2014-11-17"},54.961170060510284,{"$f":"Y250-AD250","v":316.84656451809553},{"$f":"Z250-AE250","v":477.6800357142854},null,"2010-10-27",1.4885910310262642,0.27460957642812761,0.1673967466586114,385.00280000000009,4436.0192999999954,13760.043799999992,573.11171499999875,1218.1733809999978,2303.3865659999951]
["2010-10-24",55.000800000000027,83.010248999999817,1.5092553017410615,null,null,null,null,null,null,11.000248999999814,null,null,null,{"$f":"O250+0.01","v":72.010000000000005},null,null,null,null,null,null,null,{"$f":"W250+7","v":"2014-11-24"},{"$f":"(VLOOKUP($W251,$AG:$AU,10))/7","v":55.000500000000024},{"$f":"VLOOKUP($W251,$AG:$AU,11)/14","v":273.21554285714262},{"$f":"VLOOKUP($W251,$AG:$AU,12)/28","v":469.60869642857108},{"$f":"AC251/X251","v":8.2990351324294153E-4},{"$f":"AB250+7","v":"2014-11-24"},{"$f":"(VLOOKUP($AB251,$AG:$AU,8))/7","v":4.5645108180118424E-2},{"$f":"VLOOKUP($AB251,$AG:$AU,9)/14","v":1.2550541326990261E-2},{"$f":"VLOOKUP($AB251,$AG:$AU,10)/28","v":13.750125000000006},null,{"$f":"AG250+7","v":"2014-11-24"},54.954854891819906,{"$f":"Y251-AD251","v":273.20299231581561},{"$f":"Z251-AE251","v":455.85857142857105},null,"2010-10-28",1.4937571268832583,0.31951575726082898,0.17570757857786365,385.00350000000014,3825.0175999999965,13149.043499999991,575.10172199999874,1222.1533949999975,2310.3865939999955]
["2010-10-25",55.00090000000003,83.02024999999982,1.5094343910735966,null,null,null,null,null,null,11.000249999999813,null,null,null,72.02000000000001,null,null,null,null,null,null,null,{"$f":"W251+7","v":"2014-12-01"},{"$f":"(VLOOKUP($W252,$AG:$AU,10))/7","v":55.000600000000013},{"$f":"VLOOKUP($W252,$AG:$AU,11)/14","v":229.57256428571412},{"$f":"VLOOKUP($W252,$AG:$AU,12)/28","v":447.7872571428569},{"$f":"AC252/X252","v":9.9011143022861327E-4},{"$f":"AB251+7","v":"2014-12-01"},{"$f":"(VLOOKUP($AB252,$AG:$AU,8))/7","v":5.4456722729431882E-2},{"$f":"VLOOKUP($AB252,$AG:$AU,9)/14","v":1.3202029472760361E-2},{"$f":"VLOOKUP($AB252,$AG:$AU,10)/28","v":13.750150000000003},null,{"$f":"AG251+7","v":"2014-12-01"},54.946143277270579,{"$f":"Y252-AD252","v":229.55936225624137},{"$f":"Z252-AE252","v":434.03710714285688},null,"2010-10-29",1.4989232039546545,0.38119705910602319,0.18482841261864505,385.00420000000008,3214.0158999999976,12538.043199999993,577.09172899999874,1225.1734089999975,2317.3866219999954]
["2010-10-26",55.001000000000033,83.030250999999822,1.5096134797549094,null,null,null,null,null,null,11.000250999999812,null,null,null,72.030000000000015,null,null,null,null,null,null,null,{"$f":"W252+7","v":"2014-12-08"},{"$f":"(VLOOKUP($W253,$AG:$AU,10))/7","v":55.00070000000003},{"$f":"VLOOKUP($W253,$AG:$AU,11)/14","v":185.92958571428557},{"$f":"VLOOKUP($W253,$AG:$AU,12)/28","v":425.96581785714261},{"$f":"AC253/X253","v":1.2255300743631171E-3},{"$f":"AB252+7","v":"2014-12-08"},{"$f":"(VLOOKUP($AB253,$AG:$AU,8))/7","v":6.7405011961023525E-2},{"$f":"VLOOKUP($AB253,$AG:$AU,9)/14","v":1.3920266678771031E-2},{"$f":"VLOOKUP($AB253,$AG:$AU,10)/28","v":13.750175000000008},null,{"$f":"AG252+7","v":"2014-12-08"},54.933294988039009,{"$f":"Y253-AD253","v":185.91566544760678},{"$f":"Z253-AE253","v":412.2156428571426},null,"2010-10-30",1.5015957874821813,0.47183508372716465,0.19488373350279445,385.00490000000019,2603.0141999999978,11927.042899999993,578.12173599999869,1228.1934229999974,2324.3866499999954]
["2010-10-27",55.001100000000037,84.000251999999819,1.5272467641556218,null,null,null,null,null,null,11.000251999999811,null,null,null,73,null,null,null,null,null,null,null,{"$f":"W253+7","v":"2014-12-15"},{"$f":"(VLOOKUP($W254,$AG:$AU,10))/7","v":55.000800000000027},{"$f":"VLOOKUP($W254,$AG:$AU,11)/14","v":142.28660714285704},{"$f":"VLOOKUP($W254,$AG:$AU,12)/28","v":404.14437857142826},{"$f":"AC254/X254","v":1.5518811048342046E-3},{"$f":"AB253+7","v":"2014-12-15"},{"$f":"(VLOOKUP($AB254,$AG:$AU,8))/7","v":8.5354702270765165E-2},{"$f":"VLOOKUP($AB254,$AG:$AU,9)/14","v":1.4716065124846975E-2},{"$f":"VLOOKUP($AB254,$AG:$AU,10)/28","v":13.750200000000007},null,{"$f":"AG253+7","v":"2014-12-15"},54.915445297729264,{"$f":"Y254-AD254","v":142.27189107773219},{"$f":"Z254-AE254","v":390.39417857142826},null,"2010-10-31",1.506761831516213,0.59748291589535618,0.20602491174785764,385.00560000000019,1992.0124999999987,11316.042599999992,580.1117429999988,1190.1934369999974,2331.3866779999958]
["2010-10-28",55.00120000000004,84.010252999999821,1.527425819800291,null,null,null,null,null,null,11.000252999999811,null,null,null,{"$f":"O254+0.01","v":73.010000000000005},null,null,null,null,null,null,null,{"$f":"W254+7","v":"2014-12-22"},{"$f":"(VLOOKUP($W255,$AG:$AU,10))/7","v":55.000900000000037},{"$f":"VLOOKUP($W255,$AG:$AU,11)/14","v":98.643628571428508},{"$f":"VLOOKUP($W255,$AG:$AU,12)/28","v":382.32293928571409},{"$f":"AC255/X255","v":2.1670078840198221E-3},{"$f":"AB254+7","v":"2014-12-22"},{"$f":"(VLOOKUP($AB255,$AG:$AU,8))/7","v":0.11918738392818591},{"$f":"VLOOKUP($AB255,$AG:$AU,9)/14","v":1.5602705451910512E-2},{"$f":"VLOOKUP($AB255,$AG:$AU,10)/28","v":13.750225000000009},null,{"$f":"AG254+7","v":"2014-12-22"},54.881712616071852,{"$f":"Y255-AD255","v":98.628025865976596},{"$f":"Z255-AE255","v":368.57271428571408},null,"2010-11-01",1.5119278567649368,0.83431168749730134,0.21843787632674716,385.00630000000024,1381.0107999999991,10705.042299999994,582.10174999999867,1152.1934509999974,2338.3867059999957]
["2010-10-29",55.001300000000043,84.020253999999824,1.5276048747938642,null,null,null,null,null,null,11.00025399999981,null,null,null,73.02000000000001,null,null,null,null,null,null,null,{"$f":"W255+7","v":"2014-12-29"},{"$f":"(VLOOKUP($W256,$AG:$AU,10))/7","v":55.001000000000026},{"$f":"VLOOKUP($W256,$AG:$AU,11)/14","v":55.000650000000022},{"$f":"VLOOKUP($W256,$AG:$AU,12)/28","v":360.50149999999974},{"$f":"AC256/X256","v":3.8967070648928811E-3},{"$f":"AB255+7","v":"2014-12-29"},{"$f":"(VLOOKUP($AB256,$AG:$AU,8))/7","v":0.21432278527617346},{"$f":"VLOOKUP($AB256,$AG:$AU,9)/14","v":1.659668385143857E-2},{"$f":"VLOOKUP($AB256,$AG:$AU,10)/28","v":13.750250000000007},null,{"$f":"AG255+7","v":"2014-12-29"},54.786677214723852,{"$f":"Y256-AD256","v":54.984053316148582},{"$f":"Z256-AE256","v":346.75124999999974},null,"2010-11-02",1.5170938632284565,1.5002594969332141,0.23235357392013997,385.00700000000018,770.00910000000033,10094.041999999992,584.09175699999867,1155.2134649999975,2345.3867339999956]
["2010-10-30",776,84.030254999999826,0.108286411082474,null,null,null,null,null,null,11.000254999999809,null,null,null,73.030000000000015,null,null,null,null,null,null,null,{"$f":"W256+7","v":"2015-01-05"},{"$f":"(VLOOKUP($W257,$AG:$AU,10))/7","v":158.00090000000003},{"$f":"VLOOKUP($W257,$AG:$AU,11)/14","v":106.50065000000002},{"$f":"VLOOKUP($W257,$AG:$AU,12)/28","v":364.43001071428546},{"$f":"AC257/X257","v":7.02357491881906E-4},{"$f":"AB256+7","v":"2015-01-05"},{"$f":"(VLOOKUP($AB257,$AG:$AU,8))/7","v":0.11097311583908387},{"$f":"VLOOKUP($AB257,$AG:$AU,9)/14","v":1.6466774034314884E-2},{"$f":"VLOOKUP($AB257,$AG:$AU,10)/28","v":39.500225000000007},null,{"$f":"AG256+7","v":"2015-01-05"},157.88992688416096,{"$f":"Y257-AD257","v":106.48418322596571},{"$f":"Z257-AE257","v":324.92978571428546},null,"2010-11-03",0.52904017273680859,0.77681181087358708,0.23053483648040837,1106.0063000000002,1491.0091000000002,10204.040299999993,585.12176399999862,1158.2334789999975,2352.3867619999955]
["2010-10-31",776.00009999999997,{"$f":"SUM(K258:Q258)","v":85.000255999999808},0.10953639825561853,null,null,null,null,null,null,11.000255999999808,null,null,null,74,null,null,null,null,null,null,null,{"$f":"W257+7","v":"2015-01-12"},{"$f":"(VLOOKUP($W258,$AG:$AU,10))/7","v":261.00080000000003},{"$f":"VLOOKUP($W258,$AG:$AU,11)/14","v":158.00065000000001},{"$f":"VLOOKUP($W258,$AG:$AU,12)/28","v":368.35852142857129},{"$f":"AC258/X258","v":2.8758029533068667E-4},{"$f":"AB257+7","v":"2015-01-12"},{"$f":"(VLOOKUP($AB258,$AG:$AU,8))/7","v":7.5058687145545491E-2},{"$f":"VLOOKUP($AB258,$AG:$AU,9)/14","v":1.6339635170372797E-2},{"$f":"VLOOKUP($AB258,$AG:$AU,10)/28","v":65.250200000000007},null,{"$f":"AG257+7","v":"2015-01-12"},260.92574131285448,{"$f":"Y258-AD258","v":157.98431036482964},{"$f":"Z258-AE258","v":303.10832142857129},null,"2010-11-04",0.32135192743798852,0.5254108100188184,0.22875489238521915,1827.0056000000002,2212.0091000000002,10314.038599999996,587.11177099999873,1162.2134929999975,2359.3867899999955]
["2010-11-01",776.00019999999995,85.010256999999811,{"$f":"C259/B259","v":0.10954927202338326},null,null,null,null,null,null,11.000256999999808,null,null,null,{"$f":"O258+0.01","v":74.010000000000005},null,null,null,null,null,null,null,{"$f":"W258+7","v":"2015-01-19"},{"$f":"(VLOOKUP($W259,$AG:$AU,10))/7","v":364.00069999999999},{"$f":"VLOOKUP($W259,$AG:$AU,11)/14","v":209.50064999999998},{"$f":"VLOOKUP($W259,$AG:$AU,12)/28","v":372.28703214285684},{"$f":"AC259/X259","v":1.5604754831760655E-4},{"$f":"AB258+7","v":"2015-01-19"},{"$f":"(VLOOKUP($AB259,$AG:$AU,8))/7","v":5.6801416820892604E-2},{"$f":"VLOOKUP($AB259,$AG:$AU,9)/14","v":1.6215179539238074E-2},{"$f":"VLOOKUP($AB259,$AG:$AU,10)/28","v":91.000174999999999},null,{"$f":"AG258+7","v":"2015-01-19"},363.94389858317908,{"$f":"Y259-AD259","v":209.48443482046073},{"$f":"Z259-AE259","v":281.28685714285683},null,"2010-11-05",0.2312011950997421,0.39760991774624821,0.22701251354933305,2548.0048999999999,2933.0090999999998,10424.036899999992,589.10177799999883,1166.1935069999975,2366.3868179999959]
["2010-11-02",{"$f":"B259+0.0001","v":776.00029999999992},85.020257999999814,0.10956214578783001,null,null,null,null,null,null,{"$f":"K259+0.000001","v":11.000257999999807},null,null,null,74.02000000000001,null,null,null,null,null,null,null,{"$f":"W259+7","v":"2015-01-26"},{"$f":"(VLOOKUP($W260,$AG:$AU,10))/7","v":467.00060000000002},{"$f":"VLOOKUP($W260,$AG:$AU,11)/14","v":261.00065000000001},{"$f":"VLOOKUP($W260,$AG:$AU,12)/28","v":376.21554285714268},{"$f":"AC260/X260","v":9.7883327780930149E-5},{"$f":"AB259+7","v":"2015-01-26"},{"$f":"(VLOOKUP($AB260,$AG:$AU,8))/7","v":4.571157280369105E-2},{"$f":"VLOOKUP($AB260,$AG:$AU,9)/14","v":1.6093323084504469E-2},{"$f":"VLOOKUP($AB260,$AG:$AU,10)/28","v":116.75015},null,{"$f":"AG259+7","v":"2015-01-26"},{"$f":"X260-AC260","v":466.95488842719635},{"$f":"Y260-AD260","v":260.98455667691553},{"$f":"Z260-AE260","v":259.46539285714266},null,"2010-11-06",0.18081707726163174,0.31998100962583736,0.22530652318306255,3269.0042000000003,3654.0091000000002,10534.035199999995,591.09178499999871,1169.2135209999974,2373.3868459999958]
["2010-11-03",776.0003999999999,85.030258999999816,0.10957501954895878,null,null,null,null,null,null,11.000258999999806,null,null,null,74.030000000000015,null,null,null,null,null,null,null,{"$f":"W260+7","v":"2015-02-02"},{"$f":"(VLOOKUP($W261,$AG:$AU,10))/7","v":570.00049999999999},{"$f":"VLOOKUP($W261,$AG:$AU,11)/14","v":312.50065000000001},{"$f":"VLOOKUP($W261,$AG:$AU,12)/28","v":380.14405357142834},{"$f":"AC261/X261","v":6.7152456483341304E-5},{"$f":"AB260+7","v":"2015-02-02"},{"$f":"(VLOOKUP($AB261,$AG:$AU,8))/7","v":3.8276933771732781E-2},{"$f":"VLOOKUP($AB261,$AG:$AU,9)/14","v":1.5973985224411652E-2},{"$f":"VLOOKUP($AB261,$AG:$AU,10)/28","v":142.500125},null,{"$f":"AG260+7","v":"2015-02-02"},569.96222306622826,{"$f":"Y261-AD261","v":312.48467601477557},{"$f":"Z261-AE261","v":237.64392857142835},null,"2010-11-07",0.14840132145247459,0.26793853640212945,0.22363579314176313,3990.0034999999998,4375.0091000000002,10644.033499999994,592.12179199999866,1172.2335349999976,2380.3868739999957]
["2010-11-04",776.00049999999987,86.000259999999798,0.11082500591172276,null,null,null,null,null,null,11.000259999999805,null,null,null,75,null,null,null,null,null,null,null,{"$f":"W261+7","v":"2015-02-09"},{"$f":"(VLOOKUP($W262,$AG:$AU,10))/7","v":673.00040000000001},{"$f":"VLOOKUP($W262,$AG:$AU,11)/14","v":364.00065000000001},{"$f":"VLOOKUP($W262,$AG:$AU,12)/28","v":384.07256428571412},{"$f":"AC262/X262","v":4.8993968720842959E-5},{"$f":"AB261+7","v":"2015-02-09"},{"$f":"(VLOOKUP($AB262,$AG:$AU,8))/7","v":3.2972960546714801E-2},{"$f":"VLOOKUP($AB262,$AG:$AU,9)/14","v":1.5857088674141973E-2},{"$f":"VLOOKUP($AB262,$AG:$AU,10)/28","v":168.2501},null,{"$f":"AG261+7","v":"2015-02-09"},672.96742703945336,{"$f":"Y262-AD262","v":363.98479291132588},{"$f":"Z262-AE262","v":215.82246428571412},null,"2010-11-08",0.12611153595578389,0.23081072382700363,0.22199924143798763,4711.0028000000002,5096.0091000000002,10754.031799999995,594.11179899999865,1176.2135489999973,2387.3869019999956]
["2010-11-05",776.00059999999985,86.010260999999815,0.11083787950679398,null,null,null,null,null,null,11.000260999999805,null,null,null,{"$f":"O262+0.01","v":75.010000000000005},null,null,null,null,null,null,null,{"$f":"W262+7","v":"2015-02-16"},{"$f":"(VLOOKUP($W263,$AG:$AU,10))/7","v":776.00029999999992},{"$f":"VLOOKUP($W263,$AG:$AU,11)/14","v":415.50064999999995},{"$f":"VLOOKUP($W263,$AG:$AU,12)/28","v":388.00107499999979},{"$f":"AC263/X263","v":3.7350254828980623E-5},{"$f":"AB262+7","v":"2015-02-16"},{"$f":"(VLOOKUP($AB263,$AG:$AU,8))/7","v":2.8983808952365412E-2},{"$f":"VLOOKUP($AB263,$AG:$AU,9)/14","v":1.5742559278912768E-2},{"$f":"VLOOKUP($AB263,$AG:$AU,10)/28","v":194.00007499999998},null,{"$f":"AG262+7","v":"2015-02-16"},775.97131619104755,{"$f":"Y263-AD263","v":415.48490744072103},{"$f":"Z263-AE263","v":194.00099999999981},null,"2010-11-09",0.10973887620551524,0.20288666266655789,0.22039582990477877,5432.0020999999997,5817.0090999999993,10864.030099999994,596.10180599999876,1180.1935629999973,2394.3869299999956]
["2010-11-06",776.00069999999982,86.020261999999818,0.11085075309854725,null,null,null,null,null,null,11.000261999999804,null,null,null,75.02000000000001,null,null,null,null,null,null,null,{"$f":"W263+7","v":"2015-02-23"},{"$f":"(VLOOKUP($W264,$AG:$AU,10))/7","v":776.0003999999999},{"$f":"VLOOKUP($W264,$AG:$AU,11)/14","v":467.00065000000001},{"$f":"VLOOKUP($W264,$AG:$AU,12)/28","v":391.92958571428551},{"$f":"AC264/X264","v":3.3316367083958287E-5},{"$f":"AB263+7","v":"2015-02-23"},{"$f":"(VLOOKUP($AB264,$AG:$AU,8))/7","v":2.585351418369846E-2},{"$f":"VLOOKUP($AB264,$AG:$AU,9)/14","v":1.5630325857106647E-2},{"$f":"VLOOKUP($AB264,$AG:$AU,10)/28","v":194.00009999999997},null,{"$f":"AG263+7","v":"2015-02-23"},775.97454648581618,{"$f":"Y264-AD264","v":466.9850196741429},{"$f":"Z264-AE264","v":197.92948571428553},null,"2010-11-10",0.11010521073369084,0.18097459928588921,0.21882456199949304,5432.0027999999993,6538.0091000000002,10974.028399999994,598.09181299999864,1183.2135769999973,2401.386957999996]
["2010-11-07",776.0007999999998,86.03026299999982,0.11086362668698259,null,null,null,null,null,null,11.000262999999803,null,null,null,75.030000000000015,null,null,null,null,null,null,null,{"$f":"W264+7","v":"2015-03-02"},{"$f":"(VLOOKUP($W265,$AG:$AU,10))/7","v":776.00049999999999},{"$f":"VLOOKUP($W265,$AG:$AU,11)/14","v":518.50064999999984},{"$f":"VLOOKUP($W265,$AG:$AU,12)/28","v":395.85809642857123},{"$f":"AC265/X265","v":3.0083809920686998E-5},{"$f":"AB264+7","v":"2015-03-02"},{"$f":"(VLOOKUP($AB265,$AG:$AU,8))/7","v":2.3345051540358069E-2},{"$f":"VLOOKUP($AB265,$AG:$AU,9)/14","v":1.552032005274244E-2},{"$f":"VLOOKUP($AB265,$AG:$AU,10)/28","v":194.000125},null,{"$f":"AG264+7","v":"2015-03-02"},775.97715494845966,{"$f":"Y265-AD265","v":518.48512967994714},{"$f":"Z265-AE265","v":201.85797142857123},null,"2010-11-11",0.11029481479531424,0.16341536078250649,0.21728448073839415,5432.0034999999998,7259.0090999999984,11084.026699999995,599.12181999999871,1186.2335909999974,2408.3869859999954]
["2010-11-08",776.00089999999977,87.000263999999802,0.11211361223936703,null,null,null,null,null,null,11.000263999999802,null,null,null,76,null,null,null,null,null,null,null,{"$f":"W265+7","v":"2015-03-09"},{"$f":"(VLOOKUP($W266,$AG:$AU,10))/7","v":776.00059999999996},{"$f":"VLOOKUP($W266,$AG:$AU,11)/14","v":570.00064999999995},{"$f":"VLOOKUP($W266,$AG:$AU,12)/28","v":399.78660714285706},{"$f":"AC266/X266","v":2.7457527458971582E-5},{"$f":"AB265+7","v":"2015-03-09"},{"$f":"(VLOOKUP($AB266,$AG:$AU,8))/7","v":2.1307057782678423E-2},{"$f":"VLOOKUP($AB266,$AG:$AU,9)/14","v":1.5412476196644421E-2},{"$f":"VLOOKUP($AB266,$AG:$AU,10)/28","v":194.00014999999999},null,{"$f":"AG265+7","v":"2015-03-09"},775.97929294221728,{"$f":"Y266-AD266","v":569.98523752380333},{"$f":"Z266-AE266","v":205.78645714285707},null,"2010-11-12",{"$f":"AS266/AP266","v":0.1106611491574323},0.14914940447874897,0.2157746667530219,{"$f":"SUM(B260:B266)","v":5432.0041999999994},7980.0090999999993,11194.024999999998,{"$f":"SUM(C260:C266)","v":601.1118269999987},1190.2136049999974,2415.3870139999954]
["2010-11-09",776.00099999999975,87.010264999999805,0.11212648566174506,null,null,null,null,null,null,11.000264999999802,null,null,null,{"$f":"O266+0.01","v":76.010000000000005},null,null,null,null,null,null,null,{"$f":"W266+7","v":"2015-03-16"},{"$f":"(VLOOKUP($W267,$AG:$AU,10))/7","v":776.00069999999971},{"$f":"VLOOKUP($W267,$AG:$AU,11)/14","v":621.50064999999995},{"$f":"VLOOKUP($W267,$AG:$AU,12)/28","v":403.71511785714273},{"$f":"AC267/X267","v":2.5266493262996026E-5},{"$f":"AB266+7","v":"2015-03-16"},{"$f":"(VLOOKUP($AB267,$AG:$AU,8))/7","v":1.9606816458630192E-2},{"$f":"VLOOKUP($AB267,$AG:$AU,9)/14","v":1.5306731175717106E-2},{"$f":"VLOOKUP($AB267,$AG:$AU,10)/28","v":194.00017499999993},null,{"$f":"AG266+7","v":"2015-03-16"},775.98109318354113,{"$f":"Y267-AD267","v":621.48534326882418},{"$f":"Z267-AE267","v":209.7149428571428},null,"2010-11-13",0.11102748342513441,0.13724771521041135,0.21429423646003948,5432.0048999999981,8701.0090999999993,11304.023299999997,603.10183399999869,1194.1936189999974,2422.3870419999953]
["2010-11-10",776.00109999999972,87.020265999999808,0.11213935908080522,null,null,null,null,null,null,11.000265999999801,null,null,null,76.02000000000001,null,null,null,null,null,null,null,{"$f":"W267+7","v":"2015-03-23"},{"$f":"(VLOOKUP($W268,$AG:$AU,10))/7","v":776.0007999999998},{"$f":"VLOOKUP($W268,$AG:$AU,11)/14","v":673.00064999999995},{"$f":"VLOOKUP($W268,$AG:$AU,12)/28","v":407.64362857142851},{"$f":"AC268/X268","v":2.3392030701190507E-5},{"$f":"AB267+7","v":"2015-03-23"},{"$f":"(VLOOKUP($AB268,$AG:$AU,8))/7","v":1.8152234537748391E-2},{"$f":"VLOOKUP($AB268,$AG:$AU,9)/14","v":1.4940314851740872E-2},{"$f":"VLOOKUP($AB268,$AG:$AU,10)/28","v":194.00019999999995},null,{"$f":"AG267+7","v":"2015-03-23"},775.98264776546205,{"$f":"Y268-AD268","v":672.98570968514821},{"$f":"Z268-AE268","v":213.64342857142856},null,"2010-11-14",0.1113938175984205,0.12706564176423873,0.20916440792437221,5432.0055999999986,9422.0090999999993,11414.021599999998,605.09184099999857,1197.2136329999973,2387.4070699999952]
["2010-11-11",776.0011999999997,233.00026699999981,0.30025761171503329,null,null,null,null,null,null,11.0002669999998,null,null,null,222,null,null,null,null,null,null,null,{"$f":"W268+7","v":"2015-03-30"},{"$f":"(VLOOKUP($W269,$AG:$AU,10))/7","v":776.00089999999989},{"$f":"VLOOKUP($W269,$AG:$AU,11)/14","v":724.50064999999995},{"$f":"VLOOKUP($W269,$AG:$AU,12)/28","v":411.57213928571429},{"$f":"AC269/X269","v":2.44333874982355E-5},{"$f":"AB268+7","v":"2015-03-30"},{"$f":"(VLOOKUP($AB269,$AG:$AU,8))/7","v":1.8960330688679493E-2},{"$f":"VLOOKUP($AB269,$AG:$AU,9)/14","v":1.5485649722925959E-2},{"$f":"VLOOKUP($AB269,$AG:$AU,10)/28","v":194.00022499999997},null,{"$f":"AG268+7","v":"2015-03-30"},775.98193966931126,{"$f":"Y269-AD269","v":724.48516435027705},{"$f":"Z269-AE269","v":217.57191428571431},null,"2010-11-15",0.13845562881618872,0.13272231482075644,0.21679909612096343,5432.0062999999991,10143.009099999999,11524.019899999999,752.09184799999855,1346.2036469999973,2498.3970979999954]
["2010-11-12",776.00129999999967,88.000267999999807,0.1134022172385534,null,null,null,null,null,null,11.000267999999799,null,null,null,77,null,null,null,null,null,null,null,{"$f":"W269+7","v":"2015-04-06"},{"$f":"(VLOOKUP($W270,$AG:$AU,10))/7","v":776.00099999999986},{"$f":"VLOOKUP($W270,$AG:$AU,11)/14","v":776.00064999999995},{"$f":"VLOOKUP($W270,$AG:$AU,12)/28","v":415.50064999999995},{"$f":"AC270/X270","v":2.2879282803150193E-5},{"$f":"AB269+7","v":"2015-04-06"},{"$f":"(VLOOKUP($AB270,$AG:$AU,8))/7","v":1.7754346334527351E-2},{"$f":"VLOOKUP($AB270,$AG:$AU,9)/14","v":1.5382212275671724E-2},{"$f":"VLOOKUP($AB270,$AG:$AU,10)/28","v":194.00024999999997},null,{"$f":"AG269+7","v":"2015-04-06"},775.98324565366534,{"$f":"Y270-AD270","v":775.9852677877243},{"$f":"Z270-AE270","v":221.50039999999998},null,"2010-11-16",0.1388219593605087,0.12428042434169147,0.21535097185940413,5432.0069999999987,10864.009099999999,11634.018199999999,754.08185499999865,1350.1836609999975,2505.3971259999953]
["2010-11-13",776.00139999999965,88.010268999999809,0.11341509048823861,null,null,null,null,null,null,11.000268999999799,null,null,null,{"$f":"O270+0.01","v":77.010000000000005},null,null,null,null,null,null,null,{"$f":"W270+7","v":"2015-04-13"},{"$f":"(VLOOKUP($W271,$AG:$AU,10))/7","v":776.00109999999972},{"$f":"VLOOKUP($W271,$AG:$AU,11)/14","v":776.00074999999993},{"$f":"VLOOKUP($W271,$AG:$AU,12)/28","v":441.25069999999994},{"$f":"AC271/X271","v":2.2946719466308938E-5},{"$f":"AB270+7","v":"2015-04-13"},{"$f":"(VLOOKUP($AB271,$AG:$AU,8))/7","v":1.7806679547247142E-2},{"$f":"VLOOKUP($AB271,$AG:$AU,9)/14","v":1.4525022653256517E-2},{"$f":"VLOOKUP($AB271,$AG:$AU,10)/28","v":194.00027499999993},null,{"$f":"AG270+7","v":"2015-04-13"},775.9832933204525,{"$f":"Y271-AD271","v":775.98622497734664},{"$f":"Z271-AE271","v":247.25042500000001},null,"2010-11-17",0.13918828981041373,0.12464675683073,0.20335031714559124,5432.0076999999983,10864.010499999999,12355.019599999998,756.07186199999865,1354.1636749999973,2512.3971539999952]
["2010-11-14",776.00149999999962,88.020269999999812,0.11342796373460599,null,null,null,null,null,null,11.000269999999798,null,null,null,77.02000000000001,null,null,null,null,null,null,null,{"$f":"W271+7","v":"2015-04-20"},{"$f":"(VLOOKUP($W272,$AG:$AU,10))/7","v":776.0011999999997},{"$f":"VLOOKUP($W272,$AG:$AU,11)/14","v":776.00084999999979},{"$f":"VLOOKUP($W272,$AG:$AU,12)/28","v":467.00074999999987},{"$f":"AC272/X272","v":2.2997888603990456E-5},{"$f":"AB271+7","v":"2015-04-20"},{"$f":"(VLOOKUP($AB272,$AG:$AU,8))/7","v":1.7846389154162912E-2},{"$f":"VLOOKUP($AB272,$AG:$AU,9)/14","v":1.3762362539141553E-2},{"$f":"VLOOKUP($AB272,$AG:$AU,10)/28","v":194.00029999999992},null,{"$f":"AG271+7","v":"2015-04-20"},775.98335361084548,{"$f":"Y272-AD272","v":775.9870876374606},{"$f":"Z272-AE272","v":273.00044999999994},null,"2010-11-18",0.13955462016590381,0.12492472407914038,0.19267307554798174,5432.0083999999979,10864.011899999998,13076.020999999997,758.06186899999852,1357.1836889999972,2519.3971819999952]
["2010-11-15",776.0015999999996,88.030270999999814,0.11344083697765553,null,null,null,null,null,null,11.000270999999797,null,null,null,77.030000000000015,null,null,null,null,null,null,null,{"$f":"W272+7","v":"2015-04-27"},{"$f":"(VLOOKUP($W273,$AG:$AU,10))/7","v":776.00129999999979},{"$f":"VLOOKUP($W273,$AG:$AU,11)/14","v":776.00094999999976},{"$f":"VLOOKUP($W273,$AG:$AU,12)/28","v":492.75079999999991},{"$f":"AC273/X273","v":2.3049057715295402E-5},{"$f":"AB272+7","v":"2015-04-27"},{"$f":"(VLOOKUP($AB273,$AG:$AU,8))/7","v":1.7886098750844258E-2},{"$f":"VLOOKUP($AB273,$AG:$AU,9)/14","v":1.3079412234006974E-2},{"$f":"VLOOKUP($AB273,$AG:$AU,10)/28","v":194.00032499999995},null,{"$f":"AG272+7","v":"2015-04-27"},775.98341390124892,{"$f":"Y273-AD273","v":775.98787058776577},{"$f":"Z273-AE273","v":298.75047499999994},null,"2010-11-19",0.13974422023703878,{"$f":"AT273/AQ273","v":0.1252026912559098},0.18311177127609762,5432.0090999999984,{"$f":"SUM(B260:B273)","v":10864.013299999997},13797.022399999998,759.09187599999859,{"$f":"SUM(C260:C273)","v":1360.2037029999974},2526.3972099999951]
["2010-11-16",776.00169999999957,89.000271999999796,0.1146908209092839,null,null,null,null,null,null,11.000271999999796,null,null,null,78,null,null,null,null,null,null,null,{"$f":"W273+7","v":"2015-05-04"},{"$f":"(VLOOKUP($W274,$AG:$AU,10))/7","v":776.00139999999976},{"$f":"VLOOKUP($W274,$AG:$AU,11)/14","v":776.00104999999974},{"$f":"VLOOKUP($W274,$AG:$AU,12)/28","v":518.5008499999999},{"$f":"AC274/X274","v":2.3116494282553859E-5},{"$f":"AB273+7","v":"2015-05-04"},{"$f":"(VLOOKUP($AB274,$AG:$AU,8))/7","v":1.7938431926353783E-2},{"$f":"VLOOKUP($AB274,$AG:$AU,9)/14","v":1.2464295971978517E-2},{"$f":"VLOOKUP($AB274,$AG:$AU,10)/28","v":194.00034999999994},null,{"$f":"AG273+7","v":"2015-05-04"},775.98346156807338,{"$f":"Y274-AD274","v":775.98858570402774},{"$f":"Z274-AE274","v":324.50049999999999},null,"2010-11-20",0.14011055042647363,0.12556902348447649,0.17450014360769925,5432.009799999998,10864.014699999996,14518.023799999997,761.0818829999987,1364.1837169999972,2533.397237999995]
["2010-11-17",776.00179999999955,89.010272999999799,0.11470369398627664,null,null,null,null,null,null,11.000272999999796,null,null,null,{"$f":"O274+0.01","v":78.010000000000005},null,null,null,null,null,null,null,{"$f":"W274+7","v":"2015-05-11"},{"$f":"(VLOOKUP($W275,$AG:$AU,10))/7","v":776.00149999999951},{"$f":"VLOOKUP($W275,$AG:$AU,11)/14","v":776.00114999999983},{"$f":"VLOOKUP($W275,$AG:$AU,12)/28","v":544.25089999999989},{"$f":"AC275/X275","v":2.3183930815050493E-5},{"$f":"AB274+7","v":"2015-05-11"},{"$f":"(VLOOKUP($AB275,$AG:$AU,8))/7","v":1.7990765088375393E-2},{"$f":"VLOOKUP($AB275,$AG:$AU,9)/14","v":1.1907385491522666E-2},{"$f":"VLOOKUP($AB275,$AG:$AU,10)/28","v":194.00037499999988},null,{"$f":"AG274+7","v":"2015-05-11"},775.98350923491114,{"$f":"Y275-AD275","v":775.98924261450827},{"$f":"Z275-AE275","v":350.25052500000004},null,"2010-11-21",0.14047688052149365,0.12593535561862776,0.16670339688131733,5432.0104999999967,10864.016099999997,15239.025199999996,763.07188999999858,1368.1637309999971,2540.3972659999954]
["2010-11-18",877,89.020273999999802,0.10150544355758244,null,null,null,null,null,null,11.000273999999795,null,null,null,78.02000000000001,null,null,null,null,null,null,null,{"$f":"W275+7","v":"2015-05-18"},{"$f":"(VLOOKUP($W276,$AG:$AU,10))/7","v":790.42989999999975},{"$f":"VLOOKUP($W276,$AG:$AU,11)/14","v":783.2153999999997},{"$f":"VLOOKUP($W276,$AG:$AU,12)/28","v":573.60802499999988},{"$f":"AC276/X276","v":2.2600861926171241E-5},{"$f":"AB275+7","v":"2015-05-18"},{"$f":"(VLOOKUP($AB276,$AG:$AU,8))/7","v":1.7864397032217337E-2},{"$f":"VLOOKUP($AB276,$AG:$AU,9)/14","v":1.1329099666438358E-2},{"$f":"VLOOKUP($AB276,$AG:$AU,10)/28","v":197.60747499999994},null,{"$f":"AG275+7","v":"2015-05-18"},790.41203560296753,{"$f":"Y276-AD276","v":783.20407090033325},{"$f":"Z276-AE276","v":376.00054999999998},null,"2010-11-22",0.11189063011334517,0.12505077922552135,0.15860739533013701,5533.0092999999979,10965.015599999995,16061.024699999998,619.09189699999865,1371.1837449999971,2547.3972939999949]
["2010-11-19",877.00009999999997,89.030274999999804,0.10151683563091932,null,null,null,null,null,null,11.000274999999794,null,null,null,78.030000000000015,null,null,null,null,null,null,null,{"$f":"W276+7","v":"2015-05-25"},{"$f":"(VLOOKUP($W277,$AG:$AU,10))/7","v":804.85829999999976},{"$f":"VLOOKUP($W277,$AG:$AU,11)/14","v":790.42964999999981},{"$f":"VLOOKUP($W277,$AG:$AU,12)/28","v":602.96514999999988},{"$f":"AC277/X277","v":2.2041563959896765E-5},{"$f":"AB276+7","v":"2015-05-25"},{"$f":"(VLOOKUP($AB277,$AG:$AU,8))/7","v":1.7740335698103772E-2},{"$f":"VLOOKUP($AB277,$AG:$AU,9)/14","v":1.080712492086745E-2},{"$f":"VLOOKUP($AB277,$AG:$AU,10)/28","v":201.21457499999994},null,{"$f":"AG276+7","v":"2015-05-25"},804.84055966430162,{"$f":"Y277-AD277","v":790.41884287507889},{"$f":"Z277-AE277","v":401.75057499999991},null,"2010-11-23",0.11006762734331157,0.1241823498867264,0.15129974889214429,5634.0080999999982,11066.015099999997,16883.024199999996,620.12190399999872,1374.2037589999973,2554.3973219999948]
["2010-11-20",877.00019999999995,90.000275999999786,0.10262286827300586,null,null,null,null,null,null,11.000275999999793,null,null,null,79,null,null,null,null,null,null,null,{"$f":"W277+7","v":"2015-06-01"},{"$f":"(VLOOKUP($W278,$AG:$AU,10))/7","v":819.28669999999977},{"$f":"VLOOKUP($W278,$AG:$AU,11)/14","v":797.6438999999998},{"$f":"VLOOKUP($W278,$AG:$AU,12)/28","v":632.32227499999988},{"$f":"AC278/X278","v":2.1519694588205415E-5},{"$f":"AB277+7","v":"2015-06-01"},{"$f":"(VLOOKUP($AB278,$AG:$AU,8))/7","v":1.7630799564178668E-2},{"$f":"VLOOKUP($AB278,$AG:$AU,9)/14","v":1.0333618111532277E-2},{"$f":"VLOOKUP($AB278,$AG:$AU,10)/28","v":204.82167499999994},null,{"$f":"AG277+7","v":"2015-06-01"},819.26906920043564,{"$f":"Y278-AD278","v":797.63356638188827},{"$f":"Z278-AE278","v":427.50059999999996},null,"2010-11-24",0.10847622711665765,0.12341559694925067,0.1446706535614519,5735.0068999999985,11167.014599999997,17705.023699999998,622.1119109999986,1378.1837729999972,2561.3973499999947]
["2010-11-21",877.00029999999992,90.010276999999803,0.10263426021633039,null,null,null,null,null,null,11.000276999999793,null,null,null,{"$f":"O278+0.01","v":79.010000000000005},null,null,null,null,null,null,null,{"$f":"W278+7","v":"2015-06-08"},{"$f":"(VLOOKUP($W279,$AG:$AU,10))/7","v":833.71509999999967},{"$f":"VLOOKUP($W279,$AG:$AU,11)/14","v":804.8581499999998},{"$f":"VLOOKUP($W279,$AG:$AU,12)/28","v":661.67939999999987},{"$f":"AC279/X279","v":2.101824359231224E-5},{"$f":"AB278+7","v":"2015-06-08"},{"$f":"(VLOOKUP($AB279,$AG:$AU,8))/7","v":1.7523227058388952E-2},{"$f":"VLOOKUP($AB279,$AG:$AU,9)/14","v":9.9021280208375969E-3},{"$f":"VLOOKUP($AB279,$AG:$AU,10)/28","v":208.42877499999992},null,{"$f":"AG278+7","v":"2015-06-08"},833.69757677294126,{"$f":"Y279-AD279","v":804.84824787197897},{"$f":"Z279-AE279","v":453.25062499999996},null,"2010-11-25",0.10693990891749797,0.12266258940872267,0.13862979229172637,5836.0056999999979,11268.014099999997,18527.023199999996,624.1019179999987,1382.1637869999972,2568.3973779999951]
["2010-11-22",877.0003999999999,90.020277999999806,0.10264565215705695,null,null,null,null,null,null,11.000277999999792,null,null,null,79.02000000000001,null,null,null,null,null,null,null,{"$f":"W279+7","v":"2015-06-15"},{"$f":"(VLOOKUP($W280,$AG:$AU,10))/7","v":848.14349999999979},{"$f":"VLOOKUP($W280,$AG:$AU,11)/14","v":812.0723999999999},{"$f":"VLOOKUP($W280,$AG:$AU,12)/28","v":691.03652499999987},{"$f":"AC280/X280","v":2.0521884544604608E-5},{"$f":"AB279+7","v":"2015-06-15"},{"$f":"(VLOOKUP($AB280,$AG:$AU,8))/7","v":1.7405502984256853E-2},{"$f":"VLOOKUP($AB280,$AG:$AU,9)/14","v":9.5072996927864604E-3},{"$f":"VLOOKUP($AB280,$AG:$AU,10)/28","v":212.03587499999995},null,{"$f":"AG279+7","v":"2015-06-15"},848.12609449701552,{"$f":"Y280-AD280","v":812.06289270030709},{"$f":"Z280-AE280","v":479.00064999999995},null,"2010-11-26",0.10545586162179915,0.12183852088979798,0.13310219569901044,5937.0044999999982,11369.013599999998,19349.022699999998,626.0919249999987,1385.1838009999972,2575.397405999995]
["2010-11-23",877.00049999999987,90.030278999999808,0.1026570440951856,null,null,null,null,null,null,11.000278999999791,null,null,null,79.030000000000015,null,null,null,null,null,null,null,{"$f":"W280+7","v":"2015-06-22"},{"$f":"(VLOOKUP($W281,$AG:$AU,10))/7","v":862.57189999999991},{"$f":"VLOOKUP($W281,$AG:$AU,11)/14","v":819.2866499999999},{"$f":"VLOOKUP($W281,$AG:$AU,12)/28","v":720.39364999999987},{"$f":"AC281/X281","v":2.0044534438167139E-5},{"$f":"AB280+7","v":"2015-06-22"},{"$f":"(VLOOKUP($AB281,$AG:$AU,8))/7","v":1.7289852154945259E-2},{"$f":"VLOOKUP($AB281,$AG:$AU,9)/14","v":9.1446510614334765E-3},{"$f":"VLOOKUP($AB281,$AG:$AU,10)/28","v":215.64297499999998},null,{"$f":"AG280+7","v":"2015-06-22"},862.55461014784498,{"$f":"Y281-AD281","v":819.27750534893846},{"$f":"Z281-AE281","v":504.75067499999989},null,"2010-11-27",0.10386246923713982,0.12102896508461682,0.12802511486006868,6038.0032999999994,11470.013099999998,20171.022199999996,627.12193199999865,1388.2038149999973,2582.3974339999945]
["2010-11-24",877.00059999999985,91.00027999999979,0.10376307610279834,null,null,null,null,null,null,11.00027999999979,null,null,null,80,null,null,null,null,null,null,null,{"$f":"W281+7","v":"2015-06-29"},{"$f":"(VLOOKUP($W282,$AG:$AU,10))/7","v":877.00029999999992},{"$f":"VLOOKUP($W282,$AG:$AU,11)/14","v":826.50089999999977},{"$f":"VLOOKUP($W282,$AG:$AU,12)/28","v":749.75077499999975},{"$f":"AC282/X282","v":1.9598707729508215E-5},{"$f":"AB281+7","v":"2015-06-29"},{"$f":"(VLOOKUP($AB282,$AG:$AU,8))/7","v":1.7188072558391023E-2},{"$f":"VLOOKUP($AB282,$AG:$AU,9)/14","v":8.8104020571477919E-3},{"$f":"VLOOKUP($AB282,$AG:$AU,10)/28","v":219.25007499999998},null,{"$f":"AG281+7","v":"2015-06-29"},876.98311192744154,{"$f":"Y282-AD282","v":826.49208959794259},{"$f":"Z282-AE282","v":530.50069999999982},null,"2010-11-28",0.10247788300968305,0.12031650790873717,0.12334562880006908,6139.0020999999997,11571.012599999996,20993.021699999994,629.11193899999853,1392.1838289999971,2589.3974619999944]
["2010-11-25",877.00069999999982,91.010280999999793,0.1037744679109148,null,null,null,null,null,null,11.00028099999979,null,null,null,{"$f":"O282+0.01","v":80.010000000000005},null,null,null,null,null,null,null,{"$f":"W282+7","v":"2015-07-06"},{"$f":"(VLOOKUP($W283,$AG:$AU,10))/7","v":877.0003999999999},{"$f":"VLOOKUP($W283,$AG:$AU,11)/14","v":833.71514999999988},{"$f":"VLOOKUP($W283,$AG:$AU,12)/28","v":779.10789999999986},{"$f":"AC283/X283","v":1.7447523629686714E-5},{"$f":"AB282+7","v":"2015-07-06"},{"$f":"(VLOOKUP($AB283,$AG:$AU,8))/7","v":1.5301485202244699E-2},{"$f":"VLOOKUP($AB283,$AG:$AU,9)/14","v":8.5013423489787038E-3},{"$f":"VLOOKUP($AB283,$AG:$AU,10)/28","v":219.25009999999997},null,{"$f":"AG282+7","v":"2015-07-06"},876.98509851479764,{"$f":"Y283-AD283","v":833.70664865765093},{"$f":"Z283-AE283","v":559.85779999999988},null,"2010-11-29",0.10280202934587336,0.10711039641571289,0.11901879288570184,6139.0027999999993,11672.012099999998,21815.021199999996,631.10194599999863,1250.1938429999973,2596.3974899999944]
["2010-11-26",877.0007999999998,91.020281999999796,0.10378585971643335,null,null,null,null,null,null,11.000281999999789,null,null,null,80.02000000000001,null,null,null,null,null,null,null,{"$f":"W283+7","v":"2015-07-13"},{"$f":"(VLOOKUP($W284,$AG:$AU,10))/7","v":877.00049999999999},{"$f":"VLOOKUP($W284,$AG:$AU,11)/14","v":840.92939999999987},{"$f":"VLOOKUP($W284,$AG:$AU,12)/28","v":808.46502499999974},{"$f":"AC284/X284","v":1.733962637880729E-5},{"$f":"AB283+7","v":"2015-07-13"},{"$f":"(VLOOKUP($AB284,$AG:$AU,8))/7","v":1.5206861004027183E-2},{"$f":"VLOOKUP($AB284,$AG:$AU,9)/14","v":8.214727902396992E-3},{"$f":"VLOOKUP($AB284,$AG:$AU,10)/28","v":219.250125},null,{"$f":"AG283+7","v":"2015-07-13"},876.98529313899598,{"$f":"Y284-AD284","v":840.92118527209743},{"$f":"Z284-AE284","v":589.21489999999972},null,"2010-11-30",0.10312617560814205,0.10644802702819028,0.11500619063355788,6139.0034999999998,11773.011599999998,22637.020699999994,633.09195299999863,1253.2138569999975,2603.3975179999952]
["2010-11-27",877.00089999999977,91.030282999999798,0.103797251519354,null,null,null,null,null,null,11.000282999999788,null,null,null,80.030000000000015,null,null,null,null,null,null,null,{"$f":"W284+7","v":"2015-07-20"},{"$f":"(VLOOKUP($W285,$AG:$AU,10))/7","v":877.00059999999996},{"$f":"VLOOKUP($W285,$AG:$AU,11)/14","v":848.14364999999975},{"$f":"VLOOKUP($W285,$AG:$AU,12)/28","v":812.07219999999973},{"$f":"AC285/X285","v":1.7233564651275073E-5},{"$f":"AB284+7","v":"2015-07-20"},{"$f":"(VLOOKUP($AB285,$AG:$AU,8))/7","v":1.5113846539307028E-2},{"$f":"VLOOKUP($AB285,$AG:$AU,9)/14","v":8.2002282719015555E-3},{"$f":"VLOOKUP($AB285,$AG:$AU,10)/28","v":219.25014999999999},null,{"$f":"AG284+7","v":"2015-07-20"},876.98548615346067,{"$f":"Y285-AD285","v":848.13544977172785},{"$f":"Z285-AE285","v":592.82204999999976},null,"2010-12-01",0.10329394464333462,0.10579692577514919,0.11480319580662177,6139.0041999999994,11874.011099999996,22738.021599999993,634.12195999999869,1256.2338709999972,2610.3975459999942]
["2010-11-28",877.00099999999975,92.000283999999795,0.10490328289249365,null,null,null,null,null,null,11.000283999999787,null,null,null,81,null,null,null,null,null,null,null,{"$f":"W285+7","v":"2015-07-27"},{"$f":"(VLOOKUP($W286,$AG:$AU,10))/7","v":877.00069999999971},{"$f":"VLOOKUP($W286,$AG:$AU,11)/14","v":855.35789999999986},{"$f":"VLOOKUP($W286,$AG:$AU,12)/28","v":815.67937499999982},{"$f":"AC286/X286","v":1.7142350625509576E-5},{"$f":"AB285+7","v":"2015-07-27"},{"$f":"(VLOOKUP($AB286,$AG:$AU,8))/7","v":1.5033853498217332E-2},{"$f":"VLOOKUP($AB286,$AG:$AU,9)/14","v":8.1858568846993433E-3},{"$f":"VLOOKUP($AB286,$AG:$AU,10)/28","v":219.25017499999993},null,{"$f":"AG285+7","v":"2015-07-27"},876.98566614650144,{"$f":"Y286-AD286","v":855.34971414311519},{"$f":"Z286-AE286","v":596.42919999999992},null,"2010-12-02",0.10361809077559116,0.10523697448752133,0.1146019963857908,6139.0048999999981,11975.010599999998,22839.022499999995,636.11196699999869,1260.2138849999972,2617.3975739999942]
["2010-11-29",877.00109999999972,92.010284999999797,0.10491467456540228,null,null,null,null,null,null,11.000284999999787,null,null,null,{"$f":"O286+0.01","v":81.010000000000005},null,null,null,null,null,null,null,{"$f":"W286+7","v":"2015-08-03"},{"$f":"(VLOOKUP($W287,$AG:$AU,10))/7","v":877.0007999999998},{"$f":"VLOOKUP($W287,$AG:$AU,11)/14","v":862.57214999999985},{"$f":"VLOOKUP($W287,$AG:$AU,12)/28","v":819.28654999999981},{"$f":"AC287/X287","v":1.7052662351544131E-5},{"$f":"AB286+7","v":"2015-08-03"},{"$f":"(VLOOKUP($AB287,$AG:$AU,8))/7","v":1.4955198524434081E-2},{"$f":"VLOOKUP($AB287,$AG:$AU,9)/14","v":8.1716120468921672E-3},{"$f":"VLOOKUP($AB287,$AG:$AU,10)/28","v":219.25019999999995},null,{"$f":"AG286+7","v":"2015-08-03"},876.98584480147531,{"$f":"Y287-AD287","v":862.56397838795294},{"$f":"Z287-AE287","v":600.03634999999986},null,"2010-12-03",0.10394223683392612,0.10468638967103856,{"$f":"AU287/AR287","v":0.11440256865649034},6139.0055999999986,12076.010099999998,{"$f":"SUM(B260:B287)","v":22940.023399999995},638.10197399999856,1264.1938989999971,{"$f":"SUM(C260:C287)","v":2624.3976019999945}]
["2010-11-30",877.0011999999997,92.0202859999998,0.10492606623571306,null,null,null,null,null,null,11.000285999999786,null,null,null,81.02000000000001,null,null,null,null,null,null,null,{"$f":"W287+7","v":"2015-08-10"},{"$f":"(VLOOKUP($W288,$AG:$AU,10))/7","v":877.00089999999977},{"$f":"VLOOKUP($W288,$AG:$AU,11)/14","v":869.78639999999984},{"$f":"VLOOKUP($W288,$AG:$AU,12)/28","v":822.89372499999979},{"$f":"AC288/X288","v":1.6951619869083022E-5},{"$f":"AB287+7","v":"2015-08-10"},{"$f":"(VLOOKUP($AB288,$AG:$AU,8))/7","v":1.4866585881643688E-2},{"$f":"VLOOKUP($AB288,$AG:$AU,9)/14","v":8.1574920942828148E-3},{"$f":"VLOOKUP($AB288,$AG:$AU,10)/28","v":219.25022499999994},null,{"$f":"AG287+7","v":"2015-08-10"},876.98603341411808,{"$f":"Y288-AD288","v":869.77824250790559},{"$f":"Z288-AE288","v":603.6434999999999},null,"2010-12-04",0.10426638281833962,0.10406610117150582,0.11420488931995941,6139.0062999999982,12177.009599999998,23041.024299999994,640.09198099999855,1267.2139129999973,2631.3976299999945]
["2010-12-01",877.00129999999967,92.030286999999802,0.10493745790342596,null,null,null,null,null,null,11.000286999999785,null,null,null,81.030000000000015,null,null,null,null,null,null,null,{"$f":"W288+7","v":"2015-08-17"},{"$f":"(VLOOKUP($W289,$AG:$AU,10))/7","v":877.00099999999986},{"$f":"VLOOKUP($W289,$AG:$AU,11)/14","v":877.00064999999995},{"$f":"VLOOKUP($W289,$AG:$AU,12)/28","v":826.50089999999989},{"$f":"AC289/X289","v":1.6852239738235039E-5},{"$f":"AB288+7","v":"2015-08-17"},{"$f":"(VLOOKUP($AB289,$AG:$AU,8))/7","v":1.4779431102671865E-2},{"$f":"VLOOKUP($AB289,$AG:$AU,9)/14","v":8.1434953917269171E-3},{"$f":"VLOOKUP($AB289,$AG:$AU,10)/28","v":219.25024999999997},null,{"$f":"AG288+7","v":"2015-08-17"},876.98622056889724,{"$f":"Y289-AD289","v":876.99250650460817},{"$f":"Z289-AE289","v":607.25064999999995},null,"2010-12-05",0.10443415164700069,0.10345601771870305,0.11400893548417683,6139.0069999999987,12278.009099999999,23142.025199999996,641.12198799999862,1270.2339269999973,2638.397657999994]
["2010-12-02",877.00139999999965,93.000287999999784,0.10604348864209319,null,null,null,null,null,null,11.000287999999784,null,null,null,82,null,null,null,null,null,null,null,{"$f":"W289+7","v":"2015-08-24"},{"$f":"(VLOOKUP($W290,$AG:$AU,10))/7","v":877.00109999999972},{"$f":"VLOOKUP($W290,$AG:$AU,11)/14","v":877.00074999999993},{"$f":"VLOOKUP($W290,$AG:$AU,12)/28","v":830.10807499999987},{"$f":"AC290/X290","v":1.6905038873627548E-5},{"$f":"AB289+7","v":"2015-08-24"},{"$f":"(VLOOKUP($AB290,$AG:$AU,8))/7","v":1.4825737687714115E-2},{"$f":"VLOOKUP($AB290,$AG:$AU,9)/14","v":8.1296203325017212E-3},{"$f":"VLOOKUP($AB290,$AG:$AU,10)/28","v":219.25027499999993},null,{"$f":"AG289+7","v":"2015-08-24"},876.98627426231201,{"$f":"Y290-AD290","v":876.99262037966741},{"$f":"Z290-AE290","v":610.8578},null,"2010-12-06",0.10475829750140218,0.10378016381399881,0.11381468465502409,6139.0076999999983,12278.010499999999,23243.026099999995,643.11199499999861,1274.2139409999972,2645.3976859999939]
["2010-12-03",877.00149999999962,233.00028899999978,0.26567832438142908,null,null,null,null,null,null,11.000288999999784,null,null,null,222,null,null,null,null,null,null,null,{"$f":"W290+7","v":"2015-08-31"},{"$f":"(VLOOKUP($W291,$AG:$AU,10))/7","v":877.0011999999997},{"$f":"VLOOKUP($W291,$AG:$AU,11)/14","v":877.00084999999979},{"$f":"VLOOKUP($W291,$AG:$AU,12)/28","v":833.71524999999986},{"$f":"AC291/X291","v":1.8815089562623165E-5},{"$f":"AB290+7","v":"2015-08-31"},{"$f":"(VLOOKUP($AB291,$AG:$AU,8))/7","v":1.6500856124527986E-2},{"$f":"VLOOKUP($AB291,$AG:$AU,9)/14","v":8.5442098437306432E-3},{"$f":"VLOOKUP($AB291,$AG:$AU,10)/28","v":219.25029999999992},null,{"$f":"AG290+7","v":"2015-08-31"},876.98469914387522,{"$f":"Y291-AD291","v":876.99230579015602},{"$f":"Z291-AE291","v":614.46494999999993},null,"2010-12-07",0.12788580025399526,0.11550599287169591,0.119618937812229,6139.0083999999979,12278.011899999998,23344.026999999995,785.09200199999873,1418.1839549999972,2792.387713999994]
["2010-12-04",877.0015999999996,233.01028999999977,0.26568969771548862,null,null,null,null,null,null,11.000289999999783,null,null,null,222.01,null,null,null,null,null,null,null,{"$f":"W291+7","v":"2015-09-07"},{"$f":"(VLOOKUP($W292,$AG:$AU,10))/7","v":877.00129999999979},{"$f":"VLOOKUP($W292,$AG:$AU,11)/14","v":877.00094999999988},{"$f":"VLOOKUP($W292,$AG:$AU,12)/28","v":837.32242499999973},{"$f":"AC292/X292","v":2.0712403034220195E-5},{"$f":"AB291+7","v":"2015-09-07"},{"$f":"(VLOOKUP($AB292,$AG:$AU,8))/7","v":1.8164804387135053E-2},{"$f":"VLOOKUP($AB292,$AG:$AU,9)/14","v":8.9552272616403947E-3},{"$f":"VLOOKUP($AB292,$AG:$AU,10)/28","v":219.25032499999995},null,{"$f":"AG291+7","v":"2015-09-07"},876.9831351956127,{"$f":"Y292-AD292","v":876.99199477273828},{"$f":"Z292-AE292","v":618.07209999999975},null,"2010-12-08",0.15101329773236513,0.12715363070994537,0.12537318166296552,6139.0090999999984,12278.013299999999,23445.027899999994,927.07200899999862,1561.1939689999974,2939.3777419999942]
["2010-12-05",877.00169999999957,233.02029099999976,0.26570107104695451,null,null,null,null,null,null,11.000290999999782,null,null,null,222.01999999999998,null,null,null,null,null,null,null,{"$f":"W292+7","v":"2015-09-14"},{"$f":"(VLOOKUP($W293,$AG:$AU,10))/7","v":877.00139999999976},{"$f":"VLOOKUP($W293,$AG:$AU,11)/14","v":877.00104999999962},{"$f":"VLOOKUP($W293,$AG:$AU,12)/28","v":840.92959999999982},{"$f":"AC293/X293","v":2.260971564045268E-5},{"$f":"AB292+7","v":"2015-09-14"},{"$f":"(VLOOKUP($AB293,$AG:$AU,8))/7","v":1.9828752270278891E-2},{"$f":"VLOOKUP($AB293,$AG:$AU,9)/14","v":9.3627185538091816E-3},{"$f":"VLOOKUP($AB293,$AG:$AU,10)/28","v":219.25034999999994},null,{"$f":"AG292+7","v":"2015-09-14"},876.98157124772945,{"$f":"Y293-AD293","v":876.99168728144582},{"$f":"Z293-AE293","v":621.67924999999991},null,"2010-12-09",0.17398441292600622,0.13880126589195224,0.13107805975332854,6139.009799999998,12278.014699999994,23546.028799999996,1068.0920159999985,1704.2039829999974,3086.3677699999939]
["2010-12-06",999,94.000291999999774,9.4094386386386161E-2,null,null,null,null,null,null,11.000291999999781,null,null,null,83,null,null,null,null,null,null,null,{"$f":"W293+7","v":"2015-09-21"},{"$f":"(VLOOKUP($W294,$AG:$AU,10))/7","v":894.42981428571397},{"$f":"VLOOKUP($W294,$AG:$AU,11)/14","v":885.71530714285689},{"$f":"VLOOKUP($W294,$AG:$AU,12)/28","v":848.89385357142851},{"$f":"AC294/X294","v":2.2002303732165267E-5},{"$f":"AB293+7","v":"2015-09-21"},{"$f":"(VLOOKUP($AB294,$AG:$AU,8))/7","v":1.9679516441018452E-2},{"$f":"VLOOKUP($AB294,$AG:$AU,9)/14","v":9.2959141469258523E-3},{"$f":"VLOOKUP($AB294,$AG:$AU,10)/28","v":223.60745357142849},null,{"$f":"AG293+7","v":"2015-09-21"},894.41013476927299,{"$f":"Y294-AD294","v":885.70601122870994},{"$f":"Z294-AE294","v":625.28639999999996},null,"2010-12-10",0.17091208050868845,0.13775661508712916,0.13014279805696194,6261.0086999999976,12400.014299999997,23769.027899999997,1070.0820229999983,1708.1839969999971,3093.3677979999939]
["2010-12-07",999.00009999999997,94.010292999999791,9.4104387977538534E-2,null,null,null,null,null,null,11.000292999999781,null,null,null,{"$f":"O294+0.01","v":83.01},null,null,null,null,null,null,null,{"$f":"W294+7","v":"2015-09-28"},{"$f":"(VLOOKUP($W295,$AG:$AU,10))/7","v":911.8582285714283},{"$f":"VLOOKUP($W295,$AG:$AU,11)/14","v":894.42956428571404},{"$f":"VLOOKUP($W295,$AG:$AU,12)/28","v":856.85810714285708},{"$f":"AC295/X295","v":2.1421299882291712E-5},{"$f":"AB294+7","v":"2015-09-28"},{"$f":"(VLOOKUP($AB295,$AG:$AU,8))/7","v":1.9533188564363865E-2},{"$f":"VLOOKUP($AB295,$AG:$AU,9)/14","v":9.2303515961483906E-3},{"$f":"VLOOKUP($AB295,$AG:$AU,10)/28","v":227.96455714285707},null,{"$f":"AG294+7","v":"2015-09-28"},911.83869538286399,{"$f":"Y295-AD295","v":894.42033393411793},{"$f":"Z295-AE295","v":628.89355},null,"2010-12-11",0.16795719152833199,0.13673231995054705,0.12922492234607746,6383.0075999999981,12522.013899999996,23992.026999999998,1072.0720299999984,1712.1640109999971,3100.3678259999938]
["2010-12-08",999.00019999999995,94.020293999999794,9.4114389566688578E-2,null,null,null,null,null,null,11.00029399999978,null,null,null,83.02000000000001,null,null,null,null,null,null,null,{"$f":"W295+7","v":"2015-10-05"},{"$f":"(VLOOKUP($W296,$AG:$AU,10))/7","v":929.28664285714274},{"$f":"VLOOKUP($W296,$AG:$AU,11)/14","v":903.14382142857107},{"$f":"VLOOKUP($W296,$AG:$AU,12)/28","v":864.82236071428554},{"$f":"AC296/X296","v":2.0853455872744846E-5},{"$f":"AB295+7","v":"2015-10-05"},{"$f":"(VLOOKUP($AB296,$AG:$AU,8))/7","v":1.9378837999952624E-2},{"$f":"VLOOKUP($AB296,$AG:$AU,9)/14","v":9.165996592268192E-3},{"$f":"VLOOKUP($AB296,$AG:$AU,10)/28","v":232.32166071428568},null,{"$f":"AG295+7","v":"2015-10-05"},929.26726401914277,{"$f":"Y296-AD296","v":903.13465543197879},{"$f":"Z296-AE296","v":632.50069999999982},null,"2010-12-12",0.16511313816519604,0.13565186599966836,0.12832395229175469,6505.0064999999995,12644.013499999995,24215.026099999995,1074.0620369999983,1715.1840249999971,3107.3678539999942]
["2010-12-09",999.00029999999992,94.030294999999796,9.4124391153836293E-2,null,null,null,null,null,null,11.000294999999779,null,null,null,83.030000000000015,null,null,null,null,null,null,null,{"$f":"W296+7","v":"2015-10-12"},{"$f":"(VLOOKUP($W297,$AG:$AU,10))/7","v":946.71505714285684},{"$f":"VLOOKUP($W297,$AG:$AU,11)/14","v":911.85807857142834},{"$f":"VLOOKUP($W297,$AG:$AU,12)/28","v":872.78661428571411},{"$f":"AC297/X297","v":2.0309635324511429E-5},{"$f":"AB296+7","v":"2015-10-12"},{"$f":"(VLOOKUP($AB297,$AG:$AU,8))/7","v":1.9227437566795423E-2},{"$f":"VLOOKUP($AB297,$AG:$AU,9)/14","v":8.6761683240615013E-3},{"$f":"VLOOKUP($AB297,$AG:$AU,10)/28","v":236.67876428571421},null,{"$f":"AG296+7","v":"2015-10-12"},946.69582970529007,{"$f":"Y297-AD297","v":911.84940240310425},{"$f":"Z297-AE297","v":636.10784999999987},null,"2010-12-13",0.16222893737192351,0.13459206296756795,0.12146635653686101,6627.0053999999982,12766.013099999996,24438.025199999996,1075.0920439999986,1718.204038999997,2968.3978819999938]
["2010-12-10",999.0003999999999,95.000295999999778,9.5095353315173631E-2,null,null,null,null,null,null,11.000295999999778,null,null,null,84,null,null,null,null,null,null,null,{"$f":"W297+7","v":"2015-10-19"},{"$f":"(VLOOKUP($W298,$AG:$AU,10))/7","v":964.14347142857139},{"$f":"VLOOKUP($W298,$AG:$AU,11)/14","v":920.57233571428537},{"$f":"VLOOKUP($W298,$AG:$AU,12)/28","v":880.75086785714279},{"$f":"AC298/X298","v":1.9799485417979936E-5},{"$f":"AB297+7","v":"2015-10-19"},{"$f":"(VLOOKUP($AB298,$AG:$AU,8))/7","v":1.9089544603390553E-2},{"$f":"VLOOKUP($AB298,$AG:$AU,9)/14","v":8.6179884321697358E-3},{"$f":"VLOOKUP($AB298,$AG:$AU,10)/28","v":241.03586785714285},null,{"$f":"AG297+7","v":"2015-10-19"},964.124381883968,{"$f":"Y298-AD298","v":920.56371772585317},{"$f":"Z298-AE298","v":639.71499999999992},null,"2010-12-14",0.1388489337604954,0.13362681222373388,0.12065183805037631,6749.0042999999996,12888.012699999996,24661.024299999997,937.09205099999849,1722.184052999997,2975.3979099999947]
["2010-12-11",999.00049999999987,95.010296999999781,9.5105354802124523E-2,null,null,null,null,null,null,11.000296999999778,null,null,null,{"$f":"O298+0.01","v":84.01},null,null,null,null,null,null,null,{"$f":"W298+7","v":"2015-10-26"},{"$f":"(VLOOKUP($W299,$AG:$AU,10))/7","v":981.5718857142856},{"$f":"VLOOKUP($W299,$AG:$AU,11)/14","v":929.28659285714264},{"$f":"VLOOKUP($W299,$AG:$AU,12)/28","v":888.71512142857125},{"$f":"AC299/X299","v":1.9310086261048289E-5},{"$f":"AB298+7","v":"2015-10-26"},{"$f":"(VLOOKUP($AB299,$AG:$AU,8))/7","v":1.8954237784562688E-2},{"$f":"VLOOKUP($AB299,$AG:$AU,9)/14","v":8.5608513028024545E-3},{"$f":"VLOOKUP($AB299,$AG:$AU,10)/28","v":245.3929714285714},null,{"$f":"AG298+7","v":"2015-10-26"},981.55293147650104,{"$f":"Y299-AD299","v":929.2780320058398},{"$f":"Z299-AE299","v":643.32214999999985},null,"2010-12-15",0.11629918291989716,0.13267966449193883,0.11985191823923437,6871.0031999999992,13010.012299999997,24884.023399999995,799.09205799999859,1726.164066999997,2982.3979379999942]
["2010-12-12",999.00059999999985,95.020297999999784,9.51153562870731E-2,null,null,null,null,null,null,11.000297999999777,null,null,null,84.02000000000001,null,null,null,null,null,null,null,{"$f":"W299+7","v":"2015-11-02"},{"$f":"(VLOOKUP($W300,$AG:$AU,10))/7","v":999.00029999999992},{"$f":"VLOOKUP($W300,$AG:$AU,11)/14","v":938.00084999999967},{"$f":"VLOOKUP($W300,$AG:$AU,12)/28","v":896.67937499999982},{"$f":"AC300/X300","v":1.8829825809118037E-5},{"$f":"AB299+7","v":"2015-11-02"},{"$f":"(VLOOKUP($AB300,$AG:$AU,8))/7","v":1.8811001632256661E-2},{"$f":"VLOOKUP($AB300,$AG:$AU,9)/14","v":8.5047291506930682E-3},{"$f":"VLOOKUP($AB300,$AG:$AU,10)/28","v":249.75007499999998},null,{"$f":"AG299+7","v":"2015-11-02"},998.98148899836769,{"$f":"Y300-AD300","v":937.992345270849},{"$f":"Z300-AE300","v":646.92929999999978},null,"2010-12-16",9.453623144200092E-2,0.13167701142579663,0.11906620810970296,6993.0020999999997,13132.011899999996,25107.022499999995,661.09206499999846,1729.1840809999967,2989.3979659999941]
["2010-12-13",999.00069999999982,95.030298999999786,9.5125357770019389E-2,null,null,null,null,null,null,11.000298999999776,null,null,null,84.030000000000015,null,null,null,null,null,null,null,{"$f":"W300+7","v":"2015-11-09"},{"$f":"(VLOOKUP($W301,$AG:$AU,10))/7","v":999.0003999999999},{"$f":"VLOOKUP($W301,$AG:$AU,11)/14","v":946.71510714285705},{"$f":"VLOOKUP($W301,$AG:$AU,12)/28","v":904.64362857142839},{"$f":"AC301/X301","v":1.8689083988580959E-5},{"$f":"AB300+7","v":"2015-11-09"},{"$f":"(VLOOKUP($AB301,$AG:$AU,8))/7","v":1.8670402380225971E-2},{"$f":"VLOOKUP($AB301,$AG:$AU,9)/14","v":8.449595169032811E-3},{"$f":"VLOOKUP($AB301,$AG:$AU,10)/28","v":249.75009999999997},null,{"$f":"AG300+7","v":"2015-11-09"},998.98172959761962,{"$f":"Y301-AD301","v":946.706657547688},{"$f":"Z301-AE301","v":654.89352857142842},null,"2010-12-17",9.4683513068234235E-2,0.13069281666158181,0.11829433236645936,6993.0027999999993,13254.011499999999,25330.021599999996,662.12207199999852,1732.2040949999966,2996.3979939999945]
["2010-12-14",999.0007999999998,96.000299999999783,9.6096319442386641E-2,null,null,null,null,null,null,11.000299999999775,null,null,null,85,null,null,null,null,null,null,null,{"$f":"W301+7","v":"2015-11-16"},{"$f":"(VLOOKUP($W302,$AG:$AU,10))/7","v":999.00049999999999},{"$f":"VLOOKUP($W302,$AG:$AU,11)/14","v":955.42936428571397},{"$f":"VLOOKUP($W302,$AG:$AU,12)/28","v":912.60788214285697},{"$f":"AC302/X302","v":1.8561172665301406E-5},{"$f":"AB301+7","v":"2015-11-16"},{"$f":"(VLOOKUP($AB302,$AG:$AU,8))/7","v":1.8542620773222437E-2},{"$f":"VLOOKUP($AB302,$AG:$AU,9)/14","v":8.3954234867761376E-3},{"$f":"VLOOKUP($AB302,$AG:$AU,10)/28","v":249.750125},null,{"$f":"AG301+7","v":"2015-11-16"},998.98195737922674,{"$f":"Y302-AD302","v":955.42096886222714},{"$f":"Z302-AE302","v":662.85775714285694},null,"2010-12-18",9.4968074733553121E-2,0.12979834541255705,0.11753592881486594,6993.0034999999998,13376.011099999996,25553.020699999994,664.11207899999852,1736.1841089999966,3003.3980219999949]
["2010-12-15",999.00089999999977,96.010300999999785,9.6106320825136204E-2,null,null,null,null,null,null,11.000300999999775,null,null,null,{"$f":"O302+0.01","v":85.01},null,null,null,null,null,null,null,{"$f":"W302+7","v":"2015-11-23"},{"$f":"(VLOOKUP($W303,$AG:$AU,10))/7","v":999.00059999999996},{"$f":"VLOOKUP($W303,$AG:$AU,11)/14","v":964.14362142857135},{"$f":"VLOOKUP($W303,$AG:$AU,12)/28","v":920.57213571428554},{"$f":"AC303/X303","v":1.843557354545E-5},{"$f":"AB302+7","v":"2015-11-23"},{"$f":"(VLOOKUP($AB303,$AG:$AU,8))/7","v":1.8417149033248675E-2},{"$f":"VLOOKUP($AB303,$AG:$AU,9)/14","v":8.3421891281623244E-3},{"$f":"VLOOKUP($AB303,$AG:$AU,10)/28","v":249.75014999999999},null,{"$f":"AG302+7","v":"2015-11-23"},998.98218285096675,{"$f":"Y303-AD303","v":964.13527923944321},{"$f":"Z303-AE303","v":670.82198571428557},null,"2010-12-19",9.5252636341902744E-2,0.12892004323274073,0.11679064779427255,6993.0041999999994,13498.010699999999,25776.019799999995,666.10208599999851,1740.1641229999966,3010.3980499999948]
["2010-12-16",999.00099999999975,96.020301999999788,9.6116322205883495E-2,null,null,null,null,null,null,11.000301999999774,null,null,null,85.02000000000001,null,null,null,null,null,null,null,{"$f":"W303+7","v":"2015-11-30"},{"$f":"(VLOOKUP($W304,$AG:$AU,10))/7","v":999.00069999999971},{"$f":"VLOOKUP($W304,$AG:$AU,11)/14","v":972.85787857142827},{"$f":"VLOOKUP($W304,$AG:$AU,12)/28","v":924.9293142857141},{"$f":"AC304/X304","v":1.8302145204627987E-5},{"$f":"AB303+7","v":"2015-11-30"},{"$f":"(VLOOKUP($AB304,$AG:$AU,8))/7","v":1.8283855870924997E-2},{"$f":"VLOOKUP($AB304,$AG:$AU,9)/14","v":8.3221971210578703E-3},{"$f":"VLOOKUP($AB304,$AG:$AU,10)/28","v":249.75017499999993},null,{"$f":"AG303+7","v":"2015-11-30"},998.98241614412882,{"$f":"Y304-AD304","v":972.84955637430721},{"$f":"Z304-AE304","v":675.1791392857142},null,"2010-12-20",9.5537197893283146E-2,0.12798699109647499,0.11651075969481019,6993.0048999999981,13620.010299999996,25898.020799999995,668.0920929999985,1743.184136999997,3017.3980779999952]
["2010-12-17",999.00109999999972,96.03030299999979,9.6126323584628498E-2,null,null,null,null,null,null,11.000302999999773,null,null,null,85.030000000000015,null,null,null,null,null,null,null,{"$f":"W304+7","v":"2015-12-07"},{"$f":"(VLOOKUP($W305,$AG:$AU,10))/7","v":999.0007999999998},{"$f":"VLOOKUP($W305,$AG:$AU,11)/14","v":981.57213571428565},{"$f":"VLOOKUP($W305,$AG:$AU,12)/28","v":929.28649285714255},{"$f":"AC305/X305","v":1.6714343172390125E-5},{"$f":"AB304+7","v":"2015-12-07"},{"$f":"(VLOOKUP($AB305,$AG:$AU,8))/7","v":1.669764220069227E-2},{"$f":"VLOOKUP($AB305,$AG:$AU,9)/14","v":8.3023925884203858E-3},{"$f":"VLOOKUP($AB305,$AG:$AU,10)/28","v":249.75019999999995},null,{"$f":"AG304+7","v":"2015-12-07"},998.98410235779909,{"$f":"Y305-AD305","v":981.56383332169719},{"$f":"Z305-AE305","v":679.5362928571426},null,"2010-12-21",9.5684479360348088E-2,0.1168834954048459,0.1162334962378854,6993.0055999999986,13742.009899999999,26020.021799999991,669.12209999999845,1606.2141509999967,3024.3981059999951]
["2010-12-18",999.0011999999997,97.000303999999772,9.7097284768026107E-2,null,null,null,null,null,null,11.000303999999772,null,null,null,86,null,null,null,null,null,null,null,{"$f":"W305+7","v":"2015-12-14"},{"$f":"(VLOOKUP($W306,$AG:$AU,10))/7","v":999.00089999999977},{"$f":"VLOOKUP($W306,$AG:$AU,11)/14","v":990.28639285714257},{"$f":"VLOOKUP($W306,$AG:$AU,12)/28","v":933.64367142857122},{"$f":"AC306/X306","v":1.51643877934234E-5},{"$f":"AB305+7","v":"2015-12-14"},{"$f":"(VLOOKUP($AB306,$AG:$AU,8))/7","v":1.5149237053578986E-2},{"$f":"VLOOKUP($AB306,$AG:$AU,9)/14","v":8.2827729055020508E-3},{"$f":"VLOOKUP($AB306,$AG:$AU,10)/28","v":249.75022499999994},null,{"$f":"AG305+7","v":"2015-12-14"},998.98575076294617,{"$f":"Y306-AD306","v":990.27811008423703},{"$f":"Z306-AE306","v":683.89344642857122},null,"2010-12-22",9.5969040811531764E-2,0.1060446593750529,0.1159588206770287,6993.0062999999982,13864.009499999996,26142.022799999995,671.11210699999856,1470.2041649999971,3031.398133999995]
["2010-12-19",999.00129999999967,97.010304999999775,9.7107286046574523E-2,null,null,null,null,null,null,11.000304999999772,null,null,null,{"$f":"O306+0.01","v":86.01},null,null,null,null,null,null,null,{"$f":"W306+7","v":"2015-12-21"},{"$f":"(VLOOKUP($W307,$AG:$AU,10))/7","v":999.00099999999986},{"$f":"VLOOKUP($W307,$AG:$AU,11)/14","v":999.00064999999995},{"$f":"VLOOKUP($W307,$AG:$AU,12)/28","v":938.00084999999956},{"$f":"AC307/X307","v":1.3641473135192643E-5},{"$f":"AB306+7","v":"2015-12-21"},{"$f":"(VLOOKUP($AB307,$AG:$AU,8))/7","v":1.3627845303530584E-2},{"$f":"VLOOKUP($AB307,$AG:$AU,9)/14","v":8.2633354963247037E-3},{"$f":"VLOOKUP($AB307,$AG:$AU,10)/28","v":249.75024999999997},null,{"$f":"AG306+7","v":"2015-12-21"},998.98737215469635,{"$f":"Y307-AD307","v":998.99238666450367},{"$f":"Z307-AE307","v":688.25059999999962},null,"2010-12-23",9.6253602205746192E-2,9.5394917124714082E-2,0.11568669694854586,6993.0069999999987,13986.009099999999,26264.023799999988,673.10211399999844,1334.1941789999969,3038.3981619999945]
["2010-12-20",999.00139999999965,97.020305999999778,9.711728732312068E-2,null,null,null,null,null,null,11.000305999999771,null,null,null,86.02000000000001,null,null,null,null,null,null,null,{"$f":"W307+7","v":"2015-12-28"},{"$f":"(VLOOKUP($W308,$AG:$AU,10))/7","v":999.00109999999972},{"$f":"VLOOKUP($W308,$AG:$AU,11)/14","v":999.00074999999993},{"$f":"VLOOKUP($W308,$AG:$AU,12)/28","v":942.35802857142824},{"$f":"AC308/X308","v":1.3672348541887257E-5},{"$f":"AB307+7","v":"2015-12-28"},{"$f":"(VLOOKUP($AB308,$AG:$AU,8))/7","v":1.3658691232928762E-2},{"$f":"VLOOKUP($AB308,$AG:$AU,9)/14","v":8.2440778325523593E-3},{"$f":"VLOOKUP($AB308,$AG:$AU,10)/28","v":249.75027499999993},null,{"$f":"AG307+7","v":"2015-12-28"},998.98744130876685,{"$f":"Y308-AD308","v":998.99250592216742},{"$f":"Z308-AE308","v":692.60775357142825},null,"2010-12-24",9.6538163542991468E-2,9.5610838630501335E-2,0.11541708965573304,6993.0076999999983,13986.010499999999,26386.024799999992,675.09212099999843,1337.2141929999971,3045.3981899999944]
["2010-12-21",999.00149999999962,97.03030699999978,9.7127288597664591E-2,null,null,null,null,null,null,11.00030699999977,null,null,null,86.030000000000015,null,null,null,null,null,null,null,{"$f":"W308+7","v":"2016-01-04"},{"$f":"(VLOOKUP($W309,$AG:$AU,10))/7","v":999.0011999999997},{"$f":"VLOOKUP($W309,$AG:$AU,11)/14","v":999.00084999999979},{"$f":"VLOOKUP($W309,$AG:$AU,12)/28","v":946.71520714285703},{"$f":"AC309/X309","v":1.3703223936219082E-5},{"$f":"AB308+7","v":"2016-01-04"},{"$f":"(VLOOKUP($AB309,$AG:$AU,8))/7","v":1.3689537156151581E-2},{"$f":"VLOOKUP($AB309,$AG:$AU,9)/14","v":8.2249974323948642E-3},{"$f":"VLOOKUP($AB309,$AG:$AU,10)/28","v":249.75029999999992},null,{"$f":"AG308+7","v":"2016-01-04"},998.9875104628436,{"$f":"Y309-AD309","v":998.99262500256737},{"$f":"Z309-AE309","v":696.9649071428571},null,"2010-12-25",9.6685444850888314E-2,9.582676009306107E-2,0.11514996405352809,6993.0083999999979,13986.011899999998,26508.025799999996,676.1221279999985,1340.234206999997,3052.3982179999948]
["2010-12-22",999.0015999999996,98.000307999999762,9.8098249292093029E-2,null,null,null,null,null,null,11.000307999999769,null,null,null,87,null,null,null,null,null,null,null,{"$f":"W309+7","v":"2016-01-11"},{"$f":"(VLOOKUP($W310,$AG:$AU,10))/7","v":999.00129999999979},{"$f":"VLOOKUP($W310,$AG:$AU,11)/14","v":999.00094999999988},{"$f":"VLOOKUP($W310,$AG:$AU,12)/28","v":951.07238571428559},{"$f":"AC310/X310","v":1.3743914835712156E-5},{"$f":"AB309+7","v":"2016-01-11"},{"$f":"(VLOOKUP($AB310,$AG:$AU,8))/7","v":1.3730188787965728E-2},{"$f":"VLOOKUP($AB310,$AG:$AU,9)/14","v":8.2060918595416796E-3},{"$f":"VLOOKUP($AB310,$AG:$AU,10)/28","v":249.75032499999995},null,{"$f":"AG309+7","v":"2016-01-11"},998.98756981121187,{"$f":"Y310-AD310","v":998.99274390814037},{"$f":"Z310-AE310","v":701.32206071428561},null,"2010-12-26",9.6970006087936975E-2,9.6111321515760101E-2,0.11488528603358351,6993.0090999999984,13986.013299999999,26630.026799999996,678.11213499999849,1344.2142209999968,3059.3982459999943]
["2010-12-23",999.00169999999957,98.010308999999779,9.8108250466440464E-2,null,null,null,null,null,null,11.000308999999769,null,null,null,{"$f":"O310+0.01","v":87.01},null,null,null,null,null,null,null,{"$f":"W310+7","v":"2016-01-18"},{"$f":"(VLOOKUP($W311,$AG:$AU,10))/7","v":999.00139999999976},{"$f":"VLOOKUP($W311,$AG:$AU,11)/14","v":999.00104999999962},{"$f":"VLOOKUP($W311,$AG:$AU,12)/28","v":955.42956428571404},{"$f":"AC311/X311","v":1.378460571891234E-5},{"$f":"AB310+7","v":"2016-01-18"},{"$f":"(VLOOKUP($AB311,$AG:$AU,8))/7","v":1.377084041164143E-2},{"$f":"VLOOKUP($AB311,$AG:$AU,9)/14","v":8.1873587221248621E-3},{"$f":"VLOOKUP($AB311,$AG:$AU,10)/28","v":249.75034999999994},null,{"$f":"AG310+7","v":"2016-01-18"},998.9876291595881,{"$f":"Y311-AD311","v":998.9928626412775},{"$f":"Z311-AE311","v":705.67921428571412},null,"2010-12-27",9.7254567268016512E-2,9.6395882881490008E-2,0.11462302210974808,6993.009799999998,13986.014699999994,26752.027799999993,680.10214199999848,1348.194234999997,3066.3982739999942]
["2010-12-24",999.00179999999955,98.020309999999782,9.8118251638785667E-2,null,null,null,null,null,null,11.000309999999768,null,null,null,87.02000000000001,null,null,null,null,null,null,null,{"$f":"W311+7","v":"2016-01-25"},{"$f":"(VLOOKUP($W312,$AG:$AU,10))/7","v":999.00149999999951},{"$f":"VLOOKUP($W312,$AG:$AU,11)/14","v":999.00114999999971},{"$f":"VLOOKUP($W312,$AG:$AU,12)/28","v":959.7867428571426},{"$f":"AC312/X312","v":1.3815481072225711E-5},{"$f":"AB311+7","v":"2016-01-25"},{"$f":"(VLOOKUP($AB312,$AG:$AU,8))/7","v":1.3801686314375087E-2},{"$f":"VLOOKUP($AB312,$AG:$AU,9)/14","v":8.1687956717102581E-3},{"$f":"VLOOKUP($AB312,$AG:$AU,10)/28","v":249.75037499999988},null,{"$f":"AG311+7","v":"2016-01-25"},998.98769831368509,{"$f":"Y312-AD312","v":998.99298120432798},{"$f":"Z312-AE312","v":710.03636785714275},null,"2010-12-28",9.7539128391126925E-2,9.6611804200625609E-2,0.11436313940394362,6993.0104999999967,13986.016099999995,26874.028799999993,682.09214899999836,1351.2142489999969,3073.3983019999946]
["2010-12-25",999.00189999999952,98.030310999999784,9.8128252809128624E-2,null,null,null,null,null,null,11.000310999999767,null,null,null,87.030000000000015,null,null,null,null,null,null,null,{"$f":"W312+7","v":"2016-02-01"},{"$f":"(VLOOKUP($W313,$AG:$AU,10))/7","v":999.0015999999996},{"$f":"VLOOKUP($W313,$AG:$AU,11)/14","v":999.00124999999969},{"$f":"VLOOKUP($W313,$AG:$AU,12)/28","v":964.14392142857116},{"$f":"AC313/X313","v":1.384635641317632E-5},{"$f":"AB312+7","v":"2016-02-01"},{"$f":"(VLOOKUP($AB313,$AG:$AU,8))/7","v":1.3832532210933399E-2},{"$f":"VLOOKUP($AB313,$AG:$AU,9)/14","v":8.1504004023160766E-3},{"$f":"VLOOKUP($AB313,$AG:$AU,10)/28","v":249.7503999999999},null,{"$f":"AG312+7","v":"2016-02-01"},998.98776746778867,{"$f":"Y313-AD313","v":998.99309959959737},{"$f":"Z313-AE313","v":714.39352142857126},null,"2010-12-29",9.7686409539855829E-2,9.6827725476533788E-2,0.11410560563242508,6993.0111999999972,13986.017499999996,26996.029799999993,683.12215599999843,1354.2342629999971,3080.3983299999945]
["2010-12-26",999.0019999999995,99.000311999999766,9.9099213014588378E-2,null,null,null,null,null,null,11.000311999999766,null,null,null,88,null,null,null,null,null,null,null,{"$f":"W313+7","v":"2016-02-08"},{"$f":"(VLOOKUP($W314,$AG:$AU,10))/7","v":999.00169999999957},{"$f":"VLOOKUP($W314,$AG:$AU,11)/14","v":999.00134999999966},{"$f":"VLOOKUP($W314,$AG:$AU,12)/28","v":968.50109999999972},{"$f":"AC314/X314","v":1.3887047251427945E-5},{"$f":"AB313+7","v":"2016-02-08"},{"$f":"(VLOOKUP($AB314,$AG:$AU,8))/7","v":1.3873183812156839E-2},{"$f":"VLOOKUP($AB314,$AG:$AU,9)/14","v":8.132170649457952E-3},{"$f":"VLOOKUP($AB314,$AG:$AU,10)/28","v":249.75042499999989},null,{"$f":"AG313+7","v":"2016-02-08"},998.98782681618741,{"$f":"Y314-AD314","v":998.99321782935021},{"$f":"Z314-AE314","v":718.75067499999977},null,"2010-12-30",9.797097056276978E-2,9.7112286685097873E-2,0.11385038909241134,6993.0118999999968,13986.018899999995,27118.030799999993,685.11216299999842,1358.2142769999969,3087.398357999994]
["2010-12-27",999.00209999999947,99.010312999999769,9.9109214084734984E-2,null,null,null,null,null,null,11.000312999999766,null,null,null,{"$f":"O314+0.01","v":88.01},null,null,null,null,null,null,null,{"$f":"W314+7","v":"2016-02-15"},{"$f":"(VLOOKUP($W315,$AG:$AU,10))/7","v":999.00179999999966},{"$f":"VLOOKUP($W315,$AG:$AU,11)/14","v":999.00144999999964},{"$f":"VLOOKUP($W315,$AG:$AU,12)/28","v":972.85827857142829},{"$f":"AC315/X315","v":1.3927738073386695E-5},{"$f":"AB314+7","v":"2016-02-15"},{"$f":"(VLOOKUP($AB315,$AG:$AU,8))/7","v":1.3913835405241836E-2},{"$f":"VLOOKUP($AB315,$AG:$AU,9)/14","v":8.1141041892196612E-3},{"$f":"VLOOKUP($AB315,$AG:$AU,10)/28","v":249.75044999999992},null,{"$f":"AG314+7","v":"2016-02-15"},998.98788616459444,{"$f":"Y315-AD315","v":998.99333589581045},{"$f":"Z315-AE315","v":723.1078285714284},null,"2010-12-31",9.8255531528714635E-2,9.7396847836692849E-2,0.11359745864907525,6993.0125999999973,13986.020299999995,27240.031799999993,687.10216999999841,1362.1942909999968,3094.3983859999939]
["2010-12-28",999.00219999999945,99.020313999999772,9.9119215152879372E-2,null,null,null,null,null,null,11.000313999999765,null,null,null,88.02000000000001,null,null,null,null,null,null,null,{"$f":"W315+7","v":"2016-02-22"},{"$f":"(VLOOKUP($W316,$AG:$AU,10))/7","v":999.00189999999952},{"$f":"VLOOKUP($W316,$AG:$AU,11)/14","v":999.00154999999972},{"$f":"VLOOKUP($W316,$AG:$AU,12)/28","v":977.21545714285674},{"$f":"AC316/X316","v":1.3958613373318929E-5},{"$f":"AB315+7","v":"2016-02-22"},{"$f":"(VLOOKUP($AB316,$AG:$AU,8))/7","v":1.3944681281311013E-2},{"$f":"VLOOKUP($AB316,$AG:$AU,9)/14","v":8.0961988373486928E-3},{"$f":"VLOOKUP($AB316,$AG:$AU,10)/28","v":249.75047499999988},null,{"$f":"AG315+7","v":"2016-02-22"},998.98795531871826,{"$f":"Y316-AD316","v":998.99345380116233},{"$f":"Z316-AE316","v":727.4649821428568},null,"2011-01-01",9.8540092437690449E-2,9.7612768969177088E-2,0.11334678372288171,6993.0132999999969,13986.021699999996,27362.03279999999,689.0921769999984,1365.214304999997,3101.3984139999943]
["2010-12-29",999.00229999999942,99.030314999999774,9.9129216219021543E-2,null,null,null,null,null,null,11.000314999999764,null,null,null,88.030000000000015,null,null,null,null,null,null,null,{"$f":"W316+7","v":"2016-02-29"},{"$f":"(VLOOKUP($W317,$AG:$AU,10))/7","v":999.0019999999995},{"$f":"VLOOKUP($W317,$AG:$AU,11)/14","v":999.00164999999981},{"$f":"VLOOKUP($W317,$AG:$AU,12)/28","v":981.57263571428552},{"$f":"AC317/X317","v":1.398948866088842E-5},{"$f":"AB316+7","v":"2016-02-29"},{"$f":"(VLOOKUP($AB317,$AG:$AU,8))/7","v":1.3975527151204847E-2},{"$f":"VLOOKUP($AB317,$AG:$AU,9)/14","v":8.0784524483759283E-3},{"$f":"VLOOKUP($AB317,$AG:$AU,10)/28","v":249.75049999999987},null,{"$f":"AG316+7","v":"2016-02-29"},998.98802447284834,{"$f":"Y317-AD317","v":998.99357154755148},{"$f":"Z317-AE317","v":731.82213571428565},null,"2011-01-02",9.8687373427251646E-2,9.7828690058433934E-2,0.11309833427726299,6993.0139999999965,13986.023099999997,27484.033799999994,690.12218399999836,1368.234318999997,3108.3984419999938]
["2010-12-30",999.0023999999994,100.00031599999977,0.1001001759355131,null,null,null,null,null,null,11.000315999999764,null,null,null,89,null,null,null,null,null,null,null,{"$f":"W317+7","v":"2016-03-07"},{"$f":"(VLOOKUP($W318,$AG:$AU,10))/7","v":999.00209999999959},{"$f":"VLOOKUP($W318,$AG:$AU,11)/14","v":999.00174999999967},{"$f":"VLOOKUP($W318,$AG:$AU,12)/28","v":985.92981428571386},{"$f":"AC318/X318","v":1.4030179437898706E-5},{"$f":"AB317+7","v":"2016-03-07"},{"$f":"(VLOOKUP($AB318,$AG:$AU,8))/7","v":1.4016178721837622E-2},{"$f":"VLOOKUP($AB318,$AG:$AU,9)/14","v":8.0608629147586545E-3},{"$f":"VLOOKUP($AB318,$AG:$AU,10)/28","v":249.7505249999999},null,{"$f":"AG317+7","v":"2016-03-07"},998.98808382127777,{"$f":"Y318-AD318","v":998.99368913708497},{"$f":"Z318-AE318","v":736.17928928571393},null,"2011-01-03",9.8971934236031095E-2,9.8113251052863351E-2,0.11285208080662115,6993.014699999997,13986.024499999996,27606.034799999987,692.11219099999846,1372.2143329999972,3115.3984699999942]
["2010-12-31",999.00249999999937,100.01031699999977,0.10011017690145904,null,null,null,null,null,null,11.000316999999763,null,null,null,{"$f":"O318+0.01","v":89.01},null,null,null,null,null,null,null,{"$f":"W318+7","v":"2016-03-14"},{"$f":"(VLOOKUP($W319,$AG:$AU,10))/7","v":999.00219999999956},{"$f":"VLOOKUP($W319,$AG:$AU,11)/14","v":999.00184999999954},{"$f":"VLOOKUP($W319,$AG:$AU,12)/28","v":990.28699285714265},{"$f":"AC319/X319","v":1.407087019861614E-5},{"$f":"AB318+7","v":"2016-03-14"},{"$f":"(VLOOKUP($AB319,$AG:$AU,8))/7","v":1.4056830284331955E-2},{"$f":"VLOOKUP($AB319,$AG:$AU,9)/14","v":7.682808113965686E-3},{"$f":"VLOOKUP($AB319,$AG:$AU,10)/28","v":249.75054999999989},null,{"$f":"AG318+7","v":"2016-03-14"},998.98814316971527,{"$f":"Y319-AD319","v":998.99416719188559},{"$f":"Z319-AE319","v":740.53644285714279},null,"2011-01-04",9.9256494987841531E-2,9.8397811990323686E-2,0.10755931359551961,6993.0153999999966,13986.025899999993,27728.035799999994,694.10219799999834,1376.1943469999969,2982.4084979999939]
["2011-01-01",999.00259999999935,100.02031799999978,0.1001201778654028,null,null,null,null,null,null,11.000317999999762,null,null,null,89.02000000000001,null,null,null,null,null,null,null,{"$f":"W319+7","v":"2016-03-21"},{"$f":"(VLOOKUP($W320,$AG:$AU,10))/7","v":999.00229999999931},{"$f":"VLOOKUP($W320,$AG:$AU,11)/14","v":999.00194999999951},{"$f":"VLOOKUP($W320,$AG:$AU,12)/28","v":994.6441714285711},{"$f":"AC320/X320","v":1.4101745445167334E-5},{"$f":"AB319+7","v":"2016-03-21"},{"$f":"(VLOOKUP($AB320,$AG:$AU,8))/7","v":1.4087676133736682E-2},{"$f":"VLOOKUP($AB320,$AG:$AU,9)/14","v":7.3080655575394199E-3},{"$f":"VLOOKUP($AB320,$AG:$AU,10)/28","v":249.75057499999983},null,{"$f":"AG319+7","v":"2016-03-21"},998.98821232386558,{"$f":"Y320-AD320","v":998.99464193444192},{"$f":"Z320-AE320","v":744.8935964285713},null,"2011-01-05",9.9541055682683011E-2,9.8613732936156773E-2,0.10231291780555188,6993.0160999999953,13986.027299999992,27850.036799999991,696.09220499999833,1379.2143609999971,2849.418525999994]
["2011-01-02",999.00269999999932,100.03031899999978,0.10013017882734436,null,null,null,null,null,null,11.000318999999761,null,null,null,89.030000000000015,null,null,null,null,null,null,null,{"$f":"W320+7","v":"2016-03-28"},{"$f":"(VLOOKUP($W321,$AG:$AU,10))/7","v":999.0023999999994},{"$f":"VLOOKUP($W321,$AG:$AU,11)/14","v":999.00204999999949},{"$f":"VLOOKUP($W321,$AG:$AU,12)/28","v":999.00134999999966},{"$f":"AC321/X321","v":1.4132620679355805E-5},{"$f":"AB320+7","v":"2016-03-28"},{"$f":"(VLOOKUP($AB321,$AG:$AU,8))/7","v":1.4118521976966071E-2},{"$f":"VLOOKUP($AB321,$AG:$AU,9)/14","v":6.9365919060784213E-3},{"$f":"VLOOKUP($AB321,$AG:$AU,10)/28","v":249.75059999999985},null,{"$f":"AG320+7","v":"2016-03-28"},998.98828147802249,{"$f":"Y321-AD321","v":998.9951134080934},{"$f":"Z321-AE321","v":749.25074999999981},null,"2011-01-06",9.9688336513076695E-2,9.8829653838762493E-2,9.7112286685097901E-2,6993.0167999999958,13986.028699999993,27972.037799999991,697.12221199999829,1382.2343749999968,2716.4285539999942]
["2011-01-03",999.0027999999993,{"$f":"SUM(K322:Q322)","v":101.00031999999976},0.10110113805486814,null,null,null,null,null,null,11.000319999999761,null,null,null,90,null,null,null,null,null,null,null,{"$f":"W321+7","v":"2016-04-04"},{"$f":"(VLOOKUP($W322,$AG:$AU,10))/7","v":999.00249999999937},{"$f":"VLOOKUP($W322,$AG:$AU,11)/14","v":999.00214999999946},{"$f":"VLOOKUP($W322,$AG:$AU,12)/28","v":999.00144999999964},{"$f":"AC322/X322","v":1.4173311395124855E-5},{"$f":"AB321+7","v":"2016-04-04"},{"$f":"(VLOOKUP($AB322,$AG:$AU,8))/7","v":1.4159173517008209E-2},{"$f":"VLOOKUP($AB322,$AG:$AU,9)/14","v":6.9544662751561881E-3},{"$f":"VLOOKUP($AB322,$AG:$AU,10)/28","v":249.75062499999984},null,{"$f":"AG321+7","v":"2016-04-04"},998.98834082648239,{"$f":"Y322-AD322","v":998.99519553372431},{"$f":"Z322-AE322","v":749.25082499999985},null,"2011-01-07",9.9972897107721934E-2,9.9114214619057464E-2,9.7362527852186631E-2,6993.0174999999954,13986.030099999993,27972.040599999989,699.11221899999839,1386.214388999997,2723.4285819999941]
["2011-01-04",1234,101.01032099999976,{"$f":"C323/B323","v":8.1856013776336917E-2},null,null,null,null,null,null,11.00032099999976,null,null,null,{"$f":"O322+0.01","v":90.01},null,null,null,null,null,null,null,"2016-04-11",{"$f":"(VLOOKUP($W323,$AG:$AU,10))/7","v":1032.5736142857138},{"$f":"VLOOKUP($W323,$AG:$AU,11)/14","v":1015.7877571428568},{"$f":"VLOOKUP($W323,$AG:$AU,12)/28","v":1007.3943035714283},{"$f":"AC323/X323","v":1.3524632177635352E-5},"2016-04-11",{"$f":"(VLOOKUP($AB323,$AG:$AU,8))/7","v":1.39651783295458E-2},{"$f":"VLOOKUP($AB323,$AG:$AU,9)/14","v":6.9142530213334372E-3},{"$f":"VLOOKUP($AB323,$AG:$AU,10)/28","v":258.14340357142845},null,"2016-04-11",{"$f":"X323-AC323","v":1032.5596491073843},{"$f":"Y323-AD323","v":1015.7808428898354},{"$f":"Z323-AE323","v":749.25089999999977},null,"2011-01-08",9.699788903324523E-2,9.7756248306820601E-2,9.679954229866812E-2,7228.0152999999964,14221.028599999994,28207.040499999992,701.10222599999838,1390.1944029999968,2730.428609999994]
["2011-01-05",{"$f":"B323+0.0001","v":1234.0001},101.02032199999977,8.1864111680379742E-2,null,null,null,null,null,null,{"$f":"K323+0.000001","v":11.000321999999759},null,null,null,90.02000000000001,null,null,null,null,null,null,null,null,null,null,null,null,null,null,null,null,null,null,null,null,null,null,"2011-01-09",9.4210237015395118E-2,9.6376024156733742E-2,9.6245859984081694E-2,7463.0130999999965,14456.027099999994,28442.040399999991,703.09223299999837,1393.214416999997,2737.428637999994]
["2011-01-06",1234.0001999999999,101.03032299999977,8.1872209583110089E-2,null,null,null,null,null,null,11.000322999999758,null,null,null,90.030000000000015,null,null,null,null,null,null,null,null,null,null,null,null,null,null,null,null,null,null,null,null,null,null,"2011-01-10",9.146807521407882E-2,9.5039956298217709E-2,9.5701252196517483E-2,7698.0108999999975,14691.025599999994,28677.04029999999,704.12223999999833,1396.2344309999969,2744.4286659999943]
["2011-01-07",1234.0002999999999,102.00032399999975,8.2658265156013142E-2,null,null,null,null,null,null,11.000323999999758,null,null,null,91,null,null,null,null,null,null,null,null,null,null,null,null,null,null,null,null,null,null,null,null,null,null,"2011-01-11",8.9009387699272094E-2,9.381027630794174E-2,9.5165497660036985E-2,7933.0086999999985,14926.024099999995,28912.040199999985,706.11224699999832,1400.2144449999969,2751.4286939999938]
["2011-01-08",1234.0003999999999,102.01032499999977,8.2666362993075018E-2,null,null,null,null,null,null,11.000324999999757,null,null,null,{"$f":"O326+0.01","v":91.01},null,null,null,null,null,null,null,null,null,null,null,null,null,null,null,null,null,null,null,null,null,null,"2011-01-12",8.6692175624492759E-2,9.2618716827187988E-2,9.4638382234908142E-2,8168.0064999999986,15161.022599999993,29147.040099999991,708.10225399999831,1404.1944589999966,2758.4287219999942]
["2011-01-09",1234.0004999999999,102.02032599999977,8.2674460828824445E-2,null,null,null,null,null,null,11.000325999999756,null,null,null,91.02000000000001,null,null,null,null,null,null,null,null,null,null,null,null,null,null,null,null,null,null,null,null,null,null,"2011-01-13",8.4504569514500708E-2,9.14011785161815E-2,9.411969863222551E-2,8403.0042999999987,15396.021099999996,29382.03999999999,710.0922609999983,1407.2144729999968,2765.4287499999941]
["2011-01-10",1234.0005999999998,102.03032699999977,8.2682558663261421E-2,null,null,null,null,null,null,11.000326999999755,null,null,null,91.030000000000015,null,null,null,null,null,null,null,null,null,null,null,null,null,null,null,null,null,null,null,null,null,null,"2011-01-14",8.2324854725376637E-2,9.0220249419941695E-2,9.3609246142116825E-2,8638.0020999999997,15631.019599999994,29617.039899999989,711.12226799999826,1410.2344869999968,2772.4287779999941]
["2011-01-11",1234.0006999999998,103.00032799999975,8.3468613915696946E-2,null,null,null,null,null,null,11.000327999999755,null,null,null,92,null,null,null,null,null,null,null,null,null,null,null,null,null,null,null,null,null,null,null,null,null,null,"2011-01-15",{"$f":"AS330/AP330","v":8.2555226191869072E-2},8.9134809508379237E-2,9.3106830374787147E-2,{"$f":"SUM(B324:B330)","v":8638.0028000000002},15866.018099999996,29852.039799999991,{"$f":"SUM(C324:C330)","v":713.11227499999836},1414.2145009999967,2779.428805999994]
["2011-01-12",1234.0007999999998,103.01032899999976,8.3476711684465493E-2,null,null,null,null,null,null,11.000328999999754,null,null,null,{"$f":"O330+0.01","v":92.01},null,null,null,null,null,null,null,null,null,null,null,null,null,null,null,null,null,null,null,null,null,null,"2011-01-16",8.2785597621024165E-2,8.808105414909001E-2,9.2612263013698695E-2,8638.0034999999989,16101.016599999995,30087.039699999994,715.10228199999835,1418.1945149999967,2786.4288339999939]
["2011-01-13",1234.0008999999998,103.02032999999976,8.3484809451921618E-2,null,null,null,null,null,null,11.000329999999753,null,null,null,92.02000000000001,null,null,null,null,null,null,null,null,null,null,null,null,null,null,null,null,null,null,null,null,null,null,"2011-01-17",8.3015969012841917E-2,8.6998850105127354E-2,9.2125361580228105E-2,8638.0041999999994,16336.015099999997,30322.039599999989,717.09228899999823,1421.2145289999967,2793.4288619999943]
["2011-01-14",1234.0009999999997,122.00033099999975,9.8865666235278399E-2,null,null,null,null,null,null,11.000330999999752,null,null,null,111,null,null,null,null,null,null,null,null,null,null,null,null,null,null,null,null,null,null,null,null,null,null,"2011-01-18",8.5331312558065142E-2,8.7092110225532413E-2,9.2266755423083283E-2,8638.0048999999999,16571.013599999998,30557.039499999988,737.09229599999821,1443.2045429999966,2819.398889999994]
["2011-01-15",1234.0010999999997,104.00033199999976,8.4278962150033568E-2,null,null,null,null,null,null,11.000331999999752,null,null,null,93,null,null,null,null,null,null,null,null,null,null,null,null,null,null,null,null,null,null,null,null,null,null,"2011-01-19",8.5561683706247921E-2,8.6111121924040343E-2,9.1789922755164927E-2,8638.0055999999986,16806.012099999996,30792.039399999991,739.08230299999821,1447.1845569999969,2826.398917999994]
["2011-01-16",1234.0011999999997,104.01033299999976,8.4287059850508883E-2,null,null,null,null,null,null,11.000332999999751,null,null,null,{"$f":"O334+0.01","v":93.01},null,null,null,null,null,null,null,null,null,null,null,null,null,null,null,null,null,null,null,null,null,null,"2011-01-20",8.5792054817093441E-2,8.5157189621136484E-2,9.1320313182443866E-2,8638.0062999999973,17041.010599999998,31027.039299999993,741.07230999999831,1451.1645709999966,2833.3989459999934]
["2011-01-17",1234.0012999999997,104.02033399999976,8.4295157549671776E-2,null,null,null,null,null,null,11.00033399999975,null,null,null,93.02000000000001,null,null,null,null,null,null,null,null,null,null,null,null,null,null,null,null,null,null,null,null,null,null,"2011-01-21",8.6022425890601675E-2,8.4173640832360785E-2,9.0857763814716039E-2,8638.0069999999978,17276.009099999999,31262.039199999992,743.0623169999983,1454.1845849999966,2840.3989739999938]
["2011-01-18",1234.0013999999996,104.03033499999977,8.4303255247522246E-2,null,null,null,null,null,null,11.000334999999749,null,null,null,93.030000000000015,null,null,null,null,null,null,null,null,null,null,null,null,null,null,null,null,null,null,null,null,null,null,"2011-01-22",8.6141660188610206E-2,{"$f":"AT337/AQ337","v":8.4348443698850306E-2},9.0402116623082646E-2,8638.0076999999983,{"$f":"SUM(B324:B337)","v":17276.0105},31497.039099999995,744.09232399999826,{"$f":"SUM(C324:C337)","v":1457.2045989999967},2847.3990019999937]
["2011-01-19",1234.0014999999996,105.00033599999975,8.5089309859023493E-2,null,null,null,null,null,null,11.000335999999749,null,null,null,94,null,null,null,null,null,null,null,null,null,null,null,null,null,null,null,null,null,null,null,null,null,null,"2011-01-23",8.637203119645015E-2,8.4578814917347728E-2,8.9953218259942097E-2,8638.0083999999988,17276.011899999998,31732.03899999999,746.08233099999836,1461.1846129999967,2854.3990299999937]
["2011-01-20",1234.0015999999996,105.01033699999975,8.5097407491205673E-2,null,null,null,null,null,null,11.000336999999748,null,null,null,{"$f":"O338+0.01","v":94.01},null,null,null,null,null,null,null,null,null,null,null,null,null,null,null,null,null,null,null,null,null,null,"2011-01-24",8.6602402166952835E-2,8.4809186098507836E-2,8.9510919886921225E-2,8638.0090999999993,17276.013299999999,31967.038899999989,748.07233799999824,1465.1646269999965,2861.3990579999936]
["2011-01-21",1234.0016999999996,105.02033799999975,8.5105505122075431E-2,null,null,null,null,null,null,11.000337999999747,null,null,null,94.02000000000001,null,null,null,null,null,null,null,null,null,null,null,null,null,null,null,null,null,null,null,null,null,null,"2011-01-25",8.4636665380953657E-2,8.4983988870997923E-2,8.9075077010341175E-2,8638.009799999998,17276.0147,32202.038799999991,731.0923449999982,1468.1846409999964,2868.3990859999935]
["2011-01-22",1234.0017999999995,105.03033899999976,8.5113602751632766E-2,null,null,null,null,null,null,11.000338999999746,null,null,null,94.030000000000015,null,null,null,null,null,null,null,null,null,null,null,null,null,null,null,null,null,null,null,null,null,null,"2011-01-26",8.4755899752610692E-2,8.5158791615156965E-2,8.8645549323835005E-2,8638.0104999999985,17276.016099999997,32437.038699999986,732.12235199999839,1471.2046549999964,2875.3991139999935]
["2011-01-23",1234.0018999999995,106.00033999999974,8.5899657042667263E-2,null,null,null,null,null,null,11.000339999999746,null,null,null,95,null,null,null,null,null,null,null,null,null,null,null,null,null,null,null,null,null,null,null,null,null,null,"2011-01-27",8.4986270798074276E-2,8.5389162693311524E-2,8.8222200557757494E-2,8638.0111999999972,17276.017499999994,32672.038599999993,734.11235899999826,1475.1846689999966,2882.3991419999938]
["2011-01-24",1234.0019999999995,106.01034099999976,8.5907754606556391E-2,null,null,null,null,null,null,11.000340999999745,null,null,null,{"$f":"O342+0.01","v":95.01},null,null,null,null,null,null,null,null,null,null,null,null,null,null,null,null,null,null,null,null,null,null,"2011-01-28",8.5216641806200616E-2,8.5619533734128811E-2,8.7804898335047524E-2,8638.0118999999977,17276.018899999995,32907.038499999988,736.10236599999826,1479.1646829999966,2889.3991699999938]
["2011-01-25",1234.0020999999995,106.02034199999976,8.5915852169133097E-2,null,null,null,null,null,null,11.000341999999744,null,null,null,95.02000000000001,null,null,null,null,null,null,null,null,null,null,null,null,null,null,null,null,null,null,null,null,null,null,"2011-01-29",8.5447012776989781E-2,8.5794336384288516E-2,8.7393514033222347E-2,8638.0125999999964,17276.020299999993,33142.03839999999,738.09237299999836,1482.1846969999965,2896.3991979999932]
["2011-01-26",1234.0021999999994,106.03034299999976,8.5923949730397409E-2,null,null,null,null,null,null,11.000342999999743,null,null,null,95.030000000000015,null,null,null,null,null,null,null,null,null,null,null,null,null,null,null,null,null,null,null,null,null,null,"2011-01-30",8.5566247044328886E-2,8.5969139006117176E-2,8.6987922652202315E-2,8638.0132999999969,17276.021699999998,33377.038299999993,739.12237999999832,1485.2047109999965,2903.3992259999936]
["2011-01-27",1234.0022999999994,107.00034399999974,8.6710003700965377E-2,null,null,null,null,null,null,11.000343999999743,null,null,null,96,null,null,null,null,null,null,null,null,null,null,null,null,null,null,null,null,null,null,null,null,null,null,"2011-01-31",8.5796617949449774E-2,8.6199509943928984E-2,8.6588002687679744E-2,8638.0139999999974,17276.023099999995,33612.038199999988,741.11238699999819,1489.1847249999964,2910.3992539999931]
["2011-01-28",1234.0023999999994,107.01034499999975,8.6718101196561523E-2,null,null,null,null,null,null,11.000344999999742,null,null,null,{"$f":"O346+0.01","v":96.01},null,null,null,null,null,null,null,null,null,null,null,null,null,null,null,null,null,null,null,null,null,null,"2011-02-01",8.6026988817233488E-2,8.5331827296262333E-2,8.6193636009763416E-2,8638.0146999999961,17276.024499999996,33847.038099999991,743.10239399999818,1474.1947389999964,2917.3992819999935]
["2011-01-29",1234.0024999999994,107.02034599999975,8.6726198690845274E-2,null,null,null,null,null,null,11.000345999999741,null,null,null,96.02000000000001,null,null,null,null,null,null,null,null,null,null,null,null,null,null,null,null,null,null,null,null,null,null,"2011-02-02",8.6257359647680026E-2,8.5506629913074922E-2,8.580470774664338E-2,8638.0153999999966,17276.025899999993,34082.037999999993,745.09240099999829,1477.2147529999966,2924.3993099999934]
["2011-01-30",1234.0025999999993,107.03034699999975,8.6734296183816631E-2,null,null,null,null,null,null,11.00034699999974,null,null,null,96.030000000000015,null,null,null,null,null,null,null,null,null,null,null,null,null,null,null,null,null,null,null,null,null,null,"2011-02-03",8.6376593810701355E-2,8.5681432501556479E-2,8.5421106173035805E-2,8638.0160999999971,17276.027299999994,34317.037899999996,746.12240799999836,1480.2347669999965,2931.3993379999933]
["2011-01-31",1234.0026999999993,108.00034799999975,8.7520349833918362E-2,null,null,null,null,null,null,11.00034799999974,null,null,null,97,null,null,null,null,null,null,null,null,null,null,null,null,null,null,null,null,null,null,null,null,null,null,"2011-02-04",8.6606964575479714E-2,8.5911803388008773E-2,8.5042722603180132E-2,8638.0167999999958,17276.028699999995,34552.037799999984,748.11241499999824,1484.2147809999965,2938.3993659999928]
["2011-02-01",1234.0027999999993,108.01034899999975,8.7528447261221623E-2,null,null,null,null,null,null,11.000348999999739,null,null,null,{"$f":"O350+0.01","v":97.01},null,null,null,null,null,null,null,null,null,null,null,null,null,null,null,null,null,null,null,null,null,null,"2011-02-05",8.6837335302920926E-2,8.6142174237123906E-2,{"$f":"AU351/AR351","v":8.5245309476743136E-2},8638.0174999999945,17276.030099999993,{"$f":"SUM(B324:B351)","v":34552.040599999993},750.10242199999823,1488.1947949999965,{"$f":"SUM(C324:C351)","v":2945.3993939999932}]
["2011-02-02",1234.0028999999993,108.02034999999975,8.7536544687212503E-2,null,null,null,null,null,null,11.000349999999738,null,null,null,97.02000000000001,null,null,null,null,null,null,null,null,null,null,null,null,null,null,null,null,null,null,null,null,null,null,"2011-02-06",8.7067705993024977E-2,8.6316976731606265E-2,8.544789631747203E-2,8638.018199999995,17276.031499999994,34552.043399999995,752.09242899999833,1491.2148089999964,2952.3994219999931]
["2011-02-03",1234.0029999999992,108.03035099999975,8.7544642111890988E-2,null,null,null,null,null,null,11.000350999999737,null,null,null,97.030000000000015,null,null,null,null,null,null,null,null,null,null,null,null,null,null,null,null,null,null,null,null,null,null,"2011-02-07",8.7186940051728612E-2,8.6491779197757648E-2,8.5650483125366814E-2,8638.0188999999955,17276.032899999995,34552.046199999982,753.12243599999829,1494.2348229999964,2959.3994499999931]
["2011-02-04",777,109.00035199999974,0.14028359330759296,null,null,null,null,null,null,11.000351999999737,null,null,null,98,null,null,null,null,null,null,null,null,null,null,null,null,null,null,null,null,null,null,null,null,null,null,"2011-02-08",9.2300564728111545E-2,8.9078545558557334E-2,8.7003827086796603E-2,8181.0164999999961,16819.03119999999,34095.04589999999,755.11244299999817,1498.2148369999964,2966.3994779999925]
["2011-02-05",777.00009999999997,109.01035299999974,0.14029644655129356,null,null,null,null,null,null,11.000352999999736,null,null,null,{"$f":"O354+0.01","v":98.01},null,null,null,null,null,null,null,null,null,null,null,null,null,null,null,null,null,null,null,null,null,null,"2011-02-09",9.8019299317436331E-2,9.1809811918502959E-2,8.8393943612466996E-2,7724.0140999999976,16362.029499999993,33638.04559999999,757.10244999999838,1502.1948509999963,2973.3995059999929]
["2011-02-06",777.00019999999995,109.02035399999974,0.14030929979168572,null,null,null,null,null,null,11.000353999999735,null,null,null,98.02000000000001,null,null,null,null,null,null,null,null,null,null,null,null,null,null,null,null,null,null,null,null,null,null,"2011-02-10",0.10445730491943457,9.4637675829777362E-2,8.9822352100522695E-2,7267.0116999999973,15905.027799999994,33181.045299999991,759.09245699999826,1505.2148649999965,2980.3995339999929]
["2011-02-07",777.00029999999992,109.03035499999974,0.14032215302876944,null,null,null,null,null,null,11.000354999999734,null,null,null,98.030000000000015,null,null,null,null,null,null,null,null,null,null,null,null,null,null,null,null,null,null,null,null,null,null,"2011-02-11",0.11161841790729986,9.763285414179855E-2,9.1290656824362437E-2,6810.0092999999979,15448.026099999994,32724.044999999991,760.12246399999833,1508.2348789999965,2987.3995619999928]
["2011-02-08",777.0003999999999,110.00035599999973,0.14157052686201929,null,null,null,null,null,null,11.000355999999734,null,null,null,99,null,null,null,null,null,null,null,null,null,null,null,null,null,null,null,null,null,null,null,null,null,null,"2011-02-12",0.11996090717294804,0.10087468692266269,9.280055294310835E-2,6353.0068999999976,14991.024399999991,32267.044699999988,762.1124709999981,1512.2148929999964,2994.3995899999927]
["2011-02-09",777.00049999999987,110.01035699999974,0.14158337993347464,null,null,null,null,null,null,11.000356999999733,null,null,null,{"$f":"O358+0.01","v":99.01},null,null,null,null,null,null,null,null,null,null,null,null,null,null,null,null,null,null,null,null,null,null,"2011-02-13",0.12959665787229274,0.10432038935786149,9.4353833030173112E-2,5896.0044999999991,14534.022699999992,31810.044399999992,764.10247799999831,1516.1949069999964,3001.3996179999926]
["2011-02-10",777.00059999999985,110.02035799999975,0.14159623300162158,null,null,null,null,null,null,11.000357999999732,null,null,null,99.02000000000001,null,null,null,null,null,null,null,null,null,null,null,null,null,null,null,null,null,null,null,null,null,null,"2011-02-14",0.14085166192526349,0.10792162070369839,9.5952394172787628E-2,5439.0020999999997,14077.020999999995,31353.044099999992,766.09248499999819,1519.2149209999964,3008.3996459999926]
["2011-02-11",777.00069999999982,110.03035899999975,0.14160908606646014,null,null,null,null,null,null,11.000358999999731,null,null,null,99.030000000000015,null,null,null,null,null,null,null,null,null,null,null,null,null,null,null,null,null,null,null,null,null,null,"2011-02-15",0.14104101803367308,0.1117645211413171,9.6984251232838867E-2,5439.0027999999993,13620.019299999994,30896.043799999992,767.12249199999826,1522.2349349999963,2996.4296739999927]
["2011-02-12",777.0007999999998,111.00035999999973,0.14285745909141889,null,null,null,null,null,null,11.000359999999731,null,null,null,100,null,null,null,null,null,null,null,null,null,null,null,null,null,null,null,null,null,null,null,null,null,null,"2011-02-16",0.14140687701340848,0.11594719352194723,9.8670304866839642E-2,5439.0034999999998,13163.017599999996,30439.043499999992,769.11249899999825,1526.2149489999967,3003.4297019999926]
["2011-02-13",777.00089999999977,111.01036099999973,0.1428703119906293,null,null,null,null,null,null,11.00036099999973,null,null,null,{"$f":"O362+0.01","v":100.01},null,null,null,null,null,null,null,null,null,null,null,null,null,null,null,null,null,null,null,null,null,null,"2011-02-17",0.1417727358989718,0.12043074517166291,0.10040775773413578,5439.0041999999994,12706.015899999995,29982.043199999993,771.10250599999824,1530.1949629999965,3010.4297299999926]
["2011-02-14",777.00099999999975,111.02036199999974,0.14288316488653138,null,null,null,null,null,null,11.000361999999729,null,null,null,100.02000000000001,null,null,null,null,null,null,null,null,null,null,null,null,null,null,null,null,null,null,null,null,null,null,"2011-02-18",0.14213859469036302,0.12517047918843924,0.10219899656775752,5439.0048999999981,12249.014199999996,29525.042899999989,773.09251299999823,1533.2149769999962,3017.4297579999925]
["2011-02-15",777.00109999999972,111.03036299999974,0.14289601777912511,null,null,null,null,null,null,11.000362999999728,null,null,null,100.03000000000002,null,null,null,null,null,null,null,null,null,null,null,null,null,null,null,null,null,null,null,null,null,null,"2011-02-19",0.1423279505356638,0.1302775918020776,0.1040465581951498,5439.0055999999986,11792.012499999997,29068.04259999999,774.12251999999819,1536.2349909999962,3024.4297859999924]
["2011-02-16",777.0011999999997,110.00036399999973,0.14157039139707864,null,null,null,null,null,null,11.000363999999728,null,null,null,99,null,null,null,null,null,null,null,null,null,null,null,null,null,null,null,null,null,null,null,null,null,null,"2011-02-20",0.14232609493392173,0.13570476748023894,0.10588323844461946,5439.0062999999991,11335.010799999996,28611.04229999999,774.11252699999818,1538.2150049999966,3029.4298139999923]
["2011-02-17",777.00129999999967,110.01036499999974,0.14158324445531789,null,null,null,null,null,null,11.000364999999727,null,null,null,{"$f":"O366+0.01","v":99.01},null,null,null,null,null,null,null,null,null,null,null,null,null,null,null,null,null,null,null,null,null,null,"2011-02-21",0.14232423933265728,0.14158795096062168,0.10777954518928376,5439.0069999999987,10878.009099999999,28154.041999999994,774.10253399999817,1540.1950189999964,3034.4298419999923]
["2011-02-18",777.00139999999965,110.02036599999974,0.14159609751024874,null,null,null,null,null,null,11.000365999999726,null,null,null,99.02000000000001,null,null,null,null,null,null,null,null,null,null,null,null,null,null,null,null,null,null,null,null,null,null,"2011-02-22",0.14232238373187051,0.14168170117136739,0.1097384299349195,5439.0076999999983,10878.010499999999,27697.041699999987,774.09254099999816,1541.2150329999965,3039.4298699999922]
["2011-02-19",777.00149999999962,110.03036699999974,0.14160895056187123,null,null,null,null,null,null,11.000366999999725,null,null,null,99.030000000000015,null,null,null,null,null,null,null,null,null,null,null,null,null,null,null,null,null,null,null,null,null,null,"2011-02-23",0.14214402537050658,0.14177545135798178,0.11176304225440691,5439.0083999999979,10878.011899999998,27240.041399999987,773.12254799999812,1542.2350469999965,3044.4298979999921]
["2011-02-20",777.0015999999996,113.00036799999972,0.14543131957514602,null,null,null,null,null,null,11.000367999999725,null,null,null,102,null,null,null,null,null,null,null,null,null,null,null,null,null,null,null,null,null,null,null,null,null,null,"2011-02-24",0.14250988383159691,0.14214131003130848,0.11393142080493589,5439.0090999999984,10878.013299999997,26783.041099999991,775.11255499999822,1546.2150609999965,3051.4299259999921]
["2011-02-21",777.00169999999957,113.01036899999973,0.14544417212986765,null,null,null,null,null,null,11.000368999999724,null,null,null,{"$f":"O370+0.01","v":102.01},null,null,null,null,null,null,null,null,null,null,null,null,null,null,null,null,null,null,null,null,null,null,"2011-02-25",0.14287574219851534,0.14250716861046317,0.11617508220225781,5439.009799999998,10878.014699999996,26326.040799999992,777.10256199999822,1550.1950749999965,3058.429953999992]
["2011-02-22",777.00179999999955,113.02036999999973,0.14545702468128105,null,null,null,null,null,null,11.000369999999723,null,null,null,102.02000000000001,null,null,null,null,null,null,null,null,null,null,null,null,null,null,null,null,null,null,null,null,null,null,"2011-02-26",0.14324160047126192,0.14278477570923956,0.11849801626774652,5439.0104999999967,10878.016099999997,25869.040499999992,779.09256899999809,1553.2150889999964,3065.4299819999924]
["2011-02-23",777.00189999999952,113.03037099999973,0.14546987722938617,null,null,null,null,null,null,11.000370999999722,null,null,null,102.03000000000002,null,null,null,null,null,null,null,null,null,null,null,null,null,null,null,null,null,null,null,null,null,null,"2011-02-27",0.14379866987587717,0.14306238273655997,0.12090449982839212,5439.0111999999972,10878.017499999994,25412.040199999989,782.12257599999816,1556.2351029999963,3072.4300099999923]
["2011-02-24",777.0019999999995,114.00037199999971,0.14671824782947765,null,null,null,null,null,null,11.000371999999722,null,null,null,103,null,null,null,null,null,null,null,null,null,null,null,null,null,null,null,null,null,null,null,null,null,null,"2011-02-28",0.14453224178457827,0.14342824105591478,0.12339912299639291,5439.0118999999977,10878.018899999995,24955.039899999992,786.11258299999815,1560.2151169999963,3079.4300379999918]
["2011-02-25",777.00209999999947,114.01037299999973,0.14673110021195543,null,null,null,null,null,null,11.000372999999721,null,null,null,{"$f":"O374+0.01","v":103.01},null,null,null,null,null,null,null,null,null,null,null,null,null,null,null,null,null,null,null,null,null,null,"2011-03-01",0.14526581350445825,0.14379409928109779,0.12598681839015369,5439.0125999999973,10878.020299999995,24498.039599999989,790.10258999999814,1564.1951309999963,3086.4300659999917]
["2011-02-26",777.00219999999945,114.02037399999973,0.14674395259112499,null,null,null,null,null,null,11.00037399999972,null,null,null,103.02000000000001,null,null,null,null,null,null,null,null,null,null,null,null,null,null,null,null,null,null,null,null,null,null,"2011-03-02",0.1459993850355171,0.14407170607133438,0.12867289368808585,5439.0132999999969,10878.021699999996,24041.039299999989,794.09259699999802,1567.2151449999965,3093.4300939999926]
["2011-02-27",777.00229999999942,114.03037499999974,0.14675680496698634,null,null,null,null,null,null,11.000374999999719,null,null,null,103.03000000000002,null,null,null,null,null,null,null,null,null,null,null,null,null,null,null,null,null,null,null,null,null,null,"2011-03-03",0.14618874009149427,0.14434931279011506,0.13146306796728047,5439.0139999999965,10878.023099999997,23584.03899999999,795.12260399999809,1570.2351589999967,3100.430121999992]
["2011-02-28",777.0023999999994,115.00037599999972,0.14800517475879071,null,null,null,null,null,null,11.000375999999719,null,null,null,104,null,null,null,null,null,null,null,null,null,null,null,null,null,null,null,null,null,null,null,null,null,null,"2011-03-04",0.14655459765534345,0.14471517075549858,0.13436351235058869,5439.014699999997,10878.024499999994,23127.03869999999,797.11261099999808,1574.2151729999962,3107.4301499999915]
["2011-03-01",777.00249999999937,115.01037699999972,0.14801802696902497,null,null,null,null,null,null,11.000376999999718,null,null,null,{"$f":"O378+0.01","v":104.01},null,null,null,null,null,null,null,null,null,null,null,null,null,null,null,null,null,null,null,null,null,null,"2011-03-05",0.14692045512502108,0.14508102862671041,0.13738089557007516,5439.0153999999966,10878.025899999993,22670.038399999987,799.10261799999807,1578.1951869999962,3114.4301779999919]
["2011-03-02",777.00259999999935,115.02037799999972,0.14803087917595104,null,null,null,null,null,null,11.000377999999717,null,null,null,104.02000000000001,null,null,null,null,null,null,null,null,null,null,null,null,null,null,null,null,null,null,null,null,null,null,"2011-03-06",0.14728631250052721,0.14554249197370531,0.14052243515487392,5439.0160999999953,10878.027299999994,22213.038099999987,801.09262499999807,1583.2152009999963,3121.4302059999923]
["2011-03-03",777.00269999999932,115.03037899999973,0.148043731379569,null,null,null,null,null,null,11.000378999999716,null,null,null,104.03000000000002,null,null,null,null,null,null,null,null,null,null,null,null,null,null,null,null,null,null,null,null,null,null,"2011-03-07",0.14747566729339734,0.14600395520191975,0.14379595507045834,5439.0167999999958,10878.028699999993,21756.037799999991,802.12263199999802,1588.2352149999965,3128.4302339999922]
["2011-03-04",777.0027999999993,116.00037999999972,0.14929210036308727,null,null,null,null,null,null,11.000379999999716,null,null,null,105,null,null,null,null,null,null,null,null,null,null,null,null,null,null,null,null,null,null,null,null,null,null,"2011-03-08",0.14784152450327631,0.14655366958398075,0.1441176875722503,5439.0174999999963,10878.030099999993,21756.040599999997,804.11263899999813,1594.215228999996,3135.4302619999926]
["2011-03-05",777.00289999999927,116.01038099999973,0.14930495240107833,null,null,null,null,null,null,11.000380999999715,null,null,null,{"$f":"O382+0.01","v":105.01},null,null,null,null,null,null,null,null,null,null,null,null,null,null,null,null,null,null,null,null,null,null,"2011-03-09",0.14820738161898384,0.14710338382454557,0.14443941999122845,5439.0181999999959,10878.031499999994,21756.043399999991,806.102645999998,1600.1952429999963,3142.4302899999925]
["2011-03-06",777.00299999999925,116.02038199999973,0.14931780443576131,null,null,null,null,null,null,11.000381999999714,null,null,null,105.02000000000001,null,null,null,null,null,null,null,null,null,null,null,null,null,null,null,null,null,null,null,null,null,null,"2011-03-10",0.14857323864052002,0.14738098990305473,0.14476115232739273,5439.0188999999955,10878.032899999993,21756.04619999999,808.09265299999799,1603.2152569999962,3149.430317999992]
["2011-03-07",777.00309999999922,116.03038299999973,0.14933065646713617,null,null,null,null,null,null,11.000382999999713,null,null,null,105.03000000000002,null,null,null,null,null,null,null,null,null,null,null,null,null,null,null,null,null,null,null,null,null,null,"2011-03-11",0.14876259317028362,0.14765859591010827,0.14508288458074325,5439.0195999999951,10878.034299999992,21756.048999999988,809.12265999999795,1606.2352709999964,3156.4303459999928]
["2011-03-08",777.0031999999992,{"$f":"SUM(K386:Q386)","v":117.00038399999971},0.15057902464236933,null,null,null,null,null,null,11.000383999999713,null,null,null,106,null,null,null,null,null,null,null,null,null,null,null,null,null,null,null,null,null,null,null,null,null,null,"2011-03-12",0.1491284500261929,0.14802445307290155,0.14540461675127991,5439.0202999999956,10878.035699999991,21756.05179999999,811.11266699999805,1610.2152849999964,3163.4303739999923]
["2011-03-09",777.00329999999917,117.01038499999972,{"$f":"C387/B387","v":0.15059187650811759},null,null,null,null,null,null,11.000384999999712,null,null,null,{"$f":"O386+0.01","v":106.01},null,null,null,null,null,null,null,null,null,null,null,null,null,null,null,null,null,null,null,null,null,null,"2011-03-13",0.14949430678793091,0.1483903101415234,0.14572634883900293,5439.0209999999952,10878.03709999999,21756.054599999989,813.10267399999805,1614.1952989999963,3170.4304019999927]
["2011-03-10",{"$f":"B387+0.0001","v":777.00339999999915},117.02038599999972,0.15060472837055777,null,null,null,null,null,null,{"$f":"K387+0.000001","v":11.000385999999711},null,null,null,106.02000000000001,null,null,null,null,null,null,null,null,null,null,null,null,null,null,null,null,null,null,null,null,null,null,"2011-03-14",0.14986016345549769,0.14866791591149431,0.14604808084391221,5439.0216999999939,10878.038499999991,21756.057399999987,815.09268099999792,1617.2153129999963,3177.4304299999926]
["2011-03-11",777.00349999999912,117.03038699999972,0.15061758022968991,null,null,null,null,null,null,11.00038699999971,null,null,null,106.03000000000002,null,null,null,null,null,null,null,null,null,null,null,null,null,null,null,null,null,null,null,null,null,null,"2011-03-15",0.15004951772215516,0.14894552161000973,0.14636981276600786,5439.0223999999944,10878.039899999989,21756.060199999985,816.12268799999799,1620.2353269999965,3184.430457999993]
["2011-03-12",777.0035999999991,118.0003879999997,0.15186594759663899,null,null,null,null,null,null,11.00038799999971,null,null,null,107,null,null,null,null,null,null,null,null,null,null,null,null,null,null,null,null,null,null,null,null,null,null,"2011-03-16",0.15041537422409526,0.14931137841883332,0.1466915446052898,5439.0230999999949,10878.04129999999,21756.062999999987,818.11269499999798,1624.2153409999962,3191.4304859999929]
["2011-03-13",666,118.01038899999972,0.17719277627627586,null,null,null,null,null,null,11.000388999999709,null,null,null,{"$f":"O390+0.01","v":107.01},null,null,null,null,null,null,null,null,null,null,null,null,null,null,null,null,null,null,null,null,null,null,"2011-03-17",0.15392259912833262,0.15122034525926745,0.14776721356692224,5328.0200999999952,10767.03899999999,21645.062099999988,820.10270199999798,1628.1953549999962,3198.4305139999929]
["2011-03-14",666.00009999999997,118.02038999999972,0.17720776618501968,null,null,null,null,null,null,11.000389999999708,null,null,null,107.02000000000001,null,null,null,null,null,null,null,null,null,null,null,null,null,null,null,null,null,null,null,null,null,null,"2011-03-18",0.15757907118993314,0.15307899314948845,0.14885397195769065,5217.0170999999955,10656.036699999991,21534.061199999986,822.09270899999785,1631.2153689999961,3205.4305419999923]
["2011-03-15",666.00019999999995,118.03039099999972,0.17722275608926202,null,null,null,null,null,null,11.000390999999707,null,null,null,107.03000000000002,null,null,null,null,null,null,null,null,null,null,null,null,null,null,null,null,null,null,null,null,null,null,"2011-03-19",0.16120651057348206,0.15497677115211661,0.1499519921530536,5106.0140999999967,10545.034399999993,21423.060299999986,823.12271599999804,1634.2353829999963,3212.4305699999923]
["2011-03-16",666.00029999999992,119.00039199999971,0.17867918678114666,null,null,null,null,null,null,11.000391999999707,null,null,null,108,null,null,null,null,null,null,null,null,null,null,null,null,null,null,null,null,null,null,null,null,null,null,"2011-03-20",{"$f":"AS394/AP394","v":0.16518736524929808},0.15700693474002222,0.15115529370193079,{"$f":"SUM(B388:B394)","v":4995.0110999999979},10434.032099999993,21312.059399999987,{"$f":"SUM(C388:C394)","v":825.11272299999791},1638.2153969999961,3221.4305979999926]
["2011-03-17",666.0003999999999,119.01039299999971,0.17869417645995367,null,null,null,null,null,null,11.000392999999706,null,null,null,{"$f":"O394+0.01","v":108.01},null,null,null,null,null,null,null,null,null,null,null,null,null,null,null,null,null,null,null,null,null,null,"2011-03-21",0.16934917245530332,0.15908075853854428,0.15237119533442139,4884.0080999999982,10323.029799999993,21201.058499999988,827.10272999999802,1642.1954109999961,3230.430625999993]
["2011-03-18",666.00049999999987,119.02039399999971,0.17870916613425927,null,null,null,null,null,null,11.000393999999705,null,null,null,108.02000000000001,null,null,null,null,null,null,null,null,null,null,null,null,null,null,null,null,null,null,null,null,null,null,"2011-03-22",0.17370455711434249,0.16110565947849209,0.15359989600028376,4773.0050999999994,10212.027499999995,21090.057599999986,829.0927369999979,1645.215424999996,3239.430653999992]
["2011-03-19",666.00059999999985,119.03039499999971,0.17872415580406345,null,null,null,null,null,null,11.000394999999704,null,null,null,108.03000000000002,null,null,null,null,null,null,null,null,null,null,null,null,null,null,null,null,null,null,null,null,null,null,"2011-03-23",0.17806142644165648,0.16317506454691322,0.15484159885987603,4662.0020999999997,10101.025199999995,20979.056699999986,830.12274399999797,1648.2354389999962,3248.4306819999924]
["2011-03-20",666.00069999999982,120.00039599999971,0.18018058539578072,null,null,null,null,null,null,11.000395999999704,null,null,null,109,null,null,null,null,null,null,null,null,null,null,null,null,null,null,null,null,null,null,null,null,null,null,"2011-03-24",0.17848825637770915,0.16538655311791095,0.15600067113104013,4662.0027999999993,9990.0228999999945,20868.055799999987,832.11275099999784,1652.2154529999959,3255.4307099999924]
["2011-03-21",666.0007999999998,120.01039699999971,0.18019557484014997,null,null,null,null,null,null,11.000396999999703,null,null,null,{"$f":"O398+0.01","v":109.01},null,null,null,null,null,null,null,null,null,null,null,null,null,null,null,null,null,null,null,null,null,null,"2011-03-25",0.17891508618558483,0.16764773898740495,0.15717213996480753,4662.0034999999989,9879.0205999999962,20757.054899999988,834.10275799999795,1656.1954669999959,3262.4307379999923]
["2011-03-22",666.00089999999977,120.02039799999972,0.18021056428001789,null,null,null,null,null,null,11.000397999999702,null,null,null,109.02000000000001,null,null,null,null,null,null,null,null,null,null,null,null,null,null,null,null,null,null,null,null,null,null,"2011-03-26",0.17934191586528347,0.1698620364992556,0.1583562053068347,4662.0041999999994,9768.0182999999961,20646.053999999982,836.09276499999805,1659.2154809999961,3269.4307659999927]
["2011-03-23",666.00099999999975,120.03039899999972,0.18022555371538446,null,null,null,null,null,null,11.000398999999701,null,null,null,109.03000000000002,null,null,null,null,null,null,null,null,null,null,null,null,null,null,null,null,null,null,null,null,null,null,"2011-03-27",0.17956282542731739,{"$f":"AT401/AQ401","v":0.17212723837259841},0.1595530714259509,4662.0048999999981,{"$f":"SUM(B388:B401)","v":9657.015999999996},20535.053099999986,837.12277199999789,{"$f":"SUM(C388:C401)","v":1662.235494999996},3276.4307939999926]
["2011-03-24",666.00109999999972,121.0003999999997,0.18168198220693593,null,null,null,null,null,null,11.000399999999701,null,null,null,110,null,null,null,null,null,null,null,null,null,null,null,null,null,null,null,null,null,null,null,null,null,null,"2011-03-28",0.17998965488158106,0.17454568591285349,0.16076294703163729,4662.0055999999986,9546.0136999999977,20424.052199999987,839.112778999998,1666.215508999996,3283.430821999993]
["2011-03-25",666.0011999999997,121.0104009999997,0.18169697141686794,null,null,null,null,null,null,11.0004009999997,null,null,null,{"$f":"O402+0.01","v":110.01},null,null,null,null,null,null,null,null,null,null,null,null,null,null,null,null,null,null,null,null,null,null,"2011-03-29",0.1804164842076679,0.17702103921146253,0.16198604539535597,4662.0062999999982,9435.0113999999994,20313.051299999988,841.10278599999788,1670.195522999996,3290.4308499999925]
["2011-03-26",666.00129999999967,121.02040199999971,0.18171196062229875,null,null,null,null,null,null,11.000401999999699,null,null,null,110.02000000000001,null,null,null,null,null,null,null,null,null,null,null,null,null,null,null,null,null,null,null,null,null,null,"2011-03-30",0.18084331340557794,0.1794523706545928,0.16322258447588045,4662.0069999999987,9324.0090999999993,20202.050399999989,843.09279299999798,1673.2155369999959,3297.4308779999924]
["2011-03-27",666.00139999999965,121.03040299999971,0.18172694982322826,null,null,null,null,null,null,11.000402999999698,null,null,null,110.03000000000002,null,null,null,null,null,null,null,null,null,null,null,null,null,null,null,null,null,null,null,null,null,null,"2011-03-31",0.18106422260949898,0.17977624017047134,0.16447278704877979,4662.0076999999983,9324.0104999999967,20091.04949999999,844.12279999999805,1676.2355509999959,3304.4309059999923]
["2011-03-28",666.00149999999962,122.00040399999969,0.18318337721461553,null,null,null,null,null,null,11.000403999999698,null,null,null,111,null,null,null,null,null,null,null,null,null,null,null,null,null,null,null,null,null,null,null,null,null,null,"2011-04-01",0.18149105158197448,0.18020306956064655,0.16573688084021948,4662.0083999999979,9324.0118999999977,19980.048599999991,846.11280699999793,1680.2155649999959,3311.4309339999927]
["2011-03-29",666.0015999999996,122.01040499999971,0.18319836619011093,null,null,null,null,null,null,11.000404999999697,null,null,null,{"$f":"O406+0.01","v":111.01},null,null,null,null,null,null,null,null,null,null,null,null,null,null,null,null,null,null,null,null,null,null,"2011-04-02",0.18191788042627341,0.18062989882264499,0.16701509866524672,4662.0090999999975,9324.0132999999987,19869.047699999992,848.10281399999803,1684.1955789999961,3318.4309619999922]
["2011-03-30",666.00169999999957,122.02040599999971,0.18321335516110512,null,null,null,null,null,null,11.000405999999696,null,null,null,111.02000000000001,null,null,null,null,null,null,null,null,null,null,null,null,null,null,null,null,null,null,null,null,null,null,"2011-04-03",0.1823447091423957,0.18095376801583088,0.16830767857073772,4662.009799999998,9324.0146999999943,19758.046799999993,850.09282099999803,1687.2155929999958,3325.4309899999921]
["2011-03-31",666.00179999999955,122.03040699999971,0.18322834412759814,null,null,null,null,null,null,11.000406999999695,null,null,null,111.03000000000002,null,null,null,null,null,null,null,null,null,null,null,null,null,null,null,null,null,null,null,null,null,null,"2011-04-04",0.18256561798820459,0.18127763711175879,0.16961486398319015,4662.0104999999967,9324.0160999999971,19647.04589999999,851.12282799999809,1690.235606999996,3332.431017999992]
["2011-04-01",666.00189999999952,123.00040799999969,0.18468477041882281,null,null,null,null,null,null,11.000407999999695,null,null,null,112,null,null,null,null,null,null,null,null,null,null,null,null,null,null,null,null,null,null,null,null,null,null,"2011-04-05",0.18299244647889271,0.18170446602014598,0.17093690386155405,4662.0111999999972,9324.0174999999963,19536.044999999991,853.11283499999786,1694.2156209999957,3339.4310459999924]
["2011-04-02",666.0019999999995,123.0104089999997,0.1846997591598821,null,null,null,null,null,null,11.000408999999694,null,null,null,{"$f":"O410+0.01","v":112.01},null,null,null,null,null,null,null,null,null,null,null,null,null,null,null,null,null,null,null,null,null,null,"2011-04-06",0.18341927484140452,0.18213129480035661,0.17227405285530309,4662.0118999999968,9324.0188999999955,19425.044099999992,855.10284199999796,1698.1956349999959,3346.4310739999919]
["2011-04-03",666.00209999999947,123.0204099999997,0.18471474789644027,null,null,null,null,null,null,11.000409999999693,null,null,null,112.02000000000001,null,null,null,null,null,null,null,null,null,null,null,null,null,null,null,null,null,null,null,null,null,null,"2011-04-07",0.18384610307573995,0.18245516357359248,0.17362657146795621,4662.0125999999973,9324.0202999999947,19314.043199999989,857.09284899999795,1701.2156489999959,3353.4311019999918]
["2011-04-04",888,77.000410999999687,8.6712174549549201E-2,null,null,null,null,null,null,11.000410999999692,null,null,null,66,null,null,null,null,null,null,null,null,null,null,null,null,null,null,null,null,null,null,null,null,null,null,"2011-04-08",0.16627580064263131,0.17370650279941255,0.17062518856782144,4884.011099999997,9546.0194999999949,19425.040099999991,812.09285599999794,1658.2056629999959,3314.4011299999916]
["2011-04-05",888.00009999999997,124.0004119999997,0.13964008787836815,null,null,null,null,null,null,11.000411999999692,null,null,null,113,null,null,null,null,null,null,null,null,null,null,null,null,null,null,null,null,null,null,null,null,null,null,"2011-04-09",0.15943621864714047,0.17016610308086294,0.17001406979317213,5106.0095999999976,9768.0186999999951,19536.036999999993,814.08286299999781,1662.1856769999958,3321.4011579999919]
["2011-04-06",888.00019999999995,124.0104129999997,0.13965133453798739,null,null,null,null,null,null,11.000412999999691,null,null,null,{"$f":"O414+0.01","v":113.01},null,null,null,null,null,null,null,null,null,null,null,null,null,null,null,null,null,null,null,null,null,null,"2011-04-10",0.15316659710033068,0.16678305361194568,{"$f":"AU415/AR415","v":0.16940985611064643},5328.0080999999973,9990.0178999999953,{"$f":"SUM(B388:B415)","v":19647.033899999991},816.07286999999792,1666.1656909999961,{"$f":"SUM(C388:C415)","v":3328.4011859999914}]
["2011-04-07",888.00029999999992,124.0204139999997,0.1396625811950736,null,null,null,null,null,null,11.00041399999969,null,null,null,113.02000000000001,null,null,null,null,null,null,null,null,null,null,null,null,null,null,null,null,null,null,null,null,null,null,"2011-04-11",0.14739854129182442,0.16345308558090807,0.16881243114571887,5550.0065999999988,10212.017099999995,19758.030799999993,818.06287699999791,1669.1857049999958,3335.4012139999913]
["2011-04-08",888.0003999999999,124.03041499999971,0.13967382784962679,null,null,null,null,null,null,11.000414999999689,null,null,null,113.03000000000002,null,null,null,null,null,null,null,null,null,null,null,null,null,null,null,null,null,null,null,null,null,null,"2011-04-12",0.14190785867462211,0.1602648175851514,0.16822168112433564,5772.0050999999994,10434.016299999996,19869.027699999995,819.09288399999798,1672.2057189999957,3342.4012419999913]
["2011-04-09",888.00049999999987,125.00041599999969,0.14076615497401151,null,null,null,null,null,null,11.000415999999689,null,null,null,114,null,null,null,null,null,null,null,null,null,null,null,null,null,null,null,null,null,null,null,null,null,null,"2011-04-13",0.13698405035992939,0.15729948337631419,0.16763749480068171,5994.0035999999991,10656.015499999996,19980.024599999993,821.08289099999797,1676.1857329999957,3349.4012699999917]
["2011-04-10",888.00059999999985,125.01041699999969,0.14077740150175541,null,null,null,null,null,null,11.000416999999688,null,null,null,{"$f":"O418+0.01","v":114.01},null,null,null,null,null,null,null,null,null,null,null,null,null,null,null,null,null,null,null,null,null,null,"2011-04-14",0.13241194014397098,0.15445518261709978,0.16614182314751261,6216.0020999999997,10878.014699999998,20202.025199999989,823.07289799999785,1680.1657469999957,3356.4012979999911]
["2011-04-11",888.00069999999982,125.02041799999969,0.14078864802696633,null,null,null,null,null,null,11.000417999999687,null,null,null,114.02000000000001,null,null,null,null,null,null,null,null,null,null,null,null,null,null,null,null,null,null,null,null,null,null,"2011-04-15",0.14013714810424444,0.1516381669576104,0.16467866614230342,6216.0027999999993,11100.013899999996,20424.025799999996,871.09290499999804,1683.1857609999956,3363.4013259999911]
["2011-04-12",888.0007999999998,125.0304189999997,0.14079989454964423,null,null,null,null,null,null,11.000418999999686,null,null,null,114.03000000000002,null,null,null,null,null,null,null,null,null,null,null,null,null,null,null,null,null,null,null,null,null,null,"2011-04-16",0.14030283477156955,0.14893162197454057,0.16324697492394916,6216.0034999999998,11322.013099999996,20646.026399999995,872.122911999998,1686.2057749999956,3370.4013539999914]
["2011-04-13",888.00089999999977,126.00041999999968,0.14189222105518104,null,null,null,null,null,null,11.000419999999686,null,null,null,115,null,null,null,null,null,null,null,null,null,null,null,null,null,null,null,null,null,null,null,null,null,null,"2011-04-17",0.14062296145166664,0.14641233438394691,0.16184574526379486,6216.0041999999994,11544.012299999997,20868.026999999987,874.11291899999787,1690.1857889999956,3377.4013819999914]
["2011-04-14",888.00099999999975,126.0104209999997,0.14190346745104987,null,null,null,null,null,null,11.000420999999685,null,null,null,{"$f":"O422+0.01","v":115.01},null,null,null,null,null,null,null,null,null,null,null,null,null,null,null,null,null,null,null,null,null,null,"2011-04-18",0.14094308805966324,0.14398811381409884,0.16047401521655633,6216.0048999999981,11766.011499999999,21090.02759999999,876.10292599999798,1694.1658029999958,3384.4014099999913]
["2011-04-15",888.00109999999972,126.0204219999997,0.1419147138443857,null,null,null,null,null,null,11.000421999999684,null,null,null,115.02000000000001,null,null,null,null,null,null,null,null,null,null,null,null,null,null,null,null,null,null,null,null,null,null,"2011-04-19",0.14126321459555927,0.1415735987789864,0.15913086291805825,6216.0055999999986,11988.010699999999,21312.028199999997,878.09293299999797,1697.1858169999957,3391.4014379999912]
["2011-04-16",888.0011999999997,126.0304229999997,0.14192596023518858,null,null,null,null,null,null,11.000422999999683,null,null,null,115.03000000000002,null,null,null,null,null,null,null,null,null,null,null,null,null,null,null,null,null,null,null,null,null,null,"2011-04-20",0.14142890106144168,0.13924688390301765,0.1578154045191949,6216.0062999999982,12210.009899999997,21534.028799999989,879.12293999999793,1700.2058309999957,3398.4014659999912]
["2011-04-17",888.00129999999967,127.00042399999968,0.14301828612187811,null,null,null,null,null,null,11.000423999999683,null,null,null,116,null,null,null,null,null,null,null,null,null,null,null,null,null,null,null,null,null,null,null,null,null,null,"2011-04-21",0.14174902747052862,0.13708048564732755,0.15652679224638263,6216.0069999999987,12432.009099999999,21756.029399999992,881.11294699999792,1704.1858449999954,3405.4014939999915]
["2011-04-18",888.00139999999965,127.01042499999969,0.14302953238587207,null,null,null,null,null,null,11.000424999999682,null,null,null,{"$f":"O426+0.01","v":116.01},null,null,null,null,null,null,null,null,null,null,null,null,null,null,null,null,null,null,null,null,null,null,"2011-04-22",0.14206915380751509,0.14110315133662379,0.15526421257956202,6216.0076999999983,12432.010499999999,21978.029999999995,883.10295399999791,1754.1958589999958,3412.401521999991]
["2011-04-19",888.00149999999962,127.02042599999969,0.14304077864733308,null,null,null,null,null,null,11.000425999999681,null,null,null,116.02000000000001,null,null,null,null,null,null,null,null,null,null,null,null,null,null,null,null,null,null,null,null,null,null,"2011-04-23",0.14238928007240115,0.14134605783316503,0.15402688453951913,6216.0083999999979,12432.011899999998,22200.030599999995,885.0929609999979,1757.2158729999956,3419.4015499999909]
["2011-04-20",888.0015999999996,127.03042699999969,0.14305202490626115,null,null,null,null,null,null,11.00042699999968,null,null,null,116.03000000000002,null,null,null,null,null,null,null,null,null,null,null,null,null,null,null,null,null,null,null,null,null,null,"2011-04-24",0.14255496633684112,0.14158896427499765,0.15281405807695034,6216.0090999999984,12432.013299999999,22422.031199999994,886.12296799999785,1760.2358869999955,3426.4015779999913]
["2011-04-21",888.00169999999957,128.00042799999969,0.14414435017410412,null,null,null,null,null,null,11.00042799999968,null,null,null,117,null,null,null,null,null,null,null,null,null,null,null,null,null,null,null,null,null,null,null,null,null,null,"2011-04-25",0.14287509247491825,0.14190909064803442,0.15162501255628832,6216.009799999998,12432.014699999994,22644.031799999993,888.11297499999785,1764.2159009999957,3433.4016059999913]
["2011-04-22",888.00179999999955,128.01042899999968,0.1441555963062234,null,null,null,null,null,null,11.000428999999679,null,null,null,{"$f":"O430+0.01","v":117.01},null,null,null,null,null,null,null,null,null,null,null,null,null,null,null,null,null,null,null,null,null,null,"2011-04-26",0.14319521854089506,0.14222921694897067,0.15045905532784917,6216.0104999999967,12432.016099999997,22866.032399999993,890.10298199999784,1768.1959149999957,3440.4016339999907]
["2011-04-23",888.00189999999952,128.02042999999969,0.14416684243580982,null,null,null,null,null,null,11.000429999999678,null,null,null,117.02000000000001,null,null,null,null,null,null,null,null,null,null,null,null,null,null,null,null,null,null,null,null,null,null,"2011-04-27",0.14351534453477147,0.14247212320928571,0.14931552038235529,6216.0111999999972,12432.017499999996,23088.032999999992,892.09298899999783,1771.2159289999954,3447.4016619999907]
["2011-04-24",888.0019999999995,128.03043099999968,0.14417808856286332,null,null,null,null,null,null,11.000430999999677,null,null,null,117.03000000000002,null,null,null,null,null,null,null,null,null,null,null,null,null,null,null,null,null,null,null,null,null,null,"2011-04-28",0.14368103059776932,0.14271502941489222,0.14819376708234308,6216.0118999999968,12432.018899999995,23310.033599999995,893.12299599999778,1774.2359429999956,3454.4016899999906]
["2011-04-25",888.00209999999947,129.00043199999968,0.14527041321186038,null,null,null,null,null,null,11.000431999999677,null,null,null,118,null,null,null,null,null,null,null,null,null,null,null,null,null,null,null,null,null,null,null,null,null,null,"2011-04-29",0.14400115646483699,0.1430351555169192,0.14709317896537785,6216.0125999999973,12432.020299999995,23532.034199999991,895.11300299999789,1778.2159569999956,3461.401717999991]
["2011-04-26",888.00219999999945,129.01043299999969,0.14528165921210531,null,null,null,null,null,null,11.000432999999676,null,null,null,{"$f":"O434+0.01","v":118.01},null,null,null,null,null,null,null,null,null,null,null,null,null,null,null,null,null,null,null,null,null,null,"2011-04-30",0.14432128225980442,0.14335528154684576,0.14601316261437794,6216.0132999999969,12432.021699999996,23754.03479999999,897.10300999999788,1782.1959709999956,3468.4017459999914]
["2011-04-27",666,129.02043399999968,0.1937243753753749,null,null,null,null,null,null,11.000433999999675,null,null,null,118.02000000000001,null,null,null,null,null,null,null,null,null,null,null,null,null,null,null,null,null,null,null,null,null,null,"2011-05-01",0.14999854221172079,0.14620908631048327,0.14630786104276297,5994.0116999999973,12210.020799999997,23754.03309999999,899.09301699999787,1785.2159849999953,3475.4017739999904]
["2011-04-28",666.00009999999997,129.0304349999997,0.19373936280189702,null,null,null,null,null,null,11.000434999999674,null,null,null,118.03000000000002,null,null,null,null,null,null,null,null,null,null,null,null,null,null,null,null,null,null,null,null,null,null,"2011-05-02",0.15594619697564252,0.14916858779989148,0.14660255951332926,5772.0100999999986,11988.019899999996,23754.031399999993,900.12302399999783,1788.2359989999954,3482.4018019999908]
["2011-04-29",666.00019999999995,130.00043599999967,0.19519579123249464,null,null,null,null,null,null,11.000435999999674,null,null,null,119,null,null,null,null,null,null,null,null,null,null,null,null,null,null,null,null,null,null,null,null,null,null,"2011-05-03",0.16254263952929046,0.15232135975643049,0.14689725802607681,5550.0084999999981,11766.018999999993,23754.029699999992,902.11303099999782,1792.2160129999954,3489.4018299999907]
["2011-04-30",666.00029999999992,130.01043699999968,0.19521077843358284,null,null,null,null,null,null,11.000436999999673,null,null,null,{"$f":"O438+0.01","v":119.01},null,null,null,null,null,null,null,null,null,null,null,null,null,null,null,null,null,null,null,null,null,null,"2011-05-04",0.16968878887900804,0.15559539247430634,0.14719195658100565,5328.0068999999985,11544.018099999996,23754.027999999991,904.10303799999781,1796.1960269999954,3496.4018579999911]
["2011-05-01",666.0003999999999,130.02043799999967,0.19522576563017033,null,null,null,null,null,null,11.000437999999672,null,null,null,119.02000000000001,null,null,null,null,null,null,null,null,null,null,null,null,null,null,null,null,null,null,null,null,null,null,"2011-05-05",0.17745634635357663,0.15891302841334634,0.14748665517811574,5106.0052999999989,11322.017199999995,23754.026299999994,906.0930449999978,1799.2160409999951,3503.4018859999915]
["2011-05-02",666.00049999999987,130.03043899999969,0.1952407528222572,null,null,null,null,null,null,11.000438999999671,null,null,null,119.03000000000002,null,null,null,null,null,null,null,null,null,null,null,null,null,null,null,null,null,null,null,null,null,null,"2011-05-06",0.18573348992344085,0.1623633701330687,0.15113155973458234,4884.0036999999993,11100.016299999997,23532.026799999992,907.12305199999776,1802.2360549999953,3556.4319139999911]
["2011-05-03",666.00059999999985,131.00043999999968,0.19669718015269014,null,null,null,null,null,null,11.000439999999671,null,null,null,120,null,null,null,null,null,null,null,null,null,null,null,null,null,null,null,null,null,null,null,null,null,null,"2011-05-07",0.19500485832041942,0.16604279389051024,0.15287120414483568,4662.0020999999997,10878.015399999995,23310.027299999991,909.11305899999775,1806.2160689999955,3563.4319419999915]
["2011-05-04",666.00069999999982,131.01044099999967,0.19671216711934342,null,null,null,null,null,null,11.00044099999967,null,null,null,{"$f":"O442+0.01","v":120.01},null,null,null,null,null,null,null,null,null,null,null,null,null,null,null,null,null,null,null,null,null,null,"2011-05-08",0.19543168571241482,0.1698755273840887,0.15464430313965546,4662.0027999999993,10656.014499999996,23088.027799999993,911.10306599999774,1810.1960829999955,3570.4319699999915]
["2011-05-05",666.0007999999998,55.000441999999666,8.2583147047270336E-2,null,null,null,null,null,null,11.000441999999669,null,null,null,44,null,null,null,null,null,null,null,null,null,null,null,null,null,null,null,null,null,null,null,null,null,null,"2011-05-09",0.17955221891189013,0.16649356264975504,0.15312724851302631,4662.0034999999989,10434.013599999997,22866.028299999991,837.07307299999775,1737.1960969999957,3501.4119979999914]
["2011-05-06",666.00089999999977,55.010442999999668,8.2598151143639123E-2,null,null,null,null,null,null,11.000442999999668,null,null,null,44.01,null,null,null,null,null,null,null,null,null,null,null,null,null,null,null,null,null,null,null,null,null,null,"2011-05-10",0.16346683685956306,0.16296455555720135,0.1515804478220763,4662.0041999999994,10212.012699999997,22644.028799999993,762.08307999999772,1664.1961109999954,3432.3920259999918]
["2011-05-07",666.00099999999975,132.00044399999967,0.19819856726941809,null,null,null,null,null,null,11.000443999999668,null,null,null,121,null,null,null,null,null,null,null,null,null,null,null,null,null,null,null,null,null,null,null,null,null,null,"2011-05-11",0.16389366879472778,0.16698439985826602,0.15339343321614482,4662.0048999999981,9990.0117999999966,22422.029299999991,764.07308699999771,1668.1761249999954,3439.3920539999908]
["2011-05-08",666.00109999999972,132.01044499999966,0.19821355400163712,null,null,null,null,null,null,11.000444999999667,null,null,null,{"$f":"O446+0.01","v":121.01},null,null,null,null,null,null,null,null,null,null,null,null,null,null,null,null,null,null,null,null,null,null,"2011-05-12",0.16432050060171483,0.17118696489169519,0.15524267818775597,4662.0055999999986,9768.0108999999975,22200.029799999993,766.0630939999977,1672.1561389999954,3446.3920819999912]
["2011-05-09",666.0011999999997,132.02044599999968,0.19822854072935564,null,null,null,null,null,null,11.000445999999666,null,null,null,121.02000000000001,null,null,null,null,null,null,null,null,null,null,null,null,null,null,null,null,null,null,null,null,null,null,"2011-05-13",0.16474733228052438,0.17548443307727477,0.15712928150799726,4662.0062999999982,9546.0099999999984,21978.030299999988,768.0531009999977,1675.1761529999953,3453.3921099999916]
["2011-05-10",666.00129999999967,132.03044699999967,0.19824352745257365,null,null,null,null,null,null,11.000446999999665,null,null,null,121.03000000000002,null,null,null,null,null,null,null,null,null,null,null,null,null,null,null,null,null,null,null,null,null,null,"2011-05-14",0.16496824393442522,0.17998654323492624,0.15905438679559106,4662.0069999999987,9324.0090999999993,21756.030799999993,769.08310799999765,1678.1961669999955,3460.3921379999915]
["2011-05-11",666.00139999999965,{"$f":"SUM(K450:Q450)","v":133.00044799999966},0.19969995258268186,null,null,null,null,null,null,11.000447999999665,null,null,null,122,null,null,null,null,null,null,null,null,null,null,null,null,null,null,null,null,null,null,null,null,null,null,"2011-05-15",0.16539507538779868,0.18041337265761298,0.16101918482862015,4662.0076999999983,9324.0104999999967,21534.031299999995,771.07311499999764,1682.1761809999957,3467.392165999991]
["2011-05-12",666.00149999999962,133.01044899999968,{"$f":"C451/B451","v":0.19971493908046717},null,null,null,null,null,null,11.000448999999664,null,null,null,{"$f":"O450+0.01","v":122.01},null,null,null,null,null,null,null,null,null,null,null,null,null,null,null,null,null,null,null,null,null,null,"2011-05-16",0.18212818363862193,0.1808402019521228,0.16302491600073496,4662.0083999999979,9324.0118999999977,21312.031799999993,849.08312199999762,1686.1561949999957,3474.3921939999909]
["2011-05-13",{"$f":"B451+0.0001","v":666.0015999999996},133.02044999999967,0.19972992557375199,null,null,null,null,null,null,{"$f":"K451+0.000001","v":11.000449999999663},null,null,null,122.02000000000001,null,null,null,null,null,null,null,null,null,null,null,null,null,null,null,null,null,null,null,null,null,null,"2011-05-17",0.19886128686449756,0.18116407116236052,0.16507287293248918,4662.0090999999975,9324.0132999999987,21090.032299999992,927.09312899999759,1689.1762089999957,3481.3922219999909]
["2011-05-14",666.00169999999957,133.03045099999969,0.19974491206253644,null,null,null,null,null,null,11.000450999999662,null,null,null,122.03000000000002,null,null,null,null,null,null,null,null,null,null,null,null,null,null,null,null,null,null,null,null,null,null,"2011-05-18",0.1990821932635144,0.18148794027534046,0.16716440324935622,4662.009799999998,9324.0146999999943,20868.032799999994,928.12313599999766,1692.1962229999954,3488.3922499999912]
["2011-05-15",666.00179999999955,134.00045199999965,0.20120133609248464,null,null,null,null,null,null,11.000451999999662,null,null,null,123,null,null,null,null,null,null,null,null,null,null,null,null,null,null,null,null,null,null,null,null,null,null,"2011-05-19",0.19950901933833018,0.18191476921623892,0.16930091253897148,4662.0104999999967,9324.0160999999971,20646.033299999992,930.11314299999765,1696.1762369999956,3495.3922779999912]
["2011-05-16",666.00189999999952,134.01045299999967,0.20121632235583678,null,null,null,null,null,null,11.000452999999661,null,null,null,{"$f":"O454+0.01","v":123.01},null,null,null,null,null,null,null,null,null,null,null,null,null,null,null,null,null,null,null,null,null,null,"2011-05-20",0.19993584528497016,0.18234159802896083,0.17148386750123731,4662.0111999999972,9324.0174999999963,20424.033799999994,932.10314999999753,1700.1562509999956,3502.3923059999915]
["2011-05-17",666.0019999999995,134.02045399999966,0.20123130861468849,null,null,null,null,null,null,11.00045399999966,null,null,null,123.02000000000001,null,null,null,null,null,null,null,null,null,null,null,null,null,null,null,null,null,null,null,null,null,null,"2011-05-21",0.20036267110343459,0.18266546681924856,0.17371479930612693,4662.0118999999968,9324.0188999999955,20202.034299999992,934.09315699999752,1703.1762649999955,3509.392333999991]
["2011-05-18",666.00209999999947,134.03045499999968,0.20124629486903989,null,null,null,null,null,null,11.000454999999659,null,null,null,123.03000000000002,null,null,null,null,null,null,null,null,null,null,null,null,null,null,null,null,null,null,null,null,null,null,"2011-05-22",0.2005835771443428,0.18298933551227856,0.17599530717534048,4662.0125999999973,9324.0202999999947,19980.03479999999,935.12316399999759,1706.1962789999952,3516.392361999991]
["2011-05-19",666.00219999999945,135.00045599999964,0.20270271779882973,null,null,null,null,null,null,11.000455999999659,null,null,null,124,null,null,null,null,null,null,null,null,null,null,null,null,null,null,null,null,null,null,null,null,null,null,"2011-05-23",{"$f":"AS458/AP458","v":0.20101040273737492},0.19156929814953097,0.17832706220542047,{"$f":"SUM(B452:B458)","v":4662.0132999999969},9324.0216999999939,19758.035299999989,{"$f":"SUM(C452:C458)","v":937.11317099999758},1786.1962929999954,3523.3923899999913]
["2011-05-20",666.00229999999942,135.01045699999966,0.2027177038277492,null,null,null,null,null,null,11.000456999999658,null,null,null,{"$f":"O458+0.01","v":124.01},null,null,null,null,null,null,null,null,null,null,null,null,null,null,null,null,null,null,null,null,null,null,"2011-05-24",0.20143722820223156,0.20014925821022433,0.1807118114515327,4662.0139999999965,9324.0230999999949,19536.035799999991,939.10317799999768,1866.1963069999954,3530.3924179999913]
["2011-05-21",666.0023999999994,135.02045799999968,0.20273268985216841,null,null,null,null,null,null,11.000457999999657,null,null,null,124.02000000000001,null,null,null,null,null,null,null,null,null,null,null,null,null,null,null,null,null,null,null,null,null,null,"2011-05-25",0.20186405353891274,0.20047312413218094,0.18315138229288677,4662.0146999999961,9324.0244999999959,19314.036299999992,941.09318499999745,1869.2163209999953,3537.3924459999912]
["2011-05-22",666.00249999999937,135.03045899999967,0.20274767587208725,null,null,null,null,null,null,11.000458999999656,null,null,null,124.03000000000002,null,null,null,null,null,null,null,null,null,null,null,null,null,null,null,null,null,null,null,null,null,null,"2011-05-26",0.20208495922171305,0.20079698995688083,0.18564768710271881,4662.0153999999966,9324.0258999999933,19092.036799999991,942.12319199999752,1872.2363349999955,3544.3924739999911]
["2011-05-23",666.00259999999935,136.00045999999966,0.20420409770172038,null,null,null,null,null,null,11.000459999999656,null,null,null,125,null,null,null,null,null,null,null,null,null,null,null,null,null,null,null,null,null,null,null,null,null,null,"2011-05-27",0.20251178433296241,0.20122381548582516,0.18820272824791887,4662.0160999999953,9324.0272999999943,18870.037299999993,944.11319899999751,1876.2163489999953,3551.3925019999911]
["2011-05-24",666.00269999999932,136.01046099999965,0.20421908349620774,null,null,null,null,null,null,11.000460999999655,null,null,null,{"$f":"O462+0.01","v":125.01},null,null,null,null,null,null,null,null,null,null,null,null,null,null,null,null,null,null,null,null,null,null,"2011-05-28",0.20293860931603647,0.20165064088659407,0.19081860344577339,4662.0167999999958,9324.0286999999935,18648.037799999995,946.10320599999761,1880.1963629999952,3558.3925299999914]
["2011-05-25",666.0027999999993,136.02046199999967,0.20423406928619492,null,null,null,null,null,null,11.000461999999654,null,null,null,125.02000000000001,null,null,null,null,null,null,null,null,null,null,null,null,null,null,null,null,null,null,null,null,null,null,"2011-05-29",0.20336543417093533,0.20197450638860515,0.19119395085401056,4662.0174999999954,9324.0300999999927,18648.040599999989,948.0932129999976,1883.2163769999952,3565.3925579999914]
["2011-05-26",666.00289999999927,136.03046299999966,0.20424905507168184,null,null,null,null,null,null,11.000462999999653,null,null,null,125.03000000000002,null,null,null,null,null,null,null,null,null,null,null,null,null,null,null,null,null,null,null,null,null,null,"2011-05-30",0.20358633949562843,{"$f":"AT465/AQ465","v":0.20229837179335963},0.19156929814953094,4662.0181999999959,{"$f":"SUM(B452:B465)","v":9324.0314999999937},18648.043399999991,949.12321999999767,{"$f":"SUM(C452:C465)","v":1886.2363909999954},3572.3925859999913]
["2011-05-27",555,137.00046399999965,0.24684768288288225,null,null,null,null,null,null,11.000463999999653,null,null,null,126,null,null,null,null,null,null,null,null,null,null,null,null,null,null,null,null,null,null,null,null,null,null,"2011-05-31",0.20898921205702628,0.20516772717735313,0.19309404285145068,4551.0158999999958,9213.0298999999923,18537.043199999993,951.11322699999744,1890.2164049999953,3579.3926139999912]
["2011-05-28",555.00009999999997,137.01046499999967,0.24686565822240333,null,null,null,null,null,null,11.000464999999652,null,null,null,{"$f":"O466+0.01","v":126.01},null,null,null,null,null,null,null,null,null,null,null,null,null,null,null,null,null,null,null,null,null,null,"2011-06-01",0.21466223301658319,0.20810706763018927,0.19463715796169548,4440.0135999999966,9102.0282999999927,18426.042999999991,953.10323399999766,1894.1964189999951,3586.3926419999912]
["2011-05-29",555.00019999999995,137.02046599999966,0.24688363355544676,null,null,null,null,null,null,11.000465999999651,null,null,null,126.02000000000001,null,null,null,null,null,null,null,null,null,null,null,null,null,null,null,null,null,null,null,null,null,null,"2011-06-02",0.22062618339665654,0.21101221209809068,0.19619897748751058,4329.0112999999965,8991.0266999999949,18315.042799999992,955.09324099999776,1897.2164329999953,3593.3926699999911]
["2011-05-30",555.00029999999992,137.03046699999967,0.24690160888201265,null,null,null,null,null,null,11.00046699999965,null,null,null,126.03000000000002,null,null,null,null,null,null,null,null,null,null,null,null,null,null,null,null,null,null,null,null,null,null,"2011-06-03",0.22667643620485356,0.21398998601929589,0.19777984358265527,4218.0089999999982,8880.0250999999935,18204.04259999999,956.12324799999772,1900.2364469999952,3600.392697999991]
["2011-05-31",555.0003999999999,138.00046799999964,0.24864931268517945,null,null,null,null,null,null,11.00046799999965,null,null,null,127,null,null,null,null,null,null,null,null,null,null,null,null,null,null,null,null,null,null,null,null,null,null,"2011-06-04",0.23328748282782158,0.21715262377846245,0.19938010679729534,4107.0066999999981,8769.0234999999957,18093.042399999991,958.11325499999771,1904.2164609999952,3607.3927259999909]
["2011-06-01",555.00049999999987,138.01046899999966,0.24866728768712765,null,null,null,null,null,null,11.000468999999649,null,null,null,{"$f":"O470+0.01","v":127.01},null,null,null,null,null,null,null,null,null,null,null,null,null,null,null,null,null,null,null,null,null,null,"2011-06-05",0.24026581702462535,0.22039635577729325,0.2010001263371517,3996.0043999999989,8658.0218999999943,17982.042199999989,960.10326199999759,1908.1964749999952,3614.3927539999909]
["2011-06-02",555.00059999999985,138.02046999999965,0.24868526268259833,null,null,null,null,null,null,11.000469999999648,null,null,null,127.02000000000001,null,null,null,null,null,null,null,null,null,null,null,null,null,null,null,null,null,null,null,null,null,null,"2011-06-06",0.24764292122261602,0.22361202172410849,0.20689407937153265,3885.0020999999992,8547.0202999999965,17871.041999999987,962.09326899999769,1911.2164889999954,3697.4127819999908]
["2011-06-03",555.00069999999982,138.03047099999966,0.24870323767159161,null,null,null,null,null,null,11.000470999999648,null,null,null,127.03000000000002,null,null,null,null,null,null,null,null,null,null,null,null,null,null,null,null,null,null,null,null,null,null,"2011-06-07",0.24790800047814582,0.22691231149120092,0.21286170677818975,3885.0027999999993,8436.0186999999969,17760.041799999988,963.12327599999765,1914.2365029999951,3780.4328099999907]
["2011-06-04",555.0007999999998,139.00047199999966,0.25045093989053657,null,null,null,null,null,null,11.000471999999647,null,null,null,128,null,null,null,null,null,null,null,null,null,null,null,null,null,null,null,null,null,null,null,null,null,null,"2011-06-08",0.24842018366263965,0.23041592515167278,0.21459708259739108,3885.0034999999989,8325.0170999999973,17649.041599999997,965.11328299999764,1918.2165169999953,3787.4328379999906]
["2011-06-05",555.00089999999977,139.01047299999965,0.25046891455491282,null,null,null,null,null,null,11.000472999999646,null,null,null,{"$f":"O474+0.01","v":128.01},null,null,null,null,null,null,null,null,null,null,null,null,null,null,null,null,null,null,null,null,null,null,"2011-06-09",0.2489323666625631,0.23401423225948334,0.21635442518683951,3885.0041999999994,8214.0154999999959,17538.041399999987,967.10328999999751,1922.1965309999953,3794.432865999991]
["2011-06-06",555.00099999999975,139.02047399999964,0.2504868892128117,null,null,null,null,null,null,11.000473999999645,null,null,null,128.01999999999998,null,null,null,null,null,null,null,null,null,null,null,null,null,null,null,null,null,null,null,null,null,null,"2011-06-10",0.24944454947791647,0.23759264993979531,0.21813415429350061,3885.0048999999985,8103.0138999999981,17427.041199999992,969.09329699999762,1925.2165449999952,3801.4328939999905]
["2011-06-07",555.00109999999972,139.03047499999963,0.25050486386423321,null,null,null,null,null,null,11.000474999999645,null,null,null,128.02999999999997,null,null,null,null,null,null,null,null,null,null,null,null,null,null,null,null,null,null,null,null,null,null,"2011-06-11",0.24970962821778114,0.24127046939104385,0.21993670042707752,3885.0055999999986,7992.0122999999967,17316.040999999994,970.12330399999746,1928.2365589999952,3808.4329219999904]
["2011-06-08",555.0011999999997,140.00047599999965,0.25225256449895916,null,null,null,null,null,null,11.000475999999644,null,null,null,129,null,null,null,null,null,null,null,null,null,null,null,null,null,null,null,null,null,null,null,null,null,null,"2011-06-12",0.25022181070851751,0.24517370253031071,0.2217625052071944,3885.0062999999982,7881.010699999998,17205.040799999992,972.11331099999757,1932.2165729999952,3815.4329499999903]
["2011-06-09",555.00129999999967,66.000476999999648,0.11891949982819804,null,null,null,null,null,null,11.000476999999643,null,null,null,55,null,null,null,null,null,null,null,null,null,null,null,null,null,null,null,null,null,null,null,null,null,null,"2011-06-13",0.23168383428910108,0.2396633727237199,{"$f":"AU479/AR479","v":0.2192824426777126},3885.0069999999987,7770.0090999999984,{"$f":"SUM(B452:B479)","v":17094.040599999993},900.09331799999745,1862.1865869999951,{"$f":"SUM(C452:C479)","v":3748.4229779999905}]
["2011-06-10",555.00139999999965,66.010477999999637,0.1189374981756797,null,null,null,null,null,null,11.000477999999642,null,null,null,55.01,null,null,null,null,null,null,null,null,null,null,null,null,null,null,null,null,null,null,null,null,null,null,"2011-06-14",0.21314586455002343,0.23052692155306553,0.21676996104890572,3885.0076999999978,7770.0104999999985,16983.040399999991,828.07332499999757,1791.1966009999951,3681.4130059999902]
["2011-06-11",555.00149999999962,66.020478999999639,0.11895549651667552,null,null,null,null,null,null,11.000478999999642,null,null,null,55.019999999999996,null,null,null,null,null,null,null,null,null,null,null,null,null,null,null,null,null,null,null,null,null,null,"2011-06-15",0.19436079777845472,0.22139047367482098,0.21422442047050078,3885.0083999999979,7770.0118999999968,16872.040199999992,755.09333199999753,1720.2066149999951,3614.4030339999904]
["2011-06-12",555.0015999999996,141.00047999999964,0.25405418651045286,null,null,null,null,null,null,11.000479999999641,null,null,null,130,null,null,null,null,null,null,null,null,null,null,null,null,null,null,null,null,null,null,null,null,null,null,"2011-06-16",0.19487298987279025,0.2219026612219564,0.21606076126541024,3885.0090999999975,7770.0132999999978,16761.039999999994,757.08333899999752,1724.186628999995,3621.4030619999903]
["2011-06-13",555.00169999999957,141.01048099999963,0.25407216049968806,null,null,null,null,null,null,11.00048099999964,null,null,null,{"$f":"O482+0.01","v":130.01},null,null,null,null,null,null,null,null,null,null,null,null,null,null,null,null,null,null,null,null,null,null,"2011-06-17",0.19538518178255246,0.22241484858452018,0.21792158658984062,3885.009799999998,7770.0146999999961,16650.039799999991,759.0733459999974,1728.166642999995,3628.4030899999907]
["2011-06-14",555.00179999999955,141.02048199999962,0.25409013448244622,null,null,null,null,null,null,11.000481999999639,null,null,null,130.01999999999998,null,null,null,null,null,null,null,null,null,null,null,null,null,null,null,null,null,null,null,null,null,null,"2011-06-18",0.19589737350774164,0.22280348389496846,0.21980738942060407,3885.0104999999971,7770.0160999999971,16539.039599999993,761.06335299999751,1731.186656999995,3635.4031179999902]
["2011-06-15",555.00189999999952,141.03048299999961,0.25410810845872733,null,null,null,null,null,null,11.000482999999639,null,null,null,130.02999999999997,null,null,null,null,null,null,null,null,null,null,null,null,null,null,null,null,null,null,null,null,null,null,"2011-06-19",0.19616246151362393,0.22319211906536834,0.22171867605820283,3885.0111999999972,7770.0174999999963,16428.039399999991,762.09335999999735,1734.2066709999949,3642.4031459999906]
["2011-06-16",555.0019999999995,142.00048399999963,0.25585580592502327,null,null,null,null,null,null,11.000483999999638,null,null,null,131,null,null,null,null,null,null,null,null,null,null,null,null,null,null,null,null,null,null,null,null,null,null,"2011-06-20",0.21572478761261918,0.22370430591874052,0.22365596658001485,3885.0118999999968,7770.0188999999964,16317.039199999992,838.09336699999744,1738.1866849999949,3649.4031739999905]
["2011-06-17",555.00209999999947,142.01048499999962,0.25587377957668944,null,null,null,null,null,null,11.000484999999637,null,null,null,{"$f":"O486+0.01","v":131.01},null,null,null,null,null,null,null,null,null,null,null,null,null,null,null,null,null,null,null,null,null,null,"2011-06-21",0.23528710666215033,0.22421649258754137,0.2256197953121051,3885.0125999999973,7770.0202999999956,16206.038999999992,914.09337399999731,1742.1666989999949,3656.4032019999904]
["2011-06-18",888,142.02048599999961,0.15993297972972928,null,null,null,null,null,null,11.000485999999636,null,null,null,131.01999999999998,null,null,null,null,null,null,null,null,null,null,null,null,null,null,null,null,null,null,null,null,null,null,"2011-06-22",0.23472991358415299,0.21537486279034571,0.22299702144564201,4218.011099999997,8103.0194999999958,16428.036599999992,990.09338099999741,1745.1867129999948,3663.4032299999903]
["2011-06-19",888.00009999999997,142.0304869999996,0.15994422410537973,null,null,null,null,null,null,11.000486999999636,null,null,null,131.02999999999997,null,null,null,null,null,null,null,null,null,null,null,null,null,null,null,null,null,null,null,null,null,null,"2011-06-23",0.21778099259557654,0.20723125317396413,0.220444187315843,4551.0095999999976,8436.0186999999951,16650.034199999991,991.12338799999725,1748.2067269999948,3670.4032579999903]
["2011-06-20",888.00019999999995,143.00048799999962,0.16103654931609207,null,null,null,null,null,null,11.000487999999635,null,null,null,132,null,null,null,null,null,null,null,null,null,null,null,null,null,null,null,null,null,null,null,null,null,null,"2011-06-24",0.20333983373205256,0.19981561914704216,0.21795853217867878,4884.0080999999973,8769.0178999999971,16872.031799999993,993.11339499999735,1752.1867409999948,3677.4032859999902]
["2011-06-21",888.00029999999992,143.01048899999964,0.16104779356493421,null,null,null,null,null,null,11.000488999999634,null,null,null,{"$f":"O490+0.01","v":132.01},null,null,null,null,null,null,null,null,null,null,null,null,null,null,null,null,null,null,null,null,null,null,"2011-06-25",0.1907422164273278,0.19294259016498613,0.21553743870359734,5217.0065999999988,9102.0170999999955,17094.029399999996,995.10340199999735,1756.1667549999947,3684.4033139999901]
["2011-06-22",888.0003999999999,143.02048999999963,0.16105903781124384,null,null,null,null,null,null,11.000489999999633,null,null,null,132.01999999999998,null,null,null,null,null,null,null,null,null,null,null,null,null,null,null,null,null,null,null,null,null,null,"2011-06-26",0.17965630500051211,0.18645296553435689,0.213178423780466,5550.0050999999985,9435.0162999999957,17316.026999999995,997.09340899999745,1759.1867689999947,3691.4033419999901]
["2011-06-23",888.00049999999987,143.03049099999961,0.16107028205502094,null,null,null,null,null,null,11.000490999999633,null,null,null,132.02999999999997,null,null,null,null,null,null,null,null,null,null,null,null,null,null,null,null,null,null,null,null,null,null,"2011-06-27",0.16966221404317985,0.18798258284909514,0.21087913002471162,5883.0035999999991,9768.0154999999959,17538.024599999993,998.12341599999741,1836.2167829999946,3698.4033699999895]
["2011-06-24",888.00059999999985,144.00049199999964,0.16216260664688703,null,null,null,null,null,null,11.000491999999632,null,null,null,133,null,null,null,null,null,null,null,null,null,null,null,null,null,null,null,null,null,null,null,null,null,null,"2011-06-28",0.16089335346266975,0.18950638662074168,0.20734140076082433,6216.0020999999997,10101.014699999998,17871.025199999993,1000.1134229999974,1914.2067969999946,3705.4033979999895]
["2011-06-25",888.00069999999982,144.01049299999963,0.16217385076385599,null,null,null,null,null,null,11.000492999999631,null,null,null,{"$f":"O494+0.01","v":133.01},null,null,null,null,null,null,null,null,null,null,null,null,null,null,null,null,null,null,null,null,null,null,"2011-06-29",0.1612134778961164,0.19093292668509818,0.20393310066611703,6216.0027999999993,10434.013899999996,18204.025799999992,1002.1034299999975,1992.1968109999946,3712.4034259999898]
["2011-06-26",888.0007999999998,144.02049399999962,0.1621850948782925,null,null,null,null,null,null,11.00049399999963,null,null,null,133.01999999999998,null,null,null,null,null,null,null,null,null,null,null,null,null,null,null,null,null,null,null,null,null,null,"2011-06-30",0.16153360225746294,0.18530829362509041,0.20064725451326923,6216.0034999999998,10767.013099999998,18537.026399999995,1004.0934369999975,1995.2168249999945,3719.4034539999898]
["2011-06-27",888.00089999999977,144.0304949999996,0.16219633899019656,null,null,null,null,null,null,11.00049499999963,null,null,null,133.02999999999997,null,null,null,null,null,null,null,null,null,null,null,null,null,null,null,null,null,null,null,null,null,null,"2011-07-01",0.16169928649662069,0.18002113736396447,0.19747737944413071,6216.0041999999994,11100.012299999997,18870.026999999987,1005.1234439999974,1998.2368389999945,3726.4034819999893]
["2011-06-28",888.00099999999975,145.00049599999963,0.16328866296321701,null,null,null,null,null,null,11.000495999999629,null,null,null,134,null,null,null,null,null,null,null,null,null,null,null,null,null,null,null,null,null,null,null,null,null,null,"2011-07-02",0.16201941073115914,0.17512593711639271,0.19441744227873686,6216.0048999999981,11433.011499999999,19203.02759999999,1007.1134509999974,2002.2168529999944,3733.4035099999892]
["2011-06-29",888.00109999999972,145.01049699999962,0.16329990694831309,null,null,null,null,null,null,11.000496999999628,null,null,null,{"$f":"O498+0.01","v":134.01},null,null,null,null,null,null,null,null,null,null,null,null,null,null,null,null,null,null,null,null,null,null,"2011-07-03",0.16233953489359754,0.17050782275763146,0.1914618211904501,6216.0055999999986,11766.010699999997,19536.028199999993,1009.1034579999974,2006.1968669999947,3740.4035379999896]
["2011-06-30",888.0011999999997,145.02049799999961,0.16331115093087673,null,null,null,null,null,null,11.000497999999627,null,null,null,134.01999999999998,null,null,null,null,null,null,null,null,null,null,null,null,null,null,null,null,null,null,null,null,null,null,"2011-07-04",0.162659658983936,0.16606457037447295,0.18860527123499821,6216.0062999999982,12099.009899999997,19869.028799999993,1011.0934649999974,2009.2168809999946,3747.4035659999895]
["2011-07-01",888.00129999999967,145.03049899999959,0.16332239491090794,null,null,null,null,null,null,11.000498999999627,null,null,null,134.02999999999997,null,null,null,null,null,null,null,null,null,null,null,null,null,null,null,null,null,null,null,null,null,null,"2011-07-05",0.16282534302165322,0.16185934862290235,0.18584289328873019,6216.0069999999987,12432.009099999999,20202.029399999996,1012.1234719999974,2012.2368949999945,3754.403593999989]
["2011-07-05",888.00169999999957,66.010502999999616,7.4336009717098112E-2,null,null,null,null,null,null,11.000502999999624,null,null,null,55.01,null,null,null,null,null,null,null,null,null,null,null,null,null,null,null,null,null,null,null,null,null,null,"2011-07-09",0.13820497837696422,0.15011218986090769,0.1682157684006016,6216.009799999998,12432.014699999994,21534.031799999993,859.08349999999734,1866.1969509999944,3622.3637059999887]
["2011-07-08",888.0019999999995,147.02050599999961,0.16556325999265734,null,null,null,null,null,null,11.000505999999621,null,null,null,136.01999999999998,null,null,null,null,null,null,null,null,null,null,null,null,null,null,null,null,null,null,null,null,null,null,"2011-07-12",0.13916535793633181,0.15099534581627727,0.16825891521326225,6216.0118999999968,12432.018899999995,22533.033599999995,865.05352099999743,1877.1769929999944,3791.3837899999889]
["2011-07-12",888.0023999999994,148.0205099999996,0.16668931300185641,null,null,null,null,null,null,11.000509999999618,null,null,null,137.01999999999998,null,null,null,null,null,null,null,null,null,null,null,null,null,null,null,null,null,null,null,null,null,null,"2011-07-16",0.16603782307657636,0.15212140621183584,0.16314217594308217,6216.014699999997,12432.024499999996,23865.035999999993,1032.0935489999974,1891.1770489999947,3893.3939019999889]
["2011-07-14",888.00259999999935,{"$f":"SUM(K514:Q514)","v":149.00051199999962},0.16779287808391521,null,null,null,null,null,null,11.000511999999617,null,null,null,138,null,null,null,null,null,null,null,null,null,null,null,null,null,null,null,null,null,null,null,null,null,null,"2011-07-18",0.1665236296604827,0.15268443602919016,0.15928368320276287,6216.0160999999953,12432.027299999994,24531.037199999988,1035.1135629999972,1898.1770769999948,3907.3939579999892]
["2011-07-19",888.00309999999922,150.0105169999996,0.16893017265367624,null,null,null,null,null,null,11.000516999999613,null,null,null,{"$f":"O518+0.01","v":139.01},null,null,null,null,null,null,null,null,null,null,null,null,null,null,null,null,null,null,null,null,null,null,"2011-07-23",0.16796980466406478,0.16700381425105915,0.15855800871370512,6216.0195999999951,12432.034299999992,24864.048999999988,1044.1035979999972,2076.1971469999949,3942.3940979999893]
["2011-07-20",888.0031999999992,150.02051799999958,0.16894141597687903,null,null,null,null,null,null,11.000517999999612,null,null,null,139.01999999999998,null,null,null,null,null,null,null,null,null,null,null,null,null,null,null,null,null,null,null,null,null,null,"2011-07-24",0.16828992739936804,0.16724671736584509,0.15883952292924319,6216.0202999999956,12432.035699999993,24864.05179999999,1046.0936049999973,2079.217160999995,3949.3941259999892]
["2011-07-23",888.00349999999912,151.01052099999961,0.17005622275137403,null,null,null,null,null,null,11.00052099999961,null,null,null,{"$f":"O522+0.01","v":140.01},null,null,null,null,null,null,null,null,null,null,null,null,null,null,null,null,null,null,null,null,null,null,"2011-07-27",0.1690958555747801,0.16812986604072885,0.15968406519543385,6216.0223999999944,12432.039899999991,24864.060199999985,1051.1036259999971,2090.1972029999947,3970.3942099999895]
["2011-07-27",888.00389999999902,152.0105249999996,0.17118227183461668,null,null,null,null,null,null,11.000524999999607,null,null,null,{"$f":"O526+0.01","v":141.01},null,null,null,null,null,null,null,null,null,null,null,null,null,null,null,null,null,null,null,null,null,null,"2011-07-31",0.1702219054710393,0.16925591681594121,0.1608101206627002,6216.0251999999937,12432.045499999991,24864.071399999979,1058.1036539999971,2104.1972589999946,3998.3943219999896]
["2011-07-31",888.00429999999892,153.01052899999959,0.17230831990340562,null,null,null,null,null,null,11.000528999999604,null,null,null,{"$f":"O530+0.01","v":142.01},null,null,null,null,null,null,null,null,null,null,null,null,null,null,null,null,null,null,null,null,null,null,"2011-08-04",0.15573830780685,0.16257714022748801,0.15803375886468429,6216.027999999993,12432.051099999988,24864.082599999983,968.07368199999712,2021.1673149999947,3929.3644339999901]
["2011-08-03",888.00459999999885,154.00053199999959,0.17342312415949174,null,null,null,null,null,null,11.000531999999602,null,null,null,143,null,null,null,null,null,null,null,null,null,null,null,null,null,null,null,null,null,null,null,null,null,null,"2011-08-07",0.15654423922432392,0.16338306965220759,0.16531489198619784,6216.0300999999927,12432.055299999987,24864.090999999979,973.08370299999706,2031.1873569999943,4110.4045179999903]
["2011-08-07",888.00499999999874,155.00053599999961,0.17454917033124795,null,null,null,null,null,null,11.000535999999599,null,null,null,144,null,null,null,null,null,null,null,null,null,null,null,null,null,null,null,null,null,null,null,null,null,null,"2011-08-11",0.17327992762071748,0.16450912117073016,0.16644094352218333,6216.0328999999911,12432.060899999986,24864.102199999976,1077.113730999997,2045.1874129999944,4138.40462999999]
["2011-08-09",777.00009999999997,155.02053799999959,0.19951160624046199,null,null,null,null,null,null,11.000537999999597,null,null,null,144.01999999999998,null,null,null,null,null,null,null,null,null,null,null,null,null,null,null,null,null,null,null,null,null,null,"2011-08-13",0.18036192830789557,0.16807358305186762,0.16850857233841945,5994.0240999999942,12210.053499999985,24642.097599999979,1081.0937449999972,2052.1874409999946,4152.4046859999889]
["2011-08-14",777.00059999999985,156.03054299999957,0.20081135458582605,null,null,null,null,null,null,11.000542999999594,null,null,null,145.02999999999997,null,null,null,null,null,null,null,null,null,null,null,null,null,null,null,null,null,null,null,null,null,null,"2011-08-18",0.20024330933793852,0.18586280616059889,0.17384439149740047,5439.0020999999997,11655.034999999991,24087.086099999979,1089.1237799999972,2166.2375109999939,4187.404825999989]
["2011-08-15",777.00069999999982,157.00054399999959,0.20205972015211779,null,null,null,null,null,null,11.000543999999593,null,null,null,146,null,null,null,null,null,null,null,null,null,null,null,null,null,null,null,null,null,null,null,null,null,null,"2011-08-19",0.20060916074542143,0.18799477137592266,0.17494119927959179,5439.0027999999993,11544.031299999993,23976.083799999979,1091.113786999997,2170.2175249999941,4194.4048539999885]
["2011-08-18",777.00099999999975,157.03054699999956,0.20209825598680004,null,null,null,null,null,null,11.000546999999591,null,null,null,146.02999999999997,null,null,null,null,null,null,null,null,null,null,null,null,null,null,null,null,null,null,null,null,null,null,"2011-08-22",0.20153021152821493,0.19447271774606159,0.1782934156932845,5439.0048999999981,11211.020199999995,23643.076899999982,1096.1238079999971,2180.2375669999942,4215.4049379999888]
["2011-08-22",777.00139999999965,77.000550999999589,9.9099629678916445E-2,null,null,null,null,null,null,11.000550999999588,null,null,null,66,null,null,null,null,null,null,null,null,null,null,null,null,null,null,null,null,null,null,null,null,null,null,"2011-08-26",0.18791917430085589,0.19426416466503632,0.17941992772407794,5439.0076999999983,10878.010499999999,23199.067699999985,1022.0938359999971,2113.2076229999939,4162.3750499999887]
["2011-08-26",777.00179999999955,159.03055499999957,0.20467205481377218,null,null,null,null,null,null,11.000554999999585,null,null,null,148.02999999999997,null,null,null,null,null,null,null,null,null,null,null,null,null,null,null,null,null,null,null,null,null,null,"2011-08-30",0.18920608151059787,0.19555106918806586,0.18841547526674082,5439.0104999999967,10878.016099999997,22755.058499999988,1029.093863999997,2127.2076789999937,4287.4051619999882]
["2011-08-29",777.00209999999947,160.02055799999957,0.20594610748156236,null,null,null,null,null,null,11.000557999999582,null,null,null,149.01999999999998,null,null,null,null,null,null,null,null,null,null,null,null,null,null,null,null,null,null,null,null,null,null,"2011-09-02",0.2052015626880507,0.19656037238687585,0.19215035817685791,5439.0125999999973,10878.020299999995,22422.051599999988,1116.093884999997,2138.1877209999939,4308.4052459999875]
["2011-09-02",777.00249999999937,161.02056199999956,0.20723300375481377,null,null,null,null,null,null,11.000561999999579,null,null,null,150.01999999999998,null,null,null,null,null,null,null,null,null,null,null,null,null,null,null,null,null,null,null,null,null,null,"2011-09-06",0.2064884598414628,0.19784727456844858,0.19730626045202235,5439.0153999999966,10878.025899999993,21978.042399999988,1123.093912999997,2152.1877769999937,4336.4053579999882]
["2011-09-05",777.0027999999993,77.000564999999582,9.9099469139621699E-2,null,null,null,null,null,null,11.000564999999577,null,null,null,66,null,null,null,null,null,null,null,null,null,null,null,null,null,null,null,null,null,null,null,null,null,null,"2011-09-09",0.19177984516505006,0.1984907009036494,0.19637743468818439,5439.0174999999963,10878.030099999993,21756.040599999997,1043.093933999997,2159.1878189999939,4272.3954419999873]
["2011-09-08",777.00309999999922,163.00056799999959,0.20978110383343354,null,null,null,null,null,null,11.000567999999575,null,null,null,152,null,null,null,null,null,null,null,null,null,null,null,null,null,null,null,null,null,null,null,null,null,null,"2011-09-12",0.16144158682568413,0.18378208836866744,0.18952777344820235,5439.0195999999951,10878.034299999992,21756.048999999988,878.08395499999699,1999.187860999994,4123.3755259999871]
["2011-09-10",777.00329999999917,163.02056999999957,0.20980679232636429,null,null,null,null,null,null,11.000569999999573,null,null,null,152.01999999999998,null,null,null,null,null,null,null,null,null,null,null,null,null,null,null,null,null,null,null,null,null,null,"2011-09-14",0.16217329717976778,0.18442554208608056,0.1901712262663649,5439.0209999999952,10878.03709999999,21756.054599999989,882.06396899999697,2006.1878889999939,4137.3755819999869]
["2011-09-13",777.0035999999991,164.01057299999957,0.21108084055208978,null,null,null,null,null,null,11.000572999999571,null,null,null,{"$f":"O574+0.01","v":153.01},null,null,null,null,null,null,null,null,null,null,null,null,null,null,null,null,null,null,null,null,null,null,"2011-09-17",0.19435364964712104,0.18543484763199017,0.19113640487251712,5439.0230999999949,10878.04129999999,21756.062999999987,1057.0939899999971,2017.1679309999945,4158.3756659999872]
["2011-09-17",777.003999999999,165.01057699999956,{"$f":"C579/B579","v":0.21236773169764861},null,null,null,null,null,null,11.000576999999568,null,null,null,{"$f":"O578+0.01","v":154.01},null,null,null,null,null,null,null,null,null,null,null,null,null,null,null,null,null,null,null,null,null,null,"2011-09-21",0.21127018681782669,0.18672175305660763,0.19242330852135037,5439.0258999999942,10878.046899999988,21756.074199999981,1149.1040179999968,2031.1679869999939,4186.3757779999869]
["2011-09-21",777.0043999999989,166.01058099999955,0.2136546215182305,null,null,null,null,null,null,11.000580999999565,null,null,null,{"$f":"O582+0.01","v":155.01},null,null,null,null,null,null,null,null,null,null,null,null,null,null,null,null,null,null,null,null,null,null,"2011-09-25",0.19637220263242924,0.20336066984416526,0.19338846178642002,5439.0286999999935,10878.052499999987,21756.085399999985,1068.074045999997,2212.1680429999938,4207.3758899999875]
["2011-09-24",777.00469999999882,167.00058399999955,0.21492866645465569,null,null,null,null,null,null,11.000583999999563,null,null,null,156,null,null,null,null,null,null,null,null,null,null,null,null,null,null,null,null,null,null,null,null,null,null,"2011-09-28",{"$f":"AS586/AP586","v":0.19729325066517336},0.20428171559355782,0.19435363778400294,{"$f":"SUM(B580:B586)","v":5439.0307999999923},10878.056699999986,21756.093799999977,{"$f":"SUM(C580:C586)","v":1073.0840669999968},2222.1880849999934,4228.3759739999878]
["2011-09-28",777.00509999999872,168.00058799999957,0.21621555379752314,null,null,null,null,null,null,11.00058799999956,null,null,null,157,null,null,null,null,null,null,null,null,null,null,null,null,null,null,null,null,null,null,null,null,null,null,"2011-10-02",0.2147650080705511,0.20556860949399028,0.19564053795474851,5439.0335999999916,10878.062299999983,21756.104999999974,1168.1140949999967,2236.1881409999942,4256.3760859999884]
["2011-10-01",777.00539999999864,168.03059099999953,0.21625408394845111,null,null,null,null,null,null,11.000590999999558,null,null,null,157.02999999999997,null,null,null,null,null,null,null,null,null,null,null,null,null,null,null,null,null,null,null,null,null,null,"2011-10-05",0.21568604817210496,{"$f":"AT593/AQ593","v":0.2064896535611358},0.19660571221328502,5439.0356999999913,{"$f":"SUM(B580:B593)","v":10878.066499999984},21756.113399999969,1173.1241159999968,{"$f":"SUM(C580:C593)","v":2246.2081829999938},4277.3761699999877]
["2011-10-04",777.00569999999857,169.02059399999953,0.21752812624154474,null,null,null,null,null,null,11.000593999999555,null,null,null,158.01999999999998,null,null,null,null,null,null,null,null,null,null,null,null,null,null,null,null,null,null,null,null,null,null,"2011-10-08",0.21678358936942832,0.21559137550006896,0.20538569764763842,5439.037799999991,10878.070699999982,21756.121799999968,1179.0941369999969,2345.2182249999942,4468.3962539999884]
["2011-10-06",777.00589999999852,170.00059599999955,0.21878932450834657,null,null,null,null,null,null,11.000595999999554,null,null,null,159,null,null,null,null,null,null,null,null,null,null,null,null,null,null,null,null,null,null,null,null,null,null,"2011-10-10",0.21733878126857387,0.2162348188767062,0.20993654918567881,5439.0391999999902,10878.073499999982,21756.127399999968,1182.1141509999968,2352.2182529999936,4567.4063099999876]
["2011-10-09",777.00619999999844,66.02059899999955,8.4967917887913483E-2,null,null,null,null,null,null,11.000598999999552,null,null,null,55.019999999999996,null,null,null,null,null,null,null,null,null,null,null,null,null,null,null,null,null,null,null,null,null,null,"2011-10-13",0.16089125339055585,0.18847156193782266,0.19655955604027781,5439.0412999999899,10878.077699999982,21756.135799999967,875.09417199999666,2050.208294999994,4276.3763939999881]
["2011-10-13",777.00659999999834,171.03060299999953,0.22011473647714175,null,null,null,null,null,null,11.000602999999549,null,null,null,160.02999999999997,null,null,null,null,null,null,null,null,null,null,null,null,null,null,null,null,null,null,null,null,null,null,"2011-10-17",0.16217816656423115,0.18975846149293576,0.19784645259107661,5439.0440999999882,10878.08329999998,21756.146999999964,882.09419999999682,2064.2083509999939,4304.3765059999869]
["2011-10-17",999.00029999999992,172.03060699999952,0.17220275809726937,null,null,null,null,null,null,11.000606999999546,null,null,null,161.02999999999997,null,null,null,null,null,null,null,null,null,null,null,null,null,null,null,null,null,null,null,null,null,null,"2011-10-21",0.18984043183298846,0.17662735325865705,0.19521201939324526,6327.0200999999943,11766.062099999985,22644.131399999966,1201.1242279999967,2078.2084069999937,4420.4066179999872]
["2011-10-20",999.00059999999985,173.02060999999952,0.17319369978356325,null,null,null,null,null,null,11.000609999999543,null,null,null,162.01999999999998,null,null,null,null,null,null,null,null,null,null,null,null,null,null,null,null,null,null,null,null,null,null,"2011-10-24",0.17261459838543405,0.16804863941062215,0.19053555962649102,6993.0020999999997,12432.046199999988,23310.11969999997,1207.0942489999968,2089.1884489999934,4441.4067019999875]
["2011-10-24",999.00099999999975,174.02061399999951,0.17419463443980493,null,null,null,null,null,null,11.00061399999954,null,null,null,163.01999999999998,null,null,null,null,null,null,null,null,null,null,null,null,null,null,null,null,null,null,null,null,null,null,"2011-10-28",0.15673723852245508,0.17246127578589343,0.1798230471287208,6993.0048999999981,13320.024999999992,24198.104099999971,1096.0642769999968,2297.1885049999937,4351.3768139999866]
["2011-10-27",999.00129999999967,175.01061699999954,0.17518557483358591,null,null,null,null,null,null,11.000616999999538,null,null,null,{"$f":"O618+0.01","v":164.01},null,null,null,null,null,null,null,null,null,null,null,null,null,null,null,null,null,null,null,null,null,null,"2011-10-31",0.15745362445654593,0.16503410876516544,0.17585105571760148,6993.0069999999987,13986.009099999999,24864.09239999998,1101.0742979999966,2308.1685469999934,4372.3768979999877]
["2011-10-28",999.00139999999965,175.02061799999953,0.17519556829449848,null,null,null,null,null,null,11.000617999999537,null,null,null,164.01999999999998,null,null,null,null,null,null,null,null,null,null,null,null,null,null,null,null,null,null,null,null,null,null,"2011-11-01",0.17461646796127467,0.16525002330006786,0.1745739247471757,6993.0076999999983,13986.010499999999,25086.088499999983,1221.0943049999967,2311.1885609999936,4379.3769259999872]
["2011-11-03",999.0019999999995,177.00062399999953,0.17717744709219763,null,null,null,null,null,null,11.000623999999533,null,null,null,166,null,null,null,null,null,null,null,null,null,null,null,null,null,null,null,null,null,null,null,null,null,null,"2011-11-07",0.12885497120346631,0.14315429282023878,0.1548692941179855,6993.0118999999968,13986.018899999995,26418.065099999985,901.0843469999968,2002.1586449999932,4091.3470939999861]
["2011-11-04",999.00209999999947,177.01062499999952,0.1771874403467216,null,null,null,null,null,null,11.000624999999532,null,null,null,{"$f":"O626+0.01","v":166.01},null,null,null,null,null,null,null,null,null,null,null,null,null,null,null,null,null,null,null,null,null,null,"2011-11-08",0.12913952907792517,0.15187799055318074,0.15774577582426833,6993.0125999999973,13986.020299999995,26640.061199999986,903.07435399999679,2124.1686589999931,4202.3571219999867]
["2011-11-08",999.00249999999937,178.01062899999951,0.17818837190097084,null,null,null,null,null,null,11.000628999999529,null,null,null,{"$f":"O630+0.01","v":167.01},null,null,null,null,null,null,null,null,null,null,null,null,null,null,null,null,null,null,null,null,null,null,"2011-11-12",0.12985162051838142,0.13700308641642042,0.15316515001704253,6993.0153999999966,13986.025899999993,27528.045599999987,908.05438199999674,1916.1287149999932,4216.337233999986]
["2011-11-11",999.0027999999993,179.00063199999954,0.1791793096075403,null,null,null,null,null,null,11.000631999999527,null,null,null,168,null,null,null,null,null,null,null,null,null,null,null,null,null,null,null,null,null,null,null,null,null,null,"2011-11-15",0.14629941981412134,0.13771947745200364,0.15148474073071336,6993.0174999999954,13986.030099999993,27972.040599999989,1023.0744029999967,1926.1487569999933,4237.3373179999862]
["2011-11-16",999.00329999999917,55.000636999999521,5.5055510827641478E-2,null,null,null,null,null,null,11.000636999999523,null,null,null,44,null,null,null,null,null,null,null,null,null,null,null,null,null,null,null,null,null,null,null,null,null,null,"2011-11-20",0.16146018122925662,0.15366388717787649,0.14826681548090456,6993.0209999999952,13986.037099999989,27972.054599999989,1129.0944379999967,2149.1488269999932,4147.3274579999861]
["2011-11-19",999.0035999999991,{"$f":"SUM(K642:Q642)","v":181.00063999999952},0.1811811689167083,null,null,null,null,null,null,11.000639999999521,null,null,null,170,null,null,null,null,null,null,null,null,null,null,null,null,null,null,null,null,null,null,null,null,null,null,"2011-11-23",0.12642378644509231,0.14444179204590185,0.14429888642821903,6993.023099999994,13986.04129999999,27972.062999999987,884.08445899999663,2020.1688689999935,4036.3375419999857]
["2011-11-22",999.00389999999902,181.03064299999949,0.18121114742394867,null,null,null,null,null,null,11.000642999999519,null,null,null,170.02999999999997,null,null,null,null,null,null,null,null,null,null,null,null,null,null,null,null,null,null,null,null,null,null,"2011-11-26",0.12714017961782798,0.15309609217272993,0.14504959493275096,6993.0251999999937,13986.045499999991,27972.071399999983,889.09447999999657,2141.2089109999933,4057.3376259999859]
["2011-11-23",999.003999999999,182.00064399999951,0.1821820973689792,null,null,null,null,null,null,11.000643999999518,null,null,null,171,null,null,null,null,null,null,null,null,null,null,null,null,null,null,null,null,null,null,null,null,null,null,"2011-11-27",0.14530111879036475,0.15338064717915356,0.1452998310007339,6993.0258999999942,13986.04689999999,27972.074199999981,1016.0944869999965,2145.1889249999931,4064.3376539999863]
["2011-11-29",999.00459999999885,183.02064999999951,0.18320301027642888,null,null,null,null,null,null,11.000649999999514,null,null,null,172.01999999999998,null,null,null,null,null,null,null,null,null,null,null,null,null,null,null,null,null,null,null,null,null,null,"2011-12-03",0.1826239142028,0.15488205662964849,0.15466694363320888,6993.0300999999927,13986.055299999987,27972.090999999979,1277.0945289999966,2166.1890089999933,4326.3578219999863]
["2011-11-30",999.00469999999882,183.03065099999949,0.18321300290178785,null,null,null,null,null,null,11.000650999999513,null,null,null,172.02999999999997,null,null,null,null,null,null,null,null,null,null,null,null,null,null,null,null,null,null,null,null,null,null,"2011-12-04",0.18277118642177267,0.16403615916986777,0.15885002680778906,6993.0307999999923,13986.056699999986,27972.093799999973,1278.1245359999966,2294.2190229999933,4443.367849999986]
["2011-12-04",888.00009999999997,184.03065499999948,0.20724170526557315,null,null,null,null,null,null,11.00065499999951,null,null,null,173.02999999999997,null,null,null,null,null,null,null,null,null,null,null,null,null,null,null,null,null,null,null,null,null,null,"2011-12-08",0.18979767903925157,{"$f":"AT657/AQ657","v":0.18586380109875023},0.16913123944260339,6771.0235999999941,{"$f":"SUM(B644:B657)","v":13764.052299999987},27750.094999999979,1285.1245639999966,{"$f":"SUM(C644:C657)","v":2558.2390789999931},4693.4079619999875]
["2011-12-07",888.0003999999999,185.02065799999949,0.20835650299256567,null,null,null,null,null,null,11.000657999999508,null,null,null,174.01999999999998,null,null,null,null,null,null,null,null,null,null,null,null,null,null,null,null,null,null,null,null,null,null,"2011-12-11",0.20054247269269013,0.19128964205791454,0.17195144784228761,6438.010699999998,13431.041499999988,27417.088399999982,1291.0945849999964,2569.2191209999933,4714.4080459999859]
["2011-12-12",888.00089999999977,186.03066299999946,0.20949377754008977,null,null,null,null,null,null,11.000662999999504,null,null,null,175.02999999999997,null,null,null,null,null,null,null,null,null,null,null,null,null,null,null,null,null,null,null,null,null,null,"2011-12-16",0.20899674102536747,0.20085697971893215,0.17680718118993993,6216.0041999999994,12876.023499999996,26862.07739999998,1299.1246199999964,2586.2391909999928,4749.4081859999869]
["2011-12-15",888.0011999999997,187.02066599999949,0.21060857350192722,null,null,null,null,null,null,11.000665999999502,null,null,null,176.01999999999998,null,null,null,null,null,null,null,null,null,null,null,null,null,null,null,null,null,null,null,null,null,null,"2011-12-19",0.20995709753382921,0.20706502457738832,0.18924252220699678,6216.0062999999982,12543.012699999996,26529.070799999983,1305.0946409999965,2597.219232999993,5020.4282699999867]
["2011-12-18",888.00149999999962,188.0106689999995,0.21172336871052536,null,null,null,null,null,null,11.000668999999499,null,null,null,{"$f":"O670+0.01","v":177.01},null,null,null,null,null,null,null,null,null,null,null,null,null,null,null,null,null,null,null,null,null,null,"2011-12-22",0.21076301344766474,0.20979703816081396,{"$f":"AU671/AR671","v":0.19722193053718309},6216.0083999999979,12432.011899999998,{"$f":"SUM(B644:B671)","v":26196.064199999986},1310.1046619999966,2608.1992749999927,{"$f":"SUM(C644:C671)","v":5166.4383539999862}]
["2011-12-19",888.0015999999996,188.02066999999948,0.21173460723494145,null,null,null,null,null,null,11.000669999999499,null,null,null,177.01999999999998,null,null,null,null,null,null,null,null,null,null,null,null,null,null,null,null,null,null,null,null,null,null,"2011-12-23",0.21108313194071687,0.2100399368942111,0.19832954132905603,6216.0090999999984,12432.013299999999,26085.061999999987,1312.0946689999964,2611.2192889999928,5173.4383819999866]
["2011-12-22",888.00189999999952,55.010672999999493,6.1948823532922082E-2,null,null,null,null,null,null,11.000672999999496,null,null,null,{"$f":"O674+0.01","v":44.01},null,null,null,null,null,null,null,null,null,null,null,null,null,null,null,null,null,null,null,null,null,null,"2011-12-26",0.16877458168028991,0.18936583149114725,0.19130272863578837,6216.0111999999972,12432.017499999996,25752.055399999987,1049.1046899999965,2354.199330999993,4926.438465999986]
["2011-12-25",888.00219999999945,41.000675999999494,4.6171818042792599E-2,null,null,null,null,null,null,11.000675999999494,null,null,null,30,null,null,null,null,null,null,null,null,null,null,null,null,null,null,null,null,null,null,null,null,null,null,"2011-12-29",0.10249571232416714,0.15662934154949179,0.17823005831752398,6216.0132999999969,12432.021699999996,25419.048799999986,637.11471099999653,1947.2193729999929,4530.4385499999853]
["2011-12-30",888.00269999999932,41.0506809999995,4.6228103810945095E-2,null,null,null,null,null,null,11.00068099999949,null,null,null,30.050000000000008,null,null,null,null,null,null,null,null,null,null,null,null,null,null,null,null,null,null,null,null,null,null,"2012-01-03",4.8453013511803353E-2,9.7995224464048528E-2,0.15357596866265974,6216.0167999999958,12432.028699999993,24864.037799999991,301.18474599999644,1218.2794429999929,3818.5186899999858]
["2012-01-02",888.00299999999925,41.080683999999501,4.6261875241411947E-2,null,null,null,null,null,null,11.000683999999488,null,null,null,30.080000000000013,null,null,null,null,null,null,null,null,null,null,null,null,null,null,null,null,null,null,null,null,null,null,"2012-01-06",4.6228103810945081E-2,6.2536794364499576E-2,0.13628830749196352,6216.0188999999955,12432.032899999993,24864.04619999999,287.35476699999646,777.45948499999281,3388.6787739999859]
["2012-01-06",888.00339999999915,41.120687999999504,4.6306903779872399E-2,null,null,null,null,null,null,11.000687999999485,null,null,null,30.120000000000019,null,null,null,null,null,null,null,null,null,null,null,null,null,null,null,null,null,null,null,null,null,null,"2012-01-10",4.6273132379830134E-2,4.7363072516224382E-2,0.11309654095312646,6216.0216999999939,12432.038499999991,24864.057399999987,287.63479499999647,588.81954099999302,2812.0388859999857]
["2012-01-07",888.00349999999912,41.130688999999506,4.6318160908149067E-2,null,null,null,null,null,null,11.000688999999484,null,null,null,30.13000000000002,null,null,null,null,null,null,null,null,null,null,null,null,null,null,null,null,null,null,null,null,null,null,"2012-01-11",4.628438951571294E-2,4.6244989529030826E-2,0.10726964512416953,6216.0223999999944,12432.039899999991,24864.060199999985,287.7048019999965,574.91955499999301,2667.158913999986]
["2012-01-13",44.000100000000003,41.190694999999508,0.93615003147718989,null,null,null,null,null,null,11.00069499999948,null,null,null,30.19000000000003,null,null,null,null,null,null,null,null,null,null,null,null,null,null,null,null,null,null,null,null,null,null,"2012-01-17",6.3631550453436034E-2,5.3588745287933601E-2,7.7409118949377798E-2,4528.0185999999958,10744.040299999988,23176.068999999985,288.12484399999653,575.75963899999306,1794.0390819999861]
["2012-01-14",44.000200000000007,41.20069599999951,0.93637519829454197,null,null,null,null,null,null,11.000695999999479,null,null,null,30.200000000000031,null,null,null,null,null,null,null,null,null,null,null,null,null,null,null,null,null,null,null,null,null,null,"2012-01-18",7.8228462026201928E-2,5.817146059958879E-2,7.3761154800004128E-2,3684.0152999999959,9900.0376999999917,22332.067799999983,288.19485099999656,575.89965299999312,1647.2391099999863]
["2012-01-17",44.000500000000017,41.230698999999511,0.93705069260575435,null,null,null,null,null,null,11.000698999999477,null,null,null,30.230000000000036,null,null,null,null,null,null,null,null,null,null,null,null,null,null,null,null,null,null,null,null,null,null,"2012-01-21",0.25035027787195863,7.8218968003915618E-2,6.0951276814546235E-2,1152.0053999999991,7368.0298999999932,19800.064199999983,288.4048719999966,576.31969499999309,1206.8391939999858]
["2012-01-20",44.000800000000027,41.260701999999512,0.93772617770584821,null,null,null,null,null,null,11.000701999999475,null,null,null,30.260000000000041,null,null,null,null,null,null,null,null,null,null,null,null,null,null,null,null,null,null,null,null,null,null,"2012-01-24",0.93705069260575435,0.11925911939070617,6.7497983994797145E-2,308.00350000000014,4836.0220999999956,17268.060599999986,288.61489299999658,576.73973699999306,1165.5592779999863]
["2012-01-25",66,41.310706999999518,0.62591980303029571,null,null,null,null,null,null,11.000706999999471,null,null,null,30.310000000000048,null,null,null,null,null,null,null,null,null,null,null,null,null,null,null,null,null,null,null,null,null,null,"2012-01-29",0.87563617234489133,0.90506700231563486,8.8210766363132312E-2,330.00570000000016,638.0078000000002,13070.053299999992,288.96492799999663,577.43980699999327,1152.9194179999859]
["2012-01-28",66.00030000000001,41.340709999999518,0.62637154679599205,null,null,null,null,null,null,11.000709999999469,null,null,null,30.340000000000053,null,null,null,null,null,null,null,null,null,null,null,null,null,null,null,null,null,null,null,null,null,null,"2012-02-01",0.7302325785175261,0.82081420512064152,0.10880370792061152,396.00390000000016,704.00810000000013,10604.045799999993,289.17494899999667,577.85984899999323,1153.7595019999865]
["2012-02-01",66.000700000000023,41.380713999999529,0.6269738654286926,null,null,null,null,null,null,11.000713999999466,null,null,null,30.380000000000059,null,null,null,null,null,null,null,null,null,null,null,null,null,null,null,null,null,null,null,null,null,null,"2012-02-05",0.6265221271386161,0.73032032484498999,0.15785592711287538,462.00280000000009,792.00850000000014,7316.0357999999942,289.45497699999669,578.41990499999338,1154.8796139999861]
["2012-02-02",66.000800000000027,41.390714999999524,0.62712444394612654,null,null,null,null,null,null,11.000714999999465,null,null,null,30.390000000000061,null,null,null,null,null,null,null,null,null,null,null,null,null,null,null,null,null,null,null,null,null,null,"2012-02-06",0.62667270702493938,0.71075406205781233,0.17788015377130681,462.00350000000014,814.00860000000034,6494.0332999999955,289.52498399999666,578.55991899999322,1155.1596419999862]
["2012-02-08",88,41.450720999999533,0.47103092045454015,null,null,null,null,null,null,11.00072099999946,null,null,null,30.45000000000007,null,null,null,null,null,null,null,null,null,null,null,null,null,null,null,null,null,null,null,null,null,null,"2012-02-12",0.59905217349442874,0.61246768450746736,0.73032037095057922,484.00630000000024,946.00910000000033,1584.0169000000003,289.94502599999669,579.40000299999338,1156.8398099999868]
["2012-02-09",88.000100000000003,41.460721999999535,0.47114403279086653,null,null,null,null,null,null,11.00072199999946,null,null,null,30.460000000000072,null,null,null,null,null,null,null,null,null,null,null,null,null,null,null,null,null,null,null,null,null,null,"2012-02-13",0.5731458960137924,0.59869273646290433,0.71075414937312476,506.00560000000019,968.00910000000033,1628.0170000000003,290.01503299999672,579.54001699999344,1157.1198379999867]
["2012-02-12",88.000400000000013,41.490724999999536,0.47148336825741166,null,null,null,null,null,null,11.000724999999457,null,null,null,30.490000000000077,null,null,null,null,null,null,null,null,null,null,null,null,null,null,null,null,null,null,null,null,null,null,"2012-02-16",0.5073833534235308,0.56088486938847371,0.65792530675691996,572.00350000000014,1034.0091000000002,1760.0173000000004,290.2250539999967,579.96005899999341,1157.9599219999864]
["2012-02-16",88.000800000000027,41.530728999999539,0.47193581194715872,null,null,null,null,null,null,11.000728999999454,null,null,null,30.530000000000083,null,null,null,null,null,null,null,null,null,null,null,null,null,null,null,null,null,null,null,null,null,null,"2012-02-20",0.47159647956545164,0.51739341062384725,0.59869289108254864,616.00350000000003,1122.0091000000002,1936.0177000000008,290.50508199999672,580.52011499999344,1159.0800339999869]
["2012-02-19",444,41.56073199999954,9.360525225225122E-2,null,null,null,null,null,null,11.000731999999452,null,null,null,30.560000000000088,null,null,null,null,null,null,null,null,null,null,null,null,null,null,null,null,null,null,null,null,null,null,"2012-02-23",0.29908822747219449,0.37625462886202238,0.47851156400765454,972.00450000000023,1544.0080000000003,2424.0169000000005,290.71510299999676,580.94015699999352,1159.9201179999866]
["2012-02-23",444.0003999999999,41.600735999999543,9.3695266941199951E-2,null,null,null,null,null,null,11.000735999999449,null,null,null,30.600000000000094,null,null,null,null,null,null,null,null,null,null,null,null,null,null,null,null,null,null,null,null,null,null,"2012-02-27",0.12145024156690162,0.19306074947250898,0.29171751466796719,2396.0028999999995,3012.0063999999993,3980.0155000000004,290.99513099999677,581.50021299999355,1161.0402299999869]
["2012-02-27",444.0007999999998,41.640739999999546,9.3785281467960335E-2,null,null,null,null,null,null,11.000739999999446,null,null,null,30.6400000000001,null,null,null,null,null,null,null,null,null,null,null,null,null,null,null,null,null,null,null,null,null,null,"2012-03-02",9.3717770588095189E-2,0.13121264016770254,0.2116090327984595,3108.0034999999989,4436.0075999999999,5492.0166999999992,291.27515899999679,582.0602689999937,1162.1603419999872]
["2012-03-01",444.00109999999972,41.670742999999547,9.3852792256594805E-2,null,null,null,null,null,null,11.000742999999444,null,null,null,30.670000000000105,null,null,null,null,null,null,null,null,null,null,null,null,null,null,null,null,null,null,null,null,null,null,"2012-03-05",9.3785281467960335E-2,0.1058283814423604,0.17552027419908861,3108.0055999999986,5504.0084999999981,6626.0175999999992,291.48517999999683,582.48031099999366,1163.0004259999869]
["2012-03-03",444.00129999999967,41.690744999999552,9.3897799398334161E-2,null,null,null,null,null,null,11.000744999999442,null,null,null,30.690000000000108,null,null,null,null,null,null,null,null,null,null,null,null,null,null,null,null,null,null,null,null,null,null,"2012-03-07",9.383028867052004E-2,9.3751526039431585E-2,0.1576209175425749,3108.0069999999987,6216.0090999999984,7382.0181999999995,291.62519399999684,582.76033899999356,1163.5604819999871]
["2012-03-06",444.0015999999996,41.720747999999553,9.396531003491787E-2,null,null,null,null,null,null,11.00074799999944,null,null,null,30.720000000000113,null,null,null,null,null,null,null,null,null,null,null,null,null,null,null,null,null,null,null,null,null,null,"2012-03-10",9.3897799398334147E-2,9.3819036873681358E-2,0.13673061935711106,3108.0090999999975,6216.0132999999978,8516.0190999999977,291.83521499999682,583.18038099999353,1164.4005659999873]
["2012-03-09",444.00189999999952,41.750750999999553,9.403282058027139E-2,null,null,null,null,null,null,11.000750999999438,null,null,null,30.750000000000117,null,null,null,null,null,null,null,null,null,null,null,null,null,null,null,null,null,null,null,null,null,null,"2012-03-13",9.396531003491787E-2,9.388654761670058E-2,0.12158156382785298,3108.0111999999972,6216.0174999999963,9584.0241999999962,292.04523599999686,583.60042299999373,1165.2406499999872]
["2012-03-13",444.00229999999942,41.790754999999557,9.4122834498829425E-2,null,null,null,null,null,null,11.000754999999435,null,null,null,30.790000000000123,null,null,null,null,null,null,null,null,null,null,null,null,null,null,null,null,null,null,null,null,null,null,"2012-03-17",9.4055324075115881E-2,9.3976561798812197E-2,0.10595543944234788,3108.0139999999965,6216.023099999994,11008.030999999994,292.32526399999688,584.16047899999364,1166.3607619999875]
["2012-03-16",444.00259999999935,41.820757999999557,9.4190344831313194E-2,null,null,null,null,null,null,11.000757999999433,null,null,null,30.820000000000128,null,null,null,null,null,null,null,null,null,null,null,null,null,null,null,null,null,null,null,null,null,null,"2012-03-20",9.4122834498829439E-2,9.4044072328960698E-2,9.665430248258268E-2,3108.0160999999957,6216.0272999999943,12076.036099999994,292.53528499999692,584.58052099999372,1167.2008459999875]
["2012-03-20",444.00299999999925,41.860761999999568,9.4280358466045586E-2,null,null,null,null,null,null,11.00076199999943,null,null,null,30.860000000000134,null,null,null,null,null,null,null,null,null,null,null,null,null,null,null,null,null,null,null,null,null,null,"2012-03-24",9.4212848255201209E-2,9.4134086227245437E-2,9.3976561798812197E-2,3108.018899999995,6216.0328999999929,12432.046199999988,292.81531299999693,585.14057699999387,1168.3209579999873]
["2012-03-24",444.00339999999915,41.900765999999564,9.4370371938592462E-2,null,null,null,null,null,null,11.000765999999427,null,null,null,30.900000000000141,null,null,null,null,null,null,null,null,null,null,null,null,null,null,null,null,null,null,null,null,null,null,"2012-03-28",9.4302861849387173E-2,9.4224099963343952E-2,9.4066575818736897E-2,3108.0216999999943,6216.0384999999915,12432.057399999987,293.09534099999695,585.70063299999379,1169.4410699999878]
["2012-03-27",444.00369999999907,41.930768999999572,{"$f":"C771/B771","v":9.4437881936568685E-2},null,null,null,null,null,null,11.000768999999424,null,null,null,30.930000000000145,null,null,null,null,null,null,null,null,null,null,null,null,null,null,null,null,null,null,null,null,null,null,"2012-03-31",9.4370371938592462E-2,9.4291610158983449E-2,9.4134086227245437E-2,3108.0237999999945,6216.04269999999,12432.065799999984,293.30536199999699,586.12067499999398,1170.2811539999875]
["2012-03-29",{"$f":"B772+0.0001","v":666.00009999999997},41.95077099999957,6.2989136187816749E-2,null,null,null,null,null,null,11.000770999999423,null,null,null,30.950000000000149,null,null,null,null,null,null,null,null,null,null,null,null,null,null,null,null,null,null,null,null,null,null,"2012-04-02",8.2613716778880089E-2,8.8047652551646108E-2,9.0931609860459756E-2,3552.0175999999956,6660.0378999999912,12876.063799999985,293.445375999997,586.400702999994,1170.8412099999875]
["2012-04-01",666.0003999999999,41.98077399999957,6.3034157336841798E-2,null,null,null,null,null,null,11.000773999999421,null,null,null,30.980000000000153,null,null,null,null,null,null,null,null,null,null,null,null,null,null,null,null,null,null,null,null,null,null,"2012-04-05",6.9619445035230779E-2,8.0100776126967976E-2,8.6521638863118172E-2,4218.0082999999977,7326.030699999993,13542.060799999985,293.65539699999704,586.82074499999396,1171.6812939999879]
["2012-04-04",666.00069999999982,42.010776999999578,6.3079178445307318E-2,null,null,null,null,null,null,11.000776999999418,null,null,null,31.010000000000158,null,null,null,null,null,null,null,null,null,null,null,null,null,null,null,null,null,null,null,null,null,null,"2012-04-08",6.3034157336841812E-2,7.347836089320739E-2,8.252509910256621E-2,4662.0027999999993,7992.0234999999948,14208.057799999986,293.86541799999702,587.24078699999404,1172.5213779999876]
["2012-04-08",666.00109999999972,42.050780999999581,6.3139206526835467E-2,null,null,null,null,null,null,11.000780999999415,null,null,null,31.050000000000164,null,null,null,null,null,null,null,null,null,null,null,null,null,null,null,null,null,null,null,null,null,null,"2012-04-12",6.3094185472449271E-2,6.6193685012136558E-2,7.7744919669005735E-2,4662.0055999999986,8880.0138999999963,15096.053799999989,294.14544599999704,587.80084299999407,1173.6414899999879]
["2012-04-11",666.00139999999965,101.00078399999941,0.15165251003976787,null,null,null,null,null,null,11.000783999999413,null,null,null,90,null,null,null,null,null,null,null,null,null,null,null,null,null,null,null,null,null,null,null,null,null,null,"2012-04-15",7.5777538291066524E-2,6.9405851162436388E-2,7.8251338588503278E-2,4662.0076999999983,9324.0104999999967,15762.050799999988,353.27546699999687,647.14088499999389,1233.4015739999879]
["2012-04-15",666.00179999999955,91.030787999999433,0.13668249545271424,null,null,null,null,null,null,11.00078799999941,null,null,null,80.030000000000015,null,null,null,null,null,null,null,null,null,null,null,null,null,null,null,null,null,null,null,null,null,null,"2012-04-19",0.11780228615958645,9.0448250191244681E-2,8.5895355321162714E-2,4662.0104999999967,9324.0160999999971,16650.046799999989,549.1954949999963,843.34094099999322,1430.1616859999872]
["2012-04-19",666.00219999999945,91.070791999999443,0.13674247922904686,null,null,null,null,null,null,11.000791999999407,null,null,null,80.070000000000036,null,null,null,null,null,null,null,null,null,null,null,null,null,null,null,null,null,null,null,null,null,null,"2012-04-23",0.13669749140355231,0.11149062394395687,9.2765299785902436E-2,4662.0132999999969,9324.0216999999939,17538.042799999988,637.28552299999603,1039.5409969999928,1626.9217979999867]
["2012-04-22",666.00249999999937,91.100794999999451,0.13678746701401201,null,null,null,null,null,null,11.000794999999405,null,null,null,80.100000000000051,null,null,null,null,null,null,null,null,null,null,null,null,null,null,null,null,null,null,null,null,null,null,"2012-04-26",0.13674247922904686,0.12727238767108029,9.7477917072010978E-2,4662.0153999999966,9324.0258999999933,18204.039799999988,637.49554399999613,1186.6910389999923,1774.4918819999862]
["2012-04-23",666.00259999999935,91.110795999999453,0.13680246293332721,null,null,null,null,null,null,11.000795999999404,null,null,null,80.110000000000056,null,null,null,null,null,null,null,null,null,null,null,null,null,null,null,null,null,null,null,null,null,null,"2012-04-27",0.13675747516187187,0.13253297242061837,9.8973085305778641E-2,4662.0160999999953,9324.0272999999943,18426.038799999991,637.56555099999616,1235.741052999992,1823.6819099999861]
["2012-04-28",666.00309999999922,91.160800999999481,0.13687744246235428,null,null,null,null,null,null,11.000800999999401,null,null,null,80.160000000000082,null,null,null,null,null,null,null,null,null,null,null,null,null,null,null,null,null,null,null,null,null,null,"2012-05-02",0.1368324547584478,0.13677996905266571,0.11098383804117991,4662.0195999999951,9324.0342999999921,18648.048999999988,637.91558599999621,1275.3411229999924,2069.6320499999856]
["2012-04-30",666.00329999999917,91.180802999999486,0.13690743424244234,null,null,null,null,null,null,11.000802999999399,null,null,null,80.180000000000092,null,null,null,null,null,null,null,null,null,null,null,null,null,null,null,null,null,null,null,null,null,null,"2012-05-04",0.13686244656555538,0.1368099608912961,0.11625942504479726,4662.0209999999952,9324.0370999999886,18648.054599999989,638.05559999999639,1275.6211509999923,2168.0121059999856]
["2012-05-04",666.00369999999907,91.22080699999951,0.13696741774857954,null,null,null,null,null,null,11.000806999999396,null,null,null,80.220000000000113,null,null,null,null,null,null,null,null,null,null,null,null,null,null,null,null,null,null,null,null,null,null,"2012-05-08",0.13692243012573149,0.13686994451451776,0.1268105895465034,4662.0237999999945,9324.0426999999891,18648.065799999982,638.3356279999964,1276.1812069999928,2364.7722179999855]
["2012-05-07",666.003999999999,91.250809999999518,0.1370124053308984,null,null,null,null,null,null,11.000809999999394,null,null,null,80.250000000000128,null,null,null,null,null,null,null,null,null,null,null,null,null,null,null,null,null,null,null,null,null,null,"2012-05-11",0.13696741774857954,0.13691493218464978,0.13472395460545666,4662.0258999999933,9324.0468999999903,18648.074199999981,638.54564899999662,1276.6012489999928,2512.342301999985]
["2012-05-11",666.0043999999989,91.290813999999543,0.13707238871094499,null,null,null,null,null,null,11.000813999999391,null,null,null,80.290000000000148,null,null,null,null,null,null,null,null,null,null,null,null,null,null,null,null,null,null,null,null,null,null,"2012-05-15",0.13702740118266488,0.13697491568178055,0.13686994451451773,4662.0286999999926,9324.052499999987,18648.085399999978,638.82567699999663,1277.1613049999933,2552.3624139999852]
["2012-05-15",666.0047999999988,91.330817999999553,0.13713237201893999,null,null,null,null,null,null,11.000817999999388,null,null,null,80.330000000000169,null,null,null,null,null,null,null,null,null,null,null,null,null,null,null,null,null,null,null,null,null,null,"2012-05-19",0.13708738454469857,0.1370348991068594,0.13692992806568732,4662.0314999999919,9324.0580999999875,18648.096599999979,639.10570499999676,1277.7213609999933,2553.4825259999857]
["2012-05-18",666.00509999999872,91.360820999999575,0.13717735945265247,null,null,null,null,null,null,11.000820999999386,null,null,null,80.360000000000184,null,null,null,null,null,null,null,null,null,null,null,null,null,null,null,null,null,null,null,null,null,null,"2012-05-22",0.13713237201893999,0.13707988662838469,0.13697491568178055,4662.0335999999916,9324.062299999985,18648.104999999974,639.31572599999686,1278.1414029999937,2554.3226099999865]
["2012-05-19",888,91.370821999999578,0.10289506981981934,null,null,null,null,null,null,11.000821999999385,null,null,null,80.370000000000189,null,null,null,null,null,null,null,null,null,null,null,null,null,null,null,null,null,null,null,null,null,null,"2012-05-23",0.13091357973276568,0.1339067235969689,0.13537831203948991,4884.0290999999925,9546.0584999999865,18870.102599999973,639.38573299999689,1278.2814169999938,2554.6026379999862]
["2012-05-24",888.00049999999987,91.420826999999591,0.10295132378866859,null,null,null,null,null,null,11.000826999999381,null,null,null,80.420000000000215,null,null,null,null,null,null,null,null,null,null,null,null,null,null,null,null,null,null,null,null,null,null,"2012-05-28",0.10672923983767338,0.1200240940360624,0.12792748687535929,5994.0065999999988,10656.03949999999,19980.090599999978,639.73576799999705,1278.9814869999941,2556.0027779999868]
["2012-05-26",888.00069999999982,91.44082899999961,0.10297382535847058,null,null,null,null,null,null,11.00082899999938,null,null,null,80.440000000000225,null,null,null,null,null,null,null,null,null,null,null,null,null,null,null,null,null,null,null,null,null,null,"2012-05-30",0.10294007299996666,0.11524845392561395,0.12517391764971875,6216.0027999999993,11100.031899999993,20424.085799999979,639.87578199999712,1279.2615149999942,2556.5628339999876]
["2012-05-30",888.00109999999972,91.48083299999962,{"$f":"C835/B835","v":0.10301882846766704},null,null,null,null,null,null,11.000832999999377,null,null,null,80.480000000000246,null,null,null,null,null,null,null,null,null,null,null,null,null,null,null,null,null,null,null,null,null,null,"2012-06-03",0.10298507613957063,0.10675840741863452,0.12001097039996457,6216.0055999999986,11988.016699999996,21312.076199999985,640.15580999999725,1279.821570999994,2557.6829459999876]
["2012-06-02",888.00139999999965,91.510835999999642,0.10305258077295788,null,null,null,null,null,null,11.000835999999374,null,null,null,80.510000000000261,null,null,null,null,null,null,null,null,null,null,null,null,null,null,null,null,null,null,null,null,null,null,"2012-06-06",0.10301882846766704,0.10297945074933736,0.11641254880035137,6216.0076999999983,12432.010499999999,21978.068999999985,640.36583099999734,1280.2416129999947,2558.523029999988]
["2012-06-06",888.00179999999955,91.550839999999653,0.10309758381120365,null,null,null,null,null,null,11.000839999999371,null,null,null,80.550000000000281,null,null,null,null,null,null,null,null,null,null,null,null,null,null,null,null,null,null,null,null,null,null,"2012-06-10",{"$f":"AS842/AP842","v":0.10306383153632025},0.10302445385346587,0.11194071952773767,{"$f":"SUM(B836:B842)","v":6216.0104999999967},12432.016099999997,22866.059399999987,{"$f":"SUM(C836:C842)","v":640.64585899999747},1280.8016689999945,2559.6431419999881]
["2012-06-10",888.00219999999945,91.590843999999663,0.10314258680890624,null,null,null,null,null,null,11.000843999999368,null,null,null,80.590000000000302,null,null,null,null,null,null,null,null,null,null,null,null,null,null,null,null,null,null,null,null,null,null,"2012-06-14",0.10310883456443022,0.1030694569170512,0.10780322831519833,6216.0132999999969,12432.021699999996,23754.049799999986,640.9258869999976,1281.3617249999952,2560.7632539999895]
["2012-06-13",888.00249999999937,91.620846999999685,0.10317633903057677,null,null,null,null,null,null,11.000846999999366,null,null,null,80.620000000000317,null,null,null,null,null,null,null,null,null,null,null,null,null,null,null,null,null,null,null,null,null,null,"2012-06-17",0.10314258680890624,{"$f":"AT849/AQ849","v":0.10310320918813368},0.10489757859799927,6216.0153999999966,{"$f":"SUM(B836:B849)","v":12432.025899999991},24420.04259999999,641.1359079999977,{"$f":"SUM(C836:C849)","v":1281.7817669999949},2561.6033379999894]
["2012-06-14",777,91.630847999999688,0.11792901930501891,null,null,null,null,null,null,11.000847999999365,null,null,null,80.630000000000322,null,null,null,null,null,null,null,null,null,null,null,null,null,null,null,null,null,null,null,null,null,null,"2012-06-18",0.10502940165488546,0.10404343893572389,0.10443436628216617,6105.0134999999964,12321.024699999994,24531.037599999992,641.20591499999773,1281.9217809999952,2561.8833659999896]
["2012-06-17",777.00029999999992,91.660850999999695,0.11796758765730168,null,null,null,null,null,null,11.000850999999363,null,null,null,80.660000000000338,null,null,null,null,null,null,null,null,null,null,null,null,null,null,null,null,null,null,null,null,null,null,"2012-06-21",0.11112527186813539,0.10696859909597557,0.104943488405605,5772.0077999999976,11988.021099999994,24420.032999999992,641.41593599999783,1282.3418229999954,2562.7234499999904]
["2012-06-23",777.00089999999977,91.720856999999725,0.11804472427251983,null,null,null,null,null,null,11.000856999999359,null,null,null,80.720000000000368,null,null,null,null,null,null,null,null,null,null,null,null,null,null,null,null,null,null,null,null,null,null,"2012-06-27",0.11800615597980196,0.11333512909748293,0.10795655156545968,5439.0041999999994,11322.013899999996,23754.034199999987,641.83597799999791,1283.1819069999958,2564.4036179999912]
["2012-06-25",777.00109999999972,91.74085899999973,0.11807043645111927,null,null,null,null,null,null,11.000858999999357,null,null,null,80.740000000000379,null,null,null,null,null,null,null,null,null,null,null,null,null,null,null,null,null,null,null,null,null,null,"2012-06-29",0.11803186817825638,0.11562708155752777,0.10899880599359611,5439.0055999999986,11100.011499999999,23532.034599999995,641.97599199999809,1283.4619349999959,2564.9636739999905]
["2012-06-28",777.00139999999965,91.770861999999752,0.11810900469419977,null,null,null,null,null,null,11.000861999999355,null,null,null,80.770000000000394,null,null,null,null,null,null,null,null,null,null,null,null,null,null,null,null,null,null,null,null,null,null,"2012-07-02",0.11807043645111925,0.11802544012988371,0.11059958898635541,5439.0076999999983,10878.010499999999,23199.035199999998,642.18601299999807,1283.8819769999961,2565.8037579999914]
["2012-07-02",777.00179999999955,91.810865999999763,0.11816042897197898,null,null,null,null,null,null,11.000865999999352,null,null,null,80.810000000000414,null,null,null,null,null,null,null,null,null,null,null,null,null,null,null,null,null,null,null,null,null,null,"2012-07-06",0.11812186076860831,0.1180768644937009,0.11280684724032046,5439.0104999999967,10878.016099999997,22755.035999999993,642.46604099999831,1284.4420329999964,2566.9238699999919]
["2012-07-06",777.00219999999945,91.850869999999787,0.11821185319681186,null,null,null,null,null,null,11.000869999999349,null,null,null,80.850000000000435,null,null,null,null,null,null,null,null,null,null,null,null,null,null,null,null,null,null,null,null,null,null,"2012-07-10",0.1181732850331509,0.11812828880457162,0.11510195626587795,5439.0132999999969,10878.021699999996,22311.036799999991,642.74606899999833,1285.0020889999967,2568.0439819999924]
["2012-07-09",777.00249999999937,91.880872999999795,0.11825042133069052,null,null,null,null,null,null,11.000872999999347,null,null,null,80.88000000000045,null,null,null,null,null,null,null,null,null,null,null,null,null,null,null,null,null,null,null,null,null,null,"2012-07-13",0.11821185319681186,0.1181668570029786,0.11688414298539659,5439.0153999999966,10878.025899999993,21978.03739999999,642.95608999999854,1285.4221309999969,2568.8840659999928]
["2012-07-10",777.00259999999935,91.890873999999798,0.11826327736869847,null,null,null,null,null,null,11.000873999999346,null,null,null,80.890000000000455,null,null,null,null,null,null,null,null,null,null,null,null,null,null,null,null,null,null,null,null,null,null,"2012-07-14",0.11822470924474725,0.11817971306249593,0.11749026736022045,5439.0160999999953,10878.027299999994,21867.037599999992,643.02609699999857,1285.5621449999967,2569.1640939999925]
["2012-07-13",777.00289999999927,91.92087699999982,0.11830184546286752,null,null,null,null,null,null,11.000876999999344,null,null,null,80.920000000000471,null,null,null,null,null,null,null,null,null,null,null,null,null,null,null,null,null,null,null,null,null,null,"2012-07-17",0.11826327736869846,0.11821828122119314,0.11812828880457162,5439.0181999999959,10878.031499999994,21756.043399999991,643.23611799999856,1285.9821869999967,2570.0041779999933]
["2012-07-19",777.00349999999912,91.980882999999835,0.11837898156185904,null,null,null,null,null,null,11.000882999999339,null,null,null,80.980000000000501,null,null,null,null,null,null,null,null,null,null,null,null,null,null,null,null,null,null,null,null,null,null,"2012-07-23",0.11834041352725434,0.11829541744924088,0.11820542517160323,5439.0223999999944,10878.039899999989,21756.060199999985,643.65615999999875,1286.8222709999973,2571.6843459999936]
["2012-07-21",777.00369999999907,92.000884999999855,0.11840469356838322,null,null,null,null,null,null,11.000884999999338,null,null,null,81.000000000000512,null,null,null,null,null,null,null,null,null,null,null,null,null,null,null,null,null,null,null,null,null,null,"2012-07-25",0.11836612555363325,0.11832112949878372,0.11823113726747396,5439.0237999999945,10878.042699999989,21756.065799999986,643.79617399999881,1287.1022989999976,2572.2444019999939]
["2012-07-24",777.003999999999,92.030887999999862,0.11844326155335105,null,null,null,null,null,null,11.000887999999335,null,null,null,81.030000000000527,null,null,null,null,null,null,null,null,null,null,null,null,null,null,null,null,null,null,null,null,null,null,"2012-07-28",0.11840469356838321,0.11835969754827946,0.11826970538646152,5439.0258999999942,10878.046899999988,21756.074199999981,644.00619499999902,1287.5223409999976,2573.0844859999943]
["2012-07-28",777.0043999999989,92.070891999999873,0.11849468548698051,null,null,null,null,null,null,11.000891999999332,null,null,null,81.070000000000547,null,null,null,null,null,null,null,null,null,null,null,null,null,null,null,null,null,null,null,null,null,null,"2012-08-01",0.11845611754172207,0.11841112156794606,0.11832112949878368,5439.0286999999935,10878.052499999987,21756.085399999985,644.28622299999904,1288.0823969999981,2574.2045979999953]
["2012-08-01",777.0047999999988,{"$f":"SUM(K898:Q898)","v":92.110895999999897},0.11854610936766419,null,null,null,null,null,null,11.000895999999329,null,null,null,81.110000000000568,null,null,null,null,null,null,null,null,null,null,null,null,null,null,null,null,null,null,null,null,null,null,"2012-08-05",0.11850754146211509,0.11846254553466669,0.11837255355815977,5439.0314999999928,10878.058099999986,21756.096599999979,644.56625099999917,1288.6424529999981,2575.3247099999953]
["2012-08-04",777.00509999999872,92.140898999999905,0.11858467724343129,null,null,null,null,null,null,11.000898999999327,null,null,null,81.140000000000583,null,null,null,null,null,null,null,null,null,null,null,null,null,null,null,null,null,null,null,null,null,null,"2012-08-08",0.11854610936766419,0.11850111347496148,0.11841112156794605,5439.0335999999916,10878.062299999983,21756.104999999974,644.77627199999927,1289.0624949999985,2576.1647939999957]
["2012-08-05",777.00519999999869,92.150899999999922,0.11859753319540214,null,null,null,null,null,null,11.000899999999326,null,null,null,81.150000000000588,null,null,null,null,null,null,null,null,null,null,null,null,null,null,null,null,null,null,null,null,null,null,"2012-08-09",0.11855896532956234,0.1185139694484415,0.11842397756458989,5439.0342999999921,10878.063699999984,21756.107799999976,644.84627899999941,1289.2025089999986,2576.4448219999963]
["2012-08-08",777.00549999999862,92.18090299999993,0.11863610103146,null,null,null,null,null,null,11.000902999999324,null,null,null,81.180000000000604,null,null,null,null,null,null,null,null,null,null,null,null,null,null,null,null,null,null,null,null,null,null,"2012-08-12",0.11859753319540213,0.11855253734902688,0.11846254553466669,5439.0363999999909,10878.067899999985,21756.116199999971,645.0562999999994,1289.6225509999986,2577.2849059999962]
["2012-08-12",777.00589999999852,92.22090699999994,0.11868752476654311,null,null,null,null,null,null,11.000906999999321,null,null,null,81.220000000000624,null,null,null,null,null,null,null,null,null,null,null,null,null,null,null,null,null,null,null,null,null,null,"2012-08-16",0.11864895697019442,0.11860396117014664,0.1185139694484415,5439.0391999999902,10878.073499999982,21756.127399999968,645.33632799999953,1290.1826069999991,2578.4050179999972]
["2012-08-14",777.00609999999847,92.240908999999959,0.11871323661423011,null,null,null,null,null,null,11.00090899999932,null,null,null,81.240000000000634,null,null,null,null,null,null,null,null,null,null,null,null,null,null,null,null,null,null,null,null,null,null,"2012-08-18",0.11867466883773597,0.11862967306085186,0.1185396813854742,5439.0405999999903,10878.076299999982,21756.132999999969,645.47634199999959,1290.462634999999,2578.9650739999975]
["2012-08-19",777.00659999999834,92.290913999999972,0.1187775161755385,null,null,null,null,null,null,11.000913999999316,null,null,null,81.29000000000066,null,null,null,null,null,null,null,null,null,null,null,null,null,null,null,null,null,null,null,null,null,null,"2012-08-23",0.11873894844868073,0.11869395272970576,0.11860396117014664,5439.0440999999882,10878.08329999998,21756.146999999964,645.82637699999964,1291.1627049999993,2580.3652139999981]
["2012-08-23",999,92.330917999999997,9.2423341341341336E-2,null,null,null,null,null,null,11.000917999999313,null,null,null,81.33000000000068,null,null,null,null,null,null,null,null,null,null,null,null,null,null,null,null,null,null,null,null,null,null,"2012-08-27",0.11413210583447769,0.11637056128387681,0.1174568917334595,5661.0398999999898,11100.081899999981,21978.15119999996,646.10640499999988,1291.7227609999995,2581.4853259999982]
["2012-08-26",999.00029999999992,92.360921000000005,9.245334661060664E-2,null,null,null,null,null,null,11.000920999999311,null,null,null,81.360000000000696,null,null,null,null,null,null,null,null,null,null,null,null,null,null,null,null,null,null,null,null,null,null,"2012-08-30",0.10215177506128087,0.10981945042952394,0.11403946317481041,6327.0209999999952,11766.065099999982,22644.138599999966,646.31642599999986,1292.1428029999997,2582.325409999999]
["2012-08-27",999.0003999999999,92.370922000000007,9.2463348363023695E-2,null,null,null,null,null,null,11.00092199999931,null,null,null,81.370000000000701,null,null,null,null,null,null,null,null,null,null,null,null,null,null,null,null,null,null,null,null,null,null,"2012-08-31",9.869979876514863E-2,0.10779749775182559,0.11294455778235971,6549.014699999997,11988.059499999985,22866.134399999966,646.3864329999999,1292.2828169999998,2582.6054379999991]
["2012-08-31",999.0007999999998,92.410926000000032,9.2503355352668432E-2,null,null,null,null,null,null,11.000925999999307,null,null,null,81.410000000000721,null,null,null,null,null,null,null,null,null,null,null,null,null,null,null,null,null,null,null,null,null,null,"2012-09-04",9.2473350113438393E-2,0.10040689250576958,0.10876958654107205,6993.0034999999998,12876.03709999999,23754.117599999969,646.66646100000003,1292.8428730000001,2583.7255499999992]
["2012-09-03",999.00109999999972,92.44092900000004,9.2533360573877316E-2,null,null,null,null,null,null,11.000928999999305,null,null,null,81.440000000000737,null,null,null,null,null,null,null,null,null,null,null,null,null,null,null,null,null,null,null,null,null,null,"2012-09-07",9.2503355352668418E-2,9.5499998253584115E-2,0.10583761347463502,6993.0055999999986,13542.020299999996,24420.104999999978,646.87648200000012,1293.2629150000002,2584.5656339999996]
["2012-09-07",999.00149999999962,92.480933000000064,9.2573367507456289E-2,null,null,null,null,null,null,11.000932999999302,null,null,null,81.480000000000757,null,null,null,null,null,null,null,null,null,null,null,null,null,null,null,null,null,null,null,null,null,null,"2012-09-11",9.2543362310275573E-2,9.250835622412136E-2,0.10216835525332184,6993.0083999999979,13986.011899999998,25308.088199999976,647.15651000000025,1293.8229710000003,2585.6857460000001]
["2012-09-09",999.00169999999957,92.500935000000069,9.2593370962231705E-2,null,null,null,null,null,null,11.0009349999993,null,null,null,81.500000000000767,null,null,null,null,null,null,null,null,null,null,null,null,null,null,null,null,null,null,null,null,null,null,"2012-09-13",9.2563365777065046E-2,9.2528359704927315E-2,0.10042861866248186,6993.009799999998,13986.014699999994,25752.079799999981,647.29652400000032,1294.1029990000006,2586.2458020000004]
["2012-09-14",999.00219999999945,92.550940000000082,9.2643379564129227E-2,null,null,null,null,null,null,11.000939999999297,null,null,null,81.550000000000793,null,null,null,null,null,null,null,null,null,null,null,null,null,null,null,null,null,null,null,null,null,null,"2012-09-18",9.2613374408997737E-2,9.257836837190099E-2,9.6330886670533328E-2,6993.0132999999969,13986.021699999996,26862.058799999984,647.64655900000048,1294.8030690000005,2587.645942000001]
["2012-09-18",999.00259999999935,92.590944000000107,9.2683386409605106E-2,null,null,null,null,null,null,11.000943999999294,null,null,null,81.590000000000813,null,null,null,null,null,null,null,null,null,null,null,null,null,null,null,null,null,null,null,null,null,null,"2012-09-22",9.2653381278501729E-2,9.2618375269437794E-2,9.3288725617064014E-2,6993.0160999999953,13986.027299999992,27750.04199999999,647.92658700000072,1295.3631250000012,2588.7660540000015]
["2012-09-21",999.00289999999927,92.620947000000115,9.2713391522687455E-2,null,null,null,null,null,null,11.000946999999291,null,null,null,81.620000000000829,null,null,null,null,null,null,null,null,null,null,null,null,null,null,null,null,null,null,null,null,null,null,"2012-09-25",9.2683386409605092E-2,9.2648380421565729E-2,9.2578368371901018E-2,6993.0181999999959,13986.031499999994,27972.043399999991,648.13660800000071,1295.783167000001,2589.6061380000019]
["2012-09-22",999.00299999999925,92.630948000000132,9.2723393223043571E-2,null,null,null,null,null,null,11.000947999999291,null,null,null,81.630000000000834,null,null,null,null,null,null,null,null,null,null,null,null,null,null,null,null,null,null,null,null,null,null,"2012-09-26",9.2693388115968223E-2,9.2658382134937073E-2,9.2588370099288733E-2,6993.0188999999955,13986.032899999993,27972.04619999999,648.20661500000074,1295.9231810000015,2589.886166000002]
["2012-09-26",999.00339999999915,92.670952000000142,9.2763400004444649E-2,null,null,null,null,null,null,11.000951999999288,null,null,null,81.670000000000854,null,null,null,null,null,null,null,null,null,null,null,null,null,null,null,null,null,null,null,null,null,null,"2012-09-30",9.2733394921397358E-2,9.2698388968398909E-2,9.2628376988816111E-2,6993.0216999999939,13986.03849999999,27972.057399999987,648.48664300000098,1296.4832370000015,2591.0062780000021]
["2012-09-29",999.00369999999907,92.70095500000015,9.2793405069470952E-2,null,null,null,null,null,null,11.000954999999285,null,null,null,81.70000000000087,null,null,null,null,null,null,null,null,null,null,null,null,null,null,null,null,null,null,null,null,null,null,"2012-10-03",9.2763400004444635E-2,9.2728394072470757E-2,9.2658382134937059E-2,6993.0237999999945,13986.042699999989,27972.065799999986,648.69666400000096,1296.9032790000019,2591.8463620000025]
["2012-10-03",999.00409999999897,92.740959000000174,9.2833411794806711E-2,null,null,null,null,null,null,11.000958999999282,null,null,null,81.74000000000089,null,null,null,null,null,null,null,null,null,null,null,null,null,null,null,null,null,null,null,null,null,null,"2012-10-07",9.2803406753808382E-2,9.2768400849867164E-2,9.2698388968398895E-2,6993.0265999999938,13986.048299999988,27972.076999999983,648.97669200000109,1297.463335000002,2592.966474000003]
["2012-10-06",{"$f":"B963+0.0001","v":999.0043999999989},92.770962000000182,9.2863416817784067E-2,null,null,null,null,null,null,{"$f":"K963+0.000001","v":11.00096199999928},null,null,null,{"$f":"O963+0.01","v":81.770000000000906},null,null,null,null,null,null,null,null,null,null,null,null,null,null,null,null,null,null,null,null,null,null,"2012-10-10",9.2833411794806711E-2,9.2798405911889981E-2,9.2728394072470743E-2,6993.0286999999926,13986.052499999987,27972.085399999978,649.18671300000119,1297.8833770000024,2593.8065580000034]
["2012-10-09",999.00469999999882,61.010964999999274,6.1071749712488188E-2,null,null,null,null,null,null,11.000964999999278,null,null,null,{"$f":"O966+0.01","v":50.01},null,null,null,null,null,null,null,null,null,null,null,null,null,null,null,null,null,null,null,null,null,null,"2012-10-13",8.3771507770278961E-2,8.8282454839468949E-2,9.0485419507638179E-2,6993.0307999999923,13986.056699999986,27972.093799999973,585.81673399999943,1234.7234190000008,2531.0666420000025]
["2012-10-14",1233.0001,61.060969999999259,4.9522274977917079E-2,null,null,null,null,null,null,11.000969999999274,null,null,null,50.059999999999988,null,null,null,null,null,null,null,null,null,null,null,null,null,null,null,null,null,null,null,null,null,null,"2012-10-18",5.7259802846635385E-2,7.4475543417629991E-2,8.3456703116236847E-2,7461.0240999999942,14454.053499999987,28440.097599999979,427.21676899999488,1076.4734889999959,2373.5167819999983]
["2012-10-17",1233.0003999999999,61.090972999999252,4.9546596254144974E-2,null,null,null,null,null,null,11.000972999999272,null,null,null,50.089999999999982,null,null,null,null,null,null,null,null,null,null,null,null,null,null,null,null,null,null,null,null,null,null,"2012-10-21",5.2361413605364053E-2,6.4761202502309823E-2,7.8202586405374044E-2,8163.0108999999966,15156.042399999991,29142.090699999979,427.42678999999487,981.52353099999323,2278.9868659999956]
["2012-10-18",1233.0004999999999,61.100973999999255,4.9554703343590904E-2,null,null,null,null,null,null,11.000973999999271,null,null,null,50.09999999999998,null,null,null,null,null,null,null,null,null,null,null,null,null,null,null,null,null,null,null,null,null,null,"2012-10-22",5.0910618802068916E-2,6.1720023160175219E-2,7.6507016979156295E-2,8397.0064999999977,15390.038699999992,29376.088399999975,427.49679699999479,949.87354499999242,2247.4768939999944]
["2012-10-22",1233.0008999999998,61.140977999999237,4.9587131688224435E-2,null,null,null,null,null,null,11.000977999999268,null,null,null,50.139999999999972,null,null,null,null,null,null,null,null,null,null,null,null,null,null,null,null,null,null,null,null,null,null,"2012-10-26",4.956281043172181E-2,5.2374271055672654E-2,6.9986522270633053E-2,8631.0041999999994,16326.023899999993,30312.079199999978,427.77682499999474,855.0636009999896,2121.4370059999915]
["2012-10-25",1233.0011999999997,61.17098099999923,4.961145293289191E-2,null,null,null,null,null,null,11.000980999999266,null,null,null,50.169999999999966,null,null,null,null,null,null,null,null,null,null,null,null,null,null,null,null,null,null,null,null,null,null,"2012-10-29",4.9587131688224442E-2,5.0239781532228439E-2,6.5354432349085279E-2,8631.0062999999973,17028.012799999997,31014.072299999982,427.98684599999467,855.48364299998934,2026.9070899999883]
["2012-10-29",{"$f":"B986+0.01","v":900.01},61.210984999999219,6.8011449872778323E-2,null,null,null,null,null,null,11.000984999999263,null,null,null,50.209999999999958,null,null,null,null,null,null,null,null,null,null,null,null,null,null,null,null,null,null,null,null,null,null,"2012-11-02",5.611452499055683E-2,5.2637441395566087E-2,6.1415236629341632E-2,7632.0145999999995,16263.0188,30951.068599999981,428.26687399999457,856.04369899998949,1900.8672019999844]
["2012-11-01",900.04,61.240987999999213,6.8042518110305331E-2,null,null,null,null,null,null,11.000987999999261,null,null,null,50.239999999999952,null,null,null,null,null,null,null,null,null,null,null,null,null,null,null,null,null,null,null,null,null,null,"2012-11-05",6.4596766372314346E-2,5.6109650393187049E-2,5.8926360836216864E-2,6633.1013000000003,15264.107599999999,30654.146299999993,428.47689499999456,856.46374099998934,1806.3372859999818]
["2012-11-04",900.06999999999994,61.270990999999206,6.8073584276777593E-2,null,null,null,null,null,null,11.000990999999258,null,null,null,50.269999999999946,null,null,null,null,null,null,null,null,null,null,null,null,null,null,null,null,null,null,null,null,null,null,"2012-11-08",6.8042518110305344E-2,6.006776261155021E-2,5.6388632431372161E-2,6300.2799999999988,14265.285499999996,30357.313099999992,428.68691599999448,856.88378299998908,1711.8073699999786]
["2012-11-09",900.11999999999989,61.320995999999191,6.8125356619116562E-2,null,null,null,null,null,null,11.000995999999255,null,null,null,50.319999999999936,null,null,null,null,null,null,null,null,null,null,null,null,null,null,null,null,null,null,null,null,null,null,"2012-11-13",6.8094293903942046E-2,6.8057997441427334E-2,5.7369306807312871E-2,6300.6299999999992,12600.780000000002,29862.789099999995,429.03695099999436,857.58385299998895,1713.2075099999784]
["2012-11-12",{"$f":"B1000+0.01","v":900.14999999999986},61.350998999999184,6.8156417263788474E-2,null,null,null,null,null,null,11.000998999999252,null,null,null,50.34999999999993,null,null,null,null,null,null,null,null,null,null,null,null,null,null,null,null,null,null,null,null,null,null,"2012-11-16",6.8125356619116575E-2,6.8089116583432918E-2,5.9383148378554497E-2,6300.8399999999983,12601.189999999999,28864.208799999997,429.24697199999434,858.00389499998892,1714.0475939999783]
["2012-11-13",{"$f":"B1001+0.01","v":900.15999999999985},61.36099999999918,6.8166770351936537E-2,null,null,null,null,null,null,11.000999999999252,null,null,null,50.359999999999928,null,null,null,null,null,null,null,null,null,null,null,null,null,null,null,null,null,null,null,null,null,null,"2012-11-17",6.8135710397386154E-2,6.8099471166931519E-2,6.0085713098548994E-2,6300.91,12601.329999999998,28531.368500000004,429.31697899999438,858.14390899998898,1714.3276219999784]
["2012-11-17",900.19999999999982,61.401003999999169,6.8208180404353683E-2,null,null,null,null,null,null,11.001003999999249,null,null,null,50.39999999999992,null,null,null,null,null,null,null,null,null,null,null,null,null,null,null,null,null,null,null,null,null,null,"2012-11-21",6.817712321005942E-2,6.8140887200252395E-2,6.3067684922980538E-2,6301.1899999999987,12601.89,27200.106299999996,429.59700699999422,858.70396499998856,1715.4477339999776]
["2012-11-20",900.22999999999979,61.431006999999163,6.8239235528697303E-2,null,null,null,null,null,null,11.001006999999246,null,null,null,50.429999999999914,null,null,null,null,null,null,null,null,null,null,null,null,null,null,null,null,null,null,null,null,null,null,"2012-11-24",6.8208180404353697E-2,6.8171946809750625E-2,6.5502759440207212E-2,6301.3999999999978,12602.31,26201.763599999998,429.8070279999942,859.12400699998841,1716.2878179999775]
["2012-11-24",900.26999999999975,61.471010999999152,6.8280639141589938E-2,null,null,null,null,null,null,11.001010999999243,null,null,null,50.469999999999906,null,null,null,null,null,null,null,null,null,null,null,null,null,null,null,null,null,null,null,null,null,null,"2012-11-28",6.8249586776858592E-2,6.8213356402151926E-2,6.8140887200252423E-2,6301.6799999999976,12602.869999999999,25203.779999999992,430.08705599999405,859.68406299998844,1717.4079299999773]
["2012-11-27",900.29999999999973,61.501013999999145,6.8311689436853451E-2,null,null,null,null,null,null,11.001013999999241,null,null,null,50.499999999999901,null,null,null,null,null,null,null,null,null,null,null,null,null,null,null,null,null,null,null,null,null,null,"2012-12-01",6.8280639141589938E-2,6.8244411181523926E-2,6.8171946809750639E-2,6301.8899999999976,12603.289999999995,25204.62,430.29707699999403,860.10410499998841,1718.248013999977]
["2012-12-01",900.33999999999969,61.541017999999127,6.8353086611723513E-2,null,null,null,null,null,null,11.001017999999238,null,null,null,50.539999999999893,null,null,null,null,null,null,null,null,null,null,null,null,null,null,null,null,null,null,null,null,null,null,"2012-12-05",6.8322039075428637E-2,6.8285814334507963E-2,6.8213356402151926E-2,6302.1699999999983,12603.849999999997,25205.739999999994,430.57710499999394,860.66416099998798,1719.3681259999767]
["2012-12-04",900.36999999999966,61.571020999999121,6.8384132079033225E-2,null,null,null,null,null,null,11.001020999999236,null,null,null,50.569999999999887,null,null,null,null,null,null,null,null,null,null,null,null,null,null,null,null,null,null,null,null,null,null,"2012-12-08",6.8353086611723513E-2,6.8316864284880291E-2,6.8244411181523898E-2,6302.3799999999983,12604.269999999997,25206.579999999998,430.78712599999392,861.08420299998784,1720.2082099999764]
["2012-12-08",900.40999999999963,61.61102499999911,{"$f":"C1027/B1027","v":6.8425522817382234E-2},null,null,null,null,null,null,11.001024999999233,null,null,null,50.609999999999879,null,null,null,null,null,null,null,null,null,null,null,null,null,null,null,null,null,null,null,null,null,null,"2012-12-12",6.8394480108397715E-2,6.8358260999949086E-2,6.8285814334507977E-2,6302.659999999998,12604.829999999994,25207.699999999993,431.06715399999382,861.64425899998787,1721.3283219999764]
["2012-12-09",900.41999999999962,61.621025999999105,6.8435869927366264E-2,null,null,null,null,null,null,{"$f":"K1027+0.000001","v":11.001025999999232},null,null,null,50.619999999999877,null,null,null,null,null,null,null,null,null,null,null,null,null,null,null,null,null,null,null,null,null,null,"2012-12-13",6.8404827907905627E-2,6.8368609603988606E-2,6.8296164547892252E-2,6302.7299999999977,12604.969999999996,25207.979999999992,431.13716099999385,861.78427299998793,1721.6083499999763]
["2012-12-12",900.44999999999959,61.651028999999099,6.846690987839317E-2,null,null,null,null,null,null,11.00102899999923,null,null,null,{"$f":"O1030+0.01","v":50.649999999999871},null,null,null,null,null,null,null,null,null,null,null,null,null,null,null,null,null,null,null,null,null,null,"2012-12-16",6.8435869927366264E-2,6.8399654036883278E-2,6.8327213808499404E-2,6302.9399999999978,12605.389999999994,25208.819999999996,431.34718199999372,862.20431499998767,1722.4484339999758]
["2012-12-17",665,61.701033999999083,9.2783509774434711E-2,null,null,null,null,null,null,11.001033999999226,null,null,null,50.699999999999861,null,null,null,null,null,null,null,null,null,null,null,null,null,null,null,null,null,null,null,null,null,null,"2012-12-21",7.114570823973701E-2,6.9754505241867021E-2,6.9023739765650072E-2,6067.7899999999972,12370.589999999995,24974.71999999999,431.69721699999366,862.90438499998731,1723.8485739999753]
["2012-12-20",665.03,61.731036999999077,9.2824439498968583E-2,null,null,null,null,null,null,11.001036999999224,null,null,null,50.729999999999855,null,null,null,null,null,null,null,null,null,null,null,null,null,null,null,null,null,null,null,null,null,null,"2012-12-24",8.0557164599457928E-2,7.4012918416631962E-2,7.1065325892307976E-2,5361.4999999999991,11664.509999999997,24269.059999999994,431.90723799999364,863.32442699998739,1724.6886579999755]
["2012-12-23",665.06,61.76103999999907,9.2865365530928154E-2,null,null,null,null,null,null,11.001039999999222,null,null,null,50.759999999999849,null,null,null,null,null,null,null,null,null,null,null,null,null,null,null,null,null,null,null,null,null,null,"2012-12-27",9.2824439498968611E-2,7.8820092750511481E-2,7.3229191967202345E-2,4655.2099999999991,10958.429999999998,23563.399999999991,432.11725899999357,863.74446899998736,1725.528741999975]
["2012-12-27",{"$f":"B1045+0.01","v":665.09999999999991},61.80104399999906,9.291992783040004E-2,null,null,null,null,null,null,11.001043999999219,null,null,null,50.799999999999841,null,null,null,null,null,null,null,null,null,null,null,null,null,null,null,null,null,null,null,null,null,null,"2012-12-31",9.2879006721095628E-2,8.6283856228266884E-2,7.6324337606949844E-2,4655.49,10016.99,22622.519999999993,432.39728699999347,864.30452499998705,1726.6488539999746]
["2012-12-30",665.12999999999988,61.831046999999053,9.2960845248295912E-2,null,null,null,null,null,null,11.001046999999216,null,null,null,50.829999999999835,null,null,null,null,null,null,null,null,null,null,null,null,null,null,null,null,null,null,null,null,null,null,"2013-01-03",9.2919927830400026E-2,9.2872186177289553E-2,7.8820092750511453E-2,4655.7,9310.909999999998,21916.859999999997,432.6073079999934,864.72456699998691,1727.4889379999743]
["2013-01-03",{"$f":"B1052+0.01","v":665.16999999999985},61.871050999999042,9.3015396064162634E-2,null,null,null,null,null,null,11.001050999999213,null,null,null,50.869999999999827,null,null,null,null,null,null,null,null,null,null,null,null,null,null,null,null,null,null,null,null,null,null,"2013-01-07",9.2974483567367844E-2,9.2926747656383688E-2,8.2408976839221576E-2,4655.9799999999996,9311.4699999999993,20975.979999999992,432.8873359999933,865.28462299998694,1728.6090499999743]
["2013-01-04",{"$f":"B1053+0.01","v":665.17999999999984},61.881051999999038,9.3029032743015508E-2,null,null,null,null,null,null,11.001051999999213,null,null,null,50.879999999999825,null,null,null,null,null,null,null,null,null,null,null,null,null,null,null,null,null,null,null,null,null,null,"2013-01-08",9.2988121476357294E-2,9.2940387000742836E-2,8.335707457200095E-2,4656.0499999999993,9311.6099999999988,20740.759999999998,432.95734299999333,865.42463699998689,1728.8890779999742]
["2013-01-07",665.20999999999981,61.911054999999031,9.3069940319596894E-2,null,null,null,null,null,null,11.00105499999921,null,null,null,50.909999999999819,null,null,null,null,null,null,null,null,null,null,null,null,null,null,null,null,null,null,null,null,null,null,"2013-01-11",9.3029032743015494E-2,9.2981302573121746E-2,8.6334940279807662E-2,4656.2599999999993,9312.029999999997,20035.099999999991,433.16736399999326,865.84467899998663,1729.7291619999737]
["2013-01-12",665.25999999999976,61.961059999999016,9.3138111415084379E-2,null,null,null,null,null,null,11.001059999999207,null,null,null,50.959999999999809,null,null,null,null,null,null,null,null,null,null,null,null,null,null,null,null,null,null,null,null,null,null,"2013-01-16",9.3097209987521662E-2,9.3049486992534583E-2,9.1793271223287232E-2,4656.6099999999988,9312.7299999999977,18858.999999999996,433.51739899999313,866.54474899998638,1731.1293019999737]
["2013-01-15",665.28999999999974,61.991062999999009,9.3179009153901357E-2,null,null,null,null,null,null,11.001062999999204,null,null,null,50.989999999999803,null,null,null,null,null,null,null,null,null,null,null,null,null,null,null,null,null,null,null,null,null,null,"2013-01-19",9.3138111415084379E-2,9.3090392724264809E-2,9.299494027707686E-2,4656.8199999999988,9313.149999999996,18624.339999999997,433.72741999999312,866.96479099998646,1731.9693859999734]
["2013-01-18",{"$f":"B1067+0.01","v":665.31999999999971},62.021065999998996,9.3219903204471571E-2,null,null,null,null,null,null,11.001065999999202,null,null,null,51.019999999999797,null,null,null,null,null,null,null,null,null,null,null,null,null,null,null,null,null,null,null,null,null,null,"2013-01-22",9.3179009153901357E-2,9.3131294766666969E-2,9.3035850928687547E-2,4657.0299999999979,9313.5699999999979,18625.18,433.93744099999304,867.38483299998632,1732.8094699999729]
["2013-01-22",665.35999999999967,62.061069999998992,9.3274422868821427E-2,null,null,null,null,null,null,11.001069999999199,null,null,null,51.059999999999789,null,null,null,null,null,null,null,null,null,null,null,null,null,null,null,null,null,null,null,null,null,null,"2013-01-26",9.3233533735137486E-2,9.318582508511114E-2,9.3090392724264781E-2,4657.3099999999977,9314.1299999999974,18626.299999999992,434.21746899999295,867.94488899998601,1733.9295819999725]
["2013-01-25",{"$f":"B1074+0.01","v":665.38999999999965},62.091072999998978,9.3315308315422549E-2,null,null,null,null,null,null,11.001072999999197,null,null,null,51.089999999999783,null,null,null,null,null,null,null,null,null,null,null,null,null,null,null,null,null,null,null,null,null,null,"2013-01-29",9.3274422868821427E-2,9.3226718521022087E-2,9.3131294766666969E-2,4657.5199999999977,9314.5499999999956,18627.139999999996,434.42748999999293,868.36493099998586,1734.7696659999726]
["2013-01-29",{"$f":"B1078+0.01","v":665.42999999999961},62.131076999998967,9.3369816509623851E-2,null,null,null,null,null,null,11.001076999999194,null,null,null,51.129999999999775,null,null,null,null,null,null,null,null,null,null,null,null,null,null,null,null,null,null,null,null,null,null,"2013-02-02",9.3328935978357411E-2,9.3281237365955547E-2,9.3185825085111168E-2,4657.7999999999975,9315.1099999999969,18628.259999999991,434.70751799999289,868.92498699998589,1735.8897779999722]
["2013-01-30",{"$f":"B1079+0.01","v":665.4399999999996},62.14107799999897,9.3383442534261549E-2,null,null,null,null,null,null,11.001077999999193,null,null,null,51.139999999999773,null,null,null,null,null,null,null,null,null,null,null,null,null,null,null,null,null,null,null,null,null,null,"2013-02-03",9.3342563231690254E-2,9.3294866052976169E-2,9.319945664018614E-2,4657.8699999999972,9315.2499999999964,18628.53999999999,434.77752499999281,869.06500099998595,1736.1698059999721]
["2013-02-02",665.46999999999957,62.171080999998956,9.3424318151079683E-2,null,null,null,null,null,null,11.001080999999191,null,null,null,51.169999999999767,null,null,null,null,null,null,null,null,null,null,null,null,null,null,null,null,null,null,null,null,null,null,"2013-02-06",9.3383442534261535E-2,9.3335749656222919E-2,9.3240348846820031E-2,4658.0799999999972,9315.6699999999946,18629.379999999997,434.98754599999273,869.48504299998569,1737.0098899999718]
["2013-02-06",665.50999999999954,62.211084999998945,9.347881324097157E-2,null,null,null,null,null,null,11.001084999999188,null,null,null,51.209999999999759,null,null,null,null,null,null,null,null,null,null,null,null,null,null,null,null,null,null,null,null,null,null,"2013-02-10",9.3437942537715632E-2,9.3390255393006161E-2,9.3294866052976183E-2,4658.3599999999969,9316.2299999999959,18630.499999999985,435.26757399999269,870.04509899998538,1738.1300019999715]
["2013-02-11",665.55999999999949,62.26108999999893,9.3546922891999187E-2,null,null,null,null,null,null,{"$f":"K1091+0.000001","v":11.001089999999184},null,null,null,51.259999999999749,null,null,null,null,null,null,null,null,null,null,null,null,null,null,null,null,null,null,null,null,null,null,"2013-02-15",9.3506058329450206E-2,9.3458378349948523E-2,9.3363003343726172E-2,4658.7099999999964,9316.9299999999948,18631.899999999994,435.61760899999263,870.74516899998537,1739.5301419999712]
["2013-02-13",665.57999999999947,62.281091999998928,9.3574163887134493E-2,null,null,null,null,null,null,11.001091999999183,null,null,null,51.279999999999745,null,null,null,null,null,null,null,null,null,null,null,null,null,null,null,null,null,null,null,null,null,null,"2013-02-17",9.3533301780480763E-2,9.3485624666610048E-2,9.3390255393006202E-2,4658.8499999999967,9317.2099999999937,18632.459999999988,435.75762299999252,871.02519699998527,1740.0901979999712]
["2013-02-17",665.61999999999944,62.321095999998917,9.3628640966315568E-2,null,null,null,null,null,null,11.00109599999918,null,null,null,51.319999999999737,null,null,null,null,null,null,null,null,null,null,null,null,null,null,null,null,null,null,null,null,null,null,"2013-02-21",{"$f":"AS1098/AP1098","v":9.3587783770788302E-2},9.3540112387404478E-2,9.3444754577487091E-2,{"$f":"SUM(B1092:B1098)","v":4659.1299999999956},9317.7699999999913,18633.579999999987,{"$f":"SUM(C1092:C1098)","v":436.03765099999248},871.58525299998496,1741.2103099999706]
["2013-02-20",665.64999999999941,62.351098999998911,9.3669494479079046E-2,null,null,null,null,null,null,11.001098999999178,null,null,null,51.349999999999731,null,null,null,null,null,null,null,null,null,null,null,null,null,null,null,null,null,null,null,null,null,null,"2013-02-24",9.3628640966315554E-2,9.3580973880118934E-2,9.3485624666610034E-2,4659.3399999999965,9318.1899999999932,18634.419999999991,436.24767199999241,872.00529499998481,1742.0503939999705]
["2013-02-24",665.68999999999937,62.3911029999989,9.372396010154721E-2,null,null,null,null,null,null,11.001102999999175,null,null,null,51.389999999999723,null,null,null,null,null,null,null,null,null,null,null,null,null,null,null,null,null,null,null,null,null,null,"2013-02-28",9.3683111498360963E-2,{"$f":"AT1105/AQ1105","v":9.3635450140843554E-2},9.3540112387404478E-2,4659.6199999999963,{"$f":"SUM(B1092:B1105)","v":9318.7499999999909},18635.539999999983,436.52769999999236,{"$f":"SUM(C1092:C1105)","v":872.56535099998496},1743.1705059999701]
["2013-02-25",665.69999999999936,62.401103999998895,9.3737575484450886E-2,null,null,null,null,null,null,11.001103999999174,null,null,null,51.399999999999721,null,null,null,null,null,null,null,null,null,null,null,null,null,null,null,null,null,null,null,null,null,null,"2013-03-01",9.3696728108520699E-2,9.3649068183011691E-2,9.3553733294267222E-2,4659.6899999999951,9318.8899999999903,18635.819999999989,436.59770699999234,872.70536499998491,1743.45053399997]
["2013-02-28",33.01,62.431106999998889,1.8912786125416206,null,null,null,null,null,null,11.001106999999172,null,null,null,{"$f":"O1108+0.01","v":51.429999999999715},null,null,null,null,null,null,null,null,null,null,null,null,null,null,null,null,null,null,null,null,null,null,"2013-03-04",0.12868253801782686,0.10841066555581172,0.10041267210938386,3394.4599999999973,8053.8699999999935,17371.219999999987,436.80772799999227,873.12540699998465,1744.2906179999698]
["2013-03-04",33.04999999999999,62.471110999998878,1.8902000302571527,null,null,null,null,null,null,11.001110999999169,null,null,null,51.469999999999708,null,null,null,null,null,null,null,null,null,null,null,null,null,null,null,null,null,null,null,null,null,null,"2013-03-08",0.50597059245710252,0.15817462736826596,0.11760370812574844,863.85999999999922,5523.5499999999947,14841.45999999999,437.08775599999217,873.68546299998457,1745.4107299999694]
["2013-03-09",33.09999999999998,62.521115999998862,1.8888554682779124,null,null,null,null,null,null,11.001115999999165,null,null,null,51.519999999999698,null,null,null,null,null,null,null,null,null,null,null,null,null,null,null,null,null,null,null,null,null,null,"2013-03-13",1.8896617175687602,0.37040032745217838,0.14956520104869406,231.4899999999999,2360.6499999999987,11679.259999999991,437.4377909999921,874.38553299998443,1746.8108699999691]
["2013-03-11",33.119999999999976,62.54111799999886,1.8883187801932038,null,null,null,null,null,null,11.001117999999163,null,null,null,51.539999999999694,null,null,null,null,null,null,null,null,null,null,null,null,null,null,null,null,null,null,null,null,null,null,"2013-03-15",1.8891240556058899,0.79842404859924332,0.16778444093647155,231.62999999999988,1095.4899999999989,10414.379999999992,437.57780499999205,874.66556099998422,1747.3709259999691]
["2013-03-15",33.159999999999968,62.581121999998842,1.8872473462002082,null,null,null,null,null,null,11.00112199999916,null,null,null,51.579999999999686,null,null,null,null,null,null,null,null,null,null,null,null,null,null,null,null,null,null,null,null,null,null,"2013-03-19",1.8880506791427381,1.8889897416527841,0.22175970915528842,231.9099999999998,463.3299999999997,7884.6199999999935,437.85783299999201,875.22561699998391,1748.4910379999687]
["2013-03-18",33.189999999999962,62.611124999998836,1.8864454655016243,null,null,null,null,null,null,11.001124999999158,null,null,null,51.60999999999968,null,null,null,null,null,null,null,null,null,null,null,null,null,null,null,null,null,null,null,null,null,null,"2013-03-22",1.887247346200208,1.8881847094339292,0.29217362116479384,232.11999999999981,463.74999999999966,5987.2999999999947,438.06785399999188,875.64565899998399,1749.3311219999687]
["2013-03-22",33.229999999999954,62.651128999998825,1.8853785434847701,null,null,null,null,null,null,11.001128999999155,null,null,null,51.649999999999672,null,null,null,null,null,null,null,null,null,null,null,null,null,null,null,null,null,null,null,null,null,null,"2013-03-26",1.8861784939758706,1.8871135986732677,0.50627071096790477,232.39999999999975,464.30999999999955,3457.5399999999977,438.34788199999184,876.20571499998402,1750.4512339999683]
["2013-03-23",33.239999999999952,62.66112999999882,1.8851122141997265,null,null,null,null,null,null,11.001129999999154,null,null,null,51.65999999999967,null,null,null,null,null,null,null,null,null,null,null,null,null,null,null,null,null,null,null,null,null,null,"2013-03-27",1.8859116832279108,1.8868462245666591,0.61970594386038347,232.46999999999969,464.44999999999948,2825.0999999999981,438.41788899999182,876.34572899998386,1750.7312619999682]
["2013-03-26",33.269999999999946,62.691132999998814,1.8843141869551823,null,null,null,null,null,null,11.001132999999152,null,null,null,51.689999999999664,null,null,null,null,null,null,null,null,null,null,null,null,null,null,null,null,null,null,null,null,null,null,"2013-03-30",1.8851122141997263,1.8860450685137451,1.88791668930131,232.67999999999969,464.86999999999944,927.77999999999906,438.62790999999174,876.7657709999836,1751.5713459999677]
["2013-03-30",33.309999999999938,62.731136999998803,1.883252386670637,null,null,null,null,null,null,11.001136999999149,null,null,null,51.729999999999656,null,null,null,null,null,null,null,null,null,null,null,null,null,null,null,null,null,null,null,null,null,null,"2013-04-03",1.8840484975961211,1.8849791096405151,1.8868462245666588,232.95999999999964,465.42999999999927,928.89999999999895,438.9079379999917,877.32582699998352,1752.6914579999675]
["2013-04-02",33.339999999999932,62.761139999998797,1.8824577084582761,null,null,null,null,null,null,11.001139999999147,null,null,null,51.75999999999965,null,null,null,null,null,null,null,null,null,null,null,null,null,null,null,null,null,null,null,null,null,null,"2013-04-06",1.8832523866706372,1.8841813223140171,1.8860450685137453,233.16999999999956,465.84999999999928,929.73999999999887,439.11795899999163,877.74586899998349,1753.5315419999674]
["2013-04-04",{"$f":"B1143+0.01","v":33.359999999999928},62.781141999998795,1.8819287170263468,null,null,null,null,null,null,11.001141999999145,null,null,null,51.779999999999646,null,null,null,null,null,null,null,null,null,null,null,null,null,null,null,null,null,null,null,null,null,null,"2013-04-08",1.8827224422441919,1.8836502628021909,1.885511768246769,233.30999999999955,466.12999999999909,930.29999999999893,439.25797299999158,878.0258969999835,1754.0915979999672]
["2013-04-10",33.419999999999916,62.841147999998775,1.8803455415918291,null,null,null,null,null,null,11.001147999999141,null,null,null,51.839999999999634,null,null,null,null,null,null,null,null,null,null,null,null,null,null,null,null,null,null,null,null,null,null,"2013-04-14",1.8811364180892163,1.8820609054114499,1.883915712783504,233.72999999999945,466.96999999999906,931.9799999999982,439.67801499999149,878.86598099998298,1755.7717659999666]
["2013-04-13",33.44999999999991,62.871150999998768,1.8795560837069936,null,null,null,null,null,null,11.001150999999139,null,null,null,51.869999999999628,null,null,null,null,null,null,null,null,null,null,null,null,null,null,null,null,null,null,null,null,null,null,"2013-04-17",1.8803455415918293,1.8812683690279748,1.8831198409124699,233.9399999999994,467.38999999999885,932.81999999999823,439.88803599999142,879.28602299998295,1756.6118499999668]
["2013-04-14",33.459999999999908,{"$f":"SUM(K1154:Q1154)","v":62.881151999998764},1.8792932456664355,null,null,null,null,null,null,11.001151999999138,null,null,null,51.879999999999626,null,null,null,null,null,null,null,null,null,null,null,null,null,null,null,null,null,null,null,null,null,null,"2013-04-18",1.8800822315285353,1.881004506662642,1.8828548687171476,234.00999999999937,467.52999999999895,933.09999999999809,439.95804299999133,879.42603699998301,1756.8918779999667]
["2013-04-17",666.01,62.911154999998757,9.4459775378746197E-2,null,null,null,null,null,null,11.001154999999136,null,null,null,51.90999999999962,null,null,null,null,null,null,null,null,null,null,null,null,null,null,null,null,null,null,null,null,null,null,"2013-04-21",0.2935902138388215,0.50770407157570641,0.79933967657730731,1499.2599999999995,1732.9899999999991,2198.9799999999987,440.16806399999138,879.84607899998298,1757.7319619999662]
["2013-04-21",666.05,62.951158999998746,9.4514164101792281E-2,null,null,null,null,null,null,11.001158999999133,null,null,null,51.949999999999612,null,null,null,null,null,null,null,null,null,null,null,null,null,null,null,null,null,null,null,null,null,null,"2013-04-25",0.10930263697321119,0.20649215222708883,0.37183618255541362,4029.62,4263.6299999999992,4730.1799999999985,440.44809199999128,880.40613499998256,1758.8520739999658]
["2013-04-25",666.08999999999992,62.991162999998735,9.4568546292541161E-2,null,null,null,null,null,null,11.00116299999913,null,null,null,51.989999999999604,null,null,null,null,null,null,null,null,null,null,null,null,null,null,null,null,null,null,null,null,null,null,"2013-04-29",9.4527760261836374E-2,0.12966311185748913,0.24237434013919745,4662.42,6794.2699999999986,7261.3799999999992,440.72811999999118,880.96619099998247,1759.9721859999654]
["2013-04-28",666.11999999999989,63.021165999998729,9.460932864949069E-2,null,null,null,null,null,null,11.001165999999127,null,null,null,52.019999999999598,null,null,null,null,null,null,null,null,null,null,null,null,null,null,null,null,null,null,null,null,null,null,"2013-05-02",9.4568546292541161E-2,0.10139908918864304,0.19223303070597389,4662.6299999999992,8692.25,9159.7799999999988,440.93814099999111,881.38623299998244,1760.8122699999653]
["2013-04-30",666.13999999999987,63.04116799999872,9.4636514846727013E-2,null,null,null,null,null,null,11.001167999999126,null,null,null,52.039999999999594,null,null,null,null,null,null,null,null,null,null,null,null,null,null,null,null,null,null,null,null,null,null,"2013-05-04",9.4595734938671919E-2,9.4548153736439239E-2,0.1689504196489687,4662.7699999999986,9325.0499999999975,10425.379999999999,441.07815499999111,881.66626099998246,1761.3723259999651]
["2013-05-06",666.19999999999982,63.101173999998707,9.4718063644549266E-2,null,null,null,null,null,null,11.001173999999121,null,null,null,52.099999999999582,null,null,null,null,null,null,null,null,null,null,null,null,null,null,null,null,null,null,null,null,null,null,"2013-05-10",9.4677291081854076E-2,9.4629718450462322E-2,0.12396499650545588,4663.1899999999987,9325.89,14222.18,441.49819699999097,882.50634499998205,1763.0524939999646]
["2013-05-09",666.22999999999979,63.131176999998694,9.4758832535308701E-2,null,null,null,null,null,null,11.001176999999119,null,null,null,52.129999999999576,null,null,null,null,null,null,null,null,null,null,null,null,null,null,null,null,null,null,null,null,null,null,"2013-05-13",9.4718063644549252E-2,9.4670495297709628E-2,0.10941867960085587,4663.3999999999987,9326.3099999999977,16120.579999999996,441.70821799999089,882.92638699998201,1763.8925779999647]
["2013-05-10",666.23999999999978,63.141177999998689,9.4772421349661851E-2,null,null,null,null,null,null,11.001177999999118,null,null,null,52.139999999999574,null,null,null,null,null,null,null,null,null,null,null,null,null,null,null,null,null,null,null,null,null,null,"2013-05-14",9.4731653682770783E-2,9.4684086763986527E-2,0.10530248857245314,4663.4699999999984,9326.4499999999989,16753.379999999997,441.77822499999093,883.06640099998208,1764.1726059999646]
["2013-05-13",666.26999999999975,63.171180999998683,9.4813185345278495E-2,null,null,null,null,null,null,11.001180999999116,null,null,null,52.169999999999568,null,null,null,null,null,null,null,null,null,null,null,null,null,null,null,null,null,null,null,null,null,null,"2013-05-17",9.4772421349661851E-2,9.4724858714657981E-2,{"$f":"AU1183/AR1183","v":9.462971845046235E-2},4663.6799999999985,9326.869999999999,{"$f":"SUM(B1156:B1183)","v":18651.779999999995},441.98824599999085,883.48644299998193,{"$f":"SUM(C1156:C1183)","v":1765.0126899999641}]
["2013-05-17",666.30999999999972,63.211184999998672,9.4867531629419785E-2,null,null,null,null,null,null,11.001184999999113,null,null,null,52.20999999999956,null,null,null,null,null,null,null,null,null,null,null,null,null,null,null,null,null,null,null,null,null,null,"2013-05-21",9.4826772528064332E-2,9.4779215603867512E-2,9.4684086763986486E-2,4663.9599999999982,9327.4299999999967,18652.900000000001,442.26827399999075,884.04649899998162,1766.1328019999637]
["2013-05-21",666.34999999999968,63.251188999998661,9.4921871388907772E-2,null,null,null,null,null,null,11.00118899999911,null,null,null,52.249999999999552,null,null,null,null,null,null,null,null,null,null,null,null,null,null,null,null,null,null,null,null,null,null,"2013-05-25",9.4881117180932117E-2,9.4833565966513877E-2,9.4738448548889992E-2,4664.239999999998,9327.989999999998,18654.01999999999,442.54830199999066,884.60655499998154,1767.2529139999638]
["2013-05-24",666.37999999999965,63.281191999998654,9.4962621927426827E-2,null,null,null,null,null,null,11.001191999999108,null,null,null,52.279999999999546,null,null,null,null,null,null,null,null,null,null,null,null,null,null,null,null,null,null,null,null,null,null,"2013-05-28",9.49218713889078E-2,9.4874324456148698E-2,9.4779215603867512E-2,4664.4499999999971,9328.4099999999944,18654.859999999997,442.7583229999907,885.02659699998151,1768.0929979999635]
["2013-05-28",666.41999999999962,63.321195999998643,9.501695027159851E-2,null,null,null,null,null,null,11.001195999999105,null,null,null,52.319999999999538,null,null,null,null,null,null,null,null,null,null,null,null,null,null,null,null,null,null,null,null,null,null,"2013-06-01",9.4976204624917362E-2,9.49286634001376E-2,9.4833565966513877E-2,4664.7299999999977,9328.9699999999957,18655.979999999992,443.03835099999054,885.5866529999812,1769.2131099999629]
["2013-05-30",666.4399999999996,63.341197999998641,9.5044111998077371E-2,null,null,null,null,null,null,11.001197999999103,null,null,null,52.339999999999534,null,null,null,null,null,null,null,null,null,null,null,null,null,null,null,null,null,null,null,null,null,null,"2013-06-03",9.5003368796984858E-2,9.4955830425809309E-2,9.48607387007432E-2,4664.8699999999972,9329.2499999999964,18656.53999999999,443.17836499999049,885.8666809999811,1769.7731659999627]
["2013-06-04",777.04,63.391202999998626,8.1580360084421169E-2,null,null,null,null,null,null,11.0012029999991,null,null,null,52.389999999999525,null,null,null,null,null,null,null,null,null,null,null,null,null,null,null,null,null,null,null,null,null,null,"2013-06-08",8.5000182063137655E-2,8.9708961215050662E-2,9.2197276932789146E-2,5217.9699999999993,9882.6999999999971,19210.689999999995,443.52839999999037,886.56675099998097,1771.1733059999626]
["2013-06-05",777.05,63.401203999998621,8.1592180683351945E-2,null,null,null,null,null,null,11.001203999999099,null,null,null,52.399999999999523,null,null,null,null,null,null,null,null,null,null,null,null,null,null,null,null,null,null,null,null,null,null,"2013-06-09",8.3248740661223772E-2,8.8729326584870746E-2,9.1682918010589393E-2,5328.59,9993.3899999999958,19321.519999999993,443.5984069999904,886.70676499998103,1771.4533339999625]
["2013-06-08",777.07999999999993,63.431206999998615,8.1627640654757069E-2,null,null,null,null,null,null,11.001206999999097,null,null,null,52.429999999999517,null,null,null,null,null,null,null,null,null,null,null,null,null,null,null,null,null,null,null,null,null,null,"2013-06-12",8.1592180683351931E-2,8.5916444109994231E-2,9.0174647209397107E-2,5439.35,10325.459999999999,19654.009999999995,443.80842799999033,887.12680699998089,1772.2934179999625]
["2013-06-12",777.11999999999989,63.471210999998604,8.1674916357832264E-2,null,null,null,null,null,null,11.001210999999094,null,null,null,52.469999999999509,null,null,null,null,null,null,null,null,null,null,null,null,null,null,null,null,null,null,null,null,null,null,"2013-06-16",8.1639460036802169E-2,8.2435803038940561E-2,8.8241250454660511E-2,5439.63,10768.220000000001,20097.329999999994,444.08845599999023,887.68686299998058,1773.4135299999618]
["2013-06-16",777.15999999999985,63.511214999998593,8.1722187194398332E-2,null,null,null,null,null,null,11.001214999999091,null,null,null,52.509999999999501,null,null,null,null,null,null,null,null,null,null,null,null,null,null,null,null,null,null,null,null,null,null,"2013-06-20",8.1686734523179649E-2,8.1645369613752003E-2,8.6391309038417102E-2,5439.91,10879.329999999998,20540.649999999994,444.36848399999019,888.24691899998049,1774.5336419999617]
["2013-06-19",777.18999999999983,63.54121799999858,8.1757637128628255E-2,null,null,null,null,null,null,{"$f":"K1219+0.000001","v":11.001217999999088},null,null,null,52.539999999999495,null,null,null,null,null,null,null,null,null,null,null,null,null,null,null,null,null,null,null,null,null,null,"2013-06-23",8.1722187194398346E-2,8.1680825478524829E-2,8.5055421752547142E-2,5440.1199999999981,10879.75,20873.139999999996,444.57850499999017,888.66696099998046,1775.3737259999614]
["2013-06-23",777.22999999999979,63.581221999998576,8.1804899450611271E-2,null,null,null,null,null,null,11.001221999999085,null,null,null,52.579999999999487,null,null,null,null,null,null,null,null,null,null,null,null,null,null,null,null,null,null,null,null,null,null,"2013-06-27",8.1769453165206646E-2,8.1728095706830081E-2,8.3339064647692973E-2,5440.3999999999978,10880.309999999998,21316.459999999995,444.85853299999008,889.22701699998026,1776.493837999961]
["2013-06-25",777.24999999999977,63.601223999998567,8.1828528787389623E-2,null,null,null,null,null,null,11.001223999999084,null,null,null,52.599999999999483,null,null,null,null,null,null,null,null,null,null,null,null,null,null,null,null,null,null,null,null,null,null,"2013-06-29",{"$f":"AS1226/AP1226","v":8.1793084326186385E-2},8.1751728996311793E-2,8.2507381981341013E-2,{"$f":"SUM(B1220:B1226)","v":5440.5399999999991},10880.589999999998,21538.120000000003,{"$f":"SUM(C1220:C1226)","v":444.99854699999003},889.50704499998005,1777.0538939999608]
["2013-06-30",777.29999999999973,63.651228999998551,8.1887596809466834E-2,null,null,null,null,null,null,11.00122899999908,null,null,null,52.649999999999473,null,null,null,null,null,null,null,null,null,null,null,null,null,null,null,null,null,null,null,null,null,null,"2013-07-04",8.1852156908151091E-2,8.1810806898812594E-2,8.1728095706830081E-2,5440.8899999999976,10881.289999999995,21760.619999999995,445.34858199998996,890.20711499998015,1778.4540339999605]
["2013-07-01",777.30999999999972,63.661229999998554,8.1899409501998657E-2,null,null,null,null,null,null,11.001229999999079,null,null,null,52.659999999999471,null,null,null,null,null,null,null,null,null,null,null,null,null,null,null,null,null,null,null,null,null,null,"2013-07-05",8.1863970512554785E-2,8.1822621567200285E-2,8.1739912503617063E-2,5440.9599999999973,10881.429999999997,21760.899999999998,445.41858899998988,890.34712899997999,1778.7340619999604]
["2013-07-04",777.33999999999969,63.69123299999854,8.1934845756037988E-2,null,null,null,null,null,null,11.001232999999077,null,null,null,52.689999999999465,null,null,null,null,null,null,null,null,null,null,null,null,null,null,null,null,null,null,null,null,null,null,"2013-07-08",8.1899409501998657E-2,8.185806374834978E-2,8.1775361069471489E-2,5441.1699999999983,10881.849999999997,21761.739999999998,445.62860999998986,890.76717099997984,1779.5741459999604]
["2013-07-08",777.37999999999965,63.731236999998529,8.1982089840230726E-2,null,null,null,null,null,null,11.001236999999074,null,null,null,52.729999999999457,null,null,null,null,null,null,null,null,null,null,null,null,null,null,null,null,null,null,null,null,null,null,"2013-07-12",8.1946657232904827E-2,8.1905315734288636E-2,8.1822621567200285E-2,5441.4499999999971,10882.409999999994,21762.859999999993,445.90863799998976,891.32722699997953,1780.6942579999597]
["2013-07-12",777.41999999999962,63.771240999998518,8.2029329062795586E-2,null,null,null,null,null,null,11.001240999999071,null,null,null,52.769999999999449,null,null,null,null,null,null,null,null,null,null,null,null,null,null,null,null,null,null,null,null,null,null,"2013-07-16",8.1993900101620235E-2,8.1952562857379924E-2,8.1869877200767521E-2,5441.7299999999977,10882.969999999996,21763.979999999992,446.18866599998967,891.88728299997967,1781.8143699999596]
["2013-07-15",777.44999999999959,63.801243999998512,8.206475528972737E-2,null,null,null,null,null,null,11.001243999999069,null,null,null,52.799999999999443,null,null,null,null,null,null,null,null,null,null,null,null,null,null,null,null,null,null,null,null,null,null,"2013-07-19",8.2029329062795586E-2,8.1987995008906231E-2,8.1905315734288622E-2,5441.9399999999978,10883.389999999994,21764.819999999996,446.39868699998965,892.30732499997953,1782.6544539999593]
["2013-07-19",777.48999999999955,63.841247999998501,8.2111986006248999E-2,null,null,null,null,null,null,11.001247999999066,null,null,null,52.839999999999435,null,null,null,null,null,null,null,null,null,null,null,null,null,null,null,null,null,null,null,null,null,null,"2013-07-23",8.2076563424482982E-2,8.2035233623820356E-2,8.195256285737991E-2,5442.2199999999975,10883.949999999995,21765.939999999991,446.67871499998955,892.86738099997922,1783.7745659999589]
["2013-07-22",777.51999999999953,63.871250999998495,8.21474058545099E-2,null,null,null,null,null,null,11.001250999999064,null,null,null,52.869999999999429,null,null,null,null,null,null,null,null,null,null,null,null,null,null,null,null,null,null,null,null,null,null,"2013-07-26",8.2111986006248999E-2,8.2070659395075643E-2,8.1987995008906203E-2,5442.4299999999976,10884.369999999995,21766.779999999992,446.88873599998954,893.28742299997907,1784.6146499999586]
["2013-07-25",777.5499999999995,63.901253999998488,8.2182822969582056E-2,null,null,null,null,null,null,11.001253999999062,null,null,null,52.899999999999423,null,null,null,null,null,null,null,null,null,null,null,null,null,null,null,null,null,null,null,null,null,null,"2013-07-29",8.21474058545099E-2,8.2106082432456637E-2,8.2023424425819627E-2,5442.6399999999958,10884.789999999994,21767.619999999988,447.0987569999894,893.70746499997915,1785.4547339999588]
["2013-07-27",777.56999999999948,63.921255999998479,8.2206432861348197E-2,null,null,null,null,null,null,11.00125599999906,null,null,null,52.919999999999419,null,null,null,null,null,null,null,null,null,null,null,null,null,null,null,null,null,null,null,null,null,null,"2013-07-31",8.2171017568226118E-2,8.2129696272047831E-2,8.2047042518022154E-2,5442.779999999997,10885.069999999994,21768.179999999993,447.23877099998947,893.98749299997917,1786.0147899999588]
["2013-07-30",777.59999999999945,63.951258999998473,8.224184542180879E-2,null,null,null,null,null,null,11.001258999999058,null,null,null,52.949999999999413,null,null,null,null,null,null,null,null,null,null,null,null,null,null,null,null,null,null,null,null,null,null,"2013-08-03",8.2206432861348183E-2,8.2165114753674773E-2,8.208246737795083E-2,5442.9899999999971,10885.489999999994,21769.01999999999,447.44879199998934,894.40753499997879,1786.8548739999583]
["2013-08-03",777.63999999999942,63.991262999998462,8.2289057918829414E-2,null,null,null,null,null,null,11.001262999999055,null,null,null,52.989999999999405,null,null,null,null,null,null,null,null,null,null,null,null,null,null,null,null,null,null,null,null,null,null,"2013-08-07",8.2253649001425538E-2,8.2212335144517909E-2,8.2129696272047803E-2,5443.2699999999968,10886.049999999992,21770.139999999989,447.7288199999893,894.9675909999786,1787.9749859999579]
["2013-08-07",777.67999999999938,64.031266999998451,8.2336265559096927E-2,null,null,null,null,null,null,11.001266999999052,null,null,null,53.029999999999397,null,null,null,null,null,null,null,null,null,null,null,null,null,null,null,null,null,null,null,null,null,null,"2013-08-11",8.2300860284187607E-2,8.2259550677389853E-2,8.217692030686137E-2,5443.5499999999965,10886.609999999993,21771.259999999987,448.00884799998914,895.52764699997863,1789.0950979999577]
["2013-08-10",{"$f":"B1271+0.01","v":777.70999999999935},64.061269999998444,8.2371668102504139E-2,null,null,null,null,null,null,11.00126999999905,null,null,null,53.059999999999391,null,null,null,null,null,null,null,null,null,null,null,null,null,null,null,null,null,null,null,null,null,null,"2013-08-14",8.2336265559096941E-2,8.2294959139451188E-2,8.2212335144517923E-2,5443.7599999999948,10887.029999999992,21772.099999999984,448.21886899998913,895.9476889999786,1789.9351819999574]
["2013-08-14",666,15.001273999999047,2.2524435435434004E-2,null,null,null,null,null,null,11.001273999999047,null,null,null,4,null,null,null,null,null,null,null,null,null,null,null,null,null,null,null,null,null,null,null,null,null,null,"2013-08-18",5.6491469331186261E-2,6.9529405132219918E-2,7.5885214346023605E-2,5332.2899999999954,10775.839999999993,21661.469999999983,301.22889699999092,749.23774499998012,1643.7852939999586]
["2013-08-17",666.03,17.001276999999043,2.5526293109918538E-2,null,null,null,null,null,null,11.001276999999044,null,null,null,6,null,null,null,null,null,null,null,null,null,null,null,null,null,null,null,null,null,null,null,null,null,null,"2013-08-21",4.3439675421480382E-2,6.3719677215133622E-2,7.315895289833485E-2,4997.2499999999973,10441.009999999995,21327.059999999983,217.07891799999271,665.29778699998189,1560.26537799996]
["2013-08-20",666.06,{"$f":"SUM(K1282:Q1282)","v":16.001279999999042},2.4023781641292142E-2,null,null,null,null,null,null,11.001279999999042,null,null,null,5,null,null,null,null,null,null,null,null,null,null,null,null,null,null,null,null,null,null,null,null,null,null,"2013-08-24",3.6894292406389535E-2,5.1678065203665878E-2,6.753103881596477E-2,4662.2099999999991,10106.179999999995,20992.649999999987,172.00893899999332,522.26782899998375,1417.655461999962]
["2013-08-22",666.07999999999993,16.001281999999041,2.4023063295698779E-2,null,null,null,null,null,null,{"$f":"K1283+0.000001","v":11.001281999999041},null,null,null,5,null,null,null,null,null,null,null,null,null,null,null,null,null,null,null,null,null,null,null,null,null,null,"2013-08-26",3.7322155779809178E-2,4.3124515023837497E-2,6.3643908268337088E-2,4662.3499999999995,9882.9599999999973,20769.709999999992,174.00895299999331,426.19785699998488,1321.865517999963]
["2013-08-25",666.1099999999999,16.001284999999037,2.4021985858190147E-2,null,null,null,null,null,null,11.001284999999038,null,null,null,5,null,null,null,null,null,null,null,null,null,null,null,null,null,null,null,null,null,null,null,null,null,null,"2013-08-29",2.4023063295698772E-2,2.9536453630185869E-2,5.7650516606067223E-2,4662.5599999999995,9548.1299999999992,20435.299999999992,112.00897399999326,282.01789899998658,1178.1056019999651]
["2013-08-29",666.14999999999986,16.001288999999034,2.4020549425803554E-2,null,null,null,null,null,null,11.001288999999035,null,null,null,5,null,null,null,null,null,null,null,null,null,null,null,null,null,null,null,null,null,null,null,null,null,null,"2013-09-02",2.4021626733920373E-2,3.0671541813087618E-2,4.9340386764596844E-2,4662.8399999999992,9325.1899999999987,19989.419999999995,112.00900199999326,286.0179549999865,986.28571399996724]
["2013-09-02",666.18999999999983,16.001292999999031,2.4019113165912178E-2,null,null,null,null,null,null,11.001292999999032,null,null,null,5,null,null,null,null,null,null,null,null,null,null,null,null,null,null,null,null,null,null,null,null,null,null,"2013-09-06",2.4020190344660502E-2,2.4021447175828919E-2,4.0642883837829262E-2,4663.119999999999,9325.75,19543.539999999994,112.00902999999326,224.01801099998653,794.30582599996944]
["2013-09-05",666.2199999999998,16.00129599999903,2.4018036084174948E-2,null,null,null,null,null,null,11.00129599999903,null,null,null,5,null,null,null,null,null,null,null,null,null,null,null,null,null,null,null,null,null,null,null,null,null,null,"2013-09-09",2.4019113165912188E-2,2.4020369883884445E-2,3.3849315924249113E-2,4663.3299999999981,9326.1699999999964,19209.129999999994,112.00905099999324,224.01805299998651,650.21590999997113]
["2013-09-09",666.25999999999976,16.001299999999027,2.4016600126075455E-2,null,null,null,null,null,null,11.001299999999027,null,null,null,5,null,null,null,null,null,null,null,null,null,null,null,null,null,null,null,null,null,null,null,null,null,null,"2013-09-13",2.4017677078484956E-2,2.4018933645552784E-2,2.7022825043634392E-2,4663.6099999999988,9326.7299999999977,18763.249999999996,112.00907899999319,224.01810899998645,507.03602199997289]
["2013-09-12",666.28999999999974,16.031302999999024,2.4060548710019707E-2,null,null,null,null,null,null,11.001302999999025,null,null,null,5.0299999999999994,null,null,null,null,null,null,null,null,null,null,null,null,null,null,null,null,null,null,null,null,null,null,"2013-09-16",2.40294651165768E-2,2.4024289413163345E-2,2.7347566364326024E-2,4663.8199999999988,9327.149999999996,18652.339999999997,112.06909999999318,224.07815099998641,510.09610599997279]
["2013-09-15",666.31999999999971,101.01130599999902,0.1515957888101799,null,null,null,null,null,null,11.001305999999023,null,null,null,90.01,null,null,null,null,null,null,null,null,null,null,null,null,null,null,null,null,null,null,null,null,null,null,"2013-09-19",0.13144836568375276,7.7736022672570307E-2,5.0881736518919182E-2,4664.0299999999979,9327.5699999999979,18653.18,613.07912099999317,725.0881929999864,949.10618999997291]
["2013-09-17",666.33999999999969,101.03130799999903,0.15162125641564228,null,null,null,null,null,null,11.001307999999021,null,null,null,90.030000000000015,null,null,null,null,null,null,null,null,null,null,null,null,null,null,null,null,null,null,null,null,null,null,"2013-09-21",0.1679010702868878,9.5964045412392646E-2,5.9996346362711887E-2,4664.1699999999983,9327.8499999999967,18653.739999999994,783.11913499999321,895.1382209999864,1119.156245999973]
["2013-09-20",666.36999999999966,101.06131099999905,0.15165945495745473,null,null,null,null,null,null,11.001310999999019,null,null,null,90.060000000000031,null,null,null,null,null,null,null,null,null,null,null,null,null,null,null,null,null,null,null,null,null,null,"2013-09-24",0.15162125641564225,0.12331206783251204,7.3671255530811941E-2,4664.3799999999983,9328.269999999995,18654.579999999991,707.21915599999318,1150.2882629999865,1374.3063299999731]
["2013-09-24",666.40999999999963,101.10131499999906,0.15171038099668241,null,null,null,null,null,null,11.001314999999016,null,null,null,90.100000000000051,null,null,null,null,null,null,null,null,null,null,null,null,null,null,null,null,null,null,null,null,null,null,"2013-09-28",0.15167218704042604,0.15978620244982353,9.1910056551079491E-2,4664.659999999998,9328.8299999999963,18655.699999999993,707.49918399999342,1490.6183189999865,1714.6464419999731]
["2013-09-27",666.4399999999996,101.13131799999908,0.15174857151431359,null,null,null,null,null,null,11.001317999999014,null,null,null,90.130000000000067,null,null,null,null,null,null,null,null,null,null,null,null,null,null,null,null,null,null,null,null,null,null,"2013-10-01",0.15171038099668241,0.15166582104670656,0.1055933482843,4664.8699999999972,9329.2499999999964,18656.53999999999,707.7092049999934,1414.9283609999866,1970.0065259999733]
["2013-10-02",666.48999999999955,101.1813229999991,0.15181221473690404,null,null,null,null,null,null,11.00132299999901,null,null,null,90.180000000000092,null,null,null,null,null,null,null,null,null,null,null,null,null,null,null,null,null,null,null,null,null,null,"2013-10-06",0.15177402994928299,0.1517294766852971,0.12840681586498692,4665.2199999999975,9329.9499999999953,18657.939999999995,708.05923999999368,1415.6284309999869,2395.8066659999736]
["2013-10-05",666.51999999999953,101.21132599999912,0.15185039608713796,null,null,null,null,null,null,11.001325999999008,null,null,null,90.210000000000107,null,null,null,null,null,null,null,null,null,null,null,null,null,null,null,null,null,null,null,null,null,null,"2013-10-09",0.15181221473690404,0.15176766548378981,0.14209968443810236,4665.4299999999967,9330.3699999999953,18658.779999999988,708.26926099999366,1416.0484729999871,2651.4067499999737]
["2013-10-08",666.5499999999995,101.24132899999913,0.15188857400044889,null,null,null,null,null,null,11.001328999999005,null,null,null,90.240000000000123,null,null,null,null,null,null,null,null,null,null,null,null,null,null,null,null,null,null,null,null,null,null,"2013-10-12",0.15185039608713796,0.15180585084435383,0.15579560752040905,4665.6399999999967,9330.7899999999936,18659.619999999992,708.47928199999387,1416.4685149999873,2907.0868339999738]
["2013-10-09",666.55999999999949,101.25132999999913,0.15190129920787207,null,null,null,null,null,null,11.001329999999005,null,null,null,90.250000000000128,null,null,null,null,null,null,null,null,null,null,null,null,null,null,null,null,null,null,null,null,null,null,"2013-10-13",0.151863122440099,0.15181857853397124,0.16036081983290235,4665.7099999999964,9330.9299999999948,18659.899999999994,708.54928899999379,1416.6085289999874,2992.3168619999738]
["2013-10-15",666.61999999999944,101.31133599999916,0.15197764243496931,null,null,null,null,null,null,11.001335999999,null,null,null,90.310000000000159,null,null,null,null,null,null,null,null,null,null,null,null,null,null,null,null,null,null,null,null,null,null,"2013-10-19",0.1519394725393409,0.15189493665188802,0.15180585084435386,4666.1299999999956,9331.7699999999913,18661.579999999987,708.9693309999941,1417.4486129999877,2832.937029999975]
["2013-10-16",666.62999999999943,101.32133699999916,0.15199036497007223,null,null,null,null,null,null,11.001336999998999,null,null,null,90.320000000000164,null,null,null,null,null,null,null,null,null,null,null,null,null,null,null,null,null,null,null,null,null,null,"2013-10-20",0.15195219621962081,0.15190766166840325,0.15181857853397121,4666.1999999999962,9331.9099999999926,18661.859999999993,709.03933799999402,1417.5886269999878,2833.2170579999747]
["2013-10-20",666.66999999999939,101.36134099999919,0.15204125129374244,null,null,null,null,null,null,11.001340999998996,null,null,null,90.360000000000184,null,null,null,null,null,null,null,null,null,null,null,null,null,null,null,null,null,null,null,null,null,null,"2013-10-24",0.15200308712348384,0.15195855791660612,0.15186948547337983,4666.4799999999959,9332.4699999999939,18662.979999999981,709.31936599999426,1418.1486829999883,2834.3371699999757]
["2013-10-23",666.69999999999936,{"$f":"SUM(K1346:Q1346)","v":101.39134399999919},{"$f":"C1346/B1346","v":0.15207941202939745},null,null,null,null,null,null,11.001343999998994,null,null,null,90.3900000000002,null,null,null,null,null,null,null,null,null,null,null,null,null,null,null,null,null,null,null,null,null,null,"2013-10-27",0.15204125129374246,0.15199672609448839,0.15190766166840322,4666.6899999999951,9332.8899999999903,18663.819999999989,709.52938699999424,1418.5687249999883,2835.1772539999756]
["2013-10-28",999.02,101.44134899999922,0.10154085904186025,null,null,null,null,null,null,11.00134899999899,null,null,null,{"$f":"O1350+0.01","v":90.440000000000225},null,null,null,null,null,null,null,null,null,null,null,null,null,null,null,null,null,null,null,null,null,null,"2013-11-01",0.12533513811276692,0.13738759341361317,0.14426676157039628,5663.8499999999967,10330.399999999994,19662.029999999984,709.87942199999452,1419.2687949999888,2836.5773939999767]
["2013-10-31",999.05,101.47135199999923,0.10156784144937614,null,null,null,null,null,null,11.001351999998988,null,null,null,90.47000000000024,null,null,null,null,null,null,null,null,null,null,null,null,null,null,null,null,null,null,null,null,null,null,"2013-11-04",{"$f":"AS1354/AP1354","v":0.1066061104630468},0.12532973243299697,0.13734082415603624,{"$f":"SUM(B1348:B1354)","v":6660.87},11327.629999999994,20659.679999999986,{"$f":"SUM(C1348:C1354)","v":710.0894429999945},1419.6888369999888,2837.4174779999767]
["2013-11-03",999.07999999999993,101.50135499999924,0.10159482223645679,null,null,null,null,null,null,11.001354999998986,null,null,null,90.500000000000256,null,null,null,null,null,null,null,null,null,null,null,null,null,null,null,null,null,null,null,null,null,null,"2013-11-07",0.10156784144937613,0.11522312456287453,0.13105297661345966,6993.35,12324.859999999995,21657.329999999994,710.2994639999946,1420.1088789999892,2838.2575619999775]
["2013-11-04",999.08999999999992,101.51135599999924,0.10160381547207883,null,null,null,null,null,null,11.001355999998985,null,null,null,90.510000000000261,null,null,null,null,null,null,null,null,null,null,null,null,null,null,null,null,null,null,null,null,null,null,"2013-11-08",0.10157683522511082,0.11220815333796227,0.12908381446374323,6993.42,12657.269999999995,21989.879999999994,710.36947099999452,1420.2488929999893,2838.5375899999772]
["2013-11-10",999.14999999999986,101.57136199999927,0.1016577711054389,null,null,null,null,null,null,11.001361999998981,null,null,null,90.570000000000292,null,null,null,null,null,null,null,null,null,null,null,null,null,null,null,null,null,null,null,null,null,null,"2013-11-14",0.10163079409880622,0.1015993188767715,0.11841552817197866,6993.8399999999983,13987.189999999999,23985.179999999993,710.78951299999471,1421.0889769999894,2840.2177579999784]
["2013-11-11",999.15999999999985,101.58136299999927,0.10166676308098732,null,null,null,null,null,null,11.00136299999898,null,null,null,90.580000000000297,null,null,null,null,null,null,null,null,null,null,null,null,null,null,null,null,null,null,null,null,null,null,"2013-11-15",0.10163978661435374,0.10160831202237952,0.11680768665496243,6993.91,13987.329999999998,24317.729999999992,710.85951999999475,1421.2289909999895,2840.4977859999785]
["2013-11-15",999.19999999999982,101.6213669999993,0.101702729183346,null,null,null,null,null,null,11.001366999998977,null,null,null,90.620000000000317,null,null,null,null,null,null,null,null,null,null,null,null,null,null,null,null,null,null,null,null,null,null,"2013-11-19",0.10167575487654684,0.10164428280462527,0.11079326471960815,6994.1899999999987,13987.89,25647.929999999993,711.13954799999499,1421.7890469999898,2841.6178979999786]
["2013-11-18",999.22999999999979,101.6513699999993,0.10172970187043956,null,null,null,null,null,null,11.001369999998975,null,null,null,90.650000000000333,null,null,null,null,null,null,null,null,null,null,null,null,null,null,null,null,null,null,null,null,null,null,"2013-11-22",0.101702729183346,0.10167125900126535,0.10667652879014004,6994.3999999999978,13988.31,26645.579999999994,711.34956899999497,1422.2090889999899,2842.457981999979]
["2013-11-22",999.26999999999975,101.69137399999933,0.10176566293394113,null,null,null,null,null,null,11.001373999998972,null,null,null,90.690000000000353,null,null,null,null,null,null,null,null,null,null,null,null,null,null,null,null,null,null,null,null,null,null,"2013-11-26",0.10173869240622807,0.10170722474367051,0.1016442828046253,6994.6799999999976,13988.869999999999,27975.779999999992,711.6295969999951,1422.76914499999,2843.5780939999795]
["2013-11-23",999.27999999999975,101.70137499999933,0.10177465274997934,null,null,null,null,null,null,11.001374999998971,null,null,null,90.700000000000358,null,null,null,null,null,null,null,null,null,null,null,null,null,null,null,null,null,null,null,null,null,null,"2013-11-27",0.10174768276207088,0.10171621572934686,0.1016532750501672,6994.7499999999982,13989.009999999998,27976.05999999999,711.69960399999513,1422.9091589999903,2843.8581219999796]
["2013-11-29",999.33999999999969,101.76138099999936,0.10182858786799227,null,null,null,null,null,null,11.001380999998966,null,null,null,90.760000000000389,null,null,null,null,null,null,null,null,null,null,null,null,null,null,null,null,null,null,null,null,null,null,"2013-12-03",0.10180162111857118,0.10177015786445107,0.10170722474367053,6995.1699999999983,13989.849999999995,27977.739999999998,712.11964599999533,1423.7492429999902,2845.5382899999804]
["2013-11-30",999.34999999999968,101.77138199999936,0.10183757642467543,null,null,null,null,null,null,11.001381999998966,null,null,null,90.770000000000394,null,null,null,null,null,null,null,null,null,null,null,null,null,null,null,null,null,null,null,null,null,null,"2013-12-04",0.10181061021494554,0.10177914759052657,0.10171621572934687,6995.2399999999971,13989.989999999998,27978.019999999993,712.18965299999536,1423.8892569999907,2845.8183179999805]
["2013-12-03",999.37999999999965,101.80138499999937,0.10186454101542897,null,null,null,null,null,null,11.001384999998963,null,null,null,90.800000000000409,null,null,null,null,null,null,null,null,null,null,null,null,null,null,null,null,null,null,null,null,null,null,"2013-12-07",0.10183757642467545,0.10180611568924652,0.10174318760664236,6995.4499999999971,13990.409999999994,27978.859999999993,712.39967399999557,1424.3092989999909,2846.6584019999809]
["2013-12-06",999.40999999999963,101.83138799999938,0.10189150398735196,null,null,null,null,null,null,11.001387999998961,null,null,null,90.830000000000425,null,null,null,null,null,null,null,null,null,null,null,null,null,null,null,null,null,null,null,null,null,null,"2013-12-10",0.10186454101542895,0.10183308216881995,0.10177015786445108,6995.659999999998,13990.829999999994,27979.699999999993,712.60969499999555,1424.7293409999907,2847.4984859999813]
["2013-12-11",999.45999999999958,101.88139299999941,0.10193643867688497,null,null,null,null,null,null,11.001392999998957,null,null,null,90.88000000000045,null,null,null,null,null,null,null,null,null,null,null,null,null,null,null,null,null,null,null,null,null,null,"2013-12-15",0.10190947840268899,0.10187802270373519,0.10181510469566893,6996.0099999999966,13991.529999999993,27981.099999999995,712.95972999999583,1425.4294109999914,2848.8986259999815]
["2013-12-14",999.48999999999955,101.91139599999943,0.10196339733263912,null,null,null,null,null,null,11.001395999998955,null,null,null,90.910000000000466,null,null,null,null,null,null,null,null,null,null,null,null,null,null,null,null,null,null,null,null,null,null,"2013-12-18",0.10193643867688496,0.10190498486629755,0.10184207063555931,6996.2199999999975,13991.949999999993,27981.939999999995,713.16975099999581,1425.8494529999914,2849.7387099999819]
["2013-12-18",999.52999999999952,101.95139999999944,0.10199933968965362,null,null,null,null,null,null,11.001399999998952,null,null,null,90.950000000000486,null,null,null,null,null,null,null,null,null,null,null,null,null,null,null,null,null,null,null,null,null,null,"2013-12-22",0.10197238319159527,0.10194093189856519,0.10187802270373517,6996.4999999999973,13992.509999999995,27983.05999999999,713.44977899999606,1426.4095089999919,2850.8588219999824]
["2013-12-19",999.53999999999951,101.96140099999944,0.10200832482942103,null,null,null,null,null,null,11.001400999998951,null,null,null,90.960000000000491,null,null,null,null,null,null,null,null,null,null,null,null,null,null,null,null,null,null,null,null,null,null,"2013-12-23",0.10198136887074614,0.10194991820705815,0.10188701027111075,6996.5699999999961,13992.649999999992,27983.339999999989,713.51978599999597,1426.5495229999915,2851.138849999983]
["2013-12-25",999.59999999999945,102.02140699999947,0.10206223189275664,null,null,null,null,null,null,11.001406999998947,null,null,null,91.020000000000522,null,null,null,null,null,null,null,null,null,null,null,null,null,null,null,null,null,null,null,null,null,null,"2013-12-29",0.10203527917004263,0.10200383228201063,0.10194093189856522,6996.9899999999961,13993.489999999994,27985.019999999982,713.93982799999617,1427.3896069999923,2852.8190179999838]
["2013-12-26",999.60999999999945,{"$f":"SUM(K1410:Q1410)","v":102.03140799999947},0.10207121577415144,null,null,null,null,null,null,11.001407999998946,null,null,null,91.030000000000527,null,null,null,null,null,null,null,null,null,null,null,null,null,null,null,null,null,null,null,null,null,null,"2013-12-30",0.1020442635907076,0.1020128173318855,0.10194991820705816,6997.0599999999968,13993.629999999992,27985.299999999988,714.0098349999962,1427.5296209999919,2853.0990459999834]
["2013-12-29",999.63999999999942,102.06141099999948,0.1020981663398819,null,null,null,null,null,null,11.001410999998944,null,null,null,91.060000000000542,null,null,null,null,null,null,null,null,null,null,null,null,null,null,null,null,null,null,null,null,null,null,"2014-01-02",0.10207121577415143,0.10203977140284574,0.10197687605364605,6997.2699999999968,13994.049999999992,27986.139999999985,714.2198559999963,1427.9496629999926,2853.9391299999843]
["2014-01-01",999.66999999999939,102.0914139999995,0.10212511528804462,null,null,null,null,null,null,11.001413999998942,null,null,null,91.090000000000558,null,null,null,null,null,null,null,null,null,null,null,null,null,null,null,null,null,null,null,null,null,null,"2014-01-05",0.10209816633988192,0.10206672385592261,0.10200383228201063,6997.479999999995,13994.469999999994,27986.979999999985,714.4298769999964,1428.3697049999926,2854.7792139999842]
["2014-01-06",999.71999999999935,102.14141899999952,0.10217002660744967,null,null,null,null,null,null,11.001418999998938,null,null,null,91.140000000000583,null,null,null,null,null,null,null,null,null,null,null,null,null,null,null,null,null,null,null,null,null,null,"2014-01-10",0.10214308035490959,0.10211164101615014,0.10204875573362898,6997.8299999999963,13995.169999999991,27988.379999999983,714.77991199999656,1429.0697749999931,2856.1793539999849]
["2014-01-09",999.74999999999932,102.17142199999954,0.10219697124281031,null,null,null,null,null,null,11.001421999998936,null,null,null,91.170000000000599,null,null,null,null,null,null,null,null,null,null,null,null,null,null,null,null,null,null,null,null,null,null,"2014-01-13",0.10217002660744968,0.10213858915558355,0.10207570764744379,6998.0399999999945,13995.589999999993,27989.219999999983,714.98993299999665,1429.4898169999929,2857.0194379999853]
["2014-01-13",999.78999999999928,102.21142599999955,0.10223289490793029,null,null,null,null,null,null,11.001425999998933,null,null,null,91.210000000000619,null,null,null,null,null,null,null,null,null,null,null,null,null,null,null,null,null,null,null,null,null,null,"2014-01-17",0.10220595242858246,0.10217451749230999,0.10211164101615011,6998.3199999999943,13996.149999999991,27990.339999999986,715.26996099999667,1430.0498729999936,2858.1395499999858]
["2014-01-16",999.81999999999925,102.24142899999957,0.10225983577043833,null,null,null,null,null,null,11.001428999998931,null,null,null,91.240000000000634,null,null,null,null,null,null,null,null,null,null,null,null,null,null,null,null,null,null,null,null,null,null,"2014-01-20",0.10223289490793029,0.10220146185815485,0.10213858915558356,6998.5299999999952,13996.569999999989,27991.179999999986,715.47998199999688,1430.4699149999933,2858.9796339999862]
["2014-01-18",999.83999999999924,102.26143099999958,0.10227779544727121,null,null,null,null,null,null,11.001430999998929,null,null,null,91.260000000000645,null,null,null,null,null,null,null,null,null,null,null,null,null,null,null,null,null,null,null,null,null,null,"2014-01-22",0.10225085566257554,0.10221942387037045,0.10215655368333618,6998.6699999999946,13996.849999999991,27991.73999999998,715.61999599999695,1430.7499429999937,2859.5396899999864]
["2014-01-21",999.86999999999921,151.01143399999893,0.15103106803884409,null,null,null,null,null,null,11.001433999998927,null,null,null,140.01,null,null,null,null,null,null,null,null,null,null,null,null,null,null,null,null,null,null,null,null,null,null,"2014-01-25",0.15573920641588312,0.1289780067827507,0.11555025560344875,6998.8799999999937,13997.269999999991,27992.579999999984,1090.0000169999951,1805.3399849999919,3234.5497739999855]
["2014-01-24",999.89999999999918,151.04143699999889,0.15105654265426444,null,null,null,null,null,null,11.001436999998925,null,null,null,140.03999999999996,null,null,null,null,null,null,null,null,null,null,null,null,null,null,null,null,null,null,null,null,null,null,"2014-01-28",0.1766472552860435,0.13944586763958852,{"$f":"AU1439/AR1439","v":0.12079802532166435},6999.0899999999947,13997.689999999988,{"$f":"SUM(B1412:B1439)","v":27993.41999999998},1236.3700379999932,1951.9200269999901,{"$f":"SUM(C1412:C1439)","v":3381.549857999983}]
["2014-01-28",999.93999999999915,151.08144099999885,0.1510905064303848,null,null,null,null,null,null,11.001440999998922,null,null,null,140.07999999999993,null,null,null,null,null,null,null,null,null,null,null,null,null,null,null,null,null,null,null,null,null,null,"2014-02-01",0.15106503385304582,0.15340203832621857,0.12779456172525011,6999.3699999999935,13998.249999999987,27994.539999999983,1057.3600659999922,2147.3600829999873,3577.5499699999809]
["2014-01-31",999.96999999999912,151.11144399999881,0.15111597747932332,null,null,null,null,null,null,11.001443999998919,null,null,null,140.1099999999999,null,null,null,null,null,null,null,null,null,null,null,null,null,null,null,null,null,null,null,null,null,null,"2014-02-04",0.15109050643038477,0.16386843357261704,0.13304159664916074,6999.5799999999945,13998.669999999987,27995.379999999979,1057.5700869999919,2293.9401249999851,3724.5500539999784]
["2014-02-04",1000.0099999999991,151.15144799999877,0.15114993650063391,null,null,null,null,null,null,11.001447999998916,null,null,null,140.14999999999986,null,null,null,null,null,null,null,null,null,null,null,null,null,null,null,null,null,null,null,null,null,null,"2014-02-08",0.15112446748934871,0.15109475171134309,0.14003715342989226,6999.8599999999942,13999.229999999989,27996.499999999978,1057.8501149999915,2115.210180999984,3920.5501659999759]
["2014-02-08",1000.049999999999,151.19145199999875,0.15118389280535863,null,null,null,null,null,null,11.001451999998913,null,null,null,140.18999999999983,null,null,null,null,null,null,null,null,null,null,null,null,null,null,null,null,null,null,null,null,null,null,"2014-02-12",0.15115842583148228,0.15112871243068543,0.14703215051850749,7000.139999999994,13999.789999999986,27997.619999999977,1058.1301429999914,2115.7702369999834,4116.5502779999724]
["2014-02-11",1000.079999999999,151.22145499999871,0.15120935825133874,null,null,null,null,null,null,11.001454999998911,null,null,null,140.2199999999998,null,null,null,null,null,null,null,null,null,null,null,null,null,null,null,null,null,null,null,null,null,null,"2014-02-15",0.15118389280535863,0.15115418118728108,0.15227803107742263,7000.3499999999931,14000.209999999988,27998.45999999997,1058.3401639999913,2116.1902789999826,4263.5503619999699]
["2014-02-13",1000.099999999999,151.24145699999869,0.15122633436656219,null,null,null,null,null,null,11.00145699999891,null,null,null,140.23999999999978,null,null,null,null,null,null,null,null,null,null,null,null,null,null,null,null,null,null,null,null,null,null,"2014-02-17",0.15120086993910317,0.15117115950941606,0.15577510991456028,7000.4899999999925,14000.489999999985,27999.019999999979,1058.4801779999912,2116.4703069999823,4361.550417999968]
["2014-02-16",1000.129999999999,151.27145999999865,0.15125179726635418,null,null,null,null,null,null,11.001459999998907,null,null,null,140.26999999999975,null,null,null,null,null,null,null,null,null,null,null,null,null,null,null,null,null,null,null,null,null,null,"2014-02-20",0.15122633436656216,0.15119662571932713,0.15113720218600982,7000.6999999999935,14000.909999999985,27999.859999999979,1058.6901989999908,2116.8903489999821,4231.8205019999659]
["2014-02-19",1000.1599999999989,151.30146299999862,0.1512772586386166,null,null,null,null,null,null,11.001462999998905,null,null,null,140.29999999999973,null,null,null,null,null,null,null,null,null,null,null,null,null,null,null,null,null,null,null,null,null,null,"2014-02-23",0.15125179726635421,0.15122209040141066,0.15116267043323808,7000.9099999999926,14001.329999999987,28000.699999999972,1058.9002199999907,2117.3103909999813,4232.6605859999654]
["2014-02-23",1000.1999999999989,151.3414669999986,0.15131120475904697,null,null,null,null,null,null,11.001466999998902,null,null,null,140.33999999999969,null,null,null,null,null,null,null,null,null,null,null,null,null,null,null,null,null,null,null,null,null,null,"2014-02-27",0.1512857454232768,0.15125604093447267,0.15119662571932713,7001.1899999999932,14001.889999999985,28001.819999999971,1059.1802479999903,2117.8704469999811,4233.7806979999641]
["2014-02-26",1000.2299999999989,151.37146999999857,0.15133666256760819,null,null,null,null,null,null,11.0014699999989,null,null,null,140.36999999999966,null,null,null,null,null,null,null,null,null,null,null,null,null,null,null,null,null,null,null,null,null,null,"2014-03-02",0.15131120475904697,0.1512815020521602,0.15122209040141074,7001.3999999999915,14002.309999999987,28002.659999999967,1059.3902689999902,2118.2904889999813,4234.6207819999636]
["2014-03-02",1000.2699999999988,151.41147399999852,0.15137060393693572,null,null,null,null,null,null,{"$f":"K1475+0.000001","v":11.001473999998897},null,null,null,140.40999999999963,null,null,null,null,null,null,null,null,null,null,null,null,null,null,null,null,null,null,null,null,null,null,"2014-03-06",0.15134514816443928,0.15131544783319298,0.15125604093447267,7001.6799999999912,14002.869999999984,28003.77999999997,1059.6702969999899,2118.8505449999807,4235.7408939999623]
["2014-03-06",1000.3099999999988,151.45147799999847,0.1514045425917952,null,null,null,null,null,null,11.001477999998894,null,null,null,140.44999999999959,null,null,null,null,null,null,null,null,null,null,null,null,null,null,null,null,null,null,null,null,null,null,"2014-03-10",0.15137908885511928,0.15134939089922841,0.15128998875196722,7001.9599999999909,14003.429999999986,28004.899999999969,1059.9503249999896,2119.41060099998,4236.8610059999619]
["2014-03-09",666.01,151.48148099999847,0.22744625606221899,null,null,null,null,null,null,11.001480999998892,null,null,null,140.47999999999956,null,null,null,null,null,null,null,null,null,null,null,null,null,null,null,null,null,null,null,null,null,null,"2014-03-13",0.16738906956805791,0.15896516232614469,0.15501659613974741,6333.5099999999939,13335.189999999986,27337.079999999969,1060.1603459999894,2119.8306429999793,4237.7010899999614]
["2014-03-10",666.02,151.49148199999846,0.22745785712140545,null,null,null,null,null,null,11.001481999998891,null,null,null,140.48999999999955,null,null,null,null,null,null,null,null,null,null,null,null,null,null,null,null,null,null,null,null,null,null,"2014-03-14",0.17672714972704753,0.16306212268286907,0.15694465095213259,5999.2499999999964,13000.999999999991,27003.029999999973,1060.2303529999892,2119.9706569999794,4237.9811179999606]
["2014-03-15",666.06999999999994,151.5414869999984,0.22751585719218462,null,null,null,null,null,null,11.001486999998887,null,null,null,140.53999999999951,null,null,null,null,null,null,null,null,null,null,null,null,null,null,null,null,null,null,null,null,null,null,"2014-03-19",0.22748105819470066,{"$f":"AT1489/AQ1489","v":0.18717223021963539},0.16734765225135037,4662.28,{"$f":"SUM(B1476:B1489)","v":11330.049999999994},25332.779999999973,1060.5803879999889,{"$f":"SUM(C1476:C1489)","v":2120.6707269999788},4239.3812579999594]
["2014-03-17",666.08999999999992,151.56148899999837,0.22753905478238434,null,null,null,null,null,null,11.001488999998886,null,null,null,140.55999999999949,null,null,null,null,null,null,null,null,null,null,null,null,null,null,null,null,null,null,null,null,null,null,"2014-03-21",0.22750425787466352,0.19893232064019795,0.17190335791909575,4662.42,10661.669999999996,24664.679999999982,1060.7204019999888,2120.9507549999785,4239.9413139999597]
["2014-03-21",666.12999999999988,151.60149299999833,0.22758544578385353,null,null,null,null,null,null,11.001492999998883,null,null,null,140.59999999999945,null,null,null,null,null,null,null,null,null,null,null,null,null,null,null,null,null,null,null,null,null,null,"2014-03-25",0.22755065305509437,0.22751005757696088,0.18179758929857243,4662.7,9324.909999999998,23328.479999999985,1061.0004299999885,2121.5108109999778,4241.0614259999584]
["2014-03-24",666.15999999999985,151.63149599999832,0.22762023537888548,null,null,null,null,null,null,11.00149599999888,null,null,null,140.62999999999943,null,null,null,null,null,null,null,null,null,null,null,null,null,null,null,null,null,null,null,null,null,null,"2014-03-28",0.22758544578385356,0.2275448539622702,0.1899954676832224,4662.9099999999989,9325.33,22326.329999999991,1061.2104509999883,2121.9308529999771,4241.9015099999569]
["2014-03-28",666.19999999999982,151.67149999999828,0.22766661663163962,null,null,null,null,null,null,11.001499999998877,null,null,null,140.66999999999939,null,null,null,null,null,null,null,null,null,null,null,null,null,null,null,null,null,null,null,null,null,null,"2014-04-01",0.22763183121425215,0.22759124426730065,0.2021436561850716,4663.1899999999987,9325.89,20990.129999999994,1061.4904789999882,2122.4909089999765,4243.0216219999556]
["2014-04-01",666.23999999999978,151.71150399999823,0.22771299231507908,null,null,null,null,null,null,11.001503999998874,null,null,null,140.70999999999935,null,null,null,null,null,null,null,null,null,null,null,null,null,null,null,null,null,null,null,null,null,null,"2014-04-05",0.22767821107458358,0.22763762900138595,0.21594366795851794,4663.4699999999984,9326.4499999999989,19653.93,1061.7705069999879,2123.0509649999758,4244.1417339999543]
["2014-04-04",666.26999999999975,151.74150699999819,0.2277477704233993,null,null,null,null,null,null,11.001506999998872,null,null,null,140.73999999999933,null,null,null,null,null,null,null,null,null,null,null,null,null,null,null,null,null,null,null,null,null,null,"2014-04-08",0.22771299231507905,0.22767241389662085,0.22759124426730076,4663.6799999999985,9326.869999999999,18651.779999999995,1061.9805279999875,2123.471006999976,4244.9818179999538]
["2014-04-05",666.27999999999975,151.75150799999818,0.22775936243020689,null,null,null,null,null,null,11.001507999998871,null,null,null,140.74999999999932,null,null,null,null,null,null,null,null,null,null,null,null,null,null,null,null,null,null,null,null,null,null,"2014-04-09",0.22772458536585108,0.22768400816552958,0.22760284097305897,4663.7499999999982,9327.0099999999984,18652.059999999994,1062.0505349999876,2123.6110209999756,4245.261845999953]
["2014-04-10",666.3299999999997,151.80151299999815,0.22781731724520615,null,null,null,null,null,null,11.001512999998868,null,null,null,140.79999999999927,null,null,null,null,null,null,null,null,null,null,null,null,null,null,null,null,null,null,null,null,null,null,"2014-04-14",0.22778254539996728,0.22774197428950682,0.22766081927963777,4664.0999999999985,9327.7099999999973,18653.46,1062.4005699999871,2124.311090999975,4246.6619859999519]
["2014-04-12",666.34999999999968,151.82151499999813,0.22784049673594689,null,null,null,null,null,null,11.001514999998866,null,null,null,140.81999999999925,null,null,null,null,null,null,null,null,null,null,null,null,null,null,null,null,null,null,null,null,null,null,"2014-04-16",0.22780572697802592,0.22776515830312588,0.22768400816552967,4664.239999999998,9327.989999999998,18654.01999999999,1062.5405839999871,2124.5911189999747,4247.2220419999512]
["2014-04-16",666.38999999999965,151.86151899999808,0.22788685154338775,null,null,null,null,null,null,11.001518999998863,null,null,null,140.85999999999922,null,null,null,null,null,null,null,null,null,null,null,null,null,null,null,null,null,null,null,null,null,null,"2014-04-20",0.22785208595953868,0.22781152215510181,0.22773038176073462,4664.5199999999977,9328.5499999999956,18655.139999999996,1062.8206119999868,2125.151174999974,4248.3421539999499]
["2014-04-19",666.41999999999962,151.89152199999805,0.22792161399717617,null,null,null,null,null,null,11.001521999998861,null,null,null,140.88999999999919,null,null,null,null,null,null,null,null,null,null,null,null,null,null,null,null,null,null,null,null,null,null,"2014-04-23",0.22788685154338775,0.22784629139122264,0.22776515830312594,4664.7299999999977,9328.9699999999957,18655.979999999992,1063.0306329999867,2125.5712169999733,4249.1822379999494]
["2014-04-23",{"$f":"B1527+0.01","v":666.45999999999958},151.931525999998,0.22796795906730802,null,null,null,null,null,null,11.001525999998858,null,null,null,140.92999999999915,null,null,null,null,null,null,null,null,null,null,null,null,null,null,null,null,null,null,null,null,null,null,"2014-04-27",0.22793320078627638,0.22789264550303973,0.22781152215510175,4665.0099999999966,9329.5299999999934,18657.099999999991,1063.3106609999863,2126.1312729999727,4250.3023499999472]
["2014-04-27",666.49999999999955,151.97152999999798,0.22801429857464078,null,null,null,null,null,null,11.001529999998855,null,null,null,140.96999999999912,null,null,null,null,null,null,null,null,null,null,null,null,null,null,null,null,null,null,null,null,null,null,"2014-05-01",0.2279795444656145,0.22793899405042969,0.22785788044089678,4665.2899999999972,9330.0899999999947,18658.21999999999,1063.590688999986,2126.6913289999725,4251.4224619999468]
["2014-04-30",666.52999999999952,152.00153299999795,0.2280490495551559,null,null,null,null,null,null,11.001532999998853,null,null,null,140.99999999999909,null,null,null,null,null,null,null,null,null,null,null,null,null,null,null,null,null,null,null,null,null,null,"2014-05-04",0.22801429857464076,0.22797375180991969,0.22789264550303978,4665.4999999999973,9330.5099999999929,18659.059999999987,1063.8007099999859,2127.1113709999722,4252.2625459999463]
["2014-05-01",666.53999999999951,152.01153399999794,0.22806063252017592,null,null,null,null,null,null,11.001533999998852,null,null,null,141.00999999999908,null,null,null,null,null,null,null,null,null,null,null,null,null,null,null,null,null,null,null,null,null,null,"2014-05-05",0.228025882582404,0.22798533703439461,0.22790423316151312,4665.5699999999961,9330.6499999999924,18659.339999999993,1063.8707169999857,2127.2513849999723,4252.5425739999464]
["2014-05-04",666.56999999999948,152.0415369999979,0.22809537932999988,null,null,null,null,null,null,11.00153699999885,null,null,null,141.03999999999905,null,null,null,null,null,null,null,null,null,null,null,null,null,null,null,null,null,null,null,null,null,null,"2014-05-08",0.22806063252017589,0.22802009062197298,0.22793899405042972,4665.779999999997,9331.0699999999943,18660.179999999993,1064.0807379999856,2127.671426999972,4253.3826579999459]
["2014-05-10",666.62999999999943,152.10154299999783,0.22816486356749316,null,null,null,null,null,null,11.001542999998845,null,null,null,141.099999999999,null,null,null,null,null,null,null,null,null,null,null,null,null,null,null,null,null,null,null,null,null,null,"2014-05-14",0.22813012301229821,0.22808958841222995,0.22800850644040549,4666.1999999999962,9331.9099999999926,18661.859999999993,1064.5007799999851,2128.5115109999711,4255.0628259999439]
["2014-05-12",666.64999999999941,152.12154499999784,0.22818802220055198,null,null,null,null,null,null,11.001544999998844,null,null,null,141.11999999999898,null,null,null,null,null,null,null,null,null,null,null,null,null,null,null,null,null,null,null,null,null,null,"2014-05-16",0.22815328372985802,0.22811275156206337,0.22803167445593583,4666.3399999999965,9332.1899999999932,18662.419999999991,1064.6407939999849,2128.7915389999707,4255.6228819999442]
["2014-05-15",666.67999999999938,152.1515479999978,0.22822275754484603,null,null,null,null,null,null,11.001547999998841,null,null,null,141.14999999999895,null,null,null,null,null,null,null,null,null,null,null,null,null,null,null,null,null,null,null,null,null,null,"2014-05-19",0.22818802220055195,0.22814749368075726,0.22806642387235385,4666.5499999999956,9332.6099999999933,18663.259999999984,1064.8508149999848,2129.2115809999705,4256.4629659999428]
["2014-05-19",666.71999999999935,152.19155199999776,0.22826906647467887,null,null,null,null,null,null,11.001551999998838,null,null,null,141.18999999999892,null,null,null,null,null,null,null,null,null,null,null,null,null,null,null,null,null,null,null,null,null,null,"2014-05-23",0.22823433529826145,0.22819381164170066,0.22811275156206329,4666.8299999999954,9333.1699999999928,18664.37999999999,1065.1308429999845,2129.7716369999698,4257.5830779999405]
["2014-05-23",666.75999999999931,152.23155599999771,0.22831536984821804,null,null,null,null,null,null,11.001555999998835,null,null,null,141.22999999999888,null,null,null,null,null,null,null,null,null,null,null,null,null,null,null,null,null,null,null,null,null,null,"2014-05-27",0.22828064283892713,0.22824012404472499,0.22815907369210278,4667.1099999999951,9333.7299999999923,18665.499999999982,1065.4108709999841,2130.3316929999692,4258.7031899999402]
["2014-05-26",666.78999999999928,152.26155899999767,0.22835009373265622,null,null,null,null,null,null,11.001558999998833,null,null,null,141.25999999999885,null,null,null,null,null,null,null,null,null,null,null,null,null,null,null,null,null,null,null,null,null,null,"2014-05-30",0.22831536984821807,0.22827485470021058,0.22819381164170063,4667.3199999999952,9334.1499999999905,18666.339999999989,1065.620891999984,2130.7517349999684,4259.5432739999396]
["2014-05-27",666.79999999999927,152.27155999999769,0.22836166766646349,null,null,null,null,null,null,11.001559999998832,null,null,null,141.26999999999884,null,null,null,null,null,null,null,null,null,null,null,null,null,null,null,null,null,null,null,null,null,null,"2014-05-31",0.22832694482354912,0.22828643089083051,0.22820539026347253,4667.3899999999949,9334.2899999999918,18666.619999999988,1065.6908989999838,2130.8917489999685,4259.8233019999388]
["2014-05-30",666.82999999999925,152.30156299999766,0.22839638738508738,null,null,null,null,null,null,11.00156299999883,null,null,null,141.29999999999882,null,null,null,null,null,null,null,null,null,null,null,null,null,null,null,null,null,null,null,null,null,null,"2014-06-03",0.22836166766646351,0.2283211573792833,0.22824012404472507,4667.5999999999949,9334.7099999999919,18667.459999999977,1065.9009199999839,2131.3117909999678,4260.6633859999383]
["2014-06-05",666.88999999999919,152.36156899999759,0.22846581745115052,null,null,null,null,null,null,11.001568999998826,null,null,null,141.35999999999876,null,null,null,null,null,null,null,null,null,null,null,null,null,null,null,null,null,null,null,null,null,null,"2014-06-09",0.22843110397984254,0.22839060098226344,0.22830958223035125,4668.019999999995,9335.5499999999902,18669.139999999985,1066.3209619999834,2132.1518749999673,4262.3435539999364]
["2014-06-07",666.90999999999917,152.38157099999756,0.22848895803031558,null,null,null,null,null,null,11.001570999998824,null,null,null,141.37999999999874,null,null,null,null,null,null,null,null,null,null,null,null,null,null,null,null,null,null,null,null,null,null,"2014-06-11",0.22845424664107153,0.22841374607292217,0.22833273218101741,4668.1599999999944,9335.8299999999908,18669.699999999979,1066.4609759999832,2132.431902999967,4262.9036099999357]
["2014-06-10",666.93999999999915,152.41157399999753,0.22852366629681489,null,null,null,null,null,null,11.001573999998822,null,null,null,141.40999999999872,null,null,null,null,null,null,null,null,null,null,null,null,null,null,null,null,null,null,null,null,null,null,"2014-06-14",0.22848895803031558,0.22844846110590114,0.22836745450318738,4668.3699999999935,9336.2499999999873,18670.539999999979,1066.6709969999829,2132.8519449999667,4263.7436939999352]
["2014-06-14",666.97999999999911,152.45157799999751,0.22856993912860613,null,null,null,null,null,null,11.001577999998819,null,null,null,141.44999999999868,null,null,null,null,null,null,null,null,null,null,null,null,null,null,null,null,null,null,null,null,null,null,"2014-06-18",0.22853523502511089,0.22849474295824471,0.22841374607292222,4668.6499999999942,9336.8099999999886,18671.659999999978,1066.9510249999826,2133.412000999966,4264.8638059999339]
["2014-06-18",667.01999999999907,152.49158199999746,0.2286162064105989,null,null,null,null,null,null,11.001581999998816,null,null,null,141.48999999999864,null,null,null,null,null,null,null,null,null,null,null,null,null,null,null,null,null,null,null,null,null,null,"2014-06-22",0.22858150646935896,0.22854101925916703,0.22846003208948731,4668.929999999993,9337.3699999999862,18672.779999999981,1067.2310529999825,2133.9720569999654,4265.9839179999326]
["2014-06-21",667.04999999999905,152.52158499999743,0.22865090323063886,null,null,null,null,null,null,11.001584999998814,null,null,null,141.51999999999862,null,null,null,null,null,null,null,null,null,null,null,null,null,null,null,null,null,null,null,null,null,null,"2014-06-25",0.2286162064105989,0.22857572284233929,0.22849474295824471,4669.139999999994,9337.7899999999881,18673.619999999977,1067.4410739999823,2134.3920989999647,4266.8240019999321]
["2014-06-22",667.05999999999904,152.53158599999742,0.22866246814379163,null,null,null,null,null,null,11.001585999998813,null,null,null,141.52999999999861,null,null,null,null,null,null,null,null,null,null,null,null,null,null,null,null,null,null,null,null,null,null,"2014-06-26",0.22862777236405807,0.22858729000966677,0.22850631255388199,4669.2099999999937,9337.9299999999876,18673.899999999976,1067.5110809999821,2134.5321129999647,4267.1040299999313]
["2014-06-25",667.08999999999901,152.56158899999738,0.22869716080288657,null,null,null,null,null,null,11.001588999998811,null,null,null,141.55999999999858,null,null,null,null,null,null,null,null,null,null,null,null,null,null,null,null,null,null,null,null,null,null,"2014-06-29",0.22866246814379163,0.22862198943067749,0.22854101925916695,4669.4199999999937,9338.3499999999858,18674.739999999976,1067.721101999982,2134.952154999964,4267.9441139999299]
["2014-07-01",777.05,152.62159499999734,0.19641155009329819,null,null,null,null,null,null,11.001594999998806,null,null,null,141.61999999999853,null,null,null,null,null,null,null,null,null,null,null,null,null,null,null,null,null,null,null,null,null,null,"2014-07-05",0.20043029475121812,0.21360934281733374,0.22081423399679626,5329.2399999999989,9998.5899999999929,19335.819999999978,1068.1411439999815,2135.7922389999635,4269.6242819999279]
["2014-07-03",777.06999999999994,152.64159699999732,0.19643223519116337,null,null,null,null,null,null,11.001596999998805,null,null,null,141.63999999999851,null,null,null,null,null,null,null,null,null,null,null,null,null,null,null,null,null,null,null,null,null,null,"2014-07-07",0.19640120714505999,0.20903623142737407,0.21835472663883904,5439.2799999999988,10218.669999999993,19556.179999999982,1068.2811579999816,2136.0722669999632,4270.1843379999273]
["2014-07-06",777.09999999999991,{"$f":"SUM(K1602:Q1602)","v":152.67159999999728},0.19646326084158705,null,null,null,null,null,null,11.001599999998803,null,null,null,141.66999999999848,null,null,null,null,null,null,null,null,null,null,null,null,null,null,null,null,null,null,null,null,null,null,"2014-07-10",0.19643223519116337,0.202534348394457,0.21476766515543691,5439.49,10548.789999999997,19886.719999999983,1068.4911789999812,2136.4923089999634,4271.0244219999267]
["2014-07-10",777.13999999999987,152.71160399999724,0.19650462464935181,null,null,null,null,null,null,11.0016039999988,null,null,null,141.70999999999844,null,null,null,null,null,null,null,null,null,null,null,null,null,null,null,null,null,null,null,null,null,null,"2014-07-14",0.1964736021927363,0.19643740629925988,0.21016638268271512,5439.7699999999986,10879.049999999997,20327.439999999984,1068.7712069999809,2137.0523649999627,4272.1445339999273]
["2014-07-13",777.16999999999985,152.7416069999972,0.19653564471093485,null,null,null,null,null,null,11.001606999998797,null,null,null,141.73999999999842,null,null,null,null,null,null,null,null,null,null,null,null,null,null,null,null,null,null,null,null,null,null,"2014-07-17",0.19650462464935176,0.19646843155043051,0.20684426153960495,5439.98,10879.47,20657.979999999992,1068.9812279999805,2137.472406999962,4272.9846179999267]
["2014-07-14",777.17999999999984,152.75160799999719,0.19654598419928102,null,null,null,null,null,null,11.001607999998797,null,null,null,141.74999999999841,null,null,null,null,null,null,null,null,null,null,null,null,null,null,null,null,null,null,null,null,null,null,"2014-07-18",{"$f":"AS1610/AP1610","v":0.1965149649359805},0.1964787727685057,0.20576038734292912,{"$f":"SUM(B1604:B1610)","v":5440.0499999999993},10879.609999999999,20768.159999999993,{"$f":"SUM(C1604:C1610)","v":1069.0512349999806},2137.6124209999621,4273.2646459999251]
["2014-07-18",777.2199999999998,152.79161199999717,0.19658733949203214,null,null,null,null,null,null,11.001611999998794,null,null,null,141.78999999999837,null,null,null,null,null,null,null,null,null,null,null,null,null,null,null,null,null,null,null,null,null,null,"2014-07-22",0.19655632342155357,0.1965201349795051,0.20153750495075304,5440.3299999999981,10880.169999999996,21208.879999999994,1069.3312629999803,2138.1724769999614,4274.3847579999256]
["2014-07-21",777.24999999999977,152.82161499999714,0.19661835316821766,null,null,null,null,null,null,11.001614999998791,null,null,null,141.81999999999834,null,null,null,null,null,null,null,null,null,null,null,null,null,null,null,null,null,null,null,null,null,null,"2014-07-25",0.19658733949203211,{"$f":"AT1617/AQ1617","v":0.19655115384367589},0.1984837494231472,5440.5399999999991,{"$f":"SUM(B1604:B1617)","v":10880.589999999998},21539.42,1069.5412839999801,{"$f":"SUM(C1604:C1617)","v":2138.5925189999612},4275.224841999925]
["2014-07-25",777.28999999999974,152.86161899999709,0.19665970101248845,null,null,null,null,null,null,11.001618999998788,null,null,null,141.85999999999831,null,null,null,null,null,null,null,null,null,null,null,null,null,null,null,null,null,null,null,null,null,null,"2014-07-29",0.19662869052826229,0.19659250860432595,0.19652013497950513,5440.8199999999988,10881.149999999996,21760.339999999997,1069.8213119999798,2139.1525749999605,4276.3449539999237]
["2014-07-27",777.30999999999972,152.88162099999707,0.19668037333881866,null,null,null,null,null,null,11.001620999998787,null,null,null,141.87999999999829,null,null,null,null,null,null,null,null,null,null,null,null,null,null,null,null,null,null,null,null,null,null,"2014-07-31",0.19664936445038747,0.19661318438844536,0.1965408144883678,5440.9599999999973,10881.429999999997,21760.899999999998,1069.9613259999796,2139.4326029999602,4276.9050099999222]
["2014-08-01",777.35999999999967,152.93162599999704,0.19673204950087103,null,null,null,null,null,null,11.001625999998783,null,null,null,141.92999999999824,null,null,null,null,null,null,null,null,null,null,null,null,null,null,null,null,null,null,null,null,null,null,"2014-08-05",0.19670104460138821,0.19666486919380302,0.19659250860432592,5441.3099999999986,10882.129999999997,21762.299999999996,1070.3113609999793,2140.1326729999591,4278.305149999921]
["2014-08-05",777.39999999999964,152.97162999999699,0.1967733856444521,null,null,null,null,null,null,11.00162999999878,null,null,null,141.96999999999821,null,null,null,null,null,null,null,null,null,null,null,null,null,null,null,null,null,null,null,null,null,null,"2014-08-09",0.19674238393557389,0.19670621225082763,0.19663385910853723,5441.5899999999983,10882.689999999995,21763.419999999991,1070.5913889999792,2140.6927289999585,4279.4252619999197]
["2014-08-08",777.42999999999961,61.011632999998774,7.8478619296912661E-2,null,null,null,null,null,null,11.001632999998778,null,null,null,{"$f":"O1634+0.01","v":50.01},null,null,null,null,null,null,null,null,null,null,null,null,null,null,null,null,null,null,null,null,null,null,"2014-08-12",0.16296471939431498,0.1798321225274726,0.18821156088008156,5441.7999999999965,10883.109999999997,21764.259999999991,886.82140999998262,1957.1327709999618,4096.2853459999224]
["2014-08-09",777.4399999999996,61.02163399999877,7.8490473862933216E-2,null,null,null,null,null,null,11.001633999998777,null,null,null,50.019999999999996,null,null,null,null,null,null,null,null,null,null,null,null,null,null,null,null,null,null,null,null,null,null,"2014-08-13",0.14607137197323433,0.17139023591298228,0.18399540601363157,5441.8699999999981,10883.249999999996,21764.539999999994,794.90141699998446,1865.2827849999637,4004.5753739999236]
["2014-08-13",777.47999999999956,61.061637999998766,7.8537889077530995E-2,null,null,null,null,null,null,11.001637999998774,null,null,null,50.059999999999988,null,null,null,null,null,null,null,null,null,null,null,null,null,null,null,null,null,null,null,null,null,null,"2014-08-17",7.8502328123993562E-2,0.13762486123884662,0.16713187130553039,5442.1499999999978,10883.809999999994,21765.659999999993,427.22144499999138,1497.8828409999703,3637.7354859999296]
["2014-08-16",777.50999999999954,61.091640999998752,7.8573447286850062E-2,null,null,null,null,null,null,11.001640999998772,null,null,null,50.089999999999982,null,null,null,null,null,null,null,null,null,null,null,null,null,null,null,null,null,null,null,null,null,null,"2014-08-20",7.8537889077530995E-2,0.11230311037160887,0.15448535915282363,5442.359999999996,10884.229999999996,21766.499999999993,427.4314659999913,1222.3328829999759,3362.6055699999347]
["2014-08-20",777.5499999999995,61.131644999998741,7.862085396437371E-2,null,null,null,null,null,null,11.001644999998769,null,null,null,50.129999999999974,null,null,null,null,null,null,null,null,null,null,null,null,null,null,null,null,null,null,null,null,null,null,"2014-08-24",7.858529941351837E-2,7.8543815636312964E-2,0.13762486123884662,5442.6399999999958,10884.789999999994,21767.619999999988,427.71149399999126,854.93293899998253,2995.7656819999411]
["2014-08-22",777.56999999999948,61.151646999998739,7.864455547410365E-2,null,null,null,null,null,null,11.001646999998767,null,null,null,50.14999999999997,null,null,null,null,null,null,null,null,null,null,null,null,null,null,null,null,null,null,null,null,null,null,"2014-08-26",7.8609002752268411E-2,7.8567521109187452E-2,0.12919526290208669,5442.779999999997,10885.069999999994,21768.179999999993,427.85150799999121,855.21296699998254,2812.3457379999445]
["2014-08-27",777.61999999999944,61.201651999998724,7.8703803914506792E-2,null,null,null,null,null,null,11.001651999998764,null,null,null,50.19999999999996,null,null,null,null,null,null,null,null,null,null,null,null,null,null,null,null,null,null,null,null,null,null,"2014-08-31",7.8668255764604456E-2,7.8626779456114085E-2,0.10812316443403841,5443.1299999999956,10885.769999999991,21769.579999999987,428.20154299999109,855.91303699998241,2353.7958779999526]
["2014-08-31",777.6599999999994,61.241655999998713,7.8751197181285856E-2,null,null,null,null,null,null,11.001655999998761,null,null,null,50.239999999999952,null,null,null,null,null,null,null,null,null,null,null,null,null,null,null,null,null,null,null,null,null,null,"2014-09-04",7.8715652688294904E-2,7.8674180646736105E-2,9.1267436968033216E-2,5443.4099999999962,10886.329999999993,21770.69999999999,428.48157099999105,856.4730929999821,1986.9559899999599]
["2014-09-03",777.68999999999937,61.271658999998706,7.8786738931963585E-2,null,null,null,null,null,null,11.001658999998758,null,null,null,50.269999999999946,null,null,null,null,null,null,null,null,null,null,null,null,null,null,null,null,null,null,null,null,null,null,"2014-09-07",7.8751197181285842E-2,7.8709728339493648E-2,7.8626779456114085E-2,5443.6199999999963,10886.749999999993,21771.539999999983,428.69159199999098,856.89313499998195,1711.8260739999648]
["2014-09-04",777.69999999999936,61.281659999998702,7.879858557284139E-2,null,null,null,null,null,null,11.001659999998758,null,null,null,50.279999999999944,null,null,null,null,null,null,null,null,null,null,null,null,null,null,null,null,null,null,null,null,null,null,"2014-09-08",7.8763044736197566E-2,7.8721576960911963E-2,7.8638630210977584E-2,5443.6899999999951,10886.88999999999,21771.819999999985,428.76159899999095,857.03314899998202,1712.1061019999647]
["2014-09-08",777.73999999999933,{"$f":"SUM(K1666:Q1666)","v":61.321663999998691},7.884596908992561E-2,null,null,null,null,null,null,11.001663999998755,null,null,null,50.319999999999936,null,null,null,null,null,null,null,null,null,null,null,null,null,null,null,null,null,null,null,null,null,null,"2014-09-12",7.8810431909064754E-2,7.876896839939404E-2,7.8686030182417516E-2,5443.9699999999957,10887.449999999992,21772.939999999984,429.04162699999091,857.59320499998205,1713.2262139999643]
["2014-09-11",777.7699999999993,61.351666999998685,7.8881503529319386E-2,null,null,null,null,null,null,11.001666999998752,null,null,null,50.34999999999993,null,null,null,null,null,null,null,null,null,null,null,null,null,null,null,null,null,null,null,null,null,null,"2014-09-15",7.884596908992561E-2,7.8804508779034152E-2,7.8721576960911935E-2,5444.1799999999957,10887.86999999999,21773.779999999988,429.25164799999084,858.01324699998179,1714.066297999964]
["2014-09-15",777.80999999999926,61.391670999998674,7.8928878517888337E-2,null,null,null,null,null,null,11.001670999998749,null,null,null,50.389999999999922,null,null,null,null,null,null,null,null,null,null,null,null,null,null,null,null,null,null,null,null,null,null,"2014-09-19",7.8893347733290556E-2,7.8851891686862324E-2,7.8768968399394027E-2,5444.4599999999955,10888.429999999991,21774.899999999983,429.53167599999074,858.57330299998171,1715.1864099999636]
["2014-09-18",777.83999999999924,61.42167399999866,7.8964406561759126E-2,null,null,null,null,null,null,11.001673999998747,null,null,null,50.419999999999916,null,null,null,null,null,null,null,null,null,null,null,null,null,null,null,null,null,null,null,null,null,null,"2014-09-22",7.8928878517888337E-2,7.8887425669375774E-2,7.8804508779034138E-2,5444.6699999999955,10888.849999999991,21775.739999999983,429.74169699999072,858.99334499998167,1716.0264939999636]
["2014-09-21",999.01,61.451676999998654,6.1512574448702867E-2,null,null,null,null,null,null,11.001676999998745,null,null,null,50.44999999999991,null,null,null,null,null,null,null,null,null,null,null,null,null,null,null,null,null,null,null,null,null,null,"2014-09-25",7.3032110219527061E-2,7.5842527015278771E-2,7.7270687064951354E-2,5887.1599999999962,11331.549999999992,22218.859999999979,429.95171799999065,859.41338699998153,1716.8665779999635]
["2014-09-26",999.06,61.501681999998638,6.1559547975095233E-2,null,null,null,null,null,null,11.001681999998741,null,null,null,50.499999999999901,null,null,null,null,null,null,null,null,null,null,null,null,null,null,null,null,null,null,null,null,null,null,"2014-09-30",6.153136442348945E-2,6.9152348819538703E-2,7.3663279796414127E-2,6993.2099999999991,12437.949999999995,23325.959999999985,430.30175299999058,860.11345699998105,1718.266717999963]
["2014-09-29",999.08999999999992,61.531684999998632,6.158772983414771E-2,null,null,null,null,null,null,11.001684999998739,null,null,null,50.529999999999895,null,null,null,null,null,null,null,null,null,null,null,null,null,null,null,null,null,null,null,null,null,null,"2014-10-03",6.1559547975095226E-2,6.568060539819226E-2,7.1658650983607644E-2,6993.42,13101.789999999995,23990.21999999999,430.51177399999045,860.53349899998113,1719.106801999963]
["2014-09-30",999.09999999999991,61.541685999998634,6.1597123411068599E-2,null,null,null,null,null,null,11.001685999998738,null,null,null,50.539999999999893,null,null,null,null,null,null,null,null,null,null,null,null,null,null,null,null,null,null,null,null,null,null,"2014-10-04",6.1568942116166668E-2,6.4600239509360946E-2,7.101488498920204E-2,6993.49,13323.069999999996,24211.639999999989,430.58178099999043,860.6735129999812,1719.3868299999629]
["2014-10-04",999.13999999999987,61.581689999998616,6.1634695838419663E-2,null,null,null,null,null,null,11.001689999998735,null,null,null,50.579999999999885,null,null,null,null,null,null,null,null,null,null,null,null,null,null,null,null,null,null,null,null,null,null,"2014-10-08",6.1606516799950592E-2,6.157363911618112E-2,6.8553412954050999E-2,6993.7699999999986,13987.049999999997,25097.319999999989,430.86180899999039,861.233568999981,1720.5069419999625]
["2014-10-07",999.16999999999985,61.61169299999861,6.1662873184741958E-2,null,null,null,null,null,null,11.001692999998733,null,null,null,50.609999999999879,null,null,null,null,null,null,null,null,null,null,null,null,null,null,null,null,null,null,null,null,null,null,"2014-10-11",6.1634695838419663E-2,6.16018201290141E-2,{"$f":"AU1695/AR1695","v":6.6818379385113896E-2},6993.98,13987.469999999998,{"$f":"SUM(B1668:B1695)","v":25761.579999999991},431.07182999999031,861.65361099998074,{"$f":"SUM(C1668:C1695)","v":1721.3470259999619}]
["2014-10-11",999.20999999999981,61.651696999998599,6.1700440347873434E-2,null,null,null,null,null,null,11.00169699999873,null,null,null,{"$f":"O1698+0.01","v":50.649999999999871},null,null,null,null,null,null,null,null,null,null,null,null,null,null,null,null,null,null,null,null,null,null,"2014-10-15",6.1672265257509774E-2,6.1639392180312794E-2,6.4639559114143902E-2,6994.2599999999993,13988.029999999999,26647.259999999991,431.35185799999027,862.21366699998066,1722.4671379999618]
["2014-10-14",999.23999999999978,61.681699999998592,6.1728613746445907E-2,null,null,null,null,null,null,11.001699999998728,null,null,null,50.679999999999865,null,null,null,null,null,null,null,null,null,null,null,null,null,null,null,null,null,null,null,null,null,null,"2014-10-18",6.1700440347873427E-2,6.1667569244625443E-2,6.3098180621216318E-2,6994.4699999999993,13988.449999999997,27311.519999999997,431.5618789999902,862.63370899998063,1723.3072219999617]
["2014-10-17",999.26999999999975,61.711702999998586,6.1756785453379572E-2,null,null,null,null,null,null,11.001702999998725,null,null,null,50.709999999999859,null,null,null,null,null,null,null,null,null,null,null,null,null,null,null,null,null,null,null,null,null,null,"2014-10-21",6.1728613746445907E-2,6.1695744616969098E-2,6.1629999449522486E-2,6994.6799999999976,13988.869999999999,27975.779999999992,431.77189999999013,863.05375099998048,1724.1473059999616]
["2014-10-22",999.31999999999971,61.761707999998571,6.1803734539485441E-2,null,null,null,null,null,null,11.001707999998722,null,null,null,50.759999999999849,null,null,null,null,null,null,null,null,null,null,null,null,null,null,null,null,null,null,null,null,null,null,"2014-10-26",6.1775565651611235E-2,6.1742699811358062E-2,6.1676961223395686E-2,6995.0299999999988,13989.569999999996,27977.179999999993,432.12193499999006,863.75382099998012,1725.5474459999609]
["2014-10-25",999.34999999999968,61.791710999998564,6.1831901736127064E-2,null,null,null,null,null,null,11.001710999998719,null,null,null,50.789999999999843,null,null,null,null,null,null,null,null,null,null,null,null,null,null,null,null,null,null,null,null,null,null,"2014-10-29",6.1803734539485448E-2,6.1770870672529447E-2,6.170513603178357E-2,6995.2399999999971,13989.989999999998,27978.019999999993,432.33195599998999,864.17386299998009,1726.3875299999609]
["2014-10-26",999.35999999999967,61.80171199999856,6.1841290425871137E-2,null,null,null,null,null,null,11.001711999998719,null,null,null,50.799999999999841,null,null,null,null,null,null,null,null,null,null,null,null,null,null,null,null,null,null,null,null,null,null,"2014-10-30",6.181312379293985E-2,6.1780260583710112E-2,6.1714527258624058E-2,6995.3099999999977,13990.129999999997,27978.299999999992,432.40196299998991,864.31387699998015,1726.667557999961]
["2014-10-29",999.38999999999965,61.831714999998553,6.1869455367772913E-2,null,null,null,null,null,null,11.001714999998716,null,null,null,50.829999999999835,null,null,null,null,null,null,null,null,null,null,null,null,null,null,null,null,null,null,null,null,null,null,"2014-11-02",6.1841290425871151E-2,6.1808429189701641E-2,6.1742699811358062E-2,6995.5199999999968,13990.549999999997,27979.139999999996,432.61198399998995,864.73391899998012,1727.5076419999605]
["2014-11-03",999.4399999999996,61.881719999998538,6.1916393180179462E-2,null,null,null,null,null,null,11.001719999998713,null,null,null,50.879999999999825,null,null,null,null,null,null,null,null,null,null,null,null,null,null,null,null,null,null,null,null,null,null,"2014-11-07",6.1888231056321803E-2,6.1855373108191183E-2,6.178965030696193E-2,6995.8699999999972,13991.249999999996,27980.539999999986,432.96201899998982,865.43398899997965,1728.9077819999598]
["2014-11-06",999.46999999999957,61.911722999998531,6.1944553613413667E-2,null,null,null,null,null,null,11.001722999998711,null,null,null,50.909999999999819,null,null,null,null,null,null,null,null,null,null,null,null,null,null,null,null,null,null,null,null,null,null,"2014-11-10",6.1916393180179469E-2,6.1883537204635325E-2,6.181781834920079E-2,6996.0799999999963,13991.669999999995,27981.379999999994,433.17203999998975,865.85403099997961,1729.7478659999597]
["2014-11-09",999.49999999999955,61.941725999998525,6.1972712356176643E-2,null,null,null,null,null,null,11.001725999998708,null,null,null,50.939999999999813,null,null,null,null,null,null,null,null,null,null,null,null,null,null,null,null,null,null,null,null,null,null,"2014-11-13",6.194455361341366E-2,6.1911699610278377E-2,6.1845984700283262E-2,6996.2899999999972,13992.089999999993,27982.219999999994,433.38206099998968,866.27407299997958,1730.5879499999598]
["2014-11-13",999.53999999999951,61.981729999998507,6.2010254717168437E-2,null,null,null,null,null,null,{"$f":"K1731+0.000001","v":11.001729999998705},null,null,null,50.979999999999805,null,null,null,null,null,null,null,null,null,null,null,null,null,null,null,null,null,null,null,null,null,null,"2014-11-17",6.198209822813034E-2,6.1949246854597226E-2,6.1883537204635325E-2,6996.5699999999961,13992.649999999992,27983.339999999989,433.66208899998963,866.83412899997938,1731.7080619999592]
["2014-11-16",999.56999999999948,62.0117329999985,6.2038409516090451E-2,null,null,null,null,null,null,11.001732999998703,null,null,null,51.009999999999799,null,null,null,null,null,null,null,null,null,null,null,null,null,null,null,null,null,null,null,null,null,null,"2014-11-20",6.201025471716843E-2,6.1977405315629779E-2,6.1911699610278349E-2,6996.779999999997,13993.069999999992,27984.179999999993,433.87210999998956,867.25417099997912,1732.5481459999587]
["2014-11-20",999.60999999999945,62.051736999998489,6.2075946619180006E-2,null,null,null,null,null,null,11.0017369999987,null,null,null,51.049999999999791,null,null,null,null,null,null,null,null,null,null,null,null,null,null,null,null,null,null,null,null,null,null,"2014-11-24",6.2047794073509396E-2,6.2014947301020508E-2,6.1949246854597219E-2,6997.0599999999968,13993.629999999992,27985.299999999988,434.15213799998946,867.81422699997916,1733.6682579999588]
["2014-11-21",999.61999999999944,62.061737999998485,6.2085330425560234E-2,null,null,null,null,null,null,11.001737999998699,null,null,null,51.059999999999789,null,null,null,null,null,null,null,null,null,null,null,null,null,null,null,null,null,null,null,null,null,null,"2014-11-25",6.2057178443160235E-2,6.2024332327884464E-2,6.1958633196094542E-2,6997.1299999999956,13993.769999999991,27985.579999999991,434.2221449999895,867.95424099997922,1733.9482859999589]
["2014-11-24",999.64999999999941,62.091740999998478,6.2113480718249903E-2,null,null,null,null,null,null,11.001740999998697,null,null,null,51.089999999999783,null,null,null,null,null,null,null,null,null,null,null,null,null,null,null,null,null,null,null,null,null,null,"2014-11-28",6.2085330425560234E-2,6.2052486281805493E-2,6.1986791093678974E-2,6997.3399999999965,13994.189999999991,27986.419999999987,434.43216599998942,868.37428299997907,1734.7883699999584]
["2014-11-29",999.69999999999936,62.141745999998463,6.2160394118233972E-2,null,null,null,null,null,null,11.001745999998693,null,null,null,51.139999999999773,null,null,null,null,null,null,null,null,null,null,null,null,null,null,null,null,null,null,null,null,null,null,"2014-12-03",6.2132246641390179E-2,6.2099405783109352E-2,6.2033717166966165E-2,6997.6899999999951,13994.88999999999,27987.819999999985,434.78220099998936,869.0743529999786,1736.1885099999581]
["2014-12-02",999.72999999999934,62.171748999998456,6.2188539905773055E-2,null,null,null,null,null,null,11.001748999998691,null,null,null,51.169999999999767,null,null,null,null,null,null,null,null,null,null,null,null,null,null,null,null,null,null,null,null,null,null,"2014-12-06",6.2160394118233965E-2,6.2127555231000907E-2,6.2061870557574353E-2,6997.899999999996,13995.30999999999,27988.659999999985,434.99222199998923,869.49439499997868,1737.028593999958]
["2014-12-05",1111.01,62.20175199999845,5.5986671587113034E-2,null,null,null,null,null,null,11.001751999998689,null,null,null,51.199999999999761,null,null,null,null,null,null,null,null,null,null,null,null,null,null,null,null,null,null,null,null,null,null,"2014-12-09",6.0272226723225526E-2,6.1183033120154828E-2,6.1600335956329189E-2,7220.6099999999969,14218.229999999994,28211.999999999978,435.20224299998927,869.91443699997865,1737.8686779999578]
["2014-12-09",1111.05,62.241755999998439,5.6020661536383097E-2,null,null,null,null,null,null,11.001755999998686,null,null,null,51.239999999999753,null,null,null,null,null,null,null,null,null,null,null,null,null,null,null,null,null,null,null,null,null,null,"2014-12-13",5.680779022396476E-2,5.9362176695109417E-2,6.068049090449612E-2,7665.8899999999985,14663.789999999997,28658.119999999981,435.48227099998911,870.47449299997834,1738.9887899999571]
["2014-12-12",1111.08,62.271758999998433,5.6046152392265576E-2,null,null,null,null,null,null,11.001758999998684,null,null,null,51.269999999999747,null,null,null,null,null,null,null,null,null,null,null,null,null,null,null,null,null,null,null,null,null,null,"2014-12-16",5.6020661536383097E-2,5.8067532851132982E-2,6.0009184170778031E-2,7777.35,14997.959999999995,28992.709999999985,435.6922919999891,870.89453499997819,1739.8288739999571]
["2014-12-16",1111.1199999999999,62.311762999998422,5.6080138058894113E-2,null,null,null,null,null,null,11.001762999998681,null,null,null,51.309999999999739,null,null,null,null,null,null,null,null,null,null,null,null,null,null,null,null,null,null,null,null,null,null,"2014-12-20",5.6054649038330309E-2,5.6428494993367967E-2,5.9137845695632518E-2,7777.6299999999992,15443.52,29438.829999999987,435.97231999998894,871.45459099997811,1740.9489859999567]
["2014-12-17",1111.1299999999999,62.321763999998417,5.6088634093218993E-2,null,null,null,null,null,null,11.00176399999868,null,null,null,51.319999999999737,null,null,null,null,null,null,null,null,null,null,null,null,null,null,null,null,null,null,null,null,null,null,"2014-12-21",5.6063145531453897E-2,5.603340713639475E-2,5.8924121871948683E-2,7777.7,15554.910000000002,29550.35999999999,436.04232699998897,871.59460499997817,1741.2290139999568]
["2014-12-20",1111.1599999999999,62.351766999998411,5.6114121278662318E-2,null,null,null,null,null,null,11.001766999998678,null,null,null,51.349999999999731,null,null,null,null,null,null,null,null,null,null,null,null,null,null,null,null,null,null,null,null,null,null,"2014-12-24",5.6088634093218986E-2,5.6058897304009501E-2,5.8292521754259481E-2,7777.91,15555.329999999998,29884.949999999997,436.2523479999889,872.01464699997803,1742.0690979999567]
["2014-12-24",1111.1999999999998,62.3917709999984,5.6148102051834424E-2,null,null,null,null,null,null,11.001770999998675,null,null,null,51.389999999999723,null,null,null,null,null,null,null,null,null,null,null,null,null,null,null,null,null,null,null,null,null,null,"2014-12-28",5.6122616701313403E-2,5.6092882053034428E-2,5.7472064454038602E-2,7778.1899999999987,15555.89,30331.069999999992,436.5323759999888,872.57470299997772,1743.1892099999561]
["2014-12-29",1111.2499999999998,62.441775999998384,5.6190574578176285E-2,null,null,null,null,null,null,11.001775999998671,null,null,null,51.439999999999714,null,null,null,null,null,null,null,null,null,null,null,null,null,null,null,null,null,null,null,null,null,null,"2015-01-02",5.6165091521029491E-2,5.6135359548588594E-2,5.6479820141461225E-2,7778.5399999999991,15556.589999999997,30888.719999999994,436.88241099998868,873.27477299997759,1744.5893499999559]
["2014-12-31",1111.2699999999998,62.461777999998375,5.6207562518558393E-2,null,null,null,null,null,null,11.001777999998669,null,null,null,51.45999999999971,null,null,null,null,null,null,null,null,null,null,null,null,null,null,null,null,null,null,null,null,null,null,"2015-01-04",5.6182080378674643E-2,5.6152349476467807E-2,5.6092882053034435E-2,7778.6799999999976,15556.869999999997,31111.78,437.02242499998874,873.5548009999776,1745.1494059999557]
["2015-01-04",{"$f":"B1783+0.01","v":1111.3099999999997},62.501781999998371,5.6241536564953419E-2,null,null,null,null,null,null,11.001781999998666,null,null,null,51.499999999999702,null,null,null,null,null,null,null,null,null,null,null,null,null,null,null,null,null,null,null,null,null,null,"2015-01-08",5.6216056259447124E-2,5.6186327497535105E-2,5.6126864355298144E-2,7778.9599999999973,15557.429999999997,31112.899999999994,437.30245299998865,874.11485699997741,1746.2695179999553]
["2015-01-07",1111.3399999999997,62.531784999998358,5.6267015494806609E-2,null,null,null,null,null,null,11.001784999998664,null,null,null,51.529999999999696,null,null,null,null,null,null,null,null,null,null,null,null,null,null,null,null,null,null,null,null,null,null,"2015-01-11",5.6241536564953419E-2,5.6211809408110852E-2,5.6152349476467793E-2,7779.1699999999983,15557.849999999995,31113.739999999998,437.51247399998857,874.53489899997714,1747.109601999955]
["2015-01-11",1111.3799999999997,62.571788999998347,5.6300985261565233E-2,null,null,null,null,null,null,11.001788999998661,null,null,null,51.569999999999688,null,null,null,null,null,null,null,null,null,null,null,null,null,null,null,null,null,null,null,null,null,null,"2015-01-15",5.62755081657429E-2,5.6245783148790758E-2,5.6186327497535105E-2,7779.4499999999989,15558.409999999994,31114.859999999993,437.79250199998853,875.09495499997729,1748.2297139999548]
["2015-01-12",1111.3899999999996,62.58178999999835,5.6309477321190911E-2,null,null,null,null,null,null,11.00178999999866,null,null,null,51.579999999999686,null,null,null,null,null,null,null,null,null,null,null,null,null,null,null,null,null,null,null,null,null,null,"2015-01-16",5.6284000683845356E-2,5.6254276201829684E-2,5.6194821620598696E-2,7779.5199999999968,15558.549999999997,31115.139999999992,437.86250899998845,875.23496899997713,1748.5097419999549]
["2015-01-15",1111.4199999999996,62.611792999998336,5.63349525831804E-2,null,null,null,null,null,null,11.001792999998658,null,null,null,51.60999999999968,null,null,null,null,null,null,null,null,null,null,null,null,null,null,null,null,null,null,null,null,null,null,"2015-01-19",5.6309477321190911E-2,5.6279754443898107E-2,5.6220303072567701E-2,7779.7299999999977,15558.969999999994,31115.979999999992,438.07252999998843,875.65501099997698,1749.3498259999546]
["2015-01-19",1111.4599999999996,62.651796999998325,5.6368917459916103E-2,null,null,null,null,null,null,11.001796999998655,null,null,null,{"$f":"O1798+0.01","v":51.649999999999672},null,null,null,null,null,null,null,null,null,null,null,null,null,null,null,null,null,null,null,null,null,null,"2015-01-23",5.6343444031561454E-2,5.6313723293696986E-2,5.6254276201829691E-2,7780.0099999999984,15559.529999999993,31117.099999999988,438.35255799998833,876.21506699997667,1750.469937999954]
["2015-01-24",1111.5099999999995,101.02180199999866,9.0886993369379221E-2,null,null,null,null,null,null,11.001801999998651,null,null,null,90.02000000000001,null,null,null,null,null,null,null,null,null,null,null,null,null,null,null,null,null,null,null,null,null,null,"2015-01-28",7.1161564889026918E-2,6.374424651820558E-2,5.9991004643538591E-2,7780.359999999996,15560.229999999994,31118.499999999989,553.66259299998922,991.8751369999776,1866.8300779999549]
["2015-01-26",1111.5299999999995,101.04180399999868,9.0903353035904313E-2,null,null,null,null,null,null,11.00180399999865,null,null,null,90.04000000000002,null,null,null,null,null,null,null,null,null,null,null,null,null,null,null,null,null,null,null,null,null,null,"2015-01-30",8.1028546622966408E-2,6.8686383993839445E-2,6.2470721609198865E-2,7780.4999999999973,15560.509999999995,31119.05999999999,630.44260699998995,1068.7951649999782,1944.0301339999555]
["2015-01-30",1111.5699999999995,101.08180799999869,9.0936070602839883E-2,null,null,null,null,null,null,11.001807999998647,null,null,null,90.080000000000041,null,null,null,null,null,null,null,null,null,null,null,null,null,null,null,null,null,null,null,null,null,null,"2015-02-03",9.0911532648396562E-2,7.8570125383407463E-2,6.742988780913084E-2,7780.779999999997,15561.069999999992,31120.179999999993,707.36263499999075,1222.6352209999798,2098.4302459999567]
["2015-02-02",1111.5999999999995,101.1118109999987,9.0960607232816432E-2,null,null,null,null,null,null,11.001810999998645,null,null,null,90.110000000000056,null,null,null,null,null,null,null,null,null,null,null,null,null,null,null,null,null,null,null,null,null,null,"2015-02-06",9.0936070602839897E-2,8.5982464596897928E-2,7.1149028213084234E-2,7780.9899999999961,15561.489999999994,31121.019999999982,707.57265599999084,1338.0152629999807,2214.2303299999576]
["2015-02-06",1111.6399999999994,101.15181499999872,9.0993320679355519E-2,null,null,null,null,null,null,11.001814999998642,null,null,null,90.150000000000077,null,null,null,null,null,null,null,null,null,null,null,null,null,null,null,null,null,null,null,null,null,null,"2015-02-10",9.0968785815167846E-2,9.094016013314328E-2,7.6107569787937479E-2,7781.2699999999968,15562.049999999992,31122.139999999985,707.85268399999086,1415.2153189999817,2368.6304419999592]
["2015-02-07",1111.6499999999994,101.16181599999872,9.1001498673142431E-2,null,null,null,null,null,null,11.001815999998641,null,null,null,90.160000000000082,null,null,null,null,null,null,null,null,null,null,null,null,null,null,null,null,null,null,null,null,null,null,"2015-02-11",9.0976964250372203E-2,9.0948339083379806E-2,7.7347149418328029E-2,7781.3399999999965,15562.189999999993,31122.419999999987,707.92269099999089,1415.3553329999818,2407.2304699999595]
["2015-02-10",1111.6799999999994,101.19181899999873,9.1026031771731783E-2,null,null,null,null,null,null,11.001818999998639,null,null,null,90.190000000000097,null,null,null,null,null,null,null,null,null,null,null,null,null,null,null,null,null,null,null,null,null,null,"2015-02-14",9.1001498673142431E-2,9.097287505116318E-2,8.1065754487157235E-2,7781.5499999999956,15562.609999999993,31123.259999999987,708.1327119999911,1415.775374999982,2523.0305539999604]
["2015-02-14",1234,101.23182299999876,8.2035512965963328E-2,null,null,null,null,null,null,11.001822999998636,null,null,null,90.230000000000118,null,null,null,null,null,null,null,null,null,null,null,null,null,null,null,null,null,null,null,null,null,null,"2015-02-18",8.9625870591374793E-2,9.029612991657765E-2,8.5686939532096024E-2,7904.1099999999969,15685.449999999992,31246.659999999985,708.41273999999112,1416.3354309999822,2677.4306659999625]
["2015-02-17",1234.03,101.26182599999876,8.205783165725207E-2,null,null,null,null,null,null,11.001825999998633,null,null,null,90.260000000000133,null,null,null,null,null,null,null,null,null,null,null,null,null,null,null,null,null,null,null,null,null,null,"2015-02-21",8.5673927357225774E-2,8.8256467163487229E-2,8.8353283668106464E-2,8271.159999999998,16052.709999999994,31614.339999999989,708.62276099999133,1416.7554729999824,2793.2307499999638]
["2015-02-19",1234.05,101.28182799999877,8.2072710181920319E-2,null,null,null,null,null,null,11.001827999998632,null,null,null,90.280000000000143,null,null,null,null,null,null,null,null,null,null,null,null,null,null,null,null,null,null,null,null,null,null,"2015-02-23",8.3228561178787741E-2,8.6947762148297289E-2,8.8893873468036358E-2,8515.8599999999988,16297.549999999996,31859.459999999985,708.76277499999128,1417.0355009999821,2832.1108059999642]
["2015-02-25",1234.1099999999999,101.3418339999988,8.2117342862466719E-2,null,null,null,null,null,null,11.001833999998627,null,null,null,90.340000000000174,null,null,null,null,null,null,null,null,null,null,null,null,null,null,null,null,null,null,null,null,null,null,"2015-03-01",8.2095027064694986E-2,8.3247402400294448E-2,8.6939917876520445E-2,8638.56,17032.069999999996,32594.819999999989,709.18281699999147,1417.8755849999827,2833.790973999965]
["2015-02-28",1234.1399999999999,101.37183699999882,8.2139657575314662E-2,null,null,null,null,null,null,11.001836999998625,null,null,null,90.370000000000189,null,null,null,null,null,null,null,null,null,null,null,null,null,null,null,null,null,null,null,null,null,null,"2015-03-04",8.2117342862466705E-2,8.2091307659582113E-2,8.5995633158891638E-2,8638.77,17277.05,32962.499999999993,709.39283799999157,1418.2956269999831,2834.6310579999649]
["2015-03-01",1234.1499999999999,101.38183799999882,8.2147095571850126E-2,null,null,null,null,null,null,11.001837999998624,null,null,null,90.380000000000194,null,null,null,null,null,null,null,null,null,null,null,null,null,null,null,null,null,null,null,null,null,null,"2015-03-05",8.2124781220625886E-2,8.2098746439668913E-2,8.5685535586151759E-2,8638.8399999999983,17277.189999999999,33085.05999999999,709.4628449999916,1418.4356409999832,2834.9110859999655]
["2015-03-04",1234.1799999999998,101.41184099999883,8.2169408838256047E-2,null,null,null,null,null,null,11.001840999998622,null,null,null,90.41000000000021,null,null,null,null,null,null,null,null,null,null,null,null,null,null,null,null,null,null,null,null,null,null,"2015-03-08",8.2147095571850112E-2,8.2121062056614499E-2,8.4768876032276147E-2,8639.0499999999993,17277.609999999997,33452.74,709.6728659999917,1418.8556829999829,2835.7511699999654]
["2015-03-08",1234.2199999999998,101.45184499999885,8.2199158172772166E-2,null,null,null,null,null,null,11.001844999998619,null,null,null,90.45000000000023,null,null,null,null,null,null,null,null,null,null,null,null,null,null,null,null,null,null,null,null,null,null,"2015-03-12",8.2176846352667601E-2,8.2150814524916918E-2,8.3577555123326416E-2,8639.33,17278.169999999998,33942.979999999996,709.95289399999183,1419.4157389999837,2836.871281999966]
["2015-03-12",1234.2599999999998,101.49184899999887,8.2228905579050507E-2,null,null,null,null,null,null,11.001848999998616,null,null,null,90.490000000000251,null,null,null,null,null,null,null,null,null,null,null,null,null,null,null,null,null,null,null,null,null,null,"2015-03-16",8.2206595205106717E-2,8.2180565064676844E-2,8.2420156871764128E-2,8639.6099999999988,17278.729999999996,34433.22,710.23292199999196,1419.9757949999835,2837.991393999966]
["2015-03-15",1234.2899999999997,101.52185199999889,8.225121486846601E-2,null,null,null,null,null,null,11.001851999998614,null,null,null,90.520000000000266,null,null,null,null,null,null,null,null,null,null,null,null,null,null,null,null,null,null,null,null,null,null,"2015-03-19",8.2228905579050521E-2,8.2202876704003613E-2,8.2150814524916904E-2,8639.8199999999979,17279.150000000001,34556.339999999997,710.44294299999206,1420.3958369999841,2838.8314779999669]
["2015-03-17",1234.3099999999997,101.54185399999889,{"$f":"C1856/B1856","v":8.2266087125599657E-2},null,null,null,null,null,null,11.001853999998612,null,null,null,90.540000000000276,null,null,null,null,null,null,null,null,null,null,null,null,null,null,null,null,null,null,null,null,null,null,"2015-03-21",8.2243778559159111E-2,8.2217750527649597E-2,8.2165690035852973E-2,8639.9599999999973,17279.429999999997,34556.899999999994,710.58295699999212,1420.675864999984,2839.3915339999671]
["2015-03-23",1234.3699999999997,101.60185999999891,8.2310701005370301E-2,null,null,null,null,null,null,11.001859999998608,null,null,null,90.600000000000307,null,null,null,null,null,null,null,null,null,null,null,null,null,null,null,null,null,null,null,null,null,null,"2015-03-27",8.22883946076437E-2,8.2262369106500352E-2,8.2210313676081823E-2,8640.3799999999974,17280.269999999997,34558.58,711.00299899999231,1421.5159489999846,2841.0717019999679]
["2015-03-26",1234.3999999999996,101.63186299999893,8.2333006318858523E-2,null,null,null,null,null,null,11.001862999998606,null,null,null,90.630000000000322,null,null,null,null,null,null,null,null,null,null,null,null,null,null,null,null,null,null,null,null,null,null,"2015-03-30",8.2310701005370301E-2,8.2284676769271647E-2,8.2232623869265428E-2,8640.5899999999983,17280.689999999995,34559.42,711.21301999999241,1421.9359909999844,2841.9117859999687]
["2015-03-27",1234.4099999999996,101.64186399999893,8.2340441182426394E-2,null,null,null,null,null,null,11.001863999998605,null,null,null,90.640000000000327,null,null,null,null,null,null,null,null,null,null,null,null,null,null,null,null,null,null,null,null,null,null,"2015-03-31",{"$f":"AS1866/AP1866","v":8.2318136230333405E-2},8.2292112415895832E-2,8.2240060359319356E-2,{"$f":"SUM(B1860:B1866)","v":8640.659999999998},17280.829999999994,34559.69999999999,{"$f":"SUM(C1860:C1866)","v":711.28302699999244},1422.0760049999847,2842.1918139999684]
["2015-03-30",1234.4399999999996,101.67186699999894,8.2362745050386391E-2,null,null,null,null,null,null,11.001866999998603,null,null,null,90.670000000000343,null,null,null,null,null,null,null,null,null,null,null,null,null,null,null,null,null,null,null,null,null,null,"2015-04-03",8.2340441182426394E-2,8.231441863291053E-2,8.2262369106500352E-2,8640.8699999999972,17281.249999999996,34560.539999999994,711.49304799999254,1422.4960469999849,2843.0318979999693]
["2015-04-03",66,101.71187099999896,1.5410889545454389,null,null,null,null,null,null,11.0018709999986,null,null,null,90.710000000000363,null,null,null,null,null,null,null,null,null,null,null,null,null,null,null,null,null,null,null,null,null,null,"2015-04-07",9.5250168413698558E-2,{"$f":"AT1873/AQ1873","v":8.8315457016022489E-2},8.5171643131920063E-2,7472.6699999999983,{"$f":"SUM(B1860:B1873)","v":16113.329999999994},33393.179999999986,711.77307599999267,{"$f":"SUM(C1860:C1873)","v":1423.0561029999851},2844.1520099999693]
["2015-04-07",66.04000000000002,101.75187499999898,1.5407612810417768,null,null,null,null,null,null,11.001874999998597,null,null,null,90.750000000000384,null,null,null,null,null,null,null,null,null,null,null,null,null,null,null,null,null,null,null,null,null,null,"2015-04-11",0.25439280893737931,0.12444229827525646,9.9068052790386843E-2,2799.0299999999997,11439.969999999998,28720.379999999994,712.0531039999928,1423.6161589999854,2845.2721219999698]
["2015-04-10",66.070000000000036,101.781877999999,1.5405157862872552,null,null,null,null,null,null,11.001877999998595,null,null,null,90.780000000000399,null,null,null,null,null,null,null,null,null,null,null,null,null,null,null,null,null,null,null,null,null,null,"2015-04-14",1.5407612810417766,0.17946379006798854,0.1128702822597584,462.2800000000002,7934.9499999999989,25215.779999999992,712.26312499999278,1424.0362009999856,2846.1122059999698]
["2015-04-12",66.090000000000046,101.801879999999,1.5403522469359803,null,null,null,null,null,null,11.001879999998593,null,null,null,90.800000000000409,null,null,null,null,null,null,null,null,null,null,null,null,null,null,null,null,null,null,null,null,null,null,"2015-04-16",1.5405975930971683,0.25442078159859849,0.12442086551296282,462.42000000000019,5598.2699999999995,22879.379999999994,712.40313899999285,1424.3162289999857,2846.6722619999705]
["2015-04-18",443.04999999999995,101.86188599999903,0.22991058796975294,null,null,null,null,null,null,11.001885999998589,null,null,null,90.86000000000044,null,null,null,null,null,null,null,null,null,null,null,null,null,null,null,null,null,null,null,null,null,null,"2015-04-22",0.2616594650251054,0.44723554426518186,0.15709344855770829,2724.24,3186.59,18131.579999999994,712.82318099999304,1425.1563129999859,2848.3524299999717]
["2015-04-21",443.07999999999993,101.89188899999904,0.22996273584905447,null,null,null,null,null,null,11.001888999998586,null,null,null,90.890000000000455,null,null,null,null,null,null,null,null,null,null,null,null,null,null,null,null,null,null,null,null,null,null,"2015-04-25",0.22991058796975297,0.33016954705155888,0.18081294416436761,3101.3499999999995,4317.71,15757.679999999997,713.03320199999325,1425.5763549999863,2849.1925139999717]
["2015-04-22",443.08999999999992,101.90188999999904,0.22998011690626974,null,null,null,null,null,null,11.001889999998586,null,null,null,90.90000000000046,null,null,null,null,null,null,null,null,null,null,null,null,null,null,null,null,null,null,null,null,null,null,"2015-04-26",0.22992797138084919,0.30368312881409792,0.19039156709905616,3101.42,4694.75,14966.379999999997,713.10320899999329,1425.7163689999861,2849.4725419999718]
["2015-04-25",1234.02,101.93189299999906,8.2601491872092078E-2,null,null,null,null,null,null,11.001892999998583,null,null,null,90.930000000000476,null,null,null,null,null,null,null,null,null,null,null,null,null,null,null,null,null,null,null,null,null,null,"2015-04-29",0.13030146702884066,0.17394940959215893,0.19046296977383312,5474.33,8198.57,14965.179999999998,713.31322999999327,1426.1364109999863,2850.3126259999717]
["2015-04-29",1234.06,101.97189699999907,8.2631231058456697E-2,null,null,null,null,null,null,11.00189699999858,null,null,null,90.970000000000496,null,null,null,null,null,null,null,null,null,null,null,null,null,null,null,null,null,null,null,null,null,null,"2015-05-03",8.2608926849427541E-2,0.12152823104305559,0.19055819115478864,8638.2100000000009,11739.63,14963.58,713.59325799999351,1426.6964669999866,2851.4327379999722]
["2015-05-03",1234.0999999999999,102.0119009999991,8.2660968316991421E-2,null,null,null,null,null,null,11.001900999998577,null,null,null,91.010000000000517,null,null,null,null,null,null,null,null,null,null,null,null,null,null,null,null,null,null,null,null,null,null,"2015-05-07",8.2638665553817103E-2,9.5764669456560175E-2,0.15446406969679433,8638.49,14903.789999999999,18467.419999999998,713.87328599999353,1427.2565229999868,2852.5528499999732]
["2015-05-06",1234.1299999999999,102.04190399999911,8.2683269995866823E-2,null,null,null,null,null,null,11.001903999998575,null,null,null,91.040000000000532,null,null,null,null,null,null,null,null,null,null,null,null,null,null,null,null,null,null,null,null,null,null,"2015-05-10",8.2660968316991421E-2,8.2634948321197874E-2,0.12986697108911996,8638.6999999999989,17276.910000000003,21971.66,714.08330699999374,1427.676564999987,2853.3929339999736]
["2015-05-10",1234.1699999999998,102.08190799999912,8.2713003881150188E-2,null,null,null,null,null,null,11.001907999998572,null,null,null,91.080000000000553,null,null,null,null,null,null,null,null,null,null,null,null,null,null,null,null,null,null,null,null,null,null,"2015-05-14",8.269070364788364E-2,8.2664685338767044E-2,0.10713538465349298,8638.98,17277.469999999998,26643.979999999996,714.36333499999375,1428.2366209999873,2854.5130459999737]
["2015-05-12",{"$f":"B1911+0.01","v":1234.1899999999998},102.10190999999914,8.2727870101037243E-2,null,null,null,null,null,null,11.001909999998571,null,null,null,91.100000000000563,null,null,null,null,null,null,null,null,null,null,null,null,null,null,null,null,null,null,null,null,null,null,"2015-05-16",8.2705570590522415E-2,8.2679553124682781E-2,0.10114924931818912,8639.119999999999,17277.749999999996,28226.339999999997,714.50334899999393,1428.5166489999876,2855.0731019999739]
["2015-05-17",1234.2399999999998,102.15191499999915,8.2765033542908317E-2,null,null,null,null,null,null,11.001914999998567,null,null,null,91.150000000000588,null,null,null,null,null,null,null,null,null,null,null,null,null,null,null,null,null,null,null,null,null,null,"2015-05-21",8.2742735839119064E-2,8.2716720481292472E-2,8.8759304572956221E-2,8639.4699999999993,17278.449999999997,32182.239999999998,714.85338399999398,1429.2167189999877,2856.4732419999746]
["2015-05-18",1234.2499999999998,102.16191599999917,8.2772465869960857E-2,null,null,null,null,null,null,11.001915999998566,null,null,null,91.160000000000593,null,null,null,null,null,null,null,null,null,null,null,null,null,null,null,null,null,null,null,null,null,null,"2015-05-22",8.275016852749037E-2,8.2724153591235652E-2,8.6638063931493162E-2,8639.5399999999991,17278.589999999997,32973.42,714.92339099999413,1429.356732999988,2856.7532699999751]
["2015-05-21",1234.2799999999997,102.19191899999917,8.2794762128527724E-2,null,null,null,null,null,null,11.001918999998564,null,null,null,91.190000000000609,null,null,null,null,null,null,null,null,null,null,null,null,null,null,null,null,null,null,null,null,null,null,"2015-05-25",8.2772465869960857E-2,8.2746452198360215E-2,8.2694420428717136E-2,8639.7499999999982,17279.009999999998,34556.06,715.13341199999411,1429.776774999988,2857.5933539999751]
["2015-05-25",1234.3199999999997,102.23192299999918,8.2824488787347855E-2,null,null,null,null,null,null,11.001922999998561,null,null,null,91.230000000000629,null,null,null,null,null,null,null,null,null,null,null,null,null,null,null,null,null,null,null,null,null,null,"2015-05-29",8.2802193973862862E-2,8.2776181988324288E-2,8.2724153591235652E-2,8640.0299999999988,17279.569999999996,34557.179999999993,715.41343999999424,1430.3368309999885,2858.7134659999761]
["2015-05-29",1234.3599999999997,102.27192699999921,8.2854213519556075E-2,null,null,null,null,null,null,11.001926999998558,null,null,null,91.27000000000065,null,null,null,null,null,null,null,null,null,null,null,null,null,null,null,null,null,null,null,null,null,null,"2015-06-02",8.283192015101247E-2,8.2805909851371998E-2,8.2753884826509888E-2,8640.3099999999977,17280.129999999997,34558.299999999996,715.69346799999437,1430.8968869999885,2859.8335779999761]
["2015-06-01",1234.3899999999996,102.30192999999922,8.2876505804485814E-2,null,null,null,null,null,null,11.001929999998556,null,null,null,91.300000000000665,null,null,null,null,null,null,null,null,null,null,null,null,null,null,null,null,null,null,null,null,null,null,"2015-06-05",8.2854213519556075E-2,8.2828204484231616E-2,8.2776181988324288E-2,8640.5199999999968,17280.55,34559.139999999992,715.90348899999435,1431.3169289999887,2860.673661999977]
["2015-06-05",1234.4299999999996,102.34193399999924,8.2906227165573804E-2,null,null,null,null,null,null,11.001933999998553,null,null,null,91.340000000000686,null,null,null,null,null,null,null,null,null,null,null,null,null,null,null,null,null,null,null,null,null,null,"2015-06-09",8.2883936325339649E-2,8.2857928975626535E-2,8.280590985137197E-2,8640.7999999999975,17281.109999999993,34560.26,716.18351699999459,1431.876984999989,2861.793773999977]
["2015-06-07",1234.4499999999996,102.36193599999925,8.2921087123819737E-2,null,null,null,null,null,null,11.001935999998551,null,null,null,91.360000000000696,null,null,null,null,null,null,null,null,null,null,null,null,null,null,null,null,null,null,null,null,null,null,"2015-06-11",8.2898797005880723E-2,8.2872790498911789E-2,8.28207730603608E-2,8640.9399999999969,17281.39,34560.819999999985,716.32353099999466,1432.1570129999891,2862.3538299999773]
["2015-06-12",1234.4999999999995,102.41194099999927,8.2958234912919648E-2,null,null,null,null,null,null,11.001940999998547,null,null,null,91.410000000000721,null,null,null,null,null,null,null,null,null,null,null,null,null,null,null,null,null,null,null,null,null,null,"2015-06-16",8.2935946600564858E-2,8.2909942200277281E-2,8.2857928975626521E-2,8641.2899999999972,17282.089999999993,34562.219999999994,716.67356599999482,1432.8570829999894,2863.7539699999779]
["2015-06-13",1234.5099999999995,102.42194199999928,8.2965664109646189E-2,null,null,null,null,null,null,11.001941999998547,null,null,null,91.420000000000726,null,null,null,null,null,null,null,null,null,null,null,null,null,null,null,null,null,null,null,null,null,null,"2015-06-17",8.2943376158381904E-2,8.2917372179399873E-2,8.286535979746773E-2,8641.3599999999969,17282.229999999992,34562.499999999993,716.74357299999474,1432.9970969999893,2864.0339979999781]
["2015-06-16",1234.5399999999995,102.45194499999928,8.2987950977691544E-2,null,null,null,null,null,null,11.001944999998544,null,null,null,91.450000000000742,null,null,null,null,null,null,null,null,null,null,null,null,null,null,null,null,null,null,null,null,null,null,"2015-06-20",8.2965664109646162E-2,8.2939661394519373E-2,8.288765154062018E-2,8641.5699999999979,17282.649999999994,34563.339999999989,716.95359399999484,1433.4171389999897,2864.8740819999784]
["2015-06-20",1234.5799999999995,102.49194899999931,8.3017665116881328E-2,null,null,null,null,null,null,11.001948999998541,null,null,null,91.490000000000762,null,null,null,null,null,null,null,null,null,null,null,null,null,null,null,null,null,null,null,null,null,null,"2015-06-24",8.2995379693004995E-2,8.296937866287514E-2,{"$f":"AU1951/AR1951","v":8.2917372179399873E-2},8641.8499999999967,17283.209999999992,{"$f":"SUM(B1924:B1951)","v":34564.459999999992},717.23362199999497,1433.9771949999895,{"$f":"SUM(C1924:C1951)","v":2865.994193999979}]
["2015-06-24",1234.6199999999994,102.53195299999932,8.3047377330676131E-2,null,null,null,null,null,null,11.001952999998538,null,null,null,91.530000000000783,null,null,null,null,null,null,null,null,null,null,null,null,null,null,null,null,null,null,null,null,null,null,"2015-06-28",8.3025093350828486E-2,8.299909400553182E-2,8.2947090892152839E-2,8642.1299999999974,17283.769999999993,34565.579999999987,717.51364999999521,1434.5372509999902,2867.1143059999795]
["2015-06-27",999.01,102.56195599999933,0.10266359295702679,null,null,null,null,null,null,11.001955999998536,null,null,null,91.560000000000798,null,null,null,null,null,null,null,null,null,null,null,null,null,null,null,null,null,null,null,null,null,null,"2015-07-01",8.7837278272341085E-2,8.5348538295868512E-2,8.4116222722651401E-2,8171.0599999999977,16812.909999999993,34095.139999999992,717.72367099999519,1434.9572929999899,2867.9543899999799]
["2015-07-01",999.05,102.60195999999935,0.10269952454832026,null,null,null,null,null,null,11.001959999998533,null,null,null,91.600000000000819,null,null,null,null,null,null,null,null,null,null,null,null,null,null,null,null,null,null,null,null,null,null,"2015-07-05",9.9325709040805704E-2,9.0449592934494047E-2,8.6538591529753253E-2,7228.78,15870.909999999996,33153.699999999997,718.00369899999544,1435.5173489999906,2869.0745019999804]
["2015-07-04",999.07999999999993,102.63196299999936,0.10272647135364472,null,null,null,null,null,null,11.001962999998531,null,null,null,91.630000000000834,null,null,null,null,null,null,null,null,null,null,null,null,null,null,null,null,null,null,null,null,null,null,"2015-07-08",0.10269952454832025,9.4691279845374191E-2,8.8447614524577792E-2,6993.35,15164.409999999996,32447.619999999988,718.21371999999542,1435.9373909999904,2869.9145859999799]
["2015-07-07",999.1099999999999,102.66196599999938,0.10275341654072064,null,null,null,null,null,null,11.001965999998529,null,null,null,91.660000000000849,null,null,null,null,null,null,null,null,null,null,null,null,null,null,null,null,null,null,null,null,null,null,"2015-07-11",0.10272647135364474,9.9347515166437694E-2,9.0441568682552306E-2,6993.5599999999986,14457.909999999998,31741.539999999997,718.42374099999552,1436.357432999991,2870.7546699999812]
["2015-07-09",999.12999999999988,102.68196799999939,0.10277137909981623,null,null,null,null,null,null,11.001967999998527,null,null,null,91.680000000000859,null,null,null,null,null,null,null,null,null,null,null,null,null,null,null,null,null,null,null,null,null,null,"2015-07-13",0.10274443499149173,0.1027129981532727,9.1820896477929972E-2,6993.7,13986.909999999998,31270.819999999989,718.56375499999569,1436.6374609999912,2871.314725999981]
["2015-07-12",999.15999999999985,102.71197099999939,0.10279832159013512,null,null,null,null,null,null,11.001970999998525,null,null,null,91.710000000000875,null,null,null,null,null,null,null,null,null,null,null,null,null,null,null,null,null,null,null,null,null,null,"2015-07-16",0.10277137909981622,0.10273994414945464,9.3969548244152643E-2,6993.91,13987.329999999998,30564.739999999991,718.77377599999568,1437.0575029999911,2872.1548099999814]
["2015-07-16",999.19999999999982,102.75197499999942,0.10283424239391457,null,null,null,null,null,null,11.001974999998522,null,null,null,91.750000000000895,null,null,null,null,null,null,null,null,null,null,null,null,null,null,null,null,null,null,null,null,null,null,"2015-07-20",0.10280730206070983,0.10277586962722696,9.6993748907109698E-2,6994.1899999999987,13987.89,29623.299999999996,719.05380399999592,1437.6175589999916,2873.2749219999823]
["2015-07-20",999.23999999999978,102.79197899999943,0.10287016032184405,null,null,null,null,null,null,11.001978999998519,null,null,null,91.790000000000916,null,null,null,null,null,null,null,null,null,null,null,null,null,null,null,null,null,null,null,null,null,null,"2015-07-24",0.10284322214549436,0.10281179222858801,0.10021647947517989,6994.4699999999993,13988.449999999997,28681.859999999993,719.33383199999594,1438.1776149999916,2874.3950339999824]
["2015-07-23",999.26999999999975,102.82198199999945,0.10289709688072241,null,null,null,null,null,null,11.001981999998517,null,null,null,91.820000000000931,null,null,null,null,null,null,null,null,null,null,null,null,null,null,null,null,null,null,null,null,null,null,"2015-07-27",0.10287016032184408,0.10283873229217172,0.10277586962722697,6994.6799999999976,13988.869999999999,27975.779999999992,719.54385299999615,1438.5976569999921,2875.2351179999828]
["2015-07-27",999.30999999999972,102.86198599999946,0.10293300977674545,null,null,null,null,null,null,{"$f":"K1987+0.000001","v":11.001985999998514},null,null,null,91.860000000000952,null,null,null,null,null,null,null,null,null,null,null,null,null,null,null,null,null,null,null,null,null,null,"2015-07-31",0.10290607537426896,0.10287464986064425,0.10281179222858801,6994.9599999999973,13989.429999999997,27976.899999999994,719.82388099999616,1439.1577129999921,2876.3552299999833]
["2015-07-30",999.33999999999969,102.89198899999948,0.1029599425620905,null,null,null,null,null,null,11.001988999998511,null,null,null,91.890000000000967,null,null,null,null,null,null,null,null,null,null,null,null,null,null,null,null,null,null,null,null,null,null,"2015-08-03",0.10293300977674545,0.10290158614995823,0.10283873229217171,6995.1699999999983,13989.849999999995,27977.739999999998,720.03390199999626,1439.5777549999925,2877.1953139999837]
["2015-08-02",999.36999999999966,102.92199199999949,0.10298687373044971,null,null,null,null,null,null,11.001991999998509,null,null,null,91.920000000000982,null,null,null,null,null,null,null,null,null,null,null,null,null,null,null,null,null,null,null,null,null,null,"2015-08-06",{"$f":"AS1994/AP1994","v":0.10295994256209048},0.10292852082197075,0.10286567073811409,{"$f":"SUM(B1988:B1994)","v":6995.3799999999983},13990.269999999997,27978.579999999994,{"$f":"SUM(C1988:C1994)","v":720.24392299999636},1439.9977969999925,2878.0353979999836]
["2015-08-04",999.38999999999965,102.9419939999995,0.10300482694443563,null,null,null,null,null,null,11.001993999998508,null,null,null,91.940000000000992,null,null,null,null,null,null,null,null,null,null,null,null,null,null,null,null,null,null,null,null,null,null,"2015-08-08",0.10297789685398608,0.10294647637155029,0.10288362880345805,6995.5199999999968,13990.549999999997,27979.139999999996,720.38393699999631,1440.2778249999926,2878.5954539999848]
["2015-08-07",999.41999999999962,102.97199699999952,0.10303175541814208,null,null,null,null,null,null,11.001996999998505,null,null,null,91.970000000001008,null,null,null,null,null,null,null,null,null,null,null,null,null,null,null,null,null,null,null,null,null,null,"2015-08-11",0.10300482694443565,0.10297340834838424,0.10291056455365534,6995.7299999999977,13990.969999999994,27979.979999999992,720.59395799999652,1440.6978669999928,2879.4355379999847]
["2015-08-11",1278.03,103.01200099999953,8.0602177570166217E-2,null,null,null,null,null,null,11.002000999998502,null,null,null,92.010000000001028,null,null,null,null,null,null,null,null,null,null,null,null,null,null,null,null,null,null,null,null,null,null,"2015-08-15",8.8883872956453683E-2,9.5410833513727061E-2,9.9003884809202913E-2,8110.2899999999981,15105.809999999998,29095.379999999994,720.87398599999653,1441.2579229999931,2880.5556499999857]
["2015-08-14",1278.06,103.04200399999954,8.0623761012784637E-2,null,null,null,null,null,null,11.0020039999985,null,null,null,92.040000000001044,null,null,null,null,null,null,null,null,null,null,null,null,null,null,null,null,null,null,null,null,null,null,"2015-08-18",8.0602177570166217E-2,9.0433031676194583E-2,9.6264949637393446E-2,8946.2100000000009,15941.939999999997,29931.929999999997,721.08400699999675,1441.6779649999933,2881.3957339999856]
["2015-08-19",1278.1099999999999,103.09200899999956,8.0659731165548795E-2,null,null,null,null,null,null,11.002008999998496,null,null,null,92.090000000001069,null,null,null,null,null,null,null,null,null,null,null,null,null,null,null,null,null,null,null,null,null,null,"2015-08-23",8.063814941161708E-2,8.3203764935400965E-2,9.2025132780313032E-2,8946.56,17335.489999999998,31326.179999999997,721.43404199999691,1442.3780349999938,2882.7958739999863]
["2015-08-22",1278.1399999999999,103.12201199999959,8.0681311906363615E-2,null,null,null,null,null,null,11.002011999998494,null,null,null,92.120000000001085,null,null,null,null,null,null,null,null,null,null,null,null,null,null,null,null,null,null,null,null,null,null,"2015-08-26",8.0659731165548795E-2,8.0634552354125963E-2,8.9657686334461903E-2,8946.77,17893.05,32162.729999999992,721.644062999997,1442.7980769999936,2883.6359579999871]
["2015-08-25",1278.1699999999998,103.15201499999959,8.070289163413287E-2,null,null,null,null,null,null,11.002014999998492,null,null,null,92.1500000000011,null,null,null,null,null,null,null,null,null,null,null,null,null,null,null,null,null,null,null,null,null,null,"2015-08-29",8.0681311906363601E-2,8.0656134276917452E-2,8.7410272042298717E-2,8946.98,17893.469999999998,32999.279999999999,721.85408399999699,1443.218118999994,2884.476041999987]
["2015-08-26",1278.1799999999998,525.00201599999855,0.4107418485659286,null,null,null,null,null,null,11.002015999998491,null,null,null,514,null,null,null,null,null,null,null,null,null,null,null,null,null,null,null,null,null,null,null,null,null,null,"2015-08-30",0.12783700672288587,0.10423822431583082,9.9362436230641171E-2,8947.0499999999993,17893.609999999997,33278.129999999997,1143.7640909999959,1865.1981329999933,3306.5960699999864]
["2015-09-01",1278.2399999999998,17.002021999998487,1.3301118725746722E-2,null,null,null,null,null,null,11.002021999998487,null,null,null,6,null,null,null,null,null,null,null,null,null,null,null,null,null,null,null,null,null,null,null,null,null,null,"2015-09-05",0.35418773496865485,0.21743826812223829,0.15258908593488643,8947.4699999999993,17894.449999999997,34951.229999999996,3169.0841329999898,3890.9382169999863,5333.17623799998]
["2015-09-02",1278.2499999999998,17.002022999998488,1.3301015450810475E-2,null,null,null,null,null,null,11.002022999998486,null,null,null,6,null,null,null,null,null,null,null,null,null,null,null,null,null,null,null,null,null,null,null,null,null,null,"2015-09-06",0.29740958296917253,0.21262561651314651,0.1489416506008496,8947.5399999999991,17894.589999999997,35230.079999999994,2661.0841399999895,3804.8482309999858,5247.2262659999788]
["2015-09-06",1278.2899999999997,17.002026999998485,1.3300602367223783E-2,null,null,null,null,null,null,11.002026999998483,null,null,null,6,null,null,null,null,null,null,null,null,null,null,null,null,null,null,null,null,null,null,null,null,null,null,"2015-09-10",7.0187394024465152E-2,0.19337017499154693,0.13700904758365365,8947.8199999999979,17895.150000000001,35788.339999999997,628.02416799998969,3460.3882869999816,4903.3263779999752]
["2015-09-09",1278.3199999999997,17.002029999998481,1.3300292571498909E-2,null,null,null,null,null,null,11.002029999998481,null,null,null,6,null,null,null,null,null,null,null,null,null,null,null,null,null,null,null,null,null,null,null,null,null,null,"2015-09-13",1.3300602367223781E-2,0.15535120306310327,0.12979611329457599,8948.0299999999988,17895.569999999996,35789.179999999993,119.01418899998939,2780.0983289999785,4645.2964619999721]
["2015-09-14",1278.3699999999997,17.012034999998477,1.3307598739018031E-2,null,null,null,null,null,null,11.002034999998477,null,null,null,6.01,null,null,null,null,null,null,null,null,null,null,null,null,null,null,null,null,null,null,null,null,null,null,"2015-09-18",1.330120356980698E-2,1.3301006243199215E-2,0.1177699998714736,8948.3799999999974,17896.269999999997,35790.58,119.02422399998935,238.03839899997877,4215.056601999966]
["2015-09-17",{"$f":"B2039+0.01","v":2344.0200000000004},17.002037999998475,7.2533672920872998E-3,null,null,null,null,null,null,11.002037999998475,null,null,null,6,null,null,null,null,null,null,null,null,null,null,null,null,null,null,null,null,null,null,null,null,null,null,"2015-09-21",9.7999040793045403E-3,1.1284892348607925E-2,0.10148656688625307,12145.45,21093.55,38988.28,119.02424499998934,238.03844099997869,3956.7866859999626]
["2015-09-20",2344.0500000000011,17.002040999998471,7.2532757407045342E-3,null,null,null,null,null,null,11.002040999998473,null,null,null,6,null,null,null,null,null,null,null,null,null,null,null,null,null,null,null,null,null,null,null,null,null,null,"2015-09-24",7.7578041938344737E-3,9.7995203539763213E-3,8.7669571028098886E-2,15342.520000000004,24290.83,42185.98,119.02426599998932,238.03848299997867,3698.4267699999596]
["2015-09-21",2344.0600000000013,17.012041999998473,7.2575113265012257E-3,null,null,null,null,null,null,11.002041999998472,null,null,null,6.01,null,null,null,null,null,null,null,null,null,null,null,null,null,null,null,null,null,null,null,null,null,null,"2015-09-25",7.2539462256997729E-3,9.3880327362621981E-3,8.35176828845349E-2,16408.210000000006,25356.59,43251.880000000005,119.02427299998932,238.04849699997868,3612.296797999958]
["2015-09-27",2344.1200000000026,{"$f":"SUM(K2050:Q2050)","v":533.00204799999847},0.22737831169052689,null,null,null,null,null,null,11.002047999998467,null,null,null,522,null,null,null,null,null,null,null,null,null,null,null,null,null,null,null,null,null,null,null,null,null,null,"2015-10-01",4.1686863254274661E-2,2.5291952606440335E-2,3.1221991738519358E-2,16408.630000000012,31751.150000000023,49647.280000000021,684.02431499998931,803.04858099997864,1550.086965999958]
["2015-09-28",2344.1300000000028,16.002048999998465,6.826434114148296E-3,null,null,null,null,null,null,11.002048999998467,null,null,null,5,null,null,null,null,null,null,null,null,null,null,null,null,null,null,null,null,null,null,null,null,null,null,"2015-10-02",4.1625133130594662E-2,2.4439796281855237E-2,2.0509007599207082E-2,16408.700000000015,32816.910000000025,50713.180000000029,683.01432199998931,802.03859499997861,1040.0769939999573]
["2015-10-02",2344.1700000000037,17.002052999998462,7.2529095586064303E-3,null,null,null,null,null,null,11.002052999998464,null,null,null,6,null,null,null,null,null,null,null,null,null,null,null,null,null,null,null,null,null,null,null,null,null,null,"2015-10-06",4.1685976215461801E-2,2.4439685661325435E-2,1.891866176956811E-2,16408.980000000021,32817.470000000038,54976.780000000042,684.02434999998923,802.04865099997858,1040.0871059999574]
["2015-10-05",2344.2000000000044,75.002055999998461,3.1994734237692314E-2,null,null,null,null,null,null,11.002055999998461,null,null,null,64,null,null,null,null,null,null,null,null,null,null,null,null,null,null,null,null,null,null,null,null,null,null,"2015-10-09",{"$f":"AS2058/AP2058","v":1.0788733081888196E-2},2.6206702898936445E-2,1.8875926179313614E-2,{"$f":"SUM(B2052:B2058)","v":16409.190000000024},32817.890000000043,58174.480000000047,{"$f":"SUM(C2052:C2058)","v":177.03437099998922},860.04869299997847,1098.0971899999572]
["2015-10-09",2344.2400000000052,25.512059999998456,1.0882870354570522E-2,null,null,null,null,null,null,11.002059999998458,null,null,null,14.51,null,null,null,null,null,null,null,null,null,null,null,null,null,null,null,null,null,null,null,null,null,null,"2015-10-13",1.462596896791845E-2,2.8155770580267404E-2,1.8595659924199391E-2,16409.47000000003,32818.450000000055,62438.080000000082,240.00439899998921,924.02874899997835,1161.0773019999569]
["2015-10-10",2344.2500000000055,25.422060999998457,1.0844432547722469E-2,null,null,null,null,null,null,11.002060999998458,null,null,null,14.42,null,null,null,null,null,null,null,null,null,null,null,null,null,null,null,null,null,null,null,null,null,null,"2015-10-14",1.513902315360386E-2,2.6888686046535722E-2,1.8416126516793994E-2,16409.540000000034,32818.590000000062,63503.980000000083,248.4244059999892,882.44876299997838,1169.4973299999569]
["2015-10-16",2111,23.052066999998452,1.0919974893414709E-2,null,null,null,null,null,null,11.002066999998453,null,null,null,12.05,null,null,null,null,null,null,null,null,null,null,null,null,null,null,null,null,null,null,null,null,null,null,"2015-10-20",1.0851718248215099E-2,1.2752326665463011E-2,1.8616676821562161E-2,16176.650000000036,32586.120000000072,65403.590000000113,175.54444799998919,415.54884699997842,1217.5974979999569]
["2015-10-17",2111.0100000000002,32.562067999998447,1.5424876244072006E-2,null,null,null,null,null,null,11.002067999998452,null,null,null,21.56,null,null,null,null,null,null,null,null,null,null,null,null,null,null,null,null,null,null,null,null,null,null,"2015-10-21",1.1458305030102645E-2,1.3325179342223124E-2,1.8922002910515951E-2,15943.410000000031,32352.950000000063,65170.560000000121,182.68445499998916,431.10886099997845,1233.1575259999568]
["2015-10-20",2111.0400000000009,32.572070999998452,1.5429395463846463E-2,null,null,null,null,null,null,11.00207099999845,null,null,null,21.57,null,null,null,null,null,null,null,null,null,null,null,null,null,null,null,null,null,null,null,null,null,null,"2015-10-24",1.3397312330543913E-2,1.1435057390286104E-2,1.9854016202825137E-2,15243.690000000015,31653.440000000053,64471.47000000011,204.22447599998915,361.95890299997836,1280.0176099999569]
["2015-10-23",2111.0700000000015,32.612073999998444,1.5448125358229911E-2,null,null,null,null,null,null,11.002073999998448,null,null,null,21.61,null,null,null,null,null,null,null,null,null,null,null,null,null,null,null,null,null,null,null,null,null,null,"2015-10-27",1.5446990041468328E-2,1.3045482269940447E-2,2.0821516995287847E-2,14777.280000000006,30953.930000000044,63772.380000000099,228.26449699998918,403.80894499997828,1327.8376939999569]
["2015-10-28",2111.1200000000026,32.492078999998441,1.5390919985599303E-2,null,null,null,null,null,null,11.002078999998444,null,null,null,21.49,null,null,null,null,null,null,null,null,null,null,null,null,null,null,null,null,null,null,null,null,null,null,"2015-11-01",1.5412114933178657E-2,1.474512674197122E-2,1.3422376840501571E-2,14777.630000000014,29788.080000000024,62607.230000000105,227.75453199998913,439.2290149999784,840.33783399995662]
["2015-10-31",2111.1500000000033,32.552081999998443,1.5419123226676641E-2,null,null,null,null,null,null,11.002081999998442,null,null,null,21.55,null,null,null,null,null,null,null,null,null,null,null,null,null,null,null,null,null,null,null,null,null,null,"2015-11-04",1.5424077740724546E-2,1.543515900252977E-2,1.4332491946938728E-2,14777.840000000018,29555.190000000031,61908.140000000094,227.93455299998911,456.18905699997833,887.29791799995667]
["2015-11-04",2111.1900000000041,32.722085999998441,1.5499356287211656E-2,null,null,null,null,null,null,11.002085999998439,null,null,null,21.72,null,null,null,null,null,null,null,null,null,null,null,null,null,null,null,null,null,null,null,null,null,null,"2015-11-08",1.439523978692748E-2,1.4903668930748758E-2,1.346493309992937E-2,14778.120000000024,29555.750000000044,60976.020000000106,212.73458099998908,440.48911299997826,821.03802999995673]
["2015-11-05",2111.2000000000044,22.64208699999844,1.0724747536945052E-2,null,null,null,null,null,null,11.002086999998438,null,null,null,11.64,null,null,null,null,null,null,null,null,null,null,null,null,null,null,null,null,null,null,null,null,null,null,"2015-11-09",1.372526594934757E-2,1.4565933456917642E-2,1.3618329588318837E-2,14778.190000000026,29555.890000000043,60742.9900000001,202.83458799998911,430.50912699997821,827.21805799995661]
["2015-11-11",2111.2600000000057,665.00209299999847,0.31497877712834832,null,null,null,null,null,null,11.002092999998434,null,null,null,654,null,null,null,null,null,null,null,null,null,null,null,null,null,null,null,null,null,null,null,null,null,null,"2015-11-15",5.2114145376323431E-2,3.3255005239076714E-2,2.3963986505306099E-2,14778.610000000035,29556.730000000065,59344.8100000001,770.17462999998907,982.90921099997809,1422.1382259999568]
["2015-11-12",2111.2700000000059,15.352093999998432,7.2714972504693337E-3,null,null,null,null,null,null,11.002093999998433,null,null,null,4.3499999999999996,null,null,null,null,null,null,null,null,null,null,null,null,null,null,null,null,null,null,null,null,null,null,"2015-11-16",5.1620620853823705E-2,3.2673257520162861E-2,2.3888609918360677E-2,14778.680000000037,29556.870000000068,59111.780000000101,762.8846369999892,965.71922499997822,1412.0982539999568]
["2015-11-15",2111.3000000000065,467.00209699999846,0.22119172879268556,null,null,null,null,null,null,11.002096999998431,null,null,null,456,null,null,null,null,null,null,null,null,null,null,null,null,null,null,null,null,null,null,null,null,null,null,"2015-11-19",0.11965679817631665,6.5132468741213187E-2,4.0283924786280019E-2,14778.890000000041,29557.290000000077,59112.620000000112,1768.3946579999892,1925.1392669999782,2381.2883379999566]
["2015-11-18",2111.3300000000072,45.002099999998428,2.1314574225724199E-2,null,null,null,null,null,null,11.002099999998428,null,null,null,34,null,null,null,null,null,null,null,null,null,null,null,null,null,null,null,null,null,null,null,null,null,null,"2015-11-22",8.0433495882698228E-2,6.6274055364910628E-2,4.0589713780921487E-2,14779.100000000046,29557.710000000086,59113.460000000137,1188.734678999989,1958.9093089999781,2399.3984219999566]
["2015-11-23",2111.3800000000083,45.002104999998423,2.1314071839270168E-2,null,null,null,null,null,null,11.002104999998425,null,null,null,34,null,null,null,null,null,null,null,null,null,null,null,null,null,null,null,null,null,null,null,null,null,null,"2015-11-27",1.6442744080462271E-2,6.8035776586087379E-2,4.0238758274991258E-2,14779.450000000053,29558.410000000102,59114.860000000161,243.014713999989,2011.0293789999778,2378.7085619999561]
["2015-11-26",2111.4100000000089,13.002107999998422,6.1580214169670352E-3,null,null,null,null,null,null,11.002107999998422,null,null,null,2,null,null,null,null,null,null,null,null,null,null,null,null,null,null,null,null,null,null,null,null,null,null,"2015-11-30",4.7363385558259537E-2,6.3852304742778074E-2,4.8263298007127496E-2,14779.660000000058,29558.830000000111,59115.700000000186,700.01473499998895,1887.3994209999778,2853.1186459999558]
["2015-11-30",1322.03,{"$f":"SUM(K2114:Q2114)","v":14.002111999998419},1.059137235917371E-2,null,null,null,null,null,null,11.002111999998419,null,null,null,3,null,null,null,null,null,null,null,null,null,null,null,null,null,null,null,null,null,null,null,null,null,null,"2015-12-04",8.5866669907572774E-2,4.7003753809884828E-2,5.6266210631541982E-2,11622.260000000028,26401.710000000079,55959.140000000159,997.96476299998903,1240.979476999978,3148.6087579999553]
["2015-12-01",1322.04,56.34211299999842,4.2617555444614701E-2,null,null,null,null,null,null,11.002112999998419,null,null,null,45.34,null,null,null,null,null,null,null,null,null,null,null,null,null,null,null,null,null,null,null,null,null,null,"2015-12-05",4.7014585185327681E-2,4.8465510340095587E-2,5.7784099800615302E-2,10832.910000000018,25612.430000000073,55170.000000000153,509.30476999998893,1241.3194909999779,3187.9487859999549]
["2015-12-05",1322.08,109.52211699999842,8.2840763796440772E-2,null,null,null,null,null,null,11.002116999998416,null,null,null,98.52,null,null,null,null,null,null,null,null,null,null,null,null,null,null,null,null,null,null,null,null,null,null,"2015-12-09",3.7722238514859383E-2,6.1014946887839691E-2,6.4441207849354837E-2,9254.35,22455.310000000041,52013.440000000133,349.09479799998894,1370.109546999978,3351.8088979999557]
["2015-12-06",1322.09,94.772117999998414,7.1683560120716763E-2,null,null,null,null,null,null,11.002117999998415,null,null,null,83.77,null,null,null,null,null,null,null,null,null,null,null,null,null,null,null,null,null,null,null,null,null,null,"2015-12-10",4.5482569950357654E-2,6.6919484603315649E-2,6.6985569856492844E-2,9254.42,21666.030000000039,51224.300000000134,420.91480499998886,1449.8795609999777,3431.2889259999556]
["2015-12-07",1322.1,95.082118999998414,7.1917494138112409E-2,null,null,null,null,null,null,11.002118999998414,null,null,null,84.08,null,null,null,null,null,null,null,null,null,null,null,null,null,null,null,null,null,null,null,null,null,null,"2015-12-11",5.4243379375847715E-2,7.1848327685103089E-2,6.9613915252771011E-2,9254.49,20876.750000000025,50435.160000000127,501.99481199998888,1499.9595749999778,3510.9889539999554]
["2015-12-08",1322.11,113.78211999999841,8.6061008539379036E-2,null,null,null,null,null,null,11.002119999998413,null,null,null,102.78,null,null,null,null,null,null,null,null,null,null,null,null,null,null,null,null,null,null,null,null,null,null,"2015-12-12",{"$f":"AS2122/AP2122","v":6.0449639853217114E-2},5.3204290485560246E-2,7.2704498406920559E-2,{"$f":"SUM(B2116:B2122)","v":9254.56},20087.470000000016,49646.02000000012,{"$f":"SUM(C2116:C2122)","v":559.43481899998892},1068.7395889999777,3609.4889819999553]
["2015-12-09",1322.12,108.26212099999842,8.1885245666050308E-2,null,null,null,null,null,null,11.002120999998413,null,null,null,97.26,null,null,null,null,null,null,null,null,null,null,null,null,null,null,null,null,null,null,null,null,null,null,"2015-12-13",6.8063750360629102E-2,6.0264698554630118E-2,6.2483503039898337E-2,9254.6299999999992,19298.190000000006,48856.880000000114,629.90482599998882,1162.9996029999777,3052.7490099999554]
["2015-12-10",1322.1299999999999,99.17212199999841,7.500935762746358E-2,null,null,null,null,null,null,11.002121999998412,null,null,null,88.17,null,null,null,null,null,null,null,null,null,null,null,null,null,null,null,null,null,null,null,null,null,null,"2015-12-14",7.687929733000412E-2,6.7490177271377808E-2,6.5253099854495941E-2,9254.6999999999989,18508.910000000003,48067.740000000107,711.49483299998906,1249.1696169999777,3136.5690379999555]
["2015-12-11",1322.1399999999999,100.4921229999984,7.6007172462824221E-2,null,null,null,null,null,null,11.002122999998411,null,null,null,89.49,null,null,null,null,null,null,null,null,null,null,null,null,null,null,null,null,null,null,null,null,null,null,"2015-12-15",7.7914938999023076E-2,7.0487660414768866E-2,5.6305793022634984E-2,9254.77,18509.05,47278.6000000001,721.08483999998884,1304.6596309999777,2662.0590659999561]
["2015-12-12",1322.1499999999999,89.862123999998403,6.7966663389175522E-2,null,null,null,null,null,null,11.00212399999841,null,null,null,78.86,null,null,null,null,null,null,null,null,null,null,null,null,null,null,null,null,null,null,null,null,null,null,"2015-12-16",7.5790056554190993E-2,5.6756651425587917E-2,5.8863860625611698E-2,9254.8399999999983,18509.190000000002,46489.460000000094,701.42484699998886,1050.5196449999778,2736.5490939999554]
["2015-12-13",1322.1599999999999,73.672124999998417,5.572103603194653E-2,null,null,null,null,null,null,11.00212499999841,null,null,null,62.67,null,null,null,null,null,null,null,null,null,null,null,null,null,null,null,null,null,null,null,null,null,null,"2015-12-17",7.3509613167495824E-2,5.9496462540782294E-2,5.1273582373163949E-2,9254.91,18509.329999999998,45700.32000000008,680.32485399998882,1101.2396589999778,2343.2191219999559]
["2015-12-14",1322.1699999999998,68.412125999998409,5.1742306965063808E-2,null,null,null,null,null,null,11.002125999998409,null,null,null,57.41,null,null,null,null,null,null,null,null,null,null,null,null,null,null,null,null,null,null,null,null,null,null,"2015-12-18",7.0627366131530145E-2,6.2435589619798823E-2,5.3363753746838778E-2,9254.98,18509.469999999998,44911.18000000008,653.65486099998884,1155.6496729999776,2396.6291499999552]
["2015-12-15",1322.1799999999998,98.442126999998408,7.4454406359193467E-2,null,null,null,null,null,null,11.002126999998408,null,null,null,87.44,null,null,null,null,null,null,null,null,null,null,null,null,null,null,null,null,null,null,null,null,null,null,"2015-12-19",6.8969359214697809E-2,{"$f":"AT2129/AQ2129","v":6.4709612304093819E-2},5.5280063614464588E-2,9255.0499999999993,{"$f":"SUM(B2116:B2129)","v":18509.609999999997},44122.040000000074,638.31486799998891,{"$f":"SUM(C2116:C2129)","v":1197.7496869999777},2439.0691779999552]
["2015-12-16",1322.1899999999998,96.402127999998413,7.2910949258426117E-2,null,null,null,null,null,null,11.002127999998407,null,null,null,85.4,null,null,null,null,null,null,null,null,null,null,null,null,null,null,null,null,null,null,null,null,null,null,"2015-12-20",6.7687385468798766E-2,6.7875562933047598E-2,5.7472941021716809E-2,9255.119999999999,18509.749999999996,43332.90000000006,626.45487499998876,1256.3597009999776,2490.4692059999556]
["2015-12-17",1322.1999999999998,90.442128999998403,6.8402759794281065E-2,null,null,null,null,null,null,11.002128999998407,null,null,null,79.44,null,null,null,null,null,null,null,null,null,null,null,null,null,null,null,null,null,null,null,null,null,null,"2015-12-21",6.6743619742003019E-2,7.1811324378479716E-2,6.0335739812370885E-2,9255.1899999999987,18509.89,42543.760000000046,617.72488199998884,1329.2197149999779,2566.9092339999547]
["2015-12-18",1322.2099999999998,82.872129999998407,6.2676980207378871E-2,null,null,null,null,null,null,11.002129999998406,null,null,null,71.87,null,null,null,null,null,null,null,null,null,null,null,null,null,null,null,null,null,null,null,null,null,null,"2015-12-22",6.4839333416888231E-2,7.1376963138362157E-2,6.3125452033809745E-2,9255.2599999999984,18510.03,41754.620000000039,600.10488899998882,1321.1897289999777,2635.7792619999555]
["2015-12-19",1322.2199999999998,73.482130999998404,5.5574814327417836E-2,null,null,null,null,null,null,11.002130999998405,null,null,null,62.48,null,null,null,null,null,null,null,null,null,null,null,null,null,null,null,null,null,null,null,null,null,null,"2015-12-23",6.3069052751224305E-2,6.9429386277920613E-2,6.4816994454842278E-2,9255.33,18510.169999999998,40965.48000000004,583.7248959999888,1285.1497429999777,2655.2592899999549]
["2015-12-20",1322.2299999999998,64.152131999998403,4.8518133758875849E-2,null,null,null,null,null,null,11.002131999998404,null,null,null,53.15,null,null,null,null,null,null,null,null,null,null,null,null,null,null,null,null,null,null,null,null,null,null,"2015-12-24",6.2039987790910071E-2,6.7774648668767701E-2,6.7313481466951749E-2,9255.3999999999978,18510.310000000001,40176.34000000004,574.20490299998892,1254.5297569999775,2704.409317999955]
["2015-12-21",1322.2399999999998,66.372132999998399,5.0196736598498312E-2,null,null,null,null,null,null,11.002132999998404,null,null,null,55.37,null,null,null,null,null,null,null,null,null,null,null,null,null,null,null,null,null,null,null,null,null,null,"2015-12-25",6.1819109132220065E-2,6.6223121047839353E-2,6.9204699648615628E-2,9255.4699999999993,18510.449999999997,39387.200000000026,572.16490999998882,1225.8197709999777,2725.7793459999552]
["2015-12-22",1322.2499999999998,88.5721339999984,6.698592096804569E-2,null,null,null,null,null,null,11.002133999998403,null,null,null,77.569999999999993,null,null,null,null,null,null,null,null,null,null,null,null,null,null,null,null,null,null,null,null,null,null,"2015-12-26",6.075225400138607E-2,6.4860697849175961E-2,5.8794389510766973E-2,9255.5399999999991,18510.589999999997,38598.060000000019,562.2949169999888,1200.6097849999778,2269.3493739999553]
["2015-12-23",1322.2599999999998,86.432134999998411,6.5366973968809791E-2,null,null,null,null,null,null,11.002134999998402,null,null,null,75.430000000000007,null,null,null,null,null,null,null,null,null,null,null,null,null,null,null,null,null,null,null,null,null,null,"2015-12-27",5.967461074958743E-2,6.368089205557953E-2,6.1937220158628035E-2,9255.6099999999988,18510.729999999996,37808.920000000006,552.32492399998887,1178.7797989999774,2341.7794019999551]
["2015-12-24",1322.2699999999998,82.932135999998408,6.2719517193915331E-2,null,null,null,null,null,null,11.002135999998401,null,null,null,71.930000000000007,null,null,null,null,null,null,null,null,null,null,null,null,null,null,null,null,null,null,null,null,null,null,"2015-12-28",5.8862766539032135E-2,6.280308883374891E-2,6.5146508974390324E-2,9255.6799999999985,18510.869999999995,37019.78,544.81493099998886,1162.5398129999774,2411.7094299999553]
["2015-12-25",1322.2799999999997,64.772136999998409,4.898518997489066E-2,null,null,null,null,null,null,11.002136999998401,null,null,null,53.77,null,null,null,null,null,null,null,null,null,null,null,null,null,null,null,null,null,null,null,null,null,null,"2015-12-29",5.6906780973987943E-2,6.0872952205199921E-2,6.5680051788137447E-2,9255.7499999999982,18511.009999999995,37020.06,526.71493799998882,1126.8198269999775,2431.4794579999552]
["2015-12-26",1322.2899999999997,57.242137999998405,4.3290154202178355E-2,null,null,null,null,null,null,11.0021379999984,null,null,null,46.24,null,null,null,null,null,null,null,null,null,null,null,null,null,null,null,null,null,null,null,null,null,null,"2015-12-30",5.5151779637027186E-2,5.9110311406907597E-2,5.7933543722179633E-2,9255.8199999999979,18511.150000000001,37020.339999999997,510.47494499998885,1094.1998409999776,2144.7194859999554]
["2015-12-27",1322.2999999999997,71.312138999998396,5.3930378129016417E-2,null,null,null,null,null,null,11.002138999998399,null,null,null,60.31,null,null,null,null,null,null,null,null,null,null,null,null,null,null,null,null,null,null,null,null,null,null,"2015-12-31",5.592492477762688E-2,5.8982375350393072E-2,5.9239405336808389E-2,9255.89,18511.289999999997,37020.619999999995,517.63495199998886,1091.8398549999777,2193.079513999955]
["2015-12-28",1322.3099999999997,83.172139999998393,6.2899123503564525E-2,null,null,null,null,null,null,11.002139999998398,null,null,null,72.17,null,null,null,null,null,null,null,null,null,null,null,null,null,null,null,null,null,null,null,null,null,null,"2016-01-01",5.7739549328215435E-2,5.9779275236974003E-2,6.1107362111670852E-2,9255.9599999999973,18511.43,37020.899999999994,534.43495899998879,1106.5998689999776,2262.249541999955]
["2015-12-29",1322.3199999999997,105.4121409999984,7.9717572902170741E-2,null,null,null,null,null,null,11.002140999998398,null,null,null,94.41,null,null,null,null,null,null,null,null,null,null,null,null,null,null,null,null,null,null,null,null,null,null,"2016-01-02",5.9558467939277313E-2,6.0155345170613723E-2,{"$f":"AU2143/AR2143","v":6.2432358179829908E-2},9256.0299999999988,18511.569999999996,{"$f":"SUM(B2116:B2143)","v":37021.179999999993},551.27496599998892,1113.5698829999776,{"$f":"SUM(C2116:C2143)","v":2311.3195699999551}]
["2015-12-30",1322.3299999999997,102.07214199999839,7.7191126269538182E-2,null,null,null,null,null,null,11.002141999998397,null,null,null,91.07,null,null,null,null,null,null,null,null,null,null,null,null,null,null,null,null,null,null,null,null,null,null,"2016-01-03",6.1247714804290032E-2,6.046118359675999E-2,6.4168176997880563E-2,9256.0999999999985,18511.709999999995,37021.46,566.91497299998889,1119.2398969999776,2375.5995979999552]
["2015-12-31",1322.3399999999997,92.582142999998396,7.0013871621518231E-2,null,null,null,null,null,null,11.002142999998396,null,null,null,81.58,null,null,null,null,null,null,null,null,null,null,null,null,null,null,null,null,null,null,null,null,null,null,"2016-01-04",6.2289800208940517E-2,6.0576328729974489E-2,6.619352915340973E-2,9256.1699999999983,18511.849999999995,37021.74,576.56497999998885,1121.3799109999779,2450.5996259999552]
["2016-01-01",1322.3499999999997,16.182143999998395,1.2237413695313948E-2,null,null,null,null,null,null,11.002143999998395,null,null,null,5.18,null,null,null,null,null,null,null,null,null,null,null,null,null,null,null,null,null,null,null,null,null,null,"2016-01-05",5.7039898165992767E-2,5.6973341331751907E-2,6.4174770960632496E-2,9256.239999999998,18511.989999999994,37022.019999999997,527.9749869999888,1054.6899249999776,2375.8796539999553]
["2016-01-02",1322.3599999999997,15.832144999998395,1.197264360688345E-2,null,null,null,null,null,null,11.002144999998395,null,null,null,4.83,null,null,null,null,null,null,null,null,null,null,null,null,null,null,null,null,null,null,null,null,null,null,"2016-01-06",5.2565762598701729E-2,5.3858736893052164E-2,6.1643649422103854E-2,9256.3099999999977,18512.129999999997,37022.299999999996,486.5649939999887,997.03993899997761,2282.1896819999552]
["2016-01-03",1322.3699999999997,18.562145999998393,1.4037028970710465E-2,null,null,null,null,null,null,11.002145999998394,null,null,null,7.56,null,null,null,null,null,null,null,null,null,null,null,null,null,null,null,null,null,null,null,null,null,null,"2016-01-07",4.6866593743989431E-2,5.139563937863794E-2,5.9584710465882033E-2,9256.3799999999974,18512.269999999997,37022.58,433.81500099998874,951.44995299997765,2205.979709999955]
["2016-01-04",1322.3799999999997,20.222146999998394,1.5292235968479862E-2,null,null,null,null,null,null,11.002146999998393,null,null,null,9.2200000000000006,null,null,null,null,null,null,null,null,null,null,null,null,null,null,null,null,null,null,null,null,null,null,"2016-01-08",4.0065576759987773E-2,4.8902329140289011E-2,5.7562266610411937E-2,9256.4499999999989,18512.409999999996,37022.859999999993,370.86500799998879,905.29996699997753,2131.1197379999553]
["2016-01-05",1322.3899999999996,25.992147999998394,1.9655432966067803E-2,null,null,null,null,null,null,11.002147999998392,null,null,null,14.99,null,null,null,null,null,null,null,null,null,null,null,null,null,null,null,null,null,null,null,null,null,null,"2016-01-09",3.1485376253709695E-2,4.5521550569747424E-2,5.519061230354734E-2,9256.5199999999968,18512.55,37023.139999999992,291.44501499998876,842.71998099997768,2043.3297659999553]
["2016-01-06",1322.3999999999996,35.672148999998392,2.697530928614519E-2,null,null,null,null,null,null,11.002148999998392,null,null,null,24.67,null,null,null,null,null,null,null,null,null,null,null,null,null,null,null,null,null,null,null,null,null,null,"2016-01-10",2.4311871002171293E-2,4.2779304088167512E-2,5.3229544812444539E-2,9256.5899999999983,18512.689999999995,37023.419999999991,225.04502199998873,791.95999499997765,1970.7397939999548]
["2016-01-07",1322.4099999999996,37.38214999999839,2.8268199726256153E-2,null,null,null,null,null,null,11.002149999998391,null,null,null,26.38,null,null,null,null,null,null,null,null,null,null,null,null,null,null,null,null,null,null,null,null,null,null,"2016-01-11",1.8348413898748445E-2,4.0318525530671313E-2,5.1560212026349479E-2,9256.659999999998,18512.829999999994,37023.69999999999,169.84502899998876,746.41000899997755,1908.9498219999548]
["2016-01-08",1322.4199999999996,42.822150999998392,3.238165711347258E-2,null,null,null,null,null,null,11.00215099999839,null,null,null,31.82,null,null,null,null,null,null,null,null,null,null,null,null,null,null,null,null,null,null,null,null,null,null,"2016-01-12",2.1226182031882621E-2,3.913256614146611E-2,5.0002183719847396E-2,9256.7299999999977,18512.969999999994,37023.979999999989,196.48503599998875,724.46002299997758,1851.2798499999551]
["2016-01-09",1322.4299999999996,40.882151999998385,3.0914416642089486E-2,null,null,null,null,null,null,11.002151999998389,null,null,null,29.88,null,null,null,null,null,null,null,null,null,null,null,null,null,null,null,null,null,null,null,null,null,null,"2016-01-13",2.3932141020653878E-2,3.8248572876193022E-2,4.8678889949453553E-2,9256.7999999999975,18513.109999999993,37024.259999999995,221.53504299998878,708.10003699997753,1802.299877999955]
["2016-01-10",1322.4399999999996,32.862152999998386,2.4849636278393272E-2,null,null,null,null,null,null,11.002152999998389,null,null,null,21.86,null,null,null,null,null,null,null,null,null,null,null,null,null,null,null,null,null,null,null,null,null,null,"2016-01-14",2.54767594230003E-2,3.6171393515453946E-2,4.7576280650615928E-2,9256.8699999999972,18513.249999999993,37024.539999999994,235.83504999998871,669.65005099997757,1761.4899059999552]
["2016-01-11",1322.4499999999996,31.032153999998389,2.3465653899957199E-2,null,null,null,null,null,null,11.002153999998388,null,null,null,20.03,null,null,null,null,null,null,null,null,null,null,null,null,null,null,null,null,null,null,null,null,null,null,"2016-01-15",2.6644340030289582E-2,3.3354780782988834E-2,4.6566328587146551E-2,9256.9399999999969,18513.39,37024.82,246.64505699998875,617.51006499997766,1724.1099339999553]
["2016-01-12",1322.4599999999996,354.00215499999837,0.26768458403278622,null,null,null,null,null,null,11.002154999998387,null,null,null,343,null,null,null,null,null,null,null,null,null,null,null,null,null,null,null,null,null,null,null,null,null,null,"2016-01-16",6.207782685769906E-2,4.6782006402883596E-2,5.34683218141195E-2,9257.0099999999984,18513.529999999995,37025.099999999984,574.65506399998867,866.10007899997731,1979.6699619999551]
["2016-01-13",1322.4699999999996,445.00215599999837,0.33649319530877714,null,null,null,null,null,null,11.002155999998386,null,null,null,434,null,null,null,null,null,null,null,null,null,null,null,null,null,null,null,null,null,null,null,null,null,null,"2016-01-17",0.10629540535460308,6.530472310460203E-2,6.2883081551086198E-2,9257.0799999999963,18513.669999999998,37025.37999999999,983.98507099998869,1209.0300929999773,2328.2699899999552]
["2016-01-14",1322.4799999999996,356.00215699999836,0.26919284752888395,null,null,null,null,null,null,11.002156999998386,null,null,null,345,null,null,null,null,null,null,null,null,null,null,null,null,null,null,null,null,null,null,null,null,null,null,"2016-01-18",0.1407134029371879,7.9532527718496504E-2,7.0054929959383741E-2,9257.1499999999978,18513.809999999994,37025.659999999989,1302.6050779999887,1472.4501069999774,2593.8300179999555]
["2016-01-15",1322.4899999999996,464.00215799999836,0.35085494635120001,null,null,null,null,null,null,11.002157999998385,null,null,null,453,null,null,null,null,null,null,null,null,null,null,null,null,null,null,null,null,null,null,null,null,null,null,"2016-01-19",0.18620980002635662,0.10372017430099888,8.0347995108293144E-2,9257.2199999999975,18513.949999999993,37025.939999999995,1723.7850849999886,1920.2701209999775,2974.9600459999551]
["2016-01-16",1322.4999999999995,446.00215899999836,0.33724170812854332,null,null,null,null,null,null,11.002158999998384,null,null,null,435,null,null,null,null,null,null,null,null,null,null,null,null,null,null,null,null,null,null,null,null,null,null,"2016-01-20",0.22997066009598804,0.12695412709995352,9.0408366665567147E-2,9257.2899999999972,18514.089999999993,37026.219999999994,2128.9050919999886,2350.4401349999775,3347.480073999955]
["2016-01-17",1322.5099999999995,356.00215999999841,0.26918674338946286,null,null,null,null,null,null,11.002159999998383,null,null,null,345,null,null,null,null,null,null,null,null,null,null,null,null,null,null,null,null,null,null,null,null,null,null,"2016-01-21",0.26487520189341129,0.14517914863323936,9.8289876223784475E-2,9257.3599999999969,18514.229999999992,37026.499999999993,2452.045098999989,2687.8801489999778,3639.3301019999553]
["2016-01-18",1322.5199999999995,356.00216099999841,0.26918470873786299,null,null,null,null,null,null,11.002160999998383,null,null,null,345,null,null,null,null,null,null,null,null,null,null,null,null,null,null,null,null,null,null,null,null,null,null,"2016-01-22",0.29997689488335205,0.16331423445680185,0.10611130997618361,9257.4299999999967,18514.369999999995,37026.779999999992,2777.0151059999889,3023.6601629999777,3928.9601299999549]
["2016-01-19",1322.5299999999995,356.00216199999841,0.26918267411703217,null,null,null,null,null,null,11.002161999998382,null,null,null,345,null,null,null,null,null,null,null,null,null,null,null,null,null,null,null,null,null,null,null,null,null,null,"2016-01-23",0.30019066843100084,0.18113739855929098,0.1133330639267594,9257.4999999999964,18514.509999999995,37027.05999999999,2779.015112999989,3353.6701769999777,4196.3901579999547]
["2016-01-20",1322.5399999999995,356.0021629999984,0.26918063952696974,null,null,null,null,null,null,11.002162999998381,null,null,null,345,null,null,null,null,null,null,null,null,null,null,null,null,null,null,null,null,null,null,null,null,null,null,"2016-01-24",0.2905746453983053,0.19843746390020761,0.12061250378774055,9257.5699999999979,18514.649999999994,37027.339999999989,2690.0151199999887,3674.0001909999778,4465.9601859999557]
["2016-01-21",1322.5499999999995,47.00216399999838,3.5539045026651846E-2,null,null,null,null,null,null,11.00216399999838,null,null,null,36,null,null,null,null,null,null,null,null,null,null,null,null,null,null,null,null,null,null,null,null,null,null,"2016-01-25",0.25719461190972964,0.19895554878019023,0.11964123575860283,9257.6399999999958,18514.789999999997,37027.619999999988,2381.0151269999883,3683.6202049999774,4430.0302139999558]
["2016-01-22",1322.5599999999995,45.002164999998378,3.4026558341397284E-2,null,null,null,null,null,null,11.00216499999838,null,null,null,34,null,null,null,null,null,null,null,null,null,null,null,null,null,null,null,null,null,null,null,null,null,null,"2016-01-26",0.21193309511747385,0.19907178795706917,0.11910641008536686,9257.7099999999973,18514.929999999993,37027.899999999994,1962.0151339999884,3685.8002189999775,4410.2602419999548]
["2016-01-23",{"$f":"B2167+0.01","v":1322.5699999999995},545.0021659999984,0.4120781251653966,null,null,null,null,null,null,11.002165999998379,null,null,null,534,null,null,null,null,null,null,null,null,null,null,null,null,null,null,null,null,null,null,null,null,null,null,"2016-01-27",0.22262520183024323,0.2262978337646025,0.13227818029403438,9257.779999999997,18515.069999999992,37028.179999999986,2061.0151409999885,4189.9202329999771,4898.0202699999554]
["2016-01-24",1322.5799999999995,356.00216699999839,0.26917250147438987,null,null,null,null,null,null,11.002166999998378,null,null,null,345,null,null,null,null,null,null,null,null,null,null,null,null,null,null,null,null,null,null,null,null,null,null,"2016-01-28",0.2226235192836338,0.24374880149887468,0.13996559127762689,9257.8499999999967,18515.209999999992,37028.459999999992,2061.0151479999886,4513.0602469999776,5182.7102979999554]
["2016-01-25",1322.5899999999995,356.00216799999839,0.26917046703815889,null,null,null,null,null,null,11.002167999998377,null,null,null,345,null,null,null,null,null,null,null,null,null,null,null,null,null,null,null,null,null,null,null,null,null,null,"2016-01-29",0.22262183676246824,0.2612983422403562,0.14733259424976267,9257.9199999999964,18515.349999999991,37028.739999999991,2061.0151549999891,4838.0302609999771,5455.5403259999557]
["2016-01-26",1322.5999999999995,356.00216899999839,0.26916843263269208,null,null,null,null,null,null,11.002168999998377,null,null,null,345,null,null,null,null,null,null,null,null,null,null,null,null,null,null,null,null,null,null,null,null,null,null,"2016-01-30",0.22262015426674578,0.26140438492310925,0.15409887580065465,9257.9899999999961,18515.489999999991,37029.01999999999,2061.0151619999888,4840.0302749999773,5706.1303539999553]
["2016-01-27",1322.6099999999994,14.002169999998376,1.0586771610677661E-2,null,null,null,null,null,null,11.002169999998376,null,null,null,3,null,null,null,null,null,null,null,null,null,null,null,null,null,null,null,null,null,null,null,null,null,null,"2016-01-31",0.18567768722604841,0.2381247783089194,0.15171932448088288,9258.0599999999959,18515.629999999997,37029.299999999988,1719.0151689999889,4409.0302889999766,5618.0603819999542]
["2016-01-28",777,68.182170999998377,8.7750541827539733E-2,null,null,null,null,null,null,11.002170999998375,null,null,null,57.18,null,null,null,null,null,null,null,null,null,null,null,null,null,null,null,null,null,null,null,null,null,null,"2016-02-01",0.19973522853919121,0.22933644421443217,0.1533183461992601,8712.5099999999984,17970.149999999994,36483.959999999985,1740.1951759999886,4121.2103029999771,5593.6604099999549]
["2016-01-29",777.01,45.002171999998374,5.7917107887927276E-2,null,null,null,null,null,null,11.002171999998374,null,null,null,34,null,null,null,null,null,null,null,null,null,null,null,null,null,null,null,null,null,null,null,null,null,null,"2016-02-02",0.21307747105409963,0.21246946524668636,0.15644675388203433,8166.9599999999973,17424.669999999995,35938.619999999988,1740.1951829999889,3702.2103169999773,5622.480437999955]
["2016-01-30",777.02,356.00217299999838,0.45816346168695576,null,null,null,null,null,null,11.002172999998374,null,null,null,345,null,null,null,null,null,null,null,null,null,null,null,null,null,null,null,null,null,null,null,null,null,null,"2016-02-03",0.20353126127579921,0.21400377215968172,0.16846843429034997,7621.409999999998,16879.189999999995,35393.279999999984,1551.1951899999885,3612.210330999977,5962.6504659999546]
["2016-01-31",777.03,45.002173999998377,5.7915619731539809E-2,null,null,null,null,null,null,11.002173999998373,null,null,null,34,null,null,null,null,null,null,null,null,null,null,null,null,null,null,null,null,null,null,null,null,null,null,"2016-02-04",0.17527130228692894,0.20211025817159592,0.17186354470307158,7075.8599999999979,16333.709999999997,34847.939999999988,1240.1951969999886,3301.2103449999772,5989.0904939999546]
["2016-02-01",777.04,64.002174999998374,8.2366641356942216E-2,null,null,null,null,null,null,11.002174999998372,null,null,null,53,null,null,null,null,null,null,null,null,null,null,null,null,null,null,null,null,null,null,null,null,null,null,"2016-02-05",0.14519911060883614,0.19059833553222741,0.17587210654585822,6530.3099999999995,15788.229999999996,34302.599999999991,948.19520399998862,3009.2103589999779,6032.8705219999547]
["2016-02-02",777.05,{"$f":"SUM(K2178:Q2178)","v":36.282175999998373},4.6692202560965672E-2,null,null,null,null,null,null,11.002175999998371,null,null,null,25.28,null,null,null,null,null,null,null,null,null,null,null,null,null,null,null,null,null,null,null,null,null,null,"2016-02-06",0.10501260050528151,0.17644390762821524,0.17901810010646471,5984.76,15242.749999999996,33757.259999999995,628.47521099998858,2689.4903729999774,6043.1605499999559]
["2016-02-03",777.06,356.00217699999837,0.45813988237716313,null,null,null,null,null,null,11.002176999998371,null,null,null,345,null,null,null,null,null,null,null,null,null,null,null,null,null,null,null,null,null,null,null,null,null,null,"2016-02-07",0.17842209034032308,0.1829925140519279,0.19160261068917298,5439.2099999999991,14697.269999999995,33211.919999999991,970.47521799998856,2689.4903869999775,6363.4905779999563]
["2016-02-04",777.06999999999994,356.00217799999837,0.45813398792901333,null,null,null,null,null,null,{"$f":"K2179+0.000001","v":11.00217799999837},null,null,null,345,null,null,null,null,null,null,null,null,null,null,null,null,null,null,null,null,null,null,null,null,null,null,"2016-02-08",0.2313348871541801,0.21188064555791017,0.20455494900292456,5439.2799999999988,14151.789999999999,32666.579999999994,1258.2952249999885,2998.4904009999773,6682.1106059999547]
["2016-02-05",777.07999999999993,56.002178999998371,7.2067456375145902E-2,null,null,null,null,null,null,11.002178999998369,null,null,null,45,null,null,null,null,null,null,null,null,null,null,null,null,null,null,null,null,null,null,null,null,null,null,"2016-02-09",0.23335421180839416,0.22118343731694912,0.20843811241408974,5439.35,13606.309999999998,32121.239999999991,1269.2952319999888,3009.4904149999775,6695.2906339999545]
["2016-02-06",777.08999999999992,36.332179999998367,4.675414688131152E-2,null,null,null,null,null,null,11.002179999998368,null,null,null,25.33,null,null,null,null,null,null,null,null,null,null,null,null,null,null,null,null,null,null,null,null,null,null,"2016-02-10",0.17458207658169228,0.19147484723405614,0.2118939020582139,5439.42,13060.829999999998,31575.899999999991,949.6252389999886,2500.8204289999771,6690.7406619999547]
["2016-02-07",777.09999999999991,35.762180999998371,4.6020050186589084E-2,null,null,null,null,null,null,11.002180999998368,null,null,null,24.76,null,null,null,null,null,null,null,null,null,null,null,null,null,null,null,null,null,null,null,null,null,null,"2016-02-11",0.17288114253358103,0.17423247795706692,0.21571124369008995,5439.49,12515.349999999997,31030.559999999987,940.38524599998857,2180.5804429999771,6693.6406899999547]
["2016-02-08",777.1099999999999,36.262181999998369,4.6662868834525841E-2,null,null,null,null,null,null,11.002181999998367,null,null,null,25.26,null,null,null,null,null,null,null,null,null,null,null,null,null,null,null,null,null,null,null,null,null,null,"2016-02-12",0.16777924188720941,0.15546037317029987,0.21974159012137542,5439.5599999999986,11969.87,30485.21999999999,912.64525299998854,1860.8404569999773,6698.8707179999546]
["2016-02-09",777.11999999999989,36.062182999998363,4.6404909151737658E-2,null,null,null,null,null,null,11.002182999998366,null,null,null,25.06,null,null,null,null,null,null,null,null,null,null,null,null,null,null,null,null,null,null,null,null,null,null,"2016-02-13",0.16773664017589221,0.13487813975187976,0.21312479361974584,5439.63,11424.39,29939.87999999999,912.42525999998861,1540.9004709999774,6380.9307459999545]
["2016-02-10",777.12999999999988,36.162183999998362,4.6532991906113992E-2,null,null,null,null,null,null,11.002183999998365,null,null,null,25.16,null,null,null,null,null,null,null,null,null,null,null,null,null,null,null,null,null,null,null,null,null,null,"2016-02-14",{"$f":"AS2186/AP2186","v":0.10893712281927102},0.14367804173395843,0.20317007083628302,{"$f":"SUM(B2180:B2186)","v":5439.7},10878.909999999998,29394.539999999997,{"$f":"SUM(C2180:C2186)","v":592.58526699998856},1563.0604849999775,5972.0907739999539]
["2016-02-11",777.13999999999987,36.232184999998367,4.6622468281131292E-2,null,null,null,null,null,null,11.002184999998365,null,null,null,25.23,null,null,null,null,null,null,null,null,null,null,null,null,null,null,null,null,null,null,null,null,null,null,"2016-02-15",5.0151986940622235E-2,0.14073935674530197,0.19592643130485268,5439.7699999999986,10879.049999999997,28849.199999999993,272.81527399998856,1531.1104989999772,5652.3208019999547]
["2016-02-12",777.14999999999986,36.142185999998361,4.6506061892811382E-2,null,null,null,null,null,null,11.002185999998364,null,null,null,25.14,null,null,null,null,null,null,null,null,null,null,null,null,null,null,null,null,null,null,null,null,null,null,"2016-02-16",4.6500500198533162E-2,0.1399231480468654,0.18458474674478867,5439.8399999999983,10879.189999999999,28303.859999999997,252.95528099998856,1522.2505129999774,5224.4608299999536]
["2016-02-13",777.15999999999985,35.542186999998364,4.5733422975961668E-2,null,null,null,null,null,null,11.002186999998363,null,null,null,24.54,null,null,null,null,null,null,null,null,null,null,null,null,null,null,null,null,null,null,null,null,null,null,"2016-02-17",4.6354680132573621E-2,0.1104654907057675,0.17342426246067705,5439.91,10879.329999999998,27758.519999999997,252.16528799998858,1201.7905269999774,4814.0008579999521]
["2016-02-14",777.16999999999985,35.642187999998363,4.5861507778218881E-2,null,null,null,null,null,null,11.002187999998362,null,null,null,24.64,null,null,null,null,null,null,null,null,null,null,null,null,null,null,null,null,null,null,null,null,null,null,"2016-02-18",4.6332026036858327E-2,0.10960373446500404,0.16512737158979413,5439.98,10879.47,27213.179999999993,252.04529499998853,1192.4305409999774,4493.6408859999528]
["2016-02-15",777.17999999999984,356.00218899999834,0.45806915901078055,null,null,null,null,null,null,11.002188999998362,null,null,null,345,null,null,null,null,null,null,null,null,null,null,null,null,null,null,null,null,null,null,null,null,null,null,"2016-02-19",0.1051066262258598,0.13644152272002188,0.16850412009371418,5440.0499999999993,10879.609999999999,26667.839999999997,571.78530199998852,1484.4305549999772,4493.6409139999541]
["2016-02-16",777.18999999999983,36.06218999999836,4.6400738558136839E-2,null,null,null,null,null,null,11.002189999998361,null,null,null,25.06,null,null,null,null,null,null,null,null,null,null,null,null,null,null,null,null,null,null,null,null,null,null,"2016-02-20",0.10510527506745967,0.13641954723224128,0.1597741771269961,5440.1199999999981,10879.75,26122.499999999996,571.7853089999885,1484.2105689999771,4173.7009419999549]
["2016-02-17",777.19999999999982,36.072190999998362,4.641300952135663E-2,null,null,null,null,null,null,11.00219099999836,null,null,null,25.07,null,null,null,null,null,null,null,null,null,null,null,null,null,null,null,null,null,null,null,null,null,null,"2016-02-21",0.10508738040399115,{"$f":"AT2193/AQ2193","v":0.10701216492078294},0.15067235650869587,5440.19,{"$f":"SUM(B2180:B2193)","v":10879.89},25577.159999999993,571.69531599998857,{"$f":"SUM(C2180:C2193)","v":1164.280582999977},3853.7709699999546]
["2016-02-18",777.20999999999981,36.112191999998359,4.6463879775090859E-2,null,null,null,null,null,null,11.00219199999836,null,null,null,25.11,null,null,null,null,null,null,null,null,null,null,null,null,null,null,null,null,null,null,null,null,null,null,"2016-02-22",0.10506397175870059,7.7609215875321783E-2,0.15351983986781442,5440.2599999999993,10880.029999999999,25031.819999999996,571.57532299998843,844.39059699997711,3842.8809979999542]
["2016-02-19",777.2199999999998,36.122192999998362,4.64761496101469E-2,null,null,null,null,null,null,11.002192999998359,null,null,null,25.12,null,null,null,null,null,null,null,null,null,null,null,null,null,null,null,null,null,null,null,null,null,null,"2016-02-23",0.10505894495370478,7.5781041196964521E-2,0.15657624231820802,5440.3299999999981,10880.169999999996,24486.48,571.55532999998854,824.51061099997719,3834.0010259999544]
["2016-02-20",777.22999999999979,35.052193999998359,4.5098869060636322E-2,null,null,null,null,null,null,11.002193999998358,null,null,null,24.05,null,null,null,null,null,null,null,null,null,null,null,null,null,null,null,null,null,null,null,null,null,null,"2016-02-24",0.10496752757150003,7.5662423680940824E-2,0.13884263882170833,5440.3999999999978,10880.309999999998,23941.14,571.06533699998852,823.23062499997707,3324.0510539999541]
["2016-02-21",777.23999999999978,19.562194999998358,2.5168795996086617E-2,null,null,null,null,null,null,11.002194999998357,null,null,null,8.56,null,null,null,null,null,null,null,null,null,null,null,null,null,null,null,null,null,null,null,null,null,null,"2016-02-25",0.10201055129427947,7.4172542404034508E-2,0.12769860752784493,5440.4699999999993,10880.449999999997,23395.799999999996,554.98534399998857,807.0306389999771,2987.611081999954]
["2016-02-22",777.24999999999977,356.00219599999838,0.45802791379864716,null,null,null,null,null,null,11.002195999998357,null,null,null,345,null,null,null,null,null,null,null,null,null,null,null,null,null,null,null,null,null,null,null,null,null,null,"2016-02-26",0.10200924007543161,0.10355786340630216,0.13074621298651995,5440.5399999999991,10880.589999999998,22850.46,554.98535099998855,1126.7706529999771,2987.6111099999548]
["2016-02-23",777.25999999999976,23.402196999998356,3.010858271363297E-2,null,null,null,null,null,null,11.002196999998356,null,null,null,12.4,null,null,null,null,null,null,null,null,null,null,null,null,null,null,null,null,null,null,null,null,null,null,"2016-02-27",9.9680983933784759E-2,0.10239300736255538,0.11903146622837962,5440.6099999999988,10880.729999999998,22305.119999999999,542.32535799998857,1114.110666999977,2655.0111379999548]
["2016-02-24",777.26999999999975,36.122197999998356,4.647316633859324E-2,null,null,null,null,null,null,11.002197999998355,null,null,null,25.12,null,null,null,null,null,null,null,null,null,null,null,null,null,null,null,null,null,null,null,null,null,null,"2016-02-28",9.9688892748698466E-2,0.10238801502085562,0.12303116878938826,5440.6799999999976,10880.869999999999,21759.78,542.37536499998851,1114.0706809999772,2677.1311659999546]
["2016-02-25",777.27999999999975,36.072198999998356,4.6408242846848455E-2,null,null,null,null,null,null,11.002198999998354,null,null,null,25.07,null,null,null,null,null,null,null,null,null,null,null,null,null,null,null,null,null,null,null,null,null,null,"2016-02-29",9.9680259523041603E-2,0.10237199441963359,0.12155394764536287,5440.7499999999991,10881.009999999998,21760.059999999998,542.33537199998852,1113.9106949999771,2645.0211939999544]
["2016-02-26",777.28999999999974,36.132199999998349,4.6484838348619384E-2,null,null,null,null,null,null,11.002199999998354,null,null,null,25.13,null,null,null,null,null,null,null,null,null,null,null,null,null,null,null,null,null,null,null,null,null,null,"2016-03-01",9.9680816310774592E-2,0.10236975953828205,0.12114476253587743,5440.8199999999988,10881.149999999996,21760.339999999997,542.3453789999885,1113.9007089999773,2636.1512219999545]
["2016-02-27",777.29999999999973,36.012200999998356,4.6329861057504654E-2,null,null,null,null,null,null,11.002200999998353,null,null,null,25.01,null,null,null,null,null,null,null,null,null,null,null,null,null,null,null,null,null,null,null,null,null,null,"2016-03-02",9.9855976871428914E-2,0.10241163713125721,0.10643820120933846,5440.8899999999976,10881.289999999995,21760.619999999995,543.30538599998863,1114.3707229999773,2316.1612499999542]
["2016-02-28",777.30999999999972,33.302201999998353,4.2842883791535377E-2,null,null,null,null,null,null,11.002201999998352,null,null,null,22.3,null,null,null,null,null,null,null,null,null,null,null,null,null,null,null,null,null,null,null,null,null,null,"2016-03-03",0.10237998312797537,0.10219527552904144,0.10589917135780021,5440.9599999999973,10881.429999999997,21760.899999999998,557.04539299998862,1112.0307369999771,2304.4612779999543]
["2016-02-29",777.31999999999971,30.682202999998353,3.9471778675446871E-2,null,null,null,null,null,null,11.002202999998351,null,null,null,19.68,null,null,null,null,null,null,null,null,null,null,null,null,null,null,null,null,null,null,null,null,null,null,"2016-03-04",4.2588517247651364E-2,7.2297540796041143E-2,0.1043666430772575,5441.0299999999988,10881.569999999996,21761.179999999997,231.72539999998844,786.71075099997711,2271.1413059999541]
["2016-03-01",777.3299999999997,41.433553999998352,5.3302399238416592E-2,null,null,null,null,null,null,11.002203999998351,null,null,null,30.431349999999998,null,null,null,null,null,null,null,null,null,null,null,null,null,null,null,null,null,null,null,null,null,null,"2016-03-05",4.5901886934625082E-2,7.279022460624085E-2,0.10460202045266974,5441.0999999999985,10881.709999999997,21761.459999999995,249.75675699998845,792.08211499997697,2276.2926839999541]
["2016-03-02",1111,41.200038999998348,3.7083743474345947E-2,null,null,null,null,null,null,11.00220499999835,null,null,null,30.197834,null,null,null,null,null,null,null,null,null,null,null,null,null,null,null,null,null,null,null,null,null,null,"2016-03-06",4.4128502137723284E-2,7.1081026453543097E-2,{"$f":"AU2207/AR2207","v":8.8773706110772108E-2},5774.8299999999981,11215.509999999997,{"$f":"SUM(B2180:B2207)","v":22095.399999999998},254.83459799998849,797.20996299997694,{"$f":"SUM(C2180:C2207)","v":1961.4905459999538}]
["2016-03-03",1111.01,41.291397999998352,3.7165640273263384E-2,null,null,null,null,null,null,11.002205999998349,null,null,null,30.289192,null,null,null,null,null,null,null,null,null,null,null,null,null,null,null,null,null,null,null,null,null,null,"2016-03-07",4.2572029578163847E-2,6.9475074181918853E-2,7.3420785720843956E-2,6108.5599999999986,11549.309999999998,22429.339999999997,260.05379699998849,802.38916899997707,1646.779765999954]
["2016-03-04",1111.02,356.00220699999835,0.32042826141743475,null,null,null,null,null,null,11.002206999998348,null,null,null,345,null,null,null,null,null,null,null,null,null,null,null,null,null,null,null,null,null,null,null,null,null,null,"2016-03-08",9.0018270521815769E-2,9.444237939394462E-2,8.5522815429057431E-2,6442.2899999999991,11883.109999999999,22763.279999999995,579.92380399998842,1122.2691829999771,1946.7797939999541]
["2016-03-05",1111.03,41.168269999998344,3.7054147952799064E-2,null,null,null,null,null,null,11.002207999998348,null,null,null,30.166062,null,null,null,null,null,null,null,null,null,null,null,null,null,null,null,null,null,null,null,null,null,null,"2016-03-09",8.6345653200549655E-2,9.2362574415296286E-2,8.4495704851058034E-2,6776.0199999999995,12216.909999999998,23097.21999999999,585.07987299998842,1128.3852589999772,1951.6158839999539]
["2016-03-06",1111.04,41.25573899999835,3.7132541582659807E-2,null,null,null,null,null,null,11.002208999998347,null,null,null,30.253530000000001,null,null,null,null,null,null,null,null,null,null,null,null,null,null,null,null,null,null,null,null,null,null,"2016-03-10",8.3411288723230545E-2,9.1634561152315469E-2,8.3525930513041372E-2,7109.75,12550.71,23431.159999999993,593.03340999998841,1150.0788029999771,1957.1094419999538]
["2016-03-07",1111.05,41.235231999998348,3.7113750056251608E-2,null,null,null,null,null,null,11.002209999998346,null,null,null,30.233021999999998,null,null,null,null,null,null,null,null,null,null,null,null,null,null,null,null,null,null,null,null,null,null,"2016-03-11",8.1089280685914158E-2,6.4830702836194548E-2,8.2561507925485458E-2,7443.48,12884.509999999998,23765.099999999991,603.58643899998833,835.311838999977,1962.0824919999538]
["2016-03-08",38.65,41.252100999998348,1.0673247347994399,null,null,null,null,null,null,11.002210999998345,null,null,null,30.249890000000001,null,null,null,null,null,null,null,null,null,null,null,null,null,null,null,null,null,null,null,null,null,null,"2016-03-12",8.9995970946186055E-2,7.0242776821806269E-2,8.5434664560118195E-2,6704.8,12145.9,23026.629999999994,603.4049859999883,853.16174299997681,1967.2724099999539]
["2016-03-09",0,41.433561999998346,{"$error":"#DIV/0!"},null,null,null,null,null,null,11.002211999998345,null,null,null,30.431349999999998,null,null,null,null,null,null,null,null,null,null,null,null,null,null,null,null,null,null,null,null,null,null,"2016-03-13",0.10791206496478038,7.5512450224871158E-2,8.8655645654956483E-2,5593.7999999999993,11368.63,22249.499999999996,603.6385089999884,858.47310699997695,1972.543787999954]
["2016-03-10",0,41.200046999998342,{"$error":"#DIV/0!"},null,null,null,null,null,null,11.002212999998344,null,null,null,30.197834,null,null,null,null,null,null,null,null,null,null,null,null,null,null,null,null,null,null,null,null,null,null,"2016-03-14",0.13463650048295558,8.1538326558935087E-2,9.2095682542578189E-2,4482.79,10591.349999999997,21472.359999999997,603.54715799998849,863.60095499997692,1977.511649999954]
["2016-03-11",38.65,41.291405999998346,1.0683416817593363,null,null,null,null,null,null,11.002213999998343,null,null,null,30.289192,null,null,null,null,null,null,null,null,null,null,null,null,null,null,null,null,null,null,null,null,null,null,"2016-03-15",8.4692312677027592E-2,8.8174741873045803E-2,9.5624301022576338E-2,3410.42,9852.7099999999973,20733.859999999997,288.83635699998842,868.76016099997685,1982.6608699999542]
["2016-03-12",510.12,41.129474999998344,8.062705833921105E-2,null,null,null,null,null,null,11.002214999998342,null,null,null,30.12726,null,null,null,null,null,null,null,null,null,null,null,null,null,null,null,null,null,null,null,null,null,null,"2016-03-16",0.10279285782929706,9.1166313704091159E-2,9.7144947676285537E-2,2809.51,9585.5299999999988,20466.819999999996,288.79756199998843,873.8774349999768,1988.2481579999539]
["2016-03-13",1380.61,41.168277999998338,2.9818904687057418E-2,null,null,null,null,null,null,11.002215999998342,null,null,null,30.166062,null,null,null,null,null,null,null,null,null,null,null,null,null,null,null,null,null,null,null,null,null,null,"2016-03-17",9.3765053522476979E-2,8.6540212271671718E-2,9.4625042500659881E-2,3079.08,10188.83,21070.26,288.71010099998841,881.74351099997693,1993.7742479999538]
["2016-03-14",126.42,41.255746999998344,0.32633876760005015,null,null,null,null,null,null,11.002216999998341,null,null,null,30.253530000000001,null,null,null,null,null,null,null,null,null,null,null,null,null,null,null,null,null,null,null,null,null,null,"2016-03-18",0.13785510086179589,9.3554582073885728E-2,8.2226685570163535E-2,2094.4499999999998,9537.9299999999985,20419.499999999996,288.7306159999884,892.31705499997679,1679.0278059999541]
["2016-03-15",631.71,41.235239999998342,6.5275585316044285E-2,null,null,null,null,null,null,11.00221799999834,null,null,null,30.233021999999998,null,null,null,null,null,null,null,null,null,null,null,null,null,null,null,null,null,null,null,null,null,null,"2016-03-19",0.10742797422148696,9.498395400066402E-2,8.307187504007367E-2,2687.5099999999998,9392.3100000000013,20274.019999999997,288.7137549999884,892.11874099997681,1684.2008559999542]
["2016-03-16",264.98,41.252108999998342,0.15568008528944954,null,null,null,null,null,null,11.002218999998339,null,null,null,30.249890000000001,null,null,null,null,null,null,null,null,null,null,null,null,null,null,null,null,null,null,null,null,null,null,"2016-03-20",9.7725073412607111E-2,0.10439276118643027,8.5487191146553176E-2,2952.49,8546.2899999999972,19761.799999999996,288.53230199998836,892.17081099997688,1689.3807739999543]
["2016-03-17",848,182.39299399999999,0.21508607783018865,null,null,null,null,null,null,152.32,null,null,null,30.072994000000001,null,null,null,null,null,null,null,null,null,null,null,null,null,null,null,null,null,null,null,null,null,null,"2016-03-21",0.11307101163270791,0.1247419388213339,9.2557834150756746E-2,3800.49,8283.2799999999988,19832.589999999993,429.72524899999007,1033.2724069999786,1835.6615759999561]
["2016-03-18",962.75,66.433182000000002,6.9003564788366667E-2,null,null,null,null,null,null,36.26,null,null,null,30.173182000000001,null,null,null,null,null,null,null,null,null,null,null,null,null,null,null,null,null,null,null,null,null,null,"2016-03-22",9.627650759113314E-2,9.1420094382180239E-2,9.3214176206354957E-2,4724.59,8135.01,20018.119999999995,454.86702499999171,743.70338199998014,1865.9725649999577]
["2016-03-19",6274.25,66.546794000000006,1.0606334462286329E-2,null,null,null,null,null,null,36.26,null,null,null,30.286794,null,null,null,null,null,null,null,null,null,null,null,null,null,null,null,null,null,null,null,null,null,null,"2016-03-23",4.5790558237801503E-2,5.7833403843968845E-2,7.4366323876724164E-2,10488.72,13298.23,25515.139999999992,480.28434399999333,769.08190599998181,1897.4671649999593]
["2016-03-20",1626.67,66.474029999999999,4.0865098637092957E-2,null,null,null,null,null,null,36.26,null,null,null,30.214030000000001,null,null,null,null,null,null,null,null,null,null,null,null,null,null,null,null,null,null,null,null,null,null,"2016-03-24",{"$f":"AS2225/AP2225","v":4.7098319294852337E-2},{"$f":"AT2225/AQ2225","v":5.7500235053778118E-2},{"$f":"AU2225/AR2225","v":7.3749695140105126E-2},{"$f":"SUM(B2219:B2225)","v":10734.78},{"$f":"SUM(B2212:B2225)","v":13813.86},{"$f":"SUM(B2198:B2225)","v":26364.57},{"$f":"SUM(C2219:C2225)","v":505.59009599999501},{"$f":"SUM(C2212:C2225)","v":794.30019699998343},{"$f":"SUM(C2198:C2225)","v":1944.3789999999613}]
["2016-03-21",1008.73,66.415964000000002,6.5841170580829361E-2,null,null,null,null,null,null,36.26,null,null,null,30.155964000000001,null,null,null,null,null,null,null,null,null,null,null,null,null,null,null,null,null,null,null,null,null,null,"2016-03-25",{"$f":"AS2226/AP2226","v":4.5687027732418076E-2},{"$f":"AT2226/AQ2226","v":5.9765783347456601E-2},{"$f":"AU2226/AR2226","v":6.2219493797009792E-2},{"$f":"SUM(B2220:B2226)","v":11617.09},{"$f":"SUM(B2213:B2226)","v":13711.539999999999},{"$f":"SUM(B2199:B2226)","v":26596.05},{"$f":"SUM(C2220:C2226)","v":530.75031299999671},{"$f":"SUM(C2213:C2226)","v":819.48092899998505},{"$f":"SUM(C2199:C2226)","v":1654.7927679999623}]
["2016-03-22",3825.02,61.823811999999997,1.616300359213808E-2,null,null,null,null,null,null,36.26,null,null,null,25.563811999999999,null,null,null,null,null,null,null,null,null,null,null,null,null,null,null,null,null,null,null,null,null,null,"2016-03-26",{"$f":"AS2227/AP2227","v":3.7226468225030944E-2},{"$f":"AT2227/AQ2227","v":4.8008741615426447E-2},{"$f":"AU2227/AR2227","v":5.7118649154746445E-2},{"$f":"SUM(B2221:B2227)","v":14810.4},{"$f":"SUM(B2214:B2227)","v":17497.91},{"$f":"SUM(B2200:B2227)","v":29643.809999999998},{"$f":"SUM(C2221:C2227)","v":551.3388849999983},{"$f":"SUM(C2214:C2227)","v":840.05263999998658},{"$f":"SUM(C2200:C2227)","v":1693.2143829999641}]
["2016-03-23",929.87,61.609449999999995,6.6255982018991896E-2,null,null,null,null,null,null,36.26,null,null,null,25.349450000000001,null,null,null,null,null,null,null,null,null,null,null,null,null,null,null,null,null,null,null,null,null,null,"2016-03-27",{"$f":"AS2228/AP2228","v":3.6942521012530295E-2},{"$f":"AT2228/AQ2228","v":4.6681072163873696E-2},{"$f":"AU2228/AR2228","v":5.7681500388804083E-2},{"$f":"SUM(B2222:B2228)","v":15475.29},{"$f":"SUM(B2215:B2228)","v":18427.78},{"$f":"SUM(B2201:B2228)","v":29796.41},{"$f":"SUM(C2222:C2228)","v":571.69622600000002},{"$f":"SUM(C2215:C2228)","v":860.22852799998839},{"$f":"SUM(C2201:C2228)","v":1718.7016349999658}]
["2016-03-24",0,61.714312,{"$error":"#DIV/0!"},null,null,null,null,null,null,36.26,null,null,null,25.454312000000002,null,null,null,null,null,null,null,null,null,null,null,null,null,null,null,null,null,null,null,null,null,null,"2016-03-28",{"$f":"AS2229/AP2229","v":3.0833978406116236E-2},{"$f":"AT2229/AQ2229","v":4.7794297142682955E-2},{"$f":"AU2229/AR2229","v":6.0110132454004234E-2},{"$f":"SUM(B2223:B2229)","v":14627.29},{"$f":"SUM(B2216:B2229)","v":18427.78},{"$f":"SUM(B2202:B2229)","v":29019.129999999994},{"$f":"SUM(C2223:C2229)","v":451.01754399999999},{"$f":"SUM(C2216:C2229)","v":880.74279299999},{"$f":"SUM(C2202:C2229)","v":1744.3437479999675}]
["2016-03-25",521.95000000000005,66.268687999999997,0.12696367084969823,null,null,null,null,null,null,36.26,null,null,null,30.008687999999999,null,null,null,null,null,null,null,null,null,null,null,null,null,null,null,null,null,null,null,null,null,null,"2016-03-29",{"$f":"AS2230/AP2230","v":3.1780450978360394E-2},{"$f":"AT2230/AQ2230","v":4.7893619772111998E-2},{"$f":"AU2230/AR2230","v":6.1691461243458146E-2},{"$f":"SUM(B2224:B2230)","v":14186.490000000002},{"$f":"SUM(B2217:B2230)","v":18911.079999999998},{"$f":"SUM(B2203:B2230)","v":28763.79},{"$f":"SUM(C2224:C2230)","v":450.85305},{"$f":"SUM(C2217:C2230)","v":905.72007499999165},{"$f":"SUM(C2203:C2230)","v":1774.480235999969}]
["2016-03-26",1216.95,66.280158,5.4464158757549612E-2,null,null,null,null,null,null,36.26,null,null,null,30.020157999999999,null,null,null,null,null,null,null,null,null,null,null,null,null,null,null,null,null,null,null,null,null,null,"2016-03-30",{"$f":"AS2231/AP2231","v":4.9356669540233031E-2},{"$f":"AT2231/AQ2231","v":4.7450047329200377E-2},{"$f":"AU2231/AR2231","v":6.1799164516234073E-2},{"$f":"SUM(B2225:B2231)","v":9129.19},{"$f":"SUM(B2218:B2231)","v":19617.91},{"$f":"SUM(B2204:B2231)","v":29203.439999999999},{"$f":"SUM(C2225:C2231)","v":450.58641399999999},{"$f":"SUM(C2218:C2231)","v":930.87075799999332},{"$f":"SUM(C2204:C2231)","v":1804.7481929999708}]
["2016-03-27",1108.43,180.00648799999999,0.16239770486183158,null,null,null,null,null,null,149.91999999999999,null,null,null,30.086487999999999,null,null,null,null,null,null,null,null,null,null,null,null,null,null,null,null,null,null,null,null,null,null,"2016-03-31",{"$f":"AS2232/AP2232","v":6.5511804388598244E-2},{"$f":"AT2232/AQ2232","v":5.5294319108144002E-2},{"$f":"AU2232/AR2232","v":6.6073524677529388E-2},{"$f":"SUM(B2226:B2232)","v":8610.9499999999989},{"$f":"SUM(B2219:B2232)","v":19345.730000000003},{"$f":"SUM(B2205:B2232)","v":29534.560000000001},{"$f":"SUM(C2226:C2232)","v":564.11887200000001},{"$f":"SUM(C2219:C2232)","v":1069.7089679999949},{"$f":"SUM(C2205:C2232)","v":1951.4524789999723}]
["2016-03-28",512.36,142.45327,0.27803355062846435,null,null,null,null,null,null,112.36,null,null,null,30.09327,null,null,null,null,null,null,null,null,null,null,null,null,null,null,null,null,null,null,null,null,null,null,"2016-04-01",{"$f":"AS2233/AP2233","v":7.8889625587522702E-2},{"$f":"AT2233/AQ2233","v":5.9341479509843642E-2},{"$f":"AU2233/AR2233","v":7.0490322587256862E-2},{"$f":"SUM(B2227:B2233)","v":8114.58},{"$f":"SUM(B2220:B2233)","v":19731.670000000002},{"$f":"SUM(B2206:B2233)","v":29269.600000000002},{"$f":"SUM(C2227:C2233)","v":640.15617799999995},{"$f":"SUM(C2220:C2233)","v":1170.9064909999965},{"$f":"SUM(C2206:C2233)","v":2063.2235459999738}]
["2016-03-29",1026.8599999999999,56.267907999999998,5.4796085152795909E-2,null,null,null,null,null,null,26.15,null,null,null,30.117908,null,null,null,null,null,null,null,null,null,null,null,null,null,null,null,null,null,null,null,null,null,null,"2016-04-02",{"$f":"AS2234/AP2234","v":0.11936609109137351},{"$f":"AT2234/AQ2234","v":5.8923325145253856E-2},{"$f":"AU2234/AR2234","v":7.0396990019691477E-2},{"$f":"SUM(B2228:B2234)","v":5316.42},{"$f":"SUM(B2221:B2234)","v":20126.820000000003},{"$f":"SUM(B2207:B2234)","v":29519.13},{"$f":"SUM(C2228:C2234)","v":634.60027400000001},{"$f":"SUM(C2221:C2234)","v":1185.9391589999984},{"$f":"SUM(C2207:C2234)","v":2078.0578999999752}]
["2016-03-30",278.56,124.8416,0.44816771970132108,null,null,null,null,null,null,94.97,null,null,null,29.871600000000001,null,null,null,null,null,null,null,null,null,null,null,null,null,null,null,null,null,null,null,null,null,null,"2016-04-03",{"$f":"AS2235/AP2235","v":0.14958541684976343},{"$f":"AT2235/AQ2235","v":6.3033934281344947E-2},{"$f":"AU2235/AR2235","v":7.5355485801951241E-2},{"$f":"SUM(B2229:B2235)","v":4665.1100000000006},{"$f":"SUM(B2222:B2235)","v":20140.400000000005},{"$f":"SUM(B2208:B2235)","v":28686.690000000002},{"$f":"SUM(C2229:C2235)","v":697.83242399999995},{"$f":"SUM(C2222:C2235)","v":1269.52865},{"$f":"SUM(C2208:C2235)","v":2161.699460999977}]
["2016-03-31",616.04999999999995,121.21467000000001,0.19676109082055032,null,null,null,null,null,null,91.23,null,null,null,29.984670000000001,null,null,null,null,null,null,null,null,null,null,null,null,null,null,null,null,null,null,null,null,null,null,"2016-04-04",{"$f":"AS2236/AP2236","v":0.14340273386907418},{"$f":"AT2236/AQ2236","v":6.0695349261243328E-2},{"$f":"AU2236/AR2236","v":7.9513486153562726E-2},{"$f":"SUM(B2230:B2236)","v":5281.1600000000008},{"$f":"SUM(B2223:B2236)","v":19908.450000000004},{"$f":"SUM(B2209:B2236)","v":28191.73},{"$f":"SUM(C2230:C2236)","v":757.33278199999995},{"$f":"SUM(C2223:C2236)","v":1208.350326},{"$f":"SUM(C2209:C2236)","v":2241.6227329999788}]
["2016-04-01",880.68,95.82944599999999,0.10881301494299858,null,null,null,null,null,null,67.52,null,null,null,28.309446000000001,null,null,null,null,null,null,null,null,null,null,null,null,null,null,null,null,null,null,null,null,null,null,"2016-04-05",{"$f":"AS2237/AP2237","v":0.13952285239605736},{"$f":"AT2237/AQ2237","v":6.2429278062863705E-2},{"$f":"AU2237/AR2237","v":7.0863786528494468E-2},{"$f":"SUM(B2231:B2237)","v":5639.8900000000012},{"$f":"SUM(B2224:B2237)","v":19826.380000000005},{"$f":"SUM(B2210:B2237)","v":27961.390000000003},{"$f":"SUM(C2231:C2237)","v":786.89354000000003},{"$f":"SUM(C2224:C2237)","v":1237.74659},{"$f":"SUM(C2210:C2237)","v":1981.4499719999803}]
["2016-04-02",1783.51,125.45860999999999,7.0343653806258441E-2,null,null,null,null,null,null,100,null,null,null,25.45861,null,null,null,null,null,null,null,null,null,null,null,null,null,null,null,null,null,null,null,null,null,null,"2016-04-06",{"$f":"AS2238/AP2238","v":0.13632140627895176},{"$f":"AT2238/AQ2238","v":8.4551959096588053E-2},{"$f":"AU2238/AR2238","v":7.2143245464199646E-2},{"$f":"SUM(B2232:B2238)","v":6206.45},{"$f":"SUM(B2225:B2238)","v":15335.640000000001},{"$f":"SUM(B2211:B2238)","v":28633.87},{"$f":"SUM(C2232:C2238)","v":846.07199200000002},{"$f":"SUM(C2225:C2238)","v":1296.6584059999998},{"$f":"SUM(C2211:C2238)","v":2065.7403119999822}]
["2016-04-03",582.19000000000005,80.176826000000005,0.13771591061337363,null,null,null,null,null,null,49.75,null,null,null,30.426825999999998,null,null,null,null,null,null,null,null,null,null,null,null,null,null,null,null,null,null,null,null,null,null,"2016-04-07",{"$f":"AS2239/AP2239","v":0.13137583469625244},{"$f":"AT2239/AQ2239","v":9.1690331785523368E-2},{"$f":"AU2239/AR2239","v":7.4885604030880737E-2},{"$f":"SUM(B2233:B2239)","v":5680.2099999999991},{"$f":"SUM(B2226:B2239)","v":14291.16},{"$f":"SUM(B2212:B2239)","v":28105.02},{"$f":"SUM(C2233:C2239)","v":746.24233000000004},{"$f":"SUM(C2226:C2239)","v":1310.361202},{"$f":"SUM(C2212:C2239)","v":2104.6613989999837}]
["2016-04-04",788.32,102.86587400000001,0.13048745940734727,null,null,null,null,null,null,72.930000000000007,null,null,null,29.935873999999998]
["2016-04-05",506.63,92.542225999999999,0.1826623492489588,null,null,null,null,null,null,62.32,null,null,null,30.222225999999999]
["2016-04-06",1286.1400000000001,55.787983999999994,4.3376291850031869E-2,null,null,null,null,null,null,25.61,null,null,null,30.177983999999999]
["2016-04-07",337.77,89.438203999999999,0.26479025372294757,null,null,null,null,null,null,59.27,null,null,null,30.168203999999999]

{"sheet":"C R","index":2,"n_rows":322,"n_cols":8,"rows_kept":322,"cut":false,"hidden":false,"merged":[]}
[null,"Date","1-week ratio","2-week ratio","4-week ratio","Ave Rev","Ave Cost","Profit"]
[null,"2010-02-21",{"$f":"VLOOKUP(B2,Data!AL:AU,2)","v":{"$error":"#N/A"}},{"$f":"VLOOKUP(B2,Data!AL:AU,3)","v":{"$error":"#N/A"}},{"$f":"VLOOKUP(B2,Data!AL:AU,4)","v":{"$error":"#N/A"}},{"$f":"VLOOKUP(B2,Data!AL:AU,5)","v":{"$error":"#N/A"}},{"$f":"VLOOKUP(B2,Data!AL:AU,8)","v":{"$error":"#N/A"}},{"$f":"F2-G2","v":{"$error":"#N/A"}}]
[null,{"$f":"B2+7","v":"2010-02-28"},{"$f":"VLOOKUP(B3,Data!AL:AU,2)","v":3.6187112322240422E-2},{"$f":"VLOOKUP(B3,Data!AL:AU,3)","v":0},{"$f":"VLOOKUP(B3,Data!AL:AU,4)","v":0},{"$f":"VLOOKUP(B3,Data!AL:AU,5)","v":6082.0003000000006},{"$f":"VLOOKUP(B3,Data!AL:AU,8)","v":220.09002799999996},{"$f":"F3-G3","v":5861.910272000001}]
[null,"2010-03-07",{"$f":"VLOOKUP(B4,Data!AL:AU,2)","v":2.898605078977632E-2},{"$f":"VLOOKUP(B4,Data!AL:AU,3)","v":3.271566432017408E-2},{"$f":"VLOOKUP(B4,Data!AL:AU,4)","v":0},{"$f":"VLOOKUP(B4,Data!AL:AU,5)","v":5661.0015000000003},{"$f":"VLOOKUP(B4,Data!AL:AU,8)","v":164.09007699999995},5496.9114230000005]
[null,"2010-03-14",{"$f":"VLOOKUP(B5,Data!AL:AU,2)","v":2.8840502098206423E-2},{"$f":"VLOOKUP(B5,Data!AL:AU,3)","v":2.8910524296494131E-2},{"$f":"VLOOKUP(B5,Data!AL:AU,4)","v":0},{"$f":"VLOOKUP(B5,Data!AL:AU,5)","v":6106.0007000000005},{"$f":"VLOOKUP(B5,Data!AL:AU,8)","v":176.1001259999999},5929.9005740000002]
[null,"2010-03-21",{"$f":"VLOOKUP(B6,Data!AL:AU,2)","v":3.4922780546714167E-2},{"$f":"VLOOKUP(B6,Data!AL:AU,3)","v":3.1908790968249501E-2},{"$f":"VLOOKUP(B6,Data!AL:AU,4)","v":3.2302520962449399E-2},{"$f":"VLOOKUP(B6,Data!AL:AU,5)","v":6216.0048999999981},{"$f":"VLOOKUP(B6,Data!AL:AU,8)","v":217.08017499999988},5998.924724999998]
[null,"2010-03-28",{"$f":"VLOOKUP(B7,Data!AL:AU,2)","v":3.5350663724220029E-2},{"$f":"VLOOKUP(B7,Data!AL:AU,3)","v":3.5126724843045895E-2},{"$f":"VLOOKUP(B7,Data!AL:AU,4)","v":3.2033085300960613E-2},{"$f":"VLOOKUP(B7,Data!AL:AU,5)","v":5661.0032999999994},{"$f":"VLOOKUP(B7,Data!AL:AU,8)","v":200.12022399999984},5460.8830759999992]
[null,"2010-04-04",{"$f":"VLOOKUP(B8,Data!AL:AU,2)","v":3.9178167604754781E-2},{"$f":"VLOOKUP(B8,Data!AL:AU,3)","v":3.7226141052913907E-2},{"$f":"VLOOKUP(B8,Data!AL:AU,4)","v":3.4428754964693567E-2},{"$f":"VLOOKUP(B8,Data!AL:AU,5)","v":5439.0055999999986},{"$f":"VLOOKUP(B8,Data!AL:AU,8)","v":213.0902729999998},5225.9153269999988]
[null,"2010-04-11",{"$f":"VLOOKUP(B9,Data!AL:AU,2)","v":4.138626354922461E-2},{"$f":"VLOOKUP(B9,Data!AL:AU,3)","v":4.0282216074307861E-2},{"$f":"VLOOKUP(B9,Data!AL:AU,4)","v":3.7591302154750927E-2},{"$f":"VLOOKUP(B9,Data!AL:AU,5)","v":5439.0104999999967},{"$f":"VLOOKUP(B9,Data!AL:AU,8)","v":225.10032199999978},5213.9101779999964]
[null,"2010-04-18",{"$f":"VLOOKUP(B10,Data!AL:AU,2)","v":3.3906806777592668E-2},{"$f":"VLOOKUP(B10,Data!AL:AU,3)","v":3.7179072115805262E-2},{"$f":"VLOOKUP(B10,Data!AL:AU,4)","v":3.7201274442146819E-2},{"$f":"VLOOKUP(B10,Data!AL:AU,5)","v":6993.0020999999997},{"$f":"VLOOKUP(B10,Data!AL:AU,8)","v":237.11037099999976},6755.8917289999999]
[null,"2010-04-25",{"$f":"VLOOKUP(B11,Data!AL:AU,2)","v":4.3198930016801029E-2},{"$f":"VLOOKUP(B11,Data!AL:AU,3)","v":3.8552870024945105E-2},{"$f":"VLOOKUP(B11,Data!AL:AU,4)","v":3.9309459274518399E-2},{"$f":"VLOOKUP(B11,Data!AL:AU,5)","v":6993.0069999999987},{"$f":"VLOOKUP(B11,Data!AL:AU,8)","v":302.09041999999965},6690.9165799999992]
[null,"2010-05-02",{"$f":"VLOOKUP(B12,Data!AL:AU,2)","v":4.9191118084579419E-2},{"$f":"VLOOKUP(B12,Data!AL:AU,3)","v":4.5790146082899691E-2},{"$f":"VLOOKUP(B12,Data!AL:AU,4)","v":4.1465301481251333E-2},{"$f":"VLOOKUP(B12,Data!AL:AU,5)","v":5328.0038999999997},{"$f":"VLOOKUP(B12,Data!AL:AU,8)","v":262.09046899999964},5065.9134309999999]
[null,"2010-05-09",{"$f":"VLOOKUP(B13,Data!AL:AU,2)","v":5.8794549281536622E-2},{"$f":"VLOOKUP(B13,Data!AL:AU,3)","v":5.3672720431346875E-2},{"$f":"VLOOKUP(B13,Data!AL:AU,4)","v":4.4852808797870986E-2},{"$f":"VLOOKUP(B13,Data!AL:AU,5)","v":4662.0055999999986},{"$f":"VLOOKUP(B13,Data!AL:AU,8)","v":274.10051799999962},4387.9050819999993]
[null,"2010-05-16",{"$f":"VLOOKUP(B14,Data!AL:AU,2)","v":6.1370639770116309E-2},{"$f":"VLOOKUP(B14,Data!AL:AU,3)","v":6.0082595202725936E-2},{"$f":"VLOOKUP(B14,Data!AL:AU,4)","v":5.1946896347137769E-2},{"$f":"VLOOKUP(B14,Data!AL:AU,5)","v":4662.0104999999967},{"$f":"VLOOKUP(B14,Data!AL:AU,8)","v":286.11056699999961},4375.899932999997]
[null,"2010-05-23",{"$f":"VLOOKUP(B15,Data!AL:AU,2)","v":6.2459629220779966E-2},{"$f":"VLOOKUP(B15,Data!AL:AU,3)","v":6.1921540438362829E-2},{"$f":"VLOOKUP(B15,Data!AL:AU,4)","v":5.7679293299935611E-2},{"$f":"VLOOKUP(B15,Data!AL:AU,5)","v":4773.012899999997},{"$f":"VLOOKUP(B15,Data!AL:AU,8)","v":298.12061599999953},4474.8922839999977]
[null,"2010-05-30",{"$f":"VLOOKUP(B16,Data!AL:AU,2)","v":5.7196268588058007E-2},{"$f":"VLOOKUP(B16,Data!AL:AU,3)","v":5.9656320446119106E-2},{"$f":"VLOOKUP(B16,Data!AL:AU,4)","v":5.98597697819062E-2},{"$f":"VLOOKUP(B16,Data!AL:AU,5)","v":5439.0027999999993},{"$f":"VLOOKUP(B16,Data!AL:AU,8)","v":311.09066499999949},5127.9121349999996]
[null,"2010-06-06",{"$f":"VLOOKUP(B17,Data!AL:AU,2)","v":5.7933492905332624E-2},{"$f":"VLOOKUP(B17,Data!AL:AU,3)","v":5.7564880912736677E-2},{"$f":"VLOOKUP(B17,Data!AL:AU,4)","v":5.9588467579921603E-2},{"$f":"VLOOKUP(B17,Data!AL:AU,5)","v":5439.0076999999983},{"$f":"VLOOKUP(B17,Data!AL:AU,8)","v":315.10071399999941},5123.9069859999991]
[null,"2010-06-13",{"$f":"VLOOKUP(B18,Data!AL:AU,2)","v":6.1612426306936599E-2},{"$f":"VLOOKUP(B18,Data!AL:AU,3)","v":5.9772960434721668E-2},{"$f":"VLOOKUP(B18,Data!AL:AU,4)","v":5.9716482134027596E-2},{"$f":"VLOOKUP(B18,Data!AL:AU,5)","v":5439.0125999999973},{"$f":"VLOOKUP(B18,Data!AL:AU,8)","v":335.11076299999945},5103.9018369999976]
[null,"2010-06-20",{"$f":"VLOOKUP(B19,Data!AL:AU,2)","v":0.10493351163201807},{"$f":"VLOOKUP(B19,Data!AL:AU,3)","v":7.7995887810840367E-2},{"$f":"VLOOKUP(B19,Data!AL:AU,4)","v":6.6671130388012603E-2},{"$f":"VLOOKUP(B19,Data!AL:AU,5)","v":3308.0071999999986},{"$f":"VLOOKUP(B19,Data!AL:AU,8)","v":347.12081199999938},2960.8863879999994]
[null,"2010-06-27",{"$f":"VLOOKUP(B20,Data!AL:AU,2)","v":0.76777747619317538},{"$f":"VLOOKUP(B20,Data!AL:AU,3)","v":0.18724107451727551},{"$f":"VLOOKUP(B20,Data!AL:AU,4)","v":9.2625057235461175E-2},{"$f":"VLOOKUP(B20,Data!AL:AU,5)","v":469.00420000000008},{"$f":"VLOOKUP(B20,Data!AL:AU,8)","v":360.09086099999934},108.91333900000075]
[null,"2010-07-04",{"$f":"VLOOKUP(B21,Data!AL:AU,2)","v":0.22131792480712434},{"$f":"VLOOKUP(B21,Data!AL:AU,3)","v":0.33000779131456659},{"$f":"VLOOKUP(B21,Data!AL:AU,4)","v":0.13150737394219209},{"$f":"VLOOKUP(B21,Data!AL:AU,5)","v":1889.0061000000003},{"$f":"VLOOKUP(B21,Data!AL:AU,8)","v":418.07090999999929},{"$f":"F21-G21","v":1470.9351900000011}]
[null,"2010-07-11",{"$f":"VLOOKUP(B22,Data!AL:AU,2)","v":7.0621568638446222E-2},{"$f":"VLOOKUP(B22,Data!AL:AU,3)","v":0.10946790640121412},{"$f":"VLOOKUP(B22,Data!AL:AU,4)","v":0.13591991784617047},{"$f":"VLOOKUP(B22,Data!AL:AU,5)","v":5439.0034999999998},{"$f":"VLOOKUP(B22,Data!AL:AU,8)","v":384.11095899999924},{"$f":"F22-G22","v":5054.8925410000002}]
[null,"2010-07-18",{"$f":"VLOOKUP(B23,Data!AL:AU,2)","v":7.2829637108116865E-2},{"$f":"VLOOKUP(B23,Data!AL:AU,3)","v":7.1725603370593707E-2},{"$f":"VLOOKUP(B23,Data!AL:AU,4)","v":0.11773882775748119},{"$f":"VLOOKUP(B23,Data!AL:AU,5)","v":5439.0083999999979},{"$f":"VLOOKUP(B23,Data!AL:AU,8)","v":396.12100799999922},{"$f":"F23-G23","v":5042.8873919999987}]
[null,"2010-07-25",{"$f":"VLOOKUP(B24,Data!AL:AU,2)","v":6.581256737348902E-2},{"$f":"VLOOKUP(B24,Data!AL:AU,3)","v":6.9087202023541586E-2},{"$f":"VLOOKUP(B24,Data!AL:AU,4)","v":8.4675353317462759E-2},{"$f":"VLOOKUP(B24,Data!AL:AU,5)","v":6216.0020999999997},{"$f":"VLOOKUP(B24,Data!AL:AU,8)","v":409.09105699999918},{"$f":"F24-G24","v":5806.9110430000001}]
[null,"2010-08-01",{"$f":"VLOOKUP(B25,Data!AL:AU,2)","v":6.7744631883458167E-2},{"$f":"VLOOKUP(B25,Data!AL:AU,3)","v":6.6778600009229291E-2},{"$f":"VLOOKUP(B25,Data!AL:AU,4)","v":6.9087202023541572E-2},{"$f":"VLOOKUP(B25,Data!AL:AU,5)","v":6216.0069999999987},{"$f":"VLOOKUP(B25,Data!AL:AU,8)","v":421.10110599999911},{"$f":"F25-G25","v":5794.9058939999995}]
[null,"2010-08-08",{"$f":"VLOOKUP(B26,Data!AL:AU,2)","v":8.54359939368841E-2},{"$f":"VLOOKUP(B26,Data!AL:AU,3)","v":7.6590316396639227E-2},{"$f":"VLOOKUP(B26,Data!AL:AU,4)","v":7.2959778344439466E-2},{"$f":"VLOOKUP(B26,Data!AL:AU,5)","v":6216.0118999999968},{"$f":"VLOOKUP(B26,Data!AL:AU,8)","v":531.07115499999918},{"$f":"F26-G26","v":5684.9407449999981}]
[null,"2010-08-15",{"$f":"VLOOKUP(B27,Data!AL:AU,2)","v":7.1608751765278283E-2},{"$f":"VLOOKUP(B27,Data!AL:AU,3)","v":7.8522370126124216E-2},{"$f":"VLOOKUP(B27,Data!AL:AU,4)","v":7.2650489696407916E-2},{"$f":"VLOOKUP(B27,Data!AL:AU,5)","v":6216.0167999999958},{"$f":"VLOOKUP(B27,Data!AL:AU,8)","v":445.12120399999912},{"$f":"F27-G27","v":5770.8955959999967}]
[null,"2010-08-22",{"$f":"VLOOKUP(B28,Data!AL:AU,2)","v":7.9364261072829387E-2},{"$f":"VLOOKUP(B28,Data!AL:AU,3)","v":7.5342883762990698E-2},{"$f":"VLOOKUP(B28,Data!AL:AU,4)","v":7.5977940171690794E-2},{"$f":"VLOOKUP(B28,Data!AL:AU,5)","v":5772.0092999999979},{"$f":"VLOOKUP(B28,Data!AL:AU,8)","v":458.09125299999903},{"$f":"F28-G28","v":5313.9180469999992}]
[null,"2010-08-29",{"$f":"VLOOKUP(B29,Data!AL:AU,2)","v":8.643149080450345E-2},{"$f":"VLOOKUP(B29,Data!AL:AU,3)","v":8.2792915827365393E-2},{"$f":"VLOOKUP(B29,Data!AL:AU,4)","v":8.0547369560455231E-2},{"$f":"VLOOKUP(B29,Data!AL:AU,5)","v":5439.0048999999981},{"$f":"VLOOKUP(B29,Data!AL:AU,8)","v":470.10130199999901},{"$f":"F29-G29","v":4968.903597999999}]
[null,"2010-09-05",{"$f":"VLOOKUP(B30,Data!AL:AU,2)","v":0.10812103169955664},{"$f":"VLOOKUP(B30,Data!AL:AU,3)","v":9.7276266137055159E-2},{"$f":"VLOOKUP(B30,Data!AL:AU,4)","v":8.5777206782557527E-2},{"$f":"VLOOKUP(B30,Data!AL:AU,5)","v":5439.009799999998},{"$f":"VLOOKUP(B30,Data!AL:AU,8)","v":588.07135099999903},{"$f":"F30-G30","v":4850.9384489999993}]
[null,"2010-09-12",{"$f":"VLOOKUP(B31,Data!AL:AU,2)","v":9.0847594142372728E-2},{"$f":"VLOOKUP(B31,Data!AL:AU,3)","v":9.9484309030559576E-2},{"$f":"VLOOKUP(B31,Data!AL:AU,4)","v":9.1012802019310932E-2},{"$f":"VLOOKUP(B31,Data!AL:AU,5)","v":5439.014699999997},{"$f":"VLOOKUP(B31,Data!AL:AU,8)","v":494.12139999999891},{"$f":"F31-G31","v":4944.8932999999979}]
[null,"2010-09-19",{"$f":"VLOOKUP(B32,Data!AL:AU,2)","v":9.5174526768075765E-2},{"$f":"VLOOKUP(B32,Data!AL:AU,3)","v":9.2988757105115324E-2},{"$f":"VLOOKUP(B32,Data!AL:AU,4)","v":9.5143503576492622E-2},{"$f":"VLOOKUP(B32,Data!AL:AU,5)","v":5328.0164999999961},{"$f":"VLOOKUP(B32,Data!AL:AU,8)","v":507.09144899999899},{"$f":"F32-G32","v":4820.9250509999974}]
[null,"2010-09-26",{"$f":"VLOOKUP(B33,Data!AL:AU,2)","v":9.3329308596725627E-2},{"$f":"VLOOKUP(B33,Data!AL:AU,3)","v":9.4313426101188633E-2},{"$f":"VLOOKUP(B33,Data!AL:AU,4)","v":9.7008886764939475E-2},{"$f":"VLOOKUP(B33,Data!AL:AU,5)","v":4662.0027999999993},{"$f":"VLOOKUP(B33,Data!AL:AU,8)","v":435.10149799999886},{"$f":"F33-G33","v":4226.9013020000002}]
[null,"2010-10-03",{"$f":"VLOOKUP(B34,Data!AL:AU,2)","v":9.5905364334769122E-2},{"$f":"VLOOKUP(B34,Data!AL:AU,3)","v":9.4617337142638161E-2},{"$f":"VLOOKUP(B34,Data!AL:AU,4)","v":9.3744561487819539E-2},{"$f":"VLOOKUP(B34,Data!AL:AU,5)","v":4662.0076999999983},{"$f":"VLOOKUP(B34,Data!AL:AU,8)","v":447.11154699999889},{"$f":"F34-G34","v":4214.8961529999997}]
[null,"2010-10-10",{"$f":"VLOOKUP(B35,Data!AL:AU,2)","v":0.11649938397849874},{"$f":"VLOOKUP(B35,Data!AL:AU,3)","v":0.10620237956796366},{"$f":"VLOOKUP(B35,Data!AL:AU,4)","v":0.10005292160631153},{"$f":"VLOOKUP(B35,Data!AL:AU,5)","v":4662.0125999999973},{"$f":"VLOOKUP(B35,Data!AL:AU,8)","v":543.12159599999893},{"$f":"F35-G35","v":4118.8910039999982}]
[null,"2010-10-17",{"$f":"VLOOKUP(B36,Data!AL:AU,2)","v":0.12828601458488723},{"$f":"VLOOKUP(B36,Data!AL:AU,3)","v":0.12239270237877062},{"$f":"VLOOKUP(B36,Data!AL:AU,4)","v":0.10850503435733599},{"$f":"VLOOKUP(B36,Data!AL:AU,5)","v":4662.0174999999954},{"$f":"VLOOKUP(B36,Data!AL:AU,8)","v":598.07164499999885},{"$f":"F36-G36","v":4063.9458549999963}]
[null,"2010-10-24",{"$f":"VLOOKUP(B37,Data!AL:AU,2)","v":0.37963850310785802},{"$f":"VLOOKUP(B37,Data!AL:AU,3)","v":0.19271791939428384},{"$f":"VLOOKUP(B37,Data!AL:AU,4)","v":0.14098506893910184},{"$f":"VLOOKUP(B37,Data!AL:AU,5)","v":1607.0068999999985},{"$f":"VLOOKUP(B37,Data!AL:AU,8)","v":610.08169399999872},{"$f":"F37-G37","v":996.92520599999978}]
[null,"2010-10-31",{"$f":"VLOOKUP(B38,Data!AL:AU,2)","v":1.506761831516213},{"$f":"VLOOKUP(B38,Data!AL:AU,3)","v":0.59748291589535618},{"$f":"VLOOKUP(B38,Data!AL:AU,4)","v":0.20602491174785764},{"$f":"VLOOKUP(B38,Data!AL:AU,5)","v":385.00560000000019},{"$f":"VLOOKUP(B38,Data!AL:AU,8)","v":580.1117429999988},{"$f":"F38-G38","v":-195.10614299999861}]
[null,"2010-11-07",{"$f":"VLOOKUP(B39,Data!AL:AU,2)","v":0.14840132145247459},{"$f":"VLOOKUP(B39,Data!AL:AU,3)","v":0.26793853640212945},{"$f":"VLOOKUP(B39,Data!AL:AU,4)","v":0.22363579314176313},{"$f":"VLOOKUP(B39,Data!AL:AU,5)","v":3990.0034999999998},{"$f":"VLOOKUP(B39,Data!AL:AU,8)","v":592.12179199999866},{"$f":"F39-G39","v":3397.8817080000013}]
[null,"2010-11-14",{"$f":"VLOOKUP(B40,Data!AL:AU,2)","v":0.1113938175984205},{"$f":"VLOOKUP(B40,Data!AL:AU,3)","v":0.12706564176423873},{"$f":"VLOOKUP(B40,Data!AL:AU,4)","v":0.20916440792437221},{"$f":"VLOOKUP(B40,Data!AL:AU,5)","v":5432.0055999999986},{"$f":"VLOOKUP(B40,Data!AL:AU,8)","v":605.09184099999857},{"$f":"F40-G40","v":4826.913759}]
[null,"2010-11-21",{"$f":"VLOOKUP(B41,Data!AL:AU,2)","v":0.14047688052149365},{"$f":"VLOOKUP(B41,Data!AL:AU,3)","v":0.12593535561862776},{"$f":"VLOOKUP(B41,Data!AL:AU,4)","v":0.16670339688131733},{"$f":"VLOOKUP(B41,Data!AL:AU,5)","v":5432.0104999999967},{"$f":"VLOOKUP(B41,Data!AL:AU,8)","v":763.07188999999858},{"$f":"F41-G41","v":4668.9386099999983}]
[null,"2010-11-28",{"$f":"VLOOKUP(B42,Data!AL:AU,2)","v":0.10247788300968305},{"$f":"VLOOKUP(B42,Data!AL:AU,3)","v":0.12031650790873717},{"$f":"VLOOKUP(B42,Data!AL:AU,4)","v":0.12334562880006908},{"$f":"VLOOKUP(B42,Data!AL:AU,5)","v":6139.0020999999997},{"$f":"VLOOKUP(B42,Data!AL:AU,8)","v":629.11193899999853},{"$f":"F42-G42","v":5509.8901610000012}]
[null,"2010-12-05",{"$f":"VLOOKUP(B43,Data!AL:AU,2)","v":0.10443415164700069},{"$f":"VLOOKUP(B43,Data!AL:AU,3)","v":0.10345601771870305},{"$f":"VLOOKUP(B43,Data!AL:AU,4)","v":0.11400893548417683},{"$f":"VLOOKUP(B43,Data!AL:AU,5)","v":6139.0069999999987},{"$f":"VLOOKUP(B43,Data!AL:AU,8)","v":641.12198799999862},{"$f":"F43-G43","v":5497.8850119999997}]
[null,"2010-12-12",{"$f":"VLOOKUP(B44,Data!AL:AU,2)","v":0.16511313816519604},{"$f":"VLOOKUP(B44,Data!AL:AU,3)","v":0.13565186599966836},{"$f":"VLOOKUP(B44,Data!AL:AU,4)","v":0.12832395229175469},{"$f":"VLOOKUP(B44,Data!AL:AU,5)","v":6505.0064999999995},{"$f":"VLOOKUP(B44,Data!AL:AU,8)","v":1074.0620369999983},{"$f":"F44-G44","v":5430.9444630000016}]
[null,"2010-12-19",{"$f":"VLOOKUP(B45,Data!AL:AU,2)","v":9.5252636341902744E-2},{"$f":"VLOOKUP(B45,Data!AL:AU,3)","v":0.12892004323274073},{"$f":"VLOOKUP(B45,Data!AL:AU,4)","v":0.11679064779427255},{"$f":"VLOOKUP(B45,Data!AL:AU,5)","v":6993.0041999999994},{"$f":"VLOOKUP(B45,Data!AL:AU,8)","v":666.10208599999851},{"$f":"F45-G45","v":6326.9021140000004}]
[null,"2010-12-26",{"$f":"VLOOKUP(B46,Data!AL:AU,2)","v":9.6970006087936975E-2},{"$f":"VLOOKUP(B46,Data!AL:AU,3)","v":9.6111321515760101E-2},{"$f":"VLOOKUP(B46,Data!AL:AU,4)","v":0.11488528603358351},{"$f":"VLOOKUP(B46,Data!AL:AU,5)","v":6993.0090999999984},{"$f":"VLOOKUP(B46,Data!AL:AU,8)","v":678.11213499999849},{"$f":"F46-G46","v":6314.8969649999999}]
[null,"2011-01-02",{"$f":"VLOOKUP(B47,Data!AL:AU,2)","v":9.8687373427251646E-2},{"$f":"VLOOKUP(B47,Data!AL:AU,3)","v":9.7828690058433934E-2},{"$f":"VLOOKUP(B47,Data!AL:AU,4)","v":0.11309833427726299},{"$f":"VLOOKUP(B47,Data!AL:AU,5)","v":6993.0139999999965},{"$f":"VLOOKUP(B47,Data!AL:AU,8)","v":690.12218399999836},{"$f":"F47-G47","v":6302.8918159999985}]
[null,"2011-01-09",{"$f":"VLOOKUP(B48,Data!AL:AU,2)","v":9.4210237015395118E-2},{"$f":"VLOOKUP(B48,Data!AL:AU,3)","v":9.6376024156733742E-2},{"$f":"VLOOKUP(B48,Data!AL:AU,4)","v":9.6245859984081694E-2},{"$f":"VLOOKUP(B48,Data!AL:AU,5)","v":7463.0130999999965},{"$f":"VLOOKUP(B48,Data!AL:AU,8)","v":703.09223299999837},{"$f":"F48-G48","v":6759.920866999998}]
[null,"2011-01-16",{"$f":"VLOOKUP(B49,Data!AL:AU,2)","v":8.2785597621024165E-2},{"$f":"VLOOKUP(B49,Data!AL:AU,3)","v":8.808105414909001E-2},{"$f":"VLOOKUP(B49,Data!AL:AU,4)","v":9.2612263013698695E-2},{"$f":"VLOOKUP(B49,Data!AL:AU,5)","v":8638.0034999999989},{"$f":"VLOOKUP(B49,Data!AL:AU,8)","v":715.10228199999835},{"$f":"F49-G49","v":7922.9012180000009}]
[null,"2011-01-23",{"$f":"VLOOKUP(B50,Data!AL:AU,2)","v":8.637203119645015E-2},{"$f":"VLOOKUP(B50,Data!AL:AU,3)","v":8.4578814917347728E-2},{"$f":"VLOOKUP(B50,Data!AL:AU,4)","v":8.9953218259942097E-2},{"$f":"VLOOKUP(B50,Data!AL:AU,5)","v":8638.0083999999988},{"$f":"VLOOKUP(B50,Data!AL:AU,8)","v":746.08233099999836},{"$f":"F50-G50","v":7891.9260690000001}]
[null,"2011-01-30",{"$f":"VLOOKUP(B51,Data!AL:AU,2)","v":8.5566247044328886E-2},{"$f":"VLOOKUP(B51,Data!AL:AU,3)","v":8.5969139006117176E-2},{"$f":"VLOOKUP(B51,Data!AL:AU,4)","v":8.6987922652202315E-2},{"$f":"VLOOKUP(B51,Data!AL:AU,5)","v":8638.0132999999969},{"$f":"VLOOKUP(B51,Data!AL:AU,8)","v":739.12237999999832},{"$f":"F51-G51","v":7898.8909199999989}]
[null,"2011-02-06",{"$f":"VLOOKUP(B52,Data!AL:AU,2)","v":8.7067705993024977E-2},{"$f":"VLOOKUP(B52,Data!AL:AU,3)","v":8.6316976731606265E-2},{"$f":"VLOOKUP(B52,Data!AL:AU,4)","v":8.544789631747203E-2},{"$f":"VLOOKUP(B52,Data!AL:AU,5)","v":8638.018199999995},{"$f":"VLOOKUP(B52,Data!AL:AU,8)","v":752.09242899999833},{"$f":"F52-G52","v":7885.9257709999965}]
[null,"2011-02-13",{"$f":"VLOOKUP(B53,Data!AL:AU,2)","v":0.12959665787229274},{"$f":"VLOOKUP(B53,Data!AL:AU,3)","v":0.10432038935786149},{"$f":"VLOOKUP(B53,Data!AL:AU,4)","v":9.4353833030173112E-2},{"$f":"VLOOKUP(B53,Data!AL:AU,5)","v":5896.0044999999991},{"$f":"VLOOKUP(B53,Data!AL:AU,8)","v":764.10247799999831},{"$f":"F53-G53","v":5131.9020220000011}]
[null,"2011-02-20",{"$f":"VLOOKUP(B54,Data!AL:AU,2)","v":0.14232609493392173},{"$f":"VLOOKUP(B54,Data!AL:AU,3)","v":0.13570476748023894},{"$f":"VLOOKUP(B54,Data!AL:AU,4)","v":0.10588323844461946},{"$f":"VLOOKUP(B54,Data!AL:AU,5)","v":5439.0062999999991},{"$f":"VLOOKUP(B54,Data!AL:AU,8)","v":774.11252699999818},{"$f":"F54-G54","v":4664.8937730000007}]
[null,"2011-02-27",{"$f":"VLOOKUP(B55,Data!AL:AU,2)","v":0.14379866987587717},{"$f":"VLOOKUP(B55,Data!AL:AU,3)","v":0.14306238273655997},{"$f":"VLOOKUP(B55,Data!AL:AU,4)","v":0.12090449982839212},{"$f":"VLOOKUP(B55,Data!AL:AU,5)","v":5439.0111999999972},{"$f":"VLOOKUP(B55,Data!AL:AU,8)","v":782.12257599999816},{"$f":"F55-G55","v":4656.8886239999993}]
[null,"2011-03-06",{"$f":"VLOOKUP(B56,Data!AL:AU,2)","v":0.14728631250052721},{"$f":"VLOOKUP(B56,Data!AL:AU,3)","v":0.14554249197370531},{"$f":"VLOOKUP(B56,Data!AL:AU,4)","v":0.14052243515487392},{"$f":"VLOOKUP(B56,Data!AL:AU,5)","v":5439.0160999999953},{"$f":"VLOOKUP(B56,Data!AL:AU,8)","v":801.09262499999807},{"$f":"F56-G56","v":4637.9234749999969}]
[null,"2011-03-13",{"$f":"VLOOKUP(B57,Data!AL:AU,2)","v":0.14949430678793091},{"$f":"VLOOKUP(B57,Data!AL:AU,3)","v":0.1483903101415234},{"$f":"VLOOKUP(B57,Data!AL:AU,4)","v":0.14572634883900293},{"$f":"VLOOKUP(B57,Data!AL:AU,5)","v":5439.0209999999952},{"$f":"VLOOKUP(B57,Data!AL:AU,8)","v":813.10267399999805},{"$f":"F57-G57","v":4625.9183259999973}]
[null,"2011-03-20",{"$f":"VLOOKUP(B58,Data!AL:AU,2)","v":0.16518736524929808},{"$f":"VLOOKUP(B58,Data!AL:AU,3)","v":0.15700693474002222},{"$f":"VLOOKUP(B58,Data!AL:AU,4)","v":0.15115529370193079},{"$f":"VLOOKUP(B58,Data!AL:AU,5)","v":4995.0110999999979},{"$f":"VLOOKUP(B58,Data!AL:AU,8)","v":825.11272299999791},{"$f":"F58-G58","v":4169.8983769999995}]
[null,"2011-03-27",{"$f":"VLOOKUP(B59,Data!AL:AU,2)","v":0.17956282542731739},{"$f":"VLOOKUP(B59,Data!AL:AU,3)","v":0.17212723837259841},{"$f":"VLOOKUP(B59,Data!AL:AU,4)","v":0.1595530714259509},{"$f":"VLOOKUP(B59,Data!AL:AU,5)","v":4662.0048999999981},{"$f":"VLOOKUP(B59,Data!AL:AU,8)","v":837.12277199999789},{"$f":"F59-G59","v":3824.8821280000002}]
[null,"2011-04-03",{"$f":"VLOOKUP(B60,Data!AL:AU,2)","v":0.1823447091423957},{"$f":"VLOOKUP(B60,Data!AL:AU,3)","v":0.18095376801583088},{"$f":"VLOOKUP(B60,Data!AL:AU,4)","v":0.16830767857073772},{"$f":"VLOOKUP(B60,Data!AL:AU,5)","v":4662.009799999998},{"$f":"VLOOKUP(B60,Data!AL:AU,8)","v":850.09282099999803},{"$f":"F60-G60","v":3811.9169790000001}]
[null,"2011-04-10",{"$f":"VLOOKUP(B61,Data!AL:AU,2)","v":0.15316659710033068},{"$f":"VLOOKUP(B61,Data!AL:AU,3)","v":0.16678305361194568},{"$f":"VLOOKUP(B61,Data!AL:AU,4)","v":0.16940985611064643},{"$f":"VLOOKUP(B61,Data!AL:AU,5)","v":5328.0080999999973},{"$f":"VLOOKUP(B61,Data!AL:AU,8)","v":816.07286999999792},{"$f":"F61-G61","v":4511.9352299999991}]
[null,"2011-04-17",{"$f":"VLOOKUP(B62,Data!AL:AU,2)","v":0.14062296145166664},{"$f":"VLOOKUP(B62,Data!AL:AU,3)","v":0.14641233438394691},{"$f":"VLOOKUP(B62,Data!AL:AU,4)","v":0.16184574526379486},{"$f":"VLOOKUP(B62,Data!AL:AU,5)","v":6216.0041999999994},{"$f":"VLOOKUP(B62,Data!AL:AU,8)","v":874.11291899999787},{"$f":"F62-G62","v":5341.891281000002}]
[null,"2011-04-24",{"$f":"VLOOKUP(B63,Data!AL:AU,2)","v":0.14255496633684112},{"$f":"VLOOKUP(B63,Data!AL:AU,3)","v":0.14158896427499765},{"$f":"VLOOKUP(B63,Data!AL:AU,4)","v":0.15281405807695034},{"$f":"VLOOKUP(B63,Data!AL:AU,5)","v":6216.0090999999984},{"$f":"VLOOKUP(B63,Data!AL:AU,8)","v":886.12296799999785},{"$f":"F63-G63","v":5329.8861320000005}]
[null,"2011-05-01",{"$f":"VLOOKUP(B64,Data!AL:AU,2)","v":0.14999854221172079},{"$f":"VLOOKUP(B64,Data!AL:AU,3)","v":0.14620908631048327},{"$f":"VLOOKUP(B64,Data!AL:AU,4)","v":0.14630786104276297},{"$f":"VLOOKUP(B64,Data!AL:AU,5)","v":5994.0116999999973},{"$f":"VLOOKUP(B64,Data!AL:AU,8)","v":899.09301699999787},{"$f":"F64-G64","v":5094.9186829999999}]
[null,"2011-05-08",{"$f":"VLOOKUP(B65,Data!AL:AU,2)","v":0.19543168571241482},{"$f":"VLOOKUP(B65,Data!AL:AU,3)","v":0.1698755273840887},{"$f":"VLOOKUP(B65,Data!AL:AU,4)","v":0.15464430313965546},{"$f":"VLOOKUP(B65,Data!AL:AU,5)","v":4662.0027999999993},{"$f":"VLOOKUP(B65,Data!AL:AU,8)","v":911.10306599999774},{"$f":"F65-G65","v":3750.8997340000014}]
[null,"2011-05-15",{"$f":"VLOOKUP(B66,Data!AL:AU,2)","v":0.16539507538779868},{"$f":"VLOOKUP(B66,Data!AL:AU,3)","v":0.18041337265761298},{"$f":"VLOOKUP(B66,Data!AL:AU,4)","v":0.16101918482862015},{"$f":"VLOOKUP(B66,Data!AL:AU,5)","v":4662.0076999999983},{"$f":"VLOOKUP(B66,Data!AL:AU,8)","v":771.07311499999764},{"$f":"F66-G66","v":3890.9345850000009}]
[null,"2011-05-22",{"$f":"VLOOKUP(B67,Data!AL:AU,2)","v":0.2005835771443428},{"$f":"VLOOKUP(B67,Data!AL:AU,3)","v":0.18298933551227856},{"$f":"VLOOKUP(B67,Data!AL:AU,4)","v":0.17599530717534048},{"$f":"VLOOKUP(B67,Data!AL:AU,5)","v":4662.0125999999973},{"$f":"VLOOKUP(B67,Data!AL:AU,8)","v":935.12316399999759},{"$f":"F67-G67","v":3726.8894359999995}]
[null,"2011-05-29",{"$f":"VLOOKUP(B68,Data!AL:AU,2)","v":0.20336543417093533},{"$f":"VLOOKUP(B68,Data!AL:AU,3)","v":0.20197450638860515},{"$f":"VLOOKUP(B68,Data!AL:AU,4)","v":0.19119395085401056},{"$f":"VLOOKUP(B68,Data!AL:AU,5)","v":4662.0174999999954},{"$f":"VLOOKUP(B68,Data!AL:AU,8)","v":948.0932129999976},{"$f":"F68-G68","v":3713.924286999998}]
[null,"2011-06-05",{"$f":"VLOOKUP(B69,Data!AL:AU,2)","v":0.24026581702462535},{"$f":"VLOOKUP(B69,Data!AL:AU,3)","v":0.22039635577729325},{"$f":"VLOOKUP(B69,Data!AL:AU,4)","v":0.2010001263371517},{"$f":"VLOOKUP(B69,Data!AL:AU,5)","v":3996.0043999999989},{"$f":"VLOOKUP(B69,Data!AL:AU,8)","v":960.10326199999759},{"$f":"F69-G69","v":3035.9011380000011}]
[null,"2011-06-12",{"$f":"VLOOKUP(B70,Data!AL:AU,2)","v":0.25022181070851751},{"$f":"VLOOKUP(B70,Data!AL:AU,3)","v":0.24517370253031071},{"$f":"VLOOKUP(B70,Data!AL:AU,4)","v":0.2217625052071944},{"$f":"VLOOKUP(B70,Data!AL:AU,5)","v":3885.0062999999982},{"$f":"VLOOKUP(B70,Data!AL:AU,8)","v":972.11331099999757},{"$f":"F70-G70","v":2912.8929890000009}]
[null,"2011-06-19",{"$f":"VLOOKUP(B71,Data!AL:AU,2)","v":0.19616246151362393},{"$f":"VLOOKUP(B71,Data!AL:AU,3)","v":0.22319211906536834},{"$f":"VLOOKUP(B71,Data!AL:AU,4)","v":0.22171867605820283},{"$f":"VLOOKUP(B71,Data!AL:AU,5)","v":3885.0111999999972},{"$f":"VLOOKUP(B71,Data!AL:AU,8)","v":762.09335999999735},{"$f":"F71-G71","v":3122.9178400000001}]
[null,"2011-06-26",{"$f":"VLOOKUP(B72,Data!AL:AU,2)","v":0.17965630500051211},{"$f":"VLOOKUP(B72,Data!AL:AU,3)","v":0.18645296553435689},{"$f":"VLOOKUP(B72,Data!AL:AU,4)","v":0.213178423780466},{"$f":"VLOOKUP(B72,Data!AL:AU,5)","v":5550.0050999999985},{"$f":"VLOOKUP(B72,Data!AL:AU,8)","v":997.09340899999745},{"$f":"F72-G72","v":4552.9116910000012}]
[null,"2011-07-03",{"$f":"VLOOKUP(B73,Data!AL:AU,2)","v":0.16233953489359754},{"$f":"VLOOKUP(B73,Data!AL:AU,3)","v":0.17050782275763146},{"$f":"VLOOKUP(B73,Data!AL:AU,4)","v":0.1914618211904501},{"$f":"VLOOKUP(B73,Data!AL:AU,5)","v":6216.0055999999986},{"$f":"VLOOKUP(B73,Data!AL:AU,8)","v":1009.1034579999974},{"$f":"F73-G73","v":5206.9021420000008}]
[null,"2011-07-10",{"$f":"VLOOKUP(B74,Data!AL:AU,2)","v":0.13852510496885387},{"$f":"VLOOKUP(B74,Data!AL:AU,3)","v":0.15043231523807268},{"$f":"VLOOKUP(B74,Data!AL:AU,4)","v":0.16597422401038697},{"$f":"VLOOKUP(B74,Data!AL:AU,5)","v":6216.0104999999967},{"$f":"VLOOKUP(B74,Data!AL:AU,8)","v":861.07350699999733},{"$f":"F74-G74","v":5354.9369929999993}]
[null,"2011-07-17",{"$f":"VLOOKUP(B75,Data!AL:AU,2)","v":0.16620350650997387},{"$f":"VLOOKUP(B75,Data!AL:AU,3)","v":0.15236431119404248},{"$f":"VLOOKUP(B75,Data!AL:AU,4)","v":0.16118638030326768},{"$f":"VLOOKUP(B75,Data!AL:AU,5)","v":6216.0153999999966},{"$f":"VLOOKUP(B75,Data!AL:AU,8)","v":1033.1235559999973},{"$f":"F75-G75","v":5182.8918439999998}]
[null,"2011-07-24",{"$f":"VLOOKUP(B76,Data!AL:AU,2)","v":0.16828992739936804},{"$f":"VLOOKUP(B76,Data!AL:AU,3)","v":0.16724671736584509},{"$f":"VLOOKUP(B76,Data!AL:AU,4)","v":0.15883952292924319},{"$f":"VLOOKUP(B76,Data!AL:AU,5)","v":6216.0202999999956},{"$f":"VLOOKUP(B76,Data!AL:AU,8)","v":1046.0936049999973},{"$f":"F76-G76","v":5169.9266949999983}]
[null,"2011-07-31",{"$f":"VLOOKUP(B77,Data!AL:AU,2)","v":0.1702219054710393},{"$f":"VLOOKUP(B77,Data!AL:AU,3)","v":0.16925591681594121},{"$f":"VLOOKUP(B77,Data!AL:AU,4)","v":0.1608101206627002},{"$f":"VLOOKUP(B77,Data!AL:AU,5)","v":6216.0251999999937},{"$f":"VLOOKUP(B77,Data!AL:AU,8)","v":1058.1036539999971},{"$f":"F77-G77","v":5157.9215459999969}]
[null,"2011-08-07",{"$f":"VLOOKUP(B78,Data!AL:AU,2)","v":0.15654423922432392},{"$f":"VLOOKUP(B78,Data!AL:AU,3)","v":0.16338306965220759},{"$f":"VLOOKUP(B78,Data!AL:AU,4)","v":0.16531489198619784},{"$f":"VLOOKUP(B78,Data!AL:AU,5)","v":6216.0300999999927},{"$f":"VLOOKUP(B78,Data!AL:AU,8)","v":973.08370299999706},{"$f":"F78-G78","v":5242.9463969999961}]
[null,"2011-08-14",{"$f":"VLOOKUP(B79,Data!AL:AU,2)","v":0.18394018840358431},{"$f":"VLOOKUP(B79,Data!AL:AU,3)","v":0.16986519511639636},{"$f":"VLOOKUP(B79,Data!AL:AU,4)","v":0.16955642066255366},{"$f":"VLOOKUP(B79,Data!AL:AU,5)","v":5883.0196999999953},{"$f":"VLOOKUP(B79,Data!AL:AU,8)","v":1082.1237519999972},{"$f":"F79-G79","v":4800.8959479999976}]
[null,"2011-08-21",{"$f":"VLOOKUP(B80,Data!AL:AU,2)","v":0.2013408632778767},{"$f":"VLOOKUP(B80,Data!AL:AU,3)","v":0.19229932494666399},{"$f":"VLOOKUP(B80,Data!AL:AU,4)","v":0.17716556699869856},{"$f":"VLOOKUP(B80,Data!AL:AU,5)","v":5439.0041999999994},{"$f":"VLOOKUP(B80,Data!AL:AU,8)","v":1095.093800999997},{"$f":"F80-G80","v":4343.9103990000021}]
[null,"2011-08-28",{"$f":"VLOOKUP(B81,Data!AL:AU,2)","v":0.18865087944052114},{"$f":"VLOOKUP(B81,Data!AL:AU,3)","v":0.19499586850109793},{"$f":"VLOOKUP(B81,Data!AL:AU,4)","v":0.18176279047603744},{"$f":"VLOOKUP(B81,Data!AL:AU,5)","v":5439.0090999999984},{"$f":"VLOOKUP(B81,Data!AL:AU,8)","v":1026.073849999997},{"$f":"F81-G81","v":4412.9352500000014}]
[null,"2011-09-04",{"$f":"VLOOKUP(B82,Data!AL:AU,2)","v":0.20575676014071625},{"$f":"VLOOKUP(B82,Data!AL:AU,3)","v":0.19720382364328629},{"$f":"VLOOKUP(B82,Data!AL:AU,4)","v":0.19470252932347354},{"$f":"VLOOKUP(B82,Data!AL:AU,5)","v":5439.0139999999965},{"$f":"VLOOKUP(B82,Data!AL:AU,8)","v":1119.113898999997},{"$f":"F82-G82","v":4319.9001009999993}]
[null,"2011-09-11",{"$f":"VLOOKUP(B83,Data!AL:AU,2)","v":0.16107573150738597},{"$f":"VLOOKUP(B83,Data!AL:AU,3)","v":0.18341623576078678},{"$f":"VLOOKUP(B83,Data!AL:AU,4)","v":0.18920604691490264},{"$f":"VLOOKUP(B83,Data!AL:AU,5)","v":5439.0188999999955},{"$f":"VLOOKUP(B83,Data!AL:AU,8)","v":876.093947999997},{"$f":"F83-G83","v":4562.9249519999985}]
[null,"2011-09-18",{"$f":"VLOOKUP(B84,Data!AL:AU,2)","v":0.21034914335179011},{"$f":"VLOOKUP(B84,Data!AL:AU,3)","v":0.18571244852715979},{"$f":"VLOOKUP(B84,Data!AL:AU,4)","v":0.19145813090894359},{"$f":"VLOOKUP(B84,Data!AL:AU,5)","v":5439.0237999999945},{"$f":"VLOOKUP(B84,Data!AL:AU,8)","v":1144.093996999997},{"$f":"F84-G84","v":4294.9298029999973}]
[null,"2011-09-25",{"$f":"VLOOKUP(B85,Data!AL:AU,2)","v":0.19637220263242924},{"$f":"VLOOKUP(B85,Data!AL:AU,3)","v":0.20336066984416526},{"$f":"VLOOKUP(B85,Data!AL:AU,4)","v":0.19338846178642002},{"$f":"VLOOKUP(B85,Data!AL:AU,5)","v":5439.0286999999935},{"$f":"VLOOKUP(B85,Data!AL:AU,8)","v":1068.074045999997},{"$f":"F85-G85","v":4370.9546539999965}]
[null,"2011-10-02",{"$f":"VLOOKUP(B86,Data!AL:AU,2)","v":0.2147650080705511},{"$f":"VLOOKUP(B86,Data!AL:AU,3)","v":0.20556860949399028},{"$f":"VLOOKUP(B86,Data!AL:AU,4)","v":0.19564053795474851},{"$f":"VLOOKUP(B86,Data!AL:AU,5)","v":5439.0335999999916},{"$f":"VLOOKUP(B86,Data!AL:AU,8)","v":1168.1140949999967},{"$f":"F86-G86","v":4270.9195049999944}]
[null,"2011-10-09",{"$f":"VLOOKUP(B87,Data!AL:AU,2)","v":0.21697293446258911},{"$f":"VLOOKUP(B87,Data!AL:AU,3)","v":0.21586897176384753},{"$f":"VLOOKUP(B87,Data!AL:AU,4)","v":0.20961482643834436},{"$f":"VLOOKUP(B87,Data!AL:AU,5)","v":5439.0384999999897},{"$f":"VLOOKUP(B87,Data!AL:AU,8)","v":1180.1241439999967},{"$f":"F87-G87","v":4258.9143559999929}]
[null,"2011-10-16",{"$f":"VLOOKUP(B88,Data!AL:AU,2)","v":0.16198881461398132},{"$f":"VLOOKUP(B88,Data!AL:AU,3)","v":0.18948086215456766},{"$f":"VLOOKUP(B88,Data!AL:AU,4)","v":0.19752472857759396},{"$f":"VLOOKUP(B88,Data!AL:AU,5)","v":5439.0433999999896},{"$f":"VLOOKUP(B88,Data!AL:AU,8)","v":881.06419299999698},{"$f":"F88-G88","v":4557.979206999993}]
[null,"2011-10-23",{"$f":"VLOOKUP(B89,Data!AL:AU,2)","v":0.17798003254493183},{"$f":"VLOOKUP(B89,Data!AL:AU,3)","v":0.17085664503544443},{"$f":"VLOOKUP(B89,Data!AL:AU,4)","v":0.19206440292965141},{"$f":"VLOOKUP(B89,Data!AL:AU,5)","v":6771.0080999999982},{"$f":"VLOOKUP(B89,Data!AL:AU,8)","v":1205.1042419999967},{"$f":"F89-G89","v":5565.9038580000015}]
[null,"2011-10-30",{"$f":"VLOOKUP(B90,Data!AL:AU,2)","v":0.15716906918845433},{"$f":"VLOOKUP(B90,Data!AL:AU,3)","v":0.16740672205341442},{"$f":"VLOOKUP(B90,Data!AL:AU,4)","v":0.17715119756268427},{"$f":"VLOOKUP(B90,Data!AL:AU,5)","v":6993.0062999999982},{"$f":"VLOOKUP(B90,Data!AL:AU,8)","v":1099.0842909999967},{"$f":"F90-G90","v":5893.9220090000017}]
[null,"2011-11-06",{"$f":"VLOOKUP(B91,Data!AL:AU,2)","v":0.12857041327203897},{"$f":"VLOOKUP(B91,Data!AL:AU,3)","v":0.14286973622047833},{"$f":"VLOOKUP(B91,Data!AL:AU,4)","v":0.15591450251562511},{"$f":"VLOOKUP(B91,Data!AL:AU,5)","v":6993.0111999999972},{"$f":"VLOOKUP(B91,Data!AL:AU,8)","v":899.09433999999681},{"$f":"F91-G91","v":6093.9168600000003}]
[null,"2011-11-13",{"$f":"VLOOKUP(B92,Data!AL:AU,2)","v":0.14586758766364022},{"$f":"VLOOKUP(B92,Data!AL:AU,3)","v":0.1372190034978692},{"$f":"VLOOKUP(B92,Data!AL:AU,4)","v":0.15219210506627767},{"$f":"VLOOKUP(B92,Data!AL:AU,5)","v":6993.0160999999953},{"$f":"VLOOKUP(B92,Data!AL:AU,8)","v":1020.0543889999967},{"$f":"F92-G92","v":5972.9617109999981}]
[null,"2011-11-20",{"$f":"VLOOKUP(B93,Data!AL:AU,2)","v":0.16146018122925662},{"$f":"VLOOKUP(B93,Data!AL:AU,3)","v":0.15366388717787649},{"$f":"VLOOKUP(B93,Data!AL:AU,4)","v":0.14826681548090456},{"$f":"VLOOKUP(B93,Data!AL:AU,5)","v":6993.0209999999952},{"$f":"VLOOKUP(B93,Data!AL:AU,8)","v":1129.0944379999967},{"$f":"F93-G93","v":5863.9265619999987}]
[null,"2011-11-27",{"$f":"VLOOKUP(B94,Data!AL:AU,2)","v":0.14530111879036475},{"$f":"VLOOKUP(B94,Data!AL:AU,3)","v":0.15338064717915356},{"$f":"VLOOKUP(B94,Data!AL:AU,4)","v":0.1452998310007339},{"$f":"VLOOKUP(B94,Data!AL:AU,5)","v":6993.0258999999942},{"$f":"VLOOKUP(B94,Data!AL:AU,8)","v":1016.0944869999965},{"$f":"F94-G94","v":5976.9314129999975}]
[null,"2011-12-04",{"$f":"VLOOKUP(B95,Data!AL:AU,2)","v":0.18277118642177267},{"$f":"VLOOKUP(B95,Data!AL:AU,3)","v":0.16403615916986777},{"$f":"VLOOKUP(B95,Data!AL:AU,4)","v":0.15885002680778906},{"$f":"VLOOKUP(B95,Data!AL:AU,5)","v":6993.0307999999923},{"$f":"VLOOKUP(B95,Data!AL:AU,8)","v":1278.1245359999966},{"$f":"F95-G95","v":5714.9062639999956}]
[null,"2011-12-11",{"$f":"VLOOKUP(B96,Data!AL:AU,2)","v":0.20054247269269013},{"$f":"VLOOKUP(B96,Data!AL:AU,3)","v":0.19128964205791454},{"$f":"VLOOKUP(B96,Data!AL:AU,4)","v":0.17195144784228761},{"$f":"VLOOKUP(B96,Data!AL:AU,5)","v":6438.010699999998},{"$f":"VLOOKUP(B96,Data!AL:AU,8)","v":1291.0945849999964},{"$f":"F96-G96","v":5146.9161150000018}]
[null,"2011-12-18",{"$f":"VLOOKUP(B97,Data!AL:AU,2)","v":0.20963697876977405},{"$f":"VLOOKUP(B97,Data!AL:AU,3)","v":0.20500994763219907},{"$f":"VLOOKUP(B97,Data!AL:AU,4)","v":0.18349868042778977},{"$f":"VLOOKUP(B97,Data!AL:AU,5)","v":6216.0055999999986},{"$f":"VLOOKUP(B97,Data!AL:AU,8)","v":1303.1046339999964},{"$f":"F97-G97","v":4912.900966000002}]
[null,"2011-12-25",{"$f":"VLOOKUP(B98,Data!AL:AU,2)","v":0.19001169367394039},{"$f":"VLOOKUP(B98,Data!AL:AU,3)","v":0.19982433235426661},{"$f":"VLOOKUP(B98,Data!AL:AU,4)","v":0.195392150307858},{"$f":"VLOOKUP(B98,Data!AL:AU,5)","v":6216.0104999999967},{"$f":"VLOOKUP(B98,Data!AL:AU,8)","v":1181.1146829999964},{"$f":"F98-G98","v":5034.8958170000005}]
[null,"2012-01-01",{"$f":"VLOOKUP(B99,Data!AL:AU,2)","v":5.2947863031355527E-2},{"$f":"VLOOKUP(B99,Data!AL:AU,3)","v":0.12147975134125114},{"$f":"VLOOKUP(B99,Data!AL:AU,4)","v":0.16361443552064131},{"$f":"VLOOKUP(B99,Data!AL:AU,5)","v":6216.0153999999966},{"$f":"VLOOKUP(B99,Data!AL:AU,8)","v":329.12473199999647},{"$f":"F99-G99","v":5886.890668}]
[null,"2012-01-08",{"$f":"VLOOKUP(B100,Data!AL:AU,2)","v":4.6250618100458378E-2},{"$f":"VLOOKUP(B100,Data!AL:AU,3)","v":4.9599239246070813E-2},{"$f":"VLOOKUP(B100,Data!AL:AU,4)","v":0.12471172658995132},{"$f":"VLOOKUP(B100,Data!AL:AU,5)","v":6216.0202999999956},{"$f":"VLOOKUP(B100,Data!AL:AU,8)","v":287.49478099999652},{"$f":"F100-G100","v":5928.5255189999989}]
[null,"2012-01-15",{"$f":"VLOOKUP(B101,Data!AL:AU,2)","v":4.6329418033890339E-2},{"$f":"VLOOKUP(B101,Data!AL:AU,3)","v":4.6290018082703555E-2},{"$f":"VLOOKUP(B101,Data!AL:AU,4)","v":8.3884855076469408E-2},{"$f":"VLOOKUP(B101,Data!AL:AU,5)","v":6216.0251999999937},{"$f":"VLOOKUP(B101,Data!AL:AU,8)","v":287.98482999999652},{"$f":"F101-G101","v":5928.040369999997}]
[null,"2012-01-22",{"$f":"VLOOKUP(B102,Data!AL:AU,2)","v":0.93660036408841529},{"$f":"VLOOKUP(B102,Data!AL:AU,3)","v":8.8359487551499596E-2},{"$f":"VLOOKUP(B102,Data!AL:AU,4)","v":6.2939188480223299E-2},{"$f":"VLOOKUP(B102,Data!AL:AU,5)","v":308.0021000000001},{"$f":"VLOOKUP(B102,Data!AL:AU,8)","v":288.47487899999658},{"$f":"F102-G102","v":19.527221000003522}]
[null,"2012-01-29",{"$f":"VLOOKUP(B103,Data!AL:AU,2)","v":0.87563617234489133},{"$f":"VLOOKUP(B103,Data!AL:AU,3)","v":0.90506700231563486},{"$f":"VLOOKUP(B103,Data!AL:AU,4)","v":8.8210766363132312E-2},{"$f":"VLOOKUP(B103,Data!AL:AU,5)","v":330.00570000000016},{"$f":"VLOOKUP(B103,Data!AL:AU,8)","v":288.96492799999663},{"$f":"F103-G103","v":41.040772000003528}]
[null,"2012-02-05",{"$f":"VLOOKUP(B104,Data!AL:AU,2)","v":0.6265221271386161},{"$f":"VLOOKUP(B104,Data!AL:AU,3)","v":0.73032032484498999},{"$f":"VLOOKUP(B104,Data!AL:AU,4)","v":0.15785592711287538},{"$f":"VLOOKUP(B104,Data!AL:AU,5)","v":462.00280000000009},{"$f":"VLOOKUP(B104,Data!AL:AU,8)","v":289.45497699999669},{"$f":"F104-G104","v":172.5478230000034}]
[null,"2012-02-12",{"$f":"VLOOKUP(B105,Data!AL:AU,2)","v":0.59905217349442874},{"$f":"VLOOKUP(B105,Data!AL:AU,3)","v":0.61246768450746736},{"$f":"VLOOKUP(B105,Data!AL:AU,4)","v":0.73032037095057922},{"$f":"VLOOKUP(B105,Data!AL:AU,5)","v":484.00630000000024},{"$f":"VLOOKUP(B105,Data!AL:AU,8)","v":289.94502599999669},{"$f":"F105-G105","v":194.06127400000355}]
[null,"2012-02-19",{"$f":"VLOOKUP(B106,Data!AL:AU,2)","v":0.47148336825741149},{"$f":"VLOOKUP(B106,Data!AL:AU,3)","v":0.5276139088303845},{"$f":"VLOOKUP(B106,Data!AL:AU,4)","v":0.61246787873431341},{"$f":"VLOOKUP(B106,Data!AL:AU,5)","v":616.00280000000021},{"$f":"VLOOKUP(B106,Data!AL:AU,8)","v":290.43507499999669},{"$f":"F106-G106","v":325.56772500000352}]
[null,"2012-02-26",{"$f":"VLOOKUP(B107,Data!AL:AU,2)","v":0.14261012420911123},{"$f":"VLOOKUP(B107,Data!AL:AU,3)","v":0.21888511438282976},{"$f":"VLOOKUP(B107,Data!AL:AU,4)","v":0.32225299937656748},{"$f":"VLOOKUP(B107,Data!AL:AU,5)","v":2040.0033000000001},{"$f":"VLOOKUP(B107,Data!AL:AU,8)","v":290.9251239999968},{"$f":"F107-G107","v":1749.0781760000032}]
[null,"2012-03-04",{"$f":"VLOOKUP(B108,Data!AL:AU,2)","v":9.3762777851475368E-2},{"$f":"VLOOKUP(B108,Data!AL:AU,3)","v":0.11311953562933205},{"$f":"VLOOKUP(B108,Data!AL:AU,4)","v":0.1860942987465779},{"$f":"VLOOKUP(B108,Data!AL:AU,5)","v":3108.0048999999985},{"$f":"VLOOKUP(B108,Data!AL:AU,8)","v":291.4151729999968},{"$f":"F108-G108","v":2816.5897270000019}]
[null,"2012-03-11",{"$f":"VLOOKUP(B109,Data!AL:AU,2)","v":9.3920302953998738E-2},{"$f":"VLOOKUP(B109,Data!AL:AU,3)","v":9.3841540464824527E-2},{"$f":"VLOOKUP(B109,Data!AL:AU,4)","v":0.13127568343843238},{"$f":"VLOOKUP(B109,Data!AL:AU,5)","v":3108.009799999998},{"$f":"VLOOKUP(B109,Data!AL:AU,8)","v":291.90522199999685},{"$f":"F109-G109","v":2816.1045780000013}]
[null,"2012-03-18",{"$f":"VLOOKUP(B110,Data!AL:AU,2)","v":9.4077827559823732E-2},{"$f":"VLOOKUP(B110,Data!AL:AU,3)","v":9.3999065318998376E-2},{"$f":"VLOOKUP(B110,Data!AL:AU,4)","v":0.10266080895736844},{"$f":"VLOOKUP(B110,Data!AL:AU,5)","v":3108.0146999999961},{"$f":"VLOOKUP(B110,Data!AL:AU,8)","v":292.39527099999691},{"$f":"F110-G110","v":2815.6194289999994}]
[null,"2012-03-25",{"$f":"VLOOKUP(B111,Data!AL:AU,2)","v":9.4235351668952611E-2},{"$f":"VLOOKUP(B111,Data!AL:AU,3)","v":9.4156589676475028E-2},{"$f":"VLOOKUP(B111,Data!AL:AU,4)","v":9.399906531899839E-2},{"$f":"VLOOKUP(B111,Data!AL:AU,5)","v":3108.0195999999951},{"$f":"VLOOKUP(B111,Data!AL:AU,8)","v":292.88531999999697},{"$f":"F111-G111","v":2815.1342799999979}]
[null,"2012-04-01",{"$f":"VLOOKUP(B112,Data!AL:AU,2)","v":8.810016376174401E-2},{"$f":"VLOOKUP(B112,Data!AL:AU,3)","v":9.1061978751514616E-2},{"$f":"VLOOKUP(B112,Data!AL:AU,4)","v":9.2504756416293119E-2},{"$f":"VLOOKUP(B112,Data!AL:AU,5)","v":3330.0206999999946},{"$f":"VLOOKUP(B112,Data!AL:AU,8)","v":293.37536899999697},{"$f":"F112-G112","v":3036.6453309999974}]
[null,"2012-04-08",{"$f":"VLOOKUP(B113,Data!AL:AU,2)","v":6.3034157336841812E-2},{"$f":"VLOOKUP(B113,Data!AL:AU,3)","v":7.347836089320739E-2},{"$f":"VLOOKUP(B113,Data!AL:AU,4)","v":8.252509910256621E-2},{"$f":"VLOOKUP(B113,Data!AL:AU,5)","v":4662.0027999999993},{"$f":"VLOOKUP(B113,Data!AL:AU,8)","v":293.86541799999702},{"$f":"F113-G113","v":4368.1373820000026}]
[null,"2012-04-15",{"$f":"VLOOKUP(B114,Data!AL:AU,2)","v":7.5777538291066524E-2},{"$f":"VLOOKUP(B114,Data!AL:AU,3)","v":6.9405851162436388E-2},{"$f":"VLOOKUP(B114,Data!AL:AU,4)","v":7.8251338588503278E-2},{"$f":"VLOOKUP(B114,Data!AL:AU,5)","v":4662.0076999999983},{"$f":"VLOOKUP(B114,Data!AL:AU,8)","v":353.27546699999687},{"$f":"F114-G114","v":4308.7322330000015}]
[null,"2012-04-22",{"$f":"VLOOKUP(B115,Data!AL:AU,2)","v":0.13668249545271421},{"$f":"VLOOKUP(B115,Data!AL:AU,3)","v":0.10623003287541034},{"$f":"VLOOKUP(B115,Data!AL:AU,4)","v":9.1113870363390262E-2},{"$f":"VLOOKUP(B115,Data!AL:AU,5)","v":4662.0125999999973},{"$f":"VLOOKUP(B115,Data!AL:AU,8)","v":637.215515999996},{"$f":"F115-G115","v":4024.7970840000012}]
[null,"2012-04-29",{"$f":"VLOOKUP(B116,Data!AL:AU,2)","v":0.13678746701401201},{"$f":"VLOOKUP(B116,Data!AL:AU,3)","v":0.13673498126094563},{"$f":"VLOOKUP(B116,Data!AL:AU,4)","v":0.10307045159479045},{"$f":"VLOOKUP(B116,Data!AL:AU,5)","v":4662.0174999999954},{"$f":"VLOOKUP(B116,Data!AL:AU,8)","v":637.70556499999611},{"$f":"F116-G116","v":4024.3119349999993}]
[null,"2012-05-06",{"$f":"VLOOKUP(B117,Data!AL:AU,2)","v":0.13689243835464993},{"$f":"VLOOKUP(B117,Data!AL:AU,3)","v":0.13683995271191338},{"$f":"VLOOKUP(B117,Data!AL:AU,4)","v":0.12153500887990416},{"$f":"VLOOKUP(B117,Data!AL:AU,5)","v":4662.0223999999944},{"$f":"VLOOKUP(B117,Data!AL:AU,8)","v":638.19561399999634},{"$f":"F117-G117","v":4023.8267859999978}]
[null,"2012-05-13",{"$f":"VLOOKUP(B118,Data!AL:AU,2)","v":0.13699740947462868},{"$f":"VLOOKUP(B118,Data!AL:AU,3)","v":0.1369449239422216},{"$f":"VLOOKUP(B118,Data!AL:AU,4)","v":0.13683995271191343},{"$f":"VLOOKUP(B118,Data!AL:AU,5)","v":4662.0272999999925},{"$f":"VLOOKUP(B118,Data!AL:AU,8)","v":638.68566299999657},{"$f":"F118-G118","v":4023.3416369999959}]
[null,"2012-05-20",{"$f":"VLOOKUP(B119,Data!AL:AU,2)","v":0.1371023803739489},{"$f":"VLOOKUP(B119,Data!AL:AU,3)","v":0.13704989495187106},{"$f":"VLOOKUP(B119,Data!AL:AU,4)","v":0.13694492394222163},{"$f":"VLOOKUP(B119,Data!AL:AU,5)","v":4662.0321999999924},{"$f":"VLOOKUP(B119,Data!AL:AU,8)","v":639.17571199999679},{"$f":"F119-G119","v":4022.8564879999958}]
[null,"2012-05-27",{"$f":"VLOOKUP(B120,Data!AL:AU,2)","v":0.11082199079624037},{"$f":"VLOOKUP(B120,Data!AL:AU,3)","v":0.12256432489598684},{"$f":"VLOOKUP(B120,Data!AL:AU,4)","v":0.12935067923812227},{"$f":"VLOOKUP(B120,Data!AL:AU,5)","v":5772.0110999999979},{"$f":"VLOOKUP(B120,Data!AL:AU,8)","v":639.66576099999702},{"$f":"F120-G120","v":5132.3453390000013}]
[null,"2012-06-03",{"$f":"VLOOKUP(B121,Data!AL:AU,2)","v":0.10298507613957063},{"$f":"VLOOKUP(B121,Data!AL:AU,3)","v":0.10675840741863452},{"$f":"VLOOKUP(B121,Data!AL:AU,4)","v":0.12001097039996457},{"$f":"VLOOKUP(B121,Data!AL:AU,5)","v":6216.0055999999986},{"$f":"VLOOKUP(B121,Data!AL:AU,8)","v":640.15580999999725},{"$f":"F121-G121","v":5575.8497900000011}]
[null,"2012-06-10",{"$f":"VLOOKUP(B122,Data!AL:AU,2)","v":0.10306383153632025},{"$f":"VLOOKUP(B122,Data!AL:AU,3)","v":0.10302445385346587},{"$f":"VLOOKUP(B122,Data!AL:AU,4)","v":0.11194071952773767},{"$f":"VLOOKUP(B122,Data!AL:AU,5)","v":6216.0104999999967},{"$f":"VLOOKUP(B122,Data!AL:AU,8)","v":640.64585899999747},{"$f":"F122-G122","v":5575.3646409999992}]
[null,"2012-06-17",{"$f":"VLOOKUP(B123,Data!AL:AU,2)","v":0.10314258680890624},{"$f":"VLOOKUP(B123,Data!AL:AU,3)","v":0.10310320918813368},{"$f":"VLOOKUP(B123,Data!AL:AU,4)","v":0.10489757859799927},{"$f":"VLOOKUP(B123,Data!AL:AU,5)","v":6216.0153999999966},{"$f":"VLOOKUP(B123,Data!AL:AU,8)","v":641.1359079999977},{"$f":"F123-G123","v":5574.8794919999991}]
[null,"2012-06-24",{"$f":"VLOOKUP(B124,Data!AL:AU,2)","v":0.11796758765730168},{"$f":"VLOOKUP(B124,Data!AL:AU,3)","v":0.11006091282145186},{"$f":"VLOOKUP(B124,Data!AL:AU,4)","v":0.10642919242658386},{"$f":"VLOOKUP(B124,Data!AL:AU,5)","v":5439.0020999999997},{"$f":"VLOOKUP(B124,Data!AL:AU,8)","v":641.62595699999792},{"$f":"F124-G124","v":4797.3761430000013}]
[null,"2012-07-01",{"$f":"VLOOKUP(B125,Data!AL:AU,2)","v":0.11805758036347412},{"$f":"VLOOKUP(B125,Data!AL:AU,3)","v":0.11801258403065648},{"$f":"VLOOKUP(B125,Data!AL:AU,4)","v":0.1100609128214519},{"$f":"VLOOKUP(B125,Data!AL:AU,5)","v":5439.0069999999987},{"$f":"VLOOKUP(B125,Data!AL:AU,8)","v":642.11600599999815},{"$f":"F125-G125","v":4796.8909940000003}]
[null,"2012-07-08",{"$f":"VLOOKUP(B126,Data!AL:AU,2)","v":0.11814757290749789},{"$f":"VLOOKUP(B126,Data!AL:AU,3)","v":0.11810257665575455},{"$f":"VLOOKUP(B126,Data!AL:AU,4)","v":0.11394309583594302},{"$f":"VLOOKUP(B126,Data!AL:AU,5)","v":5439.0118999999977},{"$f":"VLOOKUP(B126,Data!AL:AU,8)","v":642.60605499999838},{"$f":"F126-G126","v":4796.4058449999993}]
[null,"2012-07-15",{"$f":"VLOOKUP(B127,Data!AL:AU,2)","v":0.11823756528937346},{"$f":"VLOOKUP(B127,Data!AL:AU,3)","v":0.11819256911870415},{"$f":"VLOOKUP(B127,Data!AL:AU,4)","v":0.11810257665575458},{"$f":"VLOOKUP(B127,Data!AL:AU,5)","v":5439.0167999999958},{"$f":"VLOOKUP(B127,Data!AL:AU,8)","v":643.0961039999986},{"$f":"F127-G127","v":4795.9206959999974}]
[null,"2012-07-22",{"$f":"VLOOKUP(B128,Data!AL:AU,2)","v":0.11832755750910122},{"$f":"VLOOKUP(B128,Data!AL:AU,3)","v":0.11828256141950576},{"$f":"VLOOKUP(B128,Data!AL:AU,4)","v":0.11819256911870415},{"$f":"VLOOKUP(B128,Data!AL:AU,5)","v":5439.0216999999939},{"$f":"VLOOKUP(B128,Data!AL:AU,8)","v":643.58615299999872},{"$f":"F128-G128","v":4795.4355469999955}]
[null,"2012-07-29",{"$f":"VLOOKUP(B129,Data!AL:AU,2)","v":0.1184175495666816},{"$f":"VLOOKUP(B129,Data!AL:AU,3)","v":0.1183725535581598},{"$f":"VLOOKUP(B129,Data!AL:AU,4)","v":0.11828256141950576},{"$f":"VLOOKUP(B129,Data!AL:AU,5)","v":5439.0265999999938},{"$f":"VLOOKUP(B129,Data!AL:AU,8)","v":644.07620199999894},{"$f":"F129-G129","v":4794.9503979999945}]
[null,"2012-08-05",{"$f":"VLOOKUP(B130,Data!AL:AU,2)","v":0.11850754146211509},{"$f":"VLOOKUP(B130,Data!AL:AU,3)","v":0.11846254553466669},{"$f":"VLOOKUP(B130,Data!AL:AU,4)","v":0.11837255355815977},{"$f":"VLOOKUP(B130,Data!AL:AU,5)","v":5439.0314999999928},{"$f":"VLOOKUP(B130,Data!AL:AU,8)","v":644.56625099999917},{"$f":"F130-G130","v":4794.4652489999935}]
[null,"2012-08-12",{"$f":"VLOOKUP(B131,Data!AL:AU,2)","v":0.11859753319540213},{"$f":"VLOOKUP(B131,Data!AL:AU,3)","v":0.11855253734902688},{"$f":"VLOOKUP(B131,Data!AL:AU,4)","v":0.11846254553466669},{"$f":"VLOOKUP(B131,Data!AL:AU,5)","v":5439.0363999999909},{"$f":"VLOOKUP(B131,Data!AL:AU,8)","v":645.0562999999994},{"$f":"F131-G131","v":4793.9800999999916}]
[null,"2012-08-19",{"$f":"VLOOKUP(B132,Data!AL:AU,2)","v":0.11868752476654311},{"$f":"VLOOKUP(B132,Data!AL:AU,3)","v":0.11864252900124081},{"$f":"VLOOKUP(B132,Data!AL:AU,4)","v":0.11855253734902689},{"$f":"VLOOKUP(B132,Data!AL:AU,5)","v":5439.0412999999899},{"$f":"VLOOKUP(B132,Data!AL:AU,8)","v":645.54634899999962},{"$f":"F132-G132","v":4793.4949509999906}]
[null,"2012-08-26",{"$f":"VLOOKUP(B133,Data!AL:AU,2)","v":0.11877751617553849},{"$f":"VLOOKUP(B133,Data!AL:AU,3)","v":0.11873252049130896},{"$f":"VLOOKUP(B133,Data!AL:AU,4)","v":0.11864252900124084},{"$f":"VLOOKUP(B133,Data!AL:AU,5)","v":5439.0461999999889},{"$f":"VLOOKUP(B133,Data!AL:AU,8)","v":646.03639799999985},{"$f":"F133-G133","v":4793.0098019999887}]
[null,"2012-09-02",{"$f":"VLOOKUP(B134,Data!AL:AU,2)","v":9.245334661060664E-2},{"$f":"VLOOKUP(B134,Data!AL:AU,3)","v":0.10397022387694559},{"$f":"VLOOKUP(B134,Data!AL:AU,4)","v":0.11081731149801603},{"$f":"VLOOKUP(B134,Data!AL:AU,5)","v":6993.0020999999997},{"$f":"VLOOKUP(B134,Data!AL:AU,8)","v":646.52644700000008},{"$f":"F134-G134","v":6346.4756529999995}]
[null,"2012-09-09",{"$f":"VLOOKUP(B135,Data!AL:AU,2)","v":9.2523358835476702E-2},{"$f":"VLOOKUP(B135,Data!AL:AU,3)","v":9.2488352735306048E-2},{"$f":"VLOOKUP(B135,Data!AL:AU,4)","v":0.1039702238769456},{"$f":"VLOOKUP(B135,Data!AL:AU,5)","v":6993.0069999999987},{"$f":"VLOOKUP(B135,Data!AL:AU,8)","v":647.0164960000003},{"$f":"F135-G135","v":6345.9905039999985}]
[null,"2012-09-16",{"$f":"VLOOKUP(B136,Data!AL:AU,2)","v":9.2593370962231719E-2},{"$f":"VLOOKUP(B136,Data!AL:AU,3)","v":9.255836491111856E-2},{"$f":"VLOOKUP(B136,Data!AL:AU,4)","v":9.7928658687036804E-2},{"$f":"VLOOKUP(B136,Data!AL:AU,5)","v":6993.0118999999968},{"$f":"VLOOKUP(B136,Data!AL:AU,8)","v":647.50654500000053},{"$f":"F136-G136","v":6345.5053549999966}]
[null,"2012-09-23",{"$f":"VLOOKUP(B137,Data!AL:AU,2)","v":9.2663382990871859E-2},{"$f":"VLOOKUP(B137,Data!AL:AU,3)","v":9.2628376988816111E-2},{"$f":"VLOOKUP(B137,Data!AL:AU,4)","v":9.255836491111856E-2},{"$f":"VLOOKUP(B137,Data!AL:AU,5)","v":6993.0167999999958},{"$f":"VLOOKUP(B137,Data!AL:AU,8)","v":647.99659400000075},{"$f":"F137-G137","v":6345.0202059999947}]
[null,"2012-09-30",{"$f":"VLOOKUP(B138,Data!AL:AU,2)","v":9.2733394921397358E-2},{"$f":"VLOOKUP(B138,Data!AL:AU,3)","v":9.2698388968398909E-2},{"$f":"VLOOKUP(B138,Data!AL:AU,4)","v":9.2628376988816111E-2},{"$f":"VLOOKUP(B138,Data!AL:AU,5)","v":6993.0216999999939},{"$f":"VLOOKUP(B138,Data!AL:AU,8)","v":648.48664300000098},{"$f":"F138-G138","v":6344.5350569999928}]
[null,"2012-10-07",{"$f":"VLOOKUP(B139,Data!AL:AU,2)","v":9.2803406753808382E-2},{"$f":"VLOOKUP(B139,Data!AL:AU,3)","v":9.2768400849867164E-2},{"$f":"VLOOKUP(B139,Data!AL:AU,4)","v":9.2698388968398895E-2},{"$f":"VLOOKUP(B139,Data!AL:AU,5)","v":6993.0265999999938},{"$f":"VLOOKUP(B139,Data!AL:AU,8)","v":648.97669200000109},{"$f":"F139-G139","v":6344.0499079999927}]
[null,"2012-10-14",{"$f":"VLOOKUP(B140,Data!AL:AU,2)","v":7.9235556281992872E-2},{"$f":"VLOOKUP(B140,Data!AL:AU,3)","v":8.6019479141159927E-2},{"$f":"VLOOKUP(B140,Data!AL:AU,4)","v":8.9358931714829101E-2},{"$f":"VLOOKUP(B140,Data!AL:AU,5)","v":6993.0314999999928},{"$f":"VLOOKUP(B140,Data!AL:AU,8)","v":554.09674099999847},{"$f":"F140-G140","v":6438.9347589999943}]
[null,"2012-10-21",{"$f":"VLOOKUP(B141,Data!AL:AU,2)","v":5.2361413605364053E-2},{"$f":"VLOOKUP(B141,Data!AL:AU,3)","v":6.4761202502309823E-2},{"$f":"VLOOKUP(B141,Data!AL:AU,4)","v":7.8202586405374044E-2},{"$f":"VLOOKUP(B141,Data!AL:AU,5)","v":8163.0108999999966},{"$f":"VLOOKUP(B141,Data!AL:AU,8)","v":427.42678999999487},{"$f":"F141-G141","v":7735.5841100000016}]
[null,"2012-10-28",{"$f":"VLOOKUP(B142,Data!AL:AU,2)","v":4.9579024604038582E-2},{"$f":"VLOOKUP(B142,Data!AL:AU,3)","v":5.0931451031978547E-2},{"$f":"VLOOKUP(B142,Data!AL:AU,4)","v":6.6874986131449821E-2},{"$f":"VLOOKUP(B142,Data!AL:AU,5)","v":8631.0055999999986},{"$f":"VLOOKUP(B142,Data!AL:AU,8)","v":427.9168389999947},{"$f":"F142-G142","v":8203.0887610000045}]
[null,"2012-11-04",{"$f":"VLOOKUP(B143,Data!AL:AU,2)","v":6.1499145033509901E-2},{"$f":"VLOOKUP(B143,Data!AL:AU,3)","v":5.4902865173743098E-2},{"$f":"VLOOKUP(B143,Data!AL:AU,4)","v":5.9761345376754108E-2},{"$f":"VLOOKUP(B143,Data!AL:AU,5)","v":6966.0624999999991},{"$f":"VLOOKUP(B143,Data!AL:AU,8)","v":428.40688799999452},{"$f":"F143-G143","v":6537.6556120000041}]
[null,"2012-11-11",{"$f":"VLOOKUP(B144,Data!AL:AU,2)","v":6.8073584276777593E-2},{"$f":"VLOOKUP(B144,Data!AL:AU,3)","v":6.4621447433309359E-2},{"$f":"VLOOKUP(B144,Data!AL:AU,4)","v":5.6973221431702741E-2},{"$f":"VLOOKUP(B144,Data!AL:AU,5)","v":6300.49},{"$f":"VLOOKUP(B144,Data!AL:AU,8)","v":428.89693699999447},{"$f":"F144-G144","v":5871.5930630000057}]
[null,"2012-11-18",{"$f":"VLOOKUP(B145,Data!AL:AU,2)","v":6.8146063945607557E-2},{"$f":"VLOOKUP(B145,Data!AL:AU,3)","v":6.8109825520355091E-2},{"$f":"VLOOKUP(B145,Data!AL:AU,4)","v":6.0804841865187975E-2},{"$f":"VLOOKUP(B145,Data!AL:AU,5)","v":6300.98},{"$f":"VLOOKUP(B145,Data!AL:AU,8)","v":429.38698599999429},{"$f":"F145-G145","v":5871.5930140000055}]
[null,"2012-11-25",{"$f":"VLOOKUP(B146,Data!AL:AU,2)","v":6.8218532342452509E-2},{"$f":"VLOOKUP(B146,Data!AL:AU,3)","v":6.8182299552863812E-2},{"$f":"VLOOKUP(B146,Data!AL:AU,4)","v":6.6356166844855249E-2},{"$f":"VLOOKUP(B146,Data!AL:AU,5)","v":6301.4699999999993},{"$f":"VLOOKUP(B146,Data!AL:AU,8)","v":429.87703499999418},{"$f":"F146-G146","v":5871.5929650000053}]
[null,"2012-12-02",{"$f":"VLOOKUP(B147,Data!AL:AU,2)","v":6.8290989469941762E-2},{"$f":"VLOOKUP(B147,Data!AL:AU,3)","v":6.8254762314702302E-2},{"$f":"VLOOKUP(B147,Data!AL:AU,4)","v":6.8182299552863826E-2},{"$f":"VLOOKUP(B147,Data!AL:AU,5)","v":6301.9599999999973},{"$f":"VLOOKUP(B147,Data!AL:AU,8)","v":430.36708399999401},{"$f":"F147-G147","v":5871.5929160000032}]
[null,"2012-12-09",{"$f":"VLOOKUP(B148,Data!AL:AU,2)","v":6.8363435330703784E-2},{"$f":"VLOOKUP(B148,Data!AL:AU,3)","v":6.8327213808499432E-2},{"$f":"VLOOKUP(B148,Data!AL:AU,4)","v":6.8254762314702289E-2},{"$f":"VLOOKUP(B148,Data!AL:AU,5)","v":6302.4499999999971},{"$f":"VLOOKUP(B148,Data!AL:AU,8)","v":430.85713299999389},{"$f":"F148-G148","v":5871.592867000003}]
[null,"2012-12-16",{"$f":"VLOOKUP(B149,Data!AL:AU,2)","v":6.8435869927366264E-2},{"$f":"VLOOKUP(B149,Data!AL:AU,3)","v":6.8399654036883278E-2},{"$f":"VLOOKUP(B149,Data!AL:AU,4)","v":6.8327213808499404E-2},{"$f":"VLOOKUP(B149,Data!AL:AU,5)","v":6302.9399999999978},{"$f":"VLOOKUP(B149,Data!AL:AU,8)","v":431.34718199999372},{"$f":"F149-G149","v":5871.5928180000037}]
[null,"2012-12-23",{"$f":"VLOOKUP(B150,Data!AL:AU,2)","v":7.7156089320394167E-2},{"$f":"VLOOKUP(B150,Data!AL:AU,3)","v":7.2537297718377386E-2},{"$f":"VLOOKUP(B150,Data!AL:AU,4)","v":7.0371732203516127E-2},{"$f":"VLOOKUP(B150,Data!AL:AU,5)","v":5596.9299999999985},{"$f":"VLOOKUP(B150,Data!AL:AU,8)","v":431.83723099999361},{"$f":"F150-G150","v":5165.0927690000044}]
[null,"2012-12-30",{"$f":"VLOOKUP(B151,Data!AL:AU,2)","v":9.286536553092814E-2},{"$f":"VLOOKUP(B151,Data!AL:AU,3)","v":8.4289407891847939E-2},{"$f":"VLOOKUP(B151,Data!AL:AU,4)","v":7.5526663003427946E-2},{"$f":"VLOOKUP(B151,Data!AL:AU,5)","v":4655.42},{"$f":"VLOOKUP(B151,Data!AL:AU,8)","v":432.32727999999349},{"$f":"F151-G151","v":4223.0927200000069}]
[null,"2013-01-06",{"$f":"VLOOKUP(B152,Data!AL:AU,2)","v":9.2960845248295926E-2},{"$f":"VLOOKUP(B152,Data!AL:AU,3)","v":9.2913107901877276E-2},{"$f":"VLOOKUP(B152,Data!AL:AU,4)","v":8.1481906822809397E-2},{"$f":"VLOOKUP(B152,Data!AL:AU,5)","v":4655.9099999999989},{"$f":"VLOOKUP(B152,Data!AL:AU,8)","v":432.81732899999338},{"$f":"F152-G152","v":4223.0926710000058}]
[null,"2013-01-13",{"$f":"VLOOKUP(B153,Data!AL:AU,2)","v":9.3056304870714146E-2},{"$f":"VLOOKUP(B153,Data!AL:AU,3)","v":9.3008577570977205E-2},{"$f":"VLOOKUP(B153,Data!AL:AU,4)","v":8.8439524019327379E-2},{"$f":"VLOOKUP(B153,Data!AL:AU,5)","v":4656.3999999999987},{"$f":"VLOOKUP(B153,Data!AL:AU,8)","v":433.30737799999321},{"$f":"F153-G153","v":4223.0926220000056}]
[null,"2013-01-20",{"$f":"VLOOKUP(B154,Data!AL:AU,2)","v":9.315174440452606E-2},{"$f":"VLOOKUP(B154,Data!AL:AU,3)","v":9.3104027148299559E-2},{"$f":"VLOOKUP(B154,Data!AL:AU,4)","v":9.3008577570977219E-2},{"$f":"VLOOKUP(B154,Data!AL:AU,5)","v":4656.8899999999976},{"$f":"VLOOKUP(B154,Data!AL:AU,8)","v":433.79742699999315},{"$f":"F154-G154","v":4223.0925730000044}]
[null,"2013-01-27",{"$f":"VLOOKUP(B155,Data!AL:AU,2)","v":9.324716385607211E-2},{"$f":"VLOOKUP(B155,Data!AL:AU,3)","v":9.3199456640186126E-2},{"$f":"VLOOKUP(B155,Data!AL:AU,4)","v":9.3104027148299545E-2},{"$f":"VLOOKUP(B155,Data!AL:AU,5)","v":4657.3799999999983},{"$f":"VLOOKUP(B155,Data!AL:AU,8)","v":434.28747599999298},{"$f":"F155-G155","v":4223.0925240000051}]
[null,"2013-02-03",{"$f":"VLOOKUP(B156,Data!AL:AU,2)","v":9.3342563231690254E-2},{"$f":"VLOOKUP(B156,Data!AL:AU,3)","v":9.3294866052976169E-2},{"$f":"VLOOKUP(B156,Data!AL:AU,4)","v":9.319945664018614E-2},{"$f":"VLOOKUP(B156,Data!AL:AU,5)","v":4657.8699999999972},{"$f":"VLOOKUP(B156,Data!AL:AU,8)","v":434.77752499999281},{"$f":"F156-G156","v":4223.092475000004}]
[null,"2013-02-10",{"$f":"VLOOKUP(B157,Data!AL:AU,2)","v":9.3437942537715632E-2},{"$f":"VLOOKUP(B157,Data!AL:AU,3)","v":9.3390255393006161E-2},{"$f":"VLOOKUP(B157,Data!AL:AU,4)","v":9.3294866052976183E-2},{"$f":"VLOOKUP(B157,Data!AL:AU,5)","v":4658.3599999999969},{"$f":"VLOOKUP(B157,Data!AL:AU,8)","v":435.26757399999269},{"$f":"F157-G157","v":4223.0924260000047}]
[null,"2013-02-17",{"$f":"VLOOKUP(B158,Data!AL:AU,2)","v":9.3533301780480763E-2},{"$f":"VLOOKUP(B158,Data!AL:AU,3)","v":9.3485624666610048E-2},{"$f":"VLOOKUP(B158,Data!AL:AU,4)","v":9.3390255393006202E-2},{"$f":"VLOOKUP(B158,Data!AL:AU,5)","v":4658.8499999999967},{"$f":"VLOOKUP(B158,Data!AL:AU,8)","v":435.75762299999252},{"$f":"F158-G158","v":4223.0923770000045}]
[null,"2013-02-24",{"$f":"VLOOKUP(B159,Data!AL:AU,2)","v":9.3628640966315554E-2},{"$f":"VLOOKUP(B159,Data!AL:AU,3)","v":9.3580973880118934E-2},{"$f":"VLOOKUP(B159,Data!AL:AU,4)","v":9.3485624666610034E-2},{"$f":"VLOOKUP(B159,Data!AL:AU,5)","v":4659.3399999999965},{"$f":"VLOOKUP(B159,Data!AL:AU,8)","v":436.24767199999241},{"$f":"F159-G159","v":4223.0923280000043}]
[null,"2013-03-03",{"$f":"VLOOKUP(B160,Data!AL:AU,2)","v":0.10844941434427982},{"$f":"VLOOKUP(B160,Data!AL:AU,3)","v":0.10049967397498234},{"$f":"VLOOKUP(B160,Data!AL:AU,4)","v":9.6869780366879335E-2},{"$f":"VLOOKUP(B160,Data!AL:AU,5)","v":4027.109999999996},{"$f":"VLOOKUP(B160,Data!AL:AU,8)","v":436.73772099999229},{"$f":"F160-G160","v":3590.3722790000038}]
[null,"2013-03-10",{"$f":"VLOOKUP(B161,Data!AL:AU,2)","v":1.8904694309927021},{"$f":"VLOOKUP(B161,Data!AL:AU,3)","v":0.20523378342518775},{"$f":"VLOOKUP(B161,Data!AL:AU,4)","v":0.12860166448398422},{"$f":"VLOOKUP(B161,Data!AL:AU,5)","v":231.27999999999997},{"$f":"VLOOKUP(B161,Data!AL:AU,8)","v":437.22776999999212},{"$f":"F161-G161","v":-205.94776999999215}]
[null,"2013-03-17",{"$f":"VLOOKUP(B162,Data!AL:AU,2)","v":1.8885870431893359},{"$f":"VLOOKUP(B162,Data!AL:AU,3)","v":1.8895272411186361},{"$f":"VLOOKUP(B162,Data!AL:AU,4)","v":0.19104114782228207},{"$f":"VLOOKUP(B162,Data!AL:AU,5)","v":231.76999999999981},{"$f":"VLOOKUP(B162,Data!AL:AU,8)","v":437.71781899999201},{"$f":"F162-G162","v":-205.94781899999219}]
[null,"2013-03-24",{"$f":"VLOOKUP(B163,Data!AL:AU,2)","v":1.8867125979505399},{"$f":"VLOOKUP(B163,Data!AL:AU,3)","v":1.8876488308945214},{"$f":"VLOOKUP(B163,Data!AL:AU,4)","v":0.37054967114317866},{"$f":"VLOOKUP(B163,Data!AL:AU,5)","v":232.25999999999974},{"$f":"VLOOKUP(B163,Data!AL:AU,8)","v":438.20786799999189},{"$f":"F163-G163","v":-205.94786799999216}]
[null,"2013-03-31",{"$f":"VLOOKUP(B164,Data!AL:AU,2)","v":1.8848460451127491},{"$f":"VLOOKUP(B164,Data!AL:AU,3)","v":1.8857783381002233},{"$f":"VLOOKUP(B164,Data!AL:AU,4)","v":1.8876488308945207},{"$f":"VLOOKUP(B164,Data!AL:AU,5)","v":232.74999999999966},{"$f":"VLOOKUP(B164,Data!AL:AU,8)","v":438.69791699999172},{"$f":"F164-G164","v":-205.94791699999206}]
[null,"2013-04-07",{"$f":"VLOOKUP(B165,Data!AL:AU,2)","v":1.8829873349339412},{"$f":"VLOOKUP(B165,Data!AL:AU,3)","v":1.883915712783504},{"$f":"VLOOKUP(B165,Data!AL:AU,4)","v":1.8857783381002231},{"$f":"VLOOKUP(B165,Data!AL:AU,5)","v":233.23999999999958},{"$f":"VLOOKUP(B165,Data!AL:AU,8)","v":439.18796599999166},{"$f":"F165-G165","v":-205.94796599999208}]
[null,"2013-04-14",{"$f":"VLOOKUP(B166,Data!AL:AU,2)","v":1.8811364180892163},{"$f":"VLOOKUP(B166,Data!AL:AU,3)","v":1.8820609054114499},{"$f":"VLOOKUP(B166,Data!AL:AU,4)","v":1.883915712783504},{"$f":"VLOOKUP(B166,Data!AL:AU,5)","v":233.72999999999945},{"$f":"VLOOKUP(B166,Data!AL:AU,8)","v":439.67801499999149},{"$f":"F166-G166","v":-205.94801499999204}]
[null,"2013-04-21",{"$f":"VLOOKUP(B167,Data!AL:AU,2)","v":0.2935902138388215},{"$f":"VLOOKUP(B167,Data!AL:AU,3)","v":0.50770407157570641},{"$f":"VLOOKUP(B167,Data!AL:AU,4)","v":0.79933967657730731},{"$f":"VLOOKUP(B167,Data!AL:AU,5)","v":1499.2599999999995},{"$f":"VLOOKUP(B167,Data!AL:AU,8)","v":440.16806399999138},{"$f":"F167-G167","v":1059.0919360000082}]
[null,"2013-04-28",{"$f":"VLOOKUP(B168,Data!AL:AU,2)","v":9.4514164101792281E-2},{"$f":"VLOOKUP(B168,Data!AL:AU,3)","v":0.14295389954897869},{"$f":"VLOOKUP(B168,Data!AL:AU,4)","v":0.26547045641750816},{"$f":"VLOOKUP(B168,Data!AL:AU,5)","v":4662.3499999999995},{"$f":"VLOOKUP(B168,Data!AL:AU,8)","v":440.6581129999912},{"$f":"F168-G168","v":4221.6918870000081}]
[null,"2013-05-05",{"$f":"VLOOKUP(B169,Data!AL:AU,2)","v":9.460932864949069E-2},{"$f":"VLOOKUP(B169,Data!AL:AU,3)","v":9.4561748875892332E-2},{"$f":"VLOOKUP(B169,Data!AL:AU,4)","v":0.15930762150733355},{"$f":"VLOOKUP(B169,Data!AL:AU,5)","v":4662.8399999999992},{"$f":"VLOOKUP(B169,Data!AL:AU,8)","v":441.14816199999109},{"$f":"F169-G169","v":4221.6918380000079}]
[null,"2013-05-12",{"$f":"VLOOKUP(B170,Data!AL:AU,2)","v":9.4704473198334901E-2},{"$f":"VLOOKUP(B170,Data!AL:AU,3)","v":9.4656903423375557E-2},{"$f":"VLOOKUP(B170,Data!AL:AU,4)","v":0.11387122944669699},{"$f":"VLOOKUP(B170,Data!AL:AU,5)","v":4663.3299999999981},{"$f":"VLOOKUP(B170,Data!AL:AU,8)","v":441.63821099999092},{"$f":"F170-G170","v":4221.6917890000068}]
[null,"2013-05-19",{"$f":"VLOOKUP(B171,Data!AL:AU,2)","v":9.4799597754628373E-2},{"$f":"VLOOKUP(B171,Data!AL:AU,3)","v":9.4752037975156619E-2},{"$f":"VLOOKUP(B171,Data!AL:AU,4)","v":9.465690342337553E-2},{"$f":"VLOOKUP(B171,Data!AL:AU,5)","v":4663.8199999999988},{"$f":"VLOOKUP(B171,Data!AL:AU,8)","v":442.1282599999908},{"$f":"F171-G171","v":4221.6917400000084}]
[null,"2013-05-26",{"$f":"VLOOKUP(B172,Data!AL:AU,2)","v":9.4894702324671995E-2},{"$f":"VLOOKUP(B172,Data!AL:AU,3)","v":9.4847152537537727E-2},{"$f":"VLOOKUP(B172,Data!AL:AU,4)","v":9.4752037975156633E-2},{"$f":"VLOOKUP(B172,Data!AL:AU,5)","v":4664.3099999999977},{"$f":"VLOOKUP(B172,Data!AL:AU,8)","v":442.61830899999063},{"$f":"F172-G172","v":4221.6916910000073}]
[null,"2013-06-02",{"$f":"VLOOKUP(B173,Data!AL:AU,2)","v":9.4989786914763924E-2},{"$f":"VLOOKUP(B173,Data!AL:AU,3)","v":9.4942247116818368E-2},{"$f":"VLOOKUP(B173,Data!AL:AU,4)","v":9.4847152537537741E-2},{"$f":"VLOOKUP(B173,Data!AL:AU,5)","v":4664.7999999999975},{"$f":"VLOOKUP(B173,Data!AL:AU,8)","v":443.10835799999052},{"$f":"F173-G173","v":4221.6916420000071}]
[null,"2013-06-09",{"$f":"VLOOKUP(B174,Data!AL:AU,2)","v":8.3248740661223772E-2},{"$f":"VLOOKUP(B174,Data!AL:AU,3)","v":8.8729326584870746E-2},{"$f":"VLOOKUP(B174,Data!AL:AU,4)","v":9.1682918010589393E-2},{"$f":"VLOOKUP(B174,Data!AL:AU,5)","v":5328.59},{"$f":"VLOOKUP(B174,Data!AL:AU,8)","v":443.5984069999904},{"$f":"F174-G174","v":4884.9915930000097}]
[null,"2013-06-16",{"$f":"VLOOKUP(B175,Data!AL:AU,2)","v":8.1639460036802169E-2},{"$f":"VLOOKUP(B175,Data!AL:AU,3)","v":8.2435803038940561E-2},{"$f":"VLOOKUP(B175,Data!AL:AU,4)","v":8.8241250454660511E-2},{"$f":"VLOOKUP(B175,Data!AL:AU,5)","v":5439.63},{"$f":"VLOOKUP(B175,Data!AL:AU,8)","v":444.08845599999023},{"$f":"F175-G175","v":4995.5415440000097}]
[null,"2013-06-23",{"$f":"VLOOKUP(B176,Data!AL:AU,2)","v":8.1722187194398346E-2},{"$f":"VLOOKUP(B176,Data!AL:AU,3)","v":8.1680825478524829E-2},{"$f":"VLOOKUP(B176,Data!AL:AU,4)","v":8.5055421752547142E-2},{"$f":"VLOOKUP(B176,Data!AL:AU,5)","v":5440.1199999999981},{"$f":"VLOOKUP(B176,Data!AL:AU,8)","v":444.57850499999017},{"$f":"F176-G176","v":4995.5414950000077}]
[null,"2013-06-30",{"$f":"VLOOKUP(B177,Data!AL:AU,2)","v":8.1804899450611257E-2},{"$f":"VLOOKUP(B177,Data!AL:AU,3)","v":8.1763545184926026E-2},{"$f":"VLOOKUP(B177,Data!AL:AU,4)","v":8.2097927243582738E-2},{"$f":"VLOOKUP(B177,Data!AL:AU,5)","v":5440.6099999999988},{"$f":"VLOOKUP(B177,Data!AL:AU,8)","v":445.06855399999},{"$f":"F177-G177","v":4995.5414460000084}]
[null,"2013-07-07",{"$f":"VLOOKUP(B178,Data!AL:AU,2)","v":8.1887596809466834E-2},{"$f":"VLOOKUP(B178,Data!AL:AU,3)","v":8.1846249991957165E-2},{"$f":"VLOOKUP(B178,Data!AL:AU,4)","v":8.176354518492604E-2},{"$f":"VLOOKUP(B178,Data!AL:AU,5)","v":5441.0999999999985},{"$f":"VLOOKUP(B178,Data!AL:AU,8)","v":445.55860299998989},{"$f":"F178-G178","v":4995.5413970000091}]
[null,"2013-07-14",{"$f":"VLOOKUP(B179,Data!AL:AU,2)","v":8.1970279274989455E-2},{"$f":"VLOOKUP(B179,Data!AL:AU,3)","v":8.1928939903643319E-2},{"$f":"VLOOKUP(B179,Data!AL:AU,4)","v":8.1846249991957165E-2},{"$f":"VLOOKUP(B179,Data!AL:AU,5)","v":5441.5899999999983},{"$f":"VLOOKUP(B179,Data!AL:AU,8)","v":446.04865199998972},{"$f":"F179-G179","v":4995.5413480000088}]
[null,"2013-07-21",{"$f":"VLOOKUP(B180,Data!AL:AU,2)","v":8.2052946851202097E-2},{"$f":"VLOOKUP(B180,Data!AL:AU,3)","v":8.2011614924008144E-2},{"$f":"VLOOKUP(B180,Data!AL:AU,4)","v":8.1928939903643305E-2},{"$f":"VLOOKUP(B180,Data!AL:AU,5)","v":5442.0799999999963},{"$f":"VLOOKUP(B180,Data!AL:AU,8)","v":446.5387009999896},{"$f":"F180-G180","v":4995.5412990000068}]
[null,"2013-07-28",{"$f":"VLOOKUP(B181,Data!AL:AU,2)","v":8.2135599542126195E-2},{"$f":"VLOOKUP(B181,Data!AL:AU,3)","v":8.2094275057073923E-2},{"$f":"VLOOKUP(B181,Data!AL:AU,4)","v":8.2011614924008158E-2},{"$f":"VLOOKUP(B181,Data!AL:AU,5)","v":5442.5699999999961},{"$f":"VLOOKUP(B181,Data!AL:AU,8)","v":447.02874999998943},{"$f":"F181-G181","v":4995.5412500000066}]
[null,"2013-08-04",{"$f":"VLOOKUP(B182,Data!AL:AU,2)","v":8.2218237351781825E-2},{"$f":"VLOOKUP(B182,Data!AL:AU,3)","v":8.217692030686137E-2},{"$f":"VLOOKUP(B182,Data!AL:AU,4)","v":8.2094275057073895E-2},{"$f":"VLOOKUP(B182,Data!AL:AU,5)","v":5443.0599999999968},{"$f":"VLOOKUP(B182,Data!AL:AU,8)","v":447.51879899998931},{"$f":"F182-G182","v":4995.5412010000073}]
[null,"2013-08-11",{"$f":"VLOOKUP(B183,Data!AL:AU,2)","v":8.2300860284187607E-2},{"$f":"VLOOKUP(B183,Data!AL:AU,3)","v":8.2259550677389853E-2},{"$f":"VLOOKUP(B183,Data!AL:AU,4)","v":8.217692030686137E-2},{"$f":"VLOOKUP(B183,Data!AL:AU,5)","v":5443.5499999999965},{"$f":"VLOOKUP(B183,Data!AL:AU,8)","v":448.00884799998914},{"$f":"F183-G183","v":4995.5411520000071}]
[null,"2013-08-18",{"$f":"VLOOKUP(B184,Data!AL:AU,2)","v":5.6491469331186261E-2},{"$f":"VLOOKUP(B184,Data!AL:AU,3)","v":6.9529405132219918E-2},{"$f":"VLOOKUP(B184,Data!AL:AU,4)","v":7.5885214346023605E-2},{"$f":"VLOOKUP(B184,Data!AL:AU,5)","v":5332.2899999999954},{"$f":"VLOOKUP(B184,Data!AL:AU,8)","v":301.22889699999092},{"$f":"F184-G184","v":5031.0611030000046}]
[null,"2013-08-25",{"$f":"VLOOKUP(B185,Data!AL:AU,2)","v":3.7108227305093923E-2},{"$f":"VLOOKUP(B185,Data!AL:AU,3)","v":4.7449549405325545E-2},{"$f":"VLOOKUP(B185,Data!AL:AU,4)","v":6.5598088326424234E-2},{"$f":"VLOOKUP(B185,Data!AL:AU,5)","v":4662.28},{"$f":"VLOOKUP(B185,Data!AL:AU,8)","v":173.0089459999933},{"$f":"F185-G185","v":4489.2710540000062}]
[null,"2013-09-01",{"$f":"VLOOKUP(B186,Data!AL:AU,2)","v":2.4021985858190154E-2},{"$f":"VLOOKUP(B186,Data!AL:AU,3)","v":3.0564762762664715E-2},{"$f":"VLOOKUP(B186,Data!AL:AU,4)","v":5.1453228488886171E-2},{"$f":"VLOOKUP(B186,Data!AL:AU,5)","v":4662.7699999999986},{"$f":"VLOOKUP(B186,Data!AL:AU,8)","v":112.00899499999328},{"$f":"F186-G186","v":4550.7610050000058}]
[null,"2013-09-08",{"$f":"VLOOKUP(B187,Data!AL:AU,2)","v":2.4019472214715294E-2},{"$f":"VLOOKUP(B187,Data!AL:AU,3)","v":2.4020728970417918E-2},{"$f":"VLOOKUP(B187,Data!AL:AU,4)","v":3.6140486423815558E-2},{"$f":"VLOOKUP(B187,Data!AL:AU,5)","v":4663.2599999999993},{"$f":"VLOOKUP(B187,Data!AL:AU,8)","v":112.00904399999322},{"$f":"F187-G187","v":4551.2509560000062}]
[null,"2013-09-15",{"$f":"VLOOKUP(B188,Data!AL:AU,2)","v":2.4023391691234137E-2},{"$f":"VLOOKUP(B188,Data!AL:AU,3)","v":2.4021432055930728E-2},{"$f":"VLOOKUP(B188,Data!AL:AU,4)","v":2.7292753615416904E-2},{"$f":"VLOOKUP(B188,Data!AL:AU,5)","v":4663.7499999999982},{"$f":"VLOOKUP(B188,Data!AL:AU,8)","v":112.03909299999317},{"$f":"F188-G188","v":4551.7109070000051}]
[null,"2013-09-22",{"$f":"VLOOKUP(B189,Data!AL:AU,2)","v":0.18612660197588324},{"$f":"VLOOKUP(B189,Data!AL:AU,3)","v":0.10507925448033141},{"$f":"VLOOKUP(B189,Data!AL:AU,4)","v":6.4554250183069053E-2},{"$f":"VLOOKUP(B189,Data!AL:AU,5)","v":4664.239999999998},{"$f":"VLOOKUP(B189,Data!AL:AU,8)","v":868.13914199999329},{"$f":"F189-G189","v":3796.1008580000048}]
[null,"2013-09-29",{"$f":"VLOOKUP(B190,Data!AL:AU,2)","v":0.15168491874127629},{"$f":"VLOOKUP(B190,Data!AL:AU,3)","v":0.16890485584153314},{"$f":"VLOOKUP(B190,Data!AL:AU,4)","v":9.6470754685627561E-2},{"$f":"VLOOKUP(B190,Data!AL:AU,5)","v":4664.7299999999977},{"$f":"VLOOKUP(B190,Data!AL:AU,8)","v":707.56919099999345},{"$f":"F190-G190","v":3957.1608090000045}]
[null,"2013-10-06",{"$f":"VLOOKUP(B191,Data!AL:AU,2)","v":0.15177402994928299},{"$f":"VLOOKUP(B191,Data!AL:AU,3)","v":0.1517294766852971},{"$f":"VLOOKUP(B191,Data!AL:AU,4)","v":0.12840681586498692},{"$f":"VLOOKUP(B191,Data!AL:AU,5)","v":4665.2199999999975},{"$f":"VLOOKUP(B191,Data!AL:AU,8)","v":708.05923999999368},{"$f":"F191-G191","v":3957.1607600000038}]
[null,"2013-10-13",{"$f":"VLOOKUP(B192,Data!AL:AU,2)","v":0.151863122440099},{"$f":"VLOOKUP(B192,Data!AL:AU,3)","v":0.15181857853397124},{"$f":"VLOOKUP(B192,Data!AL:AU,4)","v":0.16036081983290235},{"$f":"VLOOKUP(B192,Data!AL:AU,5)","v":4665.7099999999964},{"$f":"VLOOKUP(B192,Data!AL:AU,8)","v":708.54928899999379},{"$f":"F192-G192","v":3957.1607110000027}]
[null,"2013-10-20",{"$f":"VLOOKUP(B193,Data!AL:AU,2)","v":0.15195219621962081},{"$f":"VLOOKUP(B193,Data!AL:AU,3)","v":0.15190766166840325},{"$f":"VLOOKUP(B193,Data!AL:AU,4)","v":0.15181857853397121},{"$f":"VLOOKUP(B193,Data!AL:AU,5)","v":4666.1999999999962},{"$f":"VLOOKUP(B193,Data!AL:AU,8)","v":709.03933799999402},{"$f":"F193-G193","v":3957.160662000002}]
[null,"2013-10-27",{"$f":"VLOOKUP(B194,Data!AL:AU,2)","v":0.15204125129374246},{"$f":"VLOOKUP(B194,Data!AL:AU,3)","v":0.15199672609448839},{"$f":"VLOOKUP(B194,Data!AL:AU,4)","v":0.15190766166840322},{"$f":"VLOOKUP(B194,Data!AL:AU,5)","v":4666.6899999999951},{"$f":"VLOOKUP(B194,Data!AL:AU,8)","v":709.52938699999424},{"$f":"F194-G194","v":3957.1606130000009}]
[null,"2013-11-03",{"$f":"VLOOKUP(B195,Data!AL:AU,2)","v":0.11219342185309931},{"$f":"VLOOKUP(B195,Data!AL:AU,3)","v":0.12910599542346488},{"$f":"VLOOKUP(B195,Data!AL:AU,4)","v":0.13957393148958946},{"$f":"VLOOKUP(B195,Data!AL:AU,5)","v":6328.5299999999988},{"$f":"VLOOKUP(B195,Data!AL:AU,8)","v":710.01943599999447},{"$f":"F195-G195","v":5618.5105640000047}]
[null,"2013-11-10",{"$f":"VLOOKUP(B196,Data!AL:AU,2)","v":0.1015948222364568},{"$f":"VLOOKUP(B196,Data!AL:AU,3)","v":0.10662958447210528},{"$f":"VLOOKUP(B196,Data!AL:AU,4)","v":0.12531892087302565},{"$f":"VLOOKUP(B196,Data!AL:AU,5)","v":6993.5599999999986},{"$f":"VLOOKUP(B196,Data!AL:AU,8)","v":710.5094849999947},{"$f":"F196-G196","v":6283.0505150000035}]
[null,"2013-11-17",{"$f":"VLOOKUP(B197,Data!AL:AU,2)","v":0.1016577711054389},{"$f":"VLOOKUP(B197,Data!AL:AU,3)","v":0.10162629777352886},{"$f":"VLOOKUP(B197,Data!AL:AU,4)","v":0.11372041686230021},{"$f":"VLOOKUP(B197,Data!AL:AU,5)","v":6994.0499999999993},{"$f":"VLOOKUP(B197,Data!AL:AU,8)","v":710.99953399999492},{"$f":"F197-G197","v":6283.0504660000042}]
[null,"2013-11-24",{"$f":"VLOOKUP(B198,Data!AL:AU,2)","v":0.10172071115469998},{"$f":"VLOOKUP(B198,Data!AL:AU,3)","v":0.10168924223241874},{"$f":"VLOOKUP(B198,Data!AL:AU,4)","v":0.10409913037683353},{"$f":"VLOOKUP(B198,Data!AL:AU,5)","v":6994.5399999999991},{"$f":"VLOOKUP(B198,Data!AL:AU,8)","v":711.48958299999515},{"$f":"F198-G198","v":6283.050417000004}]
[null,"2013-12-01",{"$f":"VLOOKUP(B199,Data!AL:AU,2)","v":0.10178364238609348},{"$f":"VLOOKUP(B199,Data!AL:AU,3)","v":0.10175217787251438},{"$f":"VLOOKUP(B199,Data!AL:AU,4)","v":0.10168924223241874},{"$f":"VLOOKUP(B199,Data!AL:AU,5)","v":6995.0299999999988},{"$f":"VLOOKUP(B199,Data!AL:AU,8)","v":711.97963199999538},{"$f":"F199-G199","v":6283.0503680000038}]
[null,"2013-12-08",{"$f":"VLOOKUP(B200,Data!AL:AU,2)","v":0.10184656480147236},{"$f":"VLOOKUP(B200,Data!AL:AU,3)","v":0.10181510469566896},{"$f":"VLOOKUP(B200,Data!AL:AU,4)","v":0.10175217787251437},{"$f":"VLOOKUP(B200,Data!AL:AU,5)","v":6995.5199999999968},{"$f":"VLOOKUP(B200,Data!AL:AU,8)","v":712.4696809999956},{"$f":"F200-G200","v":6283.0503190000009}]
[null,"2013-12-15",{"$f":"VLOOKUP(B201,Data!AL:AU,2)","v":0.10190947840268899},{"$f":"VLOOKUP(B201,Data!AL:AU,3)","v":0.10187802270373519},{"$f":"VLOOKUP(B201,Data!AL:AU,4)","v":0.10181510469566893},{"$f":"VLOOKUP(B201,Data!AL:AU,5)","v":6996.0099999999966},{"$f":"VLOOKUP(B201,Data!AL:AU,8)","v":712.95972999999583},{"$f":"F201-G201","v":6283.0502700000006}]
[null,"2013-12-22",{"$f":"VLOOKUP(B202,Data!AL:AU,2)","v":0.10197238319159527},{"$f":"VLOOKUP(B202,Data!AL:AU,3)","v":0.10194093189856519},{"$f":"VLOOKUP(B202,Data!AL:AU,4)","v":0.10187802270373517},{"$f":"VLOOKUP(B202,Data!AL:AU,5)","v":6996.4999999999973},{"$f":"VLOOKUP(B202,Data!AL:AU,8)","v":713.44977899999606},{"$f":"F202-G202","v":6283.0502210000013}]
[null,"2013-12-29",{"$f":"VLOOKUP(B203,Data!AL:AU,2)","v":0.10203527917004263},{"$f":"VLOOKUP(B203,Data!AL:AU,3)","v":0.10200383228201063},{"$f":"VLOOKUP(B203,Data!AL:AU,4)","v":0.10194093189856522},{"$f":"VLOOKUP(B203,Data!AL:AU,5)","v":6996.9899999999961},{"$f":"VLOOKUP(B203,Data!AL:AU,8)","v":713.93982799999617},{"$f":"F203-G203","v":6283.0501720000002}]
[null,"2014-01-05",{"$f":"VLOOKUP(B204,Data!AL:AU,2)","v":0.10209816633988192},{"$f":"VLOOKUP(B204,Data!AL:AU,3)","v":0.10206672385592261},{"$f":"VLOOKUP(B204,Data!AL:AU,4)","v":0.10200383228201063},{"$f":"VLOOKUP(B204,Data!AL:AU,5)","v":6997.479999999995},{"$f":"VLOOKUP(B204,Data!AL:AU,8)","v":714.4298769999964},{"$f":"F204-G204","v":6283.0501229999991}]
[null,"2014-01-12",{"$f":"VLOOKUP(B205,Data!AL:AU,2)","v":0.10216104470296344},{"$f":"VLOOKUP(B205,Data!AL:AU,3)","v":0.10212960662215177},{"$f":"VLOOKUP(B205,Data!AL:AU,4)","v":0.10206672385592262},{"$f":"VLOOKUP(B205,Data!AL:AU,5)","v":6997.9699999999957},{"$f":"VLOOKUP(B205,Data!AL:AU,8)","v":714.91992599999662},{"$f":"F205-G205","v":6283.0500739999989}]
[null,"2014-01-19",{"$f":"VLOOKUP(B206,Data!AL:AU,2)","v":0.10222391426113707},{"$f":"VLOOKUP(B206,Data!AL:AU,3)","v":0.10219248058254816},{"$f":"VLOOKUP(B206,Data!AL:AU,4)","v":0.10212960662215174},{"$f":"VLOOKUP(B206,Data!AL:AU,5)","v":6998.4599999999955},{"$f":"VLOOKUP(B206,Data!AL:AU,8)","v":715.40997499999685},{"$f":"F206-G206","v":6283.0500249999986}]
[null,"2014-01-26",{"$f":"VLOOKUP(B207,Data!AL:AU,2)","v":0.16270869544717353},{"$f":"VLOOKUP(B207,Data!AL:AU,3)","v":0.1324673635336818},{"$f":"VLOOKUP(B207,Data!AL:AU,4)","v":0.11729954717024221},{"$f":"VLOOKUP(B207,Data!AL:AU,5)","v":6998.9499999999953},{"$f":"VLOOKUP(B207,Data!AL:AU,8)","v":1138.7900239999944},{"$f":"F207-G207","v":5860.1599760000008}]
[null,"2014-02-02",{"$f":"VLOOKUP(B208,Data!AL:AU,2)","v":0.15107352488198958},{"$f":"VLOOKUP(B208,Data!AL:AU,3)","v":0.15689090652567819},{"$f":"VLOOKUP(B208,Data!AL:AU,4)","v":0.12954360835325904},{"$f":"VLOOKUP(B208,Data!AL:AU,5)","v":6999.4399999999932},{"$f":"VLOOKUP(B208,Data!AL:AU,8)","v":1057.430072999992},{"$f":"F208-G208","v":5942.009927000001}]
[null,"2014-02-09",{"$f":"VLOOKUP(B209,Data!AL:AU,2)","v":0.15113295732957224},{"$f":"VLOOKUP(B209,Data!AL:AU,3)","v":0.15110324214589554},{"$f":"VLOOKUP(B209,Data!AL:AU,4)","v":0.14178595517055811},{"$f":"VLOOKUP(B209,Data!AL:AU,5)","v":6999.929999999993},{"$f":"VLOOKUP(B209,Data!AL:AU,8)","v":1057.9201219999916},{"$f":"F209-G209","v":5942.0098780000017}]
[null,"2014-02-16",{"$f":"VLOOKUP(B210,Data!AL:AU,2)","v":0.15119238145711145},{"$f":"VLOOKUP(B210,Data!AL:AU,3)","v":0.15116267043323808},{"$f":"VLOOKUP(B210,Data!AL:AU,4)","v":0.15402658798217253},{"$f":"VLOOKUP(B210,Data!AL:AU,5)","v":7000.4199999999937},{"$f":"VLOOKUP(B210,Data!AL:AU,8)","v":1058.4101709999911},{"$f":"F210-G210","v":5942.0098290000024}]
[null,"2014-02-23",{"$f":"VLOOKUP(B211,Data!AL:AU,2)","v":0.15125179726635421},{"$f":"VLOOKUP(B211,Data!AL:AU,3)","v":0.15122209040141066},{"$f":"VLOOKUP(B211,Data!AL:AU,4)","v":0.15116267043323808},{"$f":"VLOOKUP(B211,Data!AL:AU,5)","v":7000.9099999999926},{"$f":"VLOOKUP(B211,Data!AL:AU,8)","v":1058.9002199999907},{"$f":"F211-G211","v":5942.0097800000021}]
[null,"2014-03-02",{"$f":"VLOOKUP(B212,Data!AL:AU,2)","v":0.15131120475904697},{"$f":"VLOOKUP(B212,Data!AL:AU,3)","v":0.1512815020521602},{"$f":"VLOOKUP(B212,Data!AL:AU,4)","v":0.15122209040141074},{"$f":"VLOOKUP(B212,Data!AL:AU,5)","v":7001.3999999999915},{"$f":"VLOOKUP(B212,Data!AL:AU,8)","v":1059.3902689999902},{"$f":"F212-G212","v":5942.009731000001}]
[null,"2014-03-09",{"$f":"VLOOKUP(B213,Data!AL:AU,2)","v":0.15137060393693569},{"$f":"VLOOKUP(B213,Data!AL:AU,3)","v":0.15134090538723274},{"$f":"VLOOKUP(B213,Data!AL:AU,4)","v":0.15128150205216018},{"$f":"VLOOKUP(B213,Data!AL:AU,5)","v":7001.8899999999921},{"$f":"VLOOKUP(B213,Data!AL:AU,8)","v":1059.8803179999895},{"$f":"F213-G213","v":5942.0096820000026}]
[null,"2014-03-16",{"$f":"VLOOKUP(B214,Data!AL:AU,2)","v":0.19891653994856043},{"$f":"VLOOKUP(B214,Data!AL:AU,3)","v":0.17192216130878762},{"$f":"VLOOKUP(B214,Data!AL:AU,4)","v":0.16094750105658018},{"$f":"VLOOKUP(B214,Data!AL:AU,5)","v":5330.7299999999977},{"$f":"VLOOKUP(B214,Data!AL:AU,8)","v":1060.3703669999891},{"$f":"F214-G214","v":4270.3596330000091}]
[null,"2014-03-23",{"$f":"VLOOKUP(B215,Data!AL:AU,2)","v":0.22752745616141964},{"$f":"VLOOKUP(B215,Data!AL:AU,3)","v":0.21226550845617193},{"$f":"VLOOKUP(B215,Data!AL:AU,4)","v":0.17671273864858919},{"$f":"VLOOKUP(B215,Data!AL:AU,5)","v":4662.5599999999995},{"$f":"VLOOKUP(B215,Data!AL:AU,8)","v":1060.8604159999886},{"$f":"F215-G215","v":3601.6995840000109}]
[null,"2014-03-30",{"$f":"VLOOKUP(B216,Data!AL:AU,2)","v":0.22760863919537391},{"$f":"VLOOKUP(B216,Data!AL:AU,3)","v":0.22756804981121631},{"$f":"VLOOKUP(B216,Data!AL:AU,4)","v":0.19588219194273762},{"$f":"VLOOKUP(B216,Data!AL:AU,5)","v":4663.0499999999993},{"$f":"VLOOKUP(B216,Data!AL:AU,8)","v":1061.3504649999882},{"$f":"F216-G216","v":3601.6995350000111}]
[null,"2014-04-06",{"$f":"VLOOKUP(B217,Data!AL:AU,2)","v":0.22768980516946094},{"$f":"VLOOKUP(B217,Data!AL:AU,3)","v":0.22764922431456472},{"$f":"VLOOKUP(B217,Data!AL:AU,4)","v":0.21969193193746311},{"$f":"VLOOKUP(B217,Data!AL:AU,5)","v":4663.5399999999991},{"$f":"VLOOKUP(B217,Data!AL:AU,8)","v":1061.8405139999877},{"$f":"F217-G217","v":3601.6994860000113}]
[null,"2014-04-13",{"$f":"VLOOKUP(B218,Data!AL:AU,2)","v":0.22777095408905768},{"$f":"VLOOKUP(B218,Data!AL:AU,3)","v":0.22773038176073462},{"$f":"VLOOKUP(B218,Data!AL:AU,4)","v":0.22764922431456469},{"$f":"VLOOKUP(B218,Data!AL:AU,5)","v":4664.0299999999979},{"$f":"VLOOKUP(B218,Data!AL:AU,8)","v":1062.3305629999873},{"$f":"F218-G218","v":3601.6994370000107}]
[null,"2014-04-20",{"$f":"VLOOKUP(B219,Data!AL:AU,2)","v":0.22785208595953868},{"$f":"VLOOKUP(B219,Data!AL:AU,3)","v":0.22781152215510181},{"$f":"VLOOKUP(B219,Data!AL:AU,4)","v":0.22773038176073462},{"$f":"VLOOKUP(B219,Data!AL:AU,5)","v":4664.5199999999977},{"$f":"VLOOKUP(B219,Data!AL:AU,8)","v":1062.8206119999868},{"$f":"F219-G219","v":3601.6993880000109}]
[null,"2014-04-27",{"$f":"VLOOKUP(B220,Data!AL:AU,2)","v":0.22793320078627638},{"$f":"VLOOKUP(B220,Data!AL:AU,3)","v":0.22789264550303973},{"$f":"VLOOKUP(B220,Data!AL:AU,4)","v":0.22781152215510175},{"$f":"VLOOKUP(B220,Data!AL:AU,5)","v":4665.0099999999966},{"$f":"VLOOKUP(B220,Data!AL:AU,8)","v":1063.3106609999863},{"$f":"F220-G220","v":3601.6993390000102}]
[null,"2014-05-04",{"$f":"VLOOKUP(B221,Data!AL:AU,2)","v":0.22801429857464076},{"$f":"VLOOKUP(B221,Data!AL:AU,3)","v":0.22797375180991969},{"$f":"VLOOKUP(B221,Data!AL:AU,4)","v":0.22789264550303978},{"$f":"VLOOKUP(B221,Data!AL:AU,5)","v":4665.4999999999973},{"$f":"VLOOKUP(B221,Data!AL:AU,8)","v":1063.8007099999859},{"$f":"F221-G221","v":3601.6992900000114}]
[null,"2014-05-11",{"$f":"VLOOKUP(B222,Data!AL:AU,2)","v":0.2280953793299999},{"$f":"VLOOKUP(B222,Data!AL:AU,3)","v":0.22805484108111063},{"$f":"VLOOKUP(B222,Data!AL:AU,4)","v":0.22797375180991969},{"$f":"VLOOKUP(B222,Data!AL:AU,5)","v":4665.9899999999961},{"$f":"VLOOKUP(B222,Data!AL:AU,8)","v":1064.2907589999854},{"$f":"F222-G222","v":3601.6992410000107}]
[null,"2014-05-18",{"$f":"VLOOKUP(B223,Data!AL:AU,2)","v":0.22817644305771925},{"$f":"VLOOKUP(B223,Data!AL:AU,3)","v":0.22813591332197927},{"$f":"VLOOKUP(B223,Data!AL:AU,4)","v":0.22805484108111068},{"$f":"VLOOKUP(B223,Data!AL:AU,5)","v":4666.4799999999959},{"$f":"VLOOKUP(B223,Data!AL:AU,8)","v":1064.7808079999847},{"$f":"F223-G223","v":3601.699192000011}]
[null,"2014-05-25",{"$f":"VLOOKUP(B224,Data!AL:AU,2)","v":0.22825748976316224},{"$f":"VLOOKUP(B224,Data!AL:AU,3)","v":0.22821696853789022},{"$f":"VLOOKUP(B224,Data!AL:AU,4)","v":0.22813591332197936},{"$f":"VLOOKUP(B224,Data!AL:AU,5)","v":4666.9699999999957},{"$f":"VLOOKUP(B224,Data!AL:AU,8)","v":1065.2708569999843},{"$f":"F224-G224","v":3601.6991430000116}]
[null,"2014-06-01",{"$f":"VLOOKUP(B225,Data!AL:AU,2)","v":0.22833851945168998},{"$f":"VLOOKUP(B225,Data!AL:AU,3)","v":0.22829800673420553},{"$f":"VLOOKUP(B225,Data!AL:AU,4)","v":0.22821696853789017},{"$f":"VLOOKUP(B225,Data!AL:AU,5)","v":4667.4599999999955},{"$f":"VLOOKUP(B225,Data!AL:AU,8)","v":1065.7609059999838},{"$f":"F225-G225","v":3601.6990940000114}]
[null,"2014-06-08",{"$f":"VLOOKUP(B226,Data!AL:AU,2)","v":0.22841953212866134},{"$f":"VLOOKUP(B226,Data!AL:AU,3)","v":0.22837902791628534},{"$f":"VLOOKUP(B226,Data!AL:AU,4)","v":0.2282980067342055},{"$f":"VLOOKUP(B226,Data!AL:AU,5)","v":4667.9499999999944},{"$f":"VLOOKUP(B226,Data!AL:AU,8)","v":1066.2509549999834},{"$f":"F226-G226","v":3601.6990450000112}]
[null,"2014-06-15",{"$f":"VLOOKUP(B227,Data!AL:AU,2)","v":0.22850052779943283},{"$f":"VLOOKUP(B227,Data!AL:AU,3)","v":0.22846003208948737},{"$f":"VLOOKUP(B227,Data!AL:AU,4)","v":0.22837902791628528},{"$f":"VLOOKUP(B227,Data!AL:AU,5)","v":4668.4399999999941},{"$f":"VLOOKUP(B227,Data!AL:AU,8)","v":1066.7410039999829},{"$f":"F227-G227","v":3601.698996000011}]
[null,"2014-06-22",{"$f":"VLOOKUP(B228,Data!AL:AU,2)","v":0.22858150646935896},{"$f":"VLOOKUP(B228,Data!AL:AU,3)","v":0.22854101925916703},{"$f":"VLOOKUP(B228,Data!AL:AU,4)","v":0.22846003208948731},{"$f":"VLOOKUP(B228,Data!AL:AU,5)","v":4668.929999999993},{"$f":"VLOOKUP(B228,Data!AL:AU,8)","v":1067.2310529999825},{"$f":"F228-G228","v":3601.6989470000108}]
[null,"2014-06-29",{"$f":"VLOOKUP(B229,Data!AL:AU,2)","v":0.22866246814379163},{"$f":"VLOOKUP(B229,Data!AL:AU,3)","v":0.22862198943067749},{"$f":"VLOOKUP(B229,Data!AL:AU,4)","v":0.22854101925916695},{"$f":"VLOOKUP(B229,Data!AL:AU,5)","v":4669.4199999999937},{"$f":"VLOOKUP(B229,Data!AL:AU,8)","v":1067.721101999982},{"$f":"F229-G229","v":3601.6988980000115}]
[null,"2014-07-06",{"$f":"VLOOKUP(B230,Data!AL:AU,2)","v":0.1963908639306042},{"$f":"VLOOKUP(B230,Data!AL:AU,3)","v":0.21129789625300019},{"$f":"VLOOKUP(B230,Data!AL:AU,4)","v":0.21957751259898864},{"$f":"VLOOKUP(B230,Data!AL:AU,5)","v":5439.2099999999991},{"$f":"VLOOKUP(B230,Data!AL:AU,8)","v":1068.2111509999816},{"$f":"F230-G230","v":4370.9988490000178}]
[null,"2014-07-13",{"$f":"VLOOKUP(B231,Data!AL:AU,2)","v":0.19646326084158702},{"$f":"VLOOKUP(B231,Data!AL:AU,3)","v":0.19642706401652033},{"$f":"VLOOKUP(B231,Data!AL:AU,4)","v":0.21129789625300019},{"$f":"VLOOKUP(B231,Data!AL:AU,5)","v":5439.7},{"$f":"VLOOKUP(B231,Data!AL:AU,8)","v":1068.7011999999809},{"$f":"F231-G231","v":4370.9988000000194}]
[null,"2014-07-20",{"$f":"VLOOKUP(B232,Data!AL:AU,2)","v":0.19653564471093482},{"$f":"VLOOKUP(B232,Data!AL:AU,3)","v":0.19649945440624508},{"$f":"VLOOKUP(B232,Data!AL:AU,4)","v":0.20362677797195455},{"$f":"VLOOKUP(B232,Data!AL:AU,5)","v":5440.19},{"$f":"VLOOKUP(B232,Data!AL:AU,8)","v":1069.1912489999804},{"$f":"F232-G232","v":4370.9987510000192}]
[null,"2014-07-27",{"$f":"VLOOKUP(B233,Data!AL:AU,2)","v":0.19660801554217128},{"$f":"VLOOKUP(B233,Data!AL:AU,3)","v":0.1965718317560968},{"$f":"VLOOKUP(B233,Data!AL:AU,4)","v":0.19649945440624508},{"$f":"VLOOKUP(B233,Data!AL:AU,5)","v":5440.6799999999976},{"$f":"VLOOKUP(B233,Data!AL:AU,8)","v":1069.68129799998},{"$f":"F233-G233","v":4370.9987020000171}]
[null,"2014-08-03",{"$f":"VLOOKUP(B234,Data!AL:AU,2)","v":0.19668037333881866},{"$f":"VLOOKUP(B234,Data!AL:AU,3)","v":0.19664419606959846},{"$f":"VLOOKUP(B234,Data!AL:AU,4)","v":0.1965718317560968},{"$f":"VLOOKUP(B234,Data!AL:AU,5)","v":5441.1699999999983},{"$f":"VLOOKUP(B234,Data!AL:AU,8)","v":1070.1713469999795},{"$f":"F234-G234","v":4370.9986530000187}]
[null,"2014-08-10",{"$f":"VLOOKUP(B235,Data!AL:AU,2)","v":0.19675271810439818},{"$f":"VLOOKUP(B235,Data!AL:AU,3)","v":0.19671654735027189},{"$f":"VLOOKUP(B235,Data!AL:AU,4)","v":0.19664419606959851},{"$f":"VLOOKUP(B235,Data!AL:AU,5)","v":5441.659999999998},{"$f":"VLOOKUP(B235,Data!AL:AU,8)","v":1070.661395999979},{"$f":"F235-G235","v":4370.9986040000185}]
[null,"2014-08-17",{"$f":"VLOOKUP(B236,Data!AL:AU,2)","v":7.8502328123993562E-2},{"$f":"VLOOKUP(B236,Data!AL:AU,3)","v":0.13762486123884662},{"$f":"VLOOKUP(B236,Data!AL:AU,4)","v":0.16713187130553039},{"$f":"VLOOKUP(B236,Data!AL:AU,5)","v":5442.1499999999978},{"$f":"VLOOKUP(B236,Data!AL:AU,8)","v":427.22144499999138},{"$f":"F236-G236","v":5014.9285550000068}]
[null,"2014-08-24",{"$f":"VLOOKUP(B237,Data!AL:AU,2)","v":7.858529941351837E-2},{"$f":"VLOOKUP(B237,Data!AL:AU,3)","v":7.8543815636312964E-2},{"$f":"VLOOKUP(B237,Data!AL:AU,4)","v":0.13762486123884662},{"$f":"VLOOKUP(B237,Data!AL:AU,5)","v":5442.6399999999958},{"$f":"VLOOKUP(B237,Data!AL:AU,8)","v":427.71149399999126},{"$f":"F237-G237","v":5014.9285060000047}]
[null,"2014-08-31",{"$f":"VLOOKUP(B238,Data!AL:AU,2)","v":7.8668255764604456E-2},{"$f":"VLOOKUP(B238,Data!AL:AU,3)","v":7.8626779456114085E-2},{"$f":"VLOOKUP(B238,Data!AL:AU,4)","v":0.10812316443403841},{"$f":"VLOOKUP(B238,Data!AL:AU,5)","v":5443.1299999999956},{"$f":"VLOOKUP(B238,Data!AL:AU,8)","v":428.20154299999109},{"$f":"F238-G238","v":5014.9284570000045}]
[null,"2014-09-07",{"$f":"VLOOKUP(B239,Data!AL:AU,2)","v":7.8751197181285842E-2},{"$f":"VLOOKUP(B239,Data!AL:AU,3)","v":7.8709728339493648E-2},{"$f":"VLOOKUP(B239,Data!AL:AU,4)","v":7.8626779456114085E-2},{"$f":"VLOOKUP(B239,Data!AL:AU,5)","v":5443.6199999999963},{"$f":"VLOOKUP(B239,Data!AL:AU,8)","v":428.69159199999098},{"$f":"F239-G239","v":5014.9284080000052}]
[null,"2014-09-14",{"$f":"VLOOKUP(B240,Data!AL:AU,2)","v":7.8834123667595096E-2},{"$f":"VLOOKUP(B240,Data!AL:AU,3)","v":7.8792662290485024E-2},{"$f":"VLOOKUP(B240,Data!AL:AU,4)","v":7.8709728339493662E-2},{"$f":"VLOOKUP(B240,Data!AL:AU,5)","v":5444.109999999996},{"$f":"VLOOKUP(B240,Data!AL:AU,8)","v":429.18164099999086},{"$f":"F240-G240","v":5014.928359000005}]
[null,"2014-09-21",{"$f":"VLOOKUP(B241,Data!AL:AU,2)","v":7.8917035227563298E-2},{"$f":"VLOOKUP(B241,Data!AL:AU,3)","v":7.8875581313119947E-2},{"$f":"VLOOKUP(B241,Data!AL:AU,4)","v":7.8792662290485024E-2},{"$f":"VLOOKUP(B241,Data!AL:AU,5)","v":5444.599999999994},{"$f":"VLOOKUP(B241,Data!AL:AU,8)","v":429.67168999999069},{"$f":"F241-G241","v":5014.928310000003}]
[null,"2014-09-28",{"$f":"VLOOKUP(B242,Data!AL:AU,2)","v":6.5665627962427531E-2},{"$f":"VLOOKUP(B242,Data!AL:AU,3)","v":7.1680322940728222E-2},{"$f":"VLOOKUP(B242,Data!AL:AU,4)","v":7.5064355822106604E-2},{"$f":"VLOOKUP(B242,Data!AL:AU,5)","v":6550.7899999999991},{"$f":"VLOOKUP(B242,Data!AL:AU,8)","v":430.16173899999058},{"$f":"F242-G242","v":6120.6282610000089}]
[null,"2014-10-05",{"$f":"VLOOKUP(B243,Data!AL:AU,2)","v":6.1578336069182296E-2},{"$f":"VLOOKUP(B243,Data!AL:AU,3)","v":6.3555174445431573E-2},{"$f":"VLOOKUP(B243,Data!AL:AU,4)","v":7.0382787010712669E-2},{"$f":"VLOOKUP(B243,Data!AL:AU,5)","v":6993.5599999999986},{"$f":"VLOOKUP(B243,Data!AL:AU,8)","v":430.65178799999046},{"$f":"F243-G243","v":6562.9082120000085}]
[null,"2014-10-12",{"$f":"VLOOKUP(B244,Data!AL:AU,2)","v":6.1644088475202544E-2},{"$f":"VLOOKUP(B244,Data!AL:AU,3)","v":6.161121342387877E-2},{"$f":"VLOOKUP(B244,Data!AL:AU,4)","v":6.6259748835775803E-2},{"$f":"VLOOKUP(B244,Data!AL:AU,5)","v":6994.0499999999993},{"$f":"VLOOKUP(B244,Data!AL:AU,8)","v":431.14183699999029},{"$f":"F244-G244","v":6562.9081630000092}]
[null,"2014-10-19",{"$f":"VLOOKUP(B245,Data!AL:AU,2)","v":6.1709831668700199E-2},{"$f":"VLOOKUP(B245,Data!AL:AU,3)","v":6.1676961223395707E-2},{"$f":"VLOOKUP(B245,Data!AL:AU,4)","v":6.2600915485231931E-2},{"$f":"VLOOKUP(B245,Data!AL:AU,5)","v":6994.5399999999991},{"$f":"VLOOKUP(B245,Data!AL:AU,8)","v":431.63188599999023},{"$f":"F245-G245","v":6562.9081140000089}]
[null,"2014-10-26",{"$f":"VLOOKUP(B246,Data!AL:AU,2)","v":6.1775565651611235E-2},{"$f":"VLOOKUP(B246,Data!AL:AU,3)","v":6.1742699811358062E-2},{"$f":"VLOOKUP(B246,Data!AL:AU,4)","v":6.1676961223395686E-2},{"$f":"VLOOKUP(B246,Data!AL:AU,5)","v":6995.0299999999988},{"$f":"VLOOKUP(B246,Data!AL:AU,8)","v":432.12193499999006},{"$f":"F246-G246","v":6562.9080650000087}]
[null,"2014-11-02",{"$f":"VLOOKUP(B247,Data!AL:AU,2)","v":6.1841290425871151E-2},{"$f":"VLOOKUP(B247,Data!AL:AU,3)","v":6.1808429189701641E-2},{"$f":"VLOOKUP(B247,Data!AL:AU,4)","v":6.1742699811358062E-2},{"$f":"VLOOKUP(B247,Data!AL:AU,5)","v":6995.5199999999968},{"$f":"VLOOKUP(B247,Data!AL:AU,8)","v":432.61198399998995},{"$f":"F247-G247","v":6562.9080160000067}]
[null,"2014-11-09",{"$f":"VLOOKUP(B248,Data!AL:AU,2)","v":6.1907005993414817E-2},{"$f":"VLOOKUP(B248,Data!AL:AU,3)","v":6.1874149360361584E-2},{"$f":"VLOOKUP(B248,Data!AL:AU,4)","v":6.1808429189701621E-2},{"$f":"VLOOKUP(B248,Data!AL:AU,5)","v":6996.0099999999966},{"$f":"VLOOKUP(B248,Data!AL:AU,8)","v":433.10203299998977},{"$f":"F248-G248","v":6562.9079670000065}]
[null,"2014-11-16",{"$f":"VLOOKUP(B249,Data!AL:AU,2)","v":6.1972712356176636E-2},{"$f":"VLOOKUP(B249,Data!AL:AU,3)","v":6.1939860325272572E-2},{"$f":"VLOOKUP(B249,Data!AL:AU,4)","v":6.1874149360361598E-2},{"$f":"VLOOKUP(B249,Data!AL:AU,5)","v":6996.4999999999973},{"$f":"VLOOKUP(B249,Data!AL:AU,8)","v":433.59208199998966},{"$f":"F249-G249","v":6562.9079180000081}]
[null,"2014-11-23",{"$f":"VLOOKUP(B250,Data!AL:AU,2)","v":6.2038409516090451E-2},{"$f":"VLOOKUP(B250,Data!AL:AU,3)","v":6.2005562086368704E-2},{"$f":"VLOOKUP(B250,Data!AL:AU,4)","v":6.1939860325272586E-2},{"$f":"VLOOKUP(B250,Data!AL:AU,5)","v":6996.9899999999961},{"$f":"VLOOKUP(B250,Data!AL:AU,8)","v":434.08213099998949},{"$f":"F250-G250","v":6562.9078690000069}]
[null,"2014-11-30",{"$f":"VLOOKUP(B251,Data!AL:AU,2)","v":6.2104097475089555E-2},{"$f":"VLOOKUP(B251,Data!AL:AU,3)","v":6.2071254645583523E-2},{"$f":"VLOOKUP(B251,Data!AL:AU,4)","v":6.2005562086368704E-2},{"$f":"VLOOKUP(B251,Data!AL:AU,5)","v":6997.479999999995},{"$f":"VLOOKUP(B251,Data!AL:AU,8)","v":434.57217999998937},{"$f":"F251-G251","v":6562.9078200000058}]
[null,"2014-12-07",{"$f":"VLOOKUP(B252,Data!AL:AU,2)","v":6.2169776235106673E-2},{"$f":"VLOOKUP(B252,Data!AL:AU,3)","v":6.2136938004850095E-2},{"$f":"VLOOKUP(B252,Data!AL:AU,4)","v":6.207125464558353E-2},{"$f":"VLOOKUP(B252,Data!AL:AU,5)","v":6997.9699999999957},{"$f":"VLOOKUP(B252,Data!AL:AU,8)","v":435.0622289999892},{"$f":"F252-G252","v":6562.9077710000065}]
[null,"2014-12-14",{"$f":"VLOOKUP(B253,Data!AL:AU,2)","v":5.6003666867679928E-2},{"$f":"VLOOKUP(B253,Data!AL:AU,3)","v":5.8924121871948676E-2},{"$f":"VLOOKUP(B253,Data!AL:AU,4)","v":6.0454987043636527E-2},{"$f":"VLOOKUP(B253,Data!AL:AU,5)","v":7777.2100000000009},{"$f":"VLOOKUP(B253,Data!AL:AU,8)","v":435.55227799998909},{"$f":"F253-G253","v":7341.6577220000117}]
[null,"2014-12-21",{"$f":"VLOOKUP(B254,Data!AL:AU,2)","v":5.6063145531453897E-2},{"$f":"VLOOKUP(B254,Data!AL:AU,3)","v":5.603340713639475E-2},{"$f":"VLOOKUP(B254,Data!AL:AU,4)","v":5.8924121871948683E-2},{"$f":"VLOOKUP(B254,Data!AL:AU,5)","v":7777.7},{"$f":"VLOOKUP(B254,Data!AL:AU,8)","v":436.04232699998897},{"$f":"F254-G254","v":7341.6576730000106}]
[null,"2014-12-28",{"$f":"VLOOKUP(B255,Data!AL:AU,2)","v":5.6122616701313403E-2},{"$f":"VLOOKUP(B255,Data!AL:AU,3)","v":5.6092882053034428E-2},{"$f":"VLOOKUP(B255,Data!AL:AU,4)","v":5.7472064454038602E-2},{"$f":"VLOOKUP(B255,Data!AL:AU,5)","v":7778.1899999999987},{"$f":"VLOOKUP(B255,Data!AL:AU,8)","v":436.5323759999888},{"$f":"F255-G255","v":7341.6576240000095}]
[null,"2015-01-04",{"$f":"VLOOKUP(B256,Data!AL:AU,2)","v":5.6182080378674643E-2},{"$f":"VLOOKUP(B256,Data!AL:AU,3)","v":5.6152349476467807E-2},{"$f":"VLOOKUP(B256,Data!AL:AU,4)","v":5.6092882053034435E-2},{"$f":"VLOOKUP(B256,Data!AL:AU,5)","v":7778.6799999999976},{"$f":"VLOOKUP(B256,Data!AL:AU,8)","v":437.02242499998874},{"$f":"F256-G256","v":7341.6575750000084}]
[null,"2015-01-11",{"$f":"VLOOKUP(B257,Data!AL:AU,2)","v":5.6241536564953419E-2},{"$f":"VLOOKUP(B257,Data!AL:AU,3)","v":5.6211809408110852E-2},{"$f":"VLOOKUP(B257,Data!AL:AU,4)","v":5.6152349476467793E-2},{"$f":"VLOOKUP(B257,Data!AL:AU,5)","v":7779.1699999999983},{"$f":"VLOOKUP(B257,Data!AL:AU,8)","v":437.51247399998857},{"$f":"F257-G257","v":7341.65752600001}]
[null,{"$f":"B257+7","v":"2015-01-18"},{"$f":"VLOOKUP(B258,Data!AL:AU,2)","v":5.6300985261565233E-2},{"$f":"VLOOKUP(B258,Data!AL:AU,3)","v":5.6271261849379257E-2},{"$f":"VLOOKUP(B258,Data!AL:AU,4)","v":5.6211809408110852E-2},{"$f":"VLOOKUP(B258,Data!AL:AU,5)","v":7779.659999999998},{"$f":"VLOOKUP(B258,Data!AL:AU,8)","v":438.00252299998846},{"$f":"F258-G258","v":7341.6574770000097}]
[null,"2015-01-25",{"$f":"VLOOKUP(B259,Data!AL:AU,2)","v":5.636042646992518E-2},{"$f":"VLOOKUP(B259,Data!AL:AU,3)","v":5.6330706801688266E-2},{"$f":"VLOOKUP(B259,Data!AL:AU,4)","v":5.6271261849379244E-2},{"$f":"VLOOKUP(B259,Data!AL:AU,5)","v":7780.1499999999978},{"$f":"VLOOKUP(B259,Data!AL:AU,8)","v":438.49257199998829},{"$f":"F259-G259","v":7341.6574280000095}]
[null,"2015-02-01",{"$f":"VLOOKUP(B260,Data!AL:AU,2)","v":9.0895173276233199E-2},{"$f":"VLOOKUP(B260,Data!AL:AU,3)","v":7.3628343612373082E-2},{"$f":"VLOOKUP(B260,Data!AL:AU,4)","v":6.4950349329457008E-2},{"$f":"VLOOKUP(B260,Data!AL:AU,5)","v":7780.6399999999958},{"$f":"VLOOKUP(B260,Data!AL:AU,8)","v":707.22262099999068},{"$f":"F260-G260","v":7073.417379000005}]
[null,"2015-02-08",{"$f":"VLOOKUP(B261,Data!AL:AU,2)","v":9.0952428503313934E-2},{"$f":"VLOOKUP(B261,Data!AL:AU,3)","v":9.0923801791183284E-2},{"$f":"VLOOKUP(B261,Data!AL:AU,4)","v":7.3628343612373137E-2},{"$f":"VLOOKUP(B261,Data!AL:AU,5)","v":7781.1299999999974},{"$f":"VLOOKUP(B261,Data!AL:AU,8)","v":707.71266999999091},{"$f":"F261-G261","v":7073.4173300000066}]
[null,"2015-02-15",{"$f":"VLOOKUP(B262,Data!AL:AU,2)","v":9.1009676519798119E-2},{"$f":"VLOOKUP(B262,Data!AL:AU,3)","v":9.0981053412795471E-2},{"$f":"VLOOKUP(B262,Data!AL:AU,4)","v":8.2305244904659361E-2},{"$f":"VLOOKUP(B262,Data!AL:AU,5)","v":7781.6199999999963},{"$f":"VLOOKUP(B262,Data!AL:AU,8)","v":708.20271899999113},{"$f":"F262-G262","v":7073.4172810000055}]
[null,"2015-02-22",{"$f":"VLOOKUP(B263,Data!AL:AU,2)","v":8.4433421536400322E-2},{"$f":"VLOOKUP(B263,Data!AL:AU,3)","v":8.7597162248463076E-2},{"$f":"VLOOKUP(B263,Data!AL:AU,4)","v":8.9228336037860206E-2},{"$f":"VLOOKUP(B263,Data!AL:AU,5)","v":8393.5099999999984},{"$f":"VLOOKUP(B263,Data!AL:AU,8)","v":708.69276799999136},{"$f":"F263-G263","v":7684.8172320000067}]
[null,"2015-03-01",{"$f":"VLOOKUP(B264,Data!AL:AU,2)","v":8.2095027064694986E-2},{"$f":"VLOOKUP(B264,Data!AL:AU,3)","v":8.3247402400294448E-2},{"$f":"VLOOKUP(B264,Data!AL:AU,4)","v":8.6939917876520445E-2},{"$f":"VLOOKUP(B264,Data!AL:AU,5)","v":8638.56},{"$f":"VLOOKUP(B264,Data!AL:AU,8)","v":709.18281699999147},{"$f":"F264-G264","v":7929.3771830000078}]
[null,"2015-03-08",{"$f":"VLOOKUP(B265,Data!AL:AU,2)","v":8.2147095571850112E-2},{"$f":"VLOOKUP(B265,Data!AL:AU,3)","v":8.2121062056614499E-2},{"$f":"VLOOKUP(B265,Data!AL:AU,4)","v":8.4768876032276147E-2},{"$f":"VLOOKUP(B265,Data!AL:AU,5)","v":8639.0499999999993},{"$f":"VLOOKUP(B265,Data!AL:AU,8)","v":709.6728659999917},{"$f":"F265-G265","v":7929.3771340000076}]
[null,"2015-03-15",{"$f":"VLOOKUP(B266,Data!AL:AU,2)","v":8.2199158172772166E-2},{"$f":"VLOOKUP(B266,Data!AL:AU,3)","v":8.2173127610527461E-2},{"$f":"VLOOKUP(B266,Data!AL:AU,4)","v":8.2706405705980798E-2},{"$f":"VLOOKUP(B266,Data!AL:AU,5)","v":8639.5399999999991},{"$f":"VLOOKUP(B266,Data!AL:AU,8)","v":710.16291499999193},{"$f":"F266-G266","v":7929.3770850000074}]
[null,"2015-03-22",{"$f":"VLOOKUP(B267,Data!AL:AU,2)","v":8.2251214868465997E-2},{"$f":"VLOOKUP(B267,Data!AL:AU,3)","v":8.2225187258709809E-2},{"$f":"VLOOKUP(B267,Data!AL:AU,4)","v":8.2173127610527474E-2},{"$f":"VLOOKUP(B267,Data!AL:AU,5)","v":8640.0299999999988},{"$f":"VLOOKUP(B267,Data!AL:AU,8)","v":710.65296399999215},{"$f":"F267-G267","v":7929.3770360000071}]
[null,"2015-03-29",{"$f":"VLOOKUP(B268,Data!AL:AU,2)","v":8.2303265659936287E-2},{"$f":"VLOOKUP(B268,Data!AL:AU,3)","v":8.2277241002166268E-2},{"$f":"VLOOKUP(B268,Data!AL:AU,4)","v":8.2225187258709823E-2},{"$f":"VLOOKUP(B268,Data!AL:AU,5)","v":8640.5199999999968},{"$f":"VLOOKUP(B268,Data!AL:AU,8)","v":711.14301299999238},{"$f":"F268-G268","v":7929.3769870000042}]
[null,"2015-04-05",{"$f":"VLOOKUP(B269,Data!AL:AU,2)","v":8.2355310548187385E-2},{"$f":"VLOOKUP(B269,Data!AL:AU,3)","v":8.2329288841901452E-2},{"$f":"VLOOKUP(B269,Data!AL:AU,4)","v":8.2277241002166324E-2},{"$f":"VLOOKUP(B269,Data!AL:AU,5)","v":8641.0099999999984},{"$f":"VLOOKUP(B269,Data!AL:AU,8)","v":711.63306199999261},{"$f":"F269-G269","v":7929.3769380000058}]
[null,"2015-04-12",{"$f":"VLOOKUP(B270,Data!AL:AU,2)","v":0.43671923010878871},{"$f":"VLOOKUP(B270,Data!AL:AU,3)","v":0.13861053922308195},{"$f":"VLOOKUP(B270,Data!AL:AU,4)","v":0.10327865707903951},{"$f":"VLOOKUP(B270,Data!AL:AU,5)","v":1630.6199999999994},{"$f":"VLOOKUP(B270,Data!AL:AU,8)","v":712.12311099999283},{"$f":"F270-G270","v":918.4968890000066}]
[null,"2015-04-19",{"$f":"VLOOKUP(B271,Data!AL:AU,2)","v":0.44724768880269183},{"$f":"VLOOKUP(B271,Data!AL:AU,3)","v":0.44192257044928923},{"$f":"VLOOKUP(B271,Data!AL:AU,4)","v":0.13886592003698384},{"$f":"VLOOKUP(B271,Data!AL:AU,5)","v":1593.3300000000002},{"$f":"VLOOKUP(B271,Data!AL:AU,8)","v":712.61315999999306},{"$f":"F271-G271","v":880.7168400000071}]
[null,"2015-04-26",{"$f":"VLOOKUP(B272,Data!AL:AU,2)","v":0.22992797138084919},{"$f":"VLOOKUP(B272,Data!AL:AU,3)","v":0.30368312881409792},{"$f":"VLOOKUP(B272,Data!AL:AU,4)","v":0.19039156709905616},{"$f":"VLOOKUP(B272,Data!AL:AU,5)","v":3101.42},{"$f":"VLOOKUP(B272,Data!AL:AU,8)","v":713.10320899999329},{"$f":"F272-G272","v":2388.3167910000066}]
[null,"2015-05-03",{"$f":"VLOOKUP(B273,Data!AL:AU,2)","v":8.2608926849427541E-2},{"$f":"VLOOKUP(B273,Data!AL:AU,3)","v":0.12152823104305559},{"$f":"VLOOKUP(B273,Data!AL:AU,4)","v":0.19055819115478864},{"$f":"VLOOKUP(B273,Data!AL:AU,5)","v":8638.2100000000009},{"$f":"VLOOKUP(B273,Data!AL:AU,8)","v":713.59325799999351},{"$f":"F273-G273","v":7924.6167420000074}]
[null,"2015-05-10",{"$f":"VLOOKUP(B274,Data!AL:AU,2)","v":8.2660968316991421E-2},{"$f":"VLOOKUP(B274,Data!AL:AU,3)","v":8.2634948321197874E-2},{"$f":"VLOOKUP(B274,Data!AL:AU,4)","v":0.12986697108911996},{"$f":"VLOOKUP(B274,Data!AL:AU,5)","v":8638.6999999999989},{"$f":"VLOOKUP(B274,Data!AL:AU,8)","v":714.08330699999374},{"$f":"F274-G274","v":7924.6166930000054}]
[null,"2015-05-17",{"$f":"VLOOKUP(B275,Data!AL:AU,2)","v":8.2713003881150202E-2},{"$f":"VLOOKUP(B275,Data!AL:AU,3)","v":8.2686986836933651E-2},{"$f":"VLOOKUP(B275,Data!AL:AU,4)","v":9.8401004979060042E-2},{"$f":"VLOOKUP(B275,Data!AL:AU,5)","v":8639.1899999999987},{"$f":"VLOOKUP(B275,Data!AL:AU,8)","v":714.57335599999385},{"$f":"F275-G275","v":7924.6166440000052}]
[null,"2015-05-24",{"$f":"VLOOKUP(B276,Data!AL:AU,2)","v":8.2765033542908331E-2},{"$f":"VLOOKUP(B276,Data!AL:AU,3)","v":8.2739019449766582E-2},{"$f":"VLOOKUP(B276,Data!AL:AU,4)","v":8.2686986836933665E-2},{"$f":"VLOOKUP(B276,Data!AL:AU,5)","v":8639.6799999999985},{"$f":"VLOOKUP(B276,Data!AL:AU,8)","v":715.06340499999408},{"$f":"F276-G276","v":7924.6165950000041}]
[null,"2015-05-31",{"$f":"VLOOKUP(B277,Data!AL:AU,2)","v":8.2817057303270006E-2},{"$f":"VLOOKUP(B277,Data!AL:AU,3)","v":8.2791046160700973E-2},{"$f":"VLOOKUP(B277,Data!AL:AU,4)","v":8.2739019449766568E-2},{"$f":"VLOOKUP(B277,Data!AL:AU,5)","v":8640.1699999999983},{"$f":"VLOOKUP(B277,Data!AL:AU,8)","v":715.5534539999943},{"$f":"F277-G277","v":7924.6165460000038}]
[null,"2015-06-07",{"$f":"VLOOKUP(B278,Data!AL:AU,2)","v":8.2869075163239228E-2},{"$f":"VLOOKUP(B278,Data!AL:AU,3)","v":8.2843066970740953E-2},{"$f":"VLOOKUP(B278,Data!AL:AU,4)","v":8.2791046160700987E-2},{"$f":"VLOOKUP(B278,Data!AL:AU,5)","v":8640.659999999998},{"$f":"VLOOKUP(B278,Data!AL:AU,8)","v":716.04350299999453},{"$f":"F278-G278","v":7924.6164970000036}]
[null,"2015-06-14",{"$f":"VLOOKUP(B279,Data!AL:AU,2)","v":8.2921087123819737E-2},{"$f":"VLOOKUP(B279,Data!AL:AU,3)","v":8.2895081880890356E-2},{"$f":"VLOOKUP(B279,Data!AL:AU,4)","v":8.2843066970740953E-2},{"$f":"VLOOKUP(B279,Data!AL:AU,5)","v":8641.1499999999978},{"$f":"VLOOKUP(B279,Data!AL:AU,8)","v":716.53355199999476},{"$f":"F279-G279","v":7924.6164480000034}]
[null,"2015-06-21",{"$f":"VLOOKUP(B280,Data!AL:AU,2)","v":8.2973093186015076E-2},{"$f":"VLOOKUP(B280,Data!AL:AU,3)","v":8.2947090892152825E-2},{"$f":"VLOOKUP(B280,Data!AL:AU,4)","v":8.289508188089037E-2},{"$f":"VLOOKUP(B280,Data!AL:AU,5)","v":8641.6399999999958},{"$f":"VLOOKUP(B280,Data!AL:AU,8)","v":717.02360099999498},{"$f":"F280-G280","v":7924.6163990000005}]
[null,"2015-06-28",{"$f":"VLOOKUP(B281,Data!AL:AU,2)","v":8.3025093350828486E-2},{"$f":"VLOOKUP(B281,Data!AL:AU,3)","v":8.299909400553182E-2},{"$f":"VLOOKUP(B281,Data!AL:AU,4)","v":8.2947090892152839E-2},{"$f":"VLOOKUP(B281,Data!AL:AU,5)","v":8642.1299999999974},{"$f":"VLOOKUP(B281,Data!AL:AU,8)","v":717.51364999999521},{"$f":"F281-G281","v":7924.6163500000021}]
[null,"2015-07-05",{"$f":"VLOOKUP(B282,Data!AL:AU,2)","v":9.9325709040805704E-2},{"$f":"VLOOKUP(B282,Data!AL:AU,3)","v":9.0449592934494047E-2},{"$f":"VLOOKUP(B282,Data!AL:AU,4)","v":8.6538591529753253E-2},{"$f":"VLOOKUP(B282,Data!AL:AU,5)","v":7228.78},{"$f":"VLOOKUP(B282,Data!AL:AU,8)","v":718.00369899999544},{"$f":"F282-G282","v":6510.7763010000044}]
[null,"2015-07-12",{"$f":"VLOOKUP(B283,Data!AL:AU,2)","v":0.10273545326246823},{"$f":"VLOOKUP(B283,Data!AL:AU,3)","v":0.10100239319496422},{"$f":"VLOOKUP(B283,Data!AL:AU,4)","v":9.1126080597520281E-2},{"$f":"VLOOKUP(B283,Data!AL:AU,5)","v":6993.6299999999992},{"$f":"VLOOKUP(B283,Data!AL:AU,8)","v":718.49374799999566},{"$f":"F283-G283","v":6275.1362520000039}]
[null,"2015-07-19",{"$f":"VLOOKUP(B284,Data!AL:AU,2)","v":0.10279832159013516},{"$f":"VLOOKUP(B284,Data!AL:AU,3)","v":0.10276688852746092},{"$f":"VLOOKUP(B284,Data!AL:AU,4)","v":9.6219820112489404E-2},{"$f":"VLOOKUP(B284,Data!AL:AU,5)","v":6994.1199999999981},{"$f":"VLOOKUP(B284,Data!AL:AU,8)","v":718.98379699999589},{"$f":"F284-G284","v":6275.1362030000018}]
[null,"2015-07-26",{"$f":"VLOOKUP(B285,Data!AL:AU,2)","v":0.10286118110945375},{"$f":"VLOOKUP(B285,Data!AL:AU,3)","v":0.10282975245072229},{"$f":"VLOOKUP(B285,Data!AL:AU,4)","v":0.10190850458364969},{"$f":"VLOOKUP(B285,Data!AL:AU,5)","v":6994.6099999999988},{"$f":"VLOOKUP(B285,Data!AL:AU,8)","v":719.47384599999612},{"$f":"F285-G285","v":6275.1361540000025}]
[null,"2015-08-02",{"$f":"VLOOKUP(B286,Data!AL:AU,2)","v":0.10292403182227508},{"$f":"VLOOKUP(B286,Data!AL:AU,3)","v":0.10289260756656092},{"$f":"VLOOKUP(B286,Data!AL:AU,4)","v":0.10282975245072228},{"$f":"VLOOKUP(B286,Data!AL:AU,5)","v":6995.0999999999985},{"$f":"VLOOKUP(B286,Data!AL:AU,8)","v":719.96389499999623},{"$f":"F286-G286","v":6275.1361050000023}]
[null,"2015-08-09",{"$f":"VLOOKUP(B287,Data!AL:AU,2)","v":0.10298687373044971},{"$f":"VLOOKUP(B287,Data!AL:AU,3)","v":0.10295545387682763},{"$f":"VLOOKUP(B287,Data!AL:AU,4)","v":0.10289260756656091},{"$f":"VLOOKUP(B287,Data!AL:AU,5)","v":6995.5899999999983},{"$f":"VLOOKUP(B287,Data!AL:AU,8)","v":720.45394399999645},{"$f":"F287-G287","v":6275.1360560000021}]
[null,"2015-08-16",{"$f":"VLOOKUP(B288,Data!AL:AU,2)","v":8.5939922373889976E-2},{"$f":"VLOOKUP(B288,Data!AL:AU,3)","v":9.3691446791969682E-2},{"$f":"VLOOKUP(B288,Data!AL:AU,4)","v":9.8073572583859611E-2},{"$f":"VLOOKUP(B288,Data!AL:AU,5)","v":8388.9299999999985},{"$f":"VLOOKUP(B288,Data!AL:AU,8)","v":720.94399299999668},{"$f":"F288-G288","v":7667.9860070000013}]
[null,"2015-08-23",{"$f":"VLOOKUP(B289,Data!AL:AU,2)","v":8.063814941161708E-2},{"$f":"VLOOKUP(B289,Data!AL:AU,3)","v":8.3203764935400965E-2},{"$f":"VLOOKUP(B289,Data!AL:AU,4)","v":9.2025132780313032E-2},{"$f":"VLOOKUP(B289,Data!AL:AU,5)","v":8946.56},{"$f":"VLOOKUP(B289,Data!AL:AU,8)","v":721.43404199999691},{"$f":"F289-G289","v":8225.1259580000024}]
[null,"2015-08-30",{"$f":"VLOOKUP(B290,Data!AL:AU,2)","v":0.12783700672288587},{"$f":"VLOOKUP(B290,Data!AL:AU,3)","v":0.10423822431583082},{"$f":"VLOOKUP(B290,Data!AL:AU,4)","v":9.9362436230641171E-2},{"$f":"VLOOKUP(B290,Data!AL:AU,5)","v":8947.0499999999993},{"$f":"VLOOKUP(B290,Data!AL:AU,8)","v":1143.7640909999959},{"$f":"F290-G290","v":7803.2859090000038}]
[null,"2015-09-06",{"$f":"VLOOKUP(B291,Data!AL:AU,2)","v":0.29740958296917253},{"$f":"VLOOKUP(B291,Data!AL:AU,3)","v":0.21262561651314651},{"$f":"VLOOKUP(B291,Data!AL:AU,4)","v":0.1489416506008496},{"$f":"VLOOKUP(B291,Data!AL:AU,5)","v":8947.5399999999991},{"$f":"VLOOKUP(B291,Data!AL:AU,8)","v":2661.0841399999895},{"$f":"F291-G291","v":6286.4558600000091}]
[null,"2015-09-13",{"$f":"VLOOKUP(B292,Data!AL:AU,2)","v":1.3300602367223781E-2},{"$f":"VLOOKUP(B292,Data!AL:AU,3)","v":0.15535120306310327},{"$f":"VLOOKUP(B292,Data!AL:AU,4)","v":0.12979611329457599},{"$f":"VLOOKUP(B292,Data!AL:AU,5)","v":8948.0299999999988},{"$f":"VLOOKUP(B292,Data!AL:AU,8)","v":119.01418899998939},{"$f":"F292-G292","v":8829.0158110000102}]
[null,"2015-09-20",{"$f":"VLOOKUP(B293,Data!AL:AU,2)","v":1.0742492436658316E-2},{"$f":"VLOOKUP(B293,Data!AL:AU,3)","v":1.1885406577559416E-2},{"$f":"VLOOKUP(B293,Data!AL:AU,4)","v":0.1066095181262348},{"$f":"VLOOKUP(B293,Data!AL:AU,5)","v":11079.759999999998},{"$f":"VLOOKUP(B293,Data!AL:AU,8)","v":119.02423799998934},{"$f":"F293-G293","v":10960.735762000009}]
[null,"2015-09-27",{"$f":"VLOOKUP(B294,Data!AL:AU,2)","v":7.2538851865049979E-3},{"$f":"VLOOKUP(B294,Data!AL:AU,3)","v":8.6600542925642614E-3},{"$f":"VLOOKUP(B294,Data!AL:AU,4)","v":6.6502911487123936E-2},{"$f":"VLOOKUP(B294,Data!AL:AU,5)","v":16408.350000000006},{"$f":"VLOOKUP(B294,Data!AL:AU,8)","v":119.02428699998933},{"$f":"F294-G294","v":16289.325713000017}]
[null,"2015-10-04",{"$f":"VLOOKUP(B295,Data!AL:AU,2)","v":4.1625388266324038E-2},{"$f":"VLOOKUP(B295,Data!AL:AU,3)","v":2.4439893330293599E-2},{"$f":"VLOOKUP(B295,Data!AL:AU,4)","v":1.9681851521184353E-2},{"$f":"VLOOKUP(B295,Data!AL:AU,5)","v":16408.840000000018},{"$f":"VLOOKUP(B295,Data!AL:AU,8)","v":683.02433599998926},{"$f":"F295-G295","v":15725.815664000029}]
[null,"2015-10-11",{"$f":"VLOOKUP(B296,Data!AL:AU,2)","v":1.4140393605344569E-2},{"$f":"VLOOKUP(B296,Data!AL:AU,3)","v":2.7882685749996933E-2},{"$f":"VLOOKUP(B296,Data!AL:AU,4)","v":1.912084854180951E-2},{"$f":"VLOOKUP(B296,Data!AL:AU,5)","v":16409.330000000031},{"$f":"VLOOKUP(B296,Data!AL:AU,8)","v":232.03438499998924},{"$f":"F296-G296","v":16177.295615000041}]
[null,"2015-10-18",{"$f":"VLOOKUP(B297,Data!AL:AU,2)","v":1.0303247323857836E-2},{"$f":"VLOOKUP(B297,Data!AL:AU,3)","v":1.2221791819714329E-2},{"$f":"VLOOKUP(B297,Data!AL:AU,4)","v":1.8330660149544521E-2},{"$f":"VLOOKUP(B297,Data!AL:AU,5)","v":16409.82000000004},{"$f":"VLOOKUP(B297,Data!AL:AU,8)","v":169.0744339999892},{"$f":"F297-G297","v":16240.745566000051}]
[null,"2015-10-25",{"$f":"VLOOKUP(B298,Data!AL:AU,2)","v":1.4088483889556211E-2},{"$f":"VLOOKUP(B298,Data!AL:AU,3)","v":1.2111573738862768E-2},{"$f":"VLOOKUP(B298,Data!AL:AU,4)","v":2.016872822565359E-2},{"$f":"VLOOKUP(B298,Data!AL:AU,5)","v":15010.45000000001},{"$f":"VLOOKUP(B298,Data!AL:AU,8)","v":211.47448299998916},{"$f":"F298-G298","v":14798.975517000021}]
[null,"2015-11-01",{"$f":"VLOOKUP(B299,Data!AL:AU,2)","v":1.5412114933178657E-2},{"$f":"VLOOKUP(B299,Data!AL:AU,3)","v":1.474512674197122E-2},{"$f":"VLOOKUP(B299,Data!AL:AU,4)","v":1.3422376840501571E-2},{"$f":"VLOOKUP(B299,Data!AL:AU,5)","v":14777.630000000014},{"$f":"VLOOKUP(B299,Data!AL:AU,8)","v":227.75453199998913},{"$f":"F299-G299","v":14549.875468000024}]
[null,"2015-11-08",{"$f":"VLOOKUP(B300,Data!AL:AU,2)","v":1.439523978692748E-2},{"$f":"VLOOKUP(B300,Data!AL:AU,3)","v":1.4903668930748758E-2},{"$f":"VLOOKUP(B300,Data!AL:AU,4)","v":1.346493309992937E-2},{"$f":"VLOOKUP(B300,Data!AL:AU,5)","v":14778.120000000024},{"$f":"VLOOKUP(B300,Data!AL:AU,8)","v":212.73458099998908},{"$f":"F300-G300","v":14565.385419000035}]
[null,"2015-11-15",{"$f":"VLOOKUP(B301,Data!AL:AU,2)","v":5.2114145376323431E-2},{"$f":"VLOOKUP(B301,Data!AL:AU,3)","v":3.3255005239076714E-2},{"$f":"VLOOKUP(B301,Data!AL:AU,4)","v":2.3963986505306099E-2},{"$f":"VLOOKUP(B301,Data!AL:AU,5)","v":14778.610000000035},{"$f":"VLOOKUP(B301,Data!AL:AU,8)","v":770.17462999998907},{"$f":"F301-G301","v":14008.435370000047}]
[null,"2015-11-22",{"$f":"VLOOKUP(B302,Data!AL:AU,2)","v":8.0433495882698228E-2},{"$f":"VLOOKUP(B302,Data!AL:AU,3)","v":6.6274055364910628E-2},{"$f":"VLOOKUP(B302,Data!AL:AU,4)","v":4.0589713780921487E-2},{"$f":"VLOOKUP(B302,Data!AL:AU,5)","v":14779.100000000046},{"$f":"VLOOKUP(B302,Data!AL:AU,8)","v":1188.734678999989},{"$f":"F302-G302","v":13590.365321000058}]
[null,"2015-11-29",{"$f":"VLOOKUP(B303,Data!AL:AU,2)","v":4.7431270285575332E-2},{"$f":"VLOOKUP(B303,Data!AL:AU,3)","v":6.3932109542066018E-2},{"$f":"VLOOKUP(B303,Data!AL:AU,4)","v":4.8594065947597895E-2},{"$f":"VLOOKUP(B303,Data!AL:AU,5)","v":14779.590000000057},{"$f":"VLOOKUP(B303,Data!AL:AU,8)","v":701.01472799998896},{"$f":"F303-G303","v":14078.575272000067}]
[null,"2015-12-06",{"$f":"VLOOKUP(B304,Data!AL:AU,2)","v":5.3078268761274729E-2},{"$f":"VLOOKUP(B304,Data!AL:AU,3)","v":4.9716071691142137E-2},{"$f":"VLOOKUP(B304,Data!AL:AU,4)","v":5.8715857270369508E-2},{"$f":"VLOOKUP(B304,Data!AL:AU,5)","v":10043.560000000009},{"$f":"VLOOKUP(B304,Data!AL:AU,8)","v":533.09477699998888},{"$f":"F304-G304","v":9510.4652230000193}]
[null,"2015-12-13",{"$f":"VLOOKUP(B305,Data!AL:AU,2)","v":6.8063750360629102E-2},{"$f":"VLOOKUP(B305,Data!AL:AU,3)","v":6.0264698554630118E-2},{"$f":"VLOOKUP(B305,Data!AL:AU,4)","v":6.2483503039898337E-2},{"$f":"VLOOKUP(B305,Data!AL:AU,5)","v":9254.6299999999992},{"$f":"VLOOKUP(B305,Data!AL:AU,8)","v":629.90482599998882},{"$f":"F305-G305","v":8624.7251740000102}]
[null,"2015-12-20",{"$f":"VLOOKUP(B306,Data!AL:AU,2)","v":6.7687385468798766E-2},{"$f":"VLOOKUP(B306,Data!AL:AU,3)","v":6.7875562933047598E-2},{"$f":"VLOOKUP(B306,Data!AL:AU,4)","v":5.7472941021716809E-2},{"$f":"VLOOKUP(B306,Data!AL:AU,5)","v":9255.119999999999},{"$f":"VLOOKUP(B306,Data!AL:AU,8)","v":626.45487499998876},{"$f":"F306-G306","v":8628.6651250000104}]
[null,"2015-12-27",{"$f":"VLOOKUP(B307,Data!AL:AU,2)","v":5.967461074958743E-2},{"$f":"VLOOKUP(B307,Data!AL:AU,3)","v":6.368089205557953E-2},{"$f":"VLOOKUP(B307,Data!AL:AU,4)","v":6.1937220158628035E-2},{"$f":"VLOOKUP(B307,Data!AL:AU,5)","v":9255.6099999999988},{"$f":"VLOOKUP(B307,Data!AL:AU,8)","v":552.32492399998887},{"$f":"F307-G307","v":8703.2850760000092}]
[null,"2016-01-03",{"$f":"VLOOKUP(B308,Data!AL:AU,2)","v":6.1247714804290032E-2},{"$f":"VLOOKUP(B308,Data!AL:AU,3)","v":6.046118359675999E-2},{"$f":"VLOOKUP(B308,Data!AL:AU,4)","v":6.4168176997880563E-2},{"$f":"VLOOKUP(B308,Data!AL:AU,5)","v":9256.0999999999985},{"$f":"VLOOKUP(B308,Data!AL:AU,8)","v":566.91497299998889},{"$f":"F308-G308","v":8689.1850270000105}]
[null,"2016-01-10",{"$f":"VLOOKUP(B309,Data!AL:AU,2)","v":2.4311871002171293E-2},{"$f":"VLOOKUP(B309,Data!AL:AU,3)","v":4.2779304088167512E-2},{"$f":"VLOOKUP(B309,Data!AL:AU,4)","v":5.3229544812444539E-2},{"$f":"VLOOKUP(B309,Data!AL:AU,5)","v":9256.5899999999983},{"$f":"VLOOKUP(B309,Data!AL:AU,8)","v":225.04502199998873},{"$f":"F309-G309","v":9031.544978000009}]
[null,"2016-01-17",{"$f":"VLOOKUP(B310,Data!AL:AU,2)","v":0.10629540535460308},{"$f":"VLOOKUP(B310,Data!AL:AU,3)","v":6.530472310460203E-2},{"$f":"VLOOKUP(B310,Data!AL:AU,4)","v":6.2883081551086198E-2},{"$f":"VLOOKUP(B310,Data!AL:AU,5)","v":9257.0799999999963},{"$f":"VLOOKUP(B310,Data!AL:AU,8)","v":983.98507099998869},{"$f":"F310-G310","v":8273.0949290000081}]
[null,"2016-01-24",{"$f":"VLOOKUP(B311,Data!AL:AU,2)","v":0.2905746453983053},{"$f":"VLOOKUP(B311,Data!AL:AU,3)","v":0.19843746390020761},{"$f":"VLOOKUP(B311,Data!AL:AU,4)","v":0.12061250378774055},{"$f":"VLOOKUP(B311,Data!AL:AU,5)","v":9257.5699999999979},{"$f":"VLOOKUP(B311,Data!AL:AU,8)","v":2690.0151199999887},{"$f":"F311-G311","v":6567.5548800000088}]
[null,"2016-01-31",{"$f":"VLOOKUP(B312,Data!AL:AU,2)","v":0.18567768722604841},{"$f":"VLOOKUP(B312,Data!AL:AU,3)","v":0.2381247783089194},{"$f":"VLOOKUP(B312,Data!AL:AU,4)","v":0.15171932448088288},{"$f":"VLOOKUP(B312,Data!AL:AU,5)","v":9258.0599999999959},{"$f":"VLOOKUP(B312,Data!AL:AU,8)","v":1719.0151689999889},{"$f":"F312-G312","v":7539.0448310000065}]
[null,"2016-02-07",{"$f":"VLOOKUP(B313,Data!AL:AU,2)","v":0.17842209034032308},{"$f":"VLOOKUP(B313,Data!AL:AU,3)","v":0.1829925140519279},{"$f":"VLOOKUP(B313,Data!AL:AU,4)","v":0.19160261068917298},{"$f":"VLOOKUP(B313,Data!AL:AU,5)","v":5439.2099999999991},{"$f":"VLOOKUP(B313,Data!AL:AU,8)","v":970.47521799998856},{"$f":"F313-G313","v":4468.7347820000105}]
[null,"2016-02-14",{"$f":"VLOOKUP(B314,Data!AL:AU,2)","v":0.10893712281927102},{"$f":"VLOOKUP(B314,Data!AL:AU,3)","v":0.14367804173395843},{"$f":"VLOOKUP(B314,Data!AL:AU,4)","v":0.20317007083628302},{"$f":"VLOOKUP(B314,Data!AL:AU,5)","v":5439.7},{"$f":"VLOOKUP(B314,Data!AL:AU,8)","v":592.58526699998856},{"$f":"F314-G314","v":4847.1147330000113}]
[null,"2016-02-21",{"$f":"VLOOKUP(B315,Data!AL:AU,2)","v":0.10508738040399115},{"$f":"VLOOKUP(B315,Data!AL:AU,3)","v":0.10701216492078294},{"$f":"VLOOKUP(B315,Data!AL:AU,4)","v":0.15067235650869587},{"$f":"VLOOKUP(B315,Data!AL:AU,5)","v":5440.19},{"$f":"VLOOKUP(B315,Data!AL:AU,8)","v":571.69531599998857},{"$f":"F315-G315","v":4868.4946840000111}]
[null,"2016-02-28",{"$f":"VLOOKUP(B316,Data!AL:AU,2)","v":9.9688892748698466E-2},{"$f":"VLOOKUP(B316,Data!AL:AU,3)","v":0.10238801502085562},{"$f":"VLOOKUP(B316,Data!AL:AU,4)","v":0.12303116878938826},{"$f":"VLOOKUP(B316,Data!AL:AU,5)","v":5440.6799999999976},{"$f":"VLOOKUP(B316,Data!AL:AU,8)","v":542.37536499998851},{"$f":"F316-G316","v":4898.3046350000095}]
[null,"2016-03-06",{"$f":"VLOOKUP(B317,Data!AL:AU,2)","v":4.4128502137723284E-2},{"$f":"VLOOKUP(B317,Data!AL:AU,3)","v":7.1081026453543097E-2},{"$f":"VLOOKUP(B317,Data!AL:AU,4)","v":8.8773706110772108E-2},{"$f":"VLOOKUP(B317,Data!AL:AU,5)","v":5774.8299999999981},{"$f":"VLOOKUP(B317,Data!AL:AU,8)","v":254.83459799998849},{"$f":"F317-G317","v":5519.9954020000096}]
[null,"2016-03-13",{"$f":"VLOOKUP(B318,Data!AL:AU,2)","v":0.10791206496478038},{"$f":"VLOOKUP(B318,Data!AL:AU,3)","v":7.5512450224871158E-2},{"$f":"VLOOKUP(B318,Data!AL:AU,4)","v":8.8655645654956483E-2},{"$f":"VLOOKUP(B318,Data!AL:AU,5)","v":5593.7999999999993},{"$f":"VLOOKUP(B318,Data!AL:AU,8)","v":603.6385089999884},{"$f":"F318-G318","v":4990.1614910000108}]
[null,"2016-03-20",{"$f":"VLOOKUP(B319,Data!AL:AU,2)","v":9.7725073412607111E-2},{"$f":"VLOOKUP(B319,Data!AL:AU,3)","v":0.10439276118643027},{"$f":"VLOOKUP(B319,Data!AL:AU,4)","v":8.5487191146553176E-2},{"$f":"VLOOKUP(B319,Data!AL:AU,5)","v":2952.49},{"$f":"VLOOKUP(B319,Data!AL:AU,8)","v":288.53230199998836},{"$f":"F319-G319","v":2663.9576980000115}]
[null,"2016-03-27",{"$f":"VLOOKUP(B320,Data!AL:AU,2)","v":3.6942521012530295E-2},{"$f":"VLOOKUP(B320,Data!AL:AU,3)","v":4.6681072163873696E-2},{"$f":"VLOOKUP(B320,Data!AL:AU,4)","v":5.7681500388804083E-2},{"$f":"VLOOKUP(B320,Data!AL:AU,5)","v":15475.29},{"$f":"VLOOKUP(B320,Data!AL:AU,8)","v":571.69622600000002},{"$f":"F320-G320","v":14903.593774000001}]
[null,"2016-04-03",{"$f":"VLOOKUP(B321,Data!AL:AU,2)","v":0.14958541684976343},{"$f":"VLOOKUP(B321,Data!AL:AU,3)","v":6.3033934281344947E-2},{"$f":"VLOOKUP(B321,Data!AL:AU,4)","v":7.5355485801951241E-2},{"$f":"VLOOKUP(B321,Data!AL:AU,5)","v":4665.1100000000006},{"$f":"VLOOKUP(B321,Data!AL:AU,8)","v":697.83242399999995},{"$f":"F321-G321","v":3967.2775760000004}]
[null,"2016-04-10",{"$f":"VLOOKUP(B322,Data!AL:AU,2)","v":0.13137583469625244},{"$f":"VLOOKUP(B322,Data!AL:AU,3)","v":9.1690331785523368E-2},{"$f":"VLOOKUP(B322,Data!AL:AU,4)","v":7.4885604030880737E-2},{"$f":"VLOOKUP(B322,Data!AL:AU,5)","v":5680.2099999999991},{"$f":"VLOOKUP(B322,Data!AL:AU,8)","v":746.24233000000004},{"$f":"F322-G322","v":4933.9676699999991}]