{"text_format":"1","workbook":"xlsx","n_sheets":4,"sheets":["Summary","Comps","Photo","Rent Roll"],"not_rendered":{"charts":3,"images":0,"macros":1,"external_links":3,"defined_names":18,"comments":0,"pivot_tables":0},"unopened":[],"bounds":{"document_bytes":16777216,"sheet_cells":100000,"rows_first":2000,"rows_last":500,"rows_between":2000,"halvings":0,"cell_chars":16384,"cell_head_chars":4096},"cells_cut":0,"cells_raw":0,"read":"whole","date_system":"1900"}

{"sheet":"Summary","index":0,"n_rows":22,"n_cols":13,"rows_kept":22,"cut":false,"hidden":false,"merged":[]}
[]
[null,"Project Information",null,null,"Sales Comps"]
[null,"Project Name","Desert Wind",null,"Property","Address","Date of Sale","Price","Units","Price per Unit","Price per SF","Distance","Year Built"]
[null,"Address","4141 West Mcdowell Rd",null,"Marble Creek","5601 West McDowell Road | Phoenix, Arizona 85035","2015-10-01",12100000,244,{"$f":"H4/I4","v":49590.163934426229},59,null,1985]
[null,"City, State Zip","Phoenix, AZ",null,"Ventana Palms","7021 West McDowell Road | Phoenix, Arizona 85035","2015-08-01",8552000,160,{"$f":"H5/I5","v":53450},62,null,1989]
[null,null,85009,null,"Villa De La Paz","6041 West Thomas Road | Phoenix, Arizona 85033","2015-06-01",4900000,103,47572.815533980582,55,null,1982]
[null,"Property Type","B",null,"Brookside","6131 West Thomas Road | Phoenix, Arizona 85033","2015-04-01",10000000,204,49019.607843137252,73,null,1984]
[null,"Year Built",1987,null,"Maryland Gardens","4529 West Ocotillo Road | Glendale, Arizona 85301","2015-02-01",5100000,120,42500,57,null,1983]
[]
[null,"Number of Units",126]
[null,"Number of Buildings",28]
[null,"Acres",7.12,null,"Demographics"]
[null,"Covered Parking",205,null,"Median Income",null,"White","Asian","Black"]
[null,"Surface Parking",101,null,28110,null,6501,208,2232]
[null,null,null,null,"city-data.com"]
[null,"Current Occupancy",0.91,null,"Economics"]
[null,"Holding Period",7,null,"Median Home $",null,"Unemp.","Pop. Growth"]
[null,null,null,null,54900,null,0.05,-0.15]
[null,null,null,null,"City-data.com",null,"bestplaces.net"]
[null,null,null,null,"School Ratings"]
[null,null,null,null,"Elem.","Middle","H.S.","School District"]
[null,null,null,null,1,1,3,2]

{"sheet":"Comps","index":1,"n_rows":112,"n_cols":19,"rows_kept":112,"cut":false,"hidden":false,"merged":[[108,18,111,18],[81,48,81,49],[85,18,89,18],[90,18,94,18],[95,18,98,18],[99,18,102,18],[99,45,99,46],[99,48,99,49],[81,45,81,46],[62,18,66,18],[67,18,70,18],[71,18,80,18],[81,18,84,18],[103,18,107,18],[32,9,40,9],[32,18,41,18],[42,9,50,9],[42,18,51,18],[58,18,61,18],[53,18,57,18],[30,11,31,11],[30,12,31,12],[30,13,31,13],[30,14,31,14],[30,15,31,15],[30,16,31,16],[30,17,31,17],[2,1,2,3],[18,1,19,3],[27,1,28,18],[29,1,29,10],[29,13,29,18],[30,5,31,5],[30,6,31,6],[30,7,31,7],[30,8,31,8],[30,10,31,10]]}
[]
[]
[null,"Summary",null,null,"Year Built","# of Units","Total NRA","Ocpncy","Unit Size (Avg.)","Rent (Avg.)","RPSF (Avg.)","Reno'd","W/D","Pool","Fitness","Club House","Distance ","Median Income","Demographics"]
[null,null,null,"Subject Property",1972,{"$f":"H33","v":216},{"$f":"I33","v":137472},{"$f":"G33","v":0.91},{"$f":"AVERAGE(N43:N51)","v":666},{"$f":"AVERAGE(O43:O51)","v":595},{"$f":"AVERAGE(P43:P51)","v":0.90532055963100477},"Partial","No","Yes","No","Yes",null,{"$f":"'[2]KEY ASSUMPTIONS'!B58","v":28110},"92% Hispanic, 4% White, 4% Asian"]
[null,null,null,{"$f":"C54","v":"TIERRA SANTA"},{"$f":"F54","v":1987},{"$f":"H54","v":274},{"$f":"I54","v":159948},{"$f":"G54","v":0.94},{"$f":"H56","v":583.75182481751824},{"$f":"H58","v":568.21167883211683},{"$f":"H55","v":0.99388789686159507},"No","No","Yes","No","Yes",{"$f":"C58","v":"0.6 W"},20932,"89% Hispanic, 7% White, 3% Black"]
[null,null,null,{"$f":"C59","v":"WHISPERING PALMS"},{"$f":"F59","v":1985},{"$f":"H59","v":200},{"$f":"I59","v":174464},{"$f":"G59","v":0.95},{"$f":"H61","v":872.32},{"$f":"H62","v":604.52},{"$f":"H60","v":0.71158075667370835},"Yes","Hookup","Yes","No","NO",{"$f":"C62","v":"0.2 SW"},13274,"81% Hispanic, 7% Indian, 6% White, 4% Black"]
[null,null,null,{"$f":"C63","v":"LOS VECINOS"},{"$f":"F63","v":1985},{"$f":"H63","v":483},{"$f":"I63","v":222630},{"$f":"G63","v":0.97},{"$f":"H65","v":460.93167701863354},{"$f":"H66","v":439.96687370600415},{"$f":"H64","v":0.95850011502185417},"No","No","Yes","No","No",{"$f":"C66","v":"0.3 NW"},20932,"89% Hispanic, 7% White, 3% Black"]
[null,null,null,{"$f":"C68","v":"LYNNWOOD"},{"$f":"F68","v":1980},{"$f":"H68","v":300},{"$f":"I68","v":212880},{"$f":"G68","v":0.9},{"$f":"H70","v":709.6},{"$f":"H71","v":548.76},{"$f":"H69","v":0.77738335487183252},"YEs","No","No","No","No",{"$f":"C71","v":"1.7 W"},18125,"93% Hispanic, 5% Black, 3% White"]
[null,null,null,{"$f":"C72","v":"CASA SOL"},{"$f":"F72","v":1985},{"$f":"H72","v":247},{"$f":"I72","v":180180},{"$f":"G72","v":0.9},{"$f":"H74","v":729.47368421052636},{"$f":"H81","v":555.92307692307691},{"$f":"H73","v":0.76847138883872479},"No","No","Yes","No","Yes",{"$f":"C81","v":"1.6 N"},13864,"91% Hispanic, 4% White"]
[null,null,null,{"$f":"C82","v":"MARBLE CREEK"},{"$f":"F82","v":1985},{"$f":"H82","v":244},{"$f":"I82","v":206080},{"$f":"G82","v":0.95},{"$f":"H84","v":844.59016393442619},{"$f":"H85","v":607.37704918032784},{"$f":"H83","v":0.71839578454332553},"No","No","Yes","No","No",{"$f":"C85","v":"1.9 W"},18125,"93% Hispanic, 5% Black, 3% White"]
[null,null,null,{"$f":"C86","v":"DESERT SKY ESTATES"},{"$f":"F86","v":1985},{"$f":"H86","v":300},{"$f":"I86","v":216140},{"$f":"G86","v":0.95},{"$f":"H88","v":720.4666666666667},{"$f":"H89","v":601.04},{"$f":"H87","v":0.84825249416351545},null,"No","Yes","Yes","Yes",{"$f":"C89","v":"2.7 NW"},20658,"78% Hispanic, 11% Black, 8% White"]
[null,null,null,{"$f":"C91","v":0},{"$f":"F91","v":0},{"$f":"H91","v":0},{"$f":"I91","v":0},{"$f":"G91","v":0},{"$f":"H93","v":{"$error":"#DIV/0!"}},{"$f":"H94","v":{"$error":"#DIV/0!"}},{"$f":"H92","v":{"$error":"#DIV/0!"}}]
[null,null,null,{"$f":"C96","v":0},{"$f":"F96","v":0},{"$f":"H96","v":0},{"$f":"I96","v":0},{"$f":"G96","v":0},{"$f":"H98","v":{"$error":"#DIV/0!"}},{"$f":"H99","v":{"$error":"#DIV/0!"}},{"$f":"H97","v":{"$error":"#DIV/0!"}}]
[null,null,null,{"$f":"C100","v":0},{"$f":"F100","v":0},{"$f":"H100","v":0},{"$f":"I100","v":0},{"$f":"G100","v":0},{"$f":"H102","v":{"$error":"#DIV/0!"}},{"$f":"H103","v":{"$error":"#DIV/0!"}},{"$f":"H101","v":{"$error":"#DIV/0!"}}]
[null,null,null,{"$f":"C104","v":0},{"$f":"F104","v":0},{"$f":"H104","v":0},{"$f":"I104","v":0},{"$f":"G104","v":0},{"$f":"H106","v":{"$error":"#DIV/0!"}},{"$f":"H107","v":{"$error":"#DIV/0!"}},{"$f":"H105","v":{"$error":"#DIV/0!"}}]
[null,null,null,{"$f":"C109","v":0},{"$f":"F109","v":0},{"$f":"H109","v":0},{"$f":"I109","v":0},{"$f":"G109","v":0},{"$f":"H111","v":{"$error":"#DIV/0!"}},{"$f":"H112","v":{"$error":"#DIV/0!"}},{"$f":"H110","v":{"$error":"#DIV/0!"}}]
[]
[]
[null,"Rental Data",null,null,1,{"$f":"E19&\"BR/\"&G19&\"BA\"","v":"1BR/1BA"},1,2,{"$f":"H19&\"BR/\"&J19&\"BA\"","v":"2BR/1BA"},1,2,{"$f":"K19&\"BR/\"&M19&\"BA\"","v":"2BR/2BA"},2,3,{"$f":"N19&\"BR/\"&P19&\"BA\"","v":"3BR/2BA"},2]
[null,null,null,null,"Unit Size (Square Feet)","Monthly \nRent","Rent PSF","Unit Size (Square Feet)","Monthly \nRent","Rent PSF","Unit Size (Square Feet)","Monthly \nRent","Rent PSF","Unit Size (Square Feet)","Monthly \nRent","Rent PSF"]
[null,null,null,"Subject Property",{"$f":"AVERAGEIF($L$43:$L$51,$E$19,N43:N51)","v":585},{"$f":"AVERAGEIF($L$43:$L$51,$E$19,O43:O51)","v":570},{"$f":"AVERAGEIF($L$43:$L$51,$E$19,P43:P51)","v":0.9800573993671351},{"$f":"AVERAGE(IF($L$43:$L$51=$H$19,IF($M$43:$M$51=$J$19,N$43:N$51)))","v":716},{"$f":"AVERAGE(IF($L$43:$L$51=$H$19,IF($M$43:$M$51=$J$19,O$43:O$51)))","v":605},{"$f":"AVERAGE(IF($L$43:$L$51=$H$19,IF($M$43:$M$51=$J$19,P$43:P$51)))","v":0.8449720670391061},{"$f":"AVERAGE(IF($L$43:$L$51=$K$19,IF($M$43:$M$51=$M$19,N$43:N$51)))","v":778},{"$f":"AVERAGE(IF($L$43:$L$51=$K$19,IF($M$43:$M$51=$M$19,O$43:O$51)))","v":635},{"$f":"AVERAGE(IF($L$43:$L$51=$K$19,IF($M$43:$M$51=$M$19,P$43:P$51)))","v":0.81619537275064269},{"$f":"AVERAGE(IF($L$43:$L$51=$N$19,IF($M$43:$M$51=$P$19,N$43:N$51)))","v":{"$error":"#DIV/0!"}},{"$f":"AVERAGE(IF($L$43:$L$51=$N$19,IF($M$43:$M$51=$P$19,O$43:O$51)))","v":{"$error":"#DIV/0!"}},{"$f":"AVERAGE(IF($L$43:$L$51=$N$19,IF($M$43:$M$51=$P$19,P$43:P$51)))","v":{"$error":"#DIV/0!"}}]
[null,"COMPS",null,"High",{"$f":"MAX(IF($L$54:$L$112=E19,$N$54:$N$112))","v":720},{"$f":"MAX(IF($L$54:$L$112=E19,$O$54:$O$112))","v":587},{"$f":"MAX(IF($L$54:$L$112=E19,$P$54:$P$112))","v":1.1546391752577319},{"$f":"MAX(IF($L$54:$L$112=$H$19,IF($M$54:$M$112=$J$19,N$54:N$112)))","v":900},{"$f":"MAX(IF($L$54:$L$112=$H$19,IF($M$54:$M$112=$J$19,O$54:O$112)))","v":663},{"$f":"MAX(IF($L$54:$L$112=$H$19,IF($M$54:$M$112=$J$19,P$54:P$112)))","v":0.96031746031746035},{"$f":"MAX(IF($L$54:$L$112=$K$19,IF($M$54:$M$112=$M$19,N$54:N$112)))","v":1000},{"$f":"MAX(IF($L$54:$L$112=$K$19,IF($M$54:$M$112=$M$19,O$54:O$112)))","v":720},{"$f":"MAX(IF($L$54:$L$112=$K$19,IF($M$54:$M$112=$M$19,P$54:P$112)))","v":0.83442838370565042},{"$f":"MAX(IF($L$54:$L$112=$N$19,IF($M$54:$M$112=$P$19,N$54:N$112)))","v":0},{"$f":"MAX(IF($L$54:$L$112=$N$19,IF($M$54:$M$112=$P$19,O$54:O$112)))","v":0},{"$f":"MAX(IF($L$54:$L$112=$N$19,IF($M$54:$M$112=$P$19,P$54:P$112)))","v":0}]
[null,null,null,"Average",{"$f":"AVERAGEIF($L$54:$L$112,E19,$N$54:$N$112)","v":607.15384615384619},{"$f":"AVERAGEIF($L$54:$L$112,E19,$O$54:$O$112)","v":518.46153846153845},{"$f":"AVERAGEIF($L$54:$L$112,E19,$P$54:$P$112)","v":0.86412331845500367},{"$f":"AVERAGE(IF($L$54:$L$112=$H$19,IF($M$54:$M$112=$J$19,N$54:N$112)))","v":782.5},{"$f":"AVERAGE(IF($L$54:$L$112=$H$19,IF($M$54:$M$112=$J$19,O$54:O$112)))","v":607},{"$f":"AVERAGE(IF($L$54:$L$112=$H$19,IF($M$54:$M$112=$J$19,P$54:P$112)))","v":0.78277744458851528},{"$f":"AVERAGE(IF($L$54:$L$112=$K$19,IF($M$54:$M$112=$M$19,N$54:N$112)))","v":895.71428571428567},{"$f":"AVERAGE(IF($L$54:$L$112=$K$19,IF($M$54:$M$112=$M$19,O$54:O$112)))","v":651},{"$f":"AVERAGE(IF($L$54:$L$112=$K$19,IF($M$54:$M$112=$M$19,P$54:P$112)))","v":0.73028189454367531},{"$f":"AVERAGE(IF($L$54:$L$112=$N$19,IF($M$54:$M$112=$P$19,N$54:N$112)))","v":{"$error":"#DIV/0!"}},{"$f":"AVERAGE(IF($L$54:$L$112=$N$19,IF($M$54:$M$112=$P$19,O$54:O$112)))","v":{"$error":"#DIV/0!"}},{"$f":"AVERAGE(IF($L$54:$L$112=$N$19,IF($M$54:$M$112=$P$19,P$54:P$112)))","v":{"$error":"#DIV/0!"}}]
[null,null,null,"Low",{"$f":"MIN(IF($L$54:$L$112=E19,$N$54:$N$112))","v":485},{"$f":"MIN(IF($L$54:$L$112=E19,$O$54:$O$112))","v":470},{"$f":"MIN(IF($L$54:$L$112=E19,$P$54:$P$112))","v":0.70833333333333337},{"$f":"MIN(IF($L$54:$L$112=$H$19,IF($M$54:$M$112=$J$19,N$54:N$112)))","v":630},{"$f":"MIN(IF($L$54:$L$112=$H$19,IF($M$54:$M$112=$J$19,O$54:O$112)))","v":535},{"$f":"MIN(IF($L$54:$L$112=$H$19,IF($M$54:$M$112=$J$19,P$54:P$112)))","v":0.69894982497082847},{"$f":"MIN(IF($L$54:$L$112=$K$19,IF($M$54:$M$112=$M$19,N$54:N$112)))","v":761},{"$f":"MIN(IF($L$54:$L$112=$K$19,IF($M$54:$M$112=$M$19,O$54:O$112)))","v":615},{"$f":"MIN(IF($L$54:$L$112=$K$19,IF($M$54:$M$112=$M$19,P$54:P$112)))","v":0.64329268292682928},{"$f":"MIN(IF($L$54:$L$112=$N$19,IF($M$54:$M$112=$P$19,N$54:N$112)))","v":0},{"$f":"MIN(IF($L$54:$L$112=$N$19,IF($M$54:$M$112=$P$19,O$54:O$112)))","v":0},{"$f":"MIN(IF($L$54:$L$112=$N$19,IF($M$54:$M$112=$P$19,P$54:P$112)))","v":0}]
[]
[]
[]
[null,"Comparable Apartment Complexes"]
[]
[null,"Property Information",null,null,null,null,null,null,null,null,null,null,null,"Quoted Monthly Rent & Utilities"]
[null,null,"Property Name",null,null,"Year Built\nRenovated\n","Occupancy\nRate (%)\n","Total Number\nOf Units\n","Net Rentable\nArea\n",null,"Number\nOf Units\n","Bedrooms","Bathrooms","Unit Size\n(Sq Ft)\n","Market Rent\n(Month)\n","Market Rent\n(Sq Ft/Month)\n","Market Rent\nWith Utilities\n","Washer Dryer Situation"]
[null,"#","Address, City, State",null,null,null,null,null,null,null,null,null,null,null,null,null,null,null,"Comments"]
[null,"Subject",{"$f":"'[2]Project Dashboard'!G8","v":"Desert Wind"},null,null,{"$f":"'[2]KEY ASSUMPTIONS'!F10","v":1987},{"$f":"'[2]KEY ASSUMPTIONS'!F18","v":0.91},{"$f":"'[2]KEY ASSUMPTIONS'!D51","v":216},{"$f":"'[2]KEY ASSUMPTIONS'!P51","v":137472},"Current",{"$f":"IF('[2]KEY ASSUMPTIONS'!D41>0,'[2]KEY ASSUMPTIONS'!D41,\"\")","v":88},{"$f":"IF('[2]KEY ASSUMPTIONS'!B41>0,'[2]KEY ASSUMPTIONS'!B41,\"\")","v":1},{"$f":"IF('[2]KEY ASSUMPTIONS'!C41>0,'[2]KEY ASSUMPTIONS'!C41,\"\")","v":1},{"$f":"IF('[2]KEY ASSUMPTIONS'!F41>0,'[2]KEY ASSUMPTIONS'!F41,\"\")","v":535},{"$f":"IF('[2]KEY ASSUMPTIONS'!G41>0,'[2]KEY ASSUMPTIONS'!G41,\"\")","v":442},{"$f":"IF(N33<>\"\",O33/N33,\"\")","v":0.82616822429906545},null,"None","On-Site Laundry Center"]
[null,null,{"$f":"'[2]KEY ASSUMPTIONS'!F6","v":"4141 West Mcdowell Rd"},null,null,null,null,null,null,null,{"$f":"IF('[2]KEY ASSUMPTIONS'!D42>0,'[2]KEY ASSUMPTIONS'!D42,\"\")","v":40},{"$f":"IF('[2]KEY ASSUMPTIONS'!B42>0,'[2]KEY ASSUMPTIONS'!B42,\"\")","v":1},{"$f":"IF('[2]KEY ASSUMPTIONS'!C42>0,'[2]KEY ASSUMPTIONS'!C42,\"\")","v":1},{"$f":"IF('[2]KEY ASSUMPTIONS'!F42>0,'[2]KEY ASSUMPTIONS'!F42,\"\")","v":635},{"$f":"IF('[2]KEY ASSUMPTIONS'!G42>0,'[2]KEY ASSUMPTIONS'!G42,\"\")","v":486},0.76535433070866143,null,"None"]
[null,null,{"$f":"'[2]KEY ASSUMPTIONS'!F7","v":"Phoenix, AZ 85009"},null,null,null,null,null,null,null,{"$f":"IF('[2]KEY ASSUMPTIONS'!D43>0,'[2]KEY ASSUMPTIONS'!D43,\"\")","v":56},{"$f":"IF('[2]KEY ASSUMPTIONS'!B43>0,'[2]KEY ASSUMPTIONS'!B43,\"\")","v":2},{"$f":"IF('[2]KEY ASSUMPTIONS'!C43>0,'[2]KEY ASSUMPTIONS'!C43,\"\")","v":1},{"$f":"IF('[2]KEY ASSUMPTIONS'!F43>0,'[2]KEY ASSUMPTIONS'!F43,\"\")","v":716},{"$f":"IF('[2]KEY ASSUMPTIONS'!G43>0,'[2]KEY ASSUMPTIONS'!G43,\"\")","v":532},0.74301675977653636,null,"None"]
[null,null,null,null,null,null,null,null,null,null,{"$f":"IF('[2]KEY ASSUMPTIONS'!D44>0,'[2]KEY ASSUMPTIONS'!D44,\"\")","v":32},{"$f":"IF('[2]KEY ASSUMPTIONS'!B44>0,'[2]KEY ASSUMPTIONS'!B44,\"\")","v":2},{"$f":"IF('[2]KEY ASSUMPTIONS'!C44>0,'[2]KEY ASSUMPTIONS'!C44,\"\")","v":2},{"$f":"IF('[2]KEY ASSUMPTIONS'!F44>0,'[2]KEY ASSUMPTIONS'!F44,\"\")","v":778},{"$f":"IF('[2]KEY ASSUMPTIONS'!G44>0,'[2]KEY ASSUMPTIONS'!G44,\"\")","v":586},0.7532133676092545,null,"None"]
[null,null,null,null,null,null,null,null,null,null,{"$f":"IF('[2]KEY ASSUMPTIONS'!D45>0,'[2]KEY ASSUMPTIONS'!D45,\"\")","v":""},{"$f":"IF('[2]KEY ASSUMPTIONS'!B45>0,'[2]KEY ASSUMPTIONS'!B45,\"\")","v":""},{"$f":"IF('[2]KEY ASSUMPTIONS'!C45>0,'[2]KEY ASSUMPTIONS'!C45,\"\")","v":""},{"$f":"IF('[2]KEY ASSUMPTIONS'!F45>0,'[2]KEY ASSUMPTIONS'!F45,\"\")","v":""},{"$f":"IF('[2]KEY ASSUMPTIONS'!G45>0,'[2]KEY ASSUMPTIONS'!G45,\"\")","v":""},""]
[null,null,null,null,null,null,null,null,null,null,{"$f":"IF('[2]KEY ASSUMPTIONS'!D46>0,'[2]KEY ASSUMPTIONS'!D46,\"\")","v":""},{"$f":"IF('[2]KEY ASSUMPTIONS'!B46>0,'[2]KEY ASSUMPTIONS'!B46,\"\")","v":""},{"$f":"IF('[2]KEY ASSUMPTIONS'!C46>0,'[2]KEY ASSUMPTIONS'!C46,\"\")","v":""},{"$f":"IF('[2]KEY ASSUMPTIONS'!F46>0,'[2]KEY ASSUMPTIONS'!F46,\"\")","v":""},{"$f":"IF('[2]KEY ASSUMPTIONS'!G46>0,'[2]KEY ASSUMPTIONS'!G46,\"\")","v":""},""]
[null,null,null,null,null,null,null,null,null,null,{"$f":"IF('[2]KEY ASSUMPTIONS'!D47>0,'[2]KEY ASSUMPTIONS'!D47,\"\")","v":""},{"$f":"IF('[2]KEY ASSUMPTIONS'!B47>0,'[2]KEY ASSUMPTIONS'!B47,\"\")","v":""},{"$f":"IF('[2]KEY ASSUMPTIONS'!C47>0,'[2]KEY ASSUMPTIONS'!C47,\"\")","v":""},{"$f":"IF('[2]KEY ASSUMPTIONS'!F47>0,'[2]KEY ASSUMPTIONS'!F47,\"\")","v":""},{"$f":"IF('[2]KEY ASSUMPTIONS'!G47>0,'[2]KEY ASSUMPTIONS'!G47,\"\")","v":""},""]
[null,null,null,null,null,null,null,null,null,null,{"$f":"IF('[2]KEY ASSUMPTIONS'!D48>0,'[2]KEY ASSUMPTIONS'!D48,\"\")","v":""},{"$f":"IF('[2]KEY ASSUMPTIONS'!B48>0,'[2]KEY ASSUMPTIONS'!B48,\"\")","v":""},{"$f":"IF('[2]KEY ASSUMPTIONS'!C48>0,'[2]KEY ASSUMPTIONS'!C48,\"\")","v":""},{"$f":"IF('[2]KEY ASSUMPTIONS'!F48>0,'[2]KEY ASSUMPTIONS'!F48,\"\")","v":""},{"$f":"IF('[2]KEY ASSUMPTIONS'!G48>0,'[2]KEY ASSUMPTIONS'!G48,\"\")","v":""},{"$f":"IF(N40<>\"\",O40/N40,\"\")","v":""}]
[null,null,null,null,null,null,null,null,null,null,{"$f":"IF('[2]KEY ASSUMPTIONS'!D49>0,'[2]KEY ASSUMPTIONS'!D49,\"\")","v":""},{"$f":"IF('[2]KEY ASSUMPTIONS'!B49>0,'[2]KEY ASSUMPTIONS'!B49,\"\")","v":""},{"$f":"IF('[2]KEY ASSUMPTIONS'!C49>0,'[2]KEY ASSUMPTIONS'!C49,\"\")","v":""},{"$f":"IF('[2]KEY ASSUMPTIONS'!F49>0,'[2]KEY ASSUMPTIONS'!F49,\"\")","v":""},{"$f":"IF('[2]KEY ASSUMPTIONS'!G49>0,'[2]KEY ASSUMPTIONS'!G49,\"\")","v":""},{"$f":"IF(N41<>\"\",O41/N41,\"\")","v":""}]
[null,null,null,null,null,null,null,null,null,null,{"$f":"SUM(K33:K41)","v":216},null,null,{"$f":"SUMPRODUCT($K33:$K41,N33:N41)/$K42","v":636.44444444444446},{"$f":"SUMPRODUCT($K33:$K41,O33:O41)/$K42","v":494.81481481481484},{"$f":"O42/N42","v":0.77746741154562382}]
[null,null,null,null,null,null,null,null,null,"Target",{"$f":"IF('[2]KEY ASSUMPTIONS'!D41>0,'[2]KEY ASSUMPTIONS'!D41,\"\")","v":88},{"$f":"IF('[2]KEY ASSUMPTIONS'!B41>0,'[2]KEY ASSUMPTIONS'!B41,\"\")","v":1},{"$f":"IF('[2]KEY ASSUMPTIONS'!C41>0,'[2]KEY ASSUMPTIONS'!C41,\"\")","v":1},{"$f":"IF('[2]KEY ASSUMPTIONS'!F41>0,'[2]KEY ASSUMPTIONS'!F41,\"\")","v":535},{"$f":"IF('[2]KEY ASSUMPTIONS'!J41>0,'[2]KEY ASSUMPTIONS'!J41,\"\")","v":560},1.0467289719626167,{"$f":"O43","v":560},"None"]
[null,null,null,null,null,null,null,null,null,null,{"$f":"IF('[2]KEY ASSUMPTIONS'!D42>0,'[2]KEY ASSUMPTIONS'!D42,\"\")","v":40},{"$f":"IF('[2]KEY ASSUMPTIONS'!B42>0,'[2]KEY ASSUMPTIONS'!B42,\"\")","v":1},{"$f":"IF('[2]KEY ASSUMPTIONS'!C42>0,'[2]KEY ASSUMPTIONS'!C42,\"\")","v":1},{"$f":"IF('[2]KEY ASSUMPTIONS'!F42>0,'[2]KEY ASSUMPTIONS'!F42,\"\")","v":635},{"$f":"IF('[2]KEY ASSUMPTIONS'!J42>0,'[2]KEY ASSUMPTIONS'!J42,\"\")","v":580},0.91338582677165359,{"$f":"O44","v":580},"None"]
[null,null,null,null,null,null,null,null,null,null,{"$f":"IF('[2]KEY ASSUMPTIONS'!D43>0,'[2]KEY ASSUMPTIONS'!D43,\"\")","v":56},{"$f":"IF('[2]KEY ASSUMPTIONS'!B43>0,'[2]KEY ASSUMPTIONS'!B43,\"\")","v":2},{"$f":"IF('[2]KEY ASSUMPTIONS'!C43>0,'[2]KEY ASSUMPTIONS'!C43,\"\")","v":1},{"$f":"IF('[2]KEY ASSUMPTIONS'!F43>0,'[2]KEY ASSUMPTIONS'!F43,\"\")","v":716},{"$f":"IF('[2]KEY ASSUMPTIONS'!J43>0,'[2]KEY ASSUMPTIONS'!J43,\"\")","v":605},0.8449720670391061,{"$f":"O45","v":605},"None"]
[null,null,null,null,null,null,null,null,null,null,{"$f":"IF('[2]KEY ASSUMPTIONS'!D44>0,'[2]KEY ASSUMPTIONS'!D44,\"\")","v":32},{"$f":"IF('[2]KEY ASSUMPTIONS'!B44>0,'[2]KEY ASSUMPTIONS'!B44,\"\")","v":2},{"$f":"IF('[2]KEY ASSUMPTIONS'!C44>0,'[2]KEY ASSUMPTIONS'!C44,\"\")","v":2},{"$f":"IF('[2]KEY ASSUMPTIONS'!F44>0,'[2]KEY ASSUMPTIONS'!F44,\"\")","v":778},{"$f":"IF('[2]KEY ASSUMPTIONS'!J44>0,'[2]KEY ASSUMPTIONS'!J44,\"\")","v":635},0.81619537275064269,635,"None"]
[]
[]
[]
[null,null,null,null,null,null,null,null,null,null,{"$f":"IF('[2]KEY ASSUMPTIONS'!D48>0,'[2]KEY ASSUMPTIONS'!D48,\"\")","v":""}]
[null,null,null,null,null,null,null,null,null,null,{"$f":"IF('[2]KEY ASSUMPTIONS'!D49>0,'[2]KEY ASSUMPTIONS'!D49,\"\")","v":""}]
[null,null,null,null,null,null,null,null,null,null,{"$f":"SUM(K43:K51)","v":216},null,null,{"$f":"SUMPRODUCT($K43:$K51,N43:N51)/$K52","v":636.44444444444446},{"$f":"SUMPRODUCT($K43:$K51,O43:O51)/$K52","v":586.48148148148152},{"$f":"O52/N52","v":0.92149674115456248},{"$f":"SUMPRODUCT($K43:$K51,Q43:Q51)/$K52","v":586.48148148148152}]
[null,"Statistics (Excluding Subject)"]
[null,1,"TIERRA SANTA",null,null,1987,0.94,{"$f":"SUM(K54:K58)","v":274},{"$f":"SUMPRODUCT(K54:K58,N54:N58)","v":159948},null,32,0,1,400,420,{"$f":"O54/N54","v":1.05},{"$f":"O54","v":420},"None"]
[null,null,"4620 West McDowell Road",null,null,null,null,{"$f":"SUMPRODUCT(K54:K58,P54:P58)/H54","v":0.99388789686159507},null,null,80,1,1,485,560,1.1546391752577319,{"$f":"O55","v":560},"None"]
[null,null,"Phoenix, AZ 85035",null,null,null,null,{"$f":"SUMPRODUCT(K54:K58,N54:N58)/H54","v":583.75182481751824},null,null,50,1,1,630,565,0.89682539682539686,{"$f":"O56","v":565},"None"]
[null,null,null,null,null,null,null,null,null,null,64,2,1,630,605,0.96031746031746035,{"$f":"O57","v":605},"None"]
[null,null,"0.6 W",null,null,null,null,{"$f":"SUMPRODUCT(K54:K58,O54:O58)/H54","v":568.21167883211683},null,null,48,2,2,761,635,0.83442838370565042,{"$f":"O58","v":635},"None"]
[null,2,"WHISPERING PALMS",null,null,1985,0.95,{"$f":"SUM(K59:K62)","v":200},{"$f":"SUMPRODUCT(K59:K62,N59:N62)","v":174464},null,64,1,1,635,544,0.85669291338582676,{"$f":"O59","v":544},"Hookup"]
[null,null,"1401 North 43rd Avenue",null,null,null,null,{"$f":"SUMPRODUCT(K59:K62,P59:P62)/H59","v":0.71158075667370835},null,null,136,2,2,984,633,0.64329268292682928,633,"Hookup"]
[null,null,"Phoenix, AZ 85009",null,null,null,null,{"$f":"SUMPRODUCT(K59:K62,N59:N62)/H59","v":872.32}]
[null,null,"0.2 SW",null,null,null,null,{"$f":"SUMPRODUCT(K59:K62,O59:O62)/H59","v":604.52}]
[null,3,"LOS VECINOS",null,null,1985,0.97,{"$f":"SUM(K63:K67)","v":483},{"$f":"SUMPRODUCT(K63:K67,N63:N67)","v":222630},null,168,0,1,385,378,{"$f":"O63/N63","v":0.98181818181818181},378,"None"]
[null,null,"1950 North 43rd Avenue",null,null,null,null,{"$f":"SUMPRODUCT(K63:K67,P63:P67)/H63","v":0.95850011502185417},null,null,310,1,1,495,470,0.9494949494949495,470,"None"]
[null,null,"Phoenix, AZ 85009",null,null,null,null,{"$f":"SUMPRODUCT(K63:K67,N63:N67)/H63","v":460.93167701863354},null,null,5,2,1,900,660,0.73333333333333328,660,"None"]
[null,null,"0.3 NW",null,null,null,null,{"$f":"SUMPRODUCT(K63:K67,O63:O67)/H63","v":439.96687370600415}]
[]
[null,4,"LYNNWOOD",null,null,1980,0.9,{"$f":"SUM(K68:K71)","v":300},{"$f":"SUMPRODUCT(K68:K71,N68:N71)","v":212880},null,72,1,1,625,499,{"$f":"O68/N68","v":0.7984},499]
[null,null,"5535 West McDowell Road",null,null,null,null,{"$f":"SUMPRODUCT(K68:K71,P68:P71)/H68","v":0.77738335487183252},null,null,108,2,1,670,535,0.79850746268656714,535]
[null,null,"Phoenix, AZ 85035",null,null,null,null,{"$f":"SUMPRODUCT(K68:K71,N68:N71)/H68","v":709.6},null,null,72,2,1,740,575,0.77702702702702697,575]
[null,null,"1.7 W",null,null,null,null,{"$f":"SUMPRODUCT(K68:K71,O68:O71)/H68","v":548.76},null,null,48,2,2,880,615,0.69886363636363635,615]
[null,5,"CASA SOL",null,null,1985,0.9,{"$f":"SUM(K72:K81)","v":247},{"$f":"SUMPRODUCT(K72:K81,N72:N81)","v":180180},null,1,0,1,473,399,0.84355179704016914,399,"None"]
[null,null,"4102 West Osborn Road",null,null,null,null,{"$f":"SUMPRODUCT(K72:K81,P72:P81)/H72","v":0.76847138883872479},null,null,23,1,1,576,499,0.86631944444444442,499,"None"]
[null,null,"Phoenix, AZ 85019",null,null,null,null,{"$f":"SUMPRODUCT(K72:K81,N72:N81)/H72","v":729.47368421052636},null,null,15,1,1,607,499,0.82207578253706759,499,"None"]
[null,null,null,null,null,null,null,null,null,null,12,1,1,615,499,0.81138211382113823,499,"None"]
[null,null,null,null,null,null,null,null,null,null,12,1,1,645,499,0.77364341085271315,499,"None"]
[null,null,null,null,null,null,null,null,null,null,61,1,1,645,499,0.77364341085271315,499,"None"]
[null,null,null,null,null,null,null,null,null,null,33,2,1,763,599,0.78505897771952815,599,"None"]
[null,null,null,null,null,null,null,null,null,null,30,2,1,857,599,0.69894982497082847,599,"None"]
[null,null,null,null,null,null,null,null,null,null,32,2,2,855,630,0.73684210526315785,630,"None"]
[null,null,"1.6 N",null,null,null,null,{"$f":"SUMPRODUCT(K72:K81,O72:O81)/H72","v":555.92307692307691},null,null,28,2,2,880,630,0.71590909090909094,630,"None"]
[null,6,"MARBLE CREEK",null,null,1985,0.95,{"$f":"SUM(K82:K85)","v":244},{"$f":"SUMPRODUCT(K82:K85,N82:N85)","v":206080},null,108,1,1,720,510,0.70833333333333337,510,"None"]
[null,null,"5601 West McDowell Road",null,null,null,null,{"$f":"SUMPRODUCT(K82:K85,P82:P85)/H82","v":0.71839578454332553},null,null,48,2,1,840,620,0.73809523809523814,620,"None"]
[null,null,"Phoenix, AZ 85035",null,null,null,null,{"$f":"SUMPRODUCT(K82:K85,N82:N85)/H82","v":844.59016393442619},null,null,88,2,2,1000,720,0.72,720,"None"]
[null,null,"1.9 W",null,null,null,null,{"$f":"SUMPRODUCT(K82:K85,O82:O85)/H82","v":607.37704918032784}]
[null,7,"DESERT SKY ESTATES",null,null,1985,0.95,{"$f":"SUM(K86:K90)","v":300},{"$f":"SUMPRODUCT(K86:K90,N86:N90)","v":216140},null,68,1,1,525,510,0.97142857142857142,510,"None"]
[null,null,"6233 West Thomas Road",null,null,null,null,{"$f":"SUMPRODUCT(K86:K90,P86:P90)/H86","v":0.84825249416351545},null,null,124,1,1,690,587,0.85072463768115947,587,"None"]
[null,null,"Phoenix, AZ 85033",null,null,null,null,{"$f":"SUMPRODUCT(K86:K90,N86:N90)/H86","v":720.4666666666667},null,null,68,2,1,860,663,0.77093023255813953,663,"None"]
[null,null,"2.7 NW",null,null,null,null,{"$f":"SUMPRODUCT(K86:K90,O86:O90)/H86","v":601.04},null,null,40,2,2,910,694,0.76263736263736259,694,"None"]
[]
[null,8,null,null,null,null,null,{"$f":"SUM(K91:K95)","v":0},{"$f":"SUMPRODUCT(K91:K95,N91:N95)","v":0},null,null,null,null,null,null,null,0]
[null,null,null,null,null,null,null,{"$f":"SUMPRODUCT(K91:K95,P91:P95)/H91","v":{"$error":"#DIV/0!"}},null,null,null,null,null,null,null,null,0]
[null,null,null,null,null,null,null,{"$f":"SUMPRODUCT(K91:K95,N91:N95)/H91","v":{"$error":"#DIV/0!"}},null,null,null,null,null,null,null,null,0]
[null,null,null,null,null,null,null,{"$f":"SUMPRODUCT(K91:K95,O91:O95)/H91","v":{"$error":"#DIV/0!"}},null,null,null,null,null,null,null,null,0]
[null,null,null,null,null,null,null,null,null,null,null,null,null,null,null,null,0]
[null,9,null,null,null,null,null,{"$f":"SUM(K96:K99)","v":0},{"$f":"SUMPRODUCT(K96:K99,N96:N99)","v":0},null,null,null,null,null,null,null,0]
[null,null,null,null,null,null,null,{"$f":"SUMPRODUCT(K96:K99,P96:P99)/H96","v":{"$error":"#DIV/0!"}},null,null,null,null,null,null,null,null,0]
[null,null,null,null,null,null,null,{"$f":"SUMPRODUCT(K96:K99,N96:N99)/H96","v":{"$error":"#DIV/0!"}},null,null,null,null,null,null,null,null,0]
[null,null,null,null,null,null,null,{"$f":"SUMPRODUCT(K96:K99,O96:O99)/H96","v":{"$error":"#DIV/0!"}},null,null,null,null,null,null,null,null,0]
[null,10,null,null,null,null,null,{"$f":"SUM(K100:K103)","v":0},{"$f":"SUMPRODUCT(K100:K103,N100:N103)","v":0},null,null,null,null,null,null,null,0]
[null,null,null,null,null,null,null,{"$f":"SUMPRODUCT(K100:K103,P100:P103)/H100","v":{"$error":"#DIV/0!"}},null,null,null,null,null,null,null,null,0]
[null,null,null,null,null,null,null,{"$f":"SUMPRODUCT(K100:K103,N100:N103)/H100","v":{"$error":"#DIV/0!"}},null,null,null,null,null,null,null,null,0]
[null,null,null,null,null,null,null,{"$f":"SUMPRODUCT(K100:K103,O100:O103)/H100","v":{"$error":"#DIV/0!"}},null,null,null,null,null,null,null,null,0]
[null,11,null,null,null,null,null,{"$f":"SUM(K104:K108)","v":0},{"$f":"SUMPRODUCT(K104:K108,N104:N108)","v":0},null,null,null,null,null,null,null,0]
[null,null,null,null,null,null,null,{"$f":"SUMPRODUCT(K104:K108,P104:P108)/H104","v":{"$error":"#DIV/0!"}},null,null,null,null,null,null,null,null,0]
[null,null,null,null,null,null,null,{"$f":"SUMPRODUCT(K104:K108,N104:N108)/H104","v":{"$error":"#DIV/0!"}},null,null,null,null,null,null,null,null,0]
[null,null,null,null,null,null,null,{"$f":"SUMPRODUCT(K104:K108,O104:O108)/H104","v":{"$error":"#DIV/0!"}},null,null,null,null,null,null,null,null,0]
[null,null,null,null,null,null,null,null,null,null,null,null,null,null,null,null,0]
[null,12,null,null,null,null,null,{"$f":"SUM(K109:K112)","v":0},{"$f":"SUMPRODUCT(K109:K112,N109:N112)","v":0},null,null,null,null,null,null,null,0]
[null,null,null,null,null,null,null,{"$f":"SUMPRODUCT(K109:K112,P109:P112)/H109","v":{"$error":"#DIV/0!"}},null,null,null,null,null,null,null,null,0]
[null,null,null,null,null,null,null,{"$f":"SUMPRODUCT(K109:K112,N109:N112)/H109","v":{"$error":"#DIV/0!"}},null,null,null,null,null,null,null,null,0]
[null,null,null,null,null,null,null,{"$f":"SUMPRODUCT(K109:K112,O109:O112)/H109","v":{"$error":"#DIV/0!"}},null,null,null,null,null,null,null,null,0]

{"sheet":"Photo","index":2,"n_rows":149,"n_cols":1,"rows_kept":149,"cut":false,"hidden":false,"merged":[[1,0,2,17]]}
[]
["Comparable Apartment Complexes"]
[]
[]
[]
[]
[]
[]
[{"$f":"Comps!D4","v":"Subject Property"}]
[]
[]
[]
[]
[]
[]
[]
[]
[]
[]
[]
[]
[]
[]
[]
[]
[]
[]
[]
[{"$f":"Comps!D5","v":"TIERRA SANTA"}]
[]
[]
[]
[]
[]
[]
[]
[]
[]
[]
[]
[]
[]
[]
[]
[]
[]
[]
[]
[{"$f":"Comps!D6","v":"WHISPERING PALMS"}]
[]
[]
[]
[]
[]
[]
[]
[]
[]
[]
[]
[]
[]
[]
[]
[]
[]
[]
[]
[{"$f":"Comps!D7","v":"LOS VECINOS"}]
[]
[]
[]
[]
[]
[]
[]
[]
[]
[]
[]
[]
[]
[]
[]
[]
[]
[]
[]
[{"$f":"Comps!D8","v":"LYNNWOOD"}]
[]
[]
[]
[]
[]
[]
[]
[]
[]
[]
[]
[]
[]
[]
[]
[]
[]
[]
[]
[{"$f":"Comps!D9","v":"CASA SOL"}]
[]
[]
[]
[]
[]
[]
[]
[]
[]
[]
[]
[]
[]
[]
[]
[]
[]
[]
[]
[{"$f":"Comps!D10","v":"MARBLE CREEK"}]
[]
[]
[]
[]
[]
[]
[]
[]
[]
[]
[]
[]
[]
[]
[]
[]
[]
[]
[]
[{"$f":"Comps!D11","v":"DESERT SKY ESTATES"}]

{"sheet":"Rent Roll","index":3,"n_rows":282,"n_cols":14,"rows_kept":282,"cut":false,"hidden":false,"merged":[]}
["Unit","Unit Type","Sqft","Resident","Name","Rent","Charge","Amount","Resident","Other","Move In","Lease","Move Out","Balance"]
[1,"145th",1444,"t1774949","Margarita Diamond",1050,"watr",44,0,0,"2012-05-30","2016-04-17",null,1043]
[2,"145th",1444,"t1774950","Ralph Albanese",1050,"watr",44,125,0,"1980-08-01","2016-04-17",null,1094]
[5,"145th",1444,"t1790457","Jose Figuroa",1050,"rnta",1100,0,0,"2015-05-01","2016-04-30",null,1144]
[6,"145th",1444,"t1774953","Susan Hoerner",1050,"petf",30,250,0,"2011-01-20","2016-01-25",null,1025.9000000000001]
[8,"145th",1444,"t1791257","Kenyatta Wiggins",1050,"rnta",1050,0,0,"2015-06-26","2016-06-25",null,2765.5]
[9,"14522d",910,"t1790720","Elizabeth Kennedy",641,"rnta",681,0,0,"2015-05-29","2016-05-28",null,715]
[10,"14522u",910,"t1774956","Cary Tash",641,"petf",30,0,0,"2012-04-25","2016-06-30",null,0]
[11,"14522d",910,"t1788851","Arryonne Baldus",641,"rnta",641,0,0,"2014-12-07","2015-12-06",null,0]
[12,"14522u",910,"t1787028","Pedro Torres De-Jesus",641,"rnta",621,0,0,"2014-09-29","2015-09-28",null,655]
[13,"14522d",910,"t1783679","Mike Francis",641,"watr",34,0,0,"2014-03-08","2016-05-17",null,675]
[14,"14522u",910,"t1787792","Tamara Calana",641,"watr",34,0,0,"2014-10-10","2015-11-09",null,665]
[15,"14522d",910,"t1791476","Ema Urias",641,"rnta",716,0,0,"2015-08-01","2016-07-31",null,750]
[16,"14522u",910,"t1786929","AnnMarie Smith",631,"watr",34,0,0,"2014-08-26","2015-11-25",null,0]
[18,"14532u",1153,"t1791314","Lucia Solis",826,"rnta",816,0,0,"2015-07-30","2016-07-29",null,0]
[21,"14532d",1153,"t1775992","Hugo Perez",816,"watr",42,0,0,"2013-06-05","2015-06-04",null,1418]
[22,"14532u",1153,"t1787874","Omar Grande-Quintana",826,"rnta",816,0,0,"2014-11-01","2015-10-31",null,0]
[23,"14532d",1153,"t1785998","Mark Roberts",816,"watr",44,0,0,"2014-07-30","2016-03-01",null,776]
[24,"14532u",1153,"t1776191","Hollanda Asansa",816,"watr",44,0,0,"2013-07-11","2016-01-27",null,950]
[25,"145th",1444,"t1789239","Joseph Rahn",1050,"rnta",1050,0,0,"2015-01-21","2016-01-20",null,1184]
[26,"145th",1444,"t1776189","Lilia Lopez",1050,"watr",32,0,0,"2013-07-01","2015-06-30",null,1331.5]
[27,"14532d",1153,"t1774969","Raphael Andrada",816,"watr",44,75,0,"2002-10-21","2016-07-20",null,-40]
[28,"14532u",1153,"t1791464","Kevin May",816,"rnta",816,0,0,"2015-07-17","2016-07-16",null,860.5]
[29,"14532d",1153,"t1791309","John Baloyot",816,"rnta",826,0,0,"2015-07-01","2016-06-30",null,0]
[30,"14532u",1153,"t1789157","Ontoniel Berrera",816,"rnta",816,0,0,"2015-01-10","2016-01-09",null,860]
[31,"14532d",1153,"t1785008","Edlyn Salvador",816,"watr",44,0,0,"2014-05-30","2016-05-29",null,880]
[32,"14532u",1153,"t1779908","Kylie Dougman",826,"watr",44,0,0,"2013-11-02","2014-11-01","2015-09-30",1]
[35,"145th",1444,"t1790662","Kristopher Youts",1050,"rnta",1050,150,0,"2015-06-01","2016-05-31",null,1094]
[37,"14522d",910,"t1774976","Antonio Martinez-Garcia",641,"rnta",631,0,0,"2009-09-09","2016-01-04",null,0]
[38,"14522u",910,"t1780898","Nenita Denao",641,"watr",34,0,0,"2013-11-01","2015-10-31",null,640]
[39,"14522d",910,"t1789810","Siohquei Donald",641,"watr",34,0,0,"2015-03-10","2016-03-09",null,675]
[40,"14522u",910,"t1790581","Keekee Phillips",631,"rnta",641,0,0,"2015-04-30","2016-04-29",null,739.03]
[41,"14522d",910,"t1776183","Alexander Santiago",641,"rnta",641,0,0,"2013-06-26","2016-06-25",null,0]
[44,"14522u",910,"t1789649","Rhonda Smith",641,"rnta",631,0,0,"2015-03-06","2016-03-05",null,0]
[45,"14532d",1153,"t1783010","Agner Penuliar",816,"watr",44,0,0,"2014-01-26","2016-01-25",null,0]
[46,"14532u",1153,"t1774981","Feza Minani",826,"watr",44,250,0,"2012-01-31","2014-12-31",null,1062]
[47,"14532d",1153,"t1789177","Luis DeLaCruz",816,"rnta",826,0,0,"2015-01-10","2016-01-09",null,-50]
[48,"14532u",1153,"t1791806","Martha Gomez",826,"rnta",876,0,0,"2015-09-01","2016-08-31",null,0]
[49,"14511d",680,"t1791069","Jose Garcia",541,"rnta",541,0,0,"2015-06-12","2016-03-11",null,0]
[50,"14511u",680,"t1791495","Micheal Nevirs",531,"rnta",531,0,0,"2015-08-03","2016-08-02",null,0]
[51,"14511d",680,"t1786553","Eric Taylor",541,"watr",24,0,0,"2014-08-16","2016-08-15",null,848]
[52,"14511u",680,"t1791177","Sandro Hernandez",531,"rnta",581,0,0,"2015-06-30","2016-03-29",null,0]
[53,"14511d",680,"t1791416","Elysa Jackson",541,"rnta",571,0,0,"2015-07-17","2016-07-16",null,-43.66]
[54,"14511u",680,"t1790013","Saul Aguilar",531,"rnta",561,0,0,"2015-03-12","2016-03-11",null,0]
[55,"14511d",680,"t1790716","Maria Dalmacio",541,"rnta",571,0,0,"2015-05-29","2016-05-28",null,0]
[56,"14511u",680,"t1790500","Steven Hampel",531,"rnta",561,0,0,"2015-04-22","2016-04-21",null,578]
[57,"14511d",680,"t1774991","Ricky Marczak",541,"rnta",549,0,0,"2012-08-23","2016-08-22",null,0]
[58,"14511u",680,"t1789933","Rodnys Gonzalez-Garces",531,"rnta",531,0,0,"2015-03-04","2016-03-03",null,630]
[59,"14511d",680,"t1784389","Daryl Franklin",541,"watr",24,0,0,"2014-04-27","2016-04-26",null,0]
[60,"14511u",680,"t1791628","Joseph Del Rio",531,"rnta",531,0,0,"2015-08-04","2016-08-03",null,0]
[61,"14511d",680,"t1791078","Jeanne Zobel",541,"rnta",556,0,0,"2015-06-05","2016-06-04",null,580]
[62,"14511u",680,"t1786207","By-She Servance",531,"watr",24,0,0,"2014-09-05","2016-06-04",null,0]
[63,"14511d",680,"t1774996","Yolanda Ibarra",541,"watr",24,0,0,"2011-08-30","2015-12-31",null,645]
[64,"14511u",680,"t1789173","Joseph Davis",531,"rnta",531,0,0,"2015-01-13","2016-01-12",null,566.9]
[65,"14522d",910,"t1787881","Jose Amaya",641,"watr",34,0,0,"2014-11-29","2016-02-22",null,100]
[66,"14522u",910,"t1784106","Susana Lopez",631,"watr",34,0,0,"2014-04-01","2016-03-31",null,0]
[67,"14522d",910,"t1785816","Jocelyn Jimenez",641,"watr",34,0,0,"2014-07-01","2016-06-30",null,0]
[68,"14522u",910,"t1775000","Jose Hernandez-Marin",641,"watr",34,0,0,"2012-10-20","2015-10-31",null,0]
[69,"14522d",910,"t1787873","Mario Thomas",641,"rnta",631,0,0,"2014-10-29","2015-10-28",null,683.27]
[70,"14522u",910,"t1787295","Tania Rodriguez",631,"rnta",631,0,0,"2014-09-30","2016-09-29",null,665]
[71,"14522d",910,"t1775003","Keith McKeever",641,"rnta",641,0,0,"2011-05-31","2016-02-02",null,11.5]
[72,"14522u",910,"t1783816","Arcenio Lagas",641,"watr",34,0,0,"2014-04-01","2016-02-18",null,0]
[73,"14522d",910,"t1787698","Loxie Bradley",641,"rnta",631,0,0,"2014-11-07","2015-11-06",null,0]
[74,"14522u",910,"t1787951","Rosalyn Co",641,"rnta",631,0,0,"2014-11-03","2015-11-02",null,75]
[75,"14522d",910,"t1789082","Susie Odusanya",641,"rnta",641,0,0,"2015-01-02","2015-10-01",null,675]
[76,"14522u",910,"t1784115","Isaias Posada",641,"watr",34,0,0,"2014-04-01","2016-04-30",null,0]
[78,"14522u",910,"t1786082","Darwin Bello",631,"watr",34,0,0,"2014-07-08","2016-01-07",null,675]
[79,"14522d",910,"t1775009","Kathleen Dunfee",641,"preemp",-32.049999999999997,0,0,"2011-12-06","2015-12-16",null,0]
[80,"14522u",910,"t1787971","Carlos Chan-May",641,"rnta",631,0,0,"2014-11-07","2015-11-06",null,0]
[81,"14521d",816,"t1775011","Mary Hoppler",616,"watr",34,225,0,"1985-08-01","2016-08-21",null,-7]
[82,"14521u",816,"t1790328","Jasmin Grill",626,"rnta",656,0,0,"2015-04-03","2016-04-02",null,0]
[85,"14521d",816,"t1775015","Ben Mitani",616,"watr",34,150,0,"2002-08-21","2016-07-03",null,0]
[86,"14521u",816,"t1787866","Sharmaine Domingo",626,"rnta",616,0,0,"2014-10-22","2015-10-21","2015-09-09",195]
[87,"14521d",816,"t1791557","Brandon Scotto",616,"rnta",626,0,0,"2015-07-20","2016-07-19",null,0]
[88,"14521u",816,"t1790474","Tavette Franklin",626,"rnta",706,0,0,"2015-04-25","2016-04-24",null,1816]
[89,"14521d",816,"t1775018","Jaime Parlero",616,"rnta",600,250,0,"2011-11-04","2015-10-15",null,0]
[90,"14521u",816,"t1786916","Luis DeLaCruz-Salgado",626,"watr",34,0,0,"2014-09-02","2016-06-01",null,53]
[91,"14521d",816,"t1775020","Sallyann Verdi",616,"watr",34,0,0,"2012-12-19","2016-06-28",null,-0.1]
[92,"14521u",816,"t1775021","Julie Hickman",626,"watr",34,125,0,"2011-12-20","2016-05-23",null,650]
[93,"14521d",816,"t1791555","Monica Medlock",616,"rnta",626,0,0,"2015-08-01","2016-07-31",null,749.5]
[94,"14521u",816,"t1783002","Victoria Harbison",616,"watr",34,0,0,"2014-02-12","2016-02-11",null,0]
[95,"14521d",816,"t1775024","Roberta Gehl",616,"watr",34,200,0,"2010-05-18","2016-03-31",null,0]
[96,"14521u",816,"t1786081","Shirley Fernando",616,"watr",34,0,0,"2014-07-08","2016-01-14",null,650]
[97,"14521d",816,"t1785636","Elina Leyva",616,"watr",34,0,0,"2014-06-27","2016-06-25",null,0]
[98,"14521u",816,"t1791614","Tyrone Taylor",626,"rnta",616,0,0,"2015-07-31","2016-07-30",null,0]
[99,"14521d",816,"t1784835","Charles Koukoulis",616,"watr",34,0,0,"2014-05-24","2016-08-11",null,650]
[100,"14521u",816,"t1791259","Roberto Hidalgo Frenandez",626,"rnta",616,0,0,"2015-07-01","2016-03-31",null,0.2]
[101,"14521d",816,"t1791989","Iris Alavrez- Gonzales",616,"rnta",626,0,0,"2015-09-01","2016-08-31",null,-99]
[102,"14521u",816,"t1791783","Virgina Cuevas",616,"rnta",616,0,0,"2015-09-01","2016-05-31",null,-59]
[103,"14521d",816,"t1775030","Raymond Washington",616,"rnta",641,0,0,"2010-04-29","2016-06-12",null,0]
[104,"14521u",816,"t1791363","Doreal Van Buren",626,"rnta",616,0,0,"2015-06-30","2016-06-29",null,0]
[105,"14522d",910,"t1778322","Mark Bautista",641,"watr",34,0,0,"2013-09-05","2016-03-04",null,663.67]
[107,"14522d",910,"t1776810","Aurelio Solano",641,"watr",34,0,0,"2013-08-15","2016-03-26",null,0]
[109,"14522d",910,"t1789140","Arianna Chicatto",641,"rnta",641,0,0,"2015-01-13","2016-01-12",null,887]
[110,"14522u",910,"t1787294","Bimala Gurung",631,"rnta",631,0,0,"2014-09-09","2016-03-08",null,-2.66]
[111,"14522d",910,"t1791623","Placido Corpuz",641,"rnta",641,0,0,"2015-08-10","2016-08-09",null,600]
[112,"14522u",910,"t1775035","Carl Dillard",641,"watr",34,250,0,"2011-11-08","2016-05-25",null,0]
[113,"14521d",816,"t1789734","Alma Martinez",616,"rnta",626,0,0,"2015-02-25","2016-02-24",null,0]
[114,"14521u",816,"t1785575","Kerry Bray",626,"watr",34,0,0,"2014-06-02","2016-03-31",null,50]
[115,"14521d",816,"t1787942","Damon Lopez",616,"rnta",616,0,0,"2014-11-01","2015-10-31",null,649]
[117,"14521d",816,"t1786420","Jorge Gonzalez",616,"watr",34,0,0,"2014-08-05","2016-08-04",null,838]
[118,"14521u",816,"t1789217","Linda Stanton",626,"rnta",616,0,0,"2015-01-15","2016-01-14",null,50]
[119,"14521d",816,"t1782983","Manuel Martinez",626,"watr",34,0,0,"2014-01-23","2016-07-31",null,660]
[120,"14521u",816,"t1791680","Humberto Royal",616,"rnta",616,0,0,"2015-08-07","2016-08-06",null,650]
[121,"14521d",816,"t1789168","Qiana Grier",616,"watr",34,0,0,"2015-01-15","2016-01-14",null,0]
[122,"14521u",816,"t1786841","Keith Meredith",616,"watr",34,0,0,"2014-08-22","2016-08-21",null,0]
[123,"14521d",816,"t1779580","Perla Lopez",616,"watr",34,0,0,"2013-11-26","2015-11-25",null,620]
[124,"14521u",816,"t1790501","Wendy Acosta",626,"rnta",656,0,0,"2015-04-17","2016-04-16",null,779.16]
[125,"14521d",816,"t1790684","Rachel Kelly",616,"rnta",626,0,0,"2015-06-01","2016-05-31",null,90]
[126,"14521u",816,"t1775047","Teshanna Jones",626,"watr",34,0,0,"2012-10-04","2016-04-03",null,750]
[127,"14521d",816,"t1791925","Felicia Waits",616,"rnta",641,0,0,"2015-09-03","2016-09-02",null,0]
[128,"14521u",816,"t1789057","Tonya Hrenko",616,"watr",34,0,0,"2014-12-17","2015-07-16",null,0]
[129,"14522d",910,"t1788711","Jose Bastido",641,"rnta",641,0,0,"2014-11-01","2015-10-31",null,675]
[130,"14522u",910,"t1786963","Wesley West",631,"watr",34,0,0,"2014-08-31","2016-03-01",null,803]
[131,"14522d",910,"t1785947","Michele Quion",641,"watr",34,0,0,"2014-07-07","2016-02-06",null,765]
[132,"14522u",910,"t1789360","Darcie Culley",641,"rnta",631,0,0,"2015-02-01","2016-01-31",null,690]
[133,"14522d",910,"t1791452","Jose Jarlego",641,"rnta",641,0,0,"2015-07-17","2016-07-16",null,-1]
[135,"14522d",910,"t1775053","Roseline Prudent",641,"watr",34,250,0,"2010-03-01","2015-12-03",null,0]
[136,"14522u",910,"t1787557","Johnny Bartunek",641,"watr",34,0,0,"2014-10-05","2015-11-03",null,0]
[137,"14521d",816,"t1789777","Daphne Querol",616,"rnta",626,0,0,"2015-03-01","2016-02-29",null,-627]
[138,"14521u",816,"t1791679","Nancy Nguyen",616,"rnta",616,0,0,"2015-08-27","2016-08-26",null,-21.67]
[139,"14521d",816,"t1775057","Elizabeth Reynoso",616,"watr",34,150,0,"2011-07-05","2016-07-23",null,650]
[140,"14521u",816,"t1775058","Nicole Furlow",616,"watr",34,250,0,"2011-07-30","2016-03-09",null,0]
[141,"14521d",816,"t1787750","Jose Dominguez",626,"rnta",626,0,0,"2014-10-28","2015-10-27",null,750]
[142,"14521u",816,"t1790673","Nestor Olivares-Munoz",626,"rnta",626,0,0,"2015-05-01","2016-04-30",null,0]
[143,"14521d",816,"t1786446","Jose Guevara",626,"watr",34,0,0,"2014-08-01","2016-07-31",null,629]
[144,"14521u",816,"t1790842","Jose Perez",616,"rnta",616,0,0,"2015-06-02","2016-03-01",null,0]
[146,"14522u",910,"t1791171","Fabiola Chavez",641,"rnta",681,0,0,"2015-06-18","2016-06-17",null,0]
[147,"14522d",910,"t1776038","Vibora Gisaldo",641,"watr",34,0,0,"2013-06-26","2016-06-25",null,0]
[148,"14522u",910,"t1776039","Cesar Juni",641,"watr",34,0,0,"2013-06-26","2016-06-25",null,0]
[149,"14522d",910,"t1787720","Debra Nesbitt",641,"watr",34,0,0,"2014-10-10","2016-05-08",null,0]
[151,"14522d",910,"t1791461","Guillermo Duarte",641,"rnta",641,0,0,"2015-07-02","2016-07-01",null,-98]
[152,"14522u",910,"t1777442","Furaha Muhimuzi",641,"watr",34,0,0,"2013-08-16","2016-02-29",null,746.5]
[154,"14521u",816,"t1789076","Theresa Green",616,"watr",34,0,0,"2014-12-26","2016-07-26",null,637]
[155,"14521d",816,"t1784807","Pedro Vaquez-Orta",616,"watr",34,0,0,"2014-06-30","2016-07-05",null,607]
[156,"14521u",816,"t1783500","Dan Christopher Argarin",626,"watr",34,0,0,"2014-02-28","2016-06-01",null,0]
[158,"14521u",816,"t1787751","Renard Dunbar",626,"watr",34,0,0,"2014-10-10","2016-01-08",null,740]
[159,"14521d",816,"t1787603","Walter Cruz Lopez",616,"rnta",626,0,0,"2014-09-30","2015-09-29","2015-09-30",0]
[160,"14521u",816,"t1787786","Hailee Brinckerhoff",626,"rnta",616,0,0,"2014-10-08","2015-10-10",null,755]
[161,"14522d",910,"t1785804","Uldaris Arias-Morales",641,"watr",34,0,0,"2014-06-26","2016-06-24",null,675]
[162,"14522u",910,"t1791558","Zewdu Tsinu",631,"rnta",631,0,0,"2015-08-17","2016-08-16",null,0]
[163,"14522d",910,"t1785009","Glicerio Unas",641,"watr",34,0,0,"2014-06-04","2016-07-16",null,60]
[164,"14522u",910,"t1789191","Jean Pierre Vasquez",641,"rnta",631,0,0,"2015-01-30","2016-01-29",null,0]
[165,"14522d",910,"t1790834","Chanel Gallegos",641,"rnta",661,0,0,"2015-05-29","2016-05-28",null,1.95]
[166,"14522u",910,"t1791041","Krisroffer Jayona",631,"rnta",631,0,0,"2015-05-31","2016-05-30",null,809.9]
[168,"14522u",910,"t1789610","Luis Sandoval",641,"rnta",716,0,0,"2015-02-28","2016-02-27",null,750]
[169,"14522d",910,"t1791781","Jose Alaniz",641,"rnta",696,0,0,"2015-09-01","2016-08-31",null,75]
[170,"14522u",910,"t1785732","Vilma Rodriquez Hernandez",641,"watr",34,0,0,"2014-06-10","2016-06-10",null,600.87]
[171,"14522d",910,"t1789875","Jose Catanyag",641,"rnta",641,0,0,"2015-02-21","2015-11-20",null,675]
[172,"14522u",910,"t1775076","Rosario Mazas",641,"preemp",-33.700000000000003,0,0,"2010-04-12","2016-05-30",null,0]
[173,"14511d",680,"t1785293","Johanna Martinez",541,"watr",24,0,0,"2014-06-02","2015-12-01",null,565]
[174,"14511u",680,"t1789342","Keiana Hall",531,"rnta",531,0,0,"2015-02-28","2016-02-27",null,555]
[175,"14511d",680,"t1788764","Crystal Pedroza",541,"rnta",541,0,0,"2014-11-26","2015-11-25",null,655]
[176,"14511u",680,"t1785291","Esteban Canales",531,"watr",24,0,0,"2014-06-03","2016-06-02",null,655]
[178,"14511u",680,"t1775080","Karl Webster",531,"watr",24,250,0,"2012-02-11","2016-01-05",null,609]
[179,"14511d",680,"t1788866","David Aldama Hernandez",541,"rnta",531,0,0,"2014-12-05","2015-12-04",null,555]
[180,"14511u",680,"t1790526","Timothy Buchanan",531,"rnta",531,0,0,"2015-05-16","2016-05-15",null,0]
[181,"14511d",680,"t1791170","Julia Vargas- Avila",541,"rnta",551,0,0,"2015-06-30","2016-06-29",null,39.17]
[182,"14511u",680,"t1791987","Niasia Leftenant",531,"rnta",531,0,0,"2015-09-05","2016-09-04",null,112.5]
[184,"14511u",680,"t1785880","Emmanuel Cruz",531,"watr",24,0,0,"2014-06-27","2016-07-26",null,0]
[187,"14511d",680,"t1791780","Roberto Jimenez",541,"rnta",541,0,0,"2015-08-20","2016-08-19",null,655]
[188,"14511u",680,"t1791420","Aryal Puruswottam",531,"rnta",531,0,0,"2015-07-15","2016-01-14",null,0]
[191,"14511d",680,"t1787741","Reynaldo Ilano",541,"rnta",541,0,0,"2014-11-01","2015-10-31",null,0]
[192,"14511u",680,"t1786853","Francisco Sierra",531,"watr",24,0,0,"2014-09-02","2015-10-01",null,555]
[194,"14511u",680,"t1789686","Jessica Sanchez",531,"rnta",531,0,0,"2015-03-03","2016-03-02",null,967]
[196,"14511u",680,"t1787966","Edwin Lorenzana",531,"rnta",531,0,0,"2014-10-23","2015-10-22",null,555]
[197,"14511d",680,"t1790655","Zoey Ready",541,"rnta",551,0,0,"2015-05-12","2016-05-11",null,0]
[198,"14511u",680,"t1791559","William Geurin",531,"rnta",531,0,0,"2015-07-15","2016-07-14",null,-15.64]
[199,"14511d",680,"t1783997","Brenda Griffin",541,"watr",24,0,0,"2014-03-30","2016-03-29",null,0]
[200,"14511u",680,"t1790248","Donae Stroud",531,"rnta",551,0,0,"2015-04-10","2016-04-09",null,665]
[201,"14511d",680,"t1791176","Alondra Romero",541,"rnta",541,0,0,"2015-07-01","2016-06-30",null,0]
[202,"14511u",680,"t1788857","Mark Cohn",531,"rnta",531,0,0,"2014-12-02","2015-12-01",null,0]
[203,"14511d",680,"t1790308","Derriesha Newton",541,"rnta",561,0,0,"2015-04-10","2016-04-09",null,585]
[204,"14511u",680,"t1789099","Victoria King",531,"rnta",531,0,0,"2014-12-19","2015-10-18",null,645]
[206,"14511u",680,"t1789335","Ti'Anna Magee",531,"rnta",531,0,0,"2015-02-27","2016-02-23",null,645]
[207,"14511d",680,"t1790478","Mary Robinson",541,"rnta",541,0,0,"2015-04-17","2016-04-16",null,564.66999999999996]
[208,"14511u",680,"t1786840","LaVonde Thompson",531,"watr",24,0,0,"2014-09-02","2016-09-01",null,587.5]
[209,"14511d",680,"t1791054","Stanley Clark Jr.",541,"rnta",541,0,0,"2015-06-09","2016-06-08",null,565]
[210,"14511u",680,"t1775108","Estrella Costa",531,"watr",24,450,0,"2011-08-13","2016-04-01",null,0]
[211,"14511d",680,"t1791524","Bob Samuel",541,"rnta",541,0,0,"2015-08-12","2016-05-11",null,18.84]
[212,"14511u",680,"t1775110","Jose Joven",531,"preemp",-49,0,0,"2013-01-20","2016-01-21",null,0]
[213,"14511d",680,"t1786090","Enrique Valtierra",541,"watr",24,0,0,"2014-08-01","2016-07-31",null,565]
[214,"14511u",680,"t1787879","Roneisha Melton",531,"rnta",531,0,0,"2014-10-31","2015-10-30",null,554]
[215,"14511d",680,"t1788806","Neville Yong Koon",541,"rnta",541,0,0,"2014-12-30","2015-12-29",null,0]
[216,"14511u",680,"t1790011","Juan Alvarado",531,"watr",24,0,0,"2015-03-04","2015-09-01","2015-09-10",286]
[217,"14511d",680,"t1790598","Marisa Palmer",541,"rnta",571,0,0,"2015-05-02","2016-02-01",null,685]
[218,"14511u",680,"t1781417","Criselda LLamzon",531,"watr",24,0,0,"2013-11-15","2015-12-18",null,100]
[219,"14511d",680,"t1775116","Eric Kramer",541,"watr",24,0,0,"2011-11-11","2015-11-06",null,0]
[221,"14511d",680,"t1789666","Anika Secrease",541,"rnta",541,0,0,"2015-02-10","2016-02-09",null,565]
[222,"14511u",680,"t1775119","Isabel Flores-Herrera",531,"watr",24,0,0,"2008-11-01","2016-02-06",null,0]
[223,"14511d",680,"t1775120","Roland Domigpe",541,"watr",24,0,0,"2010-01-18","2016-04-29",null,0]
[224,"14511u",680,"t1775121","Ida Medwood",531,"watr",24,0,0,"2010-11-01","2015-10-10",null,0]
[225,"14511d",680,"t1790090","Michael Schurig",541,"rnta",541,0,0,"2015-03-16","2015-12-15",null,0]
[226,"14511u",680,"t1787395","Carole Fisher",531,"rnta",531,0,0,"2014-09-26","2015-09-25","2015-09-26",-70.47]
[227,"14511d",680,"t1790419","Jeffery Sexton",541,"rnta",541,0,0,"2015-04-20","2015-10-19",null,210]
[228,"14511u",680,"t1791016","Terrence Hill",531,"rnta",531,0,0,"2015-06-05","2016-03-04",null,669.08]
[229,"14511d",680,"t1775125","Angelito Aguilera",541,"watr",24,0,0,"2012-05-30","2016-05-30",null,0]
[230,"14511u",680,"t1791049","Rochelle Fernandes",531,"rnta",531,0,0,"2015-06-05","2016-06-04",null,555]
[231,"14511d",680,"t1789811","Amy Galenzoga",541,"rnta",541,0,0,"2015-02-18","2016-02-17",null,0]
[232,"14511u",680,"t1790810","Alexander Monroy",531,"rnta",531,0,0,"2015-06-02","2016-06-01",null,0]
[233,"14511d",680,"t1775129","Rushawn Sims",541,"watr",24,0,0,"2012-10-28","2016-05-31",null,9]
[235,"14511d",680,"t1788292","Randy Salazar",541,"watr",24,0,0,"2014-12-02","2015-12-31",null,0]
[236,"14511u",680,"t1782605","Willie Castillo",531,"watr",24,0,0,"2013-12-21","2016-07-02",null,0]
[237,"14511d",680,"t1783332","Kevin Winters",541,"watr",24,0,0,"2014-02-14","2016-05-11",null,0]
[238,"14511u",680,"t1785900","Sapphire Clemena",531,"watr",24,0,0,"2014-07-06","2016-04-05",null,5]
[239,"14511d",680,"t1791256","Bailing Chen",541,"rnta",581,0,0,"2015-08-11","2016-08-10",null,252.67]
[240,"14511u",680,"t1775134","Abdelali Boussetta",531,"watr",24,0,0,"2012-07-07","2015-12-31",null,555]
[241,"14511d",680,"t1786430","Jonathan Gomez",541,"watr",24,0,0,"2014-08-08","2016-04-30",null,0]
[242,"14511u",680,"t1778292","Thomsen Douglas",531,"watr",24,0,0,"2013-08-17","2015-08-16",null,655]
[243,"14511d",680,"t1776028","Martina Chavez Alvares",541,"watr",24,0,0,"2013-07-01","2016-06-30",null,0]
[244,"14511u",680,"t1791102","Brenna Dennie",531,"rnta",561,0,0,"2015-06-18","2016-06-17",null,585]
[245,"14511d",680,"t1783578","Rodger Danley",541,"watr",24,0,0,"2014-02-28","2015-09-27","2015-09-27",-0.99]
[246,"14511u",680,"t1789757","Mark Upshur",531,"rnta",531,0,0,"2015-03-29","2016-03-28",null,555]
[247,"14511d",680,"t1784603","John Crowley",541,"watr",24,0,0,"2014-06-01","2016-05-31",null,0]
[248,"14511u",680,"t1790147","Cesar Soto-Anguiano",531,"rnta",561,0,0,"2015-03-20","2016-03-19",null,0]
[249,"14511d",680,"t1787413","Darla Dickson",541,"watr",24,0,0,"2014-09-18","2016-01-20",null,565]
[250,"14511u",680,"t1775144","Sendu Gebremaryam",531,"watr",24,0,0,"2008-12-09","2016-01-22",null,0]
[251,"14511d",680,"t1790077","Veli Meta",541,"rnta",541,0,0,"2015-03-12","2016-03-11",null,740]
[252,"14511u",680,"t1791292","Luz Maria Hernandez",531,"rnta",531,0,0,"2015-07-01","2016-03-31",null,0]
[253,"14511d",680,"t1775146","Elaine Kuehl",541,"rnta",545,250,0,"2010-03-26","2016-04-04",null,604.5]
[254,"14511u",680,"t1791600","Kathryne Gargano",531,"rnta",531,0,0,"2015-08-20","2017-08-19",null,505.95]
[255,"14511d",680,"t1783616","Roberto Torres",541,"watr",24,0,0,"2014-03-04","2016-03-07",null,0]
[256,"14511u",680,"t1784576","Antonio Acosta",531,"watr",24,0,0,"2014-05-05","2016-01-02",null,-5]
[257,"14511d",680,"t1786351","Tayraya Triplett",541,"watr",24,0,0,"2014-08-05","2016-02-04",null,0]
[258,"14511u",680,"t1786877","Brittany Brooks",531,"watr",24,0,0,"2014-08-15","2015-08-14",null,150]
[259,"14511d",680,"t1787492","Shelia Jarvis",541,"rnta",541,0,0,"2014-10-01","2015-09-30","2015-09-30",0]
[260,"14511u",680,"t1775149","Melissa Lozano",531,"petf",30,200,0,"2011-06-20","2016-07-08",null,585]
[262,"14511u",680,"t1787372","Whiken Hooker",531,"rnta",531,0,0,"2014-09-20","2015-09-19",null,646]
[263,"14511d",680,"t1790280","Chris Lowe",541,"rnta",551,0,0,"2015-04-01","2016-03-31",null,0]
[264,"14511u",680,"t1787819","Mario Quinteros",531,"watr",24,0,0,"2014-10-24","2016-04-23",null,474]
[265,"14511d",680,"t1791186","Paula Rhoades",541,"rnta",581,0,0,"2015-06-13","2016-06-12",null,0]
[266,"14511u",680,"t1789089","Chrystal Isaacs",531,"rnta",531,0,0,"2015-01-30","2015-10-29",null,555]
[267,"14511d",680,"t1784868","Evaristo Hernandez-Fernandez",541,"watr",24,0,0,"2014-06-28","2016-06-27",null,0]
[268,"14511u",680,"t1789398","Tim Stufflebeam",531,"rnta",531,0,0,"2015-02-07","2016-02-06",null,551]
[269,"14511d",680,"t1790134","Danielle Leonard",541,"rnta",561,0,0,"2015-03-15","2015-09-14","2015-09-14",0]
[270,"14511u",680,"t1791453","Lynda Stone",531,"rnta",531,0,0,"2015-07-12","2016-04-11",null,0]
[271,"14511d",680,"t1789240","Antonia Carrandi",541,null,0,0,0,"2015-02-21","2016-02-20","2015-09-30",19.66]
[272,"14511u",680,"t1775158","Curtis Aldrich",531,"watr",24,500,0,"2009-08-07","2016-08-31",null,0]
[273,"14511d",680,"t1790259","Jonathan Parker",541,"rnta",581,0,0,"2015-03-26","2016-03-25",null,0]
[274,"14511u",680,"t1788945","Teresa Sanisith",531,"watr",24,0,0,"2014-12-05","2016-07-04",null,572.70000000000005]
[275,"14511d",680,"t1784260","Terrence Green",541,"watr",24,150,0,"2014-04-15","2016-04-14",null,0]
[276,"14511u",680,"t1790072","Matt Scurry",531,"watr",24,0,0,"2015-03-23","2016-03-22",null,-1.5]
[277,"14511d",680,"t1785292","Mamoudou Diaby",541,"watr",24,0,0,"2014-06-02","2016-06-01",null,0]
[278,"14511u",680,"t1787575","David Ramirez",531,"rnta",531,0,0,"2014-09-30","2015-09-29",null,0]
[279,"14511d",680,"t1775163","Jeanne Sarve",541,"watr",24,0,0,"2006-10-01","2016-10-21",null,589]
[280,"14511u",680,"t1775164","Danny Schmidt",531,"watr",24,200,0,"2008-11-01","2016-01-31",null,743.5]
[281,"14511d",680,"t1791383","Ireland Markham",541,"rnta",541,0,0,"2015-07-01","2016-06-30",null,0]
[282,"14511u",680,"t1790149","Terrance Kott",531,"rnta",586,0,0,"2015-03-27","2016-03-26",null,610]
[283,"14511d",680,"t1775811","Lazaro Perez",541,"watr",24,0,0,"2013-07-01","2016-06-30",null,0]
[284,"14511u",680,"t1775167","Larry Dean Garges",531,"watr",24,450,0,"2011-10-15","2016-04-30",null,0]
[285,"14511d",680,"t1775168","Sook Hong",541,"watr",24,250,0,"2009-11-03","2016-06-19",null,0]
[286,"14511u",680,"t1775169","Santiago Salgado",531,"watr",24,0,0,"2009-11-18","2016-02-29",null,0]
[287,"14511d",680,"t1790154","Tracy Sheldon",541,"rnta",546,0,0,"2015-03-21","2016-03-20",null,0]
[288,"14511u",680,"t1789830","William Baggett",531,"rnta",531,0,0,"2015-02-28","2016-02-27",null,526.75]
[289,"14511d",680,"t1775171","Joseph Carlisle",541,"watr",24,0,0,"2010-01-01","2016-02-13",null,0]
[290,"14511u",680,"t1790811","Darnita Philips",531,"rnta",561,0,0,"2015-06-02","2016-06-01",null,0]
[291,"14511d",680,"t1783014","Tara Gilyard",541,"watr",24,0,0,"2014-02-01","2016-08-31",null,0]
[292,"14511u",680,"t1784083","Geriatta Nkere",531,"watr",24,0,0,"2014-04-12","2016-04-11",null,0]
[293,"14511d",680,"t1790553","Anna Cariaso",541,"rnta",571,0,0,"2015-04-27","2016-01-26",null,0]
[294,"14511u",680,"t1787891","Tyra Lewis",531,"rnta",531,0,0,"2014-11-07","2015-11-06",null,0]
[296,"14511u",680,"t1775176","Charles Gibo",531,"watr",24,0,0,"1998-04-03","2015-10-31",null,0]
[297,"14511d",680,"t1775177","Gerardo Guzman",541,"watr",24,0,0,"2012-09-27","2016-06-30",null,0]
[298,"14511u",680,"t1778405","Cynthia Benitez",531,"watr",24,0,0,"2013-09-10","2016-06-30",null,0]
[299,"14511d",680,"t1779025","Shirley Yap",541,"watr",24,0,0,"2013-09-16","2015-10-15",null,0]
[300,"14511u",680,"t1775180","David Packman",531,"rnta",449,250,0,"2012-01-27","2016-01-19",null,563]
[4,"145th",1444,"t1791542","Robin Peterkin",1050,null,0,0,0,"2015-10-26","2016-10-25",null,-331.3]
[19,"14532d",1153,"t1792022","Mary Bushey",816,null,0,0,0,"2015-09-30","2016-09-29",null,-139]
[34,"14532u",1153,"t1792024","Jose Colocho",826,null,0,0,0,"2015-09-15","2016-09-14",null,-80]
[42,"14522d",910,"t1791765","Ezequiel Torres",641,null,0,0,0,"2015-09-15","2016-09-14",null,0]
[43,"14522d",910,"t1792033","Vanesa Barrera",641,null,0,0,0,"2015-10-01","2016-09-30",null,0]
[77,"14522d",910,"t1792029","Earl McGinnis Jr.",641,null,0,0,0,"2015-10-01","2016-09-30",null,-99]
[106,"14522u",910,"t1791681","Vicente Garcia-Elguera",641,null,0,0,0,"2015-09-05","2016-09-04",null,0]
[108,"14522u",910,"t1791819","Angelica pohl",641,null,0,0,0,"2015-09-15","2016-09-14",null,-139]
[153,"14521d",816,"t1792035","Martin Rodriguez- Cortes",616,null,0,0,0,"2015-09-17","2016-09-16",null,-100]
[167,"14522d",910,"t1791952","Carmen Lilly",641,null,0,0,0,"2015-09-03","2016-09-02",null,-139]
[177,"14511d",680,"t1791759","Sharmaine Domingo",541,null,0,0,0,"2015-09-09","2016-09-08",null,0]
[186,"14511u",680,"t1791792","Steva Marks",531,null,0,0,0,"2015-09-11","2016-09-10",null,-59]
[193,"14511d",680,"t1792109","Maurice Hughes",541,null,0,0,0,"2015-09-16","2016-09-15",null,0]
[205,"14511d",680,"t1792058","Brandy Chapmen",541,null,0,0,0,"2015-09-25","2016-09-24",null,0]
[216,"14511u",680,"t1792119","Leo Arciniega",531,null,0,0,0,"2015-10-08","2016-10-07",null,0]
[220,"14511u",680,"t1791972","Julia Muniz",531,null,0,0,0,"2015-09-10","2016-09-09",null,-99]
[234,"14511u",680,"t1792051","Muxiao Han",531,null,0,0,0,"2015-09-18","2016-09-14",null,-99]