{"text_format":"1","workbook":"xlsx","n_sheets":6,"sheets":["Title","Transaction Details","Vendor List","(QR Sheet Example)","Quality Review","Upload To Certiflex"],"not_rendered":{"charts":0,"images":1,"macros":1,"external_links":0,"defined_names":7,"comments":0,"pivot_tables":0},"unopened":[],"bounds":{"document_bytes":16777216,"sheet_cells":100000,"rows_first":2000,"rows_last":500,"rows_between":2000,"halvings":0,"cell_chars":16384,"cell_head_chars":4096},"cells_cut":0,"cells_raw":0,"read":"whole","date_system":"1900"}

{"sheet":"Title","index":0,"n_rows":15,"n_cols":2,"rows_kept":15,"cut":false,"hidden":false,"merged":[]}
[]
["Account User Name:","username"]
["Account Password:","password"]
[]
["Date Range Beginnig Month:","08/01/2013"]
["Date Range Ending Month:","12/31/2013"]
[]
[]
[]
[]
[]
[]
[]
[]
[null,"."]

{"sheet":"Transaction Details","index":1,"n_rows":665,"n_cols":5,"rows_kept":665,"cut":false,"hidden":false,"merged":[]}
[null,"Transaction Details","Delta Reserve / August 1, 2013 to December 31, 2013"]
[null,"Prepared for",""]
[null,"SOME RANDOM DUDE"]
[null,"Account Number"]
[null,"XXXX-XXXXXX-XXXXX"]
[]
["Date","Description","Cardmember","Account #","Amount"]
["08/01/2013","CHEVRON K & H ENTERPSALT LAKE CITY UT","RANDOM CHICK","XXXX-XXXXXX-XXXXX",50.68]
["08/01/2013","LOWE'S OF SALT LAKE SALT LAKE CITY UT","RANDOM DUDE","XXXX-XXXXXX-XXXXX",240.19]
["08/01/2013","OLYMPUS HILLS SERVICSALT LAKE CITY UT","RANDOM CHICK","XXXX-XXXXXX-XXXXX",15.02]
["08/02/2013","7-ELEVEN 26999 00072SALT LAKE CITY UT","RANDOM DUDE","XXXX-XXXXXX-XXXXX",4.83]
["08/02/2013","GLEN'S LOCK & KEY SALT LAKE CIT UT","RANDOM DUDE","XXXX-XXXXXX-XXXXX",35]
["08/02/2013","MCDONALD'S F6396 000SALT LAKE CI UT","RANDOM DUDE","XXXX-XXXXXX-XXXXX",18.04]
["08/02/2013","PAYMENT RECEIVED - THANK YOU","RANDOM DUDE","XXXX-XXXXXX-XXXXX",-5000]
["08/02/2013","PAYMENT RECEIVED ACH - THANK YOU","RANDOM DUDE","XXXX-XXXXXX-XXXXX",-119]
["08/03/2013","GLEN'S LOCK & KEY SALT LAKE CIT UT","RANDOM DUDE","XXXX-XXXXXX-XXXXX",79]
["08/03/2013","OLYMPUS HILLS SERVICSALT LAKE CITY UT","RANDOM CHICK","XXXX-XXXXXX-XXXXX",15]
["08/03/2013","PHONE PAYMENT - THANK YOU","RANDOM DUDE","XXXX-XXXXXX-XXXXX",-3200]
["08/04/2013","7-ELEVEN 12927 00071SALT LAKE CITY UT","RANDOM CHICK","XXXX-XXXXXX-XXXXX",12.82]
["08/04/2013","MCDONALD'S F4010 000SALT LAKE CI UT","RANDOM CHICK","XXXX-XXXXXX-XXXXX",16.260000000000002]
["08/05/2013","7-ELEVEN 26999 00072SALT LAKE CITY UT","RANDOM DUDE","XXXX-XXXXXX-XXXXX",11.98]
["08/05/2013","7-ELEVEN 26999 00072SALT LAKE CITY UT","RANDOM DUDE","XXXX-XXXXXX-XXXXX",20.04]
["08/05/2013","CHEVRON HOLIDAY OIL SALT LAKE CITY UT","RANDOM DUDE","XXXX-XXXXXX-XXXXX",10.01]
["08/05/2013","DAN'S OLYMPUS 000000SALT LAKE CITY UT","RANDOM CHICK","XXXX-XXXXXX-XXXXX",12.36]
["08/05/2013","MY SONIC CARD 0012 EL RENO OK","RANDOM CHICK","XXXX-XXXXXX-XXXXX",151]
["08/05/2013","NEXSTAR BROADCASTINGIRVING TX","RANDOM DUDE","XXXX-XXXXXX-XXXXX",3271]
["08/05/2013","OLYMPUS HILLS SERVICSALT LAKE CITY UT","RANDOM CHICK","XXXX-XXXXXX-XXXXX",15.03]
["08/06/2013","7-ELEVEN 26999 00072SALT LAKE CITY UT","RANDOM DUDE","XXXX-XXXXXX-XXXXX",10.1]
["08/06/2013","7-ELEVEN 26999 00072SALT LAKE CITY UT","RANDOM DUDE","XXXX-XXXXXX-XXXXX",15.09]
["08/06/2013","GLEN'S LOCK & KEY SALT LAKE CIT UT","RANDOM DUDE","XXXX-XXXXXX-XXXXX",35]
["08/06/2013","PAYPAL *ALLKEYLESSL 4029357733 CA","RANDOM DUDE","XXXX-XXXXXX-XXXXX",47.48]
["08/06/2013","SUPERIOR PAINT SUPPLSALT LAKE CITY UT","RANDOM DUDE","XXXX-XXXXXX-XXXXX",6.22]
["08/06/2013","VICTORS TIRES INC VISALT LAKE CITY UT","RANDOM DUDE","XXXX-XXXXXX-XXXXX",80]
["08/07/2013","7-ELEVEN 26282 00072SALT LAKE CITY UT","RANDOM DUDE","XXXX-XXXXXX-XXXXX",19.739999999999998]
["08/07/2013","OLYMPUS HILLS SERVICSALT LAKE CITY UT","RANDOM CHICK","XXXX-XXXXXX-XXXXX",15.02]
["08/08/2013","PROSTOP CONV STORE #SANDY UT","RANDOM CHICK","XXXX-XXXXXX-XXXXX",50.56]
["08/09/2013","7-ELEVEN 26999 00072SALT LAKE CITY UT","RANDOM DUDE","XXXX-XXXXXX-XXXXX",4.83]
["08/09/2013","7-ELEVEN 26999 00072SALT LAKE CITY UT","RANDOM DUDE","XXXX-XXXXXX-XXXXX",10]
["08/09/2013","7-ELEVEN 26999 00072SALT LAKE CITY UT","RANDOM DUDE","XXXX-XXXXXX-XXXXX",12.05]
["08/09/2013","ANNUAL MEMBERSHIP FEE","RANDOM DUDE","XXXX-XXXXXX-XXXXX",395]
["08/09/2013","DAN'S OLYMPUS 000000SALT LAKE CITY UT","RANDOM CHICK","XXXX-XXXXXX-XXXXX",47.19]
["08/09/2013","Interest Charge on Purchases","RANDOM DUDE","XXXX-XXXXXX-XXXXX",243.2]
["08/09/2013","MCDONALD'S F6396 000SALT LAKE CI UT","RANDOM DUDE","XXXX-XXXXXX-XXXXX",10.78]
["08/10/2013","7-ELEVEN 26999 00072SALT LAKE CITY UT","RANDOM DUDE","XXXX-XXXXXX-XXXXX",8.2200000000000006]
["08/10/2013","7-ELEVEN 26999 00072SALT LAKE CITY UT","RANDOM DUDE","XXXX-XXXXXX-XXXXX",9.1199999999999992]
["08/10/2013","7-ELEVEN 26999 00072SALT LAKE CITY UT","RANDOM DUDE","XXXX-XXXXXX-XXXXX",9.1300000000000008]
["08/10/2013","GLEN'S LOCK & KEY SALT LAKE CIT UT","RANDOM DUDE","XXXX-XXXXXX-XXXXX",84.41]
["08/10/2013","OLYMPUS HILLS SERVICSALT LAKE CITY UT","RANDOM CHICK","XXXX-XXXXXX-XXXXX",15.03]
["08/11/2013","COMCAST CABLE COMM 800-COMCAST UT","RANDOM DUDE","XXXX-XXXXXX-XXXXX",121.35]
["08/11/2013","KFC/TB #536 0479 SALT LAKE CIT UT","RANDOM CHICK","XXXX-XXXXXX-XXXXX",17.21]
["08/11/2013","OLYMPUS VIEW SINCLAISALT LAKE CI UT","RANDOM DUDE","XXXX-XXXXXX-XXXXX",20.3]
["08/11/2013","SMITHS MRKTPL #4475 8666111979","RANDOM CHICK","XXXX-XXXXXX-XXXXX",42.82]
["08/12/2013","DAN'S OLYMPUS 000000SALT LAKE CITY UT","RANDOM CHICK","XXXX-XXXXXX-XXXXX",20.440000000000001]
["08/12/2013","PAYPAL *BLOMTYLER 4029357733 CA","RANDOM DUDE","XXXX-XXXXXX-XXXXX",40]
["08/12/2013","SHELL OIL 5744460190SALT LAKE CITY UT","RANDOM DUDE","XXXX-XXXXXX-XXXXX",15.25]
["08/13/2013","LOWE'S OF SALT LAKE SALT LAKE CITY UT","RANDOM DUDE","XXXX-XXXXXX-XXXXX",42.22]
["08/13/2013","OLYMPUS HILLS SERVICSALT LAKE CITY UT","RANDOM CHICK","XXXX-XXXXXX-XXXXX",15.03]
["08/13/2013","PLAZA CYCLE 0403 SALT LAKE CIT UT","RANDOM DUDE","XXXX-XXXXXX-XXXXX",93.77]
["08/13/2013","THERMOCRAFT 2104965411 TX","RANDOM CHICK","XXXX-XXXXXX-XXXXX",157.93]
["08/14/2013","ADVANCED VETERINARY SALT LAKE CIT UT","RANDOM CHICK","XXXX-XXXXXX-XXXXX",58.5]
["08/14/2013","MCDONALD'S F6408 000SALT LAKE CI UT","RANDOM CHICK","XXXX-XXXXXX-XXXXX",9.6999999999999993]
["08/14/2013","VICTORS TIRES INC VISALT LAKE CITY UT","RANDOM DUDE","XXXX-XXXXXX-XXXXX",175]
["08/15/2013","7-ELEVEN 26999 00072SALT LAKE CITY UT","RANDOM DUDE","XXXX-XXXXXX-XXXXX",9.2200000000000006]
["08/15/2013","7-ELEVEN 26999 00072SALT LAKE CITY UT","RANDOM DUDE","XXXX-XXXXXX-XXXXX",10.08]
["08/15/2013","7-ELEVEN 26999 00072SALT LAKE CITY UT","RANDOM DUDE","XXXX-XXXXXX-XXXXX",12.13]
["08/15/2013","DAN'S OLYMPUS 000000SALT LAKE CITY UT","RANDOM CHICK","XXXX-XXXXXX-XXXXX",15.22]
["08/15/2013","OLYMPUS HILLS SERVICSALT LAKE CITY UT","RANDOM CHICK","XXXX-XXXXXX-XXXXX",15.03]
["08/15/2013","TURN KEY SERVICE SALT LAKE CIT UT","RANDOM DUDE","XXXX-XXXXXX-XXXXX",38]
["08/16/2013","7-ELEVEN 26999 00072SALT LAKE CITY UT","RANDOM DUDE","XXXX-XXXXXX-XXXXX",10.07]
["08/16/2013","DELTA AIR LINES ATLANTA","RANDOM DUDE","XXXX-XXXXXX-XXXXX",194.9]
["08/16/2013","DELTA AIR LINES ATLANTA","RANDOM DUDE","XXXX-XXXXXX-XXXXX",194.9]
["08/16/2013","EINSTEIN BROS BAGELSSALT LAKE CIT UT","RANDOM DUDE","XXXX-XXXXXX-XXXXX",17.47]
["08/16/2013","KWAL PAINT #85 0203 SALT LAKE CIT UT","RANDOM DUDE","XXXX-XXXXXX-XXXXX",157.88]
["08/16/2013","MCDONALD'S F719 0000SALT LAKE CI UT","RANDOM DUDE","XXXX-XXXXXX-XXXXX",16.18]
["08/16/2013","SEARS ROEBUCK 01118 SALT LAKE CIT UT","RANDOM DUDE","XXXX-XXXXXX-XXXXX",2.48]
["08/16/2013","SEARS ROEBUCK 01118 SALT LAKE CIT UT","RANDOM DUDE","XXXX-XXXXXX-XXXXX",2.5]
["08/17/2013","7-ELEVEN 26999 00072SALT LAKE CITY UT","RANDOM DUDE","XXXX-XXXXXX-XXXXX",15.01]
["08/17/2013","AUTO ZONE 0868 SALT LAKE CITY UT","RANDOM DUDE","XXXX-XXXXXX-XXXXX",13.98]
["08/17/2013","CHEVRON HOLIDAY OIL SALT LAKE CITY UT","RANDOM DUDE","XXXX-XXXXXX-XXXXX",15.01]
["08/18/2013","CHEVRON HOLIDAY OIL SOUTH JORDAN UT","RANDOM DUDE","XXXX-XXXXXX-XXXXX",10.02]
["08/19/2013","7-ELEVEN 26999 00072SALT LAKE CITY UT","RANDOM DUDE","XXXX-XXXXXX-XXXXX",10.18]
["08/19/2013","DIRECTV SERVICE 800-347-3288 CA","RANDOM DUDE","XXXX-XXXXXX-XXXXX",296.10000000000002]
["08/19/2013","OLYMPUS HILLS SERVICSALT LAKE CITY UT","RANDOM CHICK","XXXX-XXXXXX-XXXXX",15.01]
["08/20/2013","7-ELEVEN 26999 00072SALT LAKE CITY UT","RANDOM DUDE","XXXX-XXXXXX-XXXXX",10.01]
["08/20/2013","KFC/TB #536 0479 SALT LAKE CIT UT","RANDOM CHICK","XXXX-XXXXXX-XXXXX",21.02]
["08/21/2013","7-ELEVEN 26282 00072SALT LAKE CITY UT","RANDOM DUDE","XXXX-XXXXXX-XXXXX",49.99]
["08/21/2013","7-ELEVEN 26999 00072SALT LAKE CITY UT","RANDOM DUDE","XXXX-XXXXXX-XXXXX",7.79]
["08/21/2013","7-ELEVEN 26999 00072SALT LAKE CITY UT","RANDOM DUDE","XXXX-XXXXXX-XXXXX",12.26]
["08/21/2013","CHEVRON K & H ENTERPSALT LAKE CITY UT","RANDOM DUDE","XXXX-XXXXXX-XXXXX",9.0399999999999991]
["08/21/2013","CHEVRON PROV CTR CHECEDAR CITY UT","RANDOM DUDE","XXXX-XXXXXX-XXXXX",40.450000000000003]
["08/21/2013","CHEVRON TOP STOP C-5MURRAY UT","RANDOM CHICK","XXXX-XXXXXX-XXXXX",56.77]
["08/21/2013","DAN'S OLYMPUS 000000SALT LAKE CITY UT","RANDOM CHICK","XXXX-XXXXXX-XXXXX",26.04]
["08/21/2013","HERTZ CAR RENTAL 800-654-4173 NV","RANDOM DUDE","XXXX-XXXXXX-XXXXX",66.31]
["08/21/2013","KSL.COMDESERETDIGMEDSALT LAKE CIT UT","RANDOM DUDE","XXXX-XXXXXX-XXXXX",599]
["08/21/2013","PAYPAL *AMAUTOPARTS 4029357733 CA","RANDOM DUDE","XXXX-XXXXXX-XXXXX",23.95]
["08/21/2013","PAYPAL *NORDSTROMSA 4029357733 CA","RANDOM DUDE","XXXX-XXXXXX-XXXXX",25]
["08/21/2013","REBEL #2187 HENDERSON NV","RANDOM DUDE","XXXX-XXXXXX-XXXXX",67.62]
["08/21/2013","REBEL #2187 HENDERSON NV","RANDOM DUDE","XXXX-XXXXXX-XXXXX",91.6]
["08/22/2013","CLARITY SKIN LLC 300DRAPER UT","RANDOM CHICK","XXXX-XXXXXX-XXXXX",250]
["08/22/2013","MCDONALD'S F4010 000SALT LAKE CI UT","RANDOM CHICK","XXXX-XXXXXX-XXXXX",26.38]
["08/22/2013","OLYMPUS HILLS SERVICSALT LAKE CITY UT","RANDOM CHICK","XXXX-XXXXXX-XXXXX",20.03]
["08/23/2013","CHEVRON K & H ENTERPSALT LAKE CITY UT","RANDOM DUDE","XXXX-XXXXXX-XXXXX",15.28]
["08/23/2013","GARFF NISSAN SLC SERSALT LAKE CITY UT","RANDOM DUDE","XXXX-XXXXXX-XXXXX",245]
["08/23/2013","GREAT HARVEST BREAD SALT LAKE CITY UT","RANDOM DUDE","XXXX-XXXXXX-XXXXX",16.5]
["08/23/2013","SMITHS FOOD #4044 008666111979","RANDOM DUDE","XXXX-XXXXXX-XXXXX",7.2]
["08/24/2013","DAN'S OLYMPUS 000000SALT LAKE CITY UT","RANDOM CHICK","XXXX-XXXXXX-XXXXX",3.05]
["08/24/2013","DAN'S OLYMPUS 000000SALT LAKE CITY UT","RANDOM CHICK","XXXX-XXXXXX-XXXXX",23.84]
["08/24/2013","GAY USA PAGES 542929ALTAMONTE SPR FL","RANDOM DUDE","XXXX-XXXXXX-XXXXX",99]
["08/24/2013","OLYMPUS HILLS SERVICSALT LAKE CITY UT","RANDOM CHICK","XXXX-XXXXXX-XXXXX",20]
["08/26/2013","7-ELEVEN 26999 00072SALT LAKE CITY UT","RANDOM DUDE","XXXX-XXXXXX-XXXXX",7.5]
["08/26/2013","7-ELEVEN 26999 00072SALT LAKE CITY UT","RANDOM DUDE","XXXX-XXXXXX-XXXXX",12.35]
["08/26/2013","INDEPENDENT DEALER SMIDVALE UT","RANDOM CHICK","XXXX-XXXXXX-XXXXX",153.6]
["08/26/2013","PAYPAL *LALOND30 4029357733 CA","RANDOM DUDE","XXXX-XXXXXX-XXXXX",74.989999999999995]
["08/26/2013","PAYPAL *ZHUJIAYI 4029357733 CA","RANDOM DUDE","XXXX-XXXXXX-XXXXX",6.5]
["08/27/2013","7-ELEVEN 26999 00072SALT LAKE CITY UT","RANDOM DUDE","XXXX-XXXXXX-XXXXX",19.48]
["08/27/2013","7-ELEVEN 36411 00073PRICE UT","RANDOM DUDE","XXXX-XXXXXX-XXXXX",6.37]
["08/27/2013","GIANT #6068 54292980PAGOSA SPRING CO","RANDOM DUDE","XXXX-XXXXXX-XXXXX",75.41]
["08/27/2013","MARKET EXPRESS 00000PRICE UT","RANDOM DUDE","XXXX-XXXXXX-XXXXX",39.93]
["08/27/2013","MAVERIK COUNTRY STORMOAB UT","RANDOM DUDE","XXXX-XXXXXX-XXXXX",51.89]
["08/27/2013","NATIONAL PEN 10892958003477367","RANDOM DUDE","XXXX-XXXXXX-XXXXX",236.4]
["08/27/2013","PAYMENT RECEIVED - THANK YOU","RANDOM DUDE","XXXX-XXXXXX-XXXXX",-5000]
["08/27/2013","PAYPAL *ENFOTRACEGP 4029357733 CA","RANDOM CHICK","XXXX-XXXXXX-XXXXX",14.95]
["08/27/2013","SHELL OIL 5744460070SALT LAKE CITY UT","RANDOM CHICK","XXXX-XXXXXX-XXXXX",15]
["08/27/2013","WALKERS 17 00310391 PRICE UT","RANDOM DUDE","XXXX-XXXXXX-XXXXX",42.81]
["08/27/2013","WWW.GOTOMYPC.COM SERVICE/SW","RANDOM CHICK","XXXX-XXXXXX-XXXXX",21.32]
["08/28/2013","7-ELEVEN 26999 00072SALT LAKE CITY UT","RANDOM DUDE","XXXX-XXXXXX-XXXXX",20.07]
["08/28/2013","HERTZ CAR RENTAL 800-654-4173 UT","RANDOM DUDE","XXXX-XXXXXX-XXXXX",205.23]
["08/28/2013","HOLIDAY OIL #07 0000DRAPER UT","RANDOM CHICK","XXXX-XXXXXX-XXXXX",50.25]
["08/28/2013","MAVERIK #438 0000000SALT LAKE CITY UT","RANDOM DUDE","XXXX-XXXXXX-XXXXX",15.01]
["08/28/2013","PAYPAL *ECONOMYAUTO 4029357733 MN","RANDOM DUDE","XXXX-XXXXXX-XXXXX",38]
["08/28/2013","PAYPAL *TRIVETTES 4029357733 TN","RANDOM DUDE","XXXX-XXXXXX-XXXXX",69.989999999999995]
["08/29/2013","7-ELEVEN 26999 00072SALT LAKE CITY UT","RANDOM DUDE","XXXX-XXXXXX-XXXXX",11.55]
["08/29/2013","U OF U DERM MURRAY #MURRAY UT","RANDOM CHICK","XXXX-XXXXXX-XXXXX",35]
["08/30/2013","7-ELEVEN 26999 00072SALT LAKE CITY UT","RANDOM DUDE","XXXX-XXXXXX-XXXXX",10.17]
["08/30/2013","GREAT HARVEST BREAD SALT LAKE CITY UT","RANDOM DUDE","XXXX-XXXXXX-XXXXX",13.23]
["08/30/2013","OLYMPUS HILLS SERVICSALT LAKE CITY UT","RANDOM CHICK","XXXX-XXXXXX-XXXXX",20]
["08/30/2013","Starbucks #13391 SalSalt Lake City UT","RANDOM CHICK","XXXX-XXXXXX-XXXXX",8.14]
["08/31/2013","7-ELEVEN 26282 00072SALT LAKE CITY UT","RANDOM DUDE","XXXX-XXXXXX-XXXXX",20.05]
["08/31/2013","7-ELEVEN 26999 00072SALT LAKE CITY UT","RANDOM DUDE","XXXX-XXXXXX-XXXXX",11.26]
["08/31/2013","PAYPAL *ENFOTRACEGP 4029357733 CA","RANDOM CHICK","XXXX-XXXXXX-XXXXX",17.899999999999999]
["09/01/2013","DAN'S OLYMPUS 000000SALT LAKE CITY UT","RANDOM CHICK","XXXX-XXXXXX-XXXXX",11.4]
["09/01/2013","DAN'S OLYMPUS 000000SALT LAKE CITY UT","RANDOM CHICK","XXXX-XXXXXX-XXXXX",96.7]
["09/01/2013","KFC/TB #536 0479 SALT LAKE CIT UT","RANDOM CHICK","XXXX-XXXXXX-XXXXX",11.11]
["09/02/2013","7-ELEVEN 26999 00072SALT LAKE CITY UT","RANDOM DUDE","XXXX-XXXXXX-XXXXX",15.49]
["09/02/2013","DAN'S OLYMPUS 000000SALT LAKE CITY UT","RANDOM CHICK","XXXX-XXXXXX-XXXXX",3.09]
["09/02/2013","OLYMPUS HILLS SERVICSALT LAKE CITY UT","RANDOM CHICK","XXXX-XXXXXX-XXXXX",15]
["09/02/2013","PAYMENT RECEIVED - THANK YOU","RANDOM DUDE","XXXX-XXXXXX-XXXXX",-3000]
["09/02/2013","PAYPAL *ENFOTRACEGP 4029357733 CA","RANDOM CHICK","XXXX-XXXXXX-XXXXX",8.9499999999999993]
["09/02/2013","PAYPAL *GTCAUTOMOTI 4029357733 CA","RANDOM DUDE","XXXX-XXXXXX-XXXXX",30]
["09/03/2013","7-ELEVEN 26282 00072SALT LAKE CITY UT","RANDOM DUDE","XXXX-XXXXXX-XXXXX",20.079999999999998]
["09/03/2013","HOLIDAY OIL #07 0000DRAPER UT","RANDOM CHICK","XXXX-XXXXXX-XXXXX",46.05]
["09/03/2013","PHONE PAYMENT - THANK YOU","RANDOM DUDE","XXXX-XXXXXX-XXXXX",-4000]
["09/03/2013","Starbucks #13391 SalSalt Lake City UT","RANDOM DUDE","XXXX-XXXXXX-XXXXX",10.95]
["09/03/2013","VICTORS TIRES INC VISALT LAKE CITY UT","RANDOM DUDE","XXXX-XXXXXX-XXXXX",105]
["09/04/2013","7-ELEVEN 26999 00072SALT LAKE CITY UT","RANDOM DUDE","XXXX-XXXXXX-XXXXX",19.12]
["09/04/2013","DAN'S OLYMPUS 000000SALT LAKE CITY UT","RANDOM CHICK","XXXX-XXXXXX-XXXXX",12.36]
["09/04/2013","MCDONALD'S F6408 000SALT LAKE CI UT","RANDOM CHICK","XXXX-XXXXXX-XXXXX",6.77]
["09/05/2013","ADVANCED VETERINARY SALT LAKE CIT UT","RANDOM CHICK","XXXX-XXXXXX-XXXXX",58.5]
["09/05/2013","IFA SALT LAKE CITY SALT LAKE UT","RANDOM DUDE","XXXX-XXXXXX-XXXXX",277.25]
["09/05/2013","MAVERIK COUNTRY STORSALT LAKE CITY UT","RANDOM DUDE","XXXX-XXXXXX-XXXXX",1.53]
["09/05/2013","OLYMPUS HILLS SERVICSALT LAKE CITY UT","RANDOM CHICK","XXXX-XXXXXX-XXXXX",15.02]
["09/05/2013","SPEED'S POWER EQUIPM801-487-3431","RANDOM DUDE","XXXX-XXXXXX-XXXXX",21]
["09/06/2013","7-ELEVEN 26999 00072SALT LAKE CITY UT","RANDOM DUDE","XXXX-XXXXXX-XXXXX",9.41]
["09/06/2013","DELTA AIR LINES ATLANTA","RANDOM CHICK","XXXX-XXXXXX-XXXXX",5]
["09/06/2013","MCDONALD'S F719 0000SALT LAKE CI UT","RANDOM DUDE","XXXX-XXXXXX-XXXXX",43.92]
["09/06/2013","SCALA-BARDRAKE-STARLSAN FRANCISCO CA","RANDOM DUDE","XXXX-XXXXXX-XXXXX",119.25]
["09/07/2013","7-ELEVEN 26999 00072SALT LAKE CITY UT","RANDOM DUDE","XXXX-XXXXXX-XXXXX",13.08]
["09/07/2013","IHG SFOHBPMS SAN FRANCISCO CA","RANDOM DUDE","XXXX-XXXXXX-XXXXX",295.69]
["09/07/2013","MES*GLEN'S LOCK & KESALT LAKE CIT UT","RANDOM DUDE","XXXX-XXXXXX-XXXXX",4.95]
["09/08/2013","DELTA AIR LINES ATLANTA","RANDOM DUDE","XXXX-XXXXXX-XXXXX",32.9]
["09/08/2013","DELTA AIR LINES ATLANTA","RANDOM DUDE","XXXX-XXXXXX-XXXXX",182.9]
["09/08/2013","HOLIDAY OIL #07 0000DRAPER UT","RANDOM CHICK","XXXX-XXXXXX-XXXXX",45.57]
["09/08/2013","MORTON'S OF SAN FRANSAN FRANCISCO CA","RANDOM DUDE","XXXX-XXXXXX-XXXXX",447.15]
["09/09/2013","7-ELEVEN 26999 00072SALT LAKE CITY UT","RANDOM DUDE","XXXX-XXXXXX-XXXXX",7.62]
["09/09/2013","7-ELEVEN 26999 00072SALT LAKE CITY UT","RANDOM DUDE","XXXX-XXXXXX-XXXXX",14.49]
["09/09/2013","CHEVRON HOLIDAY OIL SALT LAKE CITY UT","RANDOM DUDE","XXXX-XXXXXX-XXXXX",7.52]
["09/09/2013","CHEVRON HOLIDAY OIL SALT LAKE CITY UT","RANDOM DUDE","XXXX-XXXXXX-XXXXX",20.010000000000002]
["09/09/2013","CHEVRON K & H ENTERPSALT LAKE CITY UT","RANDOM DUDE","XXXX-XXXXXX-XXXXX",12.39]
["09/09/2013","CHEVRON K & H ENTERPSALT LAKE CITY UT","RANDOM CHICK","XXXX-XXXXXX-XXXXX",20.02]
["09/09/2013","HERTZ CAR RENTAL 800-654-4173 CA","RANDOM DUDE","XXXX-XXXXXX-XXXXX",129.97]
["09/09/2013","Interest Charge on Purchases","RANDOM DUDE","XXXX-XXXXXX-XXXXX",241.62]
["09/09/2013","PAYPAL *FULLGEAR4WD 4029357733 CA","RANDOM DUDE","XXXX-XXXXXX-XXXXX",32.5]
["09/10/2013","7-ELEVEN 26999 00072SALT LAKE CITY UT","RANDOM DUDE","XXXX-XXXXXX-XXXXX",18.22]
["09/10/2013","CHEVRON K & H ENTERPSALT LAKE CITY UT","RANDOM DUDE","XXXX-XXXXXX-XXXXX",10.02]
["09/10/2013","HYATT HOTELS GRAND SSAN FRANCISCO CA","RANDOM DUDE","XXXX-XXXXXX-XXXXX",624.70000000000005]
["09/10/2013","OLYMPUS HILLS SERVICSALT LAKE CITY UT","RANDOM CHICK","XXXX-XXXXXX-XXXXX",15.04]
["09/10/2013","PAYPAL *ENFOTRACEGP 4029357733 CA","RANDOM CHICK","XXXX-XXXXXX-XXXXX",159.6]
["09/11/2013","7-ELEVEN 26282 00072SALT LAKE CITY UT","RANDOM DUDE","XXXX-XXXXXX-XXXXX",12.28]
["09/11/2013","ACE HARDWARE AT OLYSALT LAKE CIT UT","RANDOM DUDE","XXXX-XXXXXX-XXXXX",6.93]
["09/11/2013","COMCAST CABLE COMM 800-COMCAST UT","RANDOM DUDE","XXXX-XXXXXX-XXXXX",121.35]
["09/11/2013","HOTELS.COM US1140063800-219-4606 NV","RANDOM DUDE","XXXX-XXXXXX-XXXXX",413.37]
["09/11/2013","MCDONALD'S F4010 000SALT LAKE CI UT","RANDOM CHICK","XXXX-XXXXXX-XXXXX",26.38]
["09/12/2013","INDEPENDENT DEALER SOGDEN UT","RANDOM CHICK","XXXX-XXXXXX-XXXXX",841.45]
["09/12/2013","PAYMENT RECEIVED - THANK YOU","RANDOM DUDE","XXXX-XXXXXX-XXXXX",-3000]
["09/12/2013","PAYMENT RECEIVED ACH - THANK YOU","RANDOM DUDE","XXXX-XXXXXX-XXXXX",-306]
["09/12/2013","SUPERIOR PAINT SUPPLSALT LAKE CITY UT","RANDOM DUDE","XXXX-XXXXXX-XXXXX",15.9]
["09/13/2013","7-ELEVEN 26282 00072SALT LAKE CITY UT","RANDOM DUDE","XXXX-XXXXXX-XXXXX",9.2100000000000009]
["09/13/2013","7-ELEVEN 26999 00072SALT LAKE CITY UT","RANDOM DUDE","XXXX-XXXXXX-XXXXX",7.03]
["09/13/2013","7-ELEVEN 26999 00072SALT LAKE CITY UT","RANDOM DUDE","XXXX-XXXXXX-XXXXX",8.0399999999999991]
["09/13/2013","7-ELEVEN 26999 00072SALT LAKE CITY UT","RANDOM DUDE","XXXX-XXXXXX-XXXXX",10.11]
["09/13/2013","DAN'S OLYMPUS 000000SALT LAKE CITY UT","RANDOM CHICK","XXXX-XXXXXX-XXXXX",16.86]
["09/13/2013","MCDONALD'S F6396 000SALT LAKE CI UT","RANDOM DUDE","XXXX-XXXXXX-XXXXX",5.39]
["09/13/2013","MES*GLEN'S LOCK & KESALT LAKE CIT UT","RANDOM DUDE","XXXX-XXXXXX-XXXXX",10]
["09/13/2013","MES*GLEN'S LOCK & KESALT LAKE CIT UT","RANDOM DUDE","XXXX-XXXXXX-XXXXX",98.4]
["09/13/2013","OLYMPUS HILLS SERVICSALT LAKE CITY UT","RANDOM CHICK","XXXX-XXXXXX-XXXXX",20.03]
["09/13/2013","SUPERIOR PAINT SUPPLSALT LAKE CITY UT","RANDOM DUDE","XXXX-XXXXXX-XXXXX",15.97]
["09/15/2013","DELTA AIR LINES ATLANTA","RANDOM CHICK","XXXX-XXXXXX-XXXXX",7]
["09/15/2013","HOLIDAY OIL #07 0000DRAPER UT","RANDOM CHICK","XXXX-XXXXXX-XXXXX",20.149999999999999]
["09/16/2013","7-ELEVEN 26999 00072SALT LAKE CITY UT","RANDOM DUDE","XXXX-XXXXXX-XXXXX",9.18]
["09/16/2013","7-ELEVEN 26999 00072SALT LAKE CITY UT","RANDOM DUDE","XXXX-XXXXXX-XXXXX",17.34]
["09/17/2013","20% In-Flight Savings for Delta SkyMiles","RANDOM DUDE","XXXX-XXXXXX-XXXXX",-1.4]
["09/17/2013","7-ELEVEN 26999 00072SALT LAKE CITY UT","RANDOM DUDE","XXXX-XXXXXX-XXXXX",1.07]
["09/17/2013","7-ELEVEN 26999 00072SALT LAKE CITY UT","RANDOM DUDE","XXXX-XXXXXX-XXXXX",10.029999999999999]
["09/17/2013","KWAL PAINT #85 0203 SALT LAKE CIT UT","RANDOM DUDE","XXXX-XXXXXX-XXXXX",163.35]
["09/17/2013","LOWE'S OF SALT LAKE SALT LAKE CITY UT","RANDOM DUDE","XXXX-XXXXXX-XXXXX",120.06]
["09/17/2013","OLYMPUS HILLS SERVICSALT LAKE CITY UT","RANDOM CHICK","XXXX-XXXXXX-XXXXX",20.02]
["09/17/2013","PAYPAL *ENFOTRACEGP 4029357733 CA","RANDOM CHICK","XXXX-XXXXXX-XXXXX",8.9499999999999993]
["09/17/2013","PAYPAL *ENFOTRACEGP 4029357733 CA","RANDOM CHICK","XXXX-XXXXXX-XXXXX",8.9499999999999993]
["09/18/2013","7-ELEVEN 26999 00072SALT LAKE CITY UT","RANDOM DUDE","XXXX-XXXXXX-XXXXX",3.43]
["09/18/2013","7-ELEVEN 26999 00072SALT LAKE CITY UT","RANDOM DUDE","XXXX-XXXXXX-XXXXX",10.27]
["09/18/2013","COSTCO CHECKS & FORMDECATUR GA","RANDOM CHICK","XXXX-XXXXXX-XXXXX",38.5]
["09/18/2013","DAN'S OLYMPUS 000000SALT LAKE CITY UT","RANDOM CHICK","XXXX-XXXXXX-XXXXX",2.96]
["09/18/2013","DAN'S OLYMPUS 000000SALT LAKE CITY UT","RANDOM CHICK","XXXX-XXXXXX-XXXXX",37.369999999999997]
["09/18/2013","LOWE'S OF SALT LAKE SALT LAKE CITY UT","RANDOM DUDE","XXXX-XXXXXX-XXXXX",57.97]
["09/18/2013","SMITHS-FUEL #9475 008666111979","RANDOM CHICK","XXXX-XXXXXX-XXXXX",47.39]
["09/19/2013","CHEVRON EXTRA MART #SALT LAKE CITY UT","RANDOM DUDE","XXXX-XXXXXX-XXXXX",20]
["09/19/2013","DIRECTV SERVICE 800-347-3288 CA","RANDOM DUDE","XXXX-XXXXXX-XXXXX",375.73]
["09/19/2013","LOWE'S OF SALT LAKE SALT LAKE CITY UT","RANDOM DUDE","XXXX-XXXXXX-XXXXX",20.94]
["09/19/2013","LOWE'S OF SALT LAKE SALT LAKE CITY UT","RANDOM DUDE","XXXX-XXXXXX-XXXXX",69.75]
["09/19/2013","MCDONALD'S F4010 000SALT LAKE CI UT","RANDOM CHICK","XXXX-XXXXXX-XXXXX",26.61]
["09/19/2013","PAYMENT RECEIVED - THANK YOU","RANDOM DUDE","XXXX-XXXXXX-XXXXX",-3000]
["09/20/2013","7-ELEVEN 26282 00072SALT LAKE CITY UT","RANDOM DUDE","XXXX-XXXXXX-XXXXX",10.08]
["09/20/2013","DIAMOND CONCESSIONS SALT LK CTY UT","RANDOM CHICK","XXXX-XXXXXX-XXXXX",92]
["09/20/2013","MCDONALD'S F6396 000SALT LAKE CI UT","RANDOM DUDE","XXXX-XXXXXX-XXXXX",15.47]
["09/20/2013","OLYMPUS HILLS SERVICSALT LAKE CITY UT","RANDOM CHICK","XXXX-XXXXXX-XXXXX",20.010000000000002]
["09/21/2013","7-ELEVEN 26282 00072SALT LAKE CITY UT","RANDOM DUDE","XXXX-XXXXXX-XXXXX",12.3]
["09/21/2013","KSL.COMDESERETDIGMEDSALT LAKE CIT UT","RANDOM DUDE","XXXX-XXXXXX-XXXXX",599]
["09/21/2013","OLYMPUS HILLS SERVICSALT LAKE CITY UT","RANDOM CHICK","XXXX-XXXXXX-XXXXX",15.02]
["09/21/2013","SLC INTERNATIONAL AISALT LAKE CIT UT","RANDOM DUDE","XXXX-XXXXXX-XXXXX",14]
["09/22/2013","DAN'S OLYMPUS 000000SALT LAKE CITY UT","RANDOM CHICK","XXXX-XXXXXX-XXXXX",59.39]
["09/22/2013","IHG SFOHBPMS SAN FRANCISCO CA","RANDOM DUDE","XXXX-XXXXXX-XXXXX",420.02]
["09/23/2013","7-ELEVEN 26999 00072SALT LAKE CITY UT","RANDOM DUDE","XXXX-XXXXXX-XXXXX",15.12]
["09/23/2013","7-ELEVEN 26999 00072SALT LAKE CITY UT","RANDOM DUDE","XXXX-XXXXXX-XXXXX",15.38]
["09/23/2013","BJS RESTAURANTS 436 ROSEVILLE CA","RANDOM DUDE","XXXX-XXXXXX-XXXXX",81.209999999999994]
["09/23/2013","DAN'S OLYMPUS 000000SALT LAKE CITY UT","RANDOM CHICK","XXXX-XXXXXX-XXXXX",12.34]
["09/23/2013","HERTZ CAR RENTAL 800-654-4173 CA","RANDOM DUDE","XXXX-XXXXXX-XXXXX",350.98]
["09/23/2013","PAYPAL *AUTOCASHNY 4029357733 CA","RANDOM DUDE","XXXX-XXXXXX-XXXXX",41.87]
["09/23/2013","PAYPAL *CENTERCAPSN 4029357733 CA","RANDOM DUDE","XXXX-XXXXXX-XXXXX",24.99]
["09/23/2013","PAYPAL *ENFOTRACEGP 4029357733 CA","RANDOM CHICK","XXXX-XXXXXX-XXXXX",19.95]
["09/23/2013","UNION 76 00036293 ROSEVILLE CA","RANDOM DUDE","XXXX-XXXXXX-XXXXX",38.369999999999997]
["09/24/2013","ADVANCED VETERINARY SALT LAKE CIT UT","RANDOM CHICK","XXXX-XXXXXX-XXXXX",70]
["09/24/2013","CHEVRON K & H ENTERPSALT LAKE CITY UT","RANDOM CHICK","XXXX-XXXXXX-XXXXX",42.94]
["09/24/2013","DAN'S OLYMPUS 000000SALT LAKE CITY UT","RANDOM CHICK","XXXX-XXXXXX-XXXXX",48.7]
["09/24/2013","GAY USA PAGES 542929ALTAMONTE SPR FL","RANDOM DUDE","XXXX-XXXXXX-XXXXX",99]
["09/24/2013","PAYMENT RECEIVED - THANK YOU","RANDOM DUDE","XXXX-XXXXXX-XXXXX",-3000]
["09/25/2013","7-ELEVEN 26999 00072SALT LAKE CITY UT","RANDOM DUDE","XXXX-XXXXXX-XXXXX",8.2200000000000006]
["09/25/2013","7-ELEVEN 26999 00072SALT LAKE CITY UT","RANDOM DUDE","XXXX-XXXXXX-XXXXX",9.01]
["09/25/2013","7-ELEVEN 26999 00072SALT LAKE CITY UT","RANDOM DUDE","XXXX-XXXXXX-XXXXX",15.02]
["09/25/2013","7-ELEVEN 26999 00072SALT LAKE CITY UT","RANDOM DUDE","XXXX-XXXXXX-XXXXX",15.05]
["09/25/2013","FASTRAC B TESO621230SALT LAKE CIT UT","RANDOM DUDE","XXXX-XXXXXX-XXXXX",10.029999999999999]
["09/25/2013","OLYMPUS HILLS SERVICSALT LAKE CITY UT","RANDOM CHICK","XXXX-XXXXXX-XXXXX",15.03]
["09/25/2013","PAYPAL *HONDAPARTSC 4029357733 CA","RANDOM DUDE","XXXX-XXXXXX-XXXXX",34.9]
["09/26/2013","ALLDATA LLC ELK GROVE CA","RANDOM CHICK","XXXX-XXXXXX-XXXXX",286.44]
["09/26/2013","CHEVRON TOP STOP C-5MURRAY UT","RANDOM DUDE","XXXX-XXXXXX-XXXXX",12]
["09/27/2013","7-ELEVEN 26282 00072SALT LAKE CITY UT","RANDOM DUDE","XXXX-XXXXXX-XXXXX",10.97]
["09/27/2013","7-ELEVEN 26999 00072SALT LAKE CITY UT","RANDOM DUDE","XXXX-XXXXXX-XXXXX",10.11]
["09/27/2013","OLYMPUS HILLS SERVICSALT LAKE CITY UT","RANDOM CHICK","XXXX-XXXXXX-XXXXX",15.08]
["09/27/2013","VICTORS TIRES INC VISALT LAKE CITY UT","RANDOM DUDE","XXXX-XXXXXX-XXXXX",140]
["09/27/2013","WWW.GOTOMYPC.COM SERVICE/SW","RANDOM CHICK","XXXX-XXXXXX-XXXXX",21.32]
["09/28/2013","7-ELEVEN 26999 00072SALT LAKE CITY UT","RANDOM DUDE","XXXX-XXXXXX-XXXXX",10.050000000000001]
["09/28/2013","7-ELEVEN 26999 00072SALT LAKE CITY UT","RANDOM DUDE","XXXX-XXXXXX-XXXXX",10.28]
["09/28/2013","7-ELEVEN 26999 00072SALT LAKE CITY UT","RANDOM DUDE","XXXX-XXXXXX-XXXXX",12.21]
["09/30/2013","7-ELEVEN 26999 00072SALT LAKE CITY UT","RANDOM DUDE","XXXX-XXXXXX-XXXXX",10.19]
["09/30/2013","7-ELEVEN 26999 00072SALT LAKE CITY UT","RANDOM DUDE","XXXX-XXXXXX-XXXXX",15.33]
["09/30/2013","DAN'S OLYMPUS 000000SALT LAKE CITY UT","RANDOM CHICK","XXXX-XXXXXX-XXXXX",12.36]
["09/30/2013","HOLIDAY OIL #07 0000DRAPER UT","RANDOM CHICK","XXXX-XXXXXX-XXXXX",43.47]
["09/30/2013","OLYMPUS HILLS SERVICSALT LAKE CITY UT","RANDOM CHICK","XXXX-XXXXXX-XXXXX",15.01]
["09/30/2013","PAYMENT RECEIVED - THANK YOU","RANDOM DUDE","XXXX-XXXXXX-XXXXX",-2500]
["09/30/2013","PAYMENT RECEIVED ACH - THANK YOU","RANDOM DUDE","XXXX-XXXXXX-XXXXX",-524]
["09/30/2013","PAYPAL *RADERRA 4029357733 CA","RANDOM DUDE","XXXX-XXXXXX-XXXXX",26.45]
["10/01/2013","7-ELEVEN 26282 00072SALT LAKE CITY UT","RANDOM DUDE","XXXX-XXXXXX-XXXXX",16.04]
["10/01/2013","7-ELEVEN 26999 00072SALT LAKE CITY UT","RANDOM DUDE","XXXX-XXXXXX-XXXXX",10.029999999999999]
["10/01/2013","7-ELEVEN 26999 00072SALT LAKE CITY UT","RANDOM DUDE","XXXX-XXXXXX-XXXXX",14.76]
["10/01/2013","NATL BIZ FURNITURE 800-626-6060 WI","RANDOM DUDE","XXXX-XXXXXX-XXXXX",1713]
["10/02/2013","7-ELEVEN 26999 00072SALT LAKE CITY UT","RANDOM DUDE","XXXX-XXXXXX-XXXXX",14.53]
["10/02/2013","SEARS ROEBUCK 01118 SALT LAKE CIT UT","RANDOM DUDE","XXXX-XXXXXX-XXXXX",3.84]
["10/04/2013","7-ELEVEN 26999 00072SALT LAKE CITY UT","RANDOM DUDE","XXXX-XXXXXX-XXXXX",1.53]
["10/04/2013","BOLT AND NUT SUPPLY 8014860088","RANDOM DUDE","XXXX-XXXXXX-XXXXX",4.97]
["10/04/2013","DAN'S OLYMPUS 000000SALT LAKE CITY UT","RANDOM CHICK","XXXX-XXXXXX-XXXXX",29.28]
["10/04/2013","GREAT HARVEST BREAD SALT LAKE CITY UT","RANDOM DUDE","XXXX-XXXXXX-XXXXX",24.77]
["10/04/2013","OLYMPUS HILLS SERVICSALT LAKE CITY UT","RANDOM CHICK","XXXX-XXXXXX-XXXXX",20.02]
["10/04/2013","RADIOSHACK COR186213SALT LAKE CIT UT","RANDOM DUDE","XXXX-XXXXXX-XXXXX",14.41]
["10/04/2013","THE HOME DEPOT 4403 SALT LAKE CIT UT","RANDOM DUDE","XXXX-XXXXXX-XXXXX",78.12]
["10/05/2013","7-ELEVEN 26999 00072SALT LAKE CITY UT","RANDOM DUDE","XXXX-XXXXXX-XXXXX",19.989999999999998]
["10/05/2013","BLK*CURESEARCH 8669923374 CA","RANDOM CHICK","XXXX-XXXXXX-XXXXX",100]
["10/05/2013","DAN'S OLYMPUS 000000SALT LAKE CITY UT","RANDOM CHICK","XXXX-XXXXXX-XXXXX",39.79]
["10/05/2013","HOLIDAY OIL #07 0000DRAPER UT","RANDOM CHICK","XXXX-XXXXXX-XXXXX",46.82]
["10/05/2013","SAN FRANCISCO MOSCONSAN FRANCISCO CA","RANDOM DUDE","XXXX-XXXXXX-XXXXX",46]
["10/05/2013","SLC INTERNATIONAL AISALT LAKE CIT UT","RANDOM DUDE","XXXX-XXXXXX-XXXXX",12]
["10/06/2013","SAN FRANCISCO MOSCONSAN FRANCISCO CA","RANDOM DUDE","XXXX-XXXXXX-XXXXX",30]
["10/07/2013","CHEVRON K & H ENTERPSALT LAKE CITY UT","RANDOM DUDE","XXXX-XXXXXX-XXXXX",80.17]
["10/07/2013","HERTZ CAR RENTAL 800-654-4173 CA","RANDOM DUDE","XXXX-XXXXXX-XXXXX",219.61]
["10/07/2013","SUPERIOR PAINT SUPPLSALT LAKE CITY UT","RANDOM DUDE","XXXX-XXXXXX-XXXXX",6.65]
["10/08/2013","CHEVRON K & H ENTERPSALT LAKE CITY UT","RANDOM DUDE","XXXX-XXXXXX-XXXXX",10.029999999999999]
["10/08/2013","OLYMPUS HILLS SERVICSALT LAKE CITY UT","RANDOM CHICK","XXXX-XXXXXX-XXXXX",20.07]
["10/08/2013","PAYPAL *ALEZAD13 4029357733 CA","RANDOM DUDE","XXXX-XXXXXX-XXXXX",19.84]
["10/08/2013","PAYPAL *SACOEPERAS 4029357733 CA","RANDOM DUDE","XXXX-XXXXXX-XXXXX",34]
["10/08/2013","SAN FRANCISCO MOSCONSAN FRANCISCO CA","RANDOM DUDE","XXXX-XXXXXX-XXXXX",504.92]
["10/08/2013","SAN FRANCISCO MOSCONSAN FRANCISCO CA","RANDOM DUDE","XXXX-XXXXXX-XXXXX",567.20000000000005]
["10/09/2013","ADVANCED VETERINARY SALT LAKE CIT UT","RANDOM CHICK","XXXX-XXXXXX-XXXXX",92]
["10/09/2013","CHEVRON HOLIDAY OIL SALT LAKE CITY UT","RANDOM DUDE","XXXX-XXXXXX-XXXXX",9.27]
["10/09/2013","CHEVRON HOLIDAY OIL SANDY UT","RANDOM DUDE","XXXX-XXXXXX-XXXXX",15]
["10/10/2013","7-ELEVEN 26282 00072SALT LAKE CITY UT","RANDOM DUDE","XXXX-XXXXXX-XXXXX",15.23]
["10/10/2013","ADVANCED VETERINARY SALT LAKE CIT UT","RANDOM CHICK","XXXX-XXXXXX-XXXXX",345.5]
["10/10/2013","CHEVRON K & H ENTERPSALT LAKE CITY UT","RANDOM DUDE","XXXX-XXXXXX-XXXXX",15.06]
["10/10/2013","FOREIGN TRANSACTION FEE","RANDOM DUDE","XXXX-XXXXXX-XXXXX",0.3]
["10/10/2013","Interest Charge on Purchases","RANDOM DUDE","XXXX-XXXXXX-XXXXX",162.32]
["10/10/2013","MCDONALD'S F6408 000SALT LAKE CI UT","RANDOM CHICK","XXXX-XXXXXX-XXXXX",7.31]
["10/10/2013","PAYPAL *GSS666 4029357733 GB","RANDOM DUDE","XXXX-XXXXXX-XXXXX",11.18]
["10/11/2013","7-ELEVEN 26999 00072SALT LAKE CITY UT","RANDOM DUDE","XXXX-XXXXXX-XXXXX",3.07]
["10/11/2013","ALPHAGRAPHICS 026 ALSALT LAKE CITY UT","RANDOM DUDE","XXXX-XXXXXX-XXXXX",13.36]
["10/11/2013","DAN'S OLYMPUS 000000SALT LAKE CITY UT","RANDOM CHICK","XXXX-XXXXXX-XXXXX",40.159999999999997]
["10/11/2013","DELTA AIR LINES ATLANTA","RANDOM CHICK","XXXX-XXXXXX-XXXXX",25]
["10/11/2013","DUNKIN #351617 QSALT LAKE CTY UT","RANDOM DUDE","XXXX-XXXXXX-XXXXX",9.6999999999999993]
["10/11/2013","OLYMPUS HILLS SERVICSALT LAKE CITY UT","RANDOM CHICK","XXXX-XXXXXX-XXXXX",15.03]
["10/11/2013","SUPERIOR PAINT SUPPLSALT LAKE CITY UT","RANDOM DUDE","XXXX-XXXXXX-XXXXX",33.1]
["10/11/2013","VICTORS TIRES INC VISALT LAKE CITY UT","RANDOM DUDE","XXXX-XXXXXX-XXXXX",40]
["10/12/2013","ADVANCED VETERINARY SALT LAKE CIT UT","RANDOM CHICK","XXXX-XXXXXX-XXXXX",1300]
["10/12/2013","COMCAST CABLE COMM 800-COMCAST UT","RANDOM DUDE","XXXX-XXXXXX-XXXXX",121.35]
["10/12/2013","PAYMENT RECEIVED - THANK YOU","RANDOM DUDE","XXXX-XXXXXX-XXXXX",-2500]
["10/12/2013","PETSMART INC 1007 SANDY UT","RANDOM CHICK","XXXX-XXXXXX-XXXXX",20.8]
["10/13/2013","ADVANCED VETERINARY SALT LAKE CIT UT","RANDOM CHICK","XXXX-XXXXXX-XXXXX",800]
["10/13/2013","CHEVRON CALIFORNIA PROSEVILLE CA","RANDOM DUDE","XXXX-XXXXXX-XXXXX",35.57]
["10/13/2013","CHEVRON HOLIDAY OIL SOUTH JORDAN UT","RANDOM DUDE","XXXX-XXXXXX-XXXXX",15.1]
["10/13/2013","CLIFT HOTEL SAN FRANCISCO CA","RANDOM DUDE","XXXX-XXXXXX-XXXXX",92.19]
["10/14/2013","CHEVRON JFS #136 020SPARKS NV","RANDOM DUDE","XXXX-XXXXXX-XXXXX",35.840000000000003]
["10/14/2013","CHEVRON JFS #136 020SPARKS NV","RANDOM DUDE","XXXX-XXXXXX-XXXXX",40.76]
["10/14/2013","HERTZ CAR RENTAL 800-654-4173 CA","RANDOM DUDE","XXXX-XXXXXX-XXXXX",184.51]
["10/14/2013","MCDONALD'S F19926 00SPARKS NV","RANDOM DUDE","XXXX-XXXXXX-XXXXX",29.86]
["10/14/2013","OLYMPUS HILLS SERVICSALT LAKE CITY UT","RANDOM CHICK","XXXX-XXXXXX-XXXXX",20]
["10/14/2013","SMITHS-FUEL #9388 Q78666111979","RANDOM DUDE","XXXX-XXXXXX-XXXXX",27.54]
["10/14/2013","SMITHS-FUEL #9388 Q78666111979","RANDOM DUDE","XXXX-XXXXXX-XXXXX",102.09]
["10/14/2013","THUNDER VALLEY RESORLINCOLN CA","RANDOM DUDE","XXXX-XXXXXX-XXXXX",161.87]
["10/14/2013","TOWER MART #141 0000ROCKLIN CA","RANDOM DUDE","XXXX-XXXXXX-XXXXX",12.93]
["10/14/2013","TOWER MART #141 0000ROCKLIN CA","RANDOM DUDE","XXXX-XXXXXX-XXXXX",92.52]
["10/14/2013","TOWER MART #141 0000ROCKLIN CA","RANDOM DUDE","XXXX-XXXXXX-XXXXX",99.34]
["10/15/2013","7-ELEVEN 26999 00072SALT LAKE CITY UT","RANDOM DUDE","XXXX-XXXXXX-XXXXX",10.119999999999999]
["10/15/2013","ADVANCED VETERINARY SALT LAKE CIT UT","RANDOM CHICK","XXXX-XXXXXX-XXXXX",464.25]
["10/15/2013","HOLIDAY OIL #07 0000DRAPER UT","RANDOM CHICK","XXXX-XXXXXX-XXXXX",45.18]
["10/15/2013","VICTORS TIRES INC VISALT LAKE CITY UT","RANDOM DUDE","XXXX-XXXXXX-XXXXX",105]
["10/16/2013","ACE HARDWARE AT OLYSALT LAKE CIT UT","RANDOM DUDE","XXXX-XXXXXX-XXXXX",42.7]
["10/17/2013","CHEVRON K & H ENTERPSALT LAKE CITY UT","RANDOM DUDE","XXXX-XXXXXX-XXXXX",9.99]
["10/17/2013","ORECK SALT LAKE CIT UT","RANDOM DUDE","XXXX-XXXXXX-XXXXX",138.9]
["10/17/2013","PAYPAL *PARTSPROS 4029357733 CA","RANDOM DUDE","XXXX-XXXXXX-XXXXX",19.989999999999998]
["10/17/2013","THE JANITORS CLOSET 801-532-3812","RANDOM DUDE","XXXX-XXXXXX-XXXXX",17.77]
["10/18/2013","7-ELEVEN 26282 00072SALT LAKE CITY UT","RANDOM DUDE","XXXX-XXXXXX-XXXXX",15.17]
["10/18/2013","7-ELEVEN 26999 00072SALT LAKE CITY UT","RANDOM DUDE","XXXX-XXXXXX-XXXXX",3.07]
["10/18/2013","GROVE MARKET DELI, I801-467-8860","RANDOM DUDE","XXXX-XXXXXX-XXXXX",59.51]
["10/18/2013","MCDONALD'S F6396 000SALT LAKE CI UT","RANDOM DUDE","XXXX-XXXXXX-XXXXX",18.7]
["10/18/2013","OLYMPUS HILLS SERVICSALT LAKE CITY UT","RANDOM CHICK","XXXX-XXXXXX-XXXXX",15.01]
["10/18/2013","PAYPAL *LKQ ONLINE 4029357733 CA","RANDOM DUDE","XXXX-XXXXXX-XXXXX",76.62]
["10/18/2013","PAYPAL *MAMAANDTANY 4029357733 CA","RANDOM DUDE","XXXX-XXXXXX-XXXXX",38]
["10/18/2013","PAYPAL *MISSYMARTIN 4029357733 CA","RANDOM DUDE","XXXX-XXXXXX-XXXXX",24.99]
["10/18/2013","THE HOME DEPOT 4403 SALT LAKE CIT UT","RANDOM DUDE","XXXX-XXXXXX-XXXXX",6.91]
["10/19/2013","7-ELEVEN 36754 00073LEHI UT","RANDOM DUDE","XXXX-XXXXXX-XXXXX",19.989999999999998]
["10/19/2013","DIRECTV SERVICE 800-347-3288 CA","RANDOM DUDE","XXXX-XXXXXX-XXXXX",330.09]
["10/19/2013","PAYPAL *ENFOTRACEGP 4029357733 CA","RANDOM CHICK","XXXX-XXXXXX-XXXXX",14.95]
["10/19/2013","PAYPAL *ENFOTRACEGP 4029357733 CA","RANDOM CHICK","XXXX-XXXXXX-XXXXX",79.8]
["10/19/2013","PAYPAL *ENFOTRACEGP 4029357733 CA","RANDOM CHICK","XXXX-XXXXXX-XXXXX",159.6]
["10/21/2013","7-ELEVEN 26999 00072SALT LAKE CITY UT","RANDOM DUDE","XXXX-XXXXXX-XXXXX",6.45]
["10/21/2013","7-ELEVEN 26999 00072SALT LAKE CITY UT","RANDOM DUDE","XXXX-XXXXXX-XXXXX",14.76]
["10/21/2013","7-ELEVEN 26999 00072SALT LAKE CITY UT","RANDOM DUDE","XXXX-XXXXXX-XXXXX",15.03]
["10/21/2013","KJZZ 0054 SALT LAKE CIT UT","RANDOM DUDE","XXXX-XXXXXX-XXXXX",2720]
["10/21/2013","KSL.COMDESERETDIGMEDSALT LAKE CIT UT","RANDOM DUDE","XXXX-XXXXXX-XXXXX",599]
["10/21/2013","PAYMENT RECEIVED - THANK YOU","RANDOM DUDE","XXXX-XXXXXX-XXXXX",-2500]
["10/21/2013","SEARS ROEBUCK 01118 SALT LAKE CIT UT","RANDOM DUDE","XXXX-XXXXXX-XXXXX",4.12]
["10/22/2013","CHEVRON K & H ENTERPSALT LAKE CITY UT","RANDOM CHICK","XXXX-XXXXXX-XXXXX",45.46]
["10/22/2013","EVCO HOUSE OF HOSE CORAOPOLIS PA","RANDOM DUDE","XXXX-XXXXXX-XXXXX",93.59]
["10/22/2013","MES*GLEN'S LOCK & KESALT LAKE CIT UT","RANDOM DUDE","XXXX-XXXXXX-XXXXX",4.95]
["10/23/2013","7-ELEVEN 26282 00072SALT LAKE CITY UT","RANDOM DUDE","XXXX-XXXXXX-XXXXX",10.93]
["10/23/2013","OLYMPUS HILLS SERVICSALT LAKE CITY UT","RANDOM CHICK","XXXX-XXXXXX-XXXXX",20.02]
["10/24/2013","7-ELEVEN 26282 00072SALT LAKE CITY UT","RANDOM DUDE","XXXX-XXXXXX-XXXXX",10.96]
["10/24/2013","7-ELEVEN 26282 00072SALT LAKE CITY UT","RANDOM DUDE","XXXX-XXXXXX-XXXXX",15.08]
["10/24/2013","GAY USA PAGES 542929ALTAMONTE SPR FL","RANDOM DUDE","XXXX-XXXXXX-XXXXX",99]
["10/25/2013","MCDONALD'S F6396 000SALT LAKE CI UT","RANDOM DUDE","XXXX-XXXXXX-XXXXX",23.88]
["10/25/2013","OLYMPUS HILLS SERVICSALT LAKE CITY UT","RANDOM CHICK","XXXX-XXXXXX-XXXXX",20.05]
["10/26/2013","7-ELEVEN 26999 00072SALT LAKE CITY UT","RANDOM DUDE","XXXX-XXXXXX-XXXXX",10.84]
["10/26/2013","FEDEX OFFICE #2401 0SALT LAKE CITY UT","RANDOM DUDE","XXXX-XXXXXX-XXXXX",11.11]
["10/26/2013","VICTORS TIRES INC VISALT LAKE CITY UT","RANDOM DUDE","XXXX-XXXXXX-XXXXX",35]
["10/27/2013","HOLIDAY OIL #07 0000DRAPER UT","RANDOM CHICK","XXXX-XXXXXX-XXXXX",45.17]
["10/27/2013","WWW.GOTOMYPC.COM SERVICE/SW","RANDOM CHICK","XXXX-XXXXXX-XXXXX",21.32]
["10/28/2013","CHEVRON HOLIDAY OIL SALT LAKE CITY UT","RANDOM DUDE","XXXX-XXXXXX-XXXXX",7.24]
["10/28/2013","VICTORS TIRES INC VISALT LAKE CITY UT","RANDOM DUDE","XXXX-XXXXXX-XXXXX",280]
["10/29/2013","SUPERIOR PAINT SUPPLSALT LAKE CITY UT","RANDOM DUDE","XXXX-XXXXXX-XXXXX",6.22]
["10/30/2013","7-ELEVEN 26282 00072SALT LAKE CITY UT","RANDOM DUDE","XXXX-XXXXXX-XXXXX",10.99]
["10/30/2013","7-ELEVEN 26999 00072SALT LAKE CITY UT","RANDOM DUDE","XXXX-XXXXXX-XXXXX",8.07]
["10/30/2013","CHEVRON HOLIDAY OIL SALT LAKE CITY UT","RANDOM DUDE","XXXX-XXXXXX-XXXXX",5.99]
["10/30/2013","MICHAELS 5718 DRAPER UT","RANDOM CHICK","XXXX-XXXXXX-XXXXX",12.53]
["10/30/2013","OLYMPUS HILLS SERVICSALT LAKE CITY UT","RANDOM CHICK","XXXX-XXXXXX-XXXXX",15.06]
["10/30/2013","PAYMENT RECEIVED - THANK YOU","RANDOM DUDE","XXXX-XXXXXX-XXXXX",-3500]
["10/30/2013","PAYPAL *EKUS PARTS 4029357733 CA","RANDOM DUDE","XXXX-XXXXXX-XXXXX",34.770000000000003]
["10/30/2013","SMITHS FOOD #4132 008666111979","RANDOM CHICK","XXXX-XXXXXX-XXXXX",19.18]
["10/30/2013","SMITHS FOOD #4132 008666111979","RANDOM CHICK","XXXX-XXXXXX-XXXXX",81.069999999999993]
["10/30/2013","THE SWEET TOOTH FAIRDRAPER UT","RANDOM CHICK","XXXX-XXXXXX-XXXXX",1.07]
["10/30/2013","THE SWEET TOOTH FAIRDRAPER UT","RANDOM CHICK","XXXX-XXXXXX-XXXXX",1.07]
["10/31/2013","GABP/S & J/PWE / DPSHOUSTON TX","RANDOM CHICK","XXXX-XXXXXX-XXXXX",178.99]
["10/31/2013","WAL-MART SUPERCENTERSALT LAKE CITY UT","RANDOM DUDE","XXXX-XXXXXX-XXXXX",22.72]
["11/01/2013","7-ELEVEN 26282 00072SALT LAKE CITY UT","RANDOM DUDE","XXXX-XXXXXX-XXXXX",12.03]
["11/01/2013","7-ELEVEN 26999 00072SALT LAKE CITY UT","RANDOM DUDE","XXXX-XXXXXX-XXXXX",15.05]
["11/01/2013","DELTA AIR LINES ATLANTA","RANDOM DUDE","XXXX-XXXXXX-XXXXX",110.1]
["11/01/2013","GREAT HARVEST BREAD SALT LAKE CITY UT","RANDOM DUDE","XXXX-XXXXXX-XXXXX",16.5]
["11/01/2013","MES*GLEN'S LOCK & KESALT LAKE CIT UT","RANDOM DUDE","XXXX-XXXXXX-XXXXX",79]
["11/01/2013","Verizon Wrls 15259-08009220204","RANDOM DUDE","XXXX-XXXXXX-XXXXX",406.01]
["11/02/2013","7-ELEVEN 26999 00072SALT LAKE CITY UT","RANDOM DUDE","XXXX-XXXXXX-XXXXX",9.1199999999999992]
["11/02/2013","OLYMPUS HILLS SERVICSALT LAKE CITY UT","RANDOM CHICK","XXXX-XXXXXX-XXXXX",15.08]
["11/03/2013","CHEVRON HOLIDAY OIL SALT LAKE CITY UT","RANDOM DUDE","XXXX-XXXXXX-XXXXX",20.03]
["11/03/2013","DELTA AIR LINES ATLANTA","RANDOM DUDE","XXXX-XXXXXX-XXXXX",192.9]
["11/03/2013","DELTA AIR LINES ATLANTA","RANDOM DUDE","XXXX-XXXXXX-XXXXX",201]
["11/04/2013","7-ELEVEN 26999 00072SALT LAKE CITY UT","RANDOM DUDE","XXXX-XXXXXX-XXXXX",20.059999999999999]
["11/04/2013","CHEVRON K & H ENTERPSALT LAKE CITY UT","RANDOM DUDE","XXXX-XXXXXX-XXXXX",7]
["11/04/2013","CHEVRON K & H ENTERPSALT LAKE CITY UT","RANDOM CHICK","XXXX-XXXXXX-XXXXX",46.23]
["11/04/2013","PAYPAL *HUBCAPKINGD 4029357733 CA","RANDOM DUDE","XXXX-XXXXXX-XXXXX",18.95]
["11/04/2013","PAYPAL *MARTINIAUTO 4029357733 CA","RANDOM DUDE","XXXX-XXXXXX-XXXXX",15]
["11/05/2013","7-ELEVEN 26999 00072SALT LAKE CITY UT","RANDOM DUDE","XXXX-XXXXXX-XXXXX",11.17]
["11/05/2013","HOTELTONIGHT.COM 800-208-2949 CA","RANDOM DUDE","XXXX-XXXXXX-XXXXX",78]
["11/06/2013","CHEVRON HOLIDAY OIL SALT LAKE CITY UT","RANDOM DUDE","XXXX-XXXXXX-XXXXX",8.01]
["11/06/2013","GIGGLEPOP.COM 217-344-4922","RANDOM DUDE","XXXX-XXXXXX-XXXXX",45]
["11/06/2013","HERTZ CAR RENTAL 800-654-4173 NV","RANDOM DUDE","XXXX-XXXXXX-XXXXX",31.84]
["11/06/2013","JIMMY JOHNS 1882 884CEDAR CITY UT","RANDOM DUDE","XXXX-XXXXXX-XXXXX",22.99]
["11/06/2013","OLYMPUS HILLS SERVICSALT LAKE CITY UT","RANDOM CHICK","XXXX-XXXXXX-XXXXX",20]
["11/06/2013","PAYPAL *STEVESAUTOP 4029357733 CA","RANDOM DUDE","XXXX-XXXXXX-XXXXX",79.989999999999995]
["11/06/2013","REBEL #2187 HENDERSON NV","RANDOM DUDE","XXXX-XXXXXX-XXXXX",10.24]
["11/06/2013","REBEL #2187 HENDERSON NV","RANDOM DUDE","XXXX-XXXXXX-XXXXX",25.38]
["11/06/2013","REBEL #2187 HENDERSON NV","RANDOM DUDE","XXXX-XXXXXX-XXXXX",61.21]
["11/06/2013","TEXACO CEDAR CITY TRCEDAR CITY UT","RANDOM DUDE","XXXX-XXXXXX-XXXXX",34.26]
["11/06/2013","TEXACO CEDAR CITY TRCEDAR CITY UT","RANDOM DUDE","XXXX-XXXXXX-XXXXX",35.15]
["11/07/2013","CLARITY SKIN LLC 300DRAPER UT","RANDOM CHICK","XXXX-XXXXXX-XXXXX",300]
["11/07/2013","MCDONALD'S F4010 000SALT LAKE CI UT","RANDOM CHICK","XXXX-XXXXXX-XXXXX",19.34]
["11/07/2013","SEARS ROEBUCK 01118 SALT LAKE CIT UT","RANDOM DUDE","XXXX-XXXXXX-XXXXX",4.9800000000000004]
["11/08/2013","Interest Charge on Purchases","RANDOM DUDE","XXXX-XXXXXX-XXXXX",187.76]
["11/08/2013","MCDONALD'S F6396 000SALT LAKE CI UT","RANDOM DUDE","XXXX-XXXXXX-XXXXX",23.88]
["11/08/2013","SEARS ROEBUCK 01118 SALT LAKE CIT UT","RANDOM DUDE","XXXX-XXXXXX-XXXXX",2.68]
["11/08/2013","SMITHS FOOD #4080 008666111979","RANDOM DUDE","XXXX-XXXXXX-XXXXX",4.1100000000000003]
["11/09/2013","KFC/TB #503 0480 SALT LAKE CIT UT","RANDOM CHICK","XXXX-XXXXXX-XXXXX",21.56]
["11/09/2013","OLYMPUS HILLS SERVICSALT LAKE CITY UT","RANDOM CHICK","XXXX-XXXXXX-XXXXX",20]
["11/09/2013","SLC INTERNATIONAL AISALT LAKE CIT UT","RANDOM DUDE","XXXX-XXXXXX-XXXXX",11]
["11/10/2013","DAN'S OLYMPUS 000000SALT LAKE CITY UT","RANDOM CHICK","XXXX-XXXXXX-XXXXX",42.58]
["11/10/2013","PAYMENT RECEIVED - THANK YOU","RANDOM DUDE","XXXX-XXXXXX-XXXXX",-3500]
["11/11/2013","COMCAST CABLE COMM 800-COMCAST UT","RANDOM DUDE","XXXX-XXXXXX-XXXXX",121.4]
["11/11/2013","HERTZ CAR RENTAL 800-654-4173 CA","RANDOM DUDE","XXXX-XXXXXX-XXXXX",64.650000000000006]
["11/11/2013","PAYPAL *ALLSTARAUTO 4029357733 CA","RANDOM DUDE","XXXX-XXXXXX-XXXXX",54.46]
["11/11/2013","PAYPAL *ALLSTARAUTO 4029357733 CA","RANDOM DUDE","XXXX-XXXXXX-XXXXX",79.959999999999994]
["11/11/2013","PAYPAL *AUTO PARTS 4029357733 CA","RANDOM DUDE","XXXX-XXXXXX-XXXXX",40.36]
["11/11/2013","PAYPAL *BRADWEIST 4029357733 CA","RANDOM DUDE","XXXX-XXXXXX-XXXXX",22.85]
["11/11/2013","PAYPAL *FUNDAMENTAL 4029357733 CA","RANDOM DUDE","XXXX-XXXXXX-XXXXX",16.989999999999998]
["11/11/2013","PAYPAL *TASCAAUTOMO 4029357733 CA","RANDOM DUDE","XXXX-XXXXXX-XXXXX",111.15]
["11/11/2013","PAYPAL *WOLF12345WO 4029357733 CA","RANDOM DUDE","XXXX-XXXXXX-XXXXX",55]
["11/12/2013","7-ELEVEN 26999 00072SALT LAKE CITY UT","RANDOM DUDE","XXXX-XXXXXX-XXXXX",15.08]
["11/12/2013","DELTA AIR LINES ATLANTA","RANDOM DUDE","XXXX-XXXXXX-XXXXX",365.8]
["11/12/2013","PAYPAL *CORE GUYS 4029357733 CA","RANDOM DUDE","XXXX-XXXXXX-XXXXX",19.989999999999998]
["11/12/2013","PAYPAL *FUNDAMENTAL 4029357733 CA","RANDOM DUDE","XXXX-XXXXXX-XXXXX",-16.989999999999998]
["11/13/2013","7-ELEVEN 26999 00072SALT LAKE CITY UT","RANDOM DUDE","XXXX-XXXXXX-XXXXX",10.029999999999999]
["11/13/2013","CHEVRON K & H ENTERPSALT LAKE CITY UT","RANDOM CHICK","XXXX-XXXXXX-XXXXX",15.03]
["11/13/2013","COLUMBUS TRAVEL BOUNTIFUL UT","RANDOM DUDE","XXXX-XXXXXX-XXXXX",50]
["11/13/2013","COLUMBUS TRAVEL BOUNTIFUL UT","RANDOM DUDE","XXXX-XXXXXX-XXXXX",781.9]
["11/13/2013","COLUMBUS TRAVEL BOUNTIFUL UT","RANDOM DUDE","XXXX-XXXXXX-XXXXX",781.9]
["11/13/2013","MCDONALD'S F2108 000SALT LAKE CI UT","RANDOM CHICK","XXXX-XXXXXX-XXXXX",7.75]
["11/14/2013","CHEVRON K & H ENTERPSALT LAKE CITY UT","RANDOM CHICK","XXXX-XXXXXX-XXXXX",40.82]
["11/15/2013","DELTA AIR LINES ATLANTA","RANDOM DUDE","XXXX-XXXXXX-XXXXX",15.8]
["11/15/2013","GREAT HARVEST BREAD SALT LAKE CITY UT","RANDOM DUDE","XXXX-XXXXXX-XXXXX",13.23]
["11/15/2013","SMITHS FOOD #4044 008666111979","RANDOM DUDE","XXXX-XXXXXX-XXXXX",3.9]
["11/15/2013","STRONG VOLKSWAGEN 65SALT LAKE CITY UT","RANDOM DUDE","XXXX-XXXXXX-XXXXX",94.76]
["11/16/2013","7-ELEVEN 26282 00072SALT LAKE CITY UT","RANDOM DUDE","XXXX-XXXXXX-XXXXX",16.07]
["11/16/2013","OLYMPUS HILLS SERVICSALT LAKE CITY UT","RANDOM CHICK","XXXX-XXXXXX-XXXXX",15.01]
["11/18/2013","7-ELEVEN 26282 00072SALT LAKE CITY UT","RANDOM DUDE","XXXX-XXXXXX-XXXXX",10.119999999999999]
["11/18/2013","DAN'S OLYMPUS 000000SALT LAKE CITY UT","RANDOM CHICK","XXXX-XXXXXX-XXXXX",17.8]
["11/19/2013","7-ELEVEN 26999 00072SALT LAKE CITY UT","RANDOM DUDE","XXXX-XXXXXX-XXXXX",10.1]
["11/19/2013","7-ELEVEN 26999 00072SALT LAKE CITY UT","RANDOM DUDE","XXXX-XXXXXX-XXXXX",15.17]
["11/19/2013","CHEVRON K & H ENTERPSALT LAKE CITY UT","RANDOM CHICK","XXXX-XXXXXX-XXXXX",20.03]
["11/19/2013","DIRECTV SERVICE 800-347-3288 CA","RANDOM DUDE","XXXX-XXXXXX-XXXXX",330.09]
["11/19/2013","PAYPAL *DAYDREAMRZ8 4029357733 CA","RANDOM DUDE","XXXX-XXXXXX-XXXXX",50]
["11/20/2013","CHEVRON K & H ENTERPSALT LAKE CITY UT","RANDOM DUDE","XXXX-XXXXXX-XXXXX",7.13]
["11/20/2013","DELTA AIR LINES ATLANTA","RANDOM DUDE","XXXX-XXXXXX-XXXXX",-161.80000000000001]
["11/20/2013","DELTA AIR LINES ATLANTA","RANDOM DUDE","XXXX-XXXXXX-XXXXX",161.80000000000001]
["11/20/2013","DELTA AIR LINES ATLANTA","RANDOM DUDE","XXXX-XXXXXX-XXXXX",230.9]
["11/20/2013","DELTA AIR LINES ATLANTA","RANDOM DUDE","XXXX-XXXXXX-XXXXX",230.9]
["11/20/2013","HERTZ CAR RENTAL 800-654-4173 NV","RANDOM DUDE","XXXX-XXXXXX-XXXXX",56.92]
["11/20/2013","KJZZ 0054 SALT LAKE CIT UT","RANDOM DUDE","XXXX-XXXXXX-XXXXX",2720]
["11/20/2013","MCDONALD'S F4010 000SALT LAKE CI UT","RANDOM CHICK","XXXX-XXXXXX-XXXXX",7.33]
["11/20/2013","PAYPAL *BILLSMITHAU 4029357733 CA","RANDOM DUDE","XXXX-XXXXXX-XXXXX",70]
["11/20/2013","PAYPAL *GLENNDAGHER 4029357733 CA","RANDOM DUDE","XXXX-XXXXXX-XXXXX",249]
["11/20/2013","TEXACO CEDAR CITY TRCEDAR CITY UT","RANDOM DUDE","XXXX-XXXXXX-XXXXX",31.23]
["11/21/2013","CHEVRON HOLIDAY OIL SALT LAKE CITY UT","RANDOM DUDE","XXXX-XXXXXX-XXXXX",20.12]
["11/21/2013","DESERET DIGITAL MEDISALT LAKE CITY UT","RANDOM DUDE","XXXX-XXXXXX-XXXXX",599]
["11/21/2013","MCDONALD'S F4010 000SALT LAKE CI UT","RANDOM CHICK","XXXX-XXXXXX-XXXXX",26.39]
["11/21/2013","SAN FRANCISCO 49ERS SANTA CLARA CA","RANDOM DUDE","XXXX-XXXXXX-XXXXX",2596]
["11/21/2013","UTAH-DMV OFFICES SALT LAKE CITY UT","RANDOM CHICK","XXXX-XXXXXX-XXXXX",424.25]
["11/22/2013","7-ELEVEN 26999 00072SALT LAKE CITY UT","RANDOM DUDE","XXXX-XXXXXX-XXXXX",15.02]
["11/22/2013","DAN'S OLYMPUS 000000SALT LAKE CITY UT","RANDOM CHICK","XXXX-XXXXXX-XXXXX",27.64]
["11/22/2013","LA PICO MARKET TESO6KEARNS UT","RANDOM CHICK","XXXX-XXXXXX-XXXXX",15.39]
["11/22/2013","LOWE'S OF SALT LAKE SALT LAKE CITY UT","RANDOM DUDE","XXXX-XXXXXX-XXXXX",-21.34]
["11/22/2013","LOWE'S OF SALT LAKE SALT LAKE CITY UT","RANDOM DUDE","XXXX-XXXXXX-XXXXX",58.75]
["11/22/2013","LOWE'S OF SALT LAKE SALT LAKE CITY UT","RANDOM DUDE","XXXX-XXXXXX-XXXXX",90.23]
["11/22/2013","LOWE'S OF SALT LAKE SALT LAKE CITY UT","RANDOM DUDE","XXXX-XXXXXX-XXXXX",117.49]
["11/22/2013","MCDONALD'S F6396 000SALT LAKE CI UT","RANDOM DUDE","XXXX-XXXXXX-XXXXX",14.1]
["11/22/2013","PAYPAL *JUNKYARDOGS 4029357733 CA","RANDOM DUDE","XXXX-XXXXXX-XXXXX",61.7]
["11/23/2013","SHELL OIL 5744460070SALT LAKE CITY UT","RANDOM CHICK","XXXX-XXXXXX-XXXXX",20.010000000000002]
["11/24/2013","CHEVRON HOLIDAY OIL SOUTH JORDAN UT","RANDOM DUDE","XXXX-XXXXXX-XXXXX",9.99]
["11/24/2013","GAY USA PAGES 542929ALTAMONTE SPR FL","RANDOM DUDE","XXXX-XXXXXX-XXXXX",99]
["11/25/2013","AAA POSTAL SHOP AAA SALT LAKE CITY UT","RANDOM DUDE","XXXX-XXXXXX-XXXXX",11.32]
["11/25/2013","LOWE'S OF SALT LAKE SALT LAKE CITY UT","RANDOM DUDE","XXXX-XXXXXX-XXXXX",-76.11]
["11/25/2013","LOWE'S OF SALT LAKE SALT LAKE CITY UT","RANDOM DUDE","XXXX-XXXXXX-XXXXX",2.3199999999999998]
["11/25/2013","LOWE'S OF SALT LAKE SALT LAKE CITY UT","RANDOM DUDE","XXXX-XXXXXX-XXXXX",76.11]
["11/25/2013","PAYMENT RECEIVED - THANK YOU","RANDOM DUDE","XXXX-XXXXXX-XXXXX",-3500]
["11/25/2013","PAYPAL *DIRECTAUTO 4029357733 CA","RANDOM DUDE","XXXX-XXXXXX-XXXXX",63.76]
["11/26/2013","7-ELEVEN 26999 00072SALT LAKE CITY UT","RANDOM DUDE","XXXX-XXXXXX-XXXXX",19.260000000000002]
["11/26/2013","CHEVRON K & H ENTERPSALT LAKE CITY UT","RANDOM CHICK","XXXX-XXXXXX-XXXXX",37.14]
["11/26/2013","MES*GLEN'S LOCK & KESALT LAKE CIT UT","RANDOM DUDE","XXXX-XXXXXX-XXXXX",89.1]
["11/26/2013","OLYMPUS HILLS SERVICSALT LAKE CITY UT","RANDOM CHICK","XXXX-XXXXXX-XXXXX",15.14]
["11/26/2013","PAYPAL *ABIGCOMPANY 4029357733 CA","RANDOM DUDE","XXXX-XXXXXX-XXXXX",7.99]
["11/26/2013","PAYPAL *CARPARTSDEP 4029357733 CA","RANDOM DUDE","XXXX-XXXXXX-XXXXX",41.25]
["11/27/2013","DAN'S OLYMPUS 000000SALT LAKE CITY UT","RANDOM CHICK","XXXX-XXXXXX-XXXXX",5]
["11/27/2013","MCDONALD'S F4010 000SALT LAKE CI UT","RANDOM CHICK","XXXX-XXXXXX-XXXXX",26.39]
["11/27/2013","RITE AID 6135 RITE ASALT LAKE CITY UT","RANDOM CHICK","XXXX-XXXXXX-XXXXX",36.69]
["11/27/2013","WWW.GOTOMYPC.COM SERVICE/SW","RANDOM CHICK","XXXX-XXXXXX-XXXXX",21.32]
["11/28/2013","PAYMENT RECEIVED - THANK YOU","RANDOM DUDE","XXXX-XXXXXX-XXXXX",-4000]
["11/28/2013","PAYMENT RECEIVED ACH - THANK YOU","RANDOM DUDE","XXXX-XXXXXX-XXXXX",-1150]
["11/29/2013","HENRIES DRY CLEANERSSALT LAKE CITY UT","RANDOM CHICK","XXXX-XXXXXX-XXXXX",18.510000000000002]
["11/29/2013","PAYPAL *ENFOTRACEGP 4029357733 CA","RANDOM CHICK","XXXX-XXXXXX-XXXXX",14.95]
["11/29/2013","PAYPAL *WESLEYBISCO 4029357733 CA","RANDOM DUDE","XXXX-XXXXXX-XXXXX",55]
["11/29/2013","THE HOME DEPOT 4403 SALT LAKE CIT UT","RANDOM DUDE","XXXX-XXXXXX-XXXXX",74.78]
["11/30/2013","7-ELEVEN 26282 00072SALT LAKE CITY UT","RANDOM DUDE","XXXX-XXXXXX-XXXXX",16.22]
["11/30/2013","CHEVRON HOLIDAY OIL SALT LAKE CITY UT","RANDOM DUDE","XXXX-XXXXXX-XXXXX",10.09]
["11/30/2013","OLYMPUS HILLS SERVICSALT LAKE CITY UT","RANDOM CHICK","XXXX-XXXXXX-XXXXX",20.010000000000002]
["12/01/2013","CARTER'S #434 000000SANDY UT","RANDOM CHICK","XXXX-XXXXXX-XXXXX",38.47]
["12/01/2013","CHEVRON SLIM OLSON'SWOODS CROSS UT","RANDOM CHICK","XXXX-XXXXXX-XXXXX",41.68]
["12/01/2013","INTERCONTINENTAL SANSAN FRANCISCO CA","RANDOM DUDE","XXXX-XXXXXX-XXXXX",286.49]
["12/01/2013","PAYPAL *ATLANTAAUTO 4029357733 CA","RANDOM DUDE","XXXX-XXXXXX-XXXXX",40.909999999999997]
["12/01/2013","TOWER MART #141 0000ROCKLIN CA","RANDOM DUDE","XXXX-XXXXXX-XXXXX",27.78]
["12/02/2013","CHEVRON VINTNERS DISROCKLIN CA","RANDOM DUDE","XXXX-XXXXXX-XXXXX",19.32]
["12/02/2013","CHEVRON VINTNERS DISROCKLIN CA","RANDOM DUDE","XXXX-XXXXXX-XXXXX",54.27]
["12/02/2013","HERTZ CAR RENTAL 800-654-4173 CA","RANDOM DUDE","XXXX-XXXXXX-XXXXX",184.51]
["12/02/2013","OLYMPUS HILLS SERVICSALT LAKE CITY UT","RANDOM CHICK","XXXX-XXXXXX-XXXXX",15]
["12/02/2013","PILOT CORP 340 00340FERNLEY NV","RANDOM DUDE","XXXX-XXXXXX-XXXXX",19.64]
["12/02/2013","THUNDER VALLEY RESORLINCOLN CA","RANDOM DUDE","XXXX-XXXXXX-XXXXX",125.15]
["12/03/2013","CHEVRON K & H ENTERPSALT LAKE CITY UT","RANDOM DUDE","XXXX-XXXXXX-XXXXX",25]
["12/03/2013","MES*GLEN'S LOCK & KESALT LAKE CIT UT","RANDOM DUDE","XXXX-XXXXXX-XXXXX",89.1]
["12/03/2013","SEARS ROEBUCK 01118 SALT LAKE CIT UT","RANDOM DUDE","XXXX-XXXXXX-XXXXX",413.38]
["12/04/2013","7-ELEVEN 26282 00072SALT LAKE CITY UT","RANDOM DUDE","XXXX-XXXXXX-XXXXX",12.08]
["12/04/2013","GIGGLEPOP.COM 217-344-4922","RANDOM DUDE","XXXX-XXXXXX-XXXXX",399]
["12/04/2013","GLAUS FRENCH PASTRY SALT LAKE CTY UT","RANDOM DUDE","XXXX-XXXXXX-XXXXX",28.46]
["12/04/2013","PAYPAL *ISELLHMSTN 4029357733 CA","RANDOM DUDE","XXXX-XXXXXX-XXXXX",44.01]
["12/05/2013","OLYMPUS VIEW SINCLAISALT LAKE CITY UT","RANDOM DUDE","XXXX-XXXXXX-XXXXX",20]
["12/05/2013","PILOT 141 00141 EVANSTON WY","RANDOM DUDE","XXXX-XXXXXX-XXXXX",7.33]
["12/05/2013","PILOT 141 00141 EVANSTON WY","RANDOM DUDE","XXXX-XXXXXX-XXXXX",31.3]
["12/05/2013","PILOT 141 00141 EVANSTON WY","RANDOM DUDE","XXXX-XXXXXX-XXXXX",51.9]
["12/06/2013","7-ELEVEN 26282 00072SALT LAKE CITY UT","RANDOM DUDE","XXXX-XXXXXX-XXXXX",10.02]
["12/06/2013","7-ELEVEN 26999 00072SALT LAKE CITY UT","RANDOM DUDE","XXXX-XXXXXX-XXXXX",8.5]
["12/06/2013","7-ELEVEN 26999 00072SALT LAKE CITY UT","RANDOM DUDE","XXXX-XXXXXX-XXXXX",40.090000000000003]
["12/06/2013","CHEVRON K & H ENTERPSALT LAKE CITY UT","RANDOM CHICK","XXXX-XXXXXX-XXXXX",20.010000000000002]
["12/06/2013","CHEVRON K & H ENTERPSALT LAKE CITY UT","RANDOM CHICK","XXXX-XXXXXX-XXXXX",30.01]
["12/06/2013","MCDONALD'S F6396 000SALT LAKE CI UT","RANDOM DUDE","XXXX-XXXXXX-XXXXX",17]
["12/06/2013","SMITHS FOOD #4080 008666111979","RANDOM DUDE","XXXX-XXXXXX-XXXXX",2.2599999999999998]
["12/06/2013","THERMOCRAFT 2104965411 TX","RANDOM CHICK","XXXX-XXXXXX-XXXXX",86.94]
["12/07/2013","CHEVRON K & H ENTERPSALT LAKE CITY UT","RANDOM DUDE","XXXX-XXXXXX-XXXXX",9.27]
["12/07/2013","KFC/TB #536 0479 SALT LAKE CIT UT","RANDOM CHICK","XXXX-XXXXXX-XXXXX",21.56]
["12/09/2013","CHEVRON HOLIDAY OIL SALT LAKE CITY UT","RANDOM DUDE","XXXX-XXXXXX-XXXXX",20.02]
["12/09/2013","DAN'S OLYMPUS 000000SALT LAKE CITY UT","RANDOM CHICK","XXXX-XXXXXX-XXXXX",19.829999999999998]
["12/09/2013","HERTZ CAR RENTAL 800-654-4173 CA","RANDOM DUDE","XXXX-XXXXXX-XXXXX",201.35]
["12/09/2013","OLYMPUS HILLS SERVICSALT LAKE CITY UT","RANDOM CHICK","XXXX-XXXXXX-XXXXX",15]
["12/09/2013","SHELL OIL 5744301480ROSEVILLE CA","RANDOM DUDE","XXXX-XXXXXX-XXXXX",31.12]
["12/09/2013","THUNDER VALLEY RESORLINCOLN CA","RANDOM DUDE","XXXX-XXXXXX-XXXXX",161.87]
["12/10/2013","7-ELEVEN 26999 00072SALT LAKE CITY UT","RANDOM DUDE","XXXX-XXXXXX-XXXXX",11.02]
["12/10/2013","7-ELEVEN 26999 00072SALT LAKE CITY UT","RANDOM DUDE","XXXX-XXXXXX-XXXXX",15.07]
["12/10/2013","CHEVRON K & H ENTERPSALT LAKE CITY UT","RANDOM DUDE","XXXX-XXXXXX-XXXXX",7.01]
["12/10/2013","Interest Charge on Purchases","RANDOM DUDE","XXXX-XXXXXX-XXXXX",237.71]
["12/11/2013","7-ELEVEN 26282 00072SALT LAKE CITY UT","RANDOM DUDE","XXXX-XXXXXX-XXXXX",12.88]
["12/11/2013","7-ELEVEN 26999 00072SALT LAKE CITY UT","RANDOM DUDE","XXXX-XXXXXX-XXXXX",9.5299999999999994]
["12/11/2013","DELTA AIR LINES ATLANTA","RANDOM DUDE","XXXX-XXXXXX-XXXXX",378.8]
["12/11/2013","MCDONALD'S F4010 000SALT LAKE CI UT","RANDOM CHICK","XXXX-XXXXXX-XXXXX",23.8]
["12/11/2013","PETSMART INC 169 SALT LAKE CTY UT","RANDOM CHICK","XXXX-XXXXXX-XXXXX",33.11]
["12/12/2013","COMCAST CABLE COMM 800-COMCAST UT","RANDOM DUDE","XXXX-XXXXXX-XXXXX",121.4]
["12/12/2013","PAYMENT RECEIVED - THANK YOU","RANDOM DUDE","XXXX-XXXXXX-XXXXX",-4000]
["12/12/2013","SLC INTERNATIONAL AISALT LAKE CIT UT","RANDOM DUDE","XXXX-XXXXXX-XXXXX",8]
["12/13/2013","7-ELEVEN 26999 00072SALT LAKE CITY UT","RANDOM DUDE","XXXX-XXXXXX-XXXXX",7.06]
["12/13/2013","7-ELEVEN 26999 00072SALT LAKE CITY UT","RANDOM DUDE","XXXX-XXXXXX-XXXXX",11.4]
["12/13/2013","7-ELEVEN 26999 00072SALT LAKE CITY UT","RANDOM DUDE","XXXX-XXXXXX-XXXXX",12.76]
["12/13/2013","BIG DADDY'S PIZZA (SSALT LAKE CIT UT","RANDOM CHICK","XXXX-XXXXXX-XXXXX",60.35]
["12/13/2013","DELTA AIR LINES ATLANTA","RANDOM DUDE","XXXX-XXXXXX-XXXXX",7.5]
["12/13/2013","DELTA AIR LINES ATLANTA","RANDOM DUDE","XXXX-XXXXXX-XXXXX",8.5]
["12/13/2013","DELTA AIR LINES ATLANTA","RANDOM DUDE","XXXX-XXXXXX-XXXXX",8.5]
["12/13/2013","HOLIDAY OIL #07 0000DRAPER UT","RANDOM CHICK","XXXX-XXXXXX-XXXXX",38.869999999999997]
["12/13/2013","WALL STREET JO326282SALT LAKE CIT UT","RANDOM CHICK","XXXX-XXXXXX-XXXXX",13.34]
["12/14/2013","7-ELEVEN 26999 00072SALT LAKE CITY UT","RANDOM DUDE","XXXX-XXXXXX-XXXXX",10.3]
["12/14/2013","CHEVRON HOLIDAY OIL SALT LAKE CITY UT","RANDOM DUDE","XXXX-XXXXXX-XXXXX",12.26]
["12/15/2013","20% In-Flight Savings for Delta SkyMiles","RANDOM DUDE","XXXX-XXXXXX-XXXXX",-1.7]
["12/15/2013","20% In-Flight Savings for Delta SkyMiles","RANDOM DUDE","XXXX-XXXXXX-XXXXX",-1.7]
["12/15/2013","20% In-Flight Savings for Delta SkyMiles","RANDOM DUDE","XXXX-XXXXXX-XXXXX",-1.5]
["12/16/2013","PAYPAL *ENFOTRACEGP 4029357733 CA","RANDOM CHICK","XXXX-XXXXXX-XXXXX",19.95]
["12/16/2013","PAYPAL *ENFOTRACEGP 4029357733 CA","RANDOM CHICK","XXXX-XXXXXX-XXXXX",59.8]
["12/16/2013","PAYPAL *ENFOTRACEGP 4029357733 CA","RANDOM CHICK","XXXX-XXXXXX-XXXXX",259.35000000000002]
["12/17/2013","7-ELEVEN 26999 00072SALT LAKE CITY UT","RANDOM DUDE","XXXX-XXXXXX-XXXXX",7.17]
["12/17/2013","CHEVRON HOLIDAY OIL SALT LAKE CITY UT","RANDOM DUDE","XXXX-XXXXXX-XXXXX",8.0299999999999994]
["12/17/2013","LOWE'S OF SALT LAKE SALT LAKE CITY UT","RANDOM DUDE","XXXX-XXXXXX-XXXXX",13.87]
["12/19/2013","7-ELEVEN 25948 00072MIDVALE UT","RANDOM CHICK","XXXX-XXXXXX-XXXXX",15.01]
["12/19/2013","7-ELEVEN 26999 00072SALT LAKE CITY UT","RANDOM DUDE","XXXX-XXXXXX-XXXXX",16.399999999999999]
["12/19/2013","7-ELEVEN 26999 00072SALT LAKE CITY UT","RANDOM DUDE","XXXX-XXXXXX-XXXXX",37.549999999999997]
["12/19/2013","ATLANTIS ROYAL TOWERNASSAU BH","RANDOM DUDE","XXXX-XXXXXX-XXXXX",29.87]
["12/19/2013","ATLANTIS ROYAL TOWERNASSAU BH","RANDOM DUDE","XXXX-XXXXXX-XXXXX",351.48]
["12/19/2013","HERTZ RENT-A-CAR NASSAU BH","RANDOM DUDE","XXXX-XXXXXX-XXXXX",377.03]
["12/19/2013","KJZZ 0054 SALT LAKE CIT UT","RANDOM DUDE","XXXX-XXXXXX-XXXXX",2720]
["12/20/2013","7-ELEVEN 26999 00072SALT LAKE CITY UT","RANDOM DUDE","XXXX-XXXXXX-XXXXX",12.06]
["12/20/2013","DELTA AIR LINES ATLANTA","RANDOM DUDE","XXXX-XXXXXX-XXXXX",3]
["12/20/2013","DELTA AIR LINES ATLANTA","RANDOM DUDE","XXXX-XXXXXX-XXXXX",8.5]
["12/20/2013","DELTA AIR LINES ATLANTA","RANDOM DUDE","XXXX-XXXXXX-XXXXX",8.5]
["12/20/2013","DELTA AIR LINES ATLANTA","RANDOM DUDE","XXXX-XXXXXX-XXXXX",9.99]
["12/20/2013","PAYPAL *ENFOTRACEGP 4029357733 CA","RANDOM CHICK","XXXX-XXXXXX-XXXXX",59.8]
["12/20/2013","UNIFORMS WEST SUPP 5MIDVALE UT","RANDOM CHICK","XXXX-XXXXXX-XXXXX",365.95]
["12/21/2013","DESERET DIGITAL MEDISALT LAKE CITY UT","RANDOM DUDE","XXXX-XXXXXX-XXXXX",599]
["12/21/2013","LOWE'S OF SALT LAKE SALT LAKE CITY UT","RANDOM DUDE","XXXX-XXXXXX-XXXXX",17.940000000000001]
["12/21/2013","OLYMPUS HILLS SERVICSALT LAKE CITY UT","RANDOM CHICK","XXXX-XXXXXX-XXXXX",20.03]
["12/22/2013","20% In-Flight Savings for Delta SkyMiles","RANDOM DUDE","XXXX-XXXXXX-XXXXX",-2]
["12/22/2013","20% In-Flight Savings for Delta SkyMiles","RANDOM DUDE","XXXX-XXXXXX-XXXXX",-1.7]
["12/22/2013","20% In-Flight Savings for Delta SkyMiles","RANDOM DUDE","XXXX-XXXXXX-XXXXX",-1.7]
["12/22/2013","20% In-Flight Savings for Delta SkyMiles","RANDOM DUDE","XXXX-XXXXXX-XXXXX",-0.6]
["12/22/2013","CHEVRON HOLIDAY OIL SOUTH JORDAN UT","RANDOM DUDE","XXXX-XXXXXX-XXXXX",25]
["12/22/2013","DIRECTV SERVICE 800-347-3288 CA","RANDOM DUDE","XXXX-XXXXXX-XXXXX",330.09]
["12/23/2013","CANDLESTICK PARK 49ESAN FRANCISCO CA","RANDOM CHICK","XXXX-XXXXXX-XXXXX",30]
["12/23/2013","HOLIDAY OIL #07 0000DRAPER UT","RANDOM CHICK","XXXX-XXXXXX-XXXXX",30.01]
["12/23/2013","JERRY SEINER CHEV/CHSALT LAKE CITY UT","RANDOM DUDE","XXXX-XXXXXX-XXXXX",275]
["12/24/2013","FOREIGN TRANSACTION FEE","RANDOM DUDE","XXXX-XXXXXX-XXXXX",-0.3]
["12/24/2013","GAY USA PAGES 542929ALTAMONTE SPR FL","RANDOM DUDE","XXXX-XXXXXX-XXXXX",99]
["12/24/2013","HERTZ CAR RENTAL 800-654-4173 CA","RANDOM DUDE","XXXX-XXXXXX-XXXXX",191.42]
["12/24/2013","PAYPAL *GSS666 4029357733 GB","RANDOM DUDE","XXXX-XXXXXX-XXXXX",-11.46]
["12/24/2013","UNION 76 00506667 OAKLAND CA","RANDOM DUDE","XXXX-XXXXXX-XXXXX",11.39]
["12/25/2013","HYATT HOTELS GRAND SSAN FRANCISCO CA","RANDOM DUDE","XXXX-XXXXXX-XXXXX",644.39]
["12/25/2013","JASMINE CHINA BISTROSALT LAKE CIT UT","RANDOM DUDE","XXXX-XXXXXX-XXXXX",127.32]
["12/25/2013","TEXACO HOLIDAY OIL #WEST JORDAN UT","RANDOM DUDE","XXXX-XXXXXX-XXXXX",25.05]
["12/26/2013","G VALLEY RANCH R/S HENDERSON NV","RANDOM DUDE","XXXX-XXXXXX-XXXXX",188.15]
["12/26/2013","HOLIDAY OIL #07 0000DRAPER UT","RANDOM CHICK","XXXX-XXXXXX-XXXXX",39.380000000000003]
["12/26/2013","MID VALLEY ANIMAL CLSALT LAKE CITY UT","RANDOM CHICK","XXXX-XXXXXX-XXXXX",477.06]
["12/26/2013","PAYPAL *ENFOTRACEGP 4029357733 CA","RANDOM CHICK","XXXX-XXXXXX-XXXXX",19.95]
["12/27/2013","CHEVRON HOLIDAY OIL SALT LAKE CITY UT","RANDOM DUDE","XXXX-XXXXXX-XXXXX",25.2]
["12/27/2013","DELTA AIR LINES ATLANTA","RANDOM DUDE","XXXX-XXXXXX-XXXXX",12.1]
["12/27/2013","DELTA AIR LINES ATLANTA","RANDOM DUDE","XXXX-XXXXXX-XXXXX",177.9]
["12/27/2013","PAYMENT RECEIVED - THANK YOU","RANDOM DUDE","XXXX-XXXXXX-XXXXX",-4000]
["12/27/2013","WWW.GOTOMYPC.COM SERVICE/SW","RANDOM CHICK","XXXX-XXXXXX-XXXXX",21.32]
["12/28/2013","DELTA AIR LINES ATLANTA","RANDOM DUDE","XXXX-XXXXXX-XXXXX",-177.9]
["12/28/2013","DELTA AIR LINES ATLANTA","RANDOM DUDE","XXXX-XXXXXX-XXXXX",-12.1]
["12/28/2013","DELTA AIR LINES ATLANTA","RANDOM DUDE","XXXX-XXXXXX-XXXXX",89.9]
["12/28/2013","DELTA AIR LINES ATLANTA","RANDOM DUDE","XXXX-XXXXXX-XXXXX",89.9]
["12/28/2013","DELTA AIR LINES ATLANTA","RANDOM DUDE","XXXX-XXXXXX-XXXXX",89.9]
["12/28/2013","DELTA AIR LINES ATLANTA","RANDOM DUDE","XXXX-XXXXXX-XXXXX",89.9]
["12/28/2013","OLYMPUS HILLS SERVICSALT LAKE CITY UT","RANDOM CHICK","XXXX-XXXXXX-XXXXX",20.02]
["12/28/2013","PLAZA CYCLE 801-972-8725","RANDOM DUDE","XXXX-XXXXXX-XXXXX",105.99]
["12/29/2013","CHEVRON HOLIDAY OIL SALT LAKE CITY UT","RANDOM DUDE","XXXX-XXXXXX-XXXXX",25.05]
["12/29/2013","DELTA AIR LINES ATLANTA","RANDOM DUDE","XXXX-XXXXXX-XXXXX",14]
["12/29/2013","DELTA AIR LINES ATLANTA","RANDOM DUDE","XXXX-XXXXXX-XXXXX",89.9]
["12/29/2013","DELTA AIR LINES ATLANTA","RANDOM DUDE","XXXX-XXXXXX-XXXXX",89.9]
["12/29/2013","DELTA AIR LINES ATLANTA","RANDOM DUDE","XXXX-XXXXXX-XXXXX",181.8]
["12/29/2013","DELTA AIR LINES ATLANTA","RANDOM DUDE","XXXX-XXXXXX-XXXXX",181.8]
["12/30/2013","CHEVRON TOP STOP C-4VERNAL UT","RANDOM DUDE","XXXX-XXXXXX-XXXXX",46.22]
["12/30/2013","LARRY H MILLER FORD SALT LAKE CTY UT","RANDOM DUDE","XXXX-XXXXXX-XXXXX",684.9]
["12/31/2013","OLYMPUS HILLS SERVICSALT LAKE CITY UT","RANDOM CHICK","XXXX-XXXXXX-XXXXX",15.02]
["12/31/2013","VICTORS TIRES INC VISALT LAKE CITY UT","RANDOM DUDE","XXXX-XXXXXX-XXXXX",80]

{"sheet":"Vendor List","index":2,"n_rows":318,"n_cols":2,"rows_kept":318,"cut":false,"hidden":false,"merged":[]}
["Vendors","Account #"]
["4Imprint","70700.FCF"]
["7-Eleven","40500.FCF"]
["AAA Postal","70500.FCF"]
["Aamco Transmissions","12105.FCF"]
["Ace Hardware","70000.FCF"]
["Advanced Vet","17000.FCF"]
["AFM*AM Insurance","65100.FCF"]
["AJ's Interior","12105.FCF"]
["All Computer","60350.FCF"]
["All for One Auto Parts","12105.FCF"]
["All Year Store","12105.FCF"]
["AM Auto Parts","12105.FCF"]
["AM Family Insurance","65100.FCF"]
["Amazon.com","72300.FCF"]
["Amer. Fence","71000.FCF"]
["Amex 48004 Payable","24059.FCF"]
["Annual Membership Fee","60700.FCF"]
["Antennax.com","12105.FCF"]
["Arby's","60800.FCF"]
["AU Naturale","60800.FCF"]
["Austin Impor","12105.FCF"]
["Auto and Art","12105.FCF"]
["Auto Light","12105.FCF"]
["Auto Parts","12105.FCF"]
["Auto Zone","72300.FCF"]
["Autoandart","12105.FCF"]
["Autosdepo","12105.FCF"]
["Banbury Cross Donuts","60800.FCF"]
["Bank of America","24110.FCF"]
["Basin Market","60800.FCF"]
["Baskin Robbins","60800.FCF"]
["BBB Member Services","70700.FCF"]
["Betos","60800.FCF"]
["BJs Restaurant","60800.FCF"]
["Blu Stations","40500.FCF"]
["Bolt and Nut",{"$f":"B36","v":"40500.FCF"}]
["Books","17000.FCF"]
["Bose Corp","12105.FCF"]
["Bridgewood parts","12105.FCF"]
["Buick","12105.FCF"]
["Burger King","60800.FCF"]
["Caesar's Hotel","72900.FCF"]
["Café Rio","60800.FCF"]
["Café Silvestre","60800.FCF"]
["California Pizza Kitchen","60800.FCF"]
["Capital One Payable","25111.FCF"]
["Car Concepts","12105.FCF"]
["Car Part Depot","12105.FCF"]
["Carisma Auto","12105.FCF"]
["Carl's Jr.",{"$f":"B50","v":"12105.FCF"}]
["Charlie & Richards","40500.FCF"]
["Cheese Cake Factory","60800.FCF"]
["chevron","40500.FCF"]
["Chiago","17000.FCF"]
["CircleK","40500.FCF"]
["Cleo's Barge","60800.FCF"]
["Columbus Travel","17000.FCF"]
["Comcast","17000.FCF"]
["Commercial Lighting","12105.FCF"]
["Common Cents","40500.FCF"]
["Computer Repair","60350.FCF"]
["Convina","60450.FCF"]
["Costco","70700.FCF"]
["Costumes",{"$f":"B63","v":"60450.FCF"}]
["Cottonwood Vet","17000.FCF"]
["CTO","65400.FCF"]
["Cumulus Media","70700.FCF"]
["Dan's Food","60800.FCF"]
["Dee",{"$f":"B67","v":"65400.FCF"}]
["Dee's Service","40500.FCF"]
["Delco Direct","12105.FCF"]
["Delta Airlines",{"$f":"B72","v":"12105.FCF"}]
["Deseret Book","17000.FCF"]
["Desert Auto","12105.FCF"]
["Diamond",{"$f":"B75","v":"12105.FCF"}]
["Diamond Lustre","72300.FCF"]
["Direct Auto","12105.FCF"]
["DirecTV","70000.FCF"]
["DMV","60700.FCF"]
["Dolphin Pool & Spa","18000.FCF"]
["Domino's Pizza","60800.FCF"]
["Don Pedros","60800.FCF"]
["Double Deuce","12105.FCF"]
["Dunkin Donuts","60800.FCF"]
["East Coast Parts","12105.FCF"]
["Einstein Bros.","60800.FCF"]
["Elite Auto Parts","12105.FCF"]
["Enfotrace","12105.FCF"]
["EnfoTrace GPS","12105.FCF"]
["Euromotive","12105.FCF"]
["Evco","12105.FCF"]
["ExxonMobil","40500.FCF"]
["EZ Motoring","12105.FCF"]
["Family Dollar","17000.FCF"]
["Fanzz",{"$f":"B95","v":"17000.FCF"}]
["Fastrack","40500.FCF"]
["Fed Ex","70500.FCF"]
["Finance Charges","60450.FCF"]
["Fish 4 U","17000.FCF"]
["Five Guys","60800.FCF"]
["Five Stars Go","12105.FCF"]
["Flying J",{"$f":"B99","v":"60450.FCF"}]
["Ford","12105.FCF"]
["Forest Hills Pet","17000.FCF"]
["Four Points Media","50200.FCF"]
["Four Seasons Hotel","72900.FCF"]
["Fresh Market","60800.FCF"]
["Frontgate","17000.FCF"]
["Garff Nissan","12105.FCF"]
["Gas N Go","40500.FCF"]
["Gay USA Pages","50200.FCF"]
["Giant Carpet One","70000.FCF"]
["Glaus French Pastry","60800.FCF"]
["Glen's Lock & Key","12105.FCF"]
["GM Parts","12105.FCF"]
["Gorilla Office Supply","70000.FCF"]
["gotomypc.com","60700.FCF"]
["Granite Bakery","60800.FCF"]
["Great Harvest","60800.FCF"]
["Groupon Inc.","17000.FCF"]
["Hammy's Auto",{"$f":"B121","v":"17000.FCF"}]
["hard Rock Café","60800.FCF"]
["Harrah's","72900.FCF"]
["Hawaiin Airlines","17000.FCF"]
["Henries Dry Cleaner","70140.FCF"]
["Henrie's Dry Cleaning","18000.FCF"]
["Hertz","72900.FCF"]
["Highway 64","40500.FCF"]
["Hilton Hotel",{"$f":"B133","v":"40500.FCF"}]
["Hinckley Dodge","12105.FCF"]
["Hinkley Dodge","12105.FCF"]
["Holiday Oil","40500.FCF"]
["Holladay Theater","60800.FCF"]
["Honda","12105.FCF"]
["Hotels.com","72900.FCF"]
["House of Blinds","70000.FCF"]
["Hub Cap King","12105.FCF"]
["Hyatt Hotel","12105.FCF"]
["IFA","60700.FCF"]
["In N Out","60800.FCF"]
["Independent Dealers","70000.FCF"]
["Interest Charged","65300.FCF"]
["Itunes","17000.FCF"]
["J Crew","17000.FCF"]
["Janitor's Closet","72300.FCF"]
["Jasmine China Bistro","60800.FCF"]
["Jerry Seiner Chevrolet","12105.FCF"]
["Jimmy John's","60800.FCF"]
["JL Concepts","70700.FCF"]
["JPW's Hot Rod","72300.FCF"]
["Jurek20","12105.FCF"]
["Just Inc.","12105.FCF"]
["Keyper Systems","12105.FCF"]
["KFC/TB","60800.FCF"]
["Kindel","17000.FCF"]
["Kindle","70700.FCF"]
["KJZZ","70700.FCF"]
["Koolzap","17000.FCF"]
["Krispy Kreme","60800.FCF"]
["KSL.com","70700.FCF"]
["KTVX ABC","70000.FCF"]
["Kwal Paint","70000.FCF"]
["Larry H Miller","12105.FCF"]
["Lefty O'Douls","60800.FCF"]
["LKQ","12105.FCF"]
["Loftus","17000.FCF"]
["Lowe's","70000.FCF"]
["Macy's","17000.FCF"]
["Mandalay Bay Resort","72900.FCF"]
["Mark's Auto Parts","12105.FCF"]
["Marriott Hotel","72900.FCF"]
["Martin Love","12105.FCF"]
["Maverick","40500.FCF"]
["Maverik","40500.FCF"]
["McDonald's","60800.FCF"]
["MD Breen","65600.FCF"]
["MegaPlex","18000.FCF"]
["Membership Fee","60700.FCF"]
["Micthis","12105.FCF"]
["Midwest Keyless","12105.FCF"]
["Mirage","72900.FCF"]
["Misc Exp","65900.FCF"]
["Mojo Auto",{"$f":"B183","v":"65900.FCF"}]
["Morton's","60800.FCF"]
["Mountain West Dist.","12105.FCF"]
["MPG Auto","12105.FCF"]
["MTA","60450.FCF"]
["Napa","12105.FCF"]
["Nate Wade Parts","12105.FCF"]
["National Pen","70000.FCF"]
["Neat Collect",{"$f":"B191","v":"70000.FCF"}]
["Nex Star Broadcasting","50200.FCF"]
["Nexstar Broadcasting","50200.FCF"]
["Nordstroms","17000.FCF"]
["North Shore","60800.FCF"]
["Norton","65400.FCF"]
["NotSure...","XXXXX.FCF"]
["Office Depot","70000.FCF"]
["Office Furniture","16300.FCF"]
["Office Max","70000.FCF"]
["Olympus Hills Service","40500.FCF"]
["Olympus View","40500.FCF"]
["Online Trading","12105.FCF"]
["O'Reilly Auto","12105.FCF"]
["P-Amazon","17000.FCF"]
["Parking","72900.FCF"]
["Parowan","40500.FCF"]
["Parts Connection","12105.FCF"]
["Parts Pros.","12105.FCF"]
["PartsPros","12105.FCF"]
["Pauls Parts","12105.FCF"]
["Paypal Product",{"$f":"B212","v":"12105.FCF"}]
["Peoplefinders.com","71600.FCF"]
["Peppermill","70700.FCF"]
["Performance Audio","12105.FCF"]
["Performance Radiator","12105.FCF"]
["Personal","17000.FCF"]
["Petsmart","17000.FCF"]
["Pick-n-Pull","12105.FCF"]
["Pilot",{"$f":"B220","v":"12105.FCF"}]
["Pilot Gas","40500.FCF"]
["Pitney Bowes","70500.FCF"]
["Pizza Hut","60800.FCF"]
["Plaza Cycle","12105.FCF"]
["Positive Promotions","70700.FCF"]
["Praxair Distribution","70000.FCF"]
["Priceline.com","72900.FCF"]
["Prime Choice","12105.FCF"]
["Privacy Assist","60700.FCF"]
["Procon GPS","12105.FCF"]
["ProStop","40500.FCF"]
["Quiznos","60800.FCF"]
["Radioshack","70000.FCF"]
["Ramirez Restaurant","60800.FCF"]
["Rebel","40500.FCF"]
["RFKOSKOWSKI","12105.FCF"]
["Rite Aid","17000.FCF"]
["Ritz Carlton","72900.FCF"]
["Roys","40500.FCF"]
["Rudedade","12105.FCF"]
["Salt Lake County","72500.FCF"]
["Samy Lopez","17000.FCF"]
["San Francisco","72900.FCF"]
["Schultz","12105.FCF"]
["Sears Roebuck","12105.FCF"]
["Shanmc","12105.FCF"]
["Shell Oil",{"$f":"B223","v":"70500.FCF"}]
["Shroyer Auto",{"$f":"B248","v":"70500.FCF"}]
["Sid Savage Dealer","12105.FCF"]
["Simmons SLC LLC","70700.FCF"]
["Sinclair","40500.FCF"]
["SLC International","72900.FCF"]
["SLCC","17000.FCF"]
["Smash Burger","60800.FCF"]
["Smiths Food","70000.FCF"]
["Smiths Fuel","40500.FCF"]
["Snider Bros Meats","70700.FCF"]
["Sonic","60800.FCF"]
["Speed's Power Equip.","60100.FCF"]
["Sports Compa",{"$f":"B260","v":"60100.FCF"}]
["Staples","72300.FCF"]
["Starbucks","60800.FCF"]
["Station Wagon Shop ","17000.FCF"]
["Strong VW","12105.FCF"]
["Stu EZ Auto",{"$f":"B265","v":"12105.FCF"}]
["Subaru","12105.FCF"]
["Subway","60800.FCF"]
["Sunline Inc","71000.FCF"]
["Sunset STN","72900.FCF"]
["Super Cover","12105.FCF"]
["Superior Paint","72300.FCF"]
["Target","70000.FCF"]
["Tesoro","40500.FCF"]
["Texaco","40500.FCF"]
["Texas Highend Parts","12105.FCF"]
["The Downtown Philly","60800.FCF"]
["The Home Depot","72300.FCF"]
["The Limbaugh Letter","17000.FCF"]
["The Marketplace","60800.FCF"]
["The Stinking Rose","60800.FCF"]
["The Tool Center","70000.FCF"]
["Thermocraft","70700.FCF"]
["Thunder Valley Resort","60800.FCF"]
["Ticket.com","60800.FCF"]
["Tim Dahle Nissan","12105.FCF"]
["Times Square Hotel","72900.FCF"]
["TJ Max","17000.FCF"]
["TN Auto Parts","12105.FCF"]
["Tomo Fall","12105.FCF"]
["Toyota","71000.FCF"]
["Travel","72900.FCF"]
["Travel Insurance","72900.FCF"]
["Two if by Tea","60800.FCF"]
["Uniforms West","70000.FCF"]
["Union 76","40500.FCF"]
["UPS Store","70500.FCF"]
["USPS","70500.FCF"]
["Utah Communications","12105.FCF"]
["Valley Glass","12105.FCF"]
["Valley Ranch Hotel","72900.FCF"]
["Verizon","72800.FCF"]
["Victors Tires","12105.FCF"]
["Volkswagen","12105.FCF"]
["Vorwerk Auto","12105.FCF"]
["Walkers","40500.FCF"]
["Walts","40500.FCF"]
["Wells Fargo","24500.FCF"]
["Wendy's","60800.FCF"]
["Westin Hotel","72900.FCF"]
["WhipLash","17000.FCF"]
["Whole Foods","17000.FCF"]
["Winder Farms","70700.FCF"]
["Wrich","12105.FCF"]
["WSJ","60800.FCF"]
["Wynn Hotel","72900.FCF"]
["Yard House","60800.FCF"]
["Your Part Source","12105.FCF"]

{"sheet":"(QR Sheet Example)","index":3,"n_rows":648,"n_cols":8,"rows_kept":648,"cut":false,"hidden":false,"merged":[]}
["Quality Review – AMEX XXXX-XXXXXX-XXXXX"]
[]
[null,null,null,null,"Account Number"]
[null,null,null,null,"XXXX-XXXXXX-XXXXX"]
[]
["Personal","Type","Date","Ref","Description","Amount","Vendor Matched","Account #"]
[null,1,"08/01/2013","XXXXX08001","CHEVRON K & H ENTERPSALT LAKE CITY UT",50.68,"CHEVRON",{"$f":"VLOOKUP(IF(A7=\"Yes\",\"Personal\",G7),'Vendor List'!$A:$B,2,FALSE)","v":"40500.FCF"}]
[null,1,"08/01/2013","XXXXX08002","LOWE'S OF SALT LAKE SALT LAKE CITY UT",240.19,"LOWE'S",{"$f":"VLOOKUP(IF(A8=\"Yes\",\"Personal\",G8),'Vendor List'!$A:$B,2,FALSE)","v":"70000.FCF"}]
[null,1,"08/01/2013","XXXXX08003","OLYMPUS HILLS SERVICSALT LAKE CITY UT",15.02,"P-Amazon",{"$f":"VLOOKUP(IF(A9=\"Yes\",\"Personal\",G9),'Vendor List'!$A:$B,2,FALSE)","v":"17000.FCF"}]
[null,1,"08/02/2013","XXXXX08004","7-ELEVEN 26999 00072SALT LAKE CITY UT",4.83,"7-ELEVEN",{"$f":"VLOOKUP(IF(A10=\"Yes\",\"Personal\",G10),'Vendor List'!$A:$B,2,FALSE)","v":"40500.FCF"}]
[null,1,"08/02/2013","XXXXX08005","GLEN'S LOCK & KEY SALT LAKE CIT UT",35,"Glen's Lock & Key",{"$f":"VLOOKUP(IF(A11=\"Yes\",\"Personal\",G11),'Vendor List'!$A:$B,2,FALSE)","v":"12105.FCF"}]
[null,1,"08/02/2013","XXXXX08006","MCDONALD'S F6396 000SALT LAKE CI UT",18.04,"MCDONALD'S",{"$f":"VLOOKUP(IF(A12=\"Yes\",\"Personal\",G12),'Vendor List'!$A:$B,2,FALSE)","v":"60800.FCF"}]
[null,1,"08/03/2013","XXXXX08007","GLEN'S LOCK & KEY SALT LAKE CIT UT",79,"Glen's Lock & Key",{"$f":"VLOOKUP(IF(A13=\"Yes\",\"Personal\",G13),'Vendor List'!$A:$B,2,FALSE)","v":"12105.FCF"}]
[null,1,"08/03/2013","XXXXX08008","OLYMPUS HILLS SERVICSALT LAKE CITY UT",15,"OLYMPUS HILLS SERVICE",{"$f":"VLOOKUP(IF(A14=\"Yes\",\"Personal\",G14),'Vendor List'!$A:$B,2,FALSE)","v":"40500.FCF"}]
[null,1,"08/04/2013","XXXXX08009","7-ELEVEN 12927 00071SALT LAKE CITY UT",12.82,"7-ELEVEN",{"$f":"VLOOKUP(IF(A15=\"Yes\",\"Personal\",G15),'Vendor List'!$A:$B,2,FALSE)","v":"40500.FCF"}]
[null,1,"08/04/2013","XXXXX08010","MCDONALD'S F4010 000SALT LAKE CI UT",16.260000000000002,"MCDONALD'S",{"$f":"VLOOKUP(IF(A16=\"Yes\",\"Personal\",G16),'Vendor List'!$A:$B,2,FALSE)","v":"60800.FCF"}]
[null,1,"08/05/2013","XXXXX08011","7-ELEVEN 26999 00072SALT LAKE CITY UT",11.98,"7-ELEVEN",{"$f":"VLOOKUP(IF(A17=\"Yes\",\"Personal\",G17),'Vendor List'!$A:$B,2,FALSE)","v":"40500.FCF"}]
[null,1,"08/05/2013","XXXXX08012","7-ELEVEN 26999 00072SALT LAKE CITY UT",20.04,"7-ELEVEN",{"$f":"VLOOKUP(IF(A18=\"Yes\",\"Personal\",G18),'Vendor List'!$A:$B,2,FALSE)","v":"40500.FCF"}]
[null,1,"08/05/2013","XXXXX08013","CHEVRON HOLIDAY OIL SALT LAKE CITY UT",10.01,"CHEVRON",{"$f":"VLOOKUP(IF(A19=\"Yes\",\"Personal\",G19),'Vendor List'!$A:$B,2,FALSE)","v":"40500.FCF"}]
[null,1,"08/05/2013","XXXXX08014","DAN'S OLYMPUS 000000SALT LAKE CITY UT",12.36,"DAN'S FOOD",{"$f":"VLOOKUP(IF(A20=\"Yes\",\"Personal\",G20),'Vendor List'!$A:$B,2,FALSE)","v":"60800.FCF"}]
["Yes",1,"08/05/2013","XXXXX08015","MY SONIC CARD 0012 EL RENO OK",151,"SONIC",{"$f":"VLOOKUP(IF(A21=\"Yes\",\"Personal\",G21),'Vendor List'!$A:$B,2,FALSE)","v":"17000.FCF"}]
[null,1,"08/05/2013","XXXXX08016","NEXSTAR BROADCASTINGIRVING TX",3271,"NEXSTAR BROADCASTING",{"$f":"VLOOKUP(IF(A22=\"Yes\",\"Personal\",G22),'Vendor List'!$A:$B,2,FALSE)","v":"50200.FCF"}]
[null,1,"08/05/2013","XXXXX08017","OLYMPUS HILLS SERVICSALT LAKE CITY UT",15.03,"OLYMPUS HILLS SERVICE",{"$f":"VLOOKUP(IF(A23=\"Yes\",\"Personal\",G23),'Vendor List'!$A:$B,2,FALSE)","v":"40500.FCF"}]
[null,1,"08/06/2013","XXXXX08018","7-ELEVEN 26999 00072SALT LAKE CITY UT",10.1,"7-ELEVEN",{"$f":"VLOOKUP(IF(A24=\"Yes\",\"Personal\",G24),'Vendor List'!$A:$B,2,FALSE)","v":"40500.FCF"}]
[null,1,"08/06/2013","XXXXX08019","7-ELEVEN 26999 00072SALT LAKE CITY UT",15.09,"7-ELEVEN",{"$f":"VLOOKUP(IF(A25=\"Yes\",\"Personal\",G25),'Vendor List'!$A:$B,2,FALSE)","v":"40500.FCF"}]
[null,1,"08/06/2013","XXXXX08020","GLEN'S LOCK & KEY SALT LAKE CIT UT",35,"Glen's Lock & Key",{"$f":"VLOOKUP(IF(A26=\"Yes\",\"Personal\",G26),'Vendor List'!$A:$B,2,FALSE)","v":"12105.FCF"}]
["Yes",1,"08/06/2013","XXXXX08021","PAYPAL *ALLKEYLESSL 4029357733 CA",47.48,"Personal",{"$f":"VLOOKUP(IF(A27=\"Yes\",\"Personal\",G27),'Vendor List'!$A:$B,2,FALSE)","v":"17000.FCF"}]
[null,1,"08/06/2013","XXXXX08022","SUPERIOR PAINT SUPPLSALT LAKE CITY UT",6.22,"SUPERIOR PAINT",{"$f":"VLOOKUP(IF(A28=\"Yes\",\"Personal\",G28),'Vendor List'!$A:$B,2,FALSE)","v":"72300.FCF"}]
[null,1,"08/06/2013","XXXXX08023","VICTORS TIRES INC VISALT LAKE CITY UT",80,"VICTORS TIRES",{"$f":"VLOOKUP(IF(A29=\"Yes\",\"Personal\",G29),'Vendor List'!$A:$B,2,FALSE)","v":"12105.FCF"}]
[null,1,"08/07/2013","XXXXX08024","7-ELEVEN 26282 00072SALT LAKE CITY UT",19.739999999999998,"7-ELEVEN",{"$f":"VLOOKUP(IF(A30=\"Yes\",\"Personal\",G30),'Vendor List'!$A:$B,2,FALSE)","v":"40500.FCF"}]
[null,1,"08/07/2013","XXXXX08025","OLYMPUS HILLS SERVICSALT LAKE CITY UT",15.02,"OLYMPUS HILLS SERVICE",{"$f":"VLOOKUP(IF(A31=\"Yes\",\"Personal\",G31),'Vendor List'!$A:$B,2,FALSE)","v":"40500.FCF"}]
[null,1,"08/08/2013","XXXXX08026","PROSTOP CONV STORE #SANDY UT",50.56,"7-ELEVEN",{"$f":"VLOOKUP(IF(A32=\"Yes\",\"Personal\",G32),'Vendor List'!$A:$B,2,FALSE)","v":"40500.FCF"}]
[null,1,"08/09/2013","XXXXX08027","7-ELEVEN 26999 00072SALT LAKE CITY UT",4.83,"7-ELEVEN",{"$f":"VLOOKUP(IF(A33=\"Yes\",\"Personal\",G33),'Vendor List'!$A:$B,2,FALSE)","v":"40500.FCF"}]
[null,1,"08/09/2013","XXXXX08028","7-ELEVEN 26999 00072SALT LAKE CITY UT",10,"7-ELEVEN",{"$f":"VLOOKUP(IF(A34=\"Yes\",\"Personal\",G34),'Vendor List'!$A:$B,2,FALSE)","v":"40500.FCF"}]
[null,1,"08/09/2013","XXXXX08029","7-ELEVEN 26999 00072SALT LAKE CITY UT",12.05,"7-ELEVEN",{"$f":"VLOOKUP(IF(A35=\"Yes\",\"Personal\",G35),'Vendor List'!$A:$B,2,FALSE)","v":"40500.FCF"}]
[null,1,"08/09/2013","XXXXX08030","ANNUAL MEMBERSHIP FEE",395,"MEMBERSHIP FEE",{"$f":"VLOOKUP(IF(A36=\"Yes\",\"Personal\",G36),'Vendor List'!$A:$B,2,FALSE)","v":"60700.FCF"}]
[null,1,"08/09/2013","XXXXX08031","DAN'S OLYMPUS 000000SALT LAKE CITY UT",47.19,"DAN'S FOOD",{"$f":"VLOOKUP(IF(A37=\"Yes\",\"Personal\",G37),'Vendor List'!$A:$B,2,FALSE)","v":"60800.FCF"}]
[null,1,"08/09/2013","XXXXX08032","Interest Charge on Purchases",243.2,"Interest Charged",{"$f":"VLOOKUP(IF(A38=\"Yes\",\"Personal\",G38),'Vendor List'!$A:$B,2,FALSE)","v":"65300.FCF"}]
[null,1,"08/09/2013","XXXXX08033","MCDONALD'S F6396 000SALT LAKE CI UT",10.78,"MCDONALD'S",{"$f":"VLOOKUP(IF(A39=\"Yes\",\"Personal\",G39),'Vendor List'!$A:$B,2,FALSE)","v":"60800.FCF"}]
[null,1,"08/10/2013","XXXXX08034","7-ELEVEN 26999 00072SALT LAKE CITY UT",8.2200000000000006,"7-ELEVEN",{"$f":"VLOOKUP(IF(A40=\"Yes\",\"Personal\",G40),'Vendor List'!$A:$B,2,FALSE)","v":"40500.FCF"}]
[null,1,"08/10/2013","XXXXX08035","7-ELEVEN 26999 00072SALT LAKE CITY UT",9.1199999999999992,"7-ELEVEN",{"$f":"VLOOKUP(IF(A41=\"Yes\",\"Personal\",G41),'Vendor List'!$A:$B,2,FALSE)","v":"40500.FCF"}]
[null,1,"08/10/2013","XXXXX08036","7-ELEVEN 26999 00072SALT LAKE CITY UT",9.1300000000000008,"7-ELEVEN",{"$f":"VLOOKUP(IF(A42=\"Yes\",\"Personal\",G42),'Vendor List'!$A:$B,2,FALSE)","v":"40500.FCF"}]
[null,1,"08/10/2013","XXXXX08037","GLEN'S LOCK & KEY SALT LAKE CIT UT",84.41,"Glen's Lock & Key",{"$f":"VLOOKUP(IF(A43=\"Yes\",\"Personal\",G43),'Vendor List'!$A:$B,2,FALSE)","v":"12105.FCF"}]
[null,1,"08/10/2013","XXXXX08038","OLYMPUS HILLS SERVICSALT LAKE CITY UT",15.03,"OLYMPUS HILLS SERVICE",{"$f":"VLOOKUP(IF(A44=\"Yes\",\"Personal\",G44),'Vendor List'!$A:$B,2,FALSE)","v":"40500.FCF"}]
[null,1,"08/11/2013","XXXXX08039","COMCAST CABLE COMM 800-COMCAST UT",121.35,"COMCAST",{"$f":"VLOOKUP(IF(A45=\"Yes\",\"Personal\",G45),'Vendor List'!$A:$B,2,FALSE)","v":"17000.FCF"}]
[null,1,"08/11/2013","XXXXX08040","KFC/TB #536 0479 SALT LAKE CIT UT",17.21,"KFC/TB",{"$f":"VLOOKUP(IF(A46=\"Yes\",\"Personal\",G46),'Vendor List'!$A:$B,2,FALSE)","v":"60800.FCF"}]
[null,1,"08/11/2013","XXXXX08041","OLYMPUS VIEW SINCLAISALT LAKE CI UT",20.3,"OLYMPUS VIEW",{"$f":"VLOOKUP(IF(A47=\"Yes\",\"Personal\",G47),'Vendor List'!$A:$B,2,FALSE)","v":"40500.FCF"}]
[null,1,"08/11/2013","XXXXX08042","SMITHS MRKTPL #4475 8666111979",42.82,"SMITHS FOOD",{"$f":"VLOOKUP(IF(A48=\"Yes\",\"Personal\",G48),'Vendor List'!$A:$B,2,FALSE)","v":"70000.FCF"}]
[null,1,"08/12/2013","XXXXX08043","DAN'S OLYMPUS 000000SALT LAKE CITY UT",20.440000000000001,"DAN'S FOOD",{"$f":"VLOOKUP(IF(A49=\"Yes\",\"Personal\",G49),'Vendor List'!$A:$B,2,FALSE)","v":"60800.FCF"}]
["Yes",1,"08/12/2013","XXXXX08044","PAYPAL *BLOMTYLER 4029357733 CA",40,"Personal",{"$f":"VLOOKUP(IF(A50=\"Yes\",\"Personal\",G50),'Vendor List'!$A:$B,2,FALSE)","v":"17000.FCF"}]
[null,1,"08/12/2013","XXXXX08045","SHELL OIL 5744460190SALT LAKE CITY UT",15.25,"SHELL OIL",{"$f":"VLOOKUP(IF(A51=\"Yes\",\"Personal\",G51),'Vendor List'!$A:$B,2,FALSE)","v":"70500.FCF"}]
[null,1,"08/13/2013","XXXXX08046","LOWE'S OF SALT LAKE SALT LAKE CITY UT",42.22,"LOWE'S",{"$f":"VLOOKUP(IF(A52=\"Yes\",\"Personal\",G52),'Vendor List'!$A:$B,2,FALSE)","v":"70000.FCF"}]
[null,1,"08/13/2013","XXXXX08047","OLYMPUS HILLS SERVICSALT LAKE CITY UT",15.03,"OLYMPUS HILLS SERVICE",{"$f":"VLOOKUP(IF(A53=\"Yes\",\"Personal\",G53),'Vendor List'!$A:$B,2,FALSE)","v":"40500.FCF"}]
[null,1,"08/13/2013","XXXXX08048","PLAZA CYCLE 0403 SALT LAKE CIT UT",93.77,"PLAZA CYCLE",{"$f":"VLOOKUP(IF(A54=\"Yes\",\"Personal\",G54),'Vendor List'!$A:$B,2,FALSE)","v":"12105.FCF"}]
[null,1,"08/13/2013","XXXXX08049","THERMOCRAFT 2104965411 TX",157.93,"THERMOCRAFT",{"$f":"VLOOKUP(IF(A55=\"Yes\",\"Personal\",G55),'Vendor List'!$A:$B,2,FALSE)","v":"70700.FCF"}]
[null,1,"08/14/2013","XXXXX08050","ADVANCED VETERINARY SALT LAKE CIT UT",58.5,"ADVANCED VET",{"$f":"VLOOKUP(IF(A56=\"Yes\",\"Personal\",G56),'Vendor List'!$A:$B,2,FALSE)","v":"17000.FCF"}]
[null,1,"08/14/2013","XXXXX08051","MCDONALD'S F6408 000SALT LAKE CI UT",9.6999999999999993,"MCDONALD'S",{"$f":"VLOOKUP(IF(A57=\"Yes\",\"Personal\",G57),'Vendor List'!$A:$B,2,FALSE)","v":"60800.FCF"}]
[null,1,"08/14/2013","XXXXX08052","VICTORS TIRES INC VISALT LAKE CITY UT",175,"VICTORS TIRES",{"$f":"VLOOKUP(IF(A58=\"Yes\",\"Personal\",G58),'Vendor List'!$A:$B,2,FALSE)","v":"12105.FCF"}]
[null,1,"08/15/2013","XXXXX08053","7-ELEVEN 26999 00072SALT LAKE CITY UT",9.2200000000000006,"7-ELEVEN",{"$f":"VLOOKUP(IF(A59=\"Yes\",\"Personal\",G59),'Vendor List'!$A:$B,2,FALSE)","v":"40500.FCF"}]
[null,1,"08/15/2013","XXXXX08054","7-ELEVEN 26999 00072SALT LAKE CITY UT",10.08,"7-ELEVEN",{"$f":"VLOOKUP(IF(A60=\"Yes\",\"Personal\",G60),'Vendor List'!$A:$B,2,FALSE)","v":"40500.FCF"}]
[null,1,"08/15/2013","XXXXX08055","7-ELEVEN 26999 00072SALT LAKE CITY UT",12.13,"7-ELEVEN",{"$f":"VLOOKUP(IF(A61=\"Yes\",\"Personal\",G61),'Vendor List'!$A:$B,2,FALSE)","v":"40500.FCF"}]
[null,1,"08/15/2013","XXXXX08056","DAN'S OLYMPUS 000000SALT LAKE CITY UT",15.22,"DAN'S FOOD",{"$f":"VLOOKUP(IF(A62=\"Yes\",\"Personal\",G62),'Vendor List'!$A:$B,2,FALSE)","v":"60800.FCF"}]
[null,1,"08/15/2013","XXXXX08057","OLYMPUS HILLS SERVICSALT LAKE CITY UT",15.03,"OLYMPUS HILLS SERVICE",{"$f":"VLOOKUP(IF(A63=\"Yes\",\"Personal\",G63),'Vendor List'!$A:$B,2,FALSE)","v":"40500.FCF"}]
["Yes",1,"08/15/2013","XXXXX08058","TURN KEY SERVICE SALT LAKE CIT UT",38,"Personal",{"$f":"VLOOKUP(IF(A64=\"Yes\",\"Personal\",G64),'Vendor List'!$A:$B,2,FALSE)","v":"17000.FCF"}]
[null,1,"08/16/2013","XXXXX08059","7-ELEVEN 26999 00072SALT LAKE CITY UT",10.07,"7-ELEVEN",{"$f":"VLOOKUP(IF(A65=\"Yes\",\"Personal\",G65),'Vendor List'!$A:$B,2,FALSE)","v":"40500.FCF"}]
[null,1,"08/16/2013","XXXXX08060","DELTA AIR LINES ATLANTA",194.9,"DELTA AIRLINES",{"$f":"VLOOKUP(IF(A66=\"Yes\",\"Personal\",G66),'Vendor List'!$A:$B,2,FALSE)","v":"12105.FCF"}]
[null,1,"08/16/2013","XXXXX08061","DELTA AIR LINES ATLANTA",194.9,"DELTA AIRLINES",{"$f":"VLOOKUP(IF(A67=\"Yes\",\"Personal\",G67),'Vendor List'!$A:$B,2,FALSE)","v":"12105.FCF"}]
[null,1,"08/16/2013","XXXXX08062","EINSTEIN BROS BAGELSSALT LAKE CIT UT",17.47,"EINSTEIN BROS.",{"$f":"VLOOKUP(IF(A68=\"Yes\",\"Personal\",G68),'Vendor List'!$A:$B,2,FALSE)","v":"60800.FCF"}]
[null,1,"08/16/2013","XXXXX08063","KWAL PAINT #85 0203 SALT LAKE CIT UT",157.88,"KWAL PAINT",{"$f":"VLOOKUP(IF(A69=\"Yes\",\"Personal\",G69),'Vendor List'!$A:$B,2,FALSE)","v":"70000.FCF"}]
[null,1,"08/16/2013","XXXXX08064","MCDONALD'S F719 0000SALT LAKE CI UT",16.18,"MCDONALD'S",{"$f":"VLOOKUP(IF(A70=\"Yes\",\"Personal\",G70),'Vendor List'!$A:$B,2,FALSE)","v":"60800.FCF"}]
[null,1,"08/16/2013","XXXXX08065","SEARS ROEBUCK 01118 SALT LAKE CIT UT",2.48,"SEARS ROEBUCK",{"$f":"VLOOKUP(IF(A71=\"Yes\",\"Personal\",G71),'Vendor List'!$A:$B,2,FALSE)","v":"12105.FCF"}]
[null,1,"08/16/2013","XXXXX08066","SEARS ROEBUCK 01118 SALT LAKE CIT UT",2.5,"SEARS ROEBUCK",{"$f":"VLOOKUP(IF(A72=\"Yes\",\"Personal\",G72),'Vendor List'!$A:$B,2,FALSE)","v":"12105.FCF"}]
[null,1,"08/17/2013","XXXXX08067","7-ELEVEN 26999 00072SALT LAKE CITY UT",15.01,"7-ELEVEN",{"$f":"VLOOKUP(IF(A73=\"Yes\",\"Personal\",G73),'Vendor List'!$A:$B,2,FALSE)","v":"40500.FCF"}]
[null,1,"08/17/2013","XXXXX08068","AUTO ZONE 0868 SALT LAKE CITY UT",13.98,"AUTO ZONE",{"$f":"VLOOKUP(IF(A74=\"Yes\",\"Personal\",G74),'Vendor List'!$A:$B,2,FALSE)","v":"72300.FCF"}]
[null,1,"08/17/2013","XXXXX08069","CHEVRON HOLIDAY OIL SALT LAKE CITY UT",15.01,"CHEVRON",{"$f":"VLOOKUP(IF(A75=\"Yes\",\"Personal\",G75),'Vendor List'!$A:$B,2,FALSE)","v":"40500.FCF"}]
[null,1,"08/18/2013","XXXXX08070","CHEVRON HOLIDAY OIL SOUTH JORDAN UT",10.02,"CHEVRON",{"$f":"VLOOKUP(IF(A76=\"Yes\",\"Personal\",G76),'Vendor List'!$A:$B,2,FALSE)","v":"40500.FCF"}]
[null,1,"08/19/2013","XXXXX08071","7-ELEVEN 26999 00072SALT LAKE CITY UT",10.18,"7-ELEVEN",{"$f":"VLOOKUP(IF(A77=\"Yes\",\"Personal\",G77),'Vendor List'!$A:$B,2,FALSE)","v":"40500.FCF"}]
[null,1,"08/19/2013","XXXXX08072","DIRECTV SERVICE 800-347-3288 CA",296.10000000000002,"DIRECTV",{"$f":"VLOOKUP(IF(A78=\"Yes\",\"Personal\",G78),'Vendor List'!$A:$B,2,FALSE)","v":"70000.FCF"}]
[null,1,"08/19/2013","XXXXX08073","OLYMPUS HILLS SERVICSALT LAKE CITY UT",15.01,"OLYMPUS HILLS SERVICE",{"$f":"VLOOKUP(IF(A79=\"Yes\",\"Personal\",G79),'Vendor List'!$A:$B,2,FALSE)","v":"40500.FCF"}]
[null,1,"08/20/2013","XXXXX08074","7-ELEVEN 26999 00072SALT LAKE CITY UT",10.01,"7-ELEVEN",{"$f":"VLOOKUP(IF(A80=\"Yes\",\"Personal\",G80),'Vendor List'!$A:$B,2,FALSE)","v":"40500.FCF"}]
[null,1,"08/20/2013","XXXXX08075","KFC/TB #536 0479 SALT LAKE CIT UT",21.02,"KFC/TB",{"$f":"VLOOKUP(IF(A81=\"Yes\",\"Personal\",G81),'Vendor List'!$A:$B,2,FALSE)","v":"60800.FCF"}]
[null,1,"08/21/2013","XXXXX08076","7-ELEVEN 26282 00072SALT LAKE CITY UT",49.99,"7-ELEVEN",{"$f":"VLOOKUP(IF(A82=\"Yes\",\"Personal\",G82),'Vendor List'!$A:$B,2,FALSE)","v":"40500.FCF"}]
[null,1,"08/21/2013","XXXXX08077","7-ELEVEN 26999 00072SALT LAKE CITY UT",7.79,"7-ELEVEN",{"$f":"VLOOKUP(IF(A83=\"Yes\",\"Personal\",G83),'Vendor List'!$A:$B,2,FALSE)","v":"40500.FCF"}]
[null,1,"08/21/2013","XXXXX08078","7-ELEVEN 26999 00072SALT LAKE CITY UT",12.26,"7-ELEVEN",{"$f":"VLOOKUP(IF(A84=\"Yes\",\"Personal\",G84),'Vendor List'!$A:$B,2,FALSE)","v":"40500.FCF"}]
[null,1,"08/21/2013","XXXXX08079","CHEVRON K & H ENTERPSALT LAKE CITY UT",9.0399999999999991,"CHEVRON",{"$f":"VLOOKUP(IF(A85=\"Yes\",\"Personal\",G85),'Vendor List'!$A:$B,2,FALSE)","v":"40500.FCF"}]
[null,1,"08/21/2013","XXXXX08080","CHEVRON PROV CTR CHECEDAR CITY UT",40.450000000000003,"CHEVRON",{"$f":"VLOOKUP(IF(A86=\"Yes\",\"Personal\",G86),'Vendor List'!$A:$B,2,FALSE)","v":"40500.FCF"}]
[null,1,"08/21/2013","XXXXX08081","CHEVRON TOP STOP C-5MURRAY UT",56.77,"CHEVRON",{"$f":"VLOOKUP(IF(A87=\"Yes\",\"Personal\",G87),'Vendor List'!$A:$B,2,FALSE)","v":"40500.FCF"}]
[null,1,"08/21/2013","XXXXX08082","DAN'S OLYMPUS 000000SALT LAKE CITY UT",26.04,"DAN'S FOOD",{"$f":"VLOOKUP(IF(A88=\"Yes\",\"Personal\",G88),'Vendor List'!$A:$B,2,FALSE)","v":"60800.FCF"}]
[null,1,"08/21/2013","XXXXX08083","HERTZ CAR RENTAL 800-654-4173 NV",66.31,"HERTZ",{"$f":"VLOOKUP(IF(A89=\"Yes\",\"Personal\",G89),'Vendor List'!$A:$B,2,FALSE)","v":"72900.FCF"}]
[null,1,"08/21/2013","XXXXX08084","KSL.COMDESERETDIGMEDSALT LAKE CIT UT",599,"KSL.COM",{"$f":"VLOOKUP(IF(A90=\"Yes\",\"Personal\",G90),'Vendor List'!$A:$B,2,FALSE)","v":"70700.FCF"}]
[null,1,"08/21/2013","XXXXX08085","PAYPAL *AMAUTOPARTS 4029357733 CA",23.95,"AM AUTO PARTS",{"$f":"VLOOKUP(IF(A91=\"Yes\",\"Personal\",G91),'Vendor List'!$A:$B,2,FALSE)","v":"12105.FCF"}]
["Yes",1,"08/21/2013","XXXXX08086","PAYPAL *NORDSTROMSA 4029357733 CA",25,"Personal",{"$f":"VLOOKUP(IF(A92=\"Yes\",\"Personal\",G92),'Vendor List'!$A:$B,2,FALSE)","v":"17000.FCF"}]
[null,1,"08/21/2013","XXXXX08087","REBEL #2187 HENDERSON NV",67.62,"REBEL",{"$f":"VLOOKUP(IF(A93=\"Yes\",\"Personal\",G93),'Vendor List'!$A:$B,2,FALSE)","v":"40500.FCF"}]
[null,1,"08/21/2013","XXXXX08088","REBEL #2187 HENDERSON NV",91.6,"REBEL",{"$f":"VLOOKUP(IF(A94=\"Yes\",\"Personal\",G94),'Vendor List'!$A:$B,2,FALSE)","v":"40500.FCF"}]
["Yes",1,"08/22/2013","XXXXX08089","CLARITY SKIN LLC 300DRAPER UT",250,"Personal",{"$f":"VLOOKUP(IF(A95=\"Yes\",\"Personal\",G95),'Vendor List'!$A:$B,2,FALSE)","v":"17000.FCF"}]
[null,1,"08/22/2013","XXXXX08090","MCDONALD'S F4010 000SALT LAKE CI UT",26.38,"MCDONALD'S",{"$f":"VLOOKUP(IF(A96=\"Yes\",\"Personal\",G96),'Vendor List'!$A:$B,2,FALSE)","v":"60800.FCF"}]
[null,1,"08/22/2013","XXXXX08091","OLYMPUS HILLS SERVICSALT LAKE CITY UT",20.03,"OLYMPUS HILLS SERVICE",{"$f":"VLOOKUP(IF(A97=\"Yes\",\"Personal\",G97),'Vendor List'!$A:$B,2,FALSE)","v":"40500.FCF"}]
[null,1,"08/23/2013","XXXXX08092","CHEVRON K & H ENTERPSALT LAKE CITY UT",15.28,"CHEVRON",{"$f":"VLOOKUP(IF(A98=\"Yes\",\"Personal\",G98),'Vendor List'!$A:$B,2,FALSE)","v":"40500.FCF"}]
[null,1,"08/23/2013","XXXXX08093","GARFF NISSAN SLC SERSALT LAKE CITY UT",245,"Auto Parts",{"$f":"VLOOKUP(IF(A99=\"Yes\",\"Personal\",G99),'Vendor List'!$A:$B,2,FALSE)","v":"12105.FCF"}]
[null,1,"08/23/2013","XXXXX08094","GREAT HARVEST BREAD SALT LAKE CITY UT",16.5,"GREAT HARVEST",{"$f":"VLOOKUP(IF(A100=\"Yes\",\"Personal\",G100),'Vendor List'!$A:$B,2,FALSE)","v":"60800.FCF"}]
[null,1,"08/23/2013","XXXXX08095","SMITHS FOOD #4044 008666111979",7.2,"SMITHS FOOD",{"$f":"VLOOKUP(IF(A101=\"Yes\",\"Personal\",G101),'Vendor List'!$A:$B,2,FALSE)","v":"70000.FCF"}]
[null,1,"08/24/2013","XXXXX08096","DAN'S OLYMPUS 000000SALT LAKE CITY UT",3.05,"DAN'S FOOD",{"$f":"VLOOKUP(IF(A102=\"Yes\",\"Personal\",G102),'Vendor List'!$A:$B,2,FALSE)","v":"60800.FCF"}]
[null,1,"08/24/2013","XXXXX08097","DAN'S OLYMPUS 000000SALT LAKE CITY UT",23.84,"DAN'S FOOD",{"$f":"VLOOKUP(IF(A103=\"Yes\",\"Personal\",G103),'Vendor List'!$A:$B,2,FALSE)","v":"60800.FCF"}]
[null,1,"08/24/2013","XXXXX08098","GAY USA PAGES 542929ALTAMONTE SPR FL",99,"GAY USA PAGES",{"$f":"VLOOKUP(IF(A104=\"Yes\",\"Personal\",G104),'Vendor List'!$A:$B,2,FALSE)","v":"50200.FCF"}]
[null,1,"08/24/2013","XXXXX08099","OLYMPUS HILLS SERVICSALT LAKE CITY UT",20,"OLYMPUS HILLS SERVICE",{"$f":"VLOOKUP(IF(A105=\"Yes\",\"Personal\",G105),'Vendor List'!$A:$B,2,FALSE)","v":"40500.FCF"}]
[null,1,"08/26/2013","XXXXX08100","7-ELEVEN 26999 00072SALT LAKE CITY UT",7.5,"7-ELEVEN",{"$f":"VLOOKUP(IF(A106=\"Yes\",\"Personal\",G106),'Vendor List'!$A:$B,2,FALSE)","v":"40500.FCF"}]
[null,1,"08/26/2013","XXXXX08101","7-ELEVEN 26999 00072SALT LAKE CITY UT",12.35,"7-ELEVEN",{"$f":"VLOOKUP(IF(A107=\"Yes\",\"Personal\",G107),'Vendor List'!$A:$B,2,FALSE)","v":"40500.FCF"}]
[null,1,"08/26/2013","XXXXX08102","INDEPENDENT DEALER SMIDVALE UT",153.6,"INDEPENDENT DEALERS",{"$f":"VLOOKUP(IF(A108=\"Yes\",\"Personal\",G108),'Vendor List'!$A:$B,2,FALSE)","v":"70000.FCF"}]
["Yes",1,"08/26/2013","XXXXX08103","PAYPAL *LALOND30 4029357733 CA",74.989999999999995,"Personal",{"$f":"VLOOKUP(IF(A109=\"Yes\",\"Personal\",G109),'Vendor List'!$A:$B,2,FALSE)","v":"17000.FCF"}]
["Yes",1,"08/26/2013","XXXXX08104","PAYPAL *ZHUJIAYI 4029357733 CA",6.5,"Personal",{"$f":"VLOOKUP(IF(A110=\"Yes\",\"Personal\",G110),'Vendor List'!$A:$B,2,FALSE)","v":"17000.FCF"}]
[null,1,"08/27/2013","XXXXX08105","7-ELEVEN 26999 00072SALT LAKE CITY UT",19.48,"7-ELEVEN",{"$f":"VLOOKUP(IF(A111=\"Yes\",\"Personal\",G111),'Vendor List'!$A:$B,2,FALSE)","v":"40500.FCF"}]
[null,1,"08/27/2013","XXXXX08106","7-ELEVEN 36411 00073PRICE UT",6.37,"7-ELEVEN",{"$f":"VLOOKUP(IF(A112=\"Yes\",\"Personal\",G112),'Vendor List'!$A:$B,2,FALSE)","v":"40500.FCF"}]
["Yes",1,"08/27/2013","XXXXX08107","GIANT #6068 54292980PAGOSA SPRING CO",75.41,"Personal",{"$f":"VLOOKUP(IF(A113=\"Yes\",\"Personal\",G113),'Vendor List'!$A:$B,2,FALSE)","v":"17000.FCF"}]
["Yes",1,"08/27/2013","XXXXX08108","MARKET EXPRESS 00000PRICE UT",39.93,"Personal",{"$f":"VLOOKUP(IF(A114=\"Yes\",\"Personal\",G114),'Vendor List'!$A:$B,2,FALSE)","v":"17000.FCF"}]
[null,1,"08/27/2013","XXXXX08109","MAVERIK COUNTRY STORMOAB UT",51.89,"MAVERIK",{"$f":"VLOOKUP(IF(A115=\"Yes\",\"Personal\",G115),'Vendor List'!$A:$B,2,FALSE)","v":"40500.FCF"}]
[null,1,"08/27/2013","XXXXX08110","NATIONAL PEN 10892958003477367",236.4,"NATIONAL PEN",{"$f":"VLOOKUP(IF(A116=\"Yes\",\"Personal\",G116),'Vendor List'!$A:$B,2,FALSE)","v":"70000.FCF"}]
[null,1,"08/27/2013","XXXXX08111","PAYPAL *ENFOTRACEGP 4029357733 CA",14.95,"EnfoTrace",{"$f":"VLOOKUP(IF(A117=\"Yes\",\"Personal\",G117),'Vendor List'!$A:$B,2,FALSE)","v":"12105.FCF"}]
[null,1,"08/27/2013","XXXXX08112","SHELL OIL 5744460070SALT LAKE CITY UT",15,"SHELL OIL",{"$f":"VLOOKUP(IF(A118=\"Yes\",\"Personal\",G118),'Vendor List'!$A:$B,2,FALSE)","v":"70500.FCF"}]
[null,1,"08/27/2013","XXXXX08113","WALKERS 17 00310391 PRICE UT",42.81,"WALKERS",{"$f":"VLOOKUP(IF(A119=\"Yes\",\"Personal\",G119),'Vendor List'!$A:$B,2,FALSE)","v":"40500.FCF"}]
[null,1,"08/27/2013","XXXXX08114","WWW.GOTOMYPC.COM SERVICE/SW",21.32,"gotomypc.com",{"$f":"VLOOKUP(IF(A120=\"Yes\",\"Personal\",G120),'Vendor List'!$A:$B,2,FALSE)","v":"60700.FCF"}]
[null,1,"08/28/2013","XXXXX08115","7-ELEVEN 26999 00072SALT LAKE CITY UT",20.07,"7-ELEVEN",{"$f":"VLOOKUP(IF(A121=\"Yes\",\"Personal\",G121),'Vendor List'!$A:$B,2,FALSE)","v":"40500.FCF"}]
[null,1,"08/28/2013","XXXXX08116","HERTZ CAR RENTAL 800-654-4173 UT",205.23,"HERTZ",{"$f":"VLOOKUP(IF(A122=\"Yes\",\"Personal\",G122),'Vendor List'!$A:$B,2,FALSE)","v":"72900.FCF"}]
[null,1,"08/28/2013","XXXXX08117","HOLIDAY OIL #07 0000DRAPER UT",50.25,"HOLIDAY OIL",{"$f":"VLOOKUP(IF(A123=\"Yes\",\"Personal\",G123),'Vendor List'!$A:$B,2,FALSE)","v":"40500.FCF"}]
[null,1,"08/28/2013","XXXXX08118","MAVERIK #438 0000000SALT LAKE CITY UT",15.01,"MAVERIK",{"$f":"VLOOKUP(IF(A124=\"Yes\",\"Personal\",G124),'Vendor List'!$A:$B,2,FALSE)","v":"40500.FCF"}]
[null,1,"08/28/2013","XXXXX08119","PAYPAL *ECONOMYAUTO 4029357733 MN",38,"Auto Parts",{"$f":"VLOOKUP(IF(A125=\"Yes\",\"Personal\",G125),'Vendor List'!$A:$B,2,FALSE)","v":"12105.FCF"}]
[null,1,"08/28/2013","XXXXX08120","PAYPAL *TRIVETTES 4029357733 TN",69.989999999999995,"Auto Parts",{"$f":"VLOOKUP(IF(A126=\"Yes\",\"Personal\",G126),'Vendor List'!$A:$B,2,FALSE)","v":"12105.FCF"}]
[null,1,"08/29/2013","XXXXX08121","7-ELEVEN 26999 00072SALT LAKE CITY UT",11.55,"7-ELEVEN",{"$f":"VLOOKUP(IF(A127=\"Yes\",\"Personal\",G127),'Vendor List'!$A:$B,2,FALSE)","v":"40500.FCF"}]
["Yes",1,"08/29/2013","XXXXX08122","U OF U DERM MURRAY #MURRAY UT",35,"Personal",{"$f":"VLOOKUP(IF(A128=\"Yes\",\"Personal\",G128),'Vendor List'!$A:$B,2,FALSE)","v":"17000.FCF"}]
[null,1,"08/30/2013","XXXXX08123","7-ELEVEN 26999 00072SALT LAKE CITY UT",10.17,"7-ELEVEN",{"$f":"VLOOKUP(IF(A129=\"Yes\",\"Personal\",G129),'Vendor List'!$A:$B,2,FALSE)","v":"40500.FCF"}]
[null,1,"08/30/2013","XXXXX08124","GREAT HARVEST BREAD SALT LAKE CITY UT",13.23,"GREAT HARVEST",{"$f":"VLOOKUP(IF(A130=\"Yes\",\"Personal\",G130),'Vendor List'!$A:$B,2,FALSE)","v":"60800.FCF"}]
[null,1,"08/30/2013","XXXXX08125","OLYMPUS HILLS SERVICSALT LAKE CITY UT",20,"OLYMPUS HILLS SERVICE",{"$f":"VLOOKUP(IF(A131=\"Yes\",\"Personal\",G131),'Vendor List'!$A:$B,2,FALSE)","v":"40500.FCF"}]
[null,1,"08/30/2013","XXXXX08126","Starbucks #13391 SalSalt Lake City UT",8.14,"Starbucks",{"$f":"VLOOKUP(IF(A132=\"Yes\",\"Personal\",G132),'Vendor List'!$A:$B,2,FALSE)","v":"60800.FCF"}]
[null,1,"08/31/2013","XXXXX08127","7-ELEVEN 26282 00072SALT LAKE CITY UT",20.05,"7-ELEVEN",{"$f":"VLOOKUP(IF(A133=\"Yes\",\"Personal\",G133),'Vendor List'!$A:$B,2,FALSE)","v":"40500.FCF"}]
[null,1,"08/31/2013","XXXXX08128","7-ELEVEN 26999 00072SALT LAKE CITY UT",11.26,"7-ELEVEN",{"$f":"VLOOKUP(IF(A134=\"Yes\",\"Personal\",G134),'Vendor List'!$A:$B,2,FALSE)","v":"40500.FCF"}]
[null,1,"08/31/2013","XXXXX08129","PAYPAL *ENFOTRACEGP 4029357733 CA",17.899999999999999,"EnfoTrace",{"$f":"VLOOKUP(IF(A135=\"Yes\",\"Personal\",G135),'Vendor List'!$A:$B,2,FALSE)","v":"12105.FCF"}]
[null,5,"2013-08-31","XXXXX08~JE","AMEX XXXXX Payable",{"$f":"SUM($F$6:$F$135)","v":10164.799999999999},"Amex 48004 Payable",{"$f":"VLOOKUP(IF(A136=\"Yes\",\"Personal\",G136),'Vendor List'!$A:$B,2,FALSE)","v":"24059.FCF"}]
[null,1,"09/01/2013","XXXXX09001","DAN'S OLYMPUS 000000SALT LAKE CITY UT",11.4,"DAN'S FOOD",{"$f":"VLOOKUP(IF(A137=\"Yes\",\"Personal\",G137),'Vendor List'!$A:$B,2,FALSE)","v":"60800.FCF"}]
[null,1,"09/01/2013","XXXXX09002","DAN'S OLYMPUS 000000SALT LAKE CITY UT",96.7,"DAN'S FOOD",{"$f":"VLOOKUP(IF(A138=\"Yes\",\"Personal\",G138),'Vendor List'!$A:$B,2,FALSE)","v":"60800.FCF"}]
[null,1,"09/01/2013","XXXXX09003","KFC/TB #536 0479 SALT LAKE CIT UT",11.11,"KFC/TB",{"$f":"VLOOKUP(IF(A139=\"Yes\",\"Personal\",G139),'Vendor List'!$A:$B,2,FALSE)","v":"60800.FCF"}]
[null,1,"09/02/2013","XXXXX09004","7-ELEVEN 26999 00072SALT LAKE CITY UT",15.49,"7-ELEVEN",{"$f":"VLOOKUP(IF(A140=\"Yes\",\"Personal\",G140),'Vendor List'!$A:$B,2,FALSE)","v":"40500.FCF"}]
[null,1,"09/02/2013","XXXXX09005","DAN'S OLYMPUS 000000SALT LAKE CITY UT",3.09,"DAN'S FOOD",{"$f":"VLOOKUP(IF(A141=\"Yes\",\"Personal\",G141),'Vendor List'!$A:$B,2,FALSE)","v":"60800.FCF"}]
[null,1,"09/02/2013","XXXXX09006","OLYMPUS HILLS SERVICSALT LAKE CITY UT",15,"OLYMPUS HILLS SERVICE",{"$f":"VLOOKUP(IF(A142=\"Yes\",\"Personal\",G142),'Vendor List'!$A:$B,2,FALSE)","v":"40500.FCF"}]
[null,1,"09/02/2013","XXXXX09007","PAYPAL *ENFOTRACEGP 4029357733 CA",8.9499999999999993,"EnfoTrace",{"$f":"VLOOKUP(IF(A143=\"Yes\",\"Personal\",G143),'Vendor List'!$A:$B,2,FALSE)","v":"12105.FCF"}]
[null,1,"09/02/2013","XXXXX09008","PAYPAL *GTCAUTOMOTI 4029357733 CA",30,"Auto Parts",{"$f":"VLOOKUP(IF(A144=\"Yes\",\"Personal\",G144),'Vendor List'!$A:$B,2,FALSE)","v":"12105.FCF"}]
[null,1,"09/03/2013","XXXXX09009","7-ELEVEN 26282 00072SALT LAKE CITY UT",20.079999999999998,"7-ELEVEN",{"$f":"VLOOKUP(IF(A145=\"Yes\",\"Personal\",G145),'Vendor List'!$A:$B,2,FALSE)","v":"40500.FCF"}]
[null,1,"09/03/2013","XXXXX09010","HOLIDAY OIL #07 0000DRAPER UT",46.05,"HOLIDAY OIL",{"$f":"VLOOKUP(IF(A146=\"Yes\",\"Personal\",G146),'Vendor List'!$A:$B,2,FALSE)","v":"40500.FCF"}]
[null,1,"09/03/2013","XXXXX09011","Starbucks #13391 SalSalt Lake City UT",10.95,"Starbucks",{"$f":"VLOOKUP(IF(A147=\"Yes\",\"Personal\",G147),'Vendor List'!$A:$B,2,FALSE)","v":"60800.FCF"}]
[null,1,"09/03/2013","XXXXX09012","VICTORS TIRES INC VISALT LAKE CITY UT",105,"VICTORS TIRES",{"$f":"VLOOKUP(IF(A148=\"Yes\",\"Personal\",G148),'Vendor List'!$A:$B,2,FALSE)","v":"12105.FCF"}]
[null,1,"09/04/2013","XXXXX09013","7-ELEVEN 26999 00072SALT LAKE CITY UT",19.12,"7-ELEVEN",{"$f":"VLOOKUP(IF(A149=\"Yes\",\"Personal\",G149),'Vendor List'!$A:$B,2,FALSE)","v":"40500.FCF"}]
[null,1,"09/04/2013","XXXXX09014","DAN'S OLYMPUS 000000SALT LAKE CITY UT",12.36,"DAN'S FOOD",{"$f":"VLOOKUP(IF(A150=\"Yes\",\"Personal\",G150),'Vendor List'!$A:$B,2,FALSE)","v":"60800.FCF"}]
[null,1,"09/04/2013","XXXXX09015","MCDONALD'S F6408 000SALT LAKE CI UT",6.77,"MCDONALD'S",{"$f":"VLOOKUP(IF(A151=\"Yes\",\"Personal\",G151),'Vendor List'!$A:$B,2,FALSE)","v":"60800.FCF"}]
[null,1,"09/05/2013","XXXXX09016","ADVANCED VETERINARY SALT LAKE CIT UT",58.5,"ADVANCED VET",{"$f":"VLOOKUP(IF(A152=\"Yes\",\"Personal\",G152),'Vendor List'!$A:$B,2,FALSE)","v":"17000.FCF"}]
["Yes",1,"09/05/2013","XXXXX09017","IFA SALT LAKE CITY SALT LAKE UT",277.25,"Personal",{"$f":"VLOOKUP(IF(A153=\"Yes\",\"Personal\",G153),'Vendor List'!$A:$B,2,FALSE)","v":"17000.FCF"}]
[null,1,"09/05/2013","XXXXX09018","MAVERIK COUNTRY STORSALT LAKE CITY UT",1.53,"MAVERIK",{"$f":"VLOOKUP(IF(A154=\"Yes\",\"Personal\",G154),'Vendor List'!$A:$B,2,FALSE)","v":"40500.FCF"}]
[null,1,"09/05/2013","XXXXX09019","OLYMPUS HILLS SERVICSALT LAKE CITY UT",15.02,"OLYMPUS HILLS SERVICE",{"$f":"VLOOKUP(IF(A155=\"Yes\",\"Personal\",G155),'Vendor List'!$A:$B,2,FALSE)","v":"40500.FCF"}]
[null,1,"09/05/2013","XXXXX09020","SPEED'S POWER EQUIPM801-487-3431",21,"SPEED'S POWER EQUIP.",{"$f":"VLOOKUP(IF(A156=\"Yes\",\"Personal\",G156),'Vendor List'!$A:$B,2,FALSE)","v":"60100.FCF"}]
[null,1,"09/06/2013","XXXXX09021","7-ELEVEN 26999 00072SALT LAKE CITY UT",9.41,"7-ELEVEN",{"$f":"VLOOKUP(IF(A157=\"Yes\",\"Personal\",G157),'Vendor List'!$A:$B,2,FALSE)","v":"40500.FCF"}]
[null,1,"09/06/2013","XXXXX09022","DELTA AIR LINES ATLANTA",5,"DELTA AIRLINES",{"$f":"VLOOKUP(IF(A158=\"Yes\",\"Personal\",G158),'Vendor List'!$A:$B,2,FALSE)","v":"12105.FCF"}]
[null,1,"09/06/2013","XXXXX09023","MCDONALD'S F719 0000SALT LAKE CI UT",43.92,"MCDONALD'S",{"$f":"VLOOKUP(IF(A159=\"Yes\",\"Personal\",G159),'Vendor List'!$A:$B,2,FALSE)","v":"60800.FCF"}]
["Yes",1,"09/06/2013","XXXXX09024","SCALA-BARDRAKE-STARLSAN FRANCISCO CA",119.25,"Personal",{"$f":"VLOOKUP(IF(A160=\"Yes\",\"Personal\",G160),'Vendor List'!$A:$B,2,FALSE)","v":"17000.FCF"}]
[null,1,"09/07/2013","XXXXX09025","7-ELEVEN 26999 00072SALT LAKE CITY UT",13.08,"7-ELEVEN",{"$f":"VLOOKUP(IF(A161=\"Yes\",\"Personal\",G161),'Vendor List'!$A:$B,2,FALSE)","v":"40500.FCF"}]
["Yes",1,"09/07/2013","XXXXX09026","IHG SFOHBPMS SAN FRANCISCO CA",295.69,"Personal",{"$f":"VLOOKUP(IF(A162=\"Yes\",\"Personal\",G162),'Vendor List'!$A:$B,2,FALSE)","v":"17000.FCF"}]
[null,1,"09/07/2013","XXXXX09027","MES*GLEN'S LOCK & KESALT LAKE CIT UT",4.95,"Glen's Lock & Key",{"$f":"VLOOKUP(IF(A163=\"Yes\",\"Personal\",G163),'Vendor List'!$A:$B,2,FALSE)","v":"12105.FCF"}]
[null,1,"09/08/2013","XXXXX09028","DELTA AIR LINES ATLANTA",32.9,"DELTA AIRLINES",{"$f":"VLOOKUP(IF(A164=\"Yes\",\"Personal\",G164),'Vendor List'!$A:$B,2,FALSE)","v":"12105.FCF"}]
[null,1,"09/08/2013","XXXXX09029","DELTA AIR LINES ATLANTA",182.9,"DELTA AIRLINES",{"$f":"VLOOKUP(IF(A165=\"Yes\",\"Personal\",G165),'Vendor List'!$A:$B,2,FALSE)","v":"12105.FCF"}]
[null,1,"09/08/2013","XXXXX09030","HOLIDAY OIL #07 0000DRAPER UT",45.57,"HOLIDAY OIL",{"$f":"VLOOKUP(IF(A166=\"Yes\",\"Personal\",G166),'Vendor List'!$A:$B,2,FALSE)","v":"40500.FCF"}]
[null,1,"09/08/2013","XXXXX09031","MORTON'S OF SAN FRANSAN FRANCISCO CA",447.15,"MORTON'S",{"$f":"VLOOKUP(IF(A167=\"Yes\",\"Personal\",G167),'Vendor List'!$A:$B,2,FALSE)","v":"60800.FCF"}]
[null,1,"09/09/2013","XXXXX09032","7-ELEVEN 26999 00072SALT LAKE CITY UT",7.62,"7-ELEVEN",{"$f":"VLOOKUP(IF(A168=\"Yes\",\"Personal\",G168),'Vendor List'!$A:$B,2,FALSE)","v":"40500.FCF"}]
[null,1,"09/09/2013","XXXXX09033","7-ELEVEN 26999 00072SALT LAKE CITY UT",14.49,"7-ELEVEN",{"$f":"VLOOKUP(IF(A169=\"Yes\",\"Personal\",G169),'Vendor List'!$A:$B,2,FALSE)","v":"40500.FCF"}]
[null,1,"09/09/2013","XXXXX09034","CHEVRON HOLIDAY OIL SALT LAKE CITY UT",7.52,"CHEVRON",{"$f":"VLOOKUP(IF(A170=\"Yes\",\"Personal\",G170),'Vendor List'!$A:$B,2,FALSE)","v":"40500.FCF"}]
[null,1,"09/09/2013","XXXXX09035","CHEVRON HOLIDAY OIL SALT LAKE CITY UT",20.010000000000002,"CHEVRON",{"$f":"VLOOKUP(IF(A171=\"Yes\",\"Personal\",G171),'Vendor List'!$A:$B,2,FALSE)","v":"40500.FCF"}]
[null,1,"09/09/2013","XXXXX09036","CHEVRON K & H ENTERPSALT LAKE CITY UT",12.39,"CHEVRON",{"$f":"VLOOKUP(IF(A172=\"Yes\",\"Personal\",G172),'Vendor List'!$A:$B,2,FALSE)","v":"40500.FCF"}]
[null,1,"09/09/2013","XXXXX09037","CHEVRON K & H ENTERPSALT LAKE CITY UT",20.02,"CHEVRON",{"$f":"VLOOKUP(IF(A173=\"Yes\",\"Personal\",G173),'Vendor List'!$A:$B,2,FALSE)","v":"40500.FCF"}]
[null,1,"09/09/2013","XXXXX09038","HERTZ CAR RENTAL 800-654-4173 CA",129.97,"HERTZ",{"$f":"VLOOKUP(IF(A174=\"Yes\",\"Personal\",G174),'Vendor List'!$A:$B,2,FALSE)","v":"72900.FCF"}]
[null,1,"09/09/2013","XXXXX09039","Interest Charge on Purchases",241.62,"Interest Charged",{"$f":"VLOOKUP(IF(A175=\"Yes\",\"Personal\",G175),'Vendor List'!$A:$B,2,FALSE)","v":"65300.FCF"}]
["Yes",1,"09/09/2013","XXXXX09040","PAYPAL *FULLGEAR4WD 4029357733 CA",32.5,"Personal",{"$f":"VLOOKUP(IF(A176=\"Yes\",\"Personal\",G176),'Vendor List'!$A:$B,2,FALSE)","v":"17000.FCF"}]
[null,1,"09/10/2013","XXXXX09041","7-ELEVEN 26999 00072SALT LAKE CITY UT",18.22,"7-ELEVEN",{"$f":"VLOOKUP(IF(A177=\"Yes\",\"Personal\",G177),'Vendor List'!$A:$B,2,FALSE)","v":"40500.FCF"}]
[null,1,"09/10/2013","XXXXX09042","CHEVRON K & H ENTERPSALT LAKE CITY UT",10.02,"CHEVRON",{"$f":"VLOOKUP(IF(A178=\"Yes\",\"Personal\",G178),'Vendor List'!$A:$B,2,FALSE)","v":"40500.FCF"}]
[null,1,"09/10/2013","XXXXX09043","HYATT HOTELS GRAND SSAN FRANCISCO CA",624.70000000000005,"HYATT HOTEL",{"$f":"VLOOKUP(IF(A179=\"Yes\",\"Personal\",G179),'Vendor List'!$A:$B,2,FALSE)","v":"12105.FCF"}]
[null,1,"09/10/2013","XXXXX09044","OLYMPUS HILLS SERVICSALT LAKE CITY UT",15.04,"OLYMPUS HILLS SERVICE",{"$f":"VLOOKUP(IF(A180=\"Yes\",\"Personal\",G180),'Vendor List'!$A:$B,2,FALSE)","v":"40500.FCF"}]
[null,1,"09/10/2013","XXXXX09045","PAYPAL *ENFOTRACEGP 4029357733 CA",159.6,"EnfoTrace",{"$f":"VLOOKUP(IF(A181=\"Yes\",\"Personal\",G181),'Vendor List'!$A:$B,2,FALSE)","v":"12105.FCF"}]
[null,1,"09/11/2013","XXXXX09046","7-ELEVEN 26282 00072SALT LAKE CITY UT",12.28,"7-ELEVEN",{"$f":"VLOOKUP(IF(A182=\"Yes\",\"Personal\",G182),'Vendor List'!$A:$B,2,FALSE)","v":"40500.FCF"}]
[null,1,"09/11/2013","XXXXX09047","ACE HARDWARE AT OLYSALT LAKE CIT UT",6.93,"ACE HARDWARE",{"$f":"VLOOKUP(IF(A183=\"Yes\",\"Personal\",G183),'Vendor List'!$A:$B,2,FALSE)","v":"70000.FCF"}]
[null,1,"09/11/2013","XXXXX09048","COMCAST CABLE COMM 800-COMCAST UT",121.35,"COMCAST",{"$f":"VLOOKUP(IF(A184=\"Yes\",\"Personal\",G184),'Vendor List'!$A:$B,2,FALSE)","v":"17000.FCF"}]
[null,1,"09/11/2013","XXXXX09049","HOTELS.COM US1140063800-219-4606 NV",413.37,"HOTELS.COM",{"$f":"VLOOKUP(IF(A185=\"Yes\",\"Personal\",G185),'Vendor List'!$A:$B,2,FALSE)","v":"72900.FCF"}]
[null,1,"09/11/2013","XXXXX09050","MCDONALD'S F4010 000SALT LAKE CI UT",26.38,"MCDONALD'S",{"$f":"VLOOKUP(IF(A186=\"Yes\",\"Personal\",G186),'Vendor List'!$A:$B,2,FALSE)","v":"60800.FCF"}]
[null,1,"09/12/2013","XXXXX09051","INDEPENDENT DEALER SOGDEN UT",841.45,"INDEPENDENT DEALERS",{"$f":"VLOOKUP(IF(A187=\"Yes\",\"Personal\",G187),'Vendor List'!$A:$B,2,FALSE)","v":"70000.FCF"}]
[null,1,"09/12/2013","XXXXX09052","SUPERIOR PAINT SUPPLSALT LAKE CITY UT",15.9,"SUPERIOR PAINT",{"$f":"VLOOKUP(IF(A188=\"Yes\",\"Personal\",G188),'Vendor List'!$A:$B,2,FALSE)","v":"72300.FCF"}]
[null,1,"09/13/2013","XXXXX09053","7-ELEVEN 26282 00072SALT LAKE CITY UT",9.2100000000000009,"7-ELEVEN",{"$f":"VLOOKUP(IF(A189=\"Yes\",\"Personal\",G189),'Vendor List'!$A:$B,2,FALSE)","v":"40500.FCF"}]
[null,1,"09/13/2013","XXXXX09054","7-ELEVEN 26999 00072SALT LAKE CITY UT",7.03,"7-ELEVEN",{"$f":"VLOOKUP(IF(A190=\"Yes\",\"Personal\",G190),'Vendor List'!$A:$B,2,FALSE)","v":"40500.FCF"}]
[null,1,"09/13/2013","XXXXX09055","7-ELEVEN 26999 00072SALT LAKE CITY UT",8.0399999999999991,"7-ELEVEN",{"$f":"VLOOKUP(IF(A191=\"Yes\",\"Personal\",G191),'Vendor List'!$A:$B,2,FALSE)","v":"40500.FCF"}]
[null,1,"09/13/2013","XXXXX09056","7-ELEVEN 26999 00072SALT LAKE CITY UT",10.11,"7-ELEVEN",{"$f":"VLOOKUP(IF(A192=\"Yes\",\"Personal\",G192),'Vendor List'!$A:$B,2,FALSE)","v":"40500.FCF"}]
[null,1,"09/13/2013","XXXXX09057","DAN'S OLYMPUS 000000SALT LAKE CITY UT",16.86,"DAN'S FOOD",{"$f":"VLOOKUP(IF(A193=\"Yes\",\"Personal\",G193),'Vendor List'!$A:$B,2,FALSE)","v":"60800.FCF"}]
[null,1,"09/13/2013","XXXXX09058","MCDONALD'S F6396 000SALT LAKE CI UT",5.39,"MCDONALD'S",{"$f":"VLOOKUP(IF(A194=\"Yes\",\"Personal\",G194),'Vendor List'!$A:$B,2,FALSE)","v":"60800.FCF"}]
[null,1,"09/13/2013","XXXXX09059","MES*GLEN'S LOCK & KESALT LAKE CIT UT",10,"Glen's Lock & Key",{"$f":"VLOOKUP(IF(A195=\"Yes\",\"Personal\",G195),'Vendor List'!$A:$B,2,FALSE)","v":"12105.FCF"}]
[null,1,"09/13/2013","XXXXX09060","MES*GLEN'S LOCK & KESALT LAKE CIT UT",98.4,"Glen's Lock & Key",{"$f":"VLOOKUP(IF(A196=\"Yes\",\"Personal\",G196),'Vendor List'!$A:$B,2,FALSE)","v":"12105.FCF"}]
[null,1,"09/13/2013","XXXXX09061","OLYMPUS HILLS SERVICSALT LAKE CITY UT",20.03,"OLYMPUS HILLS SERVICE",{"$f":"VLOOKUP(IF(A197=\"Yes\",\"Personal\",G197),'Vendor List'!$A:$B,2,FALSE)","v":"40500.FCF"}]
[null,1,"09/13/2013","XXXXX09062","SUPERIOR PAINT SUPPLSALT LAKE CITY UT",15.97,"SUPERIOR PAINT",{"$f":"VLOOKUP(IF(A198=\"Yes\",\"Personal\",G198),'Vendor List'!$A:$B,2,FALSE)","v":"72300.FCF"}]
[null,1,"09/15/2013","XXXXX09063","DELTA AIR LINES ATLANTA",7,"DELTA AIRLINES",{"$f":"VLOOKUP(IF(A199=\"Yes\",\"Personal\",G199),'Vendor List'!$A:$B,2,FALSE)","v":"12105.FCF"}]
[null,1,"09/15/2013","XXXXX09064","HOLIDAY OIL #07 0000DRAPER UT",20.149999999999999,"HOLIDAY OIL",{"$f":"VLOOKUP(IF(A200=\"Yes\",\"Personal\",G200),'Vendor List'!$A:$B,2,FALSE)","v":"40500.FCF"}]
[null,1,"09/16/2013","XXXXX09065","7-ELEVEN 26999 00072SALT LAKE CITY UT",9.18,"7-ELEVEN",{"$f":"VLOOKUP(IF(A201=\"Yes\",\"Personal\",G201),'Vendor List'!$A:$B,2,FALSE)","v":"40500.FCF"}]
[null,1,"09/16/2013","XXXXX09066","7-ELEVEN 26999 00072SALT LAKE CITY UT",17.34,"7-ELEVEN",{"$f":"VLOOKUP(IF(A202=\"Yes\",\"Personal\",G202),'Vendor List'!$A:$B,2,FALSE)","v":"40500.FCF"}]
[null,1,"09/17/2013","XXXXX09067","20% In-Flight Savings for Delta SkyMiles",-1.4,"DELTA AIRLINES",{"$f":"VLOOKUP(IF(A203=\"Yes\",\"Personal\",G203),'Vendor List'!$A:$B,2,FALSE)","v":"12105.FCF"}]
[null,1,"09/17/2013","XXXXX09068","7-ELEVEN 26999 00072SALT LAKE CITY UT",1.07,"7-ELEVEN",{"$f":"VLOOKUP(IF(A204=\"Yes\",\"Personal\",G204),'Vendor List'!$A:$B,2,FALSE)","v":"40500.FCF"}]
[null,1,"09/17/2013","XXXXX09069","7-ELEVEN 26999 00072SALT LAKE CITY UT",10.029999999999999,"7-ELEVEN",{"$f":"VLOOKUP(IF(A205=\"Yes\",\"Personal\",G205),'Vendor List'!$A:$B,2,FALSE)","v":"40500.FCF"}]
[null,1,"09/17/2013","XXXXX09070","KWAL PAINT #85 0203 SALT LAKE CIT UT",163.35,"KWAL PAINT",{"$f":"VLOOKUP(IF(A206=\"Yes\",\"Personal\",G206),'Vendor List'!$A:$B,2,FALSE)","v":"70000.FCF"}]
[null,1,"09/17/2013","XXXXX09071","LOWE'S OF SALT LAKE SALT LAKE CITY UT",120.06,"LOWE'S",{"$f":"VLOOKUP(IF(A207=\"Yes\",\"Personal\",G207),'Vendor List'!$A:$B,2,FALSE)","v":"70000.FCF"}]
[null,1,"09/17/2013","XXXXX09072","OLYMPUS HILLS SERVICSALT LAKE CITY UT",20.02,"OLYMPUS HILLS SERVICE",{"$f":"VLOOKUP(IF(A208=\"Yes\",\"Personal\",G208),'Vendor List'!$A:$B,2,FALSE)","v":"40500.FCF"}]
[null,1,"09/17/2013","XXXXX09073","PAYPAL *ENFOTRACEGP 4029357733 CA",8.9499999999999993,"EnfoTrace",{"$f":"VLOOKUP(IF(A209=\"Yes\",\"Personal\",G209),'Vendor List'!$A:$B,2,FALSE)","v":"12105.FCF"}]
[null,1,"09/17/2013","XXXXX09074","PAYPAL *ENFOTRACEGP 4029357733 CA",8.9499999999999993,"EnfoTrace",{"$f":"VLOOKUP(IF(A210=\"Yes\",\"Personal\",G210),'Vendor List'!$A:$B,2,FALSE)","v":"12105.FCF"}]
[null,1,"09/18/2013","XXXXX09075","7-ELEVEN 26999 00072SALT LAKE CITY UT",3.43,"7-ELEVEN",{"$f":"VLOOKUP(IF(A211=\"Yes\",\"Personal\",G211),'Vendor List'!$A:$B,2,FALSE)","v":"40500.FCF"}]
[null,1,"09/18/2013","XXXXX09076","7-ELEVEN 26999 00072SALT LAKE CITY UT",10.27,"7-ELEVEN",{"$f":"VLOOKUP(IF(A212=\"Yes\",\"Personal\",G212),'Vendor List'!$A:$B,2,FALSE)","v":"40500.FCF"}]
["Yes",1,"09/18/2013","XXXXX09077","COSTCO CHECKS & FORMDECATUR GA",38.5,"Personal",{"$f":"VLOOKUP(IF(A213=\"Yes\",\"Personal\",G213),'Vendor List'!$A:$B,2,FALSE)","v":"17000.FCF"}]
[null,1,"09/18/2013","XXXXX09078","DAN'S OLYMPUS 000000SALT LAKE CITY UT",2.96,"DAN'S FOOD",{"$f":"VLOOKUP(IF(A214=\"Yes\",\"Personal\",G214),'Vendor List'!$A:$B,2,FALSE)","v":"60800.FCF"}]
[null,1,"09/18/2013","XXXXX09079","DAN'S OLYMPUS 000000SALT LAKE CITY UT",37.369999999999997,"DAN'S FOOD",{"$f":"VLOOKUP(IF(A215=\"Yes\",\"Personal\",G215),'Vendor List'!$A:$B,2,FALSE)","v":"60800.FCF"}]
[null,1,"09/18/2013","XXXXX09080","LOWE'S OF SALT LAKE SALT LAKE CITY UT",57.97,"LOWE'S",{"$f":"VLOOKUP(IF(A216=\"Yes\",\"Personal\",G216),'Vendor List'!$A:$B,2,FALSE)","v":"70000.FCF"}]
[null,1,"09/18/2013","XXXXX09081","SMITHS-FUEL #9475 008666111979",47.39,"SMITHS FUEL",{"$f":"VLOOKUP(IF(A217=\"Yes\",\"Personal\",G217),'Vendor List'!$A:$B,2,FALSE)","v":"40500.FCF"}]
[null,1,"09/19/2013","XXXXX09082","CHEVRON EXTRA MART #SALT LAKE CITY UT",20,"CHEVRON",{"$f":"VLOOKUP(IF(A218=\"Yes\",\"Personal\",G218),'Vendor List'!$A:$B,2,FALSE)","v":"40500.FCF"}]
[null,1,"09/19/2013","XXXXX09083","DIRECTV SERVICE 800-347-3288 CA",375.73,"DIRECTV",{"$f":"VLOOKUP(IF(A219=\"Yes\",\"Personal\",G219),'Vendor List'!$A:$B,2,FALSE)","v":"70000.FCF"}]
[null,1,"09/19/2013","XXXXX09084","LOWE'S OF SALT LAKE SALT LAKE CITY UT",20.94,"LOWE'S",{"$f":"VLOOKUP(IF(A220=\"Yes\",\"Personal\",G220),'Vendor List'!$A:$B,2,FALSE)","v":"70000.FCF"}]
[null,1,"09/19/2013","XXXXX09085","LOWE'S OF SALT LAKE SALT LAKE CITY UT",69.75,"LOWE'S",{"$f":"VLOOKUP(IF(A221=\"Yes\",\"Personal\",G221),'Vendor List'!$A:$B,2,FALSE)","v":"70000.FCF"}]
[null,1,"09/19/2013","XXXXX09086","MCDONALD'S F4010 000SALT LAKE CI UT",26.61,"MCDONALD'S",{"$f":"VLOOKUP(IF(A222=\"Yes\",\"Personal\",G222),'Vendor List'!$A:$B,2,FALSE)","v":"60800.FCF"}]
[null,1,"09/20/2013","XXXXX09087","7-ELEVEN 26282 00072SALT LAKE CITY UT",10.08,"7-ELEVEN",{"$f":"VLOOKUP(IF(A223=\"Yes\",\"Personal\",G223),'Vendor List'!$A:$B,2,FALSE)","v":"40500.FCF"}]
["Yes",1,"09/20/2013","XXXXX09088","DIAMOND CONCESSIONS SALT LK CTY UT",92,"Personal",{"$f":"VLOOKUP(IF(A224=\"Yes\",\"Personal\",G224),'Vendor List'!$A:$B,2,FALSE)","v":"17000.FCF"}]
[null,1,"09/20/2013","XXXXX09089","MCDONALD'S F6396 000SALT LAKE CI UT",15.47,"MCDONALD'S",{"$f":"VLOOKUP(IF(A225=\"Yes\",\"Personal\",G225),'Vendor List'!$A:$B,2,FALSE)","v":"60800.FCF"}]
[null,1,"09/20/2013","XXXXX09090","OLYMPUS HILLS SERVICSALT LAKE CITY UT",20.010000000000002,"OLYMPUS HILLS SERVICE",{"$f":"VLOOKUP(IF(A226=\"Yes\",\"Personal\",G226),'Vendor List'!$A:$B,2,FALSE)","v":"40500.FCF"}]
[null,1,"09/21/2013","XXXXX09091","7-ELEVEN 26282 00072SALT LAKE CITY UT",12.3,"7-ELEVEN",{"$f":"VLOOKUP(IF(A227=\"Yes\",\"Personal\",G227),'Vendor List'!$A:$B,2,FALSE)","v":"40500.FCF"}]
[null,1,"09/21/2013","XXXXX09092","KSL.COMDESERETDIGMEDSALT LAKE CIT UT",599,"KSL.COM",{"$f":"VLOOKUP(IF(A228=\"Yes\",\"Personal\",G228),'Vendor List'!$A:$B,2,FALSE)","v":"70700.FCF"}]
[null,1,"09/21/2013","XXXXX09093","OLYMPUS HILLS SERVICSALT LAKE CITY UT",15.02,"OLYMPUS HILLS SERVICE",{"$f":"VLOOKUP(IF(A229=\"Yes\",\"Personal\",G229),'Vendor List'!$A:$B,2,FALSE)","v":"40500.FCF"}]
[null,1,"09/21/2013","XXXXX09094","SLC INTERNATIONAL AISALT LAKE CIT UT",14,"SLC INTERNATIONAL",{"$f":"VLOOKUP(IF(A230=\"Yes\",\"Personal\",G230),'Vendor List'!$A:$B,2,FALSE)","v":"72900.FCF"}]
[null,1,"09/22/2013","XXXXX09095","DAN'S OLYMPUS 000000SALT LAKE CITY UT",59.39,"DAN'S FOOD",{"$f":"VLOOKUP(IF(A231=\"Yes\",\"Personal\",G231),'Vendor List'!$A:$B,2,FALSE)","v":"60800.FCF"}]
["Yes",1,"09/22/2013","XXXXX09096","IHG SFOHBPMS SAN FRANCISCO CA",420.02,"Personal",{"$f":"VLOOKUP(IF(A232=\"Yes\",\"Personal\",G232),'Vendor List'!$A:$B,2,FALSE)","v":"17000.FCF"}]
[null,1,"09/23/2013","XXXXX09097","7-ELEVEN 26999 00072SALT LAKE CITY UT",15.12,"7-ELEVEN",{"$f":"VLOOKUP(IF(A233=\"Yes\",\"Personal\",G233),'Vendor List'!$A:$B,2,FALSE)","v":"40500.FCF"}]
[null,1,"09/23/2013","XXXXX09098","7-ELEVEN 26999 00072SALT LAKE CITY UT",15.38,"7-ELEVEN",{"$f":"VLOOKUP(IF(A234=\"Yes\",\"Personal\",G234),'Vendor List'!$A:$B,2,FALSE)","v":"40500.FCF"}]
["Yes",1,"09/23/2013","XXXXX09099","BJS RESTAURANTS 436 ROSEVILLE CA",81.209999999999994,"Personal",{"$f":"VLOOKUP(IF(A235=\"Yes\",\"Personal\",G235),'Vendor List'!$A:$B,2,FALSE)","v":"17000.FCF"}]
[null,1,"09/23/2013","XXXXX09100","DAN'S OLYMPUS 000000SALT LAKE CITY UT",12.34,"DAN'S FOOD",{"$f":"VLOOKUP(IF(A236=\"Yes\",\"Personal\",G236),'Vendor List'!$A:$B,2,FALSE)","v":"60800.FCF"}]
[null,1,"09/23/2013","XXXXX09101","HERTZ CAR RENTAL 800-654-4173 CA",350.98,"HERTZ",{"$f":"VLOOKUP(IF(A237=\"Yes\",\"Personal\",G237),'Vendor List'!$A:$B,2,FALSE)","v":"72900.FCF"}]
["Yes",1,"09/23/2013","XXXXX09102","PAYPAL *AUTOCASHNY 4029357733 CA",41.87,"Personal",{"$f":"VLOOKUP(IF(A238=\"Yes\",\"Personal\",G238),'Vendor List'!$A:$B,2,FALSE)","v":"17000.FCF"}]
["Yes",1,"09/23/2013","XXXXX09103","PAYPAL *CENTERCAPSN 4029357733 CA",24.99,"Personal",{"$f":"VLOOKUP(IF(A239=\"Yes\",\"Personal\",G239),'Vendor List'!$A:$B,2,FALSE)","v":"17000.FCF"}]
[null,1,"09/23/2013","XXXXX09104","PAYPAL *ENFOTRACEGP 4029357733 CA",19.95,"EnfoTrace",{"$f":"VLOOKUP(IF(A240=\"Yes\",\"Personal\",G240),'Vendor List'!$A:$B,2,FALSE)","v":"12105.FCF"}]
[null,1,"09/23/2013","XXXXX09105","UNION 76 00036293 ROSEVILLE CA",38.369999999999997,"UNION 76",{"$f":"VLOOKUP(IF(A241=\"Yes\",\"Personal\",G241),'Vendor List'!$A:$B,2,FALSE)","v":"40500.FCF"}]
[null,1,"09/24/2013","XXXXX09106","ADVANCED VETERINARY SALT LAKE CIT UT",70,"ADVANCED VET",{"$f":"VLOOKUP(IF(A242=\"Yes\",\"Personal\",G242),'Vendor List'!$A:$B,2,FALSE)","v":"17000.FCF"}]
[null,1,"09/24/2013","XXXXX09107","CHEVRON K & H ENTERPSALT LAKE CITY UT",42.94,"CHEVRON",{"$f":"VLOOKUP(IF(A243=\"Yes\",\"Personal\",G243),'Vendor List'!$A:$B,2,FALSE)","v":"40500.FCF"}]
[null,1,"09/24/2013","XXXXX09108","DAN'S OLYMPUS 000000SALT LAKE CITY UT",48.7,"DAN'S FOOD",{"$f":"VLOOKUP(IF(A244=\"Yes\",\"Personal\",G244),'Vendor List'!$A:$B,2,FALSE)","v":"60800.FCF"}]
[null,1,"09/24/2013","XXXXX09109","GAY USA PAGES 542929ALTAMONTE SPR FL",99,"GAY USA PAGES",{"$f":"VLOOKUP(IF(A245=\"Yes\",\"Personal\",G245),'Vendor List'!$A:$B,2,FALSE)","v":"50200.FCF"}]
[null,1,"09/25/2013","XXXXX09110","7-ELEVEN 26999 00072SALT LAKE CITY UT",8.2200000000000006,"7-ELEVEN",{"$f":"VLOOKUP(IF(A246=\"Yes\",\"Personal\",G246),'Vendor List'!$A:$B,2,FALSE)","v":"40500.FCF"}]
[null,1,"09/25/2013","XXXXX09111","7-ELEVEN 26999 00072SALT LAKE CITY UT",9.01,"7-ELEVEN",{"$f":"VLOOKUP(IF(A247=\"Yes\",\"Personal\",G247),'Vendor List'!$A:$B,2,FALSE)","v":"40500.FCF"}]
[null,1,"09/25/2013","XXXXX09112","7-ELEVEN 26999 00072SALT LAKE CITY UT",15.02,"7-ELEVEN",{"$f":"VLOOKUP(IF(A248=\"Yes\",\"Personal\",G248),'Vendor List'!$A:$B,2,FALSE)","v":"40500.FCF"}]
[null,1,"09/25/2013","XXXXX09113","7-ELEVEN 26999 00072SALT LAKE CITY UT",15.05,"7-ELEVEN",{"$f":"VLOOKUP(IF(A249=\"Yes\",\"Personal\",G249),'Vendor List'!$A:$B,2,FALSE)","v":"40500.FCF"}]
["Yes",1,"09/25/2013","XXXXX09114","FASTRAC B TESO621230SALT LAKE CIT UT",10.029999999999999,"Personal",{"$f":"VLOOKUP(IF(A250=\"Yes\",\"Personal\",G250),'Vendor List'!$A:$B,2,FALSE)","v":"17000.FCF"}]
[null,1,"09/25/2013","XXXXX09115","OLYMPUS HILLS SERVICSALT LAKE CITY UT",15.03,"OLYMPUS HILLS SERVICE",{"$f":"VLOOKUP(IF(A251=\"Yes\",\"Personal\",G251),'Vendor List'!$A:$B,2,FALSE)","v":"40500.FCF"}]
[null,1,"09/25/2013","XXXXX09116","PAYPAL *HONDAPARTSC 4029357733 CA",34.9,"Auto Parts",{"$f":"VLOOKUP(IF(A252=\"Yes\",\"Personal\",G252),'Vendor List'!$A:$B,2,FALSE)","v":"12105.FCF"}]
[null,1,"09/26/2013","XXXXX09117","ALLDATA LLC ELK GROVE CA",286.44,"Auto Parts",{"$f":"VLOOKUP(IF(A253=\"Yes\",\"Personal\",G253),'Vendor List'!$A:$B,2,FALSE)","v":"12105.FCF"}]
[null,1,"09/26/2013","XXXXX09118","CHEVRON TOP STOP C-5MURRAY UT",12,"CHEVRON",{"$f":"VLOOKUP(IF(A254=\"Yes\",\"Personal\",G254),'Vendor List'!$A:$B,2,FALSE)","v":"40500.FCF"}]
[null,1,"09/27/2013","XXXXX09119","7-ELEVEN 26282 00072SALT LAKE CITY UT",10.97,"7-ELEVEN",{"$f":"VLOOKUP(IF(A255=\"Yes\",\"Personal\",G255),'Vendor List'!$A:$B,2,FALSE)","v":"40500.FCF"}]
[null,1,"09/27/2013","XXXXX09120","7-ELEVEN 26999 00072SALT LAKE CITY UT",10.11,"7-ELEVEN",{"$f":"VLOOKUP(IF(A256=\"Yes\",\"Personal\",G256),'Vendor List'!$A:$B,2,FALSE)","v":"40500.FCF"}]
[null,1,"09/27/2013","XXXXX09121","OLYMPUS HILLS SERVICSALT LAKE CITY UT",15.08,"OLYMPUS HILLS SERVICE",{"$f":"VLOOKUP(IF(A257=\"Yes\",\"Personal\",G257),'Vendor List'!$A:$B,2,FALSE)","v":"40500.FCF"}]
[null,1,"09/27/2013","XXXXX09122","VICTORS TIRES INC VISALT LAKE CITY UT",140,"VICTORS TIRES",{"$f":"VLOOKUP(IF(A258=\"Yes\",\"Personal\",G258),'Vendor List'!$A:$B,2,FALSE)","v":"12105.FCF"}]
[null,1,"09/27/2013","XXXXX09123","WWW.GOTOMYPC.COM SERVICE/SW",21.32,"gotomypc.com",{"$f":"VLOOKUP(IF(A259=\"Yes\",\"Personal\",G259),'Vendor List'!$A:$B,2,FALSE)","v":"60700.FCF"}]
[null,1,"09/28/2013","XXXXX09124","7-ELEVEN 26999 00072SALT LAKE CITY UT",10.050000000000001,"7-ELEVEN",{"$f":"VLOOKUP(IF(A260=\"Yes\",\"Personal\",G260),'Vendor List'!$A:$B,2,FALSE)","v":"40500.FCF"}]
[null,1,"09/28/2013","XXXXX09125","7-ELEVEN 26999 00072SALT LAKE CITY UT",10.28,"7-ELEVEN",{"$f":"VLOOKUP(IF(A261=\"Yes\",\"Personal\",G261),'Vendor List'!$A:$B,2,FALSE)","v":"40500.FCF"}]
[null,1,"09/28/2013","XXXXX09126","7-ELEVEN 26999 00072SALT LAKE CITY UT",12.21,"7-ELEVEN",{"$f":"VLOOKUP(IF(A262=\"Yes\",\"Personal\",G262),'Vendor List'!$A:$B,2,FALSE)","v":"40500.FCF"}]
[null,1,"09/30/2013","XXXXX09127","7-ELEVEN 26999 00072SALT LAKE CITY UT",10.19,"7-ELEVEN",{"$f":"VLOOKUP(IF(A263=\"Yes\",\"Personal\",G263),'Vendor List'!$A:$B,2,FALSE)","v":"40500.FCF"}]
[null,1,"09/30/2013","XXXXX09128","7-ELEVEN 26999 00072SALT LAKE CITY UT",15.33,"7-ELEVEN",{"$f":"VLOOKUP(IF(A264=\"Yes\",\"Personal\",G264),'Vendor List'!$A:$B,2,FALSE)","v":"40500.FCF"}]
[null,1,"09/30/2013","XXXXX09129","DAN'S OLYMPUS 000000SALT LAKE CITY UT",12.36,"DAN'S FOOD",{"$f":"VLOOKUP(IF(A265=\"Yes\",\"Personal\",G265),'Vendor List'!$A:$B,2,FALSE)","v":"60800.FCF"}]
[null,1,"09/30/2013","XXXXX09130","HOLIDAY OIL #07 0000DRAPER UT",43.47,"HOLIDAY OIL",{"$f":"VLOOKUP(IF(A266=\"Yes\",\"Personal\",G266),'Vendor List'!$A:$B,2,FALSE)","v":"40500.FCF"}]
[null,1,"09/30/2013","XXXXX09131","OLYMPUS HILLS SERVICSALT LAKE CITY UT",15.01,"OLYMPUS HILLS SERVICE",{"$f":"VLOOKUP(IF(A267=\"Yes\",\"Personal\",G267),'Vendor List'!$A:$B,2,FALSE)","v":"40500.FCF"}]
["Yes",1,"09/30/2013","XXXXX09132","PAYPAL *RADERRA 4029357733 CA",26.45,"Personal",{"$f":"VLOOKUP(IF(A268=\"Yes\",\"Personal\",G268),'Vendor List'!$A:$B,2,FALSE)","v":"17000.FCF"}]
[null,5,"2013-09-30","XXXXX09~JE","AMEX XXXXX Payable",{"$f":"SUM($F$137:$F$268)","v":8909.9000000000015},"Amex 48004 Payable",{"$f":"VLOOKUP(IF(A269=\"Yes\",\"Personal\",G269),'Vendor List'!$A:$B,2,FALSE)","v":"24059.FCF"}]
[null,1,"10/01/2013","XXXXX10001","7-ELEVEN 26282 00072SALT LAKE CITY UT",16.04,"7-ELEVEN",{"$f":"VLOOKUP(IF(A270=\"Yes\",\"Personal\",G270),'Vendor List'!$A:$B,2,FALSE)","v":"40500.FCF"}]
[null,1,"10/01/2013","XXXXX10002","7-ELEVEN 26999 00072SALT LAKE CITY UT",10.029999999999999,"7-ELEVEN",{"$f":"VLOOKUP(IF(A271=\"Yes\",\"Personal\",G271),'Vendor List'!$A:$B,2,FALSE)","v":"40500.FCF"}]
[null,1,"10/01/2013","XXXXX10003","7-ELEVEN 26999 00072SALT LAKE CITY UT",14.76,"7-ELEVEN",{"$f":"VLOOKUP(IF(A272=\"Yes\",\"Personal\",G272),'Vendor List'!$A:$B,2,FALSE)","v":"40500.FCF"}]
[null,1,"10/01/2013","XXXXX10004","NATL BIZ FURNITURE 800-626-6060 WI",1713,"Office Furniture",{"$f":"VLOOKUP(IF(A273=\"Yes\",\"Personal\",G273),'Vendor List'!$A:$B,2,FALSE)","v":"16300.FCF"}]
[null,1,"10/02/2013","XXXXX10005","7-ELEVEN 26999 00072SALT LAKE CITY UT",14.53,"7-ELEVEN",{"$f":"VLOOKUP(IF(A274=\"Yes\",\"Personal\",G274),'Vendor List'!$A:$B,2,FALSE)","v":"40500.FCF"}]
[null,1,"10/02/2013","XXXXX10006","SEARS ROEBUCK 01118 SALT LAKE CIT UT",3.84,"SEARS ROEBUCK",{"$f":"VLOOKUP(IF(A275=\"Yes\",\"Personal\",G275),'Vendor List'!$A:$B,2,FALSE)","v":"12105.FCF"}]
[null,1,"10/04/2013","XXXXX10007","7-ELEVEN 26999 00072SALT LAKE CITY UT",1.53,"7-ELEVEN",{"$f":"VLOOKUP(IF(A276=\"Yes\",\"Personal\",G276),'Vendor List'!$A:$B,2,FALSE)","v":"40500.FCF"}]
[null,1,"10/04/2013","XXXXX10008","BOLT AND NUT SUPPLY 8014860088",4.97,"BOLT AND NUT",{"$f":"VLOOKUP(IF(A277=\"Yes\",\"Personal\",G277),'Vendor List'!$A:$B,2,FALSE)","v":"40500.FCF"}]
[null,1,"10/04/2013","XXXXX10009","DAN'S OLYMPUS 000000SALT LAKE CITY UT",29.28,"DAN'S FOOD",{"$f":"VLOOKUP(IF(A278=\"Yes\",\"Personal\",G278),'Vendor List'!$A:$B,2,FALSE)","v":"60800.FCF"}]
[null,1,"10/04/2013","XXXXX10010","GREAT HARVEST BREAD SALT LAKE CITY UT",24.77,"GREAT HARVEST",{"$f":"VLOOKUP(IF(A279=\"Yes\",\"Personal\",G279),'Vendor List'!$A:$B,2,FALSE)","v":"60800.FCF"}]
[null,1,"10/04/2013","XXXXX10011","OLYMPUS HILLS SERVICSALT LAKE CITY UT",20.02,"OLYMPUS HILLS SERVICE",{"$f":"VLOOKUP(IF(A280=\"Yes\",\"Personal\",G280),'Vendor List'!$A:$B,2,FALSE)","v":"40500.FCF"}]
[null,1,"10/04/2013","XXXXX10012","RADIOSHACK COR186213SALT LAKE CIT UT",14.41,"RADIOSHACK",{"$f":"VLOOKUP(IF(A281=\"Yes\",\"Personal\",G281),'Vendor List'!$A:$B,2,FALSE)","v":"70000.FCF"}]
[null,1,"10/04/2013","XXXXX10013","THE HOME DEPOT 4403 SALT LAKE CIT UT",78.12,"THE HOME DEPOT",{"$f":"VLOOKUP(IF(A282=\"Yes\",\"Personal\",G282),'Vendor List'!$A:$B,2,FALSE)","v":"72300.FCF"}]
[null,1,"10/05/2013","XXXXX10014","7-ELEVEN 26999 00072SALT LAKE CITY UT",19.989999999999998,"7-ELEVEN",{"$f":"VLOOKUP(IF(A283=\"Yes\",\"Personal\",G283),'Vendor List'!$A:$B,2,FALSE)","v":"40500.FCF"}]
["Yes",1,"10/05/2013","XXXXX10015","BLK*CURESEARCH 8669923374 CA",100,"Personal",{"$f":"VLOOKUP(IF(A284=\"Yes\",\"Personal\",G284),'Vendor List'!$A:$B,2,FALSE)","v":"17000.FCF"}]
[null,1,"10/05/2013","XXXXX10016","DAN'S OLYMPUS 000000SALT LAKE CITY UT",39.79,"DAN'S FOOD",{"$f":"VLOOKUP(IF(A285=\"Yes\",\"Personal\",G285),'Vendor List'!$A:$B,2,FALSE)","v":"60800.FCF"}]
[null,1,"10/05/2013","XXXXX10017","HOLIDAY OIL #07 0000DRAPER UT",46.82,"HOLIDAY OIL",{"$f":"VLOOKUP(IF(A286=\"Yes\",\"Personal\",G286),'Vendor List'!$A:$B,2,FALSE)","v":"40500.FCF"}]
["Yes",1,"10/05/2013","XXXXX10018","SAN FRANCISCO MOSCONSAN FRANCISCO CA",46,"Personal",{"$f":"VLOOKUP(IF(A287=\"Yes\",\"Personal\",G287),'Vendor List'!$A:$B,2,FALSE)","v":"17000.FCF"}]
[null,1,"10/05/2013","XXXXX10019","SLC INTERNATIONAL AISALT LAKE CIT UT",12,"SLC INTERNATIONAL",{"$f":"VLOOKUP(IF(A288=\"Yes\",\"Personal\",G288),'Vendor List'!$A:$B,2,FALSE)","v":"72900.FCF"}]
["Yes",1,"10/06/2013","XXXXX10020","SAN FRANCISCO MOSCONSAN FRANCISCO CA",30,"Personal",{"$f":"VLOOKUP(IF(A289=\"Yes\",\"Personal\",G289),'Vendor List'!$A:$B,2,FALSE)","v":"17000.FCF"}]
[null,1,"10/07/2013","XXXXX10021","CHEVRON K & H ENTERPSALT LAKE CITY UT",80.17,"CHEVRON",{"$f":"VLOOKUP(IF(A290=\"Yes\",\"Personal\",G290),'Vendor List'!$A:$B,2,FALSE)","v":"40500.FCF"}]
[null,1,"10/07/2013","XXXXX10022","HERTZ CAR RENTAL 800-654-4173 CA",219.61,"HERTZ",{"$f":"VLOOKUP(IF(A291=\"Yes\",\"Personal\",G291),'Vendor List'!$A:$B,2,FALSE)","v":"72900.FCF"}]
[null,1,"10/07/2013","XXXXX10023","SUPERIOR PAINT SUPPLSALT LAKE CITY UT",6.65,"SUPERIOR PAINT",{"$f":"VLOOKUP(IF(A292=\"Yes\",\"Personal\",G292),'Vendor List'!$A:$B,2,FALSE)","v":"72300.FCF"}]
[null,1,"10/08/2013","XXXXX10024","CHEVRON K & H ENTERPSALT LAKE CITY UT",10.029999999999999,"CHEVRON",{"$f":"VLOOKUP(IF(A293=\"Yes\",\"Personal\",G293),'Vendor List'!$A:$B,2,FALSE)","v":"40500.FCF"}]
["\u0001",1,"10/08/2013","XXXXX10025","OLYMPUS HILLS SERVICSALT LAKE CITY UT",20.07,"OLYMPUS HILLS SERVICE",{"$f":"VLOOKUP(IF(A294=\"Yes\",\"Personal\",G294),'Vendor List'!$A:$B,2,FALSE)","v":"40500.FCF"}]
["Yes",1,"10/08/2013","XXXXX10026","PAYPAL *ALEZAD13 4029357733 CA",19.84,"Personal",{"$f":"VLOOKUP(IF(A295=\"Yes\",\"Personal\",G295),'Vendor List'!$A:$B,2,FALSE)","v":"17000.FCF"}]
["Yes",1,"10/08/2013","XXXXX10027","PAYPAL *SACOEPERAS 4029357733 CA",34,"Personal",{"$f":"VLOOKUP(IF(A296=\"Yes\",\"Personal\",G296),'Vendor List'!$A:$B,2,FALSE)","v":"17000.FCF"}]
["Yes",1,"10/08/2013","XXXXX10028","SAN FRANCISCO MOSCONSAN FRANCISCO CA",504.92,"Personal",{"$f":"VLOOKUP(IF(A297=\"Yes\",\"Personal\",G297),'Vendor List'!$A:$B,2,FALSE)","v":"17000.FCF"}]
["Yes",1,"10/08/2013","XXXXX10029","SAN FRANCISCO MOSCONSAN FRANCISCO CA",567.20000000000005,"Personal",{"$f":"VLOOKUP(IF(A298=\"Yes\",\"Personal\",G298),'Vendor List'!$A:$B,2,FALSE)","v":"17000.FCF"}]
[null,1,"10/09/2013","XXXXX10030","ADVANCED VETERINARY SALT LAKE CIT UT",92,"ADVANCED VET",{"$f":"VLOOKUP(IF(A299=\"Yes\",\"Personal\",G299),'Vendor List'!$A:$B,2,FALSE)","v":"17000.FCF"}]
[null,1,"10/09/2013","XXXXX10031","CHEVRON HOLIDAY OIL SALT LAKE CITY UT",9.27,"CHEVRON",{"$f":"VLOOKUP(IF(A300=\"Yes\",\"Personal\",G300),'Vendor List'!$A:$B,2,FALSE)","v":"40500.FCF"}]
[null,1,"10/09/2013","XXXXX10032","CHEVRON HOLIDAY OIL SANDY UT",15,"CHEVRON",{"$f":"VLOOKUP(IF(A301=\"Yes\",\"Personal\",G301),'Vendor List'!$A:$B,2,FALSE)","v":"40500.FCF"}]
[null,1,"10/10/2013","XXXXX10033","7-ELEVEN 26282 00072SALT LAKE CITY UT",15.23,"7-ELEVEN",{"$f":"VLOOKUP(IF(A302=\"Yes\",\"Personal\",G302),'Vendor List'!$A:$B,2,FALSE)","v":"40500.FCF"}]
[null,1,"10/10/2013","XXXXX10034","ADVANCED VETERINARY SALT LAKE CIT UT",345.5,"ADVANCED VET",{"$f":"VLOOKUP(IF(A303=\"Yes\",\"Personal\",G303),'Vendor List'!$A:$B,2,FALSE)","v":"17000.FCF"}]
[null,1,"10/10/2013","XXXXX10035","CHEVRON K & H ENTERPSALT LAKE CITY UT",15.06,"CHEVRON",{"$f":"VLOOKUP(IF(A304=\"Yes\",\"Personal\",G304),'Vendor List'!$A:$B,2,FALSE)","v":"40500.FCF"}]
[null,1,"10/10/2013","XXXXX10036","FOREIGN TRANSACTION FEE",0.3,"Finance Charges",{"$f":"VLOOKUP(IF(A305=\"Yes\",\"Personal\",G305),'Vendor List'!$A:$B,2,FALSE)","v":"60450.FCF"}]
[null,1,"10/10/2013","XXXXX10037","Interest Charge on Purchases",162.32,"Interest Charged",{"$f":"VLOOKUP(IF(A306=\"Yes\",\"Personal\",G306),'Vendor List'!$A:$B,2,FALSE)","v":"65300.FCF"}]
[null,1,"10/10/2013","XXXXX10038","MCDONALD'S F6408 000SALT LAKE CI UT",7.31,"MCDONALD'S",{"$f":"VLOOKUP(IF(A307=\"Yes\",\"Personal\",G307),'Vendor List'!$A:$B,2,FALSE)","v":"60800.FCF"}]
["Yes",1,"10/10/2013","XXXXX10039","PAYPAL *GSS666 4029357733 GB",11.18,"Personal",{"$f":"VLOOKUP(IF(A308=\"Yes\",\"Personal\",G308),'Vendor List'!$A:$B,2,FALSE)","v":"17000.FCF"}]
[null,1,"10/11/2013","XXXXX10040","7-ELEVEN 26999 00072SALT LAKE CITY UT",3.07,"7-ELEVEN",{"$f":"VLOOKUP(IF(A309=\"Yes\",\"Personal\",G309),'Vendor List'!$A:$B,2,FALSE)","v":"40500.FCF"}]
["Yes",1,"10/11/2013","XXXXX10041","ALPHAGRAPHICS 026 ALSALT LAKE CITY UT",13.36,"Personal",{"$f":"VLOOKUP(IF(A310=\"Yes\",\"Personal\",G310),'Vendor List'!$A:$B,2,FALSE)","v":"17000.FCF"}]
[null,1,"10/11/2013","XXXXX10042","DAN'S OLYMPUS 000000SALT LAKE CITY UT",40.159999999999997,"DAN'S FOOD",{"$f":"VLOOKUP(IF(A311=\"Yes\",\"Personal\",G311),'Vendor List'!$A:$B,2,FALSE)","v":"60800.FCF"}]
[null,1,"10/11/2013","XXXXX10043","DELTA AIR LINES ATLANTA",25,"DELTA AIRLINES",{"$f":"VLOOKUP(IF(A312=\"Yes\",\"Personal\",G312),'Vendor List'!$A:$B,2,FALSE)","v":"12105.FCF"}]
[null,1,"10/11/2013","XXXXX10044","DUNKIN #351617 QSALT LAKE CTY UT",9.6999999999999993,"DUNKIN Donuts",{"$f":"VLOOKUP(IF(A313=\"Yes\",\"Personal\",G313),'Vendor List'!$A:$B,2,FALSE)","v":"60800.FCF"}]
[null,1,"10/11/2013","XXXXX10045","OLYMPUS HILLS SERVICSALT LAKE CITY UT",15.03,"OLYMPUS HILLS SERVICE",{"$f":"VLOOKUP(IF(A314=\"Yes\",\"Personal\",G314),'Vendor List'!$A:$B,2,FALSE)","v":"40500.FCF"}]
[null,1,"10/11/2013","XXXXX10046","SUPERIOR PAINT SUPPLSALT LAKE CITY UT",33.1,"SUPERIOR PAINT",{"$f":"VLOOKUP(IF(A315=\"Yes\",\"Personal\",G315),'Vendor List'!$A:$B,2,FALSE)","v":"72300.FCF"}]
[null,1,"10/11/2013","XXXXX10047","VICTORS TIRES INC VISALT LAKE CITY UT",40,"VICTORS TIRES",{"$f":"VLOOKUP(IF(A316=\"Yes\",\"Personal\",G316),'Vendor List'!$A:$B,2,FALSE)","v":"12105.FCF"}]
[null,1,"10/12/2013","XXXXX10048","ADVANCED VETERINARY SALT LAKE CIT UT",1300,"ADVANCED VET",{"$f":"VLOOKUP(IF(A317=\"Yes\",\"Personal\",G317),'Vendor List'!$A:$B,2,FALSE)","v":"17000.FCF"}]
[null,1,"10/12/2013","XXXXX10049","COMCAST CABLE COMM 800-COMCAST UT",121.35,"COMCAST",{"$f":"VLOOKUP(IF(A318=\"Yes\",\"Personal\",G318),'Vendor List'!$A:$B,2,FALSE)","v":"17000.FCF"}]
[null,1,"10/12/2013","XXXXX10050","PETSMART INC 1007 SANDY UT",20.8,"PETSMART",{"$f":"VLOOKUP(IF(A319=\"Yes\",\"Personal\",G319),'Vendor List'!$A:$B,2,FALSE)","v":"17000.FCF"}]
[null,1,"10/13/2013","XXXXX10051","ADVANCED VETERINARY SALT LAKE CIT UT",800,"ADVANCED VET",{"$f":"VLOOKUP(IF(A320=\"Yes\",\"Personal\",G320),'Vendor List'!$A:$B,2,FALSE)","v":"17000.FCF"}]
[null,1,"10/13/2013","XXXXX10052","CHEVRON CALIFORNIA PROSEVILLE CA",35.57,"CHEVRON",{"$f":"VLOOKUP(IF(A321=\"Yes\",\"Personal\",G321),'Vendor List'!$A:$B,2,FALSE)","v":"40500.FCF"}]
[null,1,"10/13/2013","XXXXX10053","CHEVRON HOLIDAY OIL SOUTH JORDAN UT",15.1,"CHEVRON",{"$f":"VLOOKUP(IF(A322=\"Yes\",\"Personal\",G322),'Vendor List'!$A:$B,2,FALSE)","v":"40500.FCF"}]
[null,1,"10/13/2013","XXXXX10054","CLIFT HOTEL SAN FRANCISCO CA",92.19,"HOTELS.COM",{"$f":"VLOOKUP(IF(A323=\"Yes\",\"Personal\",G323),'Vendor List'!$A:$B,2,FALSE)","v":"72900.FCF"}]
[null,1,"10/14/2013","XXXXX10055","CHEVRON JFS #136 020SPARKS NV",35.840000000000003,"CHEVRON",{"$f":"VLOOKUP(IF(A324=\"Yes\",\"Personal\",G324),'Vendor List'!$A:$B,2,FALSE)","v":"40500.FCF"}]
[null,1,"10/14/2013","XXXXX10056","CHEVRON JFS #136 020SPARKS NV",40.76,"CHEVRON",{"$f":"VLOOKUP(IF(A325=\"Yes\",\"Personal\",G325),'Vendor List'!$A:$B,2,FALSE)","v":"40500.FCF"}]
[null,1,"10/14/2013","XXXXX10057","HERTZ CAR RENTAL 800-654-4173 CA",184.51,"HERTZ",{"$f":"VLOOKUP(IF(A326=\"Yes\",\"Personal\",G326),'Vendor List'!$A:$B,2,FALSE)","v":"72900.FCF"}]
[null,1,"10/14/2013","XXXXX10058","MCDONALD'S F19926 00SPARKS NV",29.86,"MCDONALD'S",{"$f":"VLOOKUP(IF(A327=\"Yes\",\"Personal\",G327),'Vendor List'!$A:$B,2,FALSE)","v":"60800.FCF"}]
[null,1,"10/14/2013","XXXXX10059","OLYMPUS HILLS SERVICSALT LAKE CITY UT",20,"OLYMPUS HILLS SERVICE",{"$f":"VLOOKUP(IF(A328=\"Yes\",\"Personal\",G328),'Vendor List'!$A:$B,2,FALSE)","v":"40500.FCF"}]
[null,1,"10/14/2013","XXXXX10060","SMITHS-FUEL #9388 Q78666111979",27.54,"SMITHS FUEL",{"$f":"VLOOKUP(IF(A329=\"Yes\",\"Personal\",G329),'Vendor List'!$A:$B,2,FALSE)","v":"40500.FCF"}]
[null,1,"10/14/2013","XXXXX10061","SMITHS-FUEL #9388 Q78666111979",102.09,"SMITHS FUEL",{"$f":"VLOOKUP(IF(A330=\"Yes\",\"Personal\",G330),'Vendor List'!$A:$B,2,FALSE)","v":"40500.FCF"}]
[null,1,"10/14/2013","XXXXX10062","THUNDER VALLEY RESORLINCOLN CA",161.87,"THUNDER VALLEY RESORT",{"$f":"VLOOKUP(IF(A331=\"Yes\",\"Personal\",G331),'Vendor List'!$A:$B,2,FALSE)","v":"60800.FCF"}]
["Yes",1,"10/14/2013","XXXXX10063","TOWER MART #141 0000ROCKLIN CA",12.93,"Personal",{"$f":"VLOOKUP(IF(A332=\"Yes\",\"Personal\",G332),'Vendor List'!$A:$B,2,FALSE)","v":"17000.FCF"}]
["Yes",1,"10/14/2013","XXXXX10064","TOWER MART #141 0000ROCKLIN CA",92.52,"Personal",{"$f":"VLOOKUP(IF(A333=\"Yes\",\"Personal\",G333),'Vendor List'!$A:$B,2,FALSE)","v":"17000.FCF"}]
["Yes",1,"10/14/2013","XXXXX10065","TOWER MART #141 0000ROCKLIN CA",99.34,"Personal",{"$f":"VLOOKUP(IF(A334=\"Yes\",\"Personal\",G334),'Vendor List'!$A:$B,2,FALSE)","v":"17000.FCF"}]
[null,1,"10/15/2013","XXXXX10066","7-ELEVEN 26999 00072SALT LAKE CITY UT",10.119999999999999,"7-ELEVEN",{"$f":"VLOOKUP(IF(A335=\"Yes\",\"Personal\",G335),'Vendor List'!$A:$B,2,FALSE)","v":"40500.FCF"}]
[null,1,"10/15/2013","XXXXX10067","ADVANCED VETERINARY SALT LAKE CIT UT",464.25,"ADVANCED VET",{"$f":"VLOOKUP(IF(A336=\"Yes\",\"Personal\",G336),'Vendor List'!$A:$B,2,FALSE)","v":"17000.FCF"}]
[null,1,"10/15/2013","XXXXX10068","HOLIDAY OIL #07 0000DRAPER UT",45.18,"HOLIDAY OIL",{"$f":"VLOOKUP(IF(A337=\"Yes\",\"Personal\",G337),'Vendor List'!$A:$B,2,FALSE)","v":"40500.FCF"}]
[null,1,"10/15/2013","XXXXX10069","VICTORS TIRES INC VISALT LAKE CITY UT",105,"VICTORS TIRES",{"$f":"VLOOKUP(IF(A338=\"Yes\",\"Personal\",G338),'Vendor List'!$A:$B,2,FALSE)","v":"12105.FCF"}]
[null,1,"10/16/2013","XXXXX10070","ACE HARDWARE AT OLYSALT LAKE CIT UT",42.7,"ACE HARDWARE",{"$f":"VLOOKUP(IF(A339=\"Yes\",\"Personal\",G339),'Vendor List'!$A:$B,2,FALSE)","v":"70000.FCF"}]
[null,1,"10/17/2013","XXXXX10071","CHEVRON K & H ENTERPSALT LAKE CITY UT",9.99,"CHEVRON",{"$f":"VLOOKUP(IF(A340=\"Yes\",\"Personal\",G340),'Vendor List'!$A:$B,2,FALSE)","v":"40500.FCF"}]
["Yes",1,"10/17/2013","XXXXX10072","ORECK SALT LAKE CIT UT",138.9,"Personal",{"$f":"VLOOKUP(IF(A341=\"Yes\",\"Personal\",G341),'Vendor List'!$A:$B,2,FALSE)","v":"17000.FCF"}]
[null,1,"10/17/2013","XXXXX10073","PAYPAL *PARTSPROS 4029357733 CA",19.989999999999998,"Auto Parts",{"$f":"VLOOKUP(IF(A342=\"Yes\",\"Personal\",G342),'Vendor List'!$A:$B,2,FALSE)","v":"12105.FCF"}]
[null,1,"10/17/2013","XXXXX10074","THE JANITORS CLOSET 801-532-3812",17.77,"JANITOR'S CLOSET",{"$f":"VLOOKUP(IF(A343=\"Yes\",\"Personal\",G343),'Vendor List'!$A:$B,2,FALSE)","v":"72300.FCF"}]
[null,1,"10/18/2013","XXXXX10075","7-ELEVEN 26282 00072SALT LAKE CITY UT",15.17,"7-ELEVEN",{"$f":"VLOOKUP(IF(A344=\"Yes\",\"Personal\",G344),'Vendor List'!$A:$B,2,FALSE)","v":"40500.FCF"}]
[null,1,"10/18/2013","XXXXX10076","7-ELEVEN 26999 00072SALT LAKE CITY UT",3.07,"7-ELEVEN",{"$f":"VLOOKUP(IF(A345=\"Yes\",\"Personal\",G345),'Vendor List'!$A:$B,2,FALSE)","v":"40500.FCF"}]
[null,1,"10/18/2013","XXXXX10077","GROVE MARKET DELI, I801-467-8860",59.51,"MCDONALD'S",{"$f":"VLOOKUP(IF(A346=\"Yes\",\"Personal\",G346),'Vendor List'!$A:$B,2,FALSE)","v":"60800.FCF"}]
[null,1,"10/18/2013","XXXXX10078","MCDONALD'S F6396 000SALT LAKE CI UT",18.7,"MCDONALD'S",{"$f":"VLOOKUP(IF(A347=\"Yes\",\"Personal\",G347),'Vendor List'!$A:$B,2,FALSE)","v":"60800.FCF"}]
[null,1,"10/18/2013","XXXXX10079","OLYMPUS HILLS SERVICSALT LAKE CITY UT",15.01,"OLYMPUS HILLS SERVICE",{"$f":"VLOOKUP(IF(A348=\"Yes\",\"Personal\",G348),'Vendor List'!$A:$B,2,FALSE)","v":"40500.FCF"}]
[null,1,"10/18/2013","XXXXX10080","PAYPAL *LKQ ONLINE 4029357733 CA",76.62,"Auto Parts",{"$f":"VLOOKUP(IF(A349=\"Yes\",\"Personal\",G349),'Vendor List'!$A:$B,2,FALSE)","v":"12105.FCF"}]
["Yes",1,"10/18/2013","XXXXX10081","PAYPAL *MAMAANDTANY 4029357733 CA",38,"Personal",{"$f":"VLOOKUP(IF(A350=\"Yes\",\"Personal\",G350),'Vendor List'!$A:$B,2,FALSE)","v":"17000.FCF"}]
["Yes",1,"10/18/2013","XXXXX10082","PAYPAL *MISSYMARTIN 4029357733 CA",24.99,"Personal",{"$f":"VLOOKUP(IF(A351=\"Yes\",\"Personal\",G351),'Vendor List'!$A:$B,2,FALSE)","v":"17000.FCF"}]
[null,1,"10/18/2013","XXXXX10083","THE HOME DEPOT 4403 SALT LAKE CIT UT",6.91,"THE HOME DEPOT",{"$f":"VLOOKUP(IF(A352=\"Yes\",\"Personal\",G352),'Vendor List'!$A:$B,2,FALSE)","v":"72300.FCF"}]
[null,1,"10/19/2013","XXXXX10084","7-ELEVEN 36754 00073LEHI UT",19.989999999999998,"7-ELEVEN",{"$f":"VLOOKUP(IF(A353=\"Yes\",\"Personal\",G353),'Vendor List'!$A:$B,2,FALSE)","v":"40500.FCF"}]
[null,1,"10/19/2013","XXXXX10085","DIRECTV SERVICE 800-347-3288 CA",330.09,"DIRECTV",{"$f":"VLOOKUP(IF(A354=\"Yes\",\"Personal\",G354),'Vendor List'!$A:$B,2,FALSE)","v":"70000.FCF"}]
[null,1,"10/19/2013","XXXXX10086","PAYPAL *ENFOTRACEGP 4029357733 CA",14.95,"EnfoTrace",{"$f":"VLOOKUP(IF(A355=\"Yes\",\"Personal\",G355),'Vendor List'!$A:$B,2,FALSE)","v":"12105.FCF"}]
[null,1,"10/19/2013","XXXXX10087","PAYPAL *ENFOTRACEGP 4029357733 CA",79.8,"EnfoTrace",{"$f":"VLOOKUP(IF(A356=\"Yes\",\"Personal\",G356),'Vendor List'!$A:$B,2,FALSE)","v":"12105.FCF"}]
[null,1,"10/19/2013","XXXXX10088","PAYPAL *ENFOTRACEGP 4029357733 CA",159.6,"EnfoTrace",{"$f":"VLOOKUP(IF(A357=\"Yes\",\"Personal\",G357),'Vendor List'!$A:$B,2,FALSE)","v":"12105.FCF"}]
[null,1,"10/21/2013","XXXXX10089","7-ELEVEN 26999 00072SALT LAKE CITY UT",6.45,"7-ELEVEN",{"$f":"VLOOKUP(IF(A358=\"Yes\",\"Personal\",G358),'Vendor List'!$A:$B,2,FALSE)","v":"40500.FCF"}]
[null,1,"10/21/2013","XXXXX10090","7-ELEVEN 26999 00072SALT LAKE CITY UT",14.76,"7-ELEVEN",{"$f":"VLOOKUP(IF(A359=\"Yes\",\"Personal\",G359),'Vendor List'!$A:$B,2,FALSE)","v":"40500.FCF"}]
[null,1,"10/21/2013","XXXXX10091","7-ELEVEN 26999 00072SALT LAKE CITY UT",15.03,"7-ELEVEN",{"$f":"VLOOKUP(IF(A360=\"Yes\",\"Personal\",G360),'Vendor List'!$A:$B,2,FALSE)","v":"40500.FCF"}]
[null,1,"10/21/2013","XXXXX10092","KJZZ 0054 SALT LAKE CIT UT",2720,"KJZZ",{"$f":"VLOOKUP(IF(A361=\"Yes\",\"Personal\",G361),'Vendor List'!$A:$B,2,FALSE)","v":"70700.FCF"}]
[null,1,"10/21/2013","XXXXX10093","KSL.COMDESERETDIGMEDSALT LAKE CIT UT",599,"KSL.COM",{"$f":"VLOOKUP(IF(A362=\"Yes\",\"Personal\",G362),'Vendor List'!$A:$B,2,FALSE)","v":"70700.FCF"}]
[null,1,"10/21/2013","XXXXX10094","SEARS ROEBUCK 01118 SALT LAKE CIT UT",4.12,"SEARS ROEBUCK",{"$f":"VLOOKUP(IF(A363=\"Yes\",\"Personal\",G363),'Vendor List'!$A:$B,2,FALSE)","v":"12105.FCF"}]
[null,1,"10/22/2013","XXXXX10095","CHEVRON K & H ENTERPSALT LAKE CITY UT",45.46,"CHEVRON",{"$f":"VLOOKUP(IF(A364=\"Yes\",\"Personal\",G364),'Vendor List'!$A:$B,2,FALSE)","v":"40500.FCF"}]
[null,1,"10/22/2013","XXXXX10096","EVCO HOUSE OF HOSE CORAOPOLIS PA",93.59,"EVCO",{"$f":"VLOOKUP(IF(A365=\"Yes\",\"Personal\",G365),'Vendor List'!$A:$B,2,FALSE)","v":"12105.FCF"}]
[null,1,"10/22/2013","XXXXX10097","MES*GLEN'S LOCK & KESALT LAKE CIT UT",4.95,"Glen's Lock & Key",{"$f":"VLOOKUP(IF(A366=\"Yes\",\"Personal\",G366),'Vendor List'!$A:$B,2,FALSE)","v":"12105.FCF"}]
[null,1,"10/23/2013","XXXXX10098","7-ELEVEN 26282 00072SALT LAKE CITY UT",10.93,"7-ELEVEN",{"$f":"VLOOKUP(IF(A367=\"Yes\",\"Personal\",G367),'Vendor List'!$A:$B,2,FALSE)","v":"40500.FCF"}]
[null,1,"10/23/2013","XXXXX10099","OLYMPUS HILLS SERVICSALT LAKE CITY UT",20.02,"OLYMPUS HILLS SERVICE",{"$f":"VLOOKUP(IF(A368=\"Yes\",\"Personal\",G368),'Vendor List'!$A:$B,2,FALSE)","v":"40500.FCF"}]
[null,1,"10/24/2013","XXXXX10100","7-ELEVEN 26282 00072SALT LAKE CITY UT",10.96,"7-ELEVEN",{"$f":"VLOOKUP(IF(A369=\"Yes\",\"Personal\",G369),'Vendor List'!$A:$B,2,FALSE)","v":"40500.FCF"}]
[null,1,"10/24/2013","XXXXX10101","7-ELEVEN 26282 00072SALT LAKE CITY UT",15.08,"7-ELEVEN",{"$f":"VLOOKUP(IF(A370=\"Yes\",\"Personal\",G370),'Vendor List'!$A:$B,2,FALSE)","v":"40500.FCF"}]
[null,1,"10/24/2013","XXXXX10102","GAY USA PAGES 542929ALTAMONTE SPR FL",99,"GAY USA PAGES",{"$f":"VLOOKUP(IF(A371=\"Yes\",\"Personal\",G371),'Vendor List'!$A:$B,2,FALSE)","v":"50200.FCF"}]
[null,1,"10/25/2013","XXXXX10103","MCDONALD'S F6396 000SALT LAKE CI UT",23.88,"MCDONALD'S",{"$f":"VLOOKUP(IF(A372=\"Yes\",\"Personal\",G372),'Vendor List'!$A:$B,2,FALSE)","v":"60800.FCF"}]
[null,1,"10/25/2013","XXXXX10104","OLYMPUS HILLS SERVICSALT LAKE CITY UT",20.05,"OLYMPUS HILLS SERVICE",{"$f":"VLOOKUP(IF(A373=\"Yes\",\"Personal\",G373),'Vendor List'!$A:$B,2,FALSE)","v":"40500.FCF"}]
[null,1,"10/26/2013","XXXXX10105","7-ELEVEN 26999 00072SALT LAKE CITY UT",10.84,"7-ELEVEN",{"$f":"VLOOKUP(IF(A374=\"Yes\",\"Personal\",G374),'Vendor List'!$A:$B,2,FALSE)","v":"40500.FCF"}]
[null,1,"10/26/2013","XXXXX10106","FEDEX OFFICE #2401 0SALT LAKE CITY UT",11.11,"FED EX",{"$f":"VLOOKUP(IF(A375=\"Yes\",\"Personal\",G375),'Vendor List'!$A:$B,2,FALSE)","v":"70500.FCF"}]
[null,1,"10/26/2013","XXXXX10107","VICTORS TIRES INC VISALT LAKE CITY UT",35,"VICTORS TIRES",{"$f":"VLOOKUP(IF(A376=\"Yes\",\"Personal\",G376),'Vendor List'!$A:$B,2,FALSE)","v":"12105.FCF"}]
[null,1,"10/27/2013","XXXXX10108","HOLIDAY OIL #07 0000DRAPER UT",45.17,"HOLIDAY OIL",{"$f":"VLOOKUP(IF(A377=\"Yes\",\"Personal\",G377),'Vendor List'!$A:$B,2,FALSE)","v":"40500.FCF"}]
[null,1,"10/27/2013","XXXXX10109","WWW.GOTOMYPC.COM SERVICE/SW",21.32,"gotomypc.com",{"$f":"VLOOKUP(IF(A378=\"Yes\",\"Personal\",G378),'Vendor List'!$A:$B,2,FALSE)","v":"60700.FCF"}]
[null,1,"10/28/2013","XXXXX10110","CHEVRON HOLIDAY OIL SALT LAKE CITY UT",7.24,"CHEVRON",{"$f":"VLOOKUP(IF(A379=\"Yes\",\"Personal\",G379),'Vendor List'!$A:$B,2,FALSE)","v":"40500.FCF"}]
[null,1,"10/28/2013","XXXXX10111","VICTORS TIRES INC VISALT LAKE CITY UT",280,"VICTORS TIRES",{"$f":"VLOOKUP(IF(A380=\"Yes\",\"Personal\",G380),'Vendor List'!$A:$B,2,FALSE)","v":"12105.FCF"}]
[null,1,"10/29/2013","XXXXX10112","SUPERIOR PAINT SUPPLSALT LAKE CITY UT",6.22,"SUPERIOR PAINT",{"$f":"VLOOKUP(IF(A381=\"Yes\",\"Personal\",G381),'Vendor List'!$A:$B,2,FALSE)","v":"72300.FCF"}]
[null,1,"10/30/2013","XXXXX10113","7-ELEVEN 26282 00072SALT LAKE CITY UT",10.99,"7-ELEVEN",{"$f":"VLOOKUP(IF(A382=\"Yes\",\"Personal\",G382),'Vendor List'!$A:$B,2,FALSE)","v":"40500.FCF"}]
[null,1,"10/30/2013","XXXXX10114","7-ELEVEN 26999 00072SALT LAKE CITY UT",8.07,"7-ELEVEN",{"$f":"VLOOKUP(IF(A383=\"Yes\",\"Personal\",G383),'Vendor List'!$A:$B,2,FALSE)","v":"40500.FCF"}]
[null,1,"10/30/2013","XXXXX10115","CHEVRON HOLIDAY OIL SALT LAKE CITY UT",5.99,"CHEVRON",{"$f":"VLOOKUP(IF(A384=\"Yes\",\"Personal\",G384),'Vendor List'!$A:$B,2,FALSE)","v":"40500.FCF"}]
["Yes",1,"10/30/2013","XXXXX10116","MICHAELS 5718 DRAPER UT",12.53,"Personal",{"$f":"VLOOKUP(IF(A385=\"Yes\",\"Personal\",G385),'Vendor List'!$A:$B,2,FALSE)","v":"17000.FCF"}]
[null,1,"10/30/2013","XXXXX10117","OLYMPUS HILLS SERVICSALT LAKE CITY UT",15.06,"OLYMPUS HILLS SERVICE",{"$f":"VLOOKUP(IF(A386=\"Yes\",\"Personal\",G386),'Vendor List'!$A:$B,2,FALSE)","v":"40500.FCF"}]
[null,1,"10/30/2013","XXXXX10118","PAYPAL *EKUS PARTS 4029357733 CA",34.770000000000003,"Auto Parts",{"$f":"VLOOKUP(IF(A387=\"Yes\",\"Personal\",G387),'Vendor List'!$A:$B,2,FALSE)","v":"12105.FCF"}]
[null,1,"10/30/2013","XXXXX10119","SMITHS FOOD #4132 008666111979",19.18,"SMITHS FOOD",{"$f":"VLOOKUP(IF(A388=\"Yes\",\"Personal\",G388),'Vendor List'!$A:$B,2,FALSE)","v":"70000.FCF"}]
[null,1,"10/30/2013","XXXXX10120","SMITHS FOOD #4132 008666111979",81.069999999999993,"SMITHS FOOD",{"$f":"VLOOKUP(IF(A389=\"Yes\",\"Personal\",G389),'Vendor List'!$A:$B,2,FALSE)","v":"70000.FCF"}]
["Yes",1,"10/30/2013","XXXXX10121","THE SWEET TOOTH FAIRDRAPER UT",1.07,"Personal",{"$f":"VLOOKUP(IF(A390=\"Yes\",\"Personal\",G390),'Vendor List'!$A:$B,2,FALSE)","v":"17000.FCF"}]
["Yes",1,"10/30/2013","XXXXX10122","THE SWEET TOOTH FAIRDRAPER UT",1.07,"Personal",{"$f":"VLOOKUP(IF(A391=\"Yes\",\"Personal\",G391),'Vendor List'!$A:$B,2,FALSE)","v":"17000.FCF"}]
["Yes",1,"10/31/2013","XXXXX10123","GABP/S & J/PWE / DPSHOUSTON TX",178.99,"Personal",{"$f":"VLOOKUP(IF(A392=\"Yes\",\"Personal\",G392),'Vendor List'!$A:$B,2,FALSE)","v":"17000.FCF"}]
["Yes",1,"10/31/2013","XXXXX10124","WAL-MART SUPERCENTERSALT LAKE CITY UT",22.72,"Personal",{"$f":"VLOOKUP(IF(A393=\"Yes\",\"Personal\",G393),'Vendor List'!$A:$B,2,FALSE)","v":"17000.FCF"}]
[null,5,"2013-10-31","XXXXX10~JE","AMEX XXXXX Payable",{"$f":"SUM($F$270:$F$393)","v":13975.250000000004},"Amex 48004 Payable",{"$f":"VLOOKUP(IF(A394=\"Yes\",\"Personal\",G394),'Vendor List'!$A:$B,2,FALSE)","v":"24059.FCF"}]
[null,1,"11/01/2013","XXXXX11001","7-ELEVEN 26282 00072SALT LAKE CITY UT",12.03,"7-ELEVEN",{"$f":"VLOOKUP(IF(A395=\"Yes\",\"Personal\",G395),'Vendor List'!$A:$B,2,FALSE)","v":"40500.FCF"}]
[null,1,"11/01/2013","XXXXX11002","7-ELEVEN 26999 00072SALT LAKE CITY UT",15.05,"7-ELEVEN",{"$f":"VLOOKUP(IF(A396=\"Yes\",\"Personal\",G396),'Vendor List'!$A:$B,2,FALSE)","v":"40500.FCF"}]
[null,1,"11/01/2013","XXXXX11003","DELTA AIR LINES ATLANTA",110.1,"DELTA AIRLINES",{"$f":"VLOOKUP(IF(A397=\"Yes\",\"Personal\",G397),'Vendor List'!$A:$B,2,FALSE)","v":"12105.FCF"}]
[null,1,"11/01/2013","XXXXX11004","GREAT HARVEST BREAD SALT LAKE CITY UT",16.5,"GREAT HARVEST",{"$f":"VLOOKUP(IF(A398=\"Yes\",\"Personal\",G398),'Vendor List'!$A:$B,2,FALSE)","v":"60800.FCF"}]
[null,1,"11/01/2013","XXXXX11005","MES*GLEN'S LOCK & KESALT LAKE CIT UT",79,"Glen's Lock & Key",{"$f":"VLOOKUP(IF(A399=\"Yes\",\"Personal\",G399),'Vendor List'!$A:$B,2,FALSE)","v":"12105.FCF"}]
[null,1,"11/01/2013","XXXXX11006","Verizon Wrls 15259-08009220204",406.01,"Verizon",{"$f":"VLOOKUP(IF(A400=\"Yes\",\"Personal\",G400),'Vendor List'!$A:$B,2,FALSE)","v":"72800.FCF"}]
[null,1,"11/02/2013","XXXXX11007","7-ELEVEN 26999 00072SALT LAKE CITY UT",9.1199999999999992,"7-ELEVEN",{"$f":"VLOOKUP(IF(A401=\"Yes\",\"Personal\",G401),'Vendor List'!$A:$B,2,FALSE)","v":"40500.FCF"}]
[null,1,"11/02/2013","XXXXX11008","OLYMPUS HILLS SERVICSALT LAKE CITY UT",15.08,"OLYMPUS HILLS SERVICE",{"$f":"VLOOKUP(IF(A402=\"Yes\",\"Personal\",G402),'Vendor List'!$A:$B,2,FALSE)","v":"40500.FCF"}]
[null,1,"11/03/2013","XXXXX11009","CHEVRON HOLIDAY OIL SALT LAKE CITY UT",20.03,"CHEVRON",{"$f":"VLOOKUP(IF(A403=\"Yes\",\"Personal\",G403),'Vendor List'!$A:$B,2,FALSE)","v":"40500.FCF"}]
[null,1,"11/03/2013","XXXXX11010","DELTA AIR LINES ATLANTA",192.9,"DELTA AIRLINES",{"$f":"VLOOKUP(IF(A404=\"Yes\",\"Personal\",G404),'Vendor List'!$A:$B,2,FALSE)","v":"12105.FCF"}]
[null,1,"11/03/2013","XXXXX11011","DELTA AIR LINES ATLANTA",201,"DELTA AIRLINES",{"$f":"VLOOKUP(IF(A405=\"Yes\",\"Personal\",G405),'Vendor List'!$A:$B,2,FALSE)","v":"12105.FCF"}]
[null,1,"11/04/2013","XXXXX11012","7-ELEVEN 26999 00072SALT LAKE CITY UT",20.059999999999999,"7-ELEVEN",{"$f":"VLOOKUP(IF(A406=\"Yes\",\"Personal\",G406),'Vendor List'!$A:$B,2,FALSE)","v":"40500.FCF"}]
[null,1,"11/04/2013","XXXXX11013","CHEVRON K & H ENTERPSALT LAKE CITY UT",7,"CHEVRON",{"$f":"VLOOKUP(IF(A407=\"Yes\",\"Personal\",G407),'Vendor List'!$A:$B,2,FALSE)","v":"40500.FCF"}]
[null,1,"11/04/2013","XXXXX11014","CHEVRON K & H ENTERPSALT LAKE CITY UT",46.23,"CHEVRON",{"$f":"VLOOKUP(IF(A408=\"Yes\",\"Personal\",G408),'Vendor List'!$A:$B,2,FALSE)","v":"40500.FCF"}]
[null,1,"11/04/2013","XXXXX11015","PAYPAL *HUBCAPKINGD 4029357733 CA",18.95,"Auto Parts",{"$f":"VLOOKUP(IF(A409=\"Yes\",\"Personal\",G409),'Vendor List'!$A:$B,2,FALSE)","v":"12105.FCF"}]
[null,1,"11/04/2013","XXXXX11016","PAYPAL *MARTINIAUTO 4029357733 CA",15,"Auto Parts",{"$f":"VLOOKUP(IF(A410=\"Yes\",\"Personal\",G410),'Vendor List'!$A:$B,2,FALSE)","v":"12105.FCF"}]
[null,1,"11/05/2013","XXXXX11017","7-ELEVEN 26999 00072SALT LAKE CITY UT",11.17,"7-ELEVEN",{"$f":"VLOOKUP(IF(A411=\"Yes\",\"Personal\",G411),'Vendor List'!$A:$B,2,FALSE)","v":"40500.FCF"}]
[null,1,"11/05/2013","XXXXX11018","HOTELTONIGHT.COM 800-208-2949 CA",78,"HOTELS.COM",{"$f":"VLOOKUP(IF(A412=\"Yes\",\"Personal\",G412),'Vendor List'!$A:$B,2,FALSE)","v":"72900.FCF"}]
[null,1,"11/06/2013","XXXXX11019","CHEVRON HOLIDAY OIL SALT LAKE CITY UT",8.01,"CHEVRON",{"$f":"VLOOKUP(IF(A413=\"Yes\",\"Personal\",G413),'Vendor List'!$A:$B,2,FALSE)","v":"40500.FCF"}]
["Yes",1,"11/06/2013","XXXXX11020","GIGGLEPOP.COM 217-344-4922",45,"Personal",{"$f":"VLOOKUP(IF(A414=\"Yes\",\"Personal\",G414),'Vendor List'!$A:$B,2,FALSE)","v":"17000.FCF"}]
[null,1,"11/06/2013","XXXXX11021","HERTZ CAR RENTAL 800-654-4173 NV",31.84,"HERTZ",{"$f":"VLOOKUP(IF(A415=\"Yes\",\"Personal\",G415),'Vendor List'!$A:$B,2,FALSE)","v":"72900.FCF"}]
[null,1,"11/06/2013","XXXXX11022","JIMMY JOHNS 1882 884CEDAR CITY UT",22.99,"JIMMY JOHN'S",{"$f":"VLOOKUP(IF(A416=\"Yes\",\"Personal\",G416),'Vendor List'!$A:$B,2,FALSE)","v":"60800.FCF"}]
[null,1,"11/06/2013","XXXXX11023","OLYMPUS HILLS SERVICSALT LAKE CITY UT",20,"OLYMPUS HILLS SERVICE",{"$f":"VLOOKUP(IF(A417=\"Yes\",\"Personal\",G417),'Vendor List'!$A:$B,2,FALSE)","v":"40500.FCF"}]
[null,1,"11/06/2013","XXXXX11024","PAYPAL *STEVESAUTOP 4029357733 CA",79.989999999999995,"Auto Parts",{"$f":"VLOOKUP(IF(A418=\"Yes\",\"Personal\",G418),'Vendor List'!$A:$B,2,FALSE)","v":"12105.FCF"}]
[null,1,"11/06/2013","XXXXX11025","REBEL #2187 HENDERSON NV",10.24,"REBEL",{"$f":"VLOOKUP(IF(A419=\"Yes\",\"Personal\",G419),'Vendor List'!$A:$B,2,FALSE)","v":"40500.FCF"}]
[null,1,"11/06/2013","XXXXX11026","REBEL #2187 HENDERSON NV",25.38,"REBEL",{"$f":"VLOOKUP(IF(A420=\"Yes\",\"Personal\",G420),'Vendor List'!$A:$B,2,FALSE)","v":"40500.FCF"}]
[null,1,"11/06/2013","XXXXX11027","REBEL #2187 HENDERSON NV",61.21,"REBEL",{"$f":"VLOOKUP(IF(A421=\"Yes\",\"Personal\",G421),'Vendor List'!$A:$B,2,FALSE)","v":"40500.FCF"}]
[null,1,"11/06/2013","XXXXX11028","TEXACO CEDAR CITY TRCEDAR CITY UT",34.26,"TEXACO",{"$f":"VLOOKUP(IF(A422=\"Yes\",\"Personal\",G422),'Vendor List'!$A:$B,2,FALSE)","v":"40500.FCF"}]
[null,1,"11/06/2013","XXXXX11029","TEXACO CEDAR CITY TRCEDAR CITY UT",35.15,"TEXACO",{"$f":"VLOOKUP(IF(A423=\"Yes\",\"Personal\",G423),'Vendor List'!$A:$B,2,FALSE)","v":"40500.FCF"}]
["Yes",1,"11/07/2013","XXXXX11030","CLARITY SKIN LLC 300DRAPER UT",300,"Personal",{"$f":"VLOOKUP(IF(A424=\"Yes\",\"Personal\",G424),'Vendor List'!$A:$B,2,FALSE)","v":"17000.FCF"}]
[null,1,"11/07/2013","XXXXX11031","MCDONALD'S F4010 000SALT LAKE CI UT",19.34,"MCDONALD'S",{"$f":"VLOOKUP(IF(A425=\"Yes\",\"Personal\",G425),'Vendor List'!$A:$B,2,FALSE)","v":"60800.FCF"}]
[null,1,"11/07/2013","XXXXX11032","SEARS ROEBUCK 01118 SALT LAKE CIT UT",4.9800000000000004,"SEARS ROEBUCK",{"$f":"VLOOKUP(IF(A426=\"Yes\",\"Personal\",G426),'Vendor List'!$A:$B,2,FALSE)","v":"12105.FCF"}]
[null,1,"11/08/2013","XXXXX11033","Interest Charge on Purchases",187.76,"Interest Charged",{"$f":"VLOOKUP(IF(A427=\"Yes\",\"Personal\",G427),'Vendor List'!$A:$B,2,FALSE)","v":"65300.FCF"}]
[null,1,"11/08/2013","XXXXX11034","MCDONALD'S F6396 000SALT LAKE CI UT",23.88,"MCDONALD'S",{"$f":"VLOOKUP(IF(A428=\"Yes\",\"Personal\",G428),'Vendor List'!$A:$B,2,FALSE)","v":"60800.FCF"}]
[null,1,"11/08/2013","XXXXX11035","SEARS ROEBUCK 01118 SALT LAKE CIT UT",2.68,"SEARS ROEBUCK",{"$f":"VLOOKUP(IF(A429=\"Yes\",\"Personal\",G429),'Vendor List'!$A:$B,2,FALSE)","v":"12105.FCF"}]
[null,1,"11/08/2013","XXXXX11036","SMITHS FOOD #4080 008666111979",4.1100000000000003,"SMITHS FOOD",{"$f":"VLOOKUP(IF(A430=\"Yes\",\"Personal\",G430),'Vendor List'!$A:$B,2,FALSE)","v":"70000.FCF"}]
[null,1,"11/09/2013","XXXXX11037","KFC/TB #503 0480 SALT LAKE CIT UT",21.56,"KFC/TB",{"$f":"VLOOKUP(IF(A431=\"Yes\",\"Personal\",G431),'Vendor List'!$A:$B,2,FALSE)","v":"60800.FCF"}]
[null,1,"11/09/2013","XXXXX11038","OLYMPUS HILLS SERVICSALT LAKE CITY UT",20,"OLYMPUS HILLS SERVICE",{"$f":"VLOOKUP(IF(A432=\"Yes\",\"Personal\",G432),'Vendor List'!$A:$B,2,FALSE)","v":"40500.FCF"}]
[null,1,"11/09/2013","XXXXX11039","SLC INTERNATIONAL AISALT LAKE CIT UT",11,"SLC INTERNATIONAL",{"$f":"VLOOKUP(IF(A433=\"Yes\",\"Personal\",G433),'Vendor List'!$A:$B,2,FALSE)","v":"72900.FCF"}]
[null,1,"11/10/2013","XXXXX11040","DAN'S OLYMPUS 000000SALT LAKE CITY UT",42.58,"DAN'S FOOD",{"$f":"VLOOKUP(IF(A434=\"Yes\",\"Personal\",G434),'Vendor List'!$A:$B,2,FALSE)","v":"60800.FCF"}]
[null,1,"11/11/2013","XXXXX11041","COMCAST CABLE COMM 800-COMCAST UT",121.4,"COMCAST",{"$f":"VLOOKUP(IF(A435=\"Yes\",\"Personal\",G435),'Vendor List'!$A:$B,2,FALSE)","v":"17000.FCF"}]
[null,1,"11/11/2013","XXXXX11042","HERTZ CAR RENTAL 800-654-4173 CA",64.650000000000006,"HERTZ",{"$f":"VLOOKUP(IF(A436=\"Yes\",\"Personal\",G436),'Vendor List'!$A:$B,2,FALSE)","v":"72900.FCF"}]
[null,1,"11/11/2013","XXXXX11043","PAYPAL *ALLSTARAUTO 4029357733 CA",54.46,"Auto Parts",{"$f":"VLOOKUP(IF(A437=\"Yes\",\"Personal\",G437),'Vendor List'!$A:$B,2,FALSE)","v":"12105.FCF"}]
[null,1,"11/11/2013","XXXXX11044","PAYPAL *ALLSTARAUTO 4029357733 CA",79.959999999999994,"Auto Parts",{"$f":"VLOOKUP(IF(A438=\"Yes\",\"Personal\",G438),'Vendor List'!$A:$B,2,FALSE)","v":"12105.FCF"}]
[null,1,"11/11/2013","XXXXX11045","PAYPAL *AUTO PARTS 4029357733 CA",40.36,"Auto Parts",{"$f":"VLOOKUP(IF(A439=\"Yes\",\"Personal\",G439),'Vendor List'!$A:$B,2,FALSE)","v":"12105.FCF"}]
["Yes",1,"11/11/2013","XXXXX11046","PAYPAL *BRADWEIST 4029357733 CA",22.85,"Personal",{"$f":"VLOOKUP(IF(A440=\"Yes\",\"Personal\",G440),'Vendor List'!$A:$B,2,FALSE)","v":"17000.FCF"}]
["Yes",1,"11/11/2013","XXXXX11047","PAYPAL *FUNDAMENTAL 4029357733 CA",16.989999999999998,"Personal",{"$f":"VLOOKUP(IF(A441=\"Yes\",\"Personal\",G441),'Vendor List'!$A:$B,2,FALSE)","v":"17000.FCF"}]
[null,1,"11/11/2013","XXXXX11048","PAYPAL *TASCAAUTOMO 4029357733 CA",111.15,"Auto Parts",{"$f":"VLOOKUP(IF(A442=\"Yes\",\"Personal\",G442),'Vendor List'!$A:$B,2,FALSE)","v":"12105.FCF"}]
["Yes",1,"11/11/2013","XXXXX11049","PAYPAL *WOLF12345WO 4029357733 CA",55,"Personal",{"$f":"VLOOKUP(IF(A443=\"Yes\",\"Personal\",G443),'Vendor List'!$A:$B,2,FALSE)","v":"17000.FCF"}]
[null,1,"11/12/2013","XXXXX11050","7-ELEVEN 26999 00072SALT LAKE CITY UT",15.08,"7-ELEVEN",{"$f":"VLOOKUP(IF(A444=\"Yes\",\"Personal\",G444),'Vendor List'!$A:$B,2,FALSE)","v":"40500.FCF"}]
[null,1,"11/12/2013","XXXXX11051","DELTA AIR LINES ATLANTA",365.8,"DELTA AIRLINES",{"$f":"VLOOKUP(IF(A445=\"Yes\",\"Personal\",G445),'Vendor List'!$A:$B,2,FALSE)","v":"12105.FCF"}]
[null,1,"11/12/2013","XXXXX11052","PAYPAL *CORE GUYS 4029357733 CA",19.989999999999998,"Auto Parts",{"$f":"VLOOKUP(IF(A446=\"Yes\",\"Personal\",G446),'Vendor List'!$A:$B,2,FALSE)","v":"12105.FCF"}]
["Yes",1,"11/12/2013","XXXXX11053","PAYPAL *FUNDAMENTAL 4029357733 CA",-16.989999999999998,"Personal",{"$f":"VLOOKUP(IF(A447=\"Yes\",\"Personal\",G447),'Vendor List'!$A:$B,2,FALSE)","v":"17000.FCF"}]
[null,1,"11/13/2013","XXXXX11054","7-ELEVEN 26999 00072SALT LAKE CITY UT",10.029999999999999,"7-ELEVEN",{"$f":"VLOOKUP(IF(A448=\"Yes\",\"Personal\",G448),'Vendor List'!$A:$B,2,FALSE)","v":"40500.FCF"}]
[null,1,"11/13/2013","XXXXX11055","CHEVRON K & H ENTERPSALT LAKE CITY UT",15.03,"CHEVRON",{"$f":"VLOOKUP(IF(A449=\"Yes\",\"Personal\",G449),'Vendor List'!$A:$B,2,FALSE)","v":"40500.FCF"}]
[null,1,"11/13/2013","XXXXX11056","COLUMBUS TRAVEL BOUNTIFUL UT",50,"COLUMBUS TRAVEL",{"$f":"VLOOKUP(IF(A450=\"Yes\",\"Personal\",G450),'Vendor List'!$A:$B,2,FALSE)","v":"17000.FCF"}]
[null,1,"11/13/2013","XXXXX11057","COLUMBUS TRAVEL BOUNTIFUL UT",781.9,"COLUMBUS TRAVEL",{"$f":"VLOOKUP(IF(A451=\"Yes\",\"Personal\",G451),'Vendor List'!$A:$B,2,FALSE)","v":"17000.FCF"}]
[null,1,"11/13/2013","XXXXX11058","COLUMBUS TRAVEL BOUNTIFUL UT",781.9,"COLUMBUS TRAVEL",{"$f":"VLOOKUP(IF(A452=\"Yes\",\"Personal\",G452),'Vendor List'!$A:$B,2,FALSE)","v":"17000.FCF"}]
[null,1,"11/13/2013","XXXXX11059","MCDONALD'S F2108 000SALT LAKE CI UT",7.75,"MCDONALD'S",{"$f":"VLOOKUP(IF(A453=\"Yes\",\"Personal\",G453),'Vendor List'!$A:$B,2,FALSE)","v":"60800.FCF"}]
[null,1,"11/14/2013","XXXXX11060","CHEVRON K & H ENTERPSALT LAKE CITY UT",40.82,"CHEVRON",{"$f":"VLOOKUP(IF(A454=\"Yes\",\"Personal\",G454),'Vendor List'!$A:$B,2,FALSE)","v":"40500.FCF"}]
[null,1,"11/15/2013","XXXXX11061","DELTA AIR LINES ATLANTA",15.8,"DELTA AIRLINES",{"$f":"VLOOKUP(IF(A455=\"Yes\",\"Personal\",G455),'Vendor List'!$A:$B,2,FALSE)","v":"12105.FCF"}]
[null,1,"11/15/2013","XXXXX11062","GREAT HARVEST BREAD SALT LAKE CITY UT",13.23,"GREAT HARVEST",{"$f":"VLOOKUP(IF(A456=\"Yes\",\"Personal\",G456),'Vendor List'!$A:$B,2,FALSE)","v":"60800.FCF"}]
[null,1,"11/15/2013","XXXXX11063","SMITHS FOOD #4044 008666111979",3.9,"SMITHS FOOD",{"$f":"VLOOKUP(IF(A457=\"Yes\",\"Personal\",G457),'Vendor List'!$A:$B,2,FALSE)","v":"70000.FCF"}]
[null,1,"11/15/2013","XXXXX11064","STRONG VOLKSWAGEN 65SALT LAKE CITY UT",94.76,"STRONG VW",{"$f":"VLOOKUP(IF(A458=\"Yes\",\"Personal\",G458),'Vendor List'!$A:$B,2,FALSE)","v":"12105.FCF"}]
[null,1,"11/16/2013","XXXXX11065","7-ELEVEN 26282 00072SALT LAKE CITY UT",16.07,"7-ELEVEN",{"$f":"VLOOKUP(IF(A459=\"Yes\",\"Personal\",G459),'Vendor List'!$A:$B,2,FALSE)","v":"40500.FCF"}]
[null,1,"11/16/2013","XXXXX11066","OLYMPUS HILLS SERVICSALT LAKE CITY UT",15.01,"OLYMPUS HILLS SERVICE",{"$f":"VLOOKUP(IF(A460=\"Yes\",\"Personal\",G460),'Vendor List'!$A:$B,2,FALSE)","v":"40500.FCF"}]
[null,1,"11/18/2013","XXXXX11067","7-ELEVEN 26282 00072SALT LAKE CITY UT",10.119999999999999,"7-ELEVEN",{"$f":"VLOOKUP(IF(A461=\"Yes\",\"Personal\",G461),'Vendor List'!$A:$B,2,FALSE)","v":"40500.FCF"}]
[null,1,"11/18/2013","XXXXX11068","DAN'S OLYMPUS 000000SALT LAKE CITY UT",17.8,"DAN'S FOOD",{"$f":"VLOOKUP(IF(A462=\"Yes\",\"Personal\",G462),'Vendor List'!$A:$B,2,FALSE)","v":"60800.FCF"}]
[null,1,"11/19/2013","XXXXX11069","7-ELEVEN 26999 00072SALT LAKE CITY UT",10.1,"7-ELEVEN",{"$f":"VLOOKUP(IF(A463=\"Yes\",\"Personal\",G463),'Vendor List'!$A:$B,2,FALSE)","v":"40500.FCF"}]
[null,1,"11/19/2013","XXXXX11070","7-ELEVEN 26999 00072SALT LAKE CITY UT",15.17,"7-ELEVEN",{"$f":"VLOOKUP(IF(A464=\"Yes\",\"Personal\",G464),'Vendor List'!$A:$B,2,FALSE)","v":"40500.FCF"}]
[null,1,"11/19/2013","XXXXX11071","CHEVRON K & H ENTERPSALT LAKE CITY UT",20.03,"CHEVRON",{"$f":"VLOOKUP(IF(A465=\"Yes\",\"Personal\",G465),'Vendor List'!$A:$B,2,FALSE)","v":"40500.FCF"}]
[null,1,"11/19/2013","XXXXX11072","DIRECTV SERVICE 800-347-3288 CA",330.09,"DIRECTV",{"$f":"VLOOKUP(IF(A466=\"Yes\",\"Personal\",G466),'Vendor List'!$A:$B,2,FALSE)","v":"70000.FCF"}]
["Yes",1,"11/19/2013","XXXXX11073","PAYPAL *DAYDREAMRZ8 4029357733 CA",50,"Personal",{"$f":"VLOOKUP(IF(A467=\"Yes\",\"Personal\",G467),'Vendor List'!$A:$B,2,FALSE)","v":"17000.FCF"}]
[null,1,"11/20/2013","XXXXX11074","CHEVRON K & H ENTERPSALT LAKE CITY UT",7.13,"CHEVRON",{"$f":"VLOOKUP(IF(A468=\"Yes\",\"Personal\",G468),'Vendor List'!$A:$B,2,FALSE)","v":"40500.FCF"}]
[null,1,"11/20/2013","XXXXX11075","DELTA AIR LINES ATLANTA",-161.80000000000001,"DELTA AIRLINES",{"$f":"VLOOKUP(IF(A469=\"Yes\",\"Personal\",G469),'Vendor List'!$A:$B,2,FALSE)","v":"12105.FCF"}]
[null,1,"11/20/2013","XXXXX11076","DELTA AIR LINES ATLANTA",161.80000000000001,"DELTA AIRLINES",{"$f":"VLOOKUP(IF(A470=\"Yes\",\"Personal\",G470),'Vendor List'!$A:$B,2,FALSE)","v":"12105.FCF"}]
[null,1,"11/20/2013","XXXXX11077","DELTA AIR LINES ATLANTA",230.9,"DELTA AIRLINES",{"$f":"VLOOKUP(IF(A471=\"Yes\",\"Personal\",G471),'Vendor List'!$A:$B,2,FALSE)","v":"12105.FCF"}]
[null,1,"11/20/2013","XXXXX11078","DELTA AIR LINES ATLANTA",230.9,"DELTA AIRLINES",{"$f":"VLOOKUP(IF(A472=\"Yes\",\"Personal\",G472),'Vendor List'!$A:$B,2,FALSE)","v":"12105.FCF"}]
[null,1,"11/20/2013","XXXXX11079","HERTZ CAR RENTAL 800-654-4173 NV",56.92,"HERTZ",{"$f":"VLOOKUP(IF(A473=\"Yes\",\"Personal\",G473),'Vendor List'!$A:$B,2,FALSE)","v":"72900.FCF"}]
[null,1,"11/20/2013","XXXXX11080","KJZZ 0054 SALT LAKE CIT UT",2720,"KJZZ",{"$f":"VLOOKUP(IF(A474=\"Yes\",\"Personal\",G474),'Vendor List'!$A:$B,2,FALSE)","v":"70700.FCF"}]
[null,1,"11/20/2013","XXXXX11081","MCDONALD'S F4010 000SALT LAKE CI UT",7.33,"MCDONALD'S",{"$f":"VLOOKUP(IF(A475=\"Yes\",\"Personal\",G475),'Vendor List'!$A:$B,2,FALSE)","v":"60800.FCF"}]
[null,1,"11/20/2013","XXXXX11082","PAYPAL *BILLSMITHAU 4029357733 CA",70,"Auto Parts",{"$f":"VLOOKUP(IF(A476=\"Yes\",\"Personal\",G476),'Vendor List'!$A:$B,2,FALSE)","v":"12105.FCF"}]
["Yes",1,"11/20/2013","XXXXX11083","PAYPAL *GLENNDAGHER 4029357733 CA",249,"Personal",{"$f":"VLOOKUP(IF(A477=\"Yes\",\"Personal\",G477),'Vendor List'!$A:$B,2,FALSE)","v":"17000.FCF"}]
[null,1,"11/20/2013","XXXXX11084","TEXACO CEDAR CITY TRCEDAR CITY UT",31.23,"TEXACO",{"$f":"VLOOKUP(IF(A478=\"Yes\",\"Personal\",G478),'Vendor List'!$A:$B,2,FALSE)","v":"40500.FCF"}]
[null,1,"11/21/2013","XXXXX11085","CHEVRON HOLIDAY OIL SALT LAKE CITY UT",20.12,"CHEVRON",{"$f":"VLOOKUP(IF(A479=\"Yes\",\"Personal\",G479),'Vendor List'!$A:$B,2,FALSE)","v":"40500.FCF"}]
[null,1,"11/21/2013","XXXXX11086","DESERET DIGITAL MEDISALT LAKE CITY UT",599,"KJZZ",{"$f":"VLOOKUP(IF(A480=\"Yes\",\"Personal\",G480),'Vendor List'!$A:$B,2,FALSE)","v":"70700.FCF"}]
[null,1,"11/21/2013","XXXXX11087","MCDONALD'S F4010 000SALT LAKE CI UT",26.39,"MCDONALD'S",{"$f":"VLOOKUP(IF(A481=\"Yes\",\"Personal\",G481),'Vendor List'!$A:$B,2,FALSE)","v":"60800.FCF"}]
["Yes",1,"11/21/2013","XXXXX11088","SAN FRANCISCO 49ERS SANTA CLARA CA",2596,"Personal",{"$f":"VLOOKUP(IF(A482=\"Yes\",\"Personal\",G482),'Vendor List'!$A:$B,2,FALSE)","v":"17000.FCF"}]
[null,1,"11/21/2013","XXXXX11089","UTAH-DMV OFFICES SALT LAKE CITY UT",424.25,"DMV",{"$f":"VLOOKUP(IF(A483=\"Yes\",\"Personal\",G483),'Vendor List'!$A:$B,2,FALSE)","v":"60700.FCF"}]
[null,1,"11/22/2013","XXXXX11090","7-ELEVEN 26999 00072SALT LAKE CITY UT",15.02,"7-ELEVEN",{"$f":"VLOOKUP(IF(A484=\"Yes\",\"Personal\",G484),'Vendor List'!$A:$B,2,FALSE)","v":"40500.FCF"}]
[null,1,"11/22/2013","XXXXX11091","DAN'S OLYMPUS 000000SALT LAKE CITY UT",27.64,"DAN'S FOOD",{"$f":"VLOOKUP(IF(A485=\"Yes\",\"Personal\",G485),'Vendor List'!$A:$B,2,FALSE)","v":"60800.FCF"}]
["Yes",1,"11/22/2013","XXXXX11092","LA PICO MARKET TESO6KEARNS UT",15.39,"Personal",{"$f":"VLOOKUP(IF(A486=\"Yes\",\"Personal\",G486),'Vendor List'!$A:$B,2,FALSE)","v":"17000.FCF"}]
[null,1,"11/22/2013","XXXXX11093","LOWE'S OF SALT LAKE SALT LAKE CITY UT",-21.34,"LOWE'S",{"$f":"VLOOKUP(IF(A487=\"Yes\",\"Personal\",G487),'Vendor List'!$A:$B,2,FALSE)","v":"70000.FCF"}]
[null,1,"11/22/2013","XXXXX11094","LOWE'S OF SALT LAKE SALT LAKE CITY UT",58.75,"LOWE'S",{"$f":"VLOOKUP(IF(A488=\"Yes\",\"Personal\",G488),'Vendor List'!$A:$B,2,FALSE)","v":"70000.FCF"}]
[null,1,"11/22/2013","XXXXX11095","LOWE'S OF SALT LAKE SALT LAKE CITY UT",90.23,"LOWE'S",{"$f":"VLOOKUP(IF(A489=\"Yes\",\"Personal\",G489),'Vendor List'!$A:$B,2,FALSE)","v":"70000.FCF"}]
[null,1,"11/22/2013","XXXXX11096","LOWE'S OF SALT LAKE SALT LAKE CITY UT",117.49,"LOWE'S",{"$f":"VLOOKUP(IF(A490=\"Yes\",\"Personal\",G490),'Vendor List'!$A:$B,2,FALSE)","v":"70000.FCF"}]
[null,1,"11/22/2013","XXXXX11097","MCDONALD'S F6396 000SALT LAKE CI UT",14.1,"MCDONALD'S",{"$f":"VLOOKUP(IF(A491=\"Yes\",\"Personal\",G491),'Vendor List'!$A:$B,2,FALSE)","v":"60800.FCF"}]
["Yes",1,"11/22/2013","XXXXX11098","PAYPAL *JUNKYARDOGS 4029357733 CA",61.7,"Personal",{"$f":"VLOOKUP(IF(A492=\"Yes\",\"Personal\",G492),'Vendor List'!$A:$B,2,FALSE)","v":"17000.FCF"}]
[null,1,"11/23/2013","XXXXX11099","SHELL OIL 5744460070SALT LAKE CITY UT",20.010000000000002,"SHELL OIL",{"$f":"VLOOKUP(IF(A493=\"Yes\",\"Personal\",G493),'Vendor List'!$A:$B,2,FALSE)","v":"70500.FCF"}]
[null,1,"11/24/2013","XXXXX11100","CHEVRON HOLIDAY OIL SOUTH JORDAN UT",9.99,"CHEVRON",{"$f":"VLOOKUP(IF(A494=\"Yes\",\"Personal\",G494),'Vendor List'!$A:$B,2,FALSE)","v":"40500.FCF"}]
[null,1,"11/24/2013","XXXXX11101","GAY USA PAGES 542929ALTAMONTE SPR FL",99,"GAY USA PAGES",{"$f":"VLOOKUP(IF(A495=\"Yes\",\"Personal\",G495),'Vendor List'!$A:$B,2,FALSE)","v":"50200.FCF"}]
[null,1,"11/25/2013","XXXXX11102","AAA POSTAL SHOP AAA SALT LAKE CITY UT",11.32,"AAA POSTAL",{"$f":"VLOOKUP(IF(A496=\"Yes\",\"Personal\",G496),'Vendor List'!$A:$B,2,FALSE)","v":"70500.FCF"}]
[null,1,"11/25/2013","XXXXX11103","LOWE'S OF SALT LAKE SALT LAKE CITY UT",-76.11,"LOWE'S",{"$f":"VLOOKUP(IF(A497=\"Yes\",\"Personal\",G497),'Vendor List'!$A:$B,2,FALSE)","v":"70000.FCF"}]
[null,1,"11/25/2013","XXXXX11104","LOWE'S OF SALT LAKE SALT LAKE CITY UT",2.3199999999999998,"LOWE'S",{"$f":"VLOOKUP(IF(A498=\"Yes\",\"Personal\",G498),'Vendor List'!$A:$B,2,FALSE)","v":"70000.FCF"}]
[null,1,"11/25/2013","XXXXX11105","LOWE'S OF SALT LAKE SALT LAKE CITY UT",76.11,"LOWE'S",{"$f":"VLOOKUP(IF(A499=\"Yes\",\"Personal\",G499),'Vendor List'!$A:$B,2,FALSE)","v":"70000.FCF"}]
[null,1,"11/25/2013","XXXXX11106","PAYPAL *DIRECTAUTO 4029357733 CA",63.76,"Auto Parts",{"$f":"VLOOKUP(IF(A500=\"Yes\",\"Personal\",G500),'Vendor List'!$A:$B,2,FALSE)","v":"12105.FCF"}]
[null,1,"11/26/2013","XXXXX11107","7-ELEVEN 26999 00072SALT LAKE CITY UT",19.260000000000002,"7-ELEVEN",{"$f":"VLOOKUP(IF(A501=\"Yes\",\"Personal\",G501),'Vendor List'!$A:$B,2,FALSE)","v":"40500.FCF"}]
[null,1,"11/26/2013","XXXXX11108","CHEVRON K & H ENTERPSALT LAKE CITY UT",37.14,"CHEVRON",{"$f":"VLOOKUP(IF(A502=\"Yes\",\"Personal\",G502),'Vendor List'!$A:$B,2,FALSE)","v":"40500.FCF"}]
[null,1,"11/26/2013","XXXXX11109","MES*GLEN'S LOCK & KESALT LAKE CIT UT",89.1,"Glen's Lock & Key",{"$f":"VLOOKUP(IF(A503=\"Yes\",\"Personal\",G503),'Vendor List'!$A:$B,2,FALSE)","v":"12105.FCF"}]
[null,1,"11/26/2013","XXXXX11110","OLYMPUS HILLS SERVICSALT LAKE CITY UT",15.14,"OLYMPUS HILLS SERVICE",{"$f":"VLOOKUP(IF(A504=\"Yes\",\"Personal\",G504),'Vendor List'!$A:$B,2,FALSE)","v":"40500.FCF"}]
["Yes",1,"11/26/2013","XXXXX11111","PAYPAL *ABIGCOMPANY 4029357733 CA",7.99,"Personal",{"$f":"VLOOKUP(IF(A505=\"Yes\",\"Personal\",G505),'Vendor List'!$A:$B,2,FALSE)","v":"17000.FCF"}]
[null,1,"11/26/2013","XXXXX11112","PAYPAL *CARPARTSDEP 4029357733 CA",41.25,"Auto Parts",{"$f":"VLOOKUP(IF(A506=\"Yes\",\"Personal\",G506),'Vendor List'!$A:$B,2,FALSE)","v":"12105.FCF"}]
[null,1,"11/27/2013","XXXXX11113","DAN'S OLYMPUS 000000SALT LAKE CITY UT",5,"DAN'S FOOD",{"$f":"VLOOKUP(IF(A507=\"Yes\",\"Personal\",G507),'Vendor List'!$A:$B,2,FALSE)","v":"60800.FCF"}]
[null,1,"11/27/2013","XXXXX11114","MCDONALD'S F4010 000SALT LAKE CI UT",26.39,"MCDONALD'S",{"$f":"VLOOKUP(IF(A508=\"Yes\",\"Personal\",G508),'Vendor List'!$A:$B,2,FALSE)","v":"60800.FCF"}]
[null,1,"11/27/2013","XXXXX11115","RITE AID 6135 RITE ASALT LAKE CITY UT",36.69,"RITE AID",{"$f":"VLOOKUP(IF(A509=\"Yes\",\"Personal\",G509),'Vendor List'!$A:$B,2,FALSE)","v":"17000.FCF"}]
[null,1,"11/27/2013","XXXXX11116","WWW.GOTOMYPC.COM SERVICE/SW",21.32,"gotomypc.com",{"$f":"VLOOKUP(IF(A510=\"Yes\",\"Personal\",G510),'Vendor List'!$A:$B,2,FALSE)","v":"60700.FCF"}]
[null,1,"11/29/2013","XXXXX11117","HENRIES DRY CLEANERSSALT LAKE CITY UT",18.510000000000002,"HENRIES DRY CLEANER",{"$f":"VLOOKUP(IF(A511=\"Yes\",\"Personal\",G511),'Vendor List'!$A:$B,2,FALSE)","v":"70140.FCF"}]
[null,1,"11/29/2013","XXXXX11118","PAYPAL *ENFOTRACEGP 4029357733 CA",14.95,"EnfoTrace",{"$f":"VLOOKUP(IF(A512=\"Yes\",\"Personal\",G512),'Vendor List'!$A:$B,2,FALSE)","v":"12105.FCF"}]
["Yes",1,"11/29/2013","XXXXX11119","PAYPAL *WESLEYBISCO 4029357733 CA",55,"Personal",{"$f":"VLOOKUP(IF(A513=\"Yes\",\"Personal\",G513),'Vendor List'!$A:$B,2,FALSE)","v":"17000.FCF"}]
[null,1,"11/29/2013","XXXXX11120","THE HOME DEPOT 4403 SALT LAKE CIT UT",74.78,"THE HOME DEPOT",{"$f":"VLOOKUP(IF(A514=\"Yes\",\"Personal\",G514),'Vendor List'!$A:$B,2,FALSE)","v":"72300.FCF"}]
[null,1,"11/30/2013","XXXXX11121","7-ELEVEN 26282 00072SALT LAKE CITY UT",16.22,"7-ELEVEN",{"$f":"VLOOKUP(IF(A515=\"Yes\",\"Personal\",G515),'Vendor List'!$A:$B,2,FALSE)","v":"40500.FCF"}]
[null,1,"11/30/2013","XXXXX11122","CHEVRON HOLIDAY OIL SALT LAKE CITY UT",10.09,"CHEVRON",{"$f":"VLOOKUP(IF(A516=\"Yes\",\"Personal\",G516),'Vendor List'!$A:$B,2,FALSE)","v":"40500.FCF"}]
[null,1,"11/30/2013","XXXXX11123","OLYMPUS HILLS SERVICSALT LAKE CITY UT",20.010000000000002,"OLYMPUS HILLS SERVICE",{"$f":"VLOOKUP(IF(A517=\"Yes\",\"Personal\",G517),'Vendor List'!$A:$B,2,FALSE)","v":"40500.FCF"}]
[null,5,"2013-11-30","XXXXX11~JE","AMEX XXXXX Payable",{"$f":"SUM($F$395:$F$517)","v":13898.789999999999},"Amex 48004 Payable",{"$f":"VLOOKUP(IF(A518=\"Yes\",\"Personal\",G518),'Vendor List'!$A:$B,2,FALSE)","v":"24059.FCF"}]
["Yes",1,"12/01/2013","XXXXX12001","CARTER'S #434 000000SANDY UT",38.47,"Personal",{"$f":"VLOOKUP(IF(A519=\"Yes\",\"Personal\",G519),'Vendor List'!$A:$B,2,FALSE)","v":"17000.FCF"}]
[null,1,"12/01/2013","XXXXX12002","CHEVRON SLIM OLSON'SWOODS CROSS UT",41.68,"CHEVRON",{"$f":"VLOOKUP(IF(A520=\"Yes\",\"Personal\",G520),'Vendor List'!$A:$B,2,FALSE)","v":"40500.FCF"}]
[null,1,"12/01/2013","XXXXX12003","INTERCONTINENTAL SANSAN FRANCISCO CA",286.49,"HOTELS.COM",{"$f":"VLOOKUP(IF(A521=\"Yes\",\"Personal\",G521),'Vendor List'!$A:$B,2,FALSE)","v":"72900.FCF"}]
[null,1,"12/01/2013","XXXXX12004","PAYPAL *ATLANTAAUTO 4029357733 CA",40.909999999999997,"Auto Parts",{"$f":"VLOOKUP(IF(A522=\"Yes\",\"Personal\",G522),'Vendor List'!$A:$B,2,FALSE)","v":"12105.FCF"}]
["Yes",1,"12/01/2013","XXXXX12005","TOWER MART #141 0000ROCKLIN CA",27.78,"Personal",{"$f":"VLOOKUP(IF(A523=\"Yes\",\"Personal\",G523),'Vendor List'!$A:$B,2,FALSE)","v":"17000.FCF"}]
[null,1,"12/02/2013","XXXXX12006","CHEVRON VINTNERS DISROCKLIN CA",19.32,"CHEVRON",{"$f":"VLOOKUP(IF(A524=\"Yes\",\"Personal\",G524),'Vendor List'!$A:$B,2,FALSE)","v":"40500.FCF"}]
[null,1,"12/02/2013","XXXXX12007","CHEVRON VINTNERS DISROCKLIN CA",54.27,"CHEVRON",{"$f":"VLOOKUP(IF(A525=\"Yes\",\"Personal\",G525),'Vendor List'!$A:$B,2,FALSE)","v":"40500.FCF"}]
[null,1,"12/02/2013","XXXXX12008","HERTZ CAR RENTAL 800-654-4173 CA",184.51,"HERTZ",{"$f":"VLOOKUP(IF(A526=\"Yes\",\"Personal\",G526),'Vendor List'!$A:$B,2,FALSE)","v":"72900.FCF"}]
[null,1,"12/02/2013","XXXXX12009","OLYMPUS HILLS SERVICSALT LAKE CITY UT",15,"OLYMPUS HILLS SERVICE",{"$f":"VLOOKUP(IF(A527=\"Yes\",\"Personal\",G527),'Vendor List'!$A:$B,2,FALSE)","v":"40500.FCF"}]
[null,1,"12/02/2013","XXXXX12010","PILOT CORP 340 00340FERNLEY NV",19.64,"PILOT GAS",{"$f":"VLOOKUP(IF(A528=\"Yes\",\"Personal\",G528),'Vendor List'!$A:$B,2,FALSE)","v":"40500.FCF"}]
[null,1,"12/02/2013","XXXXX12011","THUNDER VALLEY RESORLINCOLN CA",125.15,"THUNDER VALLEY RESORT",{"$f":"VLOOKUP(IF(A529=\"Yes\",\"Personal\",G529),'Vendor List'!$A:$B,2,FALSE)","v":"60800.FCF"}]
[null,1,"12/03/2013","XXXXX12012","CHEVRON K & H ENTERPSALT LAKE CITY UT",25,"CHEVRON",{"$f":"VLOOKUP(IF(A530=\"Yes\",\"Personal\",G530),'Vendor List'!$A:$B,2,FALSE)","v":"40500.FCF"}]
[null,1,"12/03/2013","XXXXX12013","MES*GLEN'S LOCK & KESALT LAKE CIT UT",89.1,"Glen's Lock & Key",{"$f":"VLOOKUP(IF(A531=\"Yes\",\"Personal\",G531),'Vendor List'!$A:$B,2,FALSE)","v":"12105.FCF"}]
[null,1,"12/03/2013","XXXXX12014","SEARS ROEBUCK 01118 SALT LAKE CIT UT",413.38,"SEARS ROEBUCK",{"$f":"VLOOKUP(IF(A532=\"Yes\",\"Personal\",G532),'Vendor List'!$A:$B,2,FALSE)","v":"12105.FCF"}]
[null,1,"12/04/2013","XXXXX12015","7-ELEVEN 26282 00072SALT LAKE CITY UT",12.08,"7-ELEVEN",{"$f":"VLOOKUP(IF(A533=\"Yes\",\"Personal\",G533),'Vendor List'!$A:$B,2,FALSE)","v":"40500.FCF"}]
["Yes",1,"12/04/2013","XXXXX12016","GIGGLEPOP.COM 217-344-4922",399,"Personal",{"$f":"VLOOKUP(IF(A534=\"Yes\",\"Personal\",G534),'Vendor List'!$A:$B,2,FALSE)","v":"17000.FCF"}]
[null,1,"12/04/2013","XXXXX12017","GLAUS FRENCH PASTRY SALT LAKE CTY UT",28.46,"GLAUS FRENCH PASTRY",{"$f":"VLOOKUP(IF(A535=\"Yes\",\"Personal\",G535),'Vendor List'!$A:$B,2,FALSE)","v":"60800.FCF"}]
["Yes",1,"12/04/2013","XXXXX12018","PAYPAL *ISELLHMSTN 4029357733 CA",44.01,"Personal",{"$f":"VLOOKUP(IF(A536=\"Yes\",\"Personal\",G536),'Vendor List'!$A:$B,2,FALSE)","v":"17000.FCF"}]
[null,1,"12/05/2013","XXXXX12019","OLYMPUS VIEW SINCLAISALT LAKE CITY UT",20,"OLYMPUS VIEW",{"$f":"VLOOKUP(IF(A537=\"Yes\",\"Personal\",G537),'Vendor List'!$A:$B,2,FALSE)","v":"40500.FCF"}]
[null,1,"12/05/2013","XXXXX12020","PILOT 141 00141 EVANSTON WY",7.33,"PILOT GAS",{"$f":"VLOOKUP(IF(A538=\"Yes\",\"Personal\",G538),'Vendor List'!$A:$B,2,FALSE)","v":"40500.FCF"}]
[null,1,"12/05/2013","XXXXX12021","PILOT 141 00141 EVANSTON WY",31.3,"PILOT GAS",{"$f":"VLOOKUP(IF(A539=\"Yes\",\"Personal\",G539),'Vendor List'!$A:$B,2,FALSE)","v":"40500.FCF"}]
[null,1,"12/05/2013","XXXXX12022","PILOT 141 00141 EVANSTON WY",51.9,"PILOT GAS",{"$f":"VLOOKUP(IF(A540=\"Yes\",\"Personal\",G540),'Vendor List'!$A:$B,2,FALSE)","v":"40500.FCF"}]
[null,1,"12/06/2013","XXXXX12023","7-ELEVEN 26282 00072SALT LAKE CITY UT",10.02,"7-ELEVEN",{"$f":"VLOOKUP(IF(A541=\"Yes\",\"Personal\",G541),'Vendor List'!$A:$B,2,FALSE)","v":"40500.FCF"}]
[null,1,"12/06/2013","XXXXX12024","7-ELEVEN 26999 00072SALT LAKE CITY UT",8.5,"7-ELEVEN",{"$f":"VLOOKUP(IF(A542=\"Yes\",\"Personal\",G542),'Vendor List'!$A:$B,2,FALSE)","v":"40500.FCF"}]
[null,1,"12/06/2013","XXXXX12025","7-ELEVEN 26999 00072SALT LAKE CITY UT",40.090000000000003,"7-ELEVEN",{"$f":"VLOOKUP(IF(A543=\"Yes\",\"Personal\",G543),'Vendor List'!$A:$B,2,FALSE)","v":"40500.FCF"}]
[null,1,"12/06/2013","XXXXX12026","CHEVRON K & H ENTERPSALT LAKE CITY UT",20.010000000000002,"CHEVRON",{"$f":"VLOOKUP(IF(A544=\"Yes\",\"Personal\",G544),'Vendor List'!$A:$B,2,FALSE)","v":"40500.FCF"}]
[null,1,"12/06/2013","XXXXX12027","CHEVRON K & H ENTERPSALT LAKE CITY UT",30.01,"CHEVRON",{"$f":"VLOOKUP(IF(A545=\"Yes\",\"Personal\",G545),'Vendor List'!$A:$B,2,FALSE)","v":"40500.FCF"}]
[null,1,"12/06/2013","XXXXX12028","MCDONALD'S F6396 000SALT LAKE CI UT",17,"MCDONALD'S",{"$f":"VLOOKUP(IF(A546=\"Yes\",\"Personal\",G546),'Vendor List'!$A:$B,2,FALSE)","v":"60800.FCF"}]
[null,1,"12/06/2013","XXXXX12029","SMITHS FOOD #4080 008666111979",2.2599999999999998,"SMITHS FOOD",{"$f":"VLOOKUP(IF(A547=\"Yes\",\"Personal\",G547),'Vendor List'!$A:$B,2,FALSE)","v":"70000.FCF"}]
[null,1,"12/06/2013","XXXXX12030","THERMOCRAFT 2104965411 TX",86.94,"THERMOCRAFT",{"$f":"VLOOKUP(IF(A548=\"Yes\",\"Personal\",G548),'Vendor List'!$A:$B,2,FALSE)","v":"70700.FCF"}]
[null,1,"12/07/2013","XXXXX12031","CHEVRON K & H ENTERPSALT LAKE CITY UT",9.27,"CHEVRON",{"$f":"VLOOKUP(IF(A549=\"Yes\",\"Personal\",G549),'Vendor List'!$A:$B,2,FALSE)","v":"40500.FCF"}]
[null,1,"12/07/2013","XXXXX12032","KFC/TB #536 0479 SALT LAKE CIT UT",21.56,"KFC/TB",{"$f":"VLOOKUP(IF(A550=\"Yes\",\"Personal\",G550),'Vendor List'!$A:$B,2,FALSE)","v":"60800.FCF"}]
[null,1,"12/09/2013","XXXXX12033","CHEVRON HOLIDAY OIL SALT LAKE CITY UT",20.02,"CHEVRON",{"$f":"VLOOKUP(IF(A551=\"Yes\",\"Personal\",G551),'Vendor List'!$A:$B,2,FALSE)","v":"40500.FCF"}]
[null,1,"12/09/2013","XXXXX12034","DAN'S OLYMPUS 000000SALT LAKE CITY UT",19.829999999999998,"DAN'S FOOD",{"$f":"VLOOKUP(IF(A552=\"Yes\",\"Personal\",G552),'Vendor List'!$A:$B,2,FALSE)","v":"60800.FCF"}]
[null,1,"12/09/2013","XXXXX12035","HERTZ CAR RENTAL 800-654-4173 CA",201.35,"HERTZ",{"$f":"VLOOKUP(IF(A553=\"Yes\",\"Personal\",G553),'Vendor List'!$A:$B,2,FALSE)","v":"72900.FCF"}]
[null,1,"12/09/2013","XXXXX12036","OLYMPUS HILLS SERVICSALT LAKE CITY UT",15,"OLYMPUS HILLS SERVICE",{"$f":"VLOOKUP(IF(A554=\"Yes\",\"Personal\",G554),'Vendor List'!$A:$B,2,FALSE)","v":"40500.FCF"}]
[null,1,"12/09/2013","XXXXX12037","SHELL OIL 5744301480ROSEVILLE CA",31.12,"SHELL OIL",{"$f":"VLOOKUP(IF(A555=\"Yes\",\"Personal\",G555),'Vendor List'!$A:$B,2,FALSE)","v":"70500.FCF"}]
[null,1,"12/09/2013","XXXXX12038","THUNDER VALLEY RESORLINCOLN CA",161.87,"THUNDER VALLEY RESORT",{"$f":"VLOOKUP(IF(A556=\"Yes\",\"Personal\",G556),'Vendor List'!$A:$B,2,FALSE)","v":"60800.FCF"}]
[null,1,"12/10/2013","XXXXX12039","7-ELEVEN 26999 00072SALT LAKE CITY UT",11.02,"7-ELEVEN",{"$f":"VLOOKUP(IF(A557=\"Yes\",\"Personal\",G557),'Vendor List'!$A:$B,2,FALSE)","v":"40500.FCF"}]
[null,1,"12/10/2013","XXXXX12040","7-ELEVEN 26999 00072SALT LAKE CITY UT",15.07,"7-ELEVEN",{"$f":"VLOOKUP(IF(A558=\"Yes\",\"Personal\",G558),'Vendor List'!$A:$B,2,FALSE)","v":"40500.FCF"}]
[null,1,"12/10/2013","XXXXX12041","CHEVRON K & H ENTERPSALT LAKE CITY UT",7.01,"CHEVRON",{"$f":"VLOOKUP(IF(A559=\"Yes\",\"Personal\",G559),'Vendor List'!$A:$B,2,FALSE)","v":"40500.FCF"}]
[null,1,"12/10/2013","XXXXX12042","Interest Charge on Purchases",237.71,"Interest Charged",{"$f":"VLOOKUP(IF(A560=\"Yes\",\"Personal\",G560),'Vendor List'!$A:$B,2,FALSE)","v":"65300.FCF"}]
[null,1,"12/11/2013","XXXXX12043","7-ELEVEN 26282 00072SALT LAKE CITY UT",12.88,"7-ELEVEN",{"$f":"VLOOKUP(IF(A561=\"Yes\",\"Personal\",G561),'Vendor List'!$A:$B,2,FALSE)","v":"40500.FCF"}]
[null,1,"12/11/2013","XXXXX12044","7-ELEVEN 26999 00072SALT LAKE CITY UT",9.5299999999999994,"7-ELEVEN",{"$f":"VLOOKUP(IF(A562=\"Yes\",\"Personal\",G562),'Vendor List'!$A:$B,2,FALSE)","v":"40500.FCF"}]
[null,1,"12/11/2013","XXXXX12045","DELTA AIR LINES ATLANTA",378.8,"DELTA AIRLINES",{"$f":"VLOOKUP(IF(A563=\"Yes\",\"Personal\",G563),'Vendor List'!$A:$B,2,FALSE)","v":"12105.FCF"}]
[null,1,"12/11/2013","XXXXX12046","MCDONALD'S F4010 000SALT LAKE CI UT",23.8,"MCDONALD'S",{"$f":"VLOOKUP(IF(A564=\"Yes\",\"Personal\",G564),'Vendor List'!$A:$B,2,FALSE)","v":"60800.FCF"}]
[null,1,"12/11/2013","XXXXX12047","PETSMART INC 169 SALT LAKE CTY UT",33.11,"PETSMART",{"$f":"VLOOKUP(IF(A565=\"Yes\",\"Personal\",G565),'Vendor List'!$A:$B,2,FALSE)","v":"17000.FCF"}]
[null,1,"12/12/2013","XXXXX12048","COMCAST CABLE COMM 800-COMCAST UT",121.4,"COMCAST",{"$f":"VLOOKUP(IF(A566=\"Yes\",\"Personal\",G566),'Vendor List'!$A:$B,2,FALSE)","v":"17000.FCF"}]
[null,1,"12/12/2013","XXXXX12049","SLC INTERNATIONAL AISALT LAKE CIT UT",8,"SLC INTERNATIONAL",{"$f":"VLOOKUP(IF(A567=\"Yes\",\"Personal\",G567),'Vendor List'!$A:$B,2,FALSE)","v":"72900.FCF"}]
[null,1,"12/13/2013","XXXXX12050","7-ELEVEN 26999 00072SALT LAKE CITY UT",7.06,"7-ELEVEN",{"$f":"VLOOKUP(IF(A568=\"Yes\",\"Personal\",G568),'Vendor List'!$A:$B,2,FALSE)","v":"40500.FCF"}]
[null,1,"12/13/2013","XXXXX12051","7-ELEVEN 26999 00072SALT LAKE CITY UT",11.4,"7-ELEVEN",{"$f":"VLOOKUP(IF(A569=\"Yes\",\"Personal\",G569),'Vendor List'!$A:$B,2,FALSE)","v":"40500.FCF"}]
[null,1,"12/13/2013","XXXXX12052","7-ELEVEN 26999 00072SALT LAKE CITY UT",12.76,"7-ELEVEN",{"$f":"VLOOKUP(IF(A570=\"Yes\",\"Personal\",G570),'Vendor List'!$A:$B,2,FALSE)","v":"40500.FCF"}]
["Yes",1,"12/13/2013","XXXXX12053","BIG DADDY'S PIZZA (SSALT LAKE CIT UT",60.35,"Personal",{"$f":"VLOOKUP(IF(A571=\"Yes\",\"Personal\",G571),'Vendor List'!$A:$B,2,FALSE)","v":"17000.FCF"}]
[null,1,"12/13/2013","XXXXX12054","DELTA AIR LINES ATLANTA",7.5,"DELTA AIRLINES",{"$f":"VLOOKUP(IF(A572=\"Yes\",\"Personal\",G572),'Vendor List'!$A:$B,2,FALSE)","v":"12105.FCF"}]
[null,1,"12/13/2013","XXXXX12055","DELTA AIR LINES ATLANTA",8.5,"DELTA AIRLINES",{"$f":"VLOOKUP(IF(A573=\"Yes\",\"Personal\",G573),'Vendor List'!$A:$B,2,FALSE)","v":"12105.FCF"}]
[null,1,"12/13/2013","XXXXX12056","DELTA AIR LINES ATLANTA",8.5,"DELTA AIRLINES",{"$f":"VLOOKUP(IF(A574=\"Yes\",\"Personal\",G574),'Vendor List'!$A:$B,2,FALSE)","v":"12105.FCF"}]
[null,1,"12/13/2013","XXXXX12057","HOLIDAY OIL #07 0000DRAPER UT",38.869999999999997,"HOLIDAY OIL",{"$f":"VLOOKUP(IF(A575=\"Yes\",\"Personal\",G575),'Vendor List'!$A:$B,2,FALSE)","v":"40500.FCF"}]
["Yes",1,"12/13/2013","XXXXX12058","WALL STREET JO326282SALT LAKE CIT UT",13.34,"Personal",{"$f":"VLOOKUP(IF(A576=\"Yes\",\"Personal\",G576),'Vendor List'!$A:$B,2,FALSE)","v":"17000.FCF"}]
[null,1,"12/14/2013","XXXXX12059","7-ELEVEN 26999 00072SALT LAKE CITY UT",10.3,"7-ELEVEN",{"$f":"VLOOKUP(IF(A577=\"Yes\",\"Personal\",G577),'Vendor List'!$A:$B,2,FALSE)","v":"40500.FCF"}]
[null,1,"12/14/2013","XXXXX12060","CHEVRON HOLIDAY OIL SALT LAKE CITY UT",12.26,"CHEVRON",{"$f":"VLOOKUP(IF(A578=\"Yes\",\"Personal\",G578),'Vendor List'!$A:$B,2,FALSE)","v":"40500.FCF"}]
[null,1,"12/15/2013","XXXXX12061","20% In-Flight Savings for Delta SkyMiles",-1.7,"DELTA AIRLINES",{"$f":"VLOOKUP(IF(A579=\"Yes\",\"Personal\",G579),'Vendor List'!$A:$B,2,FALSE)","v":"12105.FCF"}]
[null,1,"12/15/2013","XXXXX12062","20% In-Flight Savings for Delta SkyMiles",-1.7,"DELTA AIRLINES",{"$f":"VLOOKUP(IF(A580=\"Yes\",\"Personal\",G580),'Vendor List'!$A:$B,2,FALSE)","v":"12105.FCF"}]
[null,1,"12/15/2013","XXXXX12063","20% In-Flight Savings for Delta SkyMiles",-1.5,"DELTA AIRLINES",{"$f":"VLOOKUP(IF(A581=\"Yes\",\"Personal\",G581),'Vendor List'!$A:$B,2,FALSE)","v":"12105.FCF"}]
[null,1,"12/16/2013","XXXXX12064","PAYPAL *ENFOTRACEGP 4029357733 CA",19.95,"EnfoTrace",{"$f":"VLOOKUP(IF(A582=\"Yes\",\"Personal\",G582),'Vendor List'!$A:$B,2,FALSE)","v":"12105.FCF"}]
[null,1,"12/16/2013","XXXXX12065","PAYPAL *ENFOTRACEGP 4029357733 CA",59.8,"EnfoTrace",{"$f":"VLOOKUP(IF(A583=\"Yes\",\"Personal\",G583),'Vendor List'!$A:$B,2,FALSE)","v":"12105.FCF"}]
[null,1,"12/16/2013","XXXXX12066","PAYPAL *ENFOTRACEGP 4029357733 CA",259.35000000000002,"EnfoTrace",{"$f":"VLOOKUP(IF(A584=\"Yes\",\"Personal\",G584),'Vendor List'!$A:$B,2,FALSE)","v":"12105.FCF"}]
[null,1,"12/17/2013","XXXXX12067","7-ELEVEN 26999 00072SALT LAKE CITY UT",7.17,"7-ELEVEN",{"$f":"VLOOKUP(IF(A585=\"Yes\",\"Personal\",G585),'Vendor List'!$A:$B,2,FALSE)","v":"40500.FCF"}]
[null,1,"12/17/2013","XXXXX12068","CHEVRON HOLIDAY OIL SALT LAKE CITY UT",8.0299999999999994,"CHEVRON",{"$f":"VLOOKUP(IF(A586=\"Yes\",\"Personal\",G586),'Vendor List'!$A:$B,2,FALSE)","v":"40500.FCF"}]
[null,1,"12/17/2013","XXXXX12069","LOWE'S OF SALT LAKE SALT LAKE CITY UT",13.87,"LOWE'S",{"$f":"VLOOKUP(IF(A587=\"Yes\",\"Personal\",G587),'Vendor List'!$A:$B,2,FALSE)","v":"70000.FCF"}]
[null,1,"12/19/2013","XXXXX12070","7-ELEVEN 25948 00072MIDVALE UT",15.01,"7-ELEVEN",{"$f":"VLOOKUP(IF(A588=\"Yes\",\"Personal\",G588),'Vendor List'!$A:$B,2,FALSE)","v":"40500.FCF"}]
[null,1,"12/19/2013","XXXXX12071","7-ELEVEN 26999 00072SALT LAKE CITY UT",16.399999999999999,"7-ELEVEN",{"$f":"VLOOKUP(IF(A589=\"Yes\",\"Personal\",G589),'Vendor List'!$A:$B,2,FALSE)","v":"40500.FCF"}]
[null,1,"12/19/2013","XXXXX12072","7-ELEVEN 26999 00072SALT LAKE CITY UT",37.549999999999997,"7-ELEVEN",{"$f":"VLOOKUP(IF(A590=\"Yes\",\"Personal\",G590),'Vendor List'!$A:$B,2,FALSE)","v":"40500.FCF"}]
["Yes",1,"12/19/2013","XXXXX12073","ATLANTIS ROYAL TOWERNASSAU BH",29.87,"Personal",{"$f":"VLOOKUP(IF(A591=\"Yes\",\"Personal\",G591),'Vendor List'!$A:$B,2,FALSE)","v":"17000.FCF"}]
["Yes",1,"12/19/2013","XXXXX12074","ATLANTIS ROYAL TOWERNASSAU BH",351.48,"Personal",{"$f":"VLOOKUP(IF(A592=\"Yes\",\"Personal\",G592),'Vendor List'!$A:$B,2,FALSE)","v":"17000.FCF"}]
[null,1,"12/19/2013","XXXXX12075","HERTZ RENT-A-CAR NASSAU BH",377.03,"HERTZ",{"$f":"VLOOKUP(IF(A593=\"Yes\",\"Personal\",G593),'Vendor List'!$A:$B,2,FALSE)","v":"72900.FCF"}]
[null,1,"12/19/2013","XXXXX12076","KJZZ 0054 SALT LAKE CIT UT",2720,"KJZZ",{"$f":"VLOOKUP(IF(A594=\"Yes\",\"Personal\",G594),'Vendor List'!$A:$B,2,FALSE)","v":"70700.FCF"}]
[null,1,"12/20/2013","XXXXX12077","7-ELEVEN 26999 00072SALT LAKE CITY UT",12.06,"7-ELEVEN",{"$f":"VLOOKUP(IF(A595=\"Yes\",\"Personal\",G595),'Vendor List'!$A:$B,2,FALSE)","v":"40500.FCF"}]
[null,1,"12/20/2013","XXXXX12078","DELTA AIR LINES ATLANTA",3,"DELTA AIRLINES",{"$f":"VLOOKUP(IF(A596=\"Yes\",\"Personal\",G596),'Vendor List'!$A:$B,2,FALSE)","v":"12105.FCF"}]
[null,1,"12/20/2013","XXXXX12079","DELTA AIR LINES ATLANTA",8.5,"DELTA AIRLINES",{"$f":"VLOOKUP(IF(A597=\"Yes\",\"Personal\",G597),'Vendor List'!$A:$B,2,FALSE)","v":"12105.FCF"}]
[null,1,"12/20/2013","XXXXX12080","DELTA AIR LINES ATLANTA",8.5,"DELTA AIRLINES",{"$f":"VLOOKUP(IF(A598=\"Yes\",\"Personal\",G598),'Vendor List'!$A:$B,2,FALSE)","v":"12105.FCF"}]
[null,1,"12/20/2013","XXXXX12081","DELTA AIR LINES ATLANTA",9.99,"DELTA AIRLINES",{"$f":"VLOOKUP(IF(A599=\"Yes\",\"Personal\",G599),'Vendor List'!$A:$B,2,FALSE)","v":"12105.FCF"}]
[null,1,"12/20/2013","XXXXX12082","PAYPAL *ENFOTRACEGP 4029357733 CA",59.8,"EnfoTrace",{"$f":"VLOOKUP(IF(A600=\"Yes\",\"Personal\",G600),'Vendor List'!$A:$B,2,FALSE)","v":"12105.FCF"}]
[null,1,"12/20/2013","XXXXX12083","UNIFORMS WEST SUPP 5MIDVALE UT",365.95,"UNIFORMS WEST",{"$f":"VLOOKUP(IF(A601=\"Yes\",\"Personal\",G601),'Vendor List'!$A:$B,2,FALSE)","v":"70000.FCF"}]
[null,1,"12/21/2013","XXXXX12084","DESERET DIGITAL MEDISALT LAKE CITY UT",599,"KJZZ",{"$f":"VLOOKUP(IF(A602=\"Yes\",\"Personal\",G602),'Vendor List'!$A:$B,2,FALSE)","v":"70700.FCF"}]
[null,1,"12/21/2013","XXXXX12085","LOWE'S OF SALT LAKE SALT LAKE CITY UT",17.940000000000001,"LOWE'S",{"$f":"VLOOKUP(IF(A603=\"Yes\",\"Personal\",G603),'Vendor List'!$A:$B,2,FALSE)","v":"70000.FCF"}]
[null,1,"12/21/2013","XXXXX12086","OLYMPUS HILLS SERVICSALT LAKE CITY UT",20.03,"OLYMPUS HILLS SERVICE",{"$f":"VLOOKUP(IF(A604=\"Yes\",\"Personal\",G604),'Vendor List'!$A:$B,2,FALSE)","v":"40500.FCF"}]
[null,1,"12/22/2013","XXXXX12087","20% In-Flight Savings for Delta SkyMiles",-2,"DELTA AIRLINES",{"$f":"VLOOKUP(IF(A605=\"Yes\",\"Personal\",G605),'Vendor List'!$A:$B,2,FALSE)","v":"12105.FCF"}]
[null,1,"12/22/2013","XXXXX12088","20% In-Flight Savings for Delta SkyMiles",-1.7,"DELTA AIRLINES",{"$f":"VLOOKUP(IF(A606=\"Yes\",\"Personal\",G606),'Vendor List'!$A:$B,2,FALSE)","v":"12105.FCF"}]
[null,1,"12/22/2013","XXXXX12089","20% In-Flight Savings for Delta SkyMiles",-1.7,"DELTA AIRLINES",{"$f":"VLOOKUP(IF(A607=\"Yes\",\"Personal\",G607),'Vendor List'!$A:$B,2,FALSE)","v":"12105.FCF"}]
[null,1,"12/22/2013","XXXXX12090","20% In-Flight Savings for Delta SkyMiles",-0.6,"DELTA AIRLINES",{"$f":"VLOOKUP(IF(A608=\"Yes\",\"Personal\",G608),'Vendor List'!$A:$B,2,FALSE)","v":"12105.FCF"}]
[null,1,"12/22/2013","XXXXX12091","CHEVRON HOLIDAY OIL SOUTH JORDAN UT",25,"CHEVRON",{"$f":"VLOOKUP(IF(A609=\"Yes\",\"Personal\",G609),'Vendor List'!$A:$B,2,FALSE)","v":"40500.FCF"}]
[null,1,"12/22/2013","XXXXX12092","DIRECTV SERVICE 800-347-3288 CA",330.09,"DIRECTV",{"$f":"VLOOKUP(IF(A610=\"Yes\",\"Personal\",G610),'Vendor List'!$A:$B,2,FALSE)","v":"70000.FCF"}]
["Yes",1,"12/23/2013","XXXXX12093","CANDLESTICK PARK 49ESAN FRANCISCO CA",30,"Personal",{"$f":"VLOOKUP(IF(A611=\"Yes\",\"Personal\",G611),'Vendor List'!$A:$B,2,FALSE)","v":"17000.FCF"}]
["\u0001",1,"12/23/2013","XXXXX12094","HOLIDAY OIL #07 0000DRAPER UT",30.01,"HOLIDAY OIL",{"$f":"VLOOKUP(IF(A612=\"Yes\",\"Personal\",G612),'Vendor List'!$A:$B,2,FALSE)","v":"40500.FCF"}]
[null,1,"12/23/2013","XXXXX12095","JERRY SEINER CHEV/CHSALT LAKE CITY UT",275,"Auto Parts",{"$f":"VLOOKUP(IF(A613=\"Yes\",\"Personal\",G613),'Vendor List'!$A:$B,2,FALSE)","v":"12105.FCF"}]
[null,1,"12/24/2013","XXXXX12096","FOREIGN TRANSACTION FEE",-0.3,"Finance Charges",{"$f":"VLOOKUP(IF(A614=\"Yes\",\"Personal\",G614),'Vendor List'!$A:$B,2,FALSE)","v":"60450.FCF"}]
[null,1,"12/24/2013","XXXXX12097","GAY USA PAGES 542929ALTAMONTE SPR FL",99,"GAY USA PAGES",{"$f":"VLOOKUP(IF(A615=\"Yes\",\"Personal\",G615),'Vendor List'!$A:$B,2,FALSE)","v":"50200.FCF"}]
[null,1,"12/24/2013","XXXXX12098","HERTZ CAR RENTAL 800-654-4173 CA",191.42,"HERTZ",{"$f":"VLOOKUP(IF(A616=\"Yes\",\"Personal\",G616),'Vendor List'!$A:$B,2,FALSE)","v":"72900.FCF"}]
["Yes",1,"12/24/2013","XXXXX12099","PAYPAL *GSS666 4029357733 GB",-11.46,"Personal",{"$f":"VLOOKUP(IF(A617=\"Yes\",\"Personal\",G617),'Vendor List'!$A:$B,2,FALSE)","v":"17000.FCF"}]
[null,1,"12/24/2013","XXXXX12100","UNION 76 00506667 OAKLAND CA",11.39,"UNION 76",{"$f":"VLOOKUP(IF(A618=\"Yes\",\"Personal\",G618),'Vendor List'!$A:$B,2,FALSE)","v":"40500.FCF"}]
[null,1,"12/25/2013","XXXXX12101","HYATT HOTELS GRAND SSAN FRANCISCO CA",644.39,"HYATT HOTEL",{"$f":"VLOOKUP(IF(A619=\"Yes\",\"Personal\",G619),'Vendor List'!$A:$B,2,FALSE)","v":"12105.FCF"}]
[null,1,"12/25/2013","XXXXX12102","JASMINE CHINA BISTROSALT LAKE CIT UT",127.32,"JASMINE CHINA BISTRO",{"$f":"VLOOKUP(IF(A620=\"Yes\",\"Personal\",G620),'Vendor List'!$A:$B,2,FALSE)","v":"60800.FCF"}]
[null,1,"12/25/2013","XXXXX12103","TEXACO HOLIDAY OIL #WEST JORDAN UT",25.05,"HOLIDAY OIL",{"$f":"VLOOKUP(IF(A621=\"Yes\",\"Personal\",G621),'Vendor List'!$A:$B,2,FALSE)","v":"40500.FCF"}]
["Yes",1,"12/26/2013","XXXXX12104","G VALLEY RANCH R/S HENDERSON NV",188.15,"Personal",{"$f":"VLOOKUP(IF(A622=\"Yes\",\"Personal\",G622),'Vendor List'!$A:$B,2,FALSE)","v":"17000.FCF"}]
[null,1,"12/26/2013","XXXXX12105","HOLIDAY OIL #07 0000DRAPER UT",39.380000000000003,"HOLIDAY OIL",{"$f":"VLOOKUP(IF(A623=\"Yes\",\"Personal\",G623),'Vendor List'!$A:$B,2,FALSE)","v":"40500.FCF"}]
[null,1,"12/26/2013","XXXXX12106","MID VALLEY ANIMAL CLSALT LAKE CITY UT",477.06,"ADVANCED VET",{"$f":"VLOOKUP(IF(A624=\"Yes\",\"Personal\",G624),'Vendor List'!$A:$B,2,FALSE)","v":"17000.FCF"}]
[null,1,"12/26/2013","XXXXX12107","PAYPAL *ENFOTRACEGP 4029357733 CA",19.95,"EnfoTrace",{"$f":"VLOOKUP(IF(A625=\"Yes\",\"Personal\",G625),'Vendor List'!$A:$B,2,FALSE)","v":"12105.FCF"}]
[null,1,"12/27/2013","XXXXX12108","CHEVRON HOLIDAY OIL SALT LAKE CITY UT",25.2,"CHEVRON",{"$f":"VLOOKUP(IF(A626=\"Yes\",\"Personal\",G626),'Vendor List'!$A:$B,2,FALSE)","v":"40500.FCF"}]
[null,1,"12/27/2013","XXXXX12109","DELTA AIR LINES ATLANTA",12.1,"DELTA AIRLINES",{"$f":"VLOOKUP(IF(A627=\"Yes\",\"Personal\",G627),'Vendor List'!$A:$B,2,FALSE)","v":"12105.FCF"}]
[null,1,"12/27/2013","XXXXX12110","DELTA AIR LINES ATLANTA",177.9,"DELTA AIRLINES",{"$f":"VLOOKUP(IF(A628=\"Yes\",\"Personal\",G628),'Vendor List'!$A:$B,2,FALSE)","v":"12105.FCF"}]
[null,1,"12/27/2013","XXXXX12111","WWW.GOTOMYPC.COM SERVICE/SW",21.32,"gotomypc.com",{"$f":"VLOOKUP(IF(A629=\"Yes\",\"Personal\",G629),'Vendor List'!$A:$B,2,FALSE)","v":"60700.FCF"}]
[null,1,"12/28/2013","XXXXX12112","DELTA AIR LINES ATLANTA",-177.9,"DELTA AIRLINES",{"$f":"VLOOKUP(IF(A630=\"Yes\",\"Personal\",G630),'Vendor List'!$A:$B,2,FALSE)","v":"12105.FCF"}]
[null,1,"12/28/2013","XXXXX12113","DELTA AIR LINES ATLANTA",-12.1,"DELTA AIRLINES",{"$f":"VLOOKUP(IF(A631=\"Yes\",\"Personal\",G631),'Vendor List'!$A:$B,2,FALSE)","v":"12105.FCF"}]
[null,1,"12/28/2013","XXXXX12114","DELTA AIR LINES ATLANTA",89.9,"DELTA AIRLINES",{"$f":"VLOOKUP(IF(A632=\"Yes\",\"Personal\",G632),'Vendor List'!$A:$B,2,FALSE)","v":"12105.FCF"}]
[null,1,"12/28/2013","XXXXX12115","DELTA AIR LINES ATLANTA",89.9,"DELTA AIRLINES",{"$f":"VLOOKUP(IF(A633=\"Yes\",\"Personal\",G633),'Vendor List'!$A:$B,2,FALSE)","v":"12105.FCF"}]
[null,1,"12/28/2013","XXXXX12116","DELTA AIR LINES ATLANTA",89.9,"DELTA AIRLINES",{"$f":"VLOOKUP(IF(A634=\"Yes\",\"Personal\",G634),'Vendor List'!$A:$B,2,FALSE)","v":"12105.FCF"}]
[null,1,"12/28/2013","XXXXX12117","DELTA AIR LINES ATLANTA",89.9,"DELTA AIRLINES",{"$f":"VLOOKUP(IF(A635=\"Yes\",\"Personal\",G635),'Vendor List'!$A:$B,2,FALSE)","v":"12105.FCF"}]
[null,1,"12/28/2013","XXXXX12118","OLYMPUS HILLS SERVICSALT LAKE CITY UT",20.02,"OLYMPUS HILLS SERVICE",{"$f":"VLOOKUP(IF(A636=\"Yes\",\"Personal\",G636),'Vendor List'!$A:$B,2,FALSE)","v":"40500.FCF"}]
[null,1,"12/28/2013","XXXXX12119","PLAZA CYCLE 801-972-8725",105.99,"PLAZA CYCLE",{"$f":"VLOOKUP(IF(A637=\"Yes\",\"Personal\",G637),'Vendor List'!$A:$B,2,FALSE)","v":"12105.FCF"}]
[null,1,"12/29/2013","XXXXX12120","CHEVRON HOLIDAY OIL SALT LAKE CITY UT",25.05,"CHEVRON",{"$f":"VLOOKUP(IF(A638=\"Yes\",\"Personal\",G638),'Vendor List'!$A:$B,2,FALSE)","v":"40500.FCF"}]
[null,1,"12/29/2013","XXXXX12121","DELTA AIR LINES ATLANTA",14,"DELTA AIRLINES",{"$f":"VLOOKUP(IF(A639=\"Yes\",\"Personal\",G639),'Vendor List'!$A:$B,2,FALSE)","v":"12105.FCF"}]
[null,1,"12/29/2013","XXXXX12122","DELTA AIR LINES ATLANTA",89.9,"DELTA AIRLINES",{"$f":"VLOOKUP(IF(A640=\"Yes\",\"Personal\",G640),'Vendor List'!$A:$B,2,FALSE)","v":"12105.FCF"}]
[null,1,"12/29/2013","XXXXX12123","DELTA AIR LINES ATLANTA",89.9,"DELTA AIRLINES",{"$f":"VLOOKUP(IF(A641=\"Yes\",\"Personal\",G641),'Vendor List'!$A:$B,2,FALSE)","v":"12105.FCF"}]
[null,1,"12/29/2013","XXXXX12124","DELTA AIR LINES ATLANTA",181.8,"DELTA AIRLINES",{"$f":"VLOOKUP(IF(A642=\"Yes\",\"Personal\",G642),'Vendor List'!$A:$B,2,FALSE)","v":"12105.FCF"}]
[null,1,"12/29/2013","XXXXX12125","DELTA AIR LINES ATLANTA",181.8,"DELTA AIRLINES",{"$f":"VLOOKUP(IF(A643=\"Yes\",\"Personal\",G643),'Vendor List'!$A:$B,2,FALSE)","v":"12105.FCF"}]
[null,1,"12/30/2013","XXXXX12126","CHEVRON TOP STOP C-4VERNAL UT",46.22,"CHEVRON",{"$f":"VLOOKUP(IF(A644=\"Yes\",\"Personal\",G644),'Vendor List'!$A:$B,2,FALSE)","v":"40500.FCF"}]
[null,1,"12/30/2013","XXXXX12127","LARRY H MILLER FORD SALT LAKE CTY UT",684.9,"LARRY H MILLER",{"$f":"VLOOKUP(IF(A645=\"Yes\",\"Personal\",G645),'Vendor List'!$A:$B,2,FALSE)","v":"12105.FCF"}]
[null,1,"12/31/2013","XXXXX12128","OLYMPUS HILLS SERVICSALT LAKE CITY UT",15.02,"OLYMPUS HILLS SERVICE",{"$f":"VLOOKUP(IF(A646=\"Yes\",\"Personal\",G646),'Vendor List'!$A:$B,2,FALSE)","v":"40500.FCF"}]
[null,1,"12/31/2013","XXXXX12129","VICTORS TIRES INC VISALT LAKE CITY UT",80,"VICTORS TIRES",{"$f":"VLOOKUP(IF(A647=\"Yes\",\"Personal\",G647),'Vendor List'!$A:$B,2,FALSE)","v":"12105.FCF"}]
[null,5,"2013-12-31","XXXXX12~JE","AMEX XXXXX Payable",{"$f":"SUM($F$519:$F$647)","v":13170.349999999995},"Amex 48004 Payable",{"$f":"VLOOKUP(IF(A648=\"Yes\",\"Personal\",G648),'Vendor List'!$A:$B,2,FALSE)","v":"24059.FCF"}]

{"sheet":"Quality Review","index":4,"n_rows":648,"n_cols":8,"rows_kept":648,"cut":false,"hidden":false,"merged":[]}
["Quality Review – AMEX XXXX-XXXXXX-XXXXX"]
[]
[null,null,null,null,"Account Number"]
[null,null,null,null,"XXXX-XXXXXX-XXXXX"]
[]
["Personal","Type","Date","Ref","Description","Amount","Vendor Matched","Account #"]
["-",1,"08/01/2013","XXXXX08001","CHEVRON K & H ENTERPSALT LAKE CITY UT",50.68,"CHEVRON",{"$f":"VLOOKUP(IF(A7=\"Yes\",\"Personal\",G7),'Vendor List'!$A:$B,2,FALSE)","v":"40500.FCF"}]
["-",1,"08/01/2013","XXXXX08002","LOWE'S OF SALT LAKE SALT LAKE CITY UT",240.19,"Lowe's",{"$f":"VLOOKUP(IF(A8=\"Yes\",\"Personal\",G8),'Vendor List'!$A:$B,2,FALSE)","v":"70000.FCF"}]
["-",1,"08/01/2013","XXXXX08003","OLYMPUS HILLS SERVICSALT LAKE CITY UT",15.02,"P-Amazon",{"$f":"VLOOKUP(IF(A9=\"Yes\",\"Personal\",G9),'Vendor List'!$A:$B,2,FALSE)","v":"17000.FCF"}]
["-",1,"08/02/2013","XXXXX08004","7-ELEVEN 26999 00072SALT LAKE CITY UT",4.83,"7-ELEVEN",{"$f":"VLOOKUP(IF(A10=\"Yes\",\"Personal\",G10),'Vendor List'!$A:$B,2,FALSE)","v":"40500.FCF"}]
["-",1,"08/02/2013","XXXXX08005","GLEN'S LOCK & KEY SALT LAKE CIT UT",35,"Glen's Lock & Key",{"$f":"VLOOKUP(IF(A11=\"Yes\",\"Personal\",G11),'Vendor List'!$A:$B,2,FALSE)","v":"12105.FCF"}]
["-",1,"08/02/2013","XXXXX08006","MCDONALD'S F6396 000SALT LAKE CI UT",18.04,"MCDONALD'S",{"$f":"VLOOKUP(IF(A12=\"Yes\",\"Personal\",G12),'Vendor List'!$A:$B,2,FALSE)","v":"60800.FCF"}]
["-",1,"08/03/2013","XXXXX08007","GLEN'S LOCK & KEY SALT LAKE CIT UT",79,"Glen's Lock & Key",{"$f":"VLOOKUP(IF(A13=\"Yes\",\"Personal\",G13),'Vendor List'!$A:$B,2,FALSE)","v":"12105.FCF"}]
["-",1,"08/03/2013","XXXXX08008","OLYMPUS HILLS SERVICSALT LAKE CITY UT",15,"OLYMPUS HILLS SERVICE",{"$f":"VLOOKUP(IF(A14=\"Yes\",\"Personal\",G14),'Vendor List'!$A:$B,2,FALSE)","v":"40500.FCF"}]
["-",1,"08/04/2013","XXXXX08009","7-ELEVEN 12927 00071SALT LAKE CITY UT",12.82,"7-ELEVEN",{"$f":"VLOOKUP(IF(A15=\"Yes\",\"Personal\",G15),'Vendor List'!$A:$B,2,FALSE)","v":"40500.FCF"}]
["-",1,"08/04/2013","XXXXX08010","MCDONALD'S F4010 000SALT LAKE CI UT",16.260000000000002,"MCDONALD'S",{"$f":"VLOOKUP(IF(A16=\"Yes\",\"Personal\",G16),'Vendor List'!$A:$B,2,FALSE)","v":"60800.FCF"}]
["-",1,"08/05/2013","XXXXX08011","7-ELEVEN 26999 00072SALT LAKE CITY UT",11.98,"7-ELEVEN",{"$f":"VLOOKUP(IF(A17=\"Yes\",\"Personal\",G17),'Vendor List'!$A:$B,2,FALSE)","v":"40500.FCF"}]
["-",1,"08/05/2013","XXXXX08012","7-ELEVEN 26999 00072SALT LAKE CITY UT",20.04,"7-ELEVEN",{"$f":"VLOOKUP(IF(A18=\"Yes\",\"Personal\",G18),'Vendor List'!$A:$B,2,FALSE)","v":"40500.FCF"}]
["-",1,"08/05/2013","XXXXX08013","CHEVRON HOLIDAY OIL SALT LAKE CITY UT",10.01,"CHEVRON",{"$f":"VLOOKUP(IF(A19=\"Yes\",\"Personal\",G19),'Vendor List'!$A:$B,2,FALSE)","v":"40500.FCF"}]
["-",1,"08/05/2013","XXXXX08014","DAN'S OLYMPUS 000000SALT LAKE CITY UT",12.36,"DAN'S FOOD",{"$f":"VLOOKUP(IF(A20=\"Yes\",\"Personal\",G20),'Vendor List'!$A:$B,2,FALSE)","v":"60800.FCF"}]
["-",1,"08/05/2013","XXXXX08015","MY SONIC CARD 0012 EL RENO OK",151,"SONIC",{"$f":"VLOOKUP(IF(A21=\"Yes\",\"Personal\",G21),'Vendor List'!$A:$B,2,FALSE)","v":"60800.FCF"}]
["-",1,"08/05/2013","XXXXX08016","NEXSTAR BROADCASTINGIRVING TX",3271,"NEXSTAR BROADCASTING",{"$f":"VLOOKUP(IF(A22=\"Yes\",\"Personal\",G22),'Vendor List'!$A:$B,2,FALSE)","v":"50200.FCF"}]
["-",1,"08/05/2013","XXXXX08017","OLYMPUS HILLS SERVICSALT LAKE CITY UT",15.03,"OLYMPUS HILLS SERVICE",{"$f":"VLOOKUP(IF(A23=\"Yes\",\"Personal\",G23),'Vendor List'!$A:$B,2,FALSE)","v":"40500.FCF"}]
["-",1,"08/06/2013","XXXXX08018","7-ELEVEN 26999 00072SALT LAKE CITY UT",10.1,"7-ELEVEN",{"$f":"VLOOKUP(IF(A24=\"Yes\",\"Personal\",G24),'Vendor List'!$A:$B,2,FALSE)","v":"40500.FCF"}]
["-",1,"08/06/2013","XXXXX08019","7-ELEVEN 26999 00072SALT LAKE CITY UT",15.09,"7-ELEVEN",{"$f":"VLOOKUP(IF(A25=\"Yes\",\"Personal\",G25),'Vendor List'!$A:$B,2,FALSE)","v":"40500.FCF"}]
["-",1,"08/06/2013","XXXXX08020","GLEN'S LOCK & KEY SALT LAKE CIT UT",35,"Glen's Lock & Key",{"$f":"VLOOKUP(IF(A26=\"Yes\",\"Personal\",G26),'Vendor List'!$A:$B,2,FALSE)","v":"12105.FCF"}]
["-",1,"08/06/2013","XXXXX08021","PAYPAL *ALLKEYLESSL 4029357733 CA",47.48,"Personal",{"$f":"VLOOKUP(IF(A27=\"Yes\",\"Personal\",G27),'Vendor List'!$A:$B,2,FALSE)","v":"17000.FCF"}]
["-",1,"08/06/2013","XXXXX08022","SUPERIOR PAINT SUPPLSALT LAKE CITY UT",6.22,"SUPERIOR PAINT",{"$f":"VLOOKUP(IF(A28=\"Yes\",\"Personal\",G28),'Vendor List'!$A:$B,2,FALSE)","v":"72300.FCF"}]
["-",1,"08/06/2013","XXXXX08023","VICTORS TIRES INC VISALT LAKE CITY UT",80,"VICTORS TIRES",{"$f":"VLOOKUP(IF(A29=\"Yes\",\"Personal\",G29),'Vendor List'!$A:$B,2,FALSE)","v":"12105.FCF"}]
["-",1,"08/07/2013","XXXXX08024","7-ELEVEN 26282 00072SALT LAKE CITY UT",19.739999999999998,"7-ELEVEN",{"$f":"VLOOKUP(IF(A30=\"Yes\",\"Personal\",G30),'Vendor List'!$A:$B,2,FALSE)","v":"40500.FCF"}]
["-",1,"08/07/2013","XXXXX08025","OLYMPUS HILLS SERVICSALT LAKE CITY UT",15.02,"OLYMPUS HILLS SERVICE",{"$f":"VLOOKUP(IF(A31=\"Yes\",\"Personal\",G31),'Vendor List'!$A:$B,2,FALSE)","v":"40500.FCF"}]
["-",1,"08/08/2013","XXXXX08026","PROSTOP CONV STORE #SANDY UT",50.56,"7-ELEVEN",{"$f":"VLOOKUP(IF(A32=\"Yes\",\"Personal\",G32),'Vendor List'!$A:$B,2,FALSE)","v":"40500.FCF"}]
["-",1,"08/09/2013","XXXXX08027","7-ELEVEN 26999 00072SALT LAKE CITY UT",4.83,"7-ELEVEN",{"$f":"VLOOKUP(IF(A33=\"Yes\",\"Personal\",G33),'Vendor List'!$A:$B,2,FALSE)","v":"40500.FCF"}]
["-",1,"08/09/2013","XXXXX08028","7-ELEVEN 26999 00072SALT LAKE CITY UT",10,"7-ELEVEN",{"$f":"VLOOKUP(IF(A34=\"Yes\",\"Personal\",G34),'Vendor List'!$A:$B,2,FALSE)","v":"40500.FCF"}]
["-",1,"08/09/2013","XXXXX08029","7-ELEVEN 26999 00072SALT LAKE CITY UT",12.05,"7-ELEVEN",{"$f":"VLOOKUP(IF(A35=\"Yes\",\"Personal\",G35),'Vendor List'!$A:$B,2,FALSE)","v":"40500.FCF"}]
["-",1,"08/09/2013","XXXXX08030","ANNUAL MEMBERSHIP FEE",395,"MEMBERSHIP FEE",{"$f":"VLOOKUP(IF(A36=\"Yes\",\"Personal\",G36),'Vendor List'!$A:$B,2,FALSE)","v":"60700.FCF"}]
["-",1,"08/09/2013","XXXXX08031","DAN'S OLYMPUS 000000SALT LAKE CITY UT",47.19,"DAN'S FOOD",{"$f":"VLOOKUP(IF(A37=\"Yes\",\"Personal\",G37),'Vendor List'!$A:$B,2,FALSE)","v":"60800.FCF"}]
["-",1,"08/09/2013","XXXXX08032","Interest Charge on Purchases",243.2,"Interest Charged",{"$f":"VLOOKUP(IF(A38=\"Yes\",\"Personal\",G38),'Vendor List'!$A:$B,2,FALSE)","v":"65300.FCF"}]
["-",1,"08/09/2013","XXXXX08033","MCDONALD'S F6396 000SALT LAKE CI UT",10.78,"MCDONALD'S",{"$f":"VLOOKUP(IF(A39=\"Yes\",\"Personal\",G39),'Vendor List'!$A:$B,2,FALSE)","v":"60800.FCF"}]
["-",1,"08/10/2013","XXXXX08034","7-ELEVEN 26999 00072SALT LAKE CITY UT",8.2200000000000006,"7-ELEVEN",{"$f":"VLOOKUP(IF(A40=\"Yes\",\"Personal\",G40),'Vendor List'!$A:$B,2,FALSE)","v":"40500.FCF"}]
["-",1,"08/10/2013","XXXXX08035","7-ELEVEN 26999 00072SALT LAKE CITY UT",9.1199999999999992,"7-ELEVEN",{"$f":"VLOOKUP(IF(A41=\"Yes\",\"Personal\",G41),'Vendor List'!$A:$B,2,FALSE)","v":"40500.FCF"}]
["-",1,"08/10/2013","XXXXX08036","7-ELEVEN 26999 00072SALT LAKE CITY UT",9.1300000000000008,"7-ELEVEN",{"$f":"VLOOKUP(IF(A42=\"Yes\",\"Personal\",G42),'Vendor List'!$A:$B,2,FALSE)","v":"40500.FCF"}]
["-",1,"08/10/2013","XXXXX08037","GLEN'S LOCK & KEY SALT LAKE CIT UT",84.41,"Glen's Lock & Key",{"$f":"VLOOKUP(IF(A43=\"Yes\",\"Personal\",G43),'Vendor List'!$A:$B,2,FALSE)","v":"12105.FCF"}]
["-",1,"08/10/2013","XXXXX08038","OLYMPUS HILLS SERVICSALT LAKE CITY UT",15.03,"OLYMPUS HILLS SERVICE",{"$f":"VLOOKUP(IF(A44=\"Yes\",\"Personal\",G44),'Vendor List'!$A:$B,2,FALSE)","v":"40500.FCF"}]
["-",1,"08/11/2013","XXXXX08039","COMCAST CABLE COMM 800-COMCAST UT",121.35,"COMCAST",{"$f":"VLOOKUP(IF(A45=\"Yes\",\"Personal\",G45),'Vendor List'!$A:$B,2,FALSE)","v":"17000.FCF"}]
["-",1,"08/11/2013","XXXXX08040","KFC/TB #536 0479 SALT LAKE CIT UT",17.21,"KFC/TB",{"$f":"VLOOKUP(IF(A46=\"Yes\",\"Personal\",G46),'Vendor List'!$A:$B,2,FALSE)","v":"60800.FCF"}]
["-",1,"08/11/2013","XXXXX08041","OLYMPUS VIEW SINCLAISALT LAKE CI UT",20.3,"OLYMPUS VIEW",{"$f":"VLOOKUP(IF(A47=\"Yes\",\"Personal\",G47),'Vendor List'!$A:$B,2,FALSE)","v":"40500.FCF"}]
["-",1,"08/11/2013","XXXXX08042","SMITHS MRKTPL #4475 8666111979",42.82,"SMITHS FOOD",{"$f":"VLOOKUP(IF(A48=\"Yes\",\"Personal\",G48),'Vendor List'!$A:$B,2,FALSE)","v":"70000.FCF"}]
["-",1,"08/12/2013","XXXXX08043","DAN'S OLYMPUS 000000SALT LAKE CITY UT",20.440000000000001,"DAN'S FOOD",{"$f":"VLOOKUP(IF(A49=\"Yes\",\"Personal\",G49),'Vendor List'!$A:$B,2,FALSE)","v":"60800.FCF"}]
["-",1,"08/12/2013","XXXXX08044","PAYPAL *BLOMTYLER 4029357733 CA",40,"Personal",{"$f":"VLOOKUP(IF(A50=\"Yes\",\"Personal\",G50),'Vendor List'!$A:$B,2,FALSE)","v":"17000.FCF"}]
["-",1,"08/12/2013","XXXXX08045","SHELL OIL 5744460190SALT LAKE CITY UT",15.25,"SHELL OIL",{"$f":"VLOOKUP(IF(A51=\"Yes\",\"Personal\",G51),'Vendor List'!$A:$B,2,FALSE)","v":"70500.FCF"}]
["-",1,"08/13/2013","XXXXX08046","LOWE'S OF SALT LAKE SALT LAKE CITY UT",42.22,"LOWE'S",{"$f":"VLOOKUP(IF(A52=\"Yes\",\"Personal\",G52),'Vendor List'!$A:$B,2,FALSE)","v":"70000.FCF"}]
["-",1,"08/13/2013","XXXXX08047","OLYMPUS HILLS SERVICSALT LAKE CITY UT",15.03,"OLYMPUS HILLS SERVICE",{"$f":"VLOOKUP(IF(A53=\"Yes\",\"Personal\",G53),'Vendor List'!$A:$B,2,FALSE)","v":"40500.FCF"}]
["-",1,"08/13/2013","XXXXX08048","PLAZA CYCLE 0403 SALT LAKE CIT UT",93.77,"PLAZA CYCLE",{"$f":"VLOOKUP(IF(A54=\"Yes\",\"Personal\",G54),'Vendor List'!$A:$B,2,FALSE)","v":"12105.FCF"}]
["-",1,"08/13/2013","XXXXX08049","THERMOCRAFT 2104965411 TX",157.93,"THERMOCRAFT",{"$f":"VLOOKUP(IF(A55=\"Yes\",\"Personal\",G55),'Vendor List'!$A:$B,2,FALSE)","v":"70700.FCF"}]
["-",1,"08/14/2013","XXXXX08050","ADVANCED VETERINARY SALT LAKE CIT UT",58.5,"ADVANCED VET",{"$f":"VLOOKUP(IF(A56=\"Yes\",\"Personal\",G56),'Vendor List'!$A:$B,2,FALSE)","v":"17000.FCF"}]
["-",1,"08/14/2013","XXXXX08051","MCDONALD'S F6408 000SALT LAKE CI UT",9.6999999999999993,"MCDONALD'S",{"$f":"VLOOKUP(IF(A57=\"Yes\",\"Personal\",G57),'Vendor List'!$A:$B,2,FALSE)","v":"60800.FCF"}]
["-",1,"08/14/2013","XXXXX08052","VICTORS TIRES INC VISALT LAKE CITY UT",175,"VICTORS TIRES",{"$f":"VLOOKUP(IF(A58=\"Yes\",\"Personal\",G58),'Vendor List'!$A:$B,2,FALSE)","v":"12105.FCF"}]
["-",1,"08/15/2013","XXXXX08053","7-ELEVEN 26999 00072SALT LAKE CITY UT",9.2200000000000006,"7-ELEVEN",{"$f":"VLOOKUP(IF(A59=\"Yes\",\"Personal\",G59),'Vendor List'!$A:$B,2,FALSE)","v":"40500.FCF"}]
["-",1,"08/15/2013","XXXXX08054","7-ELEVEN 26999 00072SALT LAKE CITY UT",10.08,"7-ELEVEN",{"$f":"VLOOKUP(IF(A60=\"Yes\",\"Personal\",G60),'Vendor List'!$A:$B,2,FALSE)","v":"40500.FCF"}]
["-",1,"08/15/2013","XXXXX08055","7-ELEVEN 26999 00072SALT LAKE CITY UT",12.13,"7-ELEVEN",{"$f":"VLOOKUP(IF(A61=\"Yes\",\"Personal\",G61),'Vendor List'!$A:$B,2,FALSE)","v":"40500.FCF"}]
["-",1,"08/15/2013","XXXXX08056","DAN'S OLYMPUS 000000SALT LAKE CITY UT",15.22,"DAN'S FOOD",{"$f":"VLOOKUP(IF(A62=\"Yes\",\"Personal\",G62),'Vendor List'!$A:$B,2,FALSE)","v":"60800.FCF"}]
["-",1,"08/15/2013","XXXXX08057","OLYMPUS HILLS SERVICSALT LAKE CITY UT",15.03,"OLYMPUS HILLS SERVICE",{"$f":"VLOOKUP(IF(A63=\"Yes\",\"Personal\",G63),'Vendor List'!$A:$B,2,FALSE)","v":"40500.FCF"}]
["-",1,"08/15/2013","XXXXX08058","TURN KEY SERVICE SALT LAKE CIT UT",38,"Personal",{"$f":"VLOOKUP(IF(A64=\"Yes\",\"Personal\",G64),'Vendor List'!$A:$B,2,FALSE)","v":"17000.FCF"}]
["-",1,"08/16/2013","XXXXX08059","7-ELEVEN 26999 00072SALT LAKE CITY UT",10.07,"7-ELEVEN",{"$f":"VLOOKUP(IF(A65=\"Yes\",\"Personal\",G65),'Vendor List'!$A:$B,2,FALSE)","v":"40500.FCF"}]
["-",1,"08/16/2013","XXXXX08060","DELTA AIR LINES ATLANTA",194.9,"DELTA AIRLINES",{"$f":"VLOOKUP(IF(A66=\"Yes\",\"Personal\",G66),'Vendor List'!$A:$B,2,FALSE)","v":"12105.FCF"}]
["-",1,"08/16/2013","XXXXX08061","DELTA AIR LINES ATLANTA",194.9,"DELTA AIRLINES",{"$f":"VLOOKUP(IF(A67=\"Yes\",\"Personal\",G67),'Vendor List'!$A:$B,2,FALSE)","v":"12105.FCF"}]
["-",1,"08/16/2013","XXXXX08062","EINSTEIN BROS BAGELSSALT LAKE CIT UT",17.47,"EINSTEIN BROS.",{"$f":"VLOOKUP(IF(A68=\"Yes\",\"Personal\",G68),'Vendor List'!$A:$B,2,FALSE)","v":"60800.FCF"}]
["-",1,"08/16/2013","XXXXX08063","KWAL PAINT #85 0203 SALT LAKE CIT UT",157.88,"KWAL PAINT",{"$f":"VLOOKUP(IF(A69=\"Yes\",\"Personal\",G69),'Vendor List'!$A:$B,2,FALSE)","v":"70000.FCF"}]
["-",1,"08/16/2013","XXXXX08064","MCDONALD'S F719 0000SALT LAKE CI UT",16.18,"MCDONALD'S",{"$f":"VLOOKUP(IF(A70=\"Yes\",\"Personal\",G70),'Vendor List'!$A:$B,2,FALSE)","v":"60800.FCF"}]
["-",1,"08/16/2013","XXXXX08065","SEARS ROEBUCK 01118 SALT LAKE CIT UT",2.48,"SEARS ROEBUCK",{"$f":"VLOOKUP(IF(A71=\"Yes\",\"Personal\",G71),'Vendor List'!$A:$B,2,FALSE)","v":"12105.FCF"}]
["-",1,"08/16/2013","XXXXX08066","SEARS ROEBUCK 01118 SALT LAKE CIT UT",2.5,"SEARS ROEBUCK",{"$f":"VLOOKUP(IF(A72=\"Yes\",\"Personal\",G72),'Vendor List'!$A:$B,2,FALSE)","v":"12105.FCF"}]
["-",1,"08/17/2013","XXXXX08067","7-ELEVEN 26999 00072SALT LAKE CITY UT",15.01,"7-ELEVEN",{"$f":"VLOOKUP(IF(A73=\"Yes\",\"Personal\",G73),'Vendor List'!$A:$B,2,FALSE)","v":"40500.FCF"}]
["-",1,"08/17/2013","XXXXX08068","AUTO ZONE 0868 SALT LAKE CITY UT",13.98,"AUTO ZONE",{"$f":"VLOOKUP(IF(A74=\"Yes\",\"Personal\",G74),'Vendor List'!$A:$B,2,FALSE)","v":"72300.FCF"}]
["-",1,"08/17/2013","XXXXX08069","CHEVRON HOLIDAY OIL SALT LAKE CITY UT",15.01,"CHEVRON",{"$f":"VLOOKUP(IF(A75=\"Yes\",\"Personal\",G75),'Vendor List'!$A:$B,2,FALSE)","v":"40500.FCF"}]
["-",1,"08/18/2013","XXXXX08070","CHEVRON HOLIDAY OIL SOUTH JORDAN UT",10.02,"CHEVRON",{"$f":"VLOOKUP(IF(A76=\"Yes\",\"Personal\",G76),'Vendor List'!$A:$B,2,FALSE)","v":"40500.FCF"}]
["-",1,"08/19/2013","XXXXX08071","7-ELEVEN 26999 00072SALT LAKE CITY UT",10.18,"7-ELEVEN",{"$f":"VLOOKUP(IF(A77=\"Yes\",\"Personal\",G77),'Vendor List'!$A:$B,2,FALSE)","v":"40500.FCF"}]
["-",1,"08/19/2013","XXXXX08072","DIRECTV SERVICE 800-347-3288 CA",296.10000000000002,"DIRECTV",{"$f":"VLOOKUP(IF(A78=\"Yes\",\"Personal\",G78),'Vendor List'!$A:$B,2,FALSE)","v":"70000.FCF"}]
["-",1,"08/19/2013","XXXXX08073","OLYMPUS HILLS SERVICSALT LAKE CITY UT",15.01,"OLYMPUS HILLS SERVICE",{"$f":"VLOOKUP(IF(A79=\"Yes\",\"Personal\",G79),'Vendor List'!$A:$B,2,FALSE)","v":"40500.FCF"}]
["-",1,"08/20/2013","XXXXX08074","7-ELEVEN 26999 00072SALT LAKE CITY UT",10.01,"7-ELEVEN",{"$f":"VLOOKUP(IF(A80=\"Yes\",\"Personal\",G80),'Vendor List'!$A:$B,2,FALSE)","v":"40500.FCF"}]
["-",1,"08/20/2013","XXXXX08075","KFC/TB #536 0479 SALT LAKE CIT UT",21.02,"KFC/TB",{"$f":"VLOOKUP(IF(A81=\"Yes\",\"Personal\",G81),'Vendor List'!$A:$B,2,FALSE)","v":"60800.FCF"}]
["-",1,"08/21/2013","XXXXX08076","7-ELEVEN 26282 00072SALT LAKE CITY UT",49.99,"7-ELEVEN",{"$f":"VLOOKUP(IF(A82=\"Yes\",\"Personal\",G82),'Vendor List'!$A:$B,2,FALSE)","v":"40500.FCF"}]
["-",1,"08/21/2013","XXXXX08077","7-ELEVEN 26999 00072SALT LAKE CITY UT",7.79,"7-ELEVEN",{"$f":"VLOOKUP(IF(A83=\"Yes\",\"Personal\",G83),'Vendor List'!$A:$B,2,FALSE)","v":"40500.FCF"}]
["-",1,"08/21/2013","XXXXX08078","7-ELEVEN 26999 00072SALT LAKE CITY UT",12.26,"7-ELEVEN",{"$f":"VLOOKUP(IF(A84=\"Yes\",\"Personal\",G84),'Vendor List'!$A:$B,2,FALSE)","v":"40500.FCF"}]
["-",1,"08/21/2013","XXXXX08079","CHEVRON K & H ENTERPSALT LAKE CITY UT",9.0399999999999991,"CHEVRON",{"$f":"VLOOKUP(IF(A85=\"Yes\",\"Personal\",G85),'Vendor List'!$A:$B,2,FALSE)","v":"40500.FCF"}]
["-",1,"08/21/2013","XXXXX08080","CHEVRON PROV CTR CHECEDAR CITY UT",40.450000000000003,"CHEVRON",{"$f":"VLOOKUP(IF(A86=\"Yes\",\"Personal\",G86),'Vendor List'!$A:$B,2,FALSE)","v":"40500.FCF"}]
["-",1,"08/21/2013","XXXXX08081","CHEVRON TOP STOP C-5MURRAY UT",56.77,"CHEVRON",{"$f":"VLOOKUP(IF(A87=\"Yes\",\"Personal\",G87),'Vendor List'!$A:$B,2,FALSE)","v":"40500.FCF"}]
["-",1,"08/21/2013","XXXXX08082","DAN'S OLYMPUS 000000SALT LAKE CITY UT",26.04,"DAN'S FOOD",{"$f":"VLOOKUP(IF(A88=\"Yes\",\"Personal\",G88),'Vendor List'!$A:$B,2,FALSE)","v":"60800.FCF"}]
["-",1,"08/21/2013","XXXXX08083","HERTZ CAR RENTAL 800-654-4173 NV",66.31,"HERTZ",{"$f":"VLOOKUP(IF(A89=\"Yes\",\"Personal\",G89),'Vendor List'!$A:$B,2,FALSE)","v":"72900.FCF"}]
["-",1,"08/21/2013","XXXXX08084","KSL.COMDESERETDIGMEDSALT LAKE CIT UT",599,"KSL.COM",{"$f":"VLOOKUP(IF(A90=\"Yes\",\"Personal\",G90),'Vendor List'!$A:$B,2,FALSE)","v":"70700.FCF"}]
["-",1,"08/21/2013","XXXXX08085","PAYPAL *AMAUTOPARTS 4029357733 CA",23.95,"AM AUTO PARTS",{"$f":"VLOOKUP(IF(A91=\"Yes\",\"Personal\",G91),'Vendor List'!$A:$B,2,FALSE)","v":"12105.FCF"}]
["-",1,"08/21/2013","XXXXX08086","PAYPAL *NORDSTROMSA 4029357733 CA",25,"Personal",{"$f":"VLOOKUP(IF(A92=\"Yes\",\"Personal\",G92),'Vendor List'!$A:$B,2,FALSE)","v":"17000.FCF"}]
["-",1,"08/21/2013","XXXXX08087","REBEL #2187 HENDERSON NV",67.62,"REBEL",{"$f":"VLOOKUP(IF(A93=\"Yes\",\"Personal\",G93),'Vendor List'!$A:$B,2,FALSE)","v":"40500.FCF"}]
["-",1,"08/21/2013","XXXXX08088","REBEL #2187 HENDERSON NV",91.6,"REBEL",{"$f":"VLOOKUP(IF(A94=\"Yes\",\"Personal\",G94),'Vendor List'!$A:$B,2,FALSE)","v":"40500.FCF"}]
["-",1,"08/22/2013","XXXXX08089","CLARITY SKIN LLC 300DRAPER UT",250,"Personal",{"$f":"VLOOKUP(IF(A95=\"Yes\",\"Personal\",G95),'Vendor List'!$A:$B,2,FALSE)","v":"17000.FCF"}]
["-",1,"08/22/2013","XXXXX08090","MCDONALD'S F4010 000SALT LAKE CI UT",26.38,"MCDONALD'S",{"$f":"VLOOKUP(IF(A96=\"Yes\",\"Personal\",G96),'Vendor List'!$A:$B,2,FALSE)","v":"60800.FCF"}]
["-",1,"08/22/2013","XXXXX08091","OLYMPUS HILLS SERVICSALT LAKE CITY UT",20.03,"OLYMPUS HILLS SERVICE",{"$f":"VLOOKUP(IF(A97=\"Yes\",\"Personal\",G97),'Vendor List'!$A:$B,2,FALSE)","v":"40500.FCF"}]
["-",1,"08/23/2013","XXXXX08092","CHEVRON K & H ENTERPSALT LAKE CITY UT",15.28,"CHEVRON",{"$f":"VLOOKUP(IF(A98=\"Yes\",\"Personal\",G98),'Vendor List'!$A:$B,2,FALSE)","v":"40500.FCF"}]
["-",1,"08/23/2013","XXXXX08093","GARFF NISSAN SLC SERSALT LAKE CITY UT",245,"Auto Parts",{"$f":"VLOOKUP(IF(A99=\"Yes\",\"Personal\",G99),'Vendor List'!$A:$B,2,FALSE)","v":"12105.FCF"}]
["-",1,"08/23/2013","XXXXX08094","GREAT HARVEST BREAD SALT LAKE CITY UT",16.5,"GREAT HARVEST",{"$f":"VLOOKUP(IF(A100=\"Yes\",\"Personal\",G100),'Vendor List'!$A:$B,2,FALSE)","v":"60800.FCF"}]
["-",1,"08/23/2013","XXXXX08095","SMITHS FOOD #4044 008666111979",7.2,"SMITHS FOOD",{"$f":"VLOOKUP(IF(A101=\"Yes\",\"Personal\",G101),'Vendor List'!$A:$B,2,FALSE)","v":"70000.FCF"}]
["-",1,"08/24/2013","XXXXX08096","DAN'S OLYMPUS 000000SALT LAKE CITY UT",3.05,"DAN'S FOOD",{"$f":"VLOOKUP(IF(A102=\"Yes\",\"Personal\",G102),'Vendor List'!$A:$B,2,FALSE)","v":"60800.FCF"}]
["-",1,"08/24/2013","XXXXX08097","DAN'S OLYMPUS 000000SALT LAKE CITY UT",23.84,"DAN'S FOOD",{"$f":"VLOOKUP(IF(A103=\"Yes\",\"Personal\",G103),'Vendor List'!$A:$B,2,FALSE)","v":"60800.FCF"}]
["-",1,"08/24/2013","XXXXX08098","GAY USA PAGES 542929ALTAMONTE SPR FL",99,"GAY USA PAGES",{"$f":"VLOOKUP(IF(A104=\"Yes\",\"Personal\",G104),'Vendor List'!$A:$B,2,FALSE)","v":"50200.FCF"}]
["-",1,"08/24/2013","XXXXX08099","OLYMPUS HILLS SERVICSALT LAKE CITY UT",20,"OLYMPUS HILLS SERVICE",{"$f":"VLOOKUP(IF(A105=\"Yes\",\"Personal\",G105),'Vendor List'!$A:$B,2,FALSE)","v":"40500.FCF"}]
["-",1,"08/26/2013","XXXXX08100","7-ELEVEN 26999 00072SALT LAKE CITY UT",7.5,"7-ELEVEN",{"$f":"VLOOKUP(IF(A106=\"Yes\",\"Personal\",G106),'Vendor List'!$A:$B,2,FALSE)","v":"40500.FCF"}]
["-",1,"08/26/2013","XXXXX08101","7-ELEVEN 26999 00072SALT LAKE CITY UT",12.35,"7-ELEVEN",{"$f":"VLOOKUP(IF(A107=\"Yes\",\"Personal\",G107),'Vendor List'!$A:$B,2,FALSE)","v":"40500.FCF"}]
["-",1,"08/26/2013","XXXXX08102","INDEPENDENT DEALER SMIDVALE UT",153.6,"INDEPENDENT DEALERS",{"$f":"VLOOKUP(IF(A108=\"Yes\",\"Personal\",G108),'Vendor List'!$A:$B,2,FALSE)","v":"70000.FCF"}]
["-",1,"08/26/2013","XXXXX08103","PAYPAL *LALOND30 4029357733 CA",74.989999999999995,"Personal",{"$f":"VLOOKUP(IF(A109=\"Yes\",\"Personal\",G109),'Vendor List'!$A:$B,2,FALSE)","v":"17000.FCF"}]
["-",1,"08/26/2013","XXXXX08104","PAYPAL *ZHUJIAYI 4029357733 CA",6.5,"Personal",{"$f":"VLOOKUP(IF(A110=\"Yes\",\"Personal\",G110),'Vendor List'!$A:$B,2,FALSE)","v":"17000.FCF"}]
["-",1,"08/27/2013","XXXXX08105","7-ELEVEN 26999 00072SALT LAKE CITY UT",19.48,"7-ELEVEN",{"$f":"VLOOKUP(IF(A111=\"Yes\",\"Personal\",G111),'Vendor List'!$A:$B,2,FALSE)","v":"40500.FCF"}]
["-",1,"08/27/2013","XXXXX08106","7-ELEVEN 36411 00073PRICE UT",6.37,"7-ELEVEN",{"$f":"VLOOKUP(IF(A112=\"Yes\",\"Personal\",G112),'Vendor List'!$A:$B,2,FALSE)","v":"40500.FCF"}]
["-",1,"08/27/2013","XXXXX08107","GIANT #6068 54292980PAGOSA SPRING CO",75.41,"Personal",{"$f":"VLOOKUP(IF(A113=\"Yes\",\"Personal\",G113),'Vendor List'!$A:$B,2,FALSE)","v":"17000.FCF"}]
["-",1,"08/27/2013","XXXXX08108","MARKET EXPRESS 00000PRICE UT",39.93,"Personal",{"$f":"VLOOKUP(IF(A114=\"Yes\",\"Personal\",G114),'Vendor List'!$A:$B,2,FALSE)","v":"17000.FCF"}]
["-",1,"08/27/2013","XXXXX08109","MAVERIK COUNTRY STORMOAB UT",51.89,"MAVERIK",{"$f":"VLOOKUP(IF(A115=\"Yes\",\"Personal\",G115),'Vendor List'!$A:$B,2,FALSE)","v":"40500.FCF"}]
["-",1,"08/27/2013","XXXXX08110","NATIONAL PEN 10892958003477367",236.4,"NATIONAL PEN",{"$f":"VLOOKUP(IF(A116=\"Yes\",\"Personal\",G116),'Vendor List'!$A:$B,2,FALSE)","v":"70000.FCF"}]
["-",1,"08/27/2013","XXXXX08111","PAYPAL *ENFOTRACEGP 4029357733 CA",14.95,"EnfoTrace",{"$f":"VLOOKUP(IF(A117=\"Yes\",\"Personal\",G117),'Vendor List'!$A:$B,2,FALSE)","v":"12105.FCF"}]
["-",1,"08/27/2013","XXXXX08112","SHELL OIL 5744460070SALT LAKE CITY UT",15,"SHELL OIL",{"$f":"VLOOKUP(IF(A118=\"Yes\",\"Personal\",G118),'Vendor List'!$A:$B,2,FALSE)","v":"70500.FCF"}]
["-",1,"08/27/2013","XXXXX08113","WALKERS 17 00310391 PRICE UT",42.81,"WALKERS",{"$f":"VLOOKUP(IF(A119=\"Yes\",\"Personal\",G119),'Vendor List'!$A:$B,2,FALSE)","v":"40500.FCF"}]
["-",1,"08/27/2013","XXXXX08114","WWW.GOTOMYPC.COM SERVICE/SW",21.32,"gotomypc.com",{"$f":"VLOOKUP(IF(A120=\"Yes\",\"Personal\",G120),'Vendor List'!$A:$B,2,FALSE)","v":"60700.FCF"}]
["-",1,"08/28/2013","XXXXX08115","7-ELEVEN 26999 00072SALT LAKE CITY UT",20.07,"7-ELEVEN",{"$f":"VLOOKUP(IF(A121=\"Yes\",\"Personal\",G121),'Vendor List'!$A:$B,2,FALSE)","v":"40500.FCF"}]
["-",1,"08/28/2013","XXXXX08116","HERTZ CAR RENTAL 800-654-4173 UT",205.23,"HERTZ",{"$f":"VLOOKUP(IF(A122=\"Yes\",\"Personal\",G122),'Vendor List'!$A:$B,2,FALSE)","v":"72900.FCF"}]
["-",1,"08/28/2013","XXXXX08117","HOLIDAY OIL #07 0000DRAPER UT",50.25,"HOLIDAY OIL",{"$f":"VLOOKUP(IF(A123=\"Yes\",\"Personal\",G123),'Vendor List'!$A:$B,2,FALSE)","v":"40500.FCF"}]
["-",1,"08/28/2013","XXXXX08118","MAVERIK #438 0000000SALT LAKE CITY UT",15.01,"MAVERIK",{"$f":"VLOOKUP(IF(A124=\"Yes\",\"Personal\",G124),'Vendor List'!$A:$B,2,FALSE)","v":"40500.FCF"}]
["-",1,"08/28/2013","XXXXX08119","PAYPAL *ECONOMYAUTO 4029357733 MN",38,"Auto Parts",{"$f":"VLOOKUP(IF(A125=\"Yes\",\"Personal\",G125),'Vendor List'!$A:$B,2,FALSE)","v":"12105.FCF"}]
["-",1,"08/28/2013","XXXXX08120","PAYPAL *TRIVETTES 4029357733 TN",69.989999999999995,"Auto Parts",{"$f":"VLOOKUP(IF(A126=\"Yes\",\"Personal\",G126),'Vendor List'!$A:$B,2,FALSE)","v":"12105.FCF"}]
["-",1,"08/29/2013","XXXXX08121","7-ELEVEN 26999 00072SALT LAKE CITY UT",11.55,"7-ELEVEN",{"$f":"VLOOKUP(IF(A127=\"Yes\",\"Personal\",G127),'Vendor List'!$A:$B,2,FALSE)","v":"40500.FCF"}]
["-",1,"08/29/2013","XXXXX08122","U OF U DERM MURRAY #MURRAY UT",35,"Personal",{"$f":"VLOOKUP(IF(A128=\"Yes\",\"Personal\",G128),'Vendor List'!$A:$B,2,FALSE)","v":"17000.FCF"}]
["-",1,"08/30/2013","XXXXX08123","7-ELEVEN 26999 00072SALT LAKE CITY UT",10.17,"7-ELEVEN",{"$f":"VLOOKUP(IF(A129=\"Yes\",\"Personal\",G129),'Vendor List'!$A:$B,2,FALSE)","v":"40500.FCF"}]
["-",1,"08/30/2013","XXXXX08124","GREAT HARVEST BREAD SALT LAKE CITY UT",13.23,"GREAT HARVEST",{"$f":"VLOOKUP(IF(A130=\"Yes\",\"Personal\",G130),'Vendor List'!$A:$B,2,FALSE)","v":"60800.FCF"}]
["-",1,"08/30/2013","XXXXX08125","OLYMPUS HILLS SERVICSALT LAKE CITY UT",20,"OLYMPUS HILLS SERVICE",{"$f":"VLOOKUP(IF(A131=\"Yes\",\"Personal\",G131),'Vendor List'!$A:$B,2,FALSE)","v":"40500.FCF"}]
["-",1,"08/30/2013","XXXXX08126","Starbucks #13391 SalSalt Lake City UT",8.14,"Starbucks",{"$f":"VLOOKUP(IF(A132=\"Yes\",\"Personal\",G132),'Vendor List'!$A:$B,2,FALSE)","v":"60800.FCF"}]
["-",1,"08/31/2013","XXXXX08127","7-ELEVEN 26282 00072SALT LAKE CITY UT",20.05,"7-ELEVEN",{"$f":"VLOOKUP(IF(A133=\"Yes\",\"Personal\",G133),'Vendor List'!$A:$B,2,FALSE)","v":"40500.FCF"}]
["-",1,"08/31/2013","XXXXX08128","7-ELEVEN 26999 00072SALT LAKE CITY UT",11.26,"7-ELEVEN",{"$f":"VLOOKUP(IF(A134=\"Yes\",\"Personal\",G134),'Vendor List'!$A:$B,2,FALSE)","v":"40500.FCF"}]
["-",1,"08/31/2013","XXXXX08129","PAYPAL *ENFOTRACEGP 4029357733 CA",17.899999999999999,"EnfoTrace",{"$f":"VLOOKUP(IF(A135=\"Yes\",\"Personal\",G135),'Vendor List'!$A:$B,2,FALSE)","v":"12105.FCF"}]
["-",5,"2013-08-31","XXXXX08~JE","AMEX XXXXX Payable",{"$f":"SUM($F$6:$F$135)","v":10164.799999999999},"Amex 48004 Payable",{"$f":"VLOOKUP(IF(A136=\"Yes\",\"Personal\",G136),'Vendor List'!$A:$B,2,FALSE)","v":"24059.FCF"}]
["-",1,"09/01/2013","XXXXX09001","DAN'S OLYMPUS 000000SALT LAKE CITY UT",11.4,"DAN'S FOOD",{"$f":"VLOOKUP(IF(A137=\"Yes\",\"Personal\",G137),'Vendor List'!$A:$B,2,FALSE)","v":"60800.FCF"}]
["-",1,"09/01/2013","XXXXX09002","DAN'S OLYMPUS 000000SALT LAKE CITY UT",96.7,"DAN'S FOOD",{"$f":"VLOOKUP(IF(A138=\"Yes\",\"Personal\",G138),'Vendor List'!$A:$B,2,FALSE)","v":"60800.FCF"}]
["-",1,"09/01/2013","XXXXX09003","KFC/TB #536 0479 SALT LAKE CIT UT",11.11,"KFC/TB",{"$f":"VLOOKUP(IF(A139=\"Yes\",\"Personal\",G139),'Vendor List'!$A:$B,2,FALSE)","v":"60800.FCF"}]
["-",1,"09/02/2013","XXXXX09004","7-ELEVEN 26999 00072SALT LAKE CITY UT",15.49,"7-ELEVEN",{"$f":"VLOOKUP(IF(A140=\"Yes\",\"Personal\",G140),'Vendor List'!$A:$B,2,FALSE)","v":"40500.FCF"}]
["-",1,"09/02/2013","XXXXX09005","DAN'S OLYMPUS 000000SALT LAKE CITY UT",3.09,"DAN'S FOOD",{"$f":"VLOOKUP(IF(A141=\"Yes\",\"Personal\",G141),'Vendor List'!$A:$B,2,FALSE)","v":"60800.FCF"}]
["-",1,"09/02/2013","XXXXX09006","OLYMPUS HILLS SERVICSALT LAKE CITY UT",15,"OLYMPUS HILLS SERVICE",{"$f":"VLOOKUP(IF(A142=\"Yes\",\"Personal\",G142),'Vendor List'!$A:$B,2,FALSE)","v":"40500.FCF"}]
["-",1,"09/02/2013","XXXXX09007","PAYPAL *ENFOTRACEGP 4029357733 CA",8.9499999999999993,"EnfoTrace",{"$f":"VLOOKUP(IF(A143=\"Yes\",\"Personal\",G143),'Vendor List'!$A:$B,2,FALSE)","v":"12105.FCF"}]
["-",1,"09/02/2013","XXXXX09008","PAYPAL *GTCAUTOMOTI 4029357733 CA",30,"Auto Parts",{"$f":"VLOOKUP(IF(A144=\"Yes\",\"Personal\",G144),'Vendor List'!$A:$B,2,FALSE)","v":"12105.FCF"}]
["-",1,"09/03/2013","XXXXX09009","7-ELEVEN 26282 00072SALT LAKE CITY UT",20.079999999999998,"7-ELEVEN",{"$f":"VLOOKUP(IF(A145=\"Yes\",\"Personal\",G145),'Vendor List'!$A:$B,2,FALSE)","v":"40500.FCF"}]
["-",1,"09/03/2013","XXXXX09010","HOLIDAY OIL #07 0000DRAPER UT",46.05,"HOLIDAY OIL",{"$f":"VLOOKUP(IF(A146=\"Yes\",\"Personal\",G146),'Vendor List'!$A:$B,2,FALSE)","v":"40500.FCF"}]
["-",1,"09/03/2013","XXXXX09011","Starbucks #13391 SalSalt Lake City UT",10.95,"Starbucks",{"$f":"VLOOKUP(IF(A147=\"Yes\",\"Personal\",G147),'Vendor List'!$A:$B,2,FALSE)","v":"60800.FCF"}]
["-",1,"09/03/2013","XXXXX09012","VICTORS TIRES INC VISALT LAKE CITY UT",105,"VICTORS TIRES",{"$f":"VLOOKUP(IF(A148=\"Yes\",\"Personal\",G148),'Vendor List'!$A:$B,2,FALSE)","v":"12105.FCF"}]
["-",1,"09/04/2013","XXXXX09013","7-ELEVEN 26999 00072SALT LAKE CITY UT",19.12,"7-ELEVEN",{"$f":"VLOOKUP(IF(A149=\"Yes\",\"Personal\",G149),'Vendor List'!$A:$B,2,FALSE)","v":"40500.FCF"}]
["-",1,"09/04/2013","XXXXX09014","DAN'S OLYMPUS 000000SALT LAKE CITY UT",12.36,"DAN'S FOOD",{"$f":"VLOOKUP(IF(A150=\"Yes\",\"Personal\",G150),'Vendor List'!$A:$B,2,FALSE)","v":"60800.FCF"}]
["-",1,"09/04/2013","XXXXX09015","MCDONALD'S F6408 000SALT LAKE CI UT",6.77,"MCDONALD'S",{"$f":"VLOOKUP(IF(A151=\"Yes\",\"Personal\",G151),'Vendor List'!$A:$B,2,FALSE)","v":"60800.FCF"}]
["-",1,"09/05/2013","XXXXX09016","ADVANCED VETERINARY SALT LAKE CIT UT",58.5,"ADVANCED VET",{"$f":"VLOOKUP(IF(A152=\"Yes\",\"Personal\",G152),'Vendor List'!$A:$B,2,FALSE)","v":"17000.FCF"}]
["-",1,"09/05/2013","XXXXX09017","IFA SALT LAKE CITY SALT LAKE UT",277.25,"Personal",{"$f":"VLOOKUP(IF(A153=\"Yes\",\"Personal\",G153),'Vendor List'!$A:$B,2,FALSE)","v":"17000.FCF"}]
["-",1,"09/05/2013","XXXXX09018","MAVERIK COUNTRY STORSALT LAKE CITY UT",1.53,"MAVERIK",{"$f":"VLOOKUP(IF(A154=\"Yes\",\"Personal\",G154),'Vendor List'!$A:$B,2,FALSE)","v":"40500.FCF"}]
["-",1,"09/05/2013","XXXXX09019","OLYMPUS HILLS SERVICSALT LAKE CITY UT",15.02,"OLYMPUS HILLS SERVICE",{"$f":"VLOOKUP(IF(A155=\"Yes\",\"Personal\",G155),'Vendor List'!$A:$B,2,FALSE)","v":"40500.FCF"}]
["-",1,"09/05/2013","XXXXX09020","SPEED'S POWER EQUIPM801-487-3431",21,"SPEED'S POWER EQUIP.",{"$f":"VLOOKUP(IF(A156=\"Yes\",\"Personal\",G156),'Vendor List'!$A:$B,2,FALSE)","v":"60100.FCF"}]
["-",1,"09/06/2013","XXXXX09021","7-ELEVEN 26999 00072SALT LAKE CITY UT",9.41,"7-ELEVEN",{"$f":"VLOOKUP(IF(A157=\"Yes\",\"Personal\",G157),'Vendor List'!$A:$B,2,FALSE)","v":"40500.FCF"}]
["-",1,"09/06/2013","XXXXX09022","DELTA AIR LINES ATLANTA",5,"DELTA AIRLINES",{"$f":"VLOOKUP(IF(A158=\"Yes\",\"Personal\",G158),'Vendor List'!$A:$B,2,FALSE)","v":"12105.FCF"}]
["-",1,"09/06/2013","XXXXX09023","MCDONALD'S F719 0000SALT LAKE CI UT",43.92,"MCDONALD'S",{"$f":"VLOOKUP(IF(A159=\"Yes\",\"Personal\",G159),'Vendor List'!$A:$B,2,FALSE)","v":"60800.FCF"}]
["-",1,"09/06/2013","XXXXX09024","SCALA-BARDRAKE-STARLSAN FRANCISCO CA",119.25,"Personal",{"$f":"VLOOKUP(IF(A160=\"Yes\",\"Personal\",G160),'Vendor List'!$A:$B,2,FALSE)","v":"17000.FCF"}]
["-",1,"09/07/2013","XXXXX09025","7-ELEVEN 26999 00072SALT LAKE CITY UT",13.08,"7-ELEVEN",{"$f":"VLOOKUP(IF(A161=\"Yes\",\"Personal\",G161),'Vendor List'!$A:$B,2,FALSE)","v":"40500.FCF"}]
["-",1,"09/07/2013","XXXXX09026","IHG SFOHBPMS SAN FRANCISCO CA",295.69,"Personal",{"$f":"VLOOKUP(IF(A162=\"Yes\",\"Personal\",G162),'Vendor List'!$A:$B,2,FALSE)","v":"17000.FCF"}]
["-",1,"09/07/2013","XXXXX09027","MES*GLEN'S LOCK & KESALT LAKE CIT UT",4.95,"Glen's Lock & Key",{"$f":"VLOOKUP(IF(A163=\"Yes\",\"Personal\",G163),'Vendor List'!$A:$B,2,FALSE)","v":"12105.FCF"}]
["-",1,"09/08/2013","XXXXX09028","DELTA AIR LINES ATLANTA",32.9,"DELTA AIRLINES",{"$f":"VLOOKUP(IF(A164=\"Yes\",\"Personal\",G164),'Vendor List'!$A:$B,2,FALSE)","v":"12105.FCF"}]
["-",1,"09/08/2013","XXXXX09029","DELTA AIR LINES ATLANTA",182.9,"DELTA AIRLINES",{"$f":"VLOOKUP(IF(A165=\"Yes\",\"Personal\",G165),'Vendor List'!$A:$B,2,FALSE)","v":"12105.FCF"}]
["-",1,"09/08/2013","XXXXX09030","HOLIDAY OIL #07 0000DRAPER UT",45.57,"HOLIDAY OIL",{"$f":"VLOOKUP(IF(A166=\"Yes\",\"Personal\",G166),'Vendor List'!$A:$B,2,FALSE)","v":"40500.FCF"}]
["-",1,"09/08/2013","XXXXX09031","MORTON'S OF SAN FRANSAN FRANCISCO CA",447.15,"MORTON'S",{"$f":"VLOOKUP(IF(A167=\"Yes\",\"Personal\",G167),'Vendor List'!$A:$B,2,FALSE)","v":"60800.FCF"}]
["-",1,"09/09/2013","XXXXX09032","7-ELEVEN 26999 00072SALT LAKE CITY UT",7.62,"7-ELEVEN",{"$f":"VLOOKUP(IF(A168=\"Yes\",\"Personal\",G168),'Vendor List'!$A:$B,2,FALSE)","v":"40500.FCF"}]
["-",1,"09/09/2013","XXXXX09033","7-ELEVEN 26999 00072SALT LAKE CITY UT",14.49,"7-ELEVEN",{"$f":"VLOOKUP(IF(A169=\"Yes\",\"Personal\",G169),'Vendor List'!$A:$B,2,FALSE)","v":"40500.FCF"}]
["-",1,"09/09/2013","XXXXX09034","CHEVRON HOLIDAY OIL SALT LAKE CITY UT",7.52,"CHEVRON",{"$f":"VLOOKUP(IF(A170=\"Yes\",\"Personal\",G170),'Vendor List'!$A:$B,2,FALSE)","v":"40500.FCF"}]
["-",1,"09/09/2013","XXXXX09035","CHEVRON HOLIDAY OIL SALT LAKE CITY UT",20.010000000000002,"CHEVRON",{"$f":"VLOOKUP(IF(A171=\"Yes\",\"Personal\",G171),'Vendor List'!$A:$B,2,FALSE)","v":"40500.FCF"}]
["-",1,"09/09/2013","XXXXX09036","CHEVRON K & H ENTERPSALT LAKE CITY UT",12.39,"CHEVRON",{"$f":"VLOOKUP(IF(A172=\"Yes\",\"Personal\",G172),'Vendor List'!$A:$B,2,FALSE)","v":"40500.FCF"}]
["-",1,"09/09/2013","XXXXX09037","CHEVRON K & H ENTERPSALT LAKE CITY UT",20.02,"CHEVRON",{"$f":"VLOOKUP(IF(A173=\"Yes\",\"Personal\",G173),'Vendor List'!$A:$B,2,FALSE)","v":"40500.FCF"}]
["-",1,"09/09/2013","XXXXX09038","HERTZ CAR RENTAL 800-654-4173 CA",129.97,"HERTZ",{"$f":"VLOOKUP(IF(A174=\"Yes\",\"Personal\",G174),'Vendor List'!$A:$B,2,FALSE)","v":"72900.FCF"}]
["-",1,"09/09/2013","XXXXX09039","Interest Charge on Purchases",241.62,"Interest Charged",{"$f":"VLOOKUP(IF(A175=\"Yes\",\"Personal\",G175),'Vendor List'!$A:$B,2,FALSE)","v":"65300.FCF"}]
["-",1,"09/09/2013","XXXXX09040","PAYPAL *FULLGEAR4WD 4029357733 CA",32.5,"Personal",{"$f":"VLOOKUP(IF(A176=\"Yes\",\"Personal\",G176),'Vendor List'!$A:$B,2,FALSE)","v":"17000.FCF"}]
["-",1,"09/10/2013","XXXXX09041","7-ELEVEN 26999 00072SALT LAKE CITY UT",18.22,"7-ELEVEN",{"$f":"VLOOKUP(IF(A177=\"Yes\",\"Personal\",G177),'Vendor List'!$A:$B,2,FALSE)","v":"40500.FCF"}]
["-",1,"09/10/2013","XXXXX09042","CHEVRON K & H ENTERPSALT LAKE CITY UT",10.02,"CHEVRON",{"$f":"VLOOKUP(IF(A178=\"Yes\",\"Personal\",G178),'Vendor List'!$A:$B,2,FALSE)","v":"40500.FCF"}]
["-",1,"09/10/2013","XXXXX09043","HYATT HOTELS GRAND SSAN FRANCISCO CA",624.70000000000005,"HYATT HOTEL",{"$f":"VLOOKUP(IF(A179=\"Yes\",\"Personal\",G179),'Vendor List'!$A:$B,2,FALSE)","v":"12105.FCF"}]
["-",1,"09/10/2013","XXXXX09044","OLYMPUS HILLS SERVICSALT LAKE CITY UT",15.04,"OLYMPUS HILLS SERVICE",{"$f":"VLOOKUP(IF(A180=\"Yes\",\"Personal\",G180),'Vendor List'!$A:$B,2,FALSE)","v":"40500.FCF"}]
["-",1,"09/10/2013","XXXXX09045","PAYPAL *ENFOTRACEGP 4029357733 CA",159.6,"EnfoTrace",{"$f":"VLOOKUP(IF(A181=\"Yes\",\"Personal\",G181),'Vendor List'!$A:$B,2,FALSE)","v":"12105.FCF"}]
["-",1,"09/11/2013","XXXXX09046","7-ELEVEN 26282 00072SALT LAKE CITY UT",12.28,"7-ELEVEN",{"$f":"VLOOKUP(IF(A182=\"Yes\",\"Personal\",G182),'Vendor List'!$A:$B,2,FALSE)","v":"40500.FCF"}]
["-",1,"09/11/2013","XXXXX09047","ACE HARDWARE AT OLYSALT LAKE CIT UT",6.93,"ACE HARDWARE",{"$f":"VLOOKUP(IF(A183=\"Yes\",\"Personal\",G183),'Vendor List'!$A:$B,2,FALSE)","v":"70000.FCF"}]
["-",1,"09/11/2013","XXXXX09048","COMCAST CABLE COMM 800-COMCAST UT",121.35,"COMCAST",{"$f":"VLOOKUP(IF(A184=\"Yes\",\"Personal\",G184),'Vendor List'!$A:$B,2,FALSE)","v":"17000.FCF"}]
["-",1,"09/11/2013","XXXXX09049","HOTELS.COM US1140063800-219-4606 NV",413.37,"HOTELS.COM",{"$f":"VLOOKUP(IF(A185=\"Yes\",\"Personal\",G185),'Vendor List'!$A:$B,2,FALSE)","v":"72900.FCF"}]
["-",1,"09/11/2013","XXXXX09050","MCDONALD'S F4010 000SALT LAKE CI UT",26.38,"MCDONALD'S",{"$f":"VLOOKUP(IF(A186=\"Yes\",\"Personal\",G186),'Vendor List'!$A:$B,2,FALSE)","v":"60800.FCF"}]
["-",1,"09/12/2013","XXXXX09051","INDEPENDENT DEALER SOGDEN UT",841.45,"INDEPENDENT DEALERS",{"$f":"VLOOKUP(IF(A187=\"Yes\",\"Personal\",G187),'Vendor List'!$A:$B,2,FALSE)","v":"70000.FCF"}]
["-",1,"09/12/2013","XXXXX09052","SUPERIOR PAINT SUPPLSALT LAKE CITY UT",15.9,"SUPERIOR PAINT",{"$f":"VLOOKUP(IF(A188=\"Yes\",\"Personal\",G188),'Vendor List'!$A:$B,2,FALSE)","v":"72300.FCF"}]
["-",1,"09/13/2013","XXXXX09053","7-ELEVEN 26282 00072SALT LAKE CITY UT",9.2100000000000009,"7-ELEVEN",{"$f":"VLOOKUP(IF(A189=\"Yes\",\"Personal\",G189),'Vendor List'!$A:$B,2,FALSE)","v":"40500.FCF"}]
["-",1,"09/13/2013","XXXXX09054","7-ELEVEN 26999 00072SALT LAKE CITY UT",7.03,"7-ELEVEN",{"$f":"VLOOKUP(IF(A190=\"Yes\",\"Personal\",G190),'Vendor List'!$A:$B,2,FALSE)","v":"40500.FCF"}]
["-",1,"09/13/2013","XXXXX09055","7-ELEVEN 26999 00072SALT LAKE CITY UT",8.0399999999999991,"7-ELEVEN",{"$f":"VLOOKUP(IF(A191=\"Yes\",\"Personal\",G191),'Vendor List'!$A:$B,2,FALSE)","v":"40500.FCF"}]
["-",1,"09/13/2013","XXXXX09056","7-ELEVEN 26999 00072SALT LAKE CITY UT",10.11,"7-ELEVEN",{"$f":"VLOOKUP(IF(A192=\"Yes\",\"Personal\",G192),'Vendor List'!$A:$B,2,FALSE)","v":"40500.FCF"}]
["-",1,"09/13/2013","XXXXX09057","DAN'S OLYMPUS 000000SALT LAKE CITY UT",16.86,"DAN'S FOOD",{"$f":"VLOOKUP(IF(A193=\"Yes\",\"Personal\",G193),'Vendor List'!$A:$B,2,FALSE)","v":"60800.FCF"}]
["-",1,"09/13/2013","XXXXX09058","MCDONALD'S F6396 000SALT LAKE CI UT",5.39,"MCDONALD'S",{"$f":"VLOOKUP(IF(A194=\"Yes\",\"Personal\",G194),'Vendor List'!$A:$B,2,FALSE)","v":"60800.FCF"}]
["-",1,"09/13/2013","XXXXX09059","MES*GLEN'S LOCK & KESALT LAKE CIT UT",10,"Glen's Lock & Key",{"$f":"VLOOKUP(IF(A195=\"Yes\",\"Personal\",G195),'Vendor List'!$A:$B,2,FALSE)","v":"12105.FCF"}]
["-",1,"09/13/2013","XXXXX09060","MES*GLEN'S LOCK & KESALT LAKE CIT UT",98.4,"Glen's Lock & Key",{"$f":"VLOOKUP(IF(A196=\"Yes\",\"Personal\",G196),'Vendor List'!$A:$B,2,FALSE)","v":"12105.FCF"}]
["-",1,"09/13/2013","XXXXX09061","OLYMPUS HILLS SERVICSALT LAKE CITY UT",20.03,"OLYMPUS HILLS SERVICE",{"$f":"VLOOKUP(IF(A197=\"Yes\",\"Personal\",G197),'Vendor List'!$A:$B,2,FALSE)","v":"40500.FCF"}]
["-",1,"09/13/2013","XXXXX09062","SUPERIOR PAINT SUPPLSALT LAKE CITY UT",15.97,"SUPERIOR PAINT",{"$f":"VLOOKUP(IF(A198=\"Yes\",\"Personal\",G198),'Vendor List'!$A:$B,2,FALSE)","v":"72300.FCF"}]
["-",1,"09/15/2013","XXXXX09063","DELTA AIR LINES ATLANTA",7,"DELTA AIRLINES",{"$f":"VLOOKUP(IF(A199=\"Yes\",\"Personal\",G199),'Vendor List'!$A:$B,2,FALSE)","v":"12105.FCF"}]
["-",1,"09/15/2013","XXXXX09064","HOLIDAY OIL #07 0000DRAPER UT",20.149999999999999,"HOLIDAY OIL",{"$f":"VLOOKUP(IF(A200=\"Yes\",\"Personal\",G200),'Vendor List'!$A:$B,2,FALSE)","v":"40500.FCF"}]
["-",1,"09/16/2013","XXXXX09065","7-ELEVEN 26999 00072SALT LAKE CITY UT",9.18,"7-ELEVEN",{"$f":"VLOOKUP(IF(A201=\"Yes\",\"Personal\",G201),'Vendor List'!$A:$B,2,FALSE)","v":"40500.FCF"}]
["-",1,"09/16/2013","XXXXX09066","7-ELEVEN 26999 00072SALT LAKE CITY UT",17.34,"7-ELEVEN",{"$f":"VLOOKUP(IF(A202=\"Yes\",\"Personal\",G202),'Vendor List'!$A:$B,2,FALSE)","v":"40500.FCF"}]
["-",1,"09/17/2013","XXXXX09067","20% In-Flight Savings for Delta SkyMiles",-1.4,"DELTA AIRLINES",{"$f":"VLOOKUP(IF(A203=\"Yes\",\"Personal\",G203),'Vendor List'!$A:$B,2,FALSE)","v":"12105.FCF"}]
["-",1,"09/17/2013","XXXXX09068","7-ELEVEN 26999 00072SALT LAKE CITY UT",1.07,"7-ELEVEN",{"$f":"VLOOKUP(IF(A204=\"Yes\",\"Personal\",G204),'Vendor List'!$A:$B,2,FALSE)","v":"40500.FCF"}]
["-",1,"09/17/2013","XXXXX09069","7-ELEVEN 26999 00072SALT LAKE CITY UT",10.029999999999999,"7-ELEVEN",{"$f":"VLOOKUP(IF(A205=\"Yes\",\"Personal\",G205),'Vendor List'!$A:$B,2,FALSE)","v":"40500.FCF"}]
["-",1,"09/17/2013","XXXXX09070","KWAL PAINT #85 0203 SALT LAKE CIT UT",163.35,"KWAL PAINT",{"$f":"VLOOKUP(IF(A206=\"Yes\",\"Personal\",G206),'Vendor List'!$A:$B,2,FALSE)","v":"70000.FCF"}]
["-",1,"09/17/2013","XXXXX09071","LOWE'S OF SALT LAKE SALT LAKE CITY UT",120.06,"LOWE'S",{"$f":"VLOOKUP(IF(A207=\"Yes\",\"Personal\",G207),'Vendor List'!$A:$B,2,FALSE)","v":"70000.FCF"}]
["-",1,"09/17/2013","XXXXX09072","OLYMPUS HILLS SERVICSALT LAKE CITY UT",20.02,"OLYMPUS HILLS SERVICE",{"$f":"VLOOKUP(IF(A208=\"Yes\",\"Personal\",G208),'Vendor List'!$A:$B,2,FALSE)","v":"40500.FCF"}]
["-",1,"09/17/2013","XXXXX09073","PAYPAL *ENFOTRACEGP 4029357733 CA",8.9499999999999993,"EnfoTrace",{"$f":"VLOOKUP(IF(A209=\"Yes\",\"Personal\",G209),'Vendor List'!$A:$B,2,FALSE)","v":"12105.FCF"}]
["-",1,"09/17/2013","XXXXX09074","PAYPAL *ENFOTRACEGP 4029357733 CA",8.9499999999999993,"EnfoTrace",{"$f":"VLOOKUP(IF(A210=\"Yes\",\"Personal\",G210),'Vendor List'!$A:$B,2,FALSE)","v":"12105.FCF"}]
["-",1,"09/18/2013","XXXXX09075","7-ELEVEN 26999 00072SALT LAKE CITY UT",3.43,"7-ELEVEN",{"$f":"VLOOKUP(IF(A211=\"Yes\",\"Personal\",G211),'Vendor List'!$A:$B,2,FALSE)","v":"40500.FCF"}]
["-",1,"09/18/2013","XXXXX09076","7-ELEVEN 26999 00072SALT LAKE CITY UT",10.27,"7-ELEVEN",{"$f":"VLOOKUP(IF(A212=\"Yes\",\"Personal\",G212),'Vendor List'!$A:$B,2,FALSE)","v":"40500.FCF"}]
["-",1,"09/18/2013","XXXXX09077","COSTCO CHECKS & FORMDECATUR GA",38.5,"Personal",{"$f":"VLOOKUP(IF(A213=\"Yes\",\"Personal\",G213),'Vendor List'!$A:$B,2,FALSE)","v":"17000.FCF"}]
["-",1,"09/18/2013","XXXXX09078","DAN'S OLYMPUS 000000SALT LAKE CITY UT",2.96,"DAN'S FOOD",{"$f":"VLOOKUP(IF(A214=\"Yes\",\"Personal\",G214),'Vendor List'!$A:$B,2,FALSE)","v":"60800.FCF"}]
["-",1,"09/18/2013","XXXXX09079","DAN'S OLYMPUS 000000SALT LAKE CITY UT",37.369999999999997,"DAN'S FOOD",{"$f":"VLOOKUP(IF(A215=\"Yes\",\"Personal\",G215),'Vendor List'!$A:$B,2,FALSE)","v":"60800.FCF"}]
["-",1,"09/18/2013","XXXXX09080","LOWE'S OF SALT LAKE SALT LAKE CITY UT",57.97,"LOWE'S",{"$f":"VLOOKUP(IF(A216=\"Yes\",\"Personal\",G216),'Vendor List'!$A:$B,2,FALSE)","v":"70000.FCF"}]
["-",1,"09/18/2013","XXXXX09081","SMITHS-FUEL #9475 008666111979",47.39,"SMITHS FUEL",{"$f":"VLOOKUP(IF(A217=\"Yes\",\"Personal\",G217),'Vendor List'!$A:$B,2,FALSE)","v":"40500.FCF"}]
["-",1,"09/19/2013","XXXXX09082","CHEVRON EXTRA MART #SALT LAKE CITY UT",20,"CHEVRON",{"$f":"VLOOKUP(IF(A218=\"Yes\",\"Personal\",G218),'Vendor List'!$A:$B,2,FALSE)","v":"40500.FCF"}]
["-",1,"09/19/2013","XXXXX09083","DIRECTV SERVICE 800-347-3288 CA",375.73,"DIRECTV",{"$f":"VLOOKUP(IF(A219=\"Yes\",\"Personal\",G219),'Vendor List'!$A:$B,2,FALSE)","v":"70000.FCF"}]
["-",1,"09/19/2013","XXXXX09084","LOWE'S OF SALT LAKE SALT LAKE CITY UT",20.94,"LOWE'S",{"$f":"VLOOKUP(IF(A220=\"Yes\",\"Personal\",G220),'Vendor List'!$A:$B,2,FALSE)","v":"70000.FCF"}]
["-",1,"09/19/2013","XXXXX09085","LOWE'S OF SALT LAKE SALT LAKE CITY UT",69.75,"LOWE'S",{"$f":"VLOOKUP(IF(A221=\"Yes\",\"Personal\",G221),'Vendor List'!$A:$B,2,FALSE)","v":"70000.FCF"}]
["-",1,"09/19/2013","XXXXX09086","MCDONALD'S F4010 000SALT LAKE CI UT",26.61,"MCDONALD'S",{"$f":"VLOOKUP(IF(A222=\"Yes\",\"Personal\",G222),'Vendor List'!$A:$B,2,FALSE)","v":"60800.FCF"}]
["-",1,"09/20/2013","XXXXX09087","7-ELEVEN 26282 00072SALT LAKE CITY UT",10.08,"7-ELEVEN",{"$f":"VLOOKUP(IF(A223=\"Yes\",\"Personal\",G223),'Vendor List'!$A:$B,2,FALSE)","v":"40500.FCF"}]
["-",1,"09/20/2013","XXXXX09088","DIAMOND CONCESSIONS SALT LK CTY UT",92,"Personal",{"$f":"VLOOKUP(IF(A224=\"Yes\",\"Personal\",G224),'Vendor List'!$A:$B,2,FALSE)","v":"17000.FCF"}]
["-",1,"09/20/2013","XXXXX09089","MCDONALD'S F6396 000SALT LAKE CI UT",15.47,"MCDONALD'S",{"$f":"VLOOKUP(IF(A225=\"Yes\",\"Personal\",G225),'Vendor List'!$A:$B,2,FALSE)","v":"60800.FCF"}]
["-",1,"09/20/2013","XXXXX09090","OLYMPUS HILLS SERVICSALT LAKE CITY UT",20.010000000000002,"OLYMPUS HILLS SERVICE",{"$f":"VLOOKUP(IF(A226=\"Yes\",\"Personal\",G226),'Vendor List'!$A:$B,2,FALSE)","v":"40500.FCF"}]
["-",1,"09/21/2013","XXXXX09091","7-ELEVEN 26282 00072SALT LAKE CITY UT",12.3,"7-ELEVEN",{"$f":"VLOOKUP(IF(A227=\"Yes\",\"Personal\",G227),'Vendor List'!$A:$B,2,FALSE)","v":"40500.FCF"}]
["-",1,"09/21/2013","XXXXX09092","KSL.COMDESERETDIGMEDSALT LAKE CIT UT",599,"KSL.COM",{"$f":"VLOOKUP(IF(A228=\"Yes\",\"Personal\",G228),'Vendor List'!$A:$B,2,FALSE)","v":"70700.FCF"}]
["-",1,"09/21/2013","XXXXX09093","OLYMPUS HILLS SERVICSALT LAKE CITY UT",15.02,"OLYMPUS HILLS SERVICE",{"$f":"VLOOKUP(IF(A229=\"Yes\",\"Personal\",G229),'Vendor List'!$A:$B,2,FALSE)","v":"40500.FCF"}]
["-",1,"09/21/2013","XXXXX09094","SLC INTERNATIONAL AISALT LAKE CIT UT",14,"SLC INTERNATIONAL",{"$f":"VLOOKUP(IF(A230=\"Yes\",\"Personal\",G230),'Vendor List'!$A:$B,2,FALSE)","v":"72900.FCF"}]
["-",1,"09/22/2013","XXXXX09095","DAN'S OLYMPUS 000000SALT LAKE CITY UT",59.39,"DAN'S FOOD",{"$f":"VLOOKUP(IF(A231=\"Yes\",\"Personal\",G231),'Vendor List'!$A:$B,2,FALSE)","v":"60800.FCF"}]
["-",1,"09/22/2013","XXXXX09096","IHG SFOHBPMS SAN FRANCISCO CA",420.02,"Personal",{"$f":"VLOOKUP(IF(A232=\"Yes\",\"Personal\",G232),'Vendor List'!$A:$B,2,FALSE)","v":"17000.FCF"}]
["-",1,"09/23/2013","XXXXX09097","7-ELEVEN 26999 00072SALT LAKE CITY UT",15.12,"7-ELEVEN",{"$f":"VLOOKUP(IF(A233=\"Yes\",\"Personal\",G233),'Vendor List'!$A:$B,2,FALSE)","v":"40500.FCF"}]
["-",1,"09/23/2013","XXXXX09098","7-ELEVEN 26999 00072SALT LAKE CITY UT",15.38,"7-ELEVEN",{"$f":"VLOOKUP(IF(A234=\"Yes\",\"Personal\",G234),'Vendor List'!$A:$B,2,FALSE)","v":"40500.FCF"}]
["-",1,"09/23/2013","XXXXX09099","BJS RESTAURANTS 436 ROSEVILLE CA",81.209999999999994,"Personal",{"$f":"VLOOKUP(IF(A235=\"Yes\",\"Personal\",G235),'Vendor List'!$A:$B,2,FALSE)","v":"17000.FCF"}]
["-",1,"09/23/2013","XXXXX09100","DAN'S OLYMPUS 000000SALT LAKE CITY UT",12.34,"DAN'S FOOD",{"$f":"VLOOKUP(IF(A236=\"Yes\",\"Personal\",G236),'Vendor List'!$A:$B,2,FALSE)","v":"60800.FCF"}]
["-",1,"09/23/2013","XXXXX09101","HERTZ CAR RENTAL 800-654-4173 CA",350.98,"HERTZ",{"$f":"VLOOKUP(IF(A237=\"Yes\",\"Personal\",G237),'Vendor List'!$A:$B,2,FALSE)","v":"72900.FCF"}]
["-",1,"09/23/2013","XXXXX09102","PAYPAL *AUTOCASHNY 4029357733 CA",41.87,"Personal",{"$f":"VLOOKUP(IF(A238=\"Yes\",\"Personal\",G238),'Vendor List'!$A:$B,2,FALSE)","v":"17000.FCF"}]
["-",1,"09/23/2013","XXXXX09103","PAYPAL *CENTERCAPSN 4029357733 CA",24.99,"Personal",{"$f":"VLOOKUP(IF(A239=\"Yes\",\"Personal\",G239),'Vendor List'!$A:$B,2,FALSE)","v":"17000.FCF"}]
["-",1,"09/23/2013","XXXXX09104","PAYPAL *ENFOTRACEGP 4029357733 CA",19.95,"EnfoTrace",{"$f":"VLOOKUP(IF(A240=\"Yes\",\"Personal\",G240),'Vendor List'!$A:$B,2,FALSE)","v":"12105.FCF"}]
["-",1,"09/23/2013","XXXXX09105","UNION 76 00036293 ROSEVILLE CA",38.369999999999997,"UNION 76",{"$f":"VLOOKUP(IF(A241=\"Yes\",\"Personal\",G241),'Vendor List'!$A:$B,2,FALSE)","v":"40500.FCF"}]
["-",1,"09/24/2013","XXXXX09106","ADVANCED VETERINARY SALT LAKE CIT UT",70,"ADVANCED VET",{"$f":"VLOOKUP(IF(A242=\"Yes\",\"Personal\",G242),'Vendor List'!$A:$B,2,FALSE)","v":"17000.FCF"}]
["-",1,"09/24/2013","XXXXX09107","CHEVRON K & H ENTERPSALT LAKE CITY UT",42.94,"CHEVRON",{"$f":"VLOOKUP(IF(A243=\"Yes\",\"Personal\",G243),'Vendor List'!$A:$B,2,FALSE)","v":"40500.FCF"}]
["-",1,"09/24/2013","XXXXX09108","DAN'S OLYMPUS 000000SALT LAKE CITY UT",48.7,"DAN'S FOOD",{"$f":"VLOOKUP(IF(A244=\"Yes\",\"Personal\",G244),'Vendor List'!$A:$B,2,FALSE)","v":"60800.FCF"}]
["-",1,"09/24/2013","XXXXX09109","GAY USA PAGES 542929ALTAMONTE SPR FL",99,"GAY USA PAGES",{"$f":"VLOOKUP(IF(A245=\"Yes\",\"Personal\",G245),'Vendor List'!$A:$B,2,FALSE)","v":"50200.FCF"}]
["-",1,"09/25/2013","XXXXX09110","7-ELEVEN 26999 00072SALT LAKE CITY UT",8.2200000000000006,"7-ELEVEN",{"$f":"VLOOKUP(IF(A246=\"Yes\",\"Personal\",G246),'Vendor List'!$A:$B,2,FALSE)","v":"40500.FCF"}]
["-",1,"09/25/2013","XXXXX09111","7-ELEVEN 26999 00072SALT LAKE CITY UT",9.01,"7-ELEVEN",{"$f":"VLOOKUP(IF(A247=\"Yes\",\"Personal\",G247),'Vendor List'!$A:$B,2,FALSE)","v":"40500.FCF"}]
["-",1,"09/25/2013","XXXXX09112","7-ELEVEN 26999 00072SALT LAKE CITY UT",15.02,"7-ELEVEN",{"$f":"VLOOKUP(IF(A248=\"Yes\",\"Personal\",G248),'Vendor List'!$A:$B,2,FALSE)","v":"40500.FCF"}]
["-",1,"09/25/2013","XXXXX09113","7-ELEVEN 26999 00072SALT LAKE CITY UT",15.05,"7-ELEVEN",{"$f":"VLOOKUP(IF(A249=\"Yes\",\"Personal\",G249),'Vendor List'!$A:$B,2,FALSE)","v":"40500.FCF"}]
["-",1,"09/25/2013","XXXXX09114","FASTRAC B TESO621230SALT LAKE CIT UT",10.029999999999999,"Personal",{"$f":"VLOOKUP(IF(A250=\"Yes\",\"Personal\",G250),'Vendor List'!$A:$B,2,FALSE)","v":"17000.FCF"}]
["-",1,"09/25/2013","XXXXX09115","OLYMPUS HILLS SERVICSALT LAKE CITY UT",15.03,"OLYMPUS HILLS SERVICE",{"$f":"VLOOKUP(IF(A251=\"Yes\",\"Personal\",G251),'Vendor List'!$A:$B,2,FALSE)","v":"40500.FCF"}]
["-",1,"09/25/2013","XXXXX09116","PAYPAL *HONDAPARTSC 4029357733 CA",34.9,"Auto Parts",{"$f":"VLOOKUP(IF(A252=\"Yes\",\"Personal\",G252),'Vendor List'!$A:$B,2,FALSE)","v":"12105.FCF"}]
["-",1,"09/26/2013","XXXXX09117","ALLDATA LLC ELK GROVE CA",286.44,"Auto Parts",{"$f":"VLOOKUP(IF(A253=\"Yes\",\"Personal\",G253),'Vendor List'!$A:$B,2,FALSE)","v":"12105.FCF"}]
["-",1,"09/26/2013","XXXXX09118","CHEVRON TOP STOP C-5MURRAY UT",12,"CHEVRON",{"$f":"VLOOKUP(IF(A254=\"Yes\",\"Personal\",G254),'Vendor List'!$A:$B,2,FALSE)","v":"40500.FCF"}]
["-",1,"09/27/2013","XXXXX09119","7-ELEVEN 26282 00072SALT LAKE CITY UT",10.97,"7-ELEVEN",{"$f":"VLOOKUP(IF(A255=\"Yes\",\"Personal\",G255),'Vendor List'!$A:$B,2,FALSE)","v":"40500.FCF"}]
["-",1,"09/27/2013","XXXXX09120","7-ELEVEN 26999 00072SALT LAKE CITY UT",10.11,"7-ELEVEN",{"$f":"VLOOKUP(IF(A256=\"Yes\",\"Personal\",G256),'Vendor List'!$A:$B,2,FALSE)","v":"40500.FCF"}]
["-",1,"09/27/2013","XXXXX09121","OLYMPUS HILLS SERVICSALT LAKE CITY UT",15.08,"OLYMPUS HILLS SERVICE",{"$f":"VLOOKUP(IF(A257=\"Yes\",\"Personal\",G257),'Vendor List'!$A:$B,2,FALSE)","v":"40500.FCF"}]
["-",1,"09/27/2013","XXXXX09122","VICTORS TIRES INC VISALT LAKE CITY UT",140,"VICTORS TIRES",{"$f":"VLOOKUP(IF(A258=\"Yes\",\"Personal\",G258),'Vendor List'!$A:$B,2,FALSE)","v":"12105.FCF"}]
["-",1,"09/27/2013","XXXXX09123","WWW.GOTOMYPC.COM SERVICE/SW",21.32,"gotomypc.com",{"$f":"VLOOKUP(IF(A259=\"Yes\",\"Personal\",G259),'Vendor List'!$A:$B,2,FALSE)","v":"60700.FCF"}]
["-",1,"09/28/2013","XXXXX09124","7-ELEVEN 26999 00072SALT LAKE CITY UT",10.050000000000001,"7-ELEVEN",{"$f":"VLOOKUP(IF(A260=\"Yes\",\"Personal\",G260),'Vendor List'!$A:$B,2,FALSE)","v":"40500.FCF"}]
["-",1,"09/28/2013","XXXXX09125","7-ELEVEN 26999 00072SALT LAKE CITY UT",10.28,"7-ELEVEN",{"$f":"VLOOKUP(IF(A261=\"Yes\",\"Personal\",G261),'Vendor List'!$A:$B,2,FALSE)","v":"40500.FCF"}]
["-",1,"09/28/2013","XXXXX09126","7-ELEVEN 26999 00072SALT LAKE CITY UT",12.21,"7-ELEVEN",{"$f":"VLOOKUP(IF(A262=\"Yes\",\"Personal\",G262),'Vendor List'!$A:$B,2,FALSE)","v":"40500.FCF"}]
["-",1,"09/30/2013","XXXXX09127","7-ELEVEN 26999 00072SALT LAKE CITY UT",10.19,"7-ELEVEN",{"$f":"VLOOKUP(IF(A263=\"Yes\",\"Personal\",G263),'Vendor List'!$A:$B,2,FALSE)","v":"40500.FCF"}]
["-",1,"09/30/2013","XXXXX09128","7-ELEVEN 26999 00072SALT LAKE CITY UT",15.33,"7-ELEVEN",{"$f":"VLOOKUP(IF(A264=\"Yes\",\"Personal\",G264),'Vendor List'!$A:$B,2,FALSE)","v":"40500.FCF"}]
["-",1,"09/30/2013","XXXXX09129","DAN'S OLYMPUS 000000SALT LAKE CITY UT",12.36,"DAN'S FOOD",{"$f":"VLOOKUP(IF(A265=\"Yes\",\"Personal\",G265),'Vendor List'!$A:$B,2,FALSE)","v":"60800.FCF"}]
["-",1,"09/30/2013","XXXXX09130","HOLIDAY OIL #07 0000DRAPER UT",43.47,"HOLIDAY OIL",{"$f":"VLOOKUP(IF(A266=\"Yes\",\"Personal\",G266),'Vendor List'!$A:$B,2,FALSE)","v":"40500.FCF"}]
["-",1,"09/30/2013","XXXXX09131","OLYMPUS HILLS SERVICSALT LAKE CITY UT",15.01,"OLYMPUS HILLS SERVICE",{"$f":"VLOOKUP(IF(A267=\"Yes\",\"Personal\",G267),'Vendor List'!$A:$B,2,FALSE)","v":"40500.FCF"}]
["-",1,"09/30/2013","XXXXX09132","PAYPAL *RADERRA 4029357733 CA",26.45,"Personal",{"$f":"VLOOKUP(IF(A268=\"Yes\",\"Personal\",G268),'Vendor List'!$A:$B,2,FALSE)","v":"17000.FCF"}]
["-",5,"2013-09-30","XXXXX09~JE","AMEX XXXXX Payable",{"$f":"SUM($F$137:$F$268)","v":8909.9000000000015},"Amex 48004 Payable",{"$f":"VLOOKUP(IF(A269=\"Yes\",\"Personal\",G269),'Vendor List'!$A:$B,2,FALSE)","v":"24059.FCF"}]
["-",1,"10/01/2013","XXXXX10001","7-ELEVEN 26282 00072SALT LAKE CITY UT",16.04,"7-ELEVEN",{"$f":"VLOOKUP(IF(A270=\"Yes\",\"Personal\",G270),'Vendor List'!$A:$B,2,FALSE)","v":"40500.FCF"}]
["-",1,"10/01/2013","XXXXX10002","7-ELEVEN 26999 00072SALT LAKE CITY UT",10.029999999999999,"7-ELEVEN",{"$f":"VLOOKUP(IF(A271=\"Yes\",\"Personal\",G271),'Vendor List'!$A:$B,2,FALSE)","v":"40500.FCF"}]
["-",1,"10/01/2013","XXXXX10003","7-ELEVEN 26999 00072SALT LAKE CITY UT",14.76,"7-ELEVEN",{"$f":"VLOOKUP(IF(A272=\"Yes\",\"Personal\",G272),'Vendor List'!$A:$B,2,FALSE)","v":"40500.FCF"}]
["-",1,"10/01/2013","XXXXX10004","NATL BIZ FURNITURE 800-626-6060 WI",1713,"Office Furniture",{"$f":"VLOOKUP(IF(A273=\"Yes\",\"Personal\",G273),'Vendor List'!$A:$B,2,FALSE)","v":"16300.FCF"}]
["-",1,"10/02/2013","XXXXX10005","7-ELEVEN 26999 00072SALT LAKE CITY UT",14.53,"7-ELEVEN",{"$f":"VLOOKUP(IF(A274=\"Yes\",\"Personal\",G274),'Vendor List'!$A:$B,2,FALSE)","v":"40500.FCF"}]
["-",1,"10/02/2013","XXXXX10006","SEARS ROEBUCK 01118 SALT LAKE CIT UT",3.84,"SEARS ROEBUCK",{"$f":"VLOOKUP(IF(A275=\"Yes\",\"Personal\",G275),'Vendor List'!$A:$B,2,FALSE)","v":"12105.FCF"}]
["-",1,"10/04/2013","XXXXX10007","7-ELEVEN 26999 00072SALT LAKE CITY UT",1.53,"7-ELEVEN",{"$f":"VLOOKUP(IF(A276=\"Yes\",\"Personal\",G276),'Vendor List'!$A:$B,2,FALSE)","v":"40500.FCF"}]
["-",1,"10/04/2013","XXXXX10008","BOLT AND NUT SUPPLY 8014860088",4.97,"BOLT AND NUT",{"$f":"VLOOKUP(IF(A277=\"Yes\",\"Personal\",G277),'Vendor List'!$A:$B,2,FALSE)","v":"40500.FCF"}]
["-",1,"10/04/2013","XXXXX10009","DAN'S OLYMPUS 000000SALT LAKE CITY UT",29.28,"DAN'S FOOD",{"$f":"VLOOKUP(IF(A278=\"Yes\",\"Personal\",G278),'Vendor List'!$A:$B,2,FALSE)","v":"60800.FCF"}]
["-",1,"10/04/2013","XXXXX10010","GREAT HARVEST BREAD SALT LAKE CITY UT",24.77,"GREAT HARVEST",{"$f":"VLOOKUP(IF(A279=\"Yes\",\"Personal\",G279),'Vendor List'!$A:$B,2,FALSE)","v":"60800.FCF"}]
["-",1,"10/04/2013","XXXXX10011","OLYMPUS HILLS SERVICSALT LAKE CITY UT",20.02,"OLYMPUS HILLS SERVICE",{"$f":"VLOOKUP(IF(A280=\"Yes\",\"Personal\",G280),'Vendor List'!$A:$B,2,FALSE)","v":"40500.FCF"}]
["-",1,"10/04/2013","XXXXX10012","RADIOSHACK COR186213SALT LAKE CIT UT",14.41,"RADIOSHACK",{"$f":"VLOOKUP(IF(A281=\"Yes\",\"Personal\",G281),'Vendor List'!$A:$B,2,FALSE)","v":"70000.FCF"}]
["-",1,"10/04/2013","XXXXX10013","THE HOME DEPOT 4403 SALT LAKE CIT UT",78.12,"THE HOME DEPOT",{"$f":"VLOOKUP(IF(A282=\"Yes\",\"Personal\",G282),'Vendor List'!$A:$B,2,FALSE)","v":"72300.FCF"}]
["-",1,"10/05/2013","XXXXX10014","7-ELEVEN 26999 00072SALT LAKE CITY UT",19.989999999999998,"7-ELEVEN",{"$f":"VLOOKUP(IF(A283=\"Yes\",\"Personal\",G283),'Vendor List'!$A:$B,2,FALSE)","v":"40500.FCF"}]
["-",1,"10/05/2013","XXXXX10015","BLK*CURESEARCH 8669923374 CA",100,"Personal",{"$f":"VLOOKUP(IF(A284=\"Yes\",\"Personal\",G284),'Vendor List'!$A:$B,2,FALSE)","v":"17000.FCF"}]
["-",1,"10/05/2013","XXXXX10016","DAN'S OLYMPUS 000000SALT LAKE CITY UT",39.79,"DAN'S FOOD",{"$f":"VLOOKUP(IF(A285=\"Yes\",\"Personal\",G285),'Vendor List'!$A:$B,2,FALSE)","v":"60800.FCF"}]
["-",1,"10/05/2013","XXXXX10017","HOLIDAY OIL #07 0000DRAPER UT",46.82,"HOLIDAY OIL",{"$f":"VLOOKUP(IF(A286=\"Yes\",\"Personal\",G286),'Vendor List'!$A:$B,2,FALSE)","v":"40500.FCF"}]
["-",1,"10/05/2013","XXXXX10018","SAN FRANCISCO MOSCONSAN FRANCISCO CA",46,"Personal",{"$f":"VLOOKUP(IF(A287=\"Yes\",\"Personal\",G287),'Vendor List'!$A:$B,2,FALSE)","v":"17000.FCF"}]
["-",1,"10/05/2013","XXXXX10019","SLC INTERNATIONAL AISALT LAKE CIT UT",12,"SLC INTERNATIONAL",{"$f":"VLOOKUP(IF(A288=\"Yes\",\"Personal\",G288),'Vendor List'!$A:$B,2,FALSE)","v":"72900.FCF"}]
["-",1,"10/06/2013","XXXXX10020","SAN FRANCISCO MOSCONSAN FRANCISCO CA",30,"Personal",{"$f":"VLOOKUP(IF(A289=\"Yes\",\"Personal\",G289),'Vendor List'!$A:$B,2,FALSE)","v":"17000.FCF"}]
["-",1,"10/07/2013","XXXXX10021","CHEVRON K & H ENTERPSALT LAKE CITY UT",80.17,"CHEVRON",{"$f":"VLOOKUP(IF(A290=\"Yes\",\"Personal\",G290),'Vendor List'!$A:$B,2,FALSE)","v":"40500.FCF"}]
["-",1,"10/07/2013","XXXXX10022","HERTZ CAR RENTAL 800-654-4173 CA",219.61,"HERTZ",{"$f":"VLOOKUP(IF(A291=\"Yes\",\"Personal\",G291),'Vendor List'!$A:$B,2,FALSE)","v":"72900.FCF"}]
["-",1,"10/07/2013","XXXXX10023","SUPERIOR PAINT SUPPLSALT LAKE CITY UT",6.65,"SUPERIOR PAINT",{"$f":"VLOOKUP(IF(A292=\"Yes\",\"Personal\",G292),'Vendor List'!$A:$B,2,FALSE)","v":"72300.FCF"}]
["-",1,"10/08/2013","XXXXX10024","CHEVRON K & H ENTERPSALT LAKE CITY UT",10.029999999999999,"CHEVRON",{"$f":"VLOOKUP(IF(A293=\"Yes\",\"Personal\",G293),'Vendor List'!$A:$B,2,FALSE)","v":"40500.FCF"}]
["-",1,"10/08/2013","XXXXX10025","OLYMPUS HILLS SERVICSALT LAKE CITY UT",20.07,"OLYMPUS HILLS SERVICE",{"$f":"VLOOKUP(IF(A294=\"Yes\",\"Personal\",G294),'Vendor List'!$A:$B,2,FALSE)","v":"40500.FCF"}]
["-",1,"10/08/2013","XXXXX10026","PAYPAL *ALEZAD13 4029357733 CA",19.84,"Personal",{"$f":"VLOOKUP(IF(A295=\"Yes\",\"Personal\",G295),'Vendor List'!$A:$B,2,FALSE)","v":"17000.FCF"}]
["-",1,"10/08/2013","XXXXX10027","PAYPAL *SACOEPERAS 4029357733 CA",34,"Personal",{"$f":"VLOOKUP(IF(A296=\"Yes\",\"Personal\",G296),'Vendor List'!$A:$B,2,FALSE)","v":"17000.FCF"}]
["-",1,"10/08/2013","XXXXX10028","SAN FRANCISCO MOSCONSAN FRANCISCO CA",504.92,"Personal",{"$f":"VLOOKUP(IF(A297=\"Yes\",\"Personal\",G297),'Vendor List'!$A:$B,2,FALSE)","v":"17000.FCF"}]
["-",1,"10/08/2013","XXXXX10029","SAN FRANCISCO MOSCONSAN FRANCISCO CA",567.20000000000005,"Personal",{"$f":"VLOOKUP(IF(A298=\"Yes\",\"Personal\",G298),'Vendor List'!$A:$B,2,FALSE)","v":"17000.FCF"}]
["-",1,"10/09/2013","XXXXX10030","ADVANCED VETERINARY SALT LAKE CIT UT",92,"ADVANCED VET",{"$f":"VLOOKUP(IF(A299=\"Yes\",\"Personal\",G299),'Vendor List'!$A:$B,2,FALSE)","v":"17000.FCF"}]
["-",1,"10/09/2013","XXXXX10031","CHEVRON HOLIDAY OIL SALT LAKE CITY UT",9.27,"CHEVRON",{"$f":"VLOOKUP(IF(A300=\"Yes\",\"Personal\",G300),'Vendor List'!$A:$B,2,FALSE)","v":"40500.FCF"}]
["-",1,"10/09/2013","XXXXX10032","CHEVRON HOLIDAY OIL SANDY UT",15,"CHEVRON",{"$f":"VLOOKUP(IF(A301=\"Yes\",\"Personal\",G301),'Vendor List'!$A:$B,2,FALSE)","v":"40500.FCF"}]
["-",1,"10/10/2013","XXXXX10033","7-ELEVEN 26282 00072SALT LAKE CITY UT",15.23,"7-ELEVEN",{"$f":"VLOOKUP(IF(A302=\"Yes\",\"Personal\",G302),'Vendor List'!$A:$B,2,FALSE)","v":"40500.FCF"}]
["-",1,"10/10/2013","XXXXX10034","ADVANCED VETERINARY SALT LAKE CIT UT",345.5,"ADVANCED VET",{"$f":"VLOOKUP(IF(A303=\"Yes\",\"Personal\",G303),'Vendor List'!$A:$B,2,FALSE)","v":"17000.FCF"}]
["-",1,"10/10/2013","XXXXX10035","CHEVRON K & H ENTERPSALT LAKE CITY UT",15.06,"CHEVRON",{"$f":"VLOOKUP(IF(A304=\"Yes\",\"Personal\",G304),'Vendor List'!$A:$B,2,FALSE)","v":"40500.FCF"}]
["-",1,"10/10/2013","XXXXX10036","FOREIGN TRANSACTION FEE",0.3,"Finance Charges",{"$f":"VLOOKUP(IF(A305=\"Yes\",\"Personal\",G305),'Vendor List'!$A:$B,2,FALSE)","v":"60450.FCF"}]
["-",1,"10/10/2013","XXXXX10037","Interest Charge on Purchases",162.32,"Interest Charged",{"$f":"VLOOKUP(IF(A306=\"Yes\",\"Personal\",G306),'Vendor List'!$A:$B,2,FALSE)","v":"65300.FCF"}]
["-",1,"10/10/2013","XXXXX10038","MCDONALD'S F6408 000SALT LAKE CI UT",7.31,"MCDONALD'S",{"$f":"VLOOKUP(IF(A307=\"Yes\",\"Personal\",G307),'Vendor List'!$A:$B,2,FALSE)","v":"60800.FCF"}]
["-",1,"10/10/2013","XXXXX10039","PAYPAL *GSS666 4029357733 GB",11.18,"Personal",{"$f":"VLOOKUP(IF(A308=\"Yes\",\"Personal\",G308),'Vendor List'!$A:$B,2,FALSE)","v":"17000.FCF"}]
["-",1,"10/11/2013","XXXXX10040","7-ELEVEN 26999 00072SALT LAKE CITY UT",3.07,"7-ELEVEN",{"$f":"VLOOKUP(IF(A309=\"Yes\",\"Personal\",G309),'Vendor List'!$A:$B,2,FALSE)","v":"40500.FCF"}]
["-",1,"10/11/2013","XXXXX10041","ALPHAGRAPHICS 026 ALSALT LAKE CITY UT",13.36,"Personal",{"$f":"VLOOKUP(IF(A310=\"Yes\",\"Personal\",G310),'Vendor List'!$A:$B,2,FALSE)","v":"17000.FCF"}]
["-",1,"10/11/2013","XXXXX10042","DAN'S OLYMPUS 000000SALT LAKE CITY UT",40.159999999999997,"DAN'S FOOD",{"$f":"VLOOKUP(IF(A311=\"Yes\",\"Personal\",G311),'Vendor List'!$A:$B,2,FALSE)","v":"60800.FCF"}]
["-",1,"10/11/2013","XXXXX10043","DELTA AIR LINES ATLANTA",25,"DELTA AIRLINES",{"$f":"VLOOKUP(IF(A312=\"Yes\",\"Personal\",G312),'Vendor List'!$A:$B,2,FALSE)","v":"12105.FCF"}]
["-",1,"10/11/2013","XXXXX10044","DUNKIN #351617 QSALT LAKE CTY UT",9.6999999999999993,"DUNKIN Donuts",{"$f":"VLOOKUP(IF(A313=\"Yes\",\"Personal\",G313),'Vendor List'!$A:$B,2,FALSE)","v":"60800.FCF"}]
["-",1,"10/11/2013","XXXXX10045","OLYMPUS HILLS SERVICSALT LAKE CITY UT",15.03,"OLYMPUS HILLS SERVICE",{"$f":"VLOOKUP(IF(A314=\"Yes\",\"Personal\",G314),'Vendor List'!$A:$B,2,FALSE)","v":"40500.FCF"}]
["-",1,"10/11/2013","XXXXX10046","SUPERIOR PAINT SUPPLSALT LAKE CITY UT",33.1,"SUPERIOR PAINT",{"$f":"VLOOKUP(IF(A315=\"Yes\",\"Personal\",G315),'Vendor List'!$A:$B,2,FALSE)","v":"72300.FCF"}]
["-",1,"10/11/2013","XXXXX10047","VICTORS TIRES INC VISALT LAKE CITY UT",40,"VICTORS TIRES",{"$f":"VLOOKUP(IF(A316=\"Yes\",\"Personal\",G316),'Vendor List'!$A:$B,2,FALSE)","v":"12105.FCF"}]
["-",1,"10/12/2013","XXXXX10048","ADVANCED VETERINARY SALT LAKE CIT UT",1300,"ADVANCED VET",{"$f":"VLOOKUP(IF(A317=\"Yes\",\"Personal\",G317),'Vendor List'!$A:$B,2,FALSE)","v":"17000.FCF"}]
["-",1,"10/12/2013","XXXXX10049","COMCAST CABLE COMM 800-COMCAST UT",121.35,"COMCAST",{"$f":"VLOOKUP(IF(A318=\"Yes\",\"Personal\",G318),'Vendor List'!$A:$B,2,FALSE)","v":"17000.FCF"}]
["-",1,"10/12/2013","XXXXX10050","PETSMART INC 1007 SANDY UT",20.8,"PETSMART",{"$f":"VLOOKUP(IF(A319=\"Yes\",\"Personal\",G319),'Vendor List'!$A:$B,2,FALSE)","v":"17000.FCF"}]
["-",1,"10/13/2013","XXXXX10051","ADVANCED VETERINARY SALT LAKE CIT UT",800,"ADVANCED VET",{"$f":"VLOOKUP(IF(A320=\"Yes\",\"Personal\",G320),'Vendor List'!$A:$B,2,FALSE)","v":"17000.FCF"}]
["-",1,"10/13/2013","XXXXX10052","CHEVRON CALIFORNIA PROSEVILLE CA",35.57,"CHEVRON",{"$f":"VLOOKUP(IF(A321=\"Yes\",\"Personal\",G321),'Vendor List'!$A:$B,2,FALSE)","v":"40500.FCF"}]
["-",1,"10/13/2013","XXXXX10053","CHEVRON HOLIDAY OIL SOUTH JORDAN UT",15.1,"CHEVRON",{"$f":"VLOOKUP(IF(A322=\"Yes\",\"Personal\",G322),'Vendor List'!$A:$B,2,FALSE)","v":"40500.FCF"}]
["-",1,"10/13/2013","XXXXX10054","CLIFT HOTEL SAN FRANCISCO CA",92.19,"HOTELS.COM",{"$f":"VLOOKUP(IF(A323=\"Yes\",\"Personal\",G323),'Vendor List'!$A:$B,2,FALSE)","v":"72900.FCF"}]
["-",1,"10/14/2013","XXXXX10055","CHEVRON JFS #136 020SPARKS NV",35.840000000000003,"CHEVRON",{"$f":"VLOOKUP(IF(A324=\"Yes\",\"Personal\",G324),'Vendor List'!$A:$B,2,FALSE)","v":"40500.FCF"}]
["-",1,"10/14/2013","XXXXX10056","CHEVRON JFS #136 020SPARKS NV",40.76,"CHEVRON",{"$f":"VLOOKUP(IF(A325=\"Yes\",\"Personal\",G325),'Vendor List'!$A:$B,2,FALSE)","v":"40500.FCF"}]
["-",1,"10/14/2013","XXXXX10057","HERTZ CAR RENTAL 800-654-4173 CA",184.51,"HERTZ",{"$f":"VLOOKUP(IF(A326=\"Yes\",\"Personal\",G326),'Vendor List'!$A:$B,2,FALSE)","v":"72900.FCF"}]
["-",1,"10/14/2013","XXXXX10058","MCDONALD'S F19926 00SPARKS NV",29.86,"MCDONALD'S",{"$f":"VLOOKUP(IF(A327=\"Yes\",\"Personal\",G327),'Vendor List'!$A:$B,2,FALSE)","v":"60800.FCF"}]
["-",1,"10/14/2013","XXXXX10059","OLYMPUS HILLS SERVICSALT LAKE CITY UT",20,"OLYMPUS HILLS SERVICE",{"$f":"VLOOKUP(IF(A328=\"Yes\",\"Personal\",G328),'Vendor List'!$A:$B,2,FALSE)","v":"40500.FCF"}]
["-",1,"10/14/2013","XXXXX10060","SMITHS-FUEL #9388 Q78666111979",27.54,"SMITHS FUEL",{"$f":"VLOOKUP(IF(A329=\"Yes\",\"Personal\",G329),'Vendor List'!$A:$B,2,FALSE)","v":"40500.FCF"}]
["-",1,"10/14/2013","XXXXX10061","SMITHS-FUEL #9388 Q78666111979",102.09,"SMITHS FUEL",{"$f":"VLOOKUP(IF(A330=\"Yes\",\"Personal\",G330),'Vendor List'!$A:$B,2,FALSE)","v":"40500.FCF"}]
["-",1,"10/14/2013","XXXXX10062","THUNDER VALLEY RESORLINCOLN CA",161.87,"THUNDER VALLEY RESORT",{"$f":"VLOOKUP(IF(A331=\"Yes\",\"Personal\",G331),'Vendor List'!$A:$B,2,FALSE)","v":"60800.FCF"}]
["-",1,"10/14/2013","XXXXX10063","TOWER MART #141 0000ROCKLIN CA",12.93,"Personal",{"$f":"VLOOKUP(IF(A332=\"Yes\",\"Personal\",G332),'Vendor List'!$A:$B,2,FALSE)","v":"17000.FCF"}]
["-",1,"10/14/2013","XXXXX10064","TOWER MART #141 0000ROCKLIN CA",92.52,"Personal",{"$f":"VLOOKUP(IF(A333=\"Yes\",\"Personal\",G333),'Vendor List'!$A:$B,2,FALSE)","v":"17000.FCF"}]
["-",1,"10/14/2013","XXXXX10065","TOWER MART #141 0000ROCKLIN CA",99.34,"Personal",{"$f":"VLOOKUP(IF(A334=\"Yes\",\"Personal\",G334),'Vendor List'!$A:$B,2,FALSE)","v":"17000.FCF"}]
["-",1,"10/15/2013","XXXXX10066","7-ELEVEN 26999 00072SALT LAKE CITY UT",10.119999999999999,"7-ELEVEN",{"$f":"VLOOKUP(IF(A335=\"Yes\",\"Personal\",G335),'Vendor List'!$A:$B,2,FALSE)","v":"40500.FCF"}]
["-",1,"10/15/2013","XXXXX10067","ADVANCED VETERINARY SALT LAKE CIT UT",464.25,"ADVANCED VET",{"$f":"VLOOKUP(IF(A336=\"Yes\",\"Personal\",G336),'Vendor List'!$A:$B,2,FALSE)","v":"17000.FCF"}]
["-",1,"10/15/2013","XXXXX10068","HOLIDAY OIL #07 0000DRAPER UT",45.18,"HOLIDAY OIL",{"$f":"VLOOKUP(IF(A337=\"Yes\",\"Personal\",G337),'Vendor List'!$A:$B,2,FALSE)","v":"40500.FCF"}]
["-",1,"10/15/2013","XXXXX10069","VICTORS TIRES INC VISALT LAKE CITY UT",105,"VICTORS TIRES",{"$f":"VLOOKUP(IF(A338=\"Yes\",\"Personal\",G338),'Vendor List'!$A:$B,2,FALSE)","v":"12105.FCF"}]
["-",1,"10/16/2013","XXXXX10070","ACE HARDWARE AT OLYSALT LAKE CIT UT",42.7,"ACE HARDWARE",{"$f":"VLOOKUP(IF(A339=\"Yes\",\"Personal\",G339),'Vendor List'!$A:$B,2,FALSE)","v":"70000.FCF"}]
["-",1,"10/17/2013","XXXXX10071","CHEVRON K & H ENTERPSALT LAKE CITY UT",9.99,"CHEVRON",{"$f":"VLOOKUP(IF(A340=\"Yes\",\"Personal\",G340),'Vendor List'!$A:$B,2,FALSE)","v":"40500.FCF"}]
["-",1,"10/17/2013","XXXXX10072","ORECK SALT LAKE CIT UT",138.9,"Personal",{"$f":"VLOOKUP(IF(A341=\"Yes\",\"Personal\",G341),'Vendor List'!$A:$B,2,FALSE)","v":"17000.FCF"}]
["-",1,"10/17/2013","XXXXX10073","PAYPAL *PARTSPROS 4029357733 CA",19.989999999999998,"Auto Parts",{"$f":"VLOOKUP(IF(A342=\"Yes\",\"Personal\",G342),'Vendor List'!$A:$B,2,FALSE)","v":"12105.FCF"}]
["-",1,"10/17/2013","XXXXX10074","THE JANITORS CLOSET 801-532-3812",17.77,"JANITOR'S CLOSET",{"$f":"VLOOKUP(IF(A343=\"Yes\",\"Personal\",G343),'Vendor List'!$A:$B,2,FALSE)","v":"72300.FCF"}]
["-",1,"10/18/2013","XXXXX10075","7-ELEVEN 26282 00072SALT LAKE CITY UT",15.17,"7-ELEVEN",{"$f":"VLOOKUP(IF(A344=\"Yes\",\"Personal\",G344),'Vendor List'!$A:$B,2,FALSE)","v":"40500.FCF"}]
["-",1,"10/18/2013","XXXXX10076","7-ELEVEN 26999 00072SALT LAKE CITY UT",3.07,"7-ELEVEN",{"$f":"VLOOKUP(IF(A345=\"Yes\",\"Personal\",G345),'Vendor List'!$A:$B,2,FALSE)","v":"40500.FCF"}]
["-",1,"10/18/2013","XXXXX10077","GROVE MARKET DELI, I801-467-8860",59.51,"MCDONALD'S",{"$f":"VLOOKUP(IF(A346=\"Yes\",\"Personal\",G346),'Vendor List'!$A:$B,2,FALSE)","v":"60800.FCF"}]
["-",1,"10/18/2013","XXXXX10078","MCDONALD'S F6396 000SALT LAKE CI UT",18.7,"MCDONALD'S",{"$f":"VLOOKUP(IF(A347=\"Yes\",\"Personal\",G347),'Vendor List'!$A:$B,2,FALSE)","v":"60800.FCF"}]
["-",1,"10/18/2013","XXXXX10079","OLYMPUS HILLS SERVICSALT LAKE CITY UT",15.01,"OLYMPUS HILLS SERVICE",{"$f":"VLOOKUP(IF(A348=\"Yes\",\"Personal\",G348),'Vendor List'!$A:$B,2,FALSE)","v":"40500.FCF"}]
["-",1,"10/18/2013","XXXXX10080","PAYPAL *LKQ ONLINE 4029357733 CA",76.62,"Auto Parts",{"$f":"VLOOKUP(IF(A349=\"Yes\",\"Personal\",G349),'Vendor List'!$A:$B,2,FALSE)","v":"12105.FCF"}]
["-",1,"10/18/2013","XXXXX10081","PAYPAL *MAMAANDTANY 4029357733 CA",38,"Personal",{"$f":"VLOOKUP(IF(A350=\"Yes\",\"Personal\",G350),'Vendor List'!$A:$B,2,FALSE)","v":"17000.FCF"}]
["-",1,"10/18/2013","XXXXX10082","PAYPAL *MISSYMARTIN 4029357733 CA",24.99,"Personal",{"$f":"VLOOKUP(IF(A351=\"Yes\",\"Personal\",G351),'Vendor List'!$A:$B,2,FALSE)","v":"17000.FCF"}]
["-",1,"10/18/2013","XXXXX10083","THE HOME DEPOT 4403 SALT LAKE CIT UT",6.91,"THE HOME DEPOT",{"$f":"VLOOKUP(IF(A352=\"Yes\",\"Personal\",G352),'Vendor List'!$A:$B,2,FALSE)","v":"72300.FCF"}]
["-",1,"10/19/2013","XXXXX10084","7-ELEVEN 36754 00073LEHI UT",19.989999999999998,"7-ELEVEN",{"$f":"VLOOKUP(IF(A353=\"Yes\",\"Personal\",G353),'Vendor List'!$A:$B,2,FALSE)","v":"40500.FCF"}]
["-",1,"10/19/2013","XXXXX10085","DIRECTV SERVICE 800-347-3288 CA",330.09,"DIRECTV",{"$f":"VLOOKUP(IF(A354=\"Yes\",\"Personal\",G354),'Vendor List'!$A:$B,2,FALSE)","v":"70000.FCF"}]
["-",1,"10/19/2013","XXXXX10086","PAYPAL *ENFOTRACEGP 4029357733 CA",14.95,"EnfoTrace",{"$f":"VLOOKUP(IF(A355=\"Yes\",\"Personal\",G355),'Vendor List'!$A:$B,2,FALSE)","v":"12105.FCF"}]
["-",1,"10/19/2013","XXXXX10087","PAYPAL *ENFOTRACEGP 4029357733 CA",79.8,"EnfoTrace",{"$f":"VLOOKUP(IF(A356=\"Yes\",\"Personal\",G356),'Vendor List'!$A:$B,2,FALSE)","v":"12105.FCF"}]
["-",1,"10/19/2013","XXXXX10088","PAYPAL *ENFOTRACEGP 4029357733 CA",159.6,"EnfoTrace",{"$f":"VLOOKUP(IF(A357=\"Yes\",\"Personal\",G357),'Vendor List'!$A:$B,2,FALSE)","v":"12105.FCF"}]
["-",1,"10/21/2013","XXXXX10089","7-ELEVEN 26999 00072SALT LAKE CITY UT",6.45,"7-ELEVEN",{"$f":"VLOOKUP(IF(A358=\"Yes\",\"Personal\",G358),'Vendor List'!$A:$B,2,FALSE)","v":"40500.FCF"}]
["-",1,"10/21/2013","XXXXX10090","7-ELEVEN 26999 00072SALT LAKE CITY UT",14.76,"7-ELEVEN",{"$f":"VLOOKUP(IF(A359=\"Yes\",\"Personal\",G359),'Vendor List'!$A:$B,2,FALSE)","v":"40500.FCF"}]
["-",1,"10/21/2013","XXXXX10091","7-ELEVEN 26999 00072SALT LAKE CITY UT",15.03,"7-ELEVEN",{"$f":"VLOOKUP(IF(A360=\"Yes\",\"Personal\",G360),'Vendor List'!$A:$B,2,FALSE)","v":"40500.FCF"}]
["-",1,"10/21/2013","XXXXX10092","KJZZ 0054 SALT LAKE CIT UT",2720,"KJZZ",{"$f":"VLOOKUP(IF(A361=\"Yes\",\"Personal\",G361),'Vendor List'!$A:$B,2,FALSE)","v":"70700.FCF"}]
["-",1,"10/21/2013","XXXXX10093","KSL.COMDESERETDIGMEDSALT LAKE CIT UT",599,"KSL.COM",{"$f":"VLOOKUP(IF(A362=\"Yes\",\"Personal\",G362),'Vendor List'!$A:$B,2,FALSE)","v":"70700.FCF"}]
["-",1,"10/21/2013","XXXXX10094","SEARS ROEBUCK 01118 SALT LAKE CIT UT",4.12,"SEARS ROEBUCK",{"$f":"VLOOKUP(IF(A363=\"Yes\",\"Personal\",G363),'Vendor List'!$A:$B,2,FALSE)","v":"12105.FCF"}]
["-",1,"10/22/2013","XXXXX10095","CHEVRON K & H ENTERPSALT LAKE CITY UT",45.46,"CHEVRON",{"$f":"VLOOKUP(IF(A364=\"Yes\",\"Personal\",G364),'Vendor List'!$A:$B,2,FALSE)","v":"40500.FCF"}]
["-",1,"10/22/2013","XXXXX10096","EVCO HOUSE OF HOSE CORAOPOLIS PA",93.59,"EVCO",{"$f":"VLOOKUP(IF(A365=\"Yes\",\"Personal\",G365),'Vendor List'!$A:$B,2,FALSE)","v":"12105.FCF"}]
["-",1,"10/22/2013","XXXXX10097","MES*GLEN'S LOCK & KESALT LAKE CIT UT",4.95,"Glen's Lock & Key",{"$f":"VLOOKUP(IF(A366=\"Yes\",\"Personal\",G366),'Vendor List'!$A:$B,2,FALSE)","v":"12105.FCF"}]
["-",1,"10/23/2013","XXXXX10098","7-ELEVEN 26282 00072SALT LAKE CITY UT",10.93,"7-ELEVEN",{"$f":"VLOOKUP(IF(A367=\"Yes\",\"Personal\",G367),'Vendor List'!$A:$B,2,FALSE)","v":"40500.FCF"}]
["-",1,"10/23/2013","XXXXX10099","OLYMPUS HILLS SERVICSALT LAKE CITY UT",20.02,"OLYMPUS HILLS SERVICE",{"$f":"VLOOKUP(IF(A368=\"Yes\",\"Personal\",G368),'Vendor List'!$A:$B,2,FALSE)","v":"40500.FCF"}]
["-",1,"10/24/2013","XXXXX10100","7-ELEVEN 26282 00072SALT LAKE CITY UT",10.96,"7-ELEVEN",{"$f":"VLOOKUP(IF(A369=\"Yes\",\"Personal\",G369),'Vendor List'!$A:$B,2,FALSE)","v":"40500.FCF"}]
["-",1,"10/24/2013","XXXXX10101","7-ELEVEN 26282 00072SALT LAKE CITY UT",15.08,"7-ELEVEN",{"$f":"VLOOKUP(IF(A370=\"Yes\",\"Personal\",G370),'Vendor List'!$A:$B,2,FALSE)","v":"40500.FCF"}]
["-",1,"10/24/2013","XXXXX10102","GAY USA PAGES 542929ALTAMONTE SPR FL",99,"GAY USA PAGES",{"$f":"VLOOKUP(IF(A371=\"Yes\",\"Personal\",G371),'Vendor List'!$A:$B,2,FALSE)","v":"50200.FCF"}]
["-",1,"10/25/2013","XXXXX10103","MCDONALD'S F6396 000SALT LAKE CI UT",23.88,"MCDONALD'S",{"$f":"VLOOKUP(IF(A372=\"Yes\",\"Personal\",G372),'Vendor List'!$A:$B,2,FALSE)","v":"60800.FCF"}]
["-",1,"10/25/2013","XXXXX10104","OLYMPUS HILLS SERVICSALT LAKE CITY UT",20.05,"OLYMPUS HILLS SERVICE",{"$f":"VLOOKUP(IF(A373=\"Yes\",\"Personal\",G373),'Vendor List'!$A:$B,2,FALSE)","v":"40500.FCF"}]
["-",1,"10/26/2013","XXXXX10105","7-ELEVEN 26999 00072SALT LAKE CITY UT",10.84,"7-ELEVEN",{"$f":"VLOOKUP(IF(A374=\"Yes\",\"Personal\",G374),'Vendor List'!$A:$B,2,FALSE)","v":"40500.FCF"}]
["-",1,"10/26/2013","XXXXX10106","FEDEX OFFICE #2401 0SALT LAKE CITY UT",11.11,"FED EX",{"$f":"VLOOKUP(IF(A375=\"Yes\",\"Personal\",G375),'Vendor List'!$A:$B,2,FALSE)","v":"70500.FCF"}]
["-",1,"10/26/2013","XXXXX10107","VICTORS TIRES INC VISALT LAKE CITY UT",35,"VICTORS TIRES",{"$f":"VLOOKUP(IF(A376=\"Yes\",\"Personal\",G376),'Vendor List'!$A:$B,2,FALSE)","v":"12105.FCF"}]
["-",1,"10/27/2013","XXXXX10108","HOLIDAY OIL #07 0000DRAPER UT",45.17,"HOLIDAY OIL",{"$f":"VLOOKUP(IF(A377=\"Yes\",\"Personal\",G377),'Vendor List'!$A:$B,2,FALSE)","v":"40500.FCF"}]
["-",1,"10/27/2013","XXXXX10109","WWW.GOTOMYPC.COM SERVICE/SW",21.32,"gotomypc.com",{"$f":"VLOOKUP(IF(A378=\"Yes\",\"Personal\",G378),'Vendor List'!$A:$B,2,FALSE)","v":"60700.FCF"}]
["-",1,"10/28/2013","XXXXX10110","CHEVRON HOLIDAY OIL SALT LAKE CITY UT",7.24,"CHEVRON",{"$f":"VLOOKUP(IF(A379=\"Yes\",\"Personal\",G379),'Vendor List'!$A:$B,2,FALSE)","v":"40500.FCF"}]
["-",1,"10/28/2013","XXXXX10111","VICTORS TIRES INC VISALT LAKE CITY UT",280,"VICTORS TIRES",{"$f":"VLOOKUP(IF(A380=\"Yes\",\"Personal\",G380),'Vendor List'!$A:$B,2,FALSE)","v":"12105.FCF"}]
["-",1,"10/29/2013","XXXXX10112","SUPERIOR PAINT SUPPLSALT LAKE CITY UT",6.22,"SUPERIOR PAINT",{"$f":"VLOOKUP(IF(A381=\"Yes\",\"Personal\",G381),'Vendor List'!$A:$B,2,FALSE)","v":"72300.FCF"}]
["-",1,"10/30/2013","XXXXX10113","7-ELEVEN 26282 00072SALT LAKE CITY UT",10.99,"7-ELEVEN",{"$f":"VLOOKUP(IF(A382=\"Yes\",\"Personal\",G382),'Vendor List'!$A:$B,2,FALSE)","v":"40500.FCF"}]
["-",1,"10/30/2013","XXXXX10114","7-ELEVEN 26999 00072SALT LAKE CITY UT",8.07,"7-ELEVEN",{"$f":"VLOOKUP(IF(A383=\"Yes\",\"Personal\",G383),'Vendor List'!$A:$B,2,FALSE)","v":"40500.FCF"}]
["-",1,"10/30/2013","XXXXX10115","CHEVRON HOLIDAY OIL SALT LAKE CITY UT",5.99,"CHEVRON",{"$f":"VLOOKUP(IF(A384=\"Yes\",\"Personal\",G384),'Vendor List'!$A:$B,2,FALSE)","v":"40500.FCF"}]
["-",1,"10/30/2013","XXXXX10116","MICHAELS 5718 DRAPER UT",12.53,"Personal",{"$f":"VLOOKUP(IF(A385=\"Yes\",\"Personal\",G385),'Vendor List'!$A:$B,2,FALSE)","v":"17000.FCF"}]
["-",1,"10/30/2013","XXXXX10117","OLYMPUS HILLS SERVICSALT LAKE CITY UT",15.06,"OLYMPUS HILLS SERVICE",{"$f":"VLOOKUP(IF(A386=\"Yes\",\"Personal\",G386),'Vendor List'!$A:$B,2,FALSE)","v":"40500.FCF"}]
["-",1,"10/30/2013","XXXXX10118","PAYPAL *EKUS PARTS 4029357733 CA",34.770000000000003,"Auto Parts",{"$f":"VLOOKUP(IF(A387=\"Yes\",\"Personal\",G387),'Vendor List'!$A:$B,2,FALSE)","v":"12105.FCF"}]
["-",1,"10/30/2013","XXXXX10119","SMITHS FOOD #4132 008666111979",19.18,"SMITHS FOOD",{"$f":"VLOOKUP(IF(A388=\"Yes\",\"Personal\",G388),'Vendor List'!$A:$B,2,FALSE)","v":"70000.FCF"}]
["-",1,"10/30/2013","XXXXX10120","SMITHS FOOD #4132 008666111979",81.069999999999993,"SMITHS FOOD",{"$f":"VLOOKUP(IF(A389=\"Yes\",\"Personal\",G389),'Vendor List'!$A:$B,2,FALSE)","v":"70000.FCF"}]
["-",1,"10/30/2013","XXXXX10121","THE SWEET TOOTH FAIRDRAPER UT",1.07,"Personal",{"$f":"VLOOKUP(IF(A390=\"Yes\",\"Personal\",G390),'Vendor List'!$A:$B,2,FALSE)","v":"17000.FCF"}]
["-",1,"10/30/2013","XXXXX10122","THE SWEET TOOTH FAIRDRAPER UT",1.07,"Personal",{"$f":"VLOOKUP(IF(A391=\"Yes\",\"Personal\",G391),'Vendor List'!$A:$B,2,FALSE)","v":"17000.FCF"}]
["-",1,"10/31/2013","XXXXX10123","GABP/S & J/PWE / DPSHOUSTON TX",178.99,"Personal",{"$f":"VLOOKUP(IF(A392=\"Yes\",\"Personal\",G392),'Vendor List'!$A:$B,2,FALSE)","v":"17000.FCF"}]
["-",1,"10/31/2013","XXXXX10124","WAL-MART SUPERCENTERSALT LAKE CITY UT",22.72,"Personal",{"$f":"VLOOKUP(IF(A393=\"Yes\",\"Personal\",G393),'Vendor List'!$A:$B,2,FALSE)","v":"17000.FCF"}]
["-",5,"2013-10-31","XXXXX10~JE","AMEX XXXXX Payable",{"$f":"SUM($F$270:$F$393)","v":13975.250000000004},"Amex 48004 Payable",{"$f":"VLOOKUP(IF(A394=\"Yes\",\"Personal\",G394),'Vendor List'!$A:$B,2,FALSE)","v":"24059.FCF"}]
["-",1,"11/01/2013","XXXXX11001","7-ELEVEN 26282 00072SALT LAKE CITY UT",12.03,"7-ELEVEN",{"$f":"VLOOKUP(IF(A395=\"Yes\",\"Personal\",G395),'Vendor List'!$A:$B,2,FALSE)","v":"40500.FCF"}]
["-",1,"11/01/2013","XXXXX11002","7-ELEVEN 26999 00072SALT LAKE CITY UT",15.05,"7-ELEVEN",{"$f":"VLOOKUP(IF(A396=\"Yes\",\"Personal\",G396),'Vendor List'!$A:$B,2,FALSE)","v":"40500.FCF"}]
["-",1,"11/01/2013","XXXXX11003","DELTA AIR LINES ATLANTA",110.1,"DELTA AIRLINES",{"$f":"VLOOKUP(IF(A397=\"Yes\",\"Personal\",G397),'Vendor List'!$A:$B,2,FALSE)","v":"12105.FCF"}]
["-",1,"11/01/2013","XXXXX11004","GREAT HARVEST BREAD SALT LAKE CITY UT",16.5,"GREAT HARVEST",{"$f":"VLOOKUP(IF(A398=\"Yes\",\"Personal\",G398),'Vendor List'!$A:$B,2,FALSE)","v":"60800.FCF"}]
["-",1,"11/01/2013","XXXXX11005","MES*GLEN'S LOCK & KESALT LAKE CIT UT",79,"Glen's Lock & Key",{"$f":"VLOOKUP(IF(A399=\"Yes\",\"Personal\",G399),'Vendor List'!$A:$B,2,FALSE)","v":"12105.FCF"}]
["-",1,"11/01/2013","XXXXX11006","Verizon Wrls 15259-08009220204",406.01,"Verizon",{"$f":"VLOOKUP(IF(A400=\"Yes\",\"Personal\",G400),'Vendor List'!$A:$B,2,FALSE)","v":"72800.FCF"}]
["-",1,"11/02/2013","XXXXX11007","7-ELEVEN 26999 00072SALT LAKE CITY UT",9.1199999999999992,"7-ELEVEN",{"$f":"VLOOKUP(IF(A401=\"Yes\",\"Personal\",G401),'Vendor List'!$A:$B,2,FALSE)","v":"40500.FCF"}]
["-",1,"11/02/2013","XXXXX11008","OLYMPUS HILLS SERVICSALT LAKE CITY UT",15.08,"OLYMPUS HILLS SERVICE",{"$f":"VLOOKUP(IF(A402=\"Yes\",\"Personal\",G402),'Vendor List'!$A:$B,2,FALSE)","v":"40500.FCF"}]
["-",1,"11/03/2013","XXXXX11009","CHEVRON HOLIDAY OIL SALT LAKE CITY UT",20.03,"CHEVRON",{"$f":"VLOOKUP(IF(A403=\"Yes\",\"Personal\",G403),'Vendor List'!$A:$B,2,FALSE)","v":"40500.FCF"}]
["-",1,"11/03/2013","XXXXX11010","DELTA AIR LINES ATLANTA",192.9,"DELTA AIRLINES",{"$f":"VLOOKUP(IF(A404=\"Yes\",\"Personal\",G404),'Vendor List'!$A:$B,2,FALSE)","v":"12105.FCF"}]
["-",1,"11/03/2013","XXXXX11011","DELTA AIR LINES ATLANTA",201,"DELTA AIRLINES",{"$f":"VLOOKUP(IF(A405=\"Yes\",\"Personal\",G405),'Vendor List'!$A:$B,2,FALSE)","v":"12105.FCF"}]
["-",1,"11/04/2013","XXXXX11012","7-ELEVEN 26999 00072SALT LAKE CITY UT",20.059999999999999,"7-ELEVEN",{"$f":"VLOOKUP(IF(A406=\"Yes\",\"Personal\",G406),'Vendor List'!$A:$B,2,FALSE)","v":"40500.FCF"}]
["-",1,"11/04/2013","XXXXX11013","CHEVRON K & H ENTERPSALT LAKE CITY UT",7,"CHEVRON",{"$f":"VLOOKUP(IF(A407=\"Yes\",\"Personal\",G407),'Vendor List'!$A:$B,2,FALSE)","v":"40500.FCF"}]
["-",1,"11/04/2013","XXXXX11014","CHEVRON K & H ENTERPSALT LAKE CITY UT",46.23,"CHEVRON",{"$f":"VLOOKUP(IF(A408=\"Yes\",\"Personal\",G408),'Vendor List'!$A:$B,2,FALSE)","v":"40500.FCF"}]
["-",1,"11/04/2013","XXXXX11015","PAYPAL *HUBCAPKINGD 4029357733 CA",18.95,"Auto Parts",{"$f":"VLOOKUP(IF(A409=\"Yes\",\"Personal\",G409),'Vendor List'!$A:$B,2,FALSE)","v":"12105.FCF"}]
["-",1,"11/04/2013","XXXXX11016","PAYPAL *MARTINIAUTO 4029357733 CA",15,"Auto Parts",{"$f":"VLOOKUP(IF(A410=\"Yes\",\"Personal\",G410),'Vendor List'!$A:$B,2,FALSE)","v":"12105.FCF"}]
["-",1,"11/05/2013","XXXXX11017","7-ELEVEN 26999 00072SALT LAKE CITY UT",11.17,"7-ELEVEN",{"$f":"VLOOKUP(IF(A411=\"Yes\",\"Personal\",G411),'Vendor List'!$A:$B,2,FALSE)","v":"40500.FCF"}]
["-",1,"11/05/2013","XXXXX11018","HOTELTONIGHT.COM 800-208-2949 CA",78,"HOTELS.COM",{"$f":"VLOOKUP(IF(A412=\"Yes\",\"Personal\",G412),'Vendor List'!$A:$B,2,FALSE)","v":"72900.FCF"}]
["-",1,"11/06/2013","XXXXX11019","CHEVRON HOLIDAY OIL SALT LAKE CITY UT",8.01,"CHEVRON",{"$f":"VLOOKUP(IF(A413=\"Yes\",\"Personal\",G413),'Vendor List'!$A:$B,2,FALSE)","v":"40500.FCF"}]
["-",1,"11/06/2013","XXXXX11020","GIGGLEPOP.COM 217-344-4922",45,"Personal",{"$f":"VLOOKUP(IF(A414=\"Yes\",\"Personal\",G414),'Vendor List'!$A:$B,2,FALSE)","v":"17000.FCF"}]
["-",1,"11/06/2013","XXXXX11021","HERTZ CAR RENTAL 800-654-4173 NV",31.84,"HERTZ",{"$f":"VLOOKUP(IF(A415=\"Yes\",\"Personal\",G415),'Vendor List'!$A:$B,2,FALSE)","v":"72900.FCF"}]
["-",1,"11/06/2013","XXXXX11022","JIMMY JOHNS 1882 884CEDAR CITY UT",22.99,"JIMMY JOHN'S",{"$f":"VLOOKUP(IF(A416=\"Yes\",\"Personal\",G416),'Vendor List'!$A:$B,2,FALSE)","v":"60800.FCF"}]
["-",1,"11/06/2013","XXXXX11023","OLYMPUS HILLS SERVICSALT LAKE CITY UT",20,"OLYMPUS HILLS SERVICE",{"$f":"VLOOKUP(IF(A417=\"Yes\",\"Personal\",G417),'Vendor List'!$A:$B,2,FALSE)","v":"40500.FCF"}]
["-",1,"11/06/2013","XXXXX11024","PAYPAL *STEVESAUTOP 4029357733 CA",79.989999999999995,"Auto Parts",{"$f":"VLOOKUP(IF(A418=\"Yes\",\"Personal\",G418),'Vendor List'!$A:$B,2,FALSE)","v":"12105.FCF"}]
["-",1,"11/06/2013","XXXXX11025","REBEL #2187 HENDERSON NV",10.24,"REBEL",{"$f":"VLOOKUP(IF(A419=\"Yes\",\"Personal\",G419),'Vendor List'!$A:$B,2,FALSE)","v":"40500.FCF"}]
["-",1,"11/06/2013","XXXXX11026","REBEL #2187 HENDERSON NV",25.38,"REBEL",{"$f":"VLOOKUP(IF(A420=\"Yes\",\"Personal\",G420),'Vendor List'!$A:$B,2,FALSE)","v":"40500.FCF"}]
["-",1,"11/06/2013","XXXXX11027","REBEL #2187 HENDERSON NV",61.21,"REBEL",{"$f":"VLOOKUP(IF(A421=\"Yes\",\"Personal\",G421),'Vendor List'!$A:$B,2,FALSE)","v":"40500.FCF"}]
["-",1,"11/06/2013","XXXXX11028","TEXACO CEDAR CITY TRCEDAR CITY UT",34.26,"TEXACO",{"$f":"VLOOKUP(IF(A422=\"Yes\",\"Personal\",G422),'Vendor List'!$A:$B,2,FALSE)","v":"40500.FCF"}]
["-",1,"11/06/2013","XXXXX11029","TEXACO CEDAR CITY TRCEDAR CITY UT",35.15,"TEXACO",{"$f":"VLOOKUP(IF(A423=\"Yes\",\"Personal\",G423),'Vendor List'!$A:$B,2,FALSE)","v":"40500.FCF"}]
["-",1,"11/07/2013","XXXXX11030","CLARITY SKIN LLC 300DRAPER UT",300,"Personal",{"$f":"VLOOKUP(IF(A424=\"Yes\",\"Personal\",G424),'Vendor List'!$A:$B,2,FALSE)","v":"17000.FCF"}]
["-",1,"11/07/2013","XXXXX11031","MCDONALD'S F4010 000SALT LAKE CI UT",19.34,"MCDONALD'S",{"$f":"VLOOKUP(IF(A425=\"Yes\",\"Personal\",G425),'Vendor List'!$A:$B,2,FALSE)","v":"60800.FCF"}]
["-",1,"11/07/2013","XXXXX11032","SEARS ROEBUCK 01118 SALT LAKE CIT UT",4.9800000000000004,"SEARS ROEBUCK",{"$f":"VLOOKUP(IF(A426=\"Yes\",\"Personal\",G426),'Vendor List'!$A:$B,2,FALSE)","v":"12105.FCF"}]
["-",1,"11/08/2013","XXXXX11033","Interest Charge on Purchases",187.76,"Interest Charged",{"$f":"VLOOKUP(IF(A427=\"Yes\",\"Personal\",G427),'Vendor List'!$A:$B,2,FALSE)","v":"65300.FCF"}]
["-",1,"11/08/2013","XXXXX11034","MCDONALD'S F6396 000SALT LAKE CI UT",23.88,"MCDONALD'S",{"$f":"VLOOKUP(IF(A428=\"Yes\",\"Personal\",G428),'Vendor List'!$A:$B,2,FALSE)","v":"60800.FCF"}]
["-",1,"11/08/2013","XXXXX11035","SEARS ROEBUCK 01118 SALT LAKE CIT UT",2.68,"SEARS ROEBUCK",{"$f":"VLOOKUP(IF(A429=\"Yes\",\"Personal\",G429),'Vendor List'!$A:$B,2,FALSE)","v":"12105.FCF"}]
["-",1,"11/08/2013","XXXXX11036","SMITHS FOOD #4080 008666111979",4.1100000000000003,"SMITHS FOOD",{"$f":"VLOOKUP(IF(A430=\"Yes\",\"Personal\",G430),'Vendor List'!$A:$B,2,FALSE)","v":"70000.FCF"}]
["-",1,"11/09/2013","XXXXX11037","KFC/TB #503 0480 SALT LAKE CIT UT",21.56,"KFC/TB",{"$f":"VLOOKUP(IF(A431=\"Yes\",\"Personal\",G431),'Vendor List'!$A:$B,2,FALSE)","v":"60800.FCF"}]
["-",1,"11/09/2013","XXXXX11038","OLYMPUS HILLS SERVICSALT LAKE CITY UT",20,"OLYMPUS HILLS SERVICE",{"$f":"VLOOKUP(IF(A432=\"Yes\",\"Personal\",G432),'Vendor List'!$A:$B,2,FALSE)","v":"40500.FCF"}]
["-",1,"11/09/2013","XXXXX11039","SLC INTERNATIONAL AISALT LAKE CIT UT",11,"SLC INTERNATIONAL",{"$f":"VLOOKUP(IF(A433=\"Yes\",\"Personal\",G433),'Vendor List'!$A:$B,2,FALSE)","v":"72900.FCF"}]
["-",1,"11/10/2013","XXXXX11040","DAN'S OLYMPUS 000000SALT LAKE CITY UT",42.58,"DAN'S FOOD",{"$f":"VLOOKUP(IF(A434=\"Yes\",\"Personal\",G434),'Vendor List'!$A:$B,2,FALSE)","v":"60800.FCF"}]
["-",1,"11/11/2013","XXXXX11041","COMCAST CABLE COMM 800-COMCAST UT",121.4,"COMCAST",{"$f":"VLOOKUP(IF(A435=\"Yes\",\"Personal\",G435),'Vendor List'!$A:$B,2,FALSE)","v":"17000.FCF"}]
["-",1,"11/11/2013","XXXXX11042","HERTZ CAR RENTAL 800-654-4173 CA",64.650000000000006,"HERTZ",{"$f":"VLOOKUP(IF(A436=\"Yes\",\"Personal\",G436),'Vendor List'!$A:$B,2,FALSE)","v":"72900.FCF"}]
["-",1,"11/11/2013","XXXXX11043","PAYPAL *ALLSTARAUTO 4029357733 CA",54.46,"Auto Parts",{"$f":"VLOOKUP(IF(A437=\"Yes\",\"Personal\",G437),'Vendor List'!$A:$B,2,FALSE)","v":"12105.FCF"}]
["-",1,"11/11/2013","XXXXX11044","PAYPAL *ALLSTARAUTO 4029357733 CA",79.959999999999994,"Auto Parts",{"$f":"VLOOKUP(IF(A438=\"Yes\",\"Personal\",G438),'Vendor List'!$A:$B,2,FALSE)","v":"12105.FCF"}]
["-",1,"11/11/2013","XXXXX11045","PAYPAL *AUTO PARTS 4029357733 CA",40.36,"Auto Parts",{"$f":"VLOOKUP(IF(A439=\"Yes\",\"Personal\",G439),'Vendor List'!$A:$B,2,FALSE)","v":"12105.FCF"}]
["-",1,"11/11/2013","XXXXX11046","PAYPAL *BRADWEIST 4029357733 CA",22.85,"Personal",{"$f":"VLOOKUP(IF(A440=\"Yes\",\"Personal\",G440),'Vendor List'!$A:$B,2,FALSE)","v":"17000.FCF"}]
["-",1,"11/11/2013","XXXXX11047","PAYPAL *FUNDAMENTAL 4029357733 CA",16.989999999999998,"Personal",{"$f":"VLOOKUP(IF(A441=\"Yes\",\"Personal\",G441),'Vendor List'!$A:$B,2,FALSE)","v":"17000.FCF"}]
["-",1,"11/11/2013","XXXXX11048","PAYPAL *TASCAAUTOMO 4029357733 CA",111.15,"Auto Parts",{"$f":"VLOOKUP(IF(A442=\"Yes\",\"Personal\",G442),'Vendor List'!$A:$B,2,FALSE)","v":"12105.FCF"}]
["-",1,"11/11/2013","XXXXX11049","PAYPAL *WOLF12345WO 4029357733 CA",55,"Personal",{"$f":"VLOOKUP(IF(A443=\"Yes\",\"Personal\",G443),'Vendor List'!$A:$B,2,FALSE)","v":"17000.FCF"}]
["-",1,"11/12/2013","XXXXX11050","7-ELEVEN 26999 00072SALT LAKE CITY UT",15.08,"7-ELEVEN",{"$f":"VLOOKUP(IF(A444=\"Yes\",\"Personal\",G444),'Vendor List'!$A:$B,2,FALSE)","v":"40500.FCF"}]
["-",1,"11/12/2013","XXXXX11051","DELTA AIR LINES ATLANTA",365.8,"DELTA AIRLINES",{"$f":"VLOOKUP(IF(A445=\"Yes\",\"Personal\",G445),'Vendor List'!$A:$B,2,FALSE)","v":"12105.FCF"}]
["-",1,"11/12/2013","XXXXX11052","PAYPAL *CORE GUYS 4029357733 CA",19.989999999999998,"Auto Parts",{"$f":"VLOOKUP(IF(A446=\"Yes\",\"Personal\",G446),'Vendor List'!$A:$B,2,FALSE)","v":"12105.FCF"}]
["-",1,"11/12/2013","XXXXX11053","PAYPAL *FUNDAMENTAL 4029357733 CA",-16.989999999999998,"Personal",{"$f":"VLOOKUP(IF(A447=\"Yes\",\"Personal\",G447),'Vendor List'!$A:$B,2,FALSE)","v":"17000.FCF"}]
["-",1,"11/13/2013","XXXXX11054","7-ELEVEN 26999 00072SALT LAKE CITY UT",10.029999999999999,"7-ELEVEN",{"$f":"VLOOKUP(IF(A448=\"Yes\",\"Personal\",G448),'Vendor List'!$A:$B,2,FALSE)","v":"40500.FCF"}]
["-",1,"11/13/2013","XXXXX11055","CHEVRON K & H ENTERPSALT LAKE CITY UT",15.03,"CHEVRON",{"$f":"VLOOKUP(IF(A449=\"Yes\",\"Personal\",G449),'Vendor List'!$A:$B,2,FALSE)","v":"40500.FCF"}]
["-",1,"11/13/2013","XXXXX11056","COLUMBUS TRAVEL BOUNTIFUL UT",50,"COLUMBUS TRAVEL",{"$f":"VLOOKUP(IF(A450=\"Yes\",\"Personal\",G450),'Vendor List'!$A:$B,2,FALSE)","v":"17000.FCF"}]
["-",1,"11/13/2013","XXXXX11057","COLUMBUS TRAVEL BOUNTIFUL UT",781.9,"COLUMBUS TRAVEL",{"$f":"VLOOKUP(IF(A451=\"Yes\",\"Personal\",G451),'Vendor List'!$A:$B,2,FALSE)","v":"17000.FCF"}]
["-",1,"11/13/2013","XXXXX11058","COLUMBUS TRAVEL BOUNTIFUL UT",781.9,"COLUMBUS TRAVEL",{"$f":"VLOOKUP(IF(A452=\"Yes\",\"Personal\",G452),'Vendor List'!$A:$B,2,FALSE)","v":"17000.FCF"}]
["-",1,"11/13/2013","XXXXX11059","MCDONALD'S F2108 000SALT LAKE CI UT",7.75,"MCDONALD'S",{"$f":"VLOOKUP(IF(A453=\"Yes\",\"Personal\",G453),'Vendor List'!$A:$B,2,FALSE)","v":"60800.FCF"}]
["-",1,"11/14/2013","XXXXX11060","CHEVRON K & H ENTERPSALT LAKE CITY UT",40.82,"CHEVRON",{"$f":"VLOOKUP(IF(A454=\"Yes\",\"Personal\",G454),'Vendor List'!$A:$B,2,FALSE)","v":"40500.FCF"}]
["-",1,"11/15/2013","XXXXX11061","DELTA AIR LINES ATLANTA",15.8,"DELTA AIRLINES",{"$f":"VLOOKUP(IF(A455=\"Yes\",\"Personal\",G455),'Vendor List'!$A:$B,2,FALSE)","v":"12105.FCF"}]
["-",1,"11/15/2013","XXXXX11062","GREAT HARVEST BREAD SALT LAKE CITY UT",13.23,"GREAT HARVEST",{"$f":"VLOOKUP(IF(A456=\"Yes\",\"Personal\",G456),'Vendor List'!$A:$B,2,FALSE)","v":"60800.FCF"}]
["-",1,"11/15/2013","XXXXX11063","SMITHS FOOD #4044 008666111979",3.9,"SMITHS FOOD",{"$f":"VLOOKUP(IF(A457=\"Yes\",\"Personal\",G457),'Vendor List'!$A:$B,2,FALSE)","v":"70000.FCF"}]
["-",1,"11/15/2013","XXXXX11064","STRONG VOLKSWAGEN 65SALT LAKE CITY UT",94.76,"STRONG VW",{"$f":"VLOOKUP(IF(A458=\"Yes\",\"Personal\",G458),'Vendor List'!$A:$B,2,FALSE)","v":"12105.FCF"}]
["-",1,"11/16/2013","XXXXX11065","7-ELEVEN 26282 00072SALT LAKE CITY UT",16.07,"7-ELEVEN",{"$f":"VLOOKUP(IF(A459=\"Yes\",\"Personal\",G459),'Vendor List'!$A:$B,2,FALSE)","v":"40500.FCF"}]
["-",1,"11/16/2013","XXXXX11066","OLYMPUS HILLS SERVICSALT LAKE CITY UT",15.01,"OLYMPUS HILLS SERVICE",{"$f":"VLOOKUP(IF(A460=\"Yes\",\"Personal\",G460),'Vendor List'!$A:$B,2,FALSE)","v":"40500.FCF"}]
["-",1,"11/18/2013","XXXXX11067","7-ELEVEN 26282 00072SALT LAKE CITY UT",10.119999999999999,"7-ELEVEN",{"$f":"VLOOKUP(IF(A461=\"Yes\",\"Personal\",G461),'Vendor List'!$A:$B,2,FALSE)","v":"40500.FCF"}]
["-",1,"11/18/2013","XXXXX11068","DAN'S OLYMPUS 000000SALT LAKE CITY UT",17.8,"DAN'S FOOD",{"$f":"VLOOKUP(IF(A462=\"Yes\",\"Personal\",G462),'Vendor List'!$A:$B,2,FALSE)","v":"60800.FCF"}]
["-",1,"11/19/2013","XXXXX11069","7-ELEVEN 26999 00072SALT LAKE CITY UT",10.1,"7-ELEVEN",{"$f":"VLOOKUP(IF(A463=\"Yes\",\"Personal\",G463),'Vendor List'!$A:$B,2,FALSE)","v":"40500.FCF"}]
["-",1,"11/19/2013","XXXXX11070","7-ELEVEN 26999 00072SALT LAKE CITY UT",15.17,"7-ELEVEN",{"$f":"VLOOKUP(IF(A464=\"Yes\",\"Personal\",G464),'Vendor List'!$A:$B,2,FALSE)","v":"40500.FCF"}]
["-",1,"11/19/2013","XXXXX11071","CHEVRON K & H ENTERPSALT LAKE CITY UT",20.03,"CHEVRON",{"$f":"VLOOKUP(IF(A465=\"Yes\",\"Personal\",G465),'Vendor List'!$A:$B,2,FALSE)","v":"40500.FCF"}]
["-",1,"11/19/2013","XXXXX11072","DIRECTV SERVICE 800-347-3288 CA",330.09,"DIRECTV",{"$f":"VLOOKUP(IF(A466=\"Yes\",\"Personal\",G466),'Vendor List'!$A:$B,2,FALSE)","v":"70000.FCF"}]
["-",1,"11/19/2013","XXXXX11073","PAYPAL *DAYDREAMRZ8 4029357733 CA",50,"Personal",{"$f":"VLOOKUP(IF(A467=\"Yes\",\"Personal\",G467),'Vendor List'!$A:$B,2,FALSE)","v":"17000.FCF"}]
["-",1,"11/20/2013","XXXXX11074","CHEVRON K & H ENTERPSALT LAKE CITY UT",7.13,"CHEVRON",{"$f":"VLOOKUP(IF(A468=\"Yes\",\"Personal\",G468),'Vendor List'!$A:$B,2,FALSE)","v":"40500.FCF"}]
["-",1,"11/20/2013","XXXXX11075","DELTA AIR LINES ATLANTA",-161.80000000000001,"DELTA AIRLINES",{"$f":"VLOOKUP(IF(A469=\"Yes\",\"Personal\",G469),'Vendor List'!$A:$B,2,FALSE)","v":"12105.FCF"}]
["-",1,"11/20/2013","XXXXX11076","DELTA AIR LINES ATLANTA",161.80000000000001,"DELTA AIRLINES",{"$f":"VLOOKUP(IF(A470=\"Yes\",\"Personal\",G470),'Vendor List'!$A:$B,2,FALSE)","v":"12105.FCF"}]
["-",1,"11/20/2013","XXXXX11077","DELTA AIR LINES ATLANTA",230.9,"DELTA AIRLINES",{"$f":"VLOOKUP(IF(A471=\"Yes\",\"Personal\",G471),'Vendor List'!$A:$B,2,FALSE)","v":"12105.FCF"}]
["-",1,"11/20/2013","XXXXX11078","DELTA AIR LINES ATLANTA",230.9,"DELTA AIRLINES",{"$f":"VLOOKUP(IF(A472=\"Yes\",\"Personal\",G472),'Vendor List'!$A:$B,2,FALSE)","v":"12105.FCF"}]
["-",1,"11/20/2013","XXXXX11079","HERTZ CAR RENTAL 800-654-4173 NV",56.92,"HERTZ",{"$f":"VLOOKUP(IF(A473=\"Yes\",\"Personal\",G473),'Vendor List'!$A:$B,2,FALSE)","v":"72900.FCF"}]
["-",1,"11/20/2013","XXXXX11080","KJZZ 0054 SALT LAKE CIT UT",2720,"KJZZ",{"$f":"VLOOKUP(IF(A474=\"Yes\",\"Personal\",G474),'Vendor List'!$A:$B,2,FALSE)","v":"70700.FCF"}]
["-",1,"11/20/2013","XXXXX11081","MCDONALD'S F4010 000SALT LAKE CI UT",7.33,"MCDONALD'S",{"$f":"VLOOKUP(IF(A475=\"Yes\",\"Personal\",G475),'Vendor List'!$A:$B,2,FALSE)","v":"60800.FCF"}]
["-",1,"11/20/2013","XXXXX11082","PAYPAL *BILLSMITHAU 4029357733 CA",70,"Auto Parts",{"$f":"VLOOKUP(IF(A476=\"Yes\",\"Personal\",G476),'Vendor List'!$A:$B,2,FALSE)","v":"12105.FCF"}]
["-",1,"11/20/2013","XXXXX11083","PAYPAL *GLENNDAGHER 4029357733 CA",249,"Personal",{"$f":"VLOOKUP(IF(A477=\"Yes\",\"Personal\",G477),'Vendor List'!$A:$B,2,FALSE)","v":"17000.FCF"}]
["-",1,"11/20/2013","XXXXX11084","TEXACO CEDAR CITY TRCEDAR CITY UT",31.23,"TEXACO",{"$f":"VLOOKUP(IF(A478=\"Yes\",\"Personal\",G478),'Vendor List'!$A:$B,2,FALSE)","v":"40500.FCF"}]
["-",1,"11/21/2013","XXXXX11085","CHEVRON HOLIDAY OIL SALT LAKE CITY UT",20.12,"CHEVRON",{"$f":"VLOOKUP(IF(A479=\"Yes\",\"Personal\",G479),'Vendor List'!$A:$B,2,FALSE)","v":"40500.FCF"}]
["-",1,"11/21/2013","XXXXX11086","DESERET DIGITAL MEDISALT LAKE CITY UT",599,"KJZZ",{"$f":"VLOOKUP(IF(A480=\"Yes\",\"Personal\",G480),'Vendor List'!$A:$B,2,FALSE)","v":"70700.FCF"}]
["-",1,"11/21/2013","XXXXX11087","MCDONALD'S F4010 000SALT LAKE CI UT",26.39,"MCDONALD'S",{"$f":"VLOOKUP(IF(A481=\"Yes\",\"Personal\",G481),'Vendor List'!$A:$B,2,FALSE)","v":"60800.FCF"}]
["-",1,"11/21/2013","XXXXX11088","SAN FRANCISCO 49ERS SANTA CLARA CA",2596,"Personal",{"$f":"VLOOKUP(IF(A482=\"Yes\",\"Personal\",G482),'Vendor List'!$A:$B,2,FALSE)","v":"17000.FCF"}]
["-",1,"11/21/2013","XXXXX11089","UTAH-DMV OFFICES SALT LAKE CITY UT",424.25,"DMV",{"$f":"VLOOKUP(IF(A483=\"Yes\",\"Personal\",G483),'Vendor List'!$A:$B,2,FALSE)","v":"60700.FCF"}]
["-",1,"11/22/2013","XXXXX11090","7-ELEVEN 26999 00072SALT LAKE CITY UT",15.02,"7-ELEVEN",{"$f":"VLOOKUP(IF(A484=\"Yes\",\"Personal\",G484),'Vendor List'!$A:$B,2,FALSE)","v":"40500.FCF"}]
["-",1,"11/22/2013","XXXXX11091","DAN'S OLYMPUS 000000SALT LAKE CITY UT",27.64,"DAN'S FOOD",{"$f":"VLOOKUP(IF(A485=\"Yes\",\"Personal\",G485),'Vendor List'!$A:$B,2,FALSE)","v":"60800.FCF"}]
["-",1,"11/22/2013","XXXXX11092","LA PICO MARKET TESO6KEARNS UT",15.39,"Personal",{"$f":"VLOOKUP(IF(A486=\"Yes\",\"Personal\",G486),'Vendor List'!$A:$B,2,FALSE)","v":"17000.FCF"}]
["-",1,"11/22/2013","XXXXX11093","LOWE'S OF SALT LAKE SALT LAKE CITY UT",-21.34,"LOWE'S",{"$f":"VLOOKUP(IF(A487=\"Yes\",\"Personal\",G487),'Vendor List'!$A:$B,2,FALSE)","v":"70000.FCF"}]
["-",1,"11/22/2013","XXXXX11094","LOWE'S OF SALT LAKE SALT LAKE CITY UT",58.75,"LOWE'S",{"$f":"VLOOKUP(IF(A488=\"Yes\",\"Personal\",G488),'Vendor List'!$A:$B,2,FALSE)","v":"70000.FCF"}]
["-",1,"11/22/2013","XXXXX11095","LOWE'S OF SALT LAKE SALT LAKE CITY UT",90.23,"LOWE'S",{"$f":"VLOOKUP(IF(A489=\"Yes\",\"Personal\",G489),'Vendor List'!$A:$B,2,FALSE)","v":"70000.FCF"}]
["-",1,"11/22/2013","XXXXX11096","LOWE'S OF SALT LAKE SALT LAKE CITY UT",117.49,"LOWE'S",{"$f":"VLOOKUP(IF(A490=\"Yes\",\"Personal\",G490),'Vendor List'!$A:$B,2,FALSE)","v":"70000.FCF"}]
["-",1,"11/22/2013","XXXXX11097","MCDONALD'S F6396 000SALT LAKE CI UT",14.1,"MCDONALD'S",{"$f":"VLOOKUP(IF(A491=\"Yes\",\"Personal\",G491),'Vendor List'!$A:$B,2,FALSE)","v":"60800.FCF"}]
["-",1,"11/22/2013","XXXXX11098","PAYPAL *JUNKYARDOGS 4029357733 CA",61.7,"Personal",{"$f":"VLOOKUP(IF(A492=\"Yes\",\"Personal\",G492),'Vendor List'!$A:$B,2,FALSE)","v":"17000.FCF"}]
["-",1,"11/23/2013","XXXXX11099","SHELL OIL 5744460070SALT LAKE CITY UT",20.010000000000002,"SHELL OIL",{"$f":"VLOOKUP(IF(A493=\"Yes\",\"Personal\",G493),'Vendor List'!$A:$B,2,FALSE)","v":"70500.FCF"}]
["-",1,"11/24/2013","XXXXX11100","CHEVRON HOLIDAY OIL SOUTH JORDAN UT",9.99,"CHEVRON",{"$f":"VLOOKUP(IF(A494=\"Yes\",\"Personal\",G494),'Vendor List'!$A:$B,2,FALSE)","v":"40500.FCF"}]
["-",1,"11/24/2013","XXXXX11101","GAY USA PAGES 542929ALTAMONTE SPR FL",99,"GAY USA PAGES",{"$f":"VLOOKUP(IF(A495=\"Yes\",\"Personal\",G495),'Vendor List'!$A:$B,2,FALSE)","v":"50200.FCF"}]
["-",1,"11/25/2013","XXXXX11102","AAA POSTAL SHOP AAA SALT LAKE CITY UT",11.32,"AAA POSTAL",{"$f":"VLOOKUP(IF(A496=\"Yes\",\"Personal\",G496),'Vendor List'!$A:$B,2,FALSE)","v":"70500.FCF"}]
["-",1,"11/25/2013","XXXXX11103","LOWE'S OF SALT LAKE SALT LAKE CITY UT",-76.11,"LOWE'S",{"$f":"VLOOKUP(IF(A497=\"Yes\",\"Personal\",G497),'Vendor List'!$A:$B,2,FALSE)","v":"70000.FCF"}]
["-",1,"11/25/2013","XXXXX11104","LOWE'S OF SALT LAKE SALT LAKE CITY UT",2.3199999999999998,"LOWE'S",{"$f":"VLOOKUP(IF(A498=\"Yes\",\"Personal\",G498),'Vendor List'!$A:$B,2,FALSE)","v":"70000.FCF"}]
["-",1,"11/25/2013","XXXXX11105","LOWE'S OF SALT LAKE SALT LAKE CITY UT",76.11,"LOWE'S",{"$f":"VLOOKUP(IF(A499=\"Yes\",\"Personal\",G499),'Vendor List'!$A:$B,2,FALSE)","v":"70000.FCF"}]
["-",1,"11/25/2013","XXXXX11106","PAYPAL *DIRECTAUTO 4029357733 CA",63.76,"Auto Parts",{"$f":"VLOOKUP(IF(A500=\"Yes\",\"Personal\",G500),'Vendor List'!$A:$B,2,FALSE)","v":"12105.FCF"}]
["-",1,"11/26/2013","XXXXX11107","7-ELEVEN 26999 00072SALT LAKE CITY UT",19.260000000000002,"7-ELEVEN",{"$f":"VLOOKUP(IF(A501=\"Yes\",\"Personal\",G501),'Vendor List'!$A:$B,2,FALSE)","v":"40500.FCF"}]
["-",1,"11/26/2013","XXXXX11108","CHEVRON K & H ENTERPSALT LAKE CITY UT",37.14,"CHEVRON",{"$f":"VLOOKUP(IF(A502=\"Yes\",\"Personal\",G502),'Vendor List'!$A:$B,2,FALSE)","v":"40500.FCF"}]
["-",1,"11/26/2013","XXXXX11109","MES*GLEN'S LOCK & KESALT LAKE CIT UT",89.1,"Glen's Lock & Key",{"$f":"VLOOKUP(IF(A503=\"Yes\",\"Personal\",G503),'Vendor List'!$A:$B,2,FALSE)","v":"12105.FCF"}]
["-",1,"11/26/2013","XXXXX11110","OLYMPUS HILLS SERVICSALT LAKE CITY UT",15.14,"OLYMPUS HILLS SERVICE",{"$f":"VLOOKUP(IF(A504=\"Yes\",\"Personal\",G504),'Vendor List'!$A:$B,2,FALSE)","v":"40500.FCF"}]
["-",1,"11/26/2013","XXXXX11111","PAYPAL *ABIGCOMPANY 4029357733 CA",7.99,"Personal",{"$f":"VLOOKUP(IF(A505=\"Yes\",\"Personal\",G505),'Vendor List'!$A:$B,2,FALSE)","v":"17000.FCF"}]
["-",1,"11/26/2013","XXXXX11112","PAYPAL *CARPARTSDEP 4029357733 CA",41.25,"Auto Parts",{"$f":"VLOOKUP(IF(A506=\"Yes\",\"Personal\",G506),'Vendor List'!$A:$B,2,FALSE)","v":"12105.FCF"}]
["-",1,"11/27/2013","XXXXX11113","DAN'S OLYMPUS 000000SALT LAKE CITY UT",5,"DAN'S FOOD",{"$f":"VLOOKUP(IF(A507=\"Yes\",\"Personal\",G507),'Vendor List'!$A:$B,2,FALSE)","v":"60800.FCF"}]
["-",1,"11/27/2013","XXXXX11114","MCDONALD'S F4010 000SALT LAKE CI UT",26.39,"MCDONALD'S",{"$f":"VLOOKUP(IF(A508=\"Yes\",\"Personal\",G508),'Vendor List'!$A:$B,2,FALSE)","v":"60800.FCF"}]
["-",1,"11/27/2013","XXXXX11115","RITE AID 6135 RITE ASALT LAKE CITY UT",36.69,"RITE AID",{"$f":"VLOOKUP(IF(A509=\"Yes\",\"Personal\",G509),'Vendor List'!$A:$B,2,FALSE)","v":"17000.FCF"}]
["-",1,"11/27/2013","XXXXX11116","WWW.GOTOMYPC.COM SERVICE/SW",21.32,"gotomypc.com",{"$f":"VLOOKUP(IF(A510=\"Yes\",\"Personal\",G510),'Vendor List'!$A:$B,2,FALSE)","v":"60700.FCF"}]
["-",1,"11/29/2013","XXXXX11117","HENRIES DRY CLEANERSSALT LAKE CITY UT",18.510000000000002,"HENRIES DRY CLEANER",{"$f":"VLOOKUP(IF(A511=\"Yes\",\"Personal\",G511),'Vendor List'!$A:$B,2,FALSE)","v":"70140.FCF"}]
["-",1,"11/29/2013","XXXXX11118","PAYPAL *ENFOTRACEGP 4029357733 CA",14.95,"EnfoTrace",{"$f":"VLOOKUP(IF(A512=\"Yes\",\"Personal\",G512),'Vendor List'!$A:$B,2,FALSE)","v":"12105.FCF"}]
["-",1,"11/29/2013","XXXXX11119","PAYPAL *WESLEYBISCO 4029357733 CA",55,"Personal",{"$f":"VLOOKUP(IF(A513=\"Yes\",\"Personal\",G513),'Vendor List'!$A:$B,2,FALSE)","v":"17000.FCF"}]
["-",1,"11/29/2013","XXXXX11120","THE HOME DEPOT 4403 SALT LAKE CIT UT",74.78,"THE HOME DEPOT",{"$f":"VLOOKUP(IF(A514=\"Yes\",\"Personal\",G514),'Vendor List'!$A:$B,2,FALSE)","v":"72300.FCF"}]
["-",1,"11/30/2013","XXXXX11121","7-ELEVEN 26282 00072SALT LAKE CITY UT",16.22,"7-ELEVEN",{"$f":"VLOOKUP(IF(A515=\"Yes\",\"Personal\",G515),'Vendor List'!$A:$B,2,FALSE)","v":"40500.FCF"}]
["-",1,"11/30/2013","XXXXX11122","CHEVRON HOLIDAY OIL SALT LAKE CITY UT",10.09,"CHEVRON",{"$f":"VLOOKUP(IF(A516=\"Yes\",\"Personal\",G516),'Vendor List'!$A:$B,2,FALSE)","v":"40500.FCF"}]
["-",1,"11/30/2013","XXXXX11123","OLYMPUS HILLS SERVICSALT LAKE CITY UT",20.010000000000002,"OLYMPUS HILLS SERVICE",{"$f":"VLOOKUP(IF(A517=\"Yes\",\"Personal\",G517),'Vendor List'!$A:$B,2,FALSE)","v":"40500.FCF"}]
["-",5,"2013-11-30","XXXXX11~JE","AMEX XXXXX Payable",{"$f":"SUM($F$395:$F$517)","v":13898.789999999999},"Amex 48004 Payable",{"$f":"VLOOKUP(IF(A518=\"Yes\",\"Personal\",G518),'Vendor List'!$A:$B,2,FALSE)","v":"24059.FCF"}]
["-",1,"12/01/2013","XXXXX12001","CARTER'S #434 000000SANDY UT",38.47,"Personal",{"$f":"VLOOKUP(IF(A519=\"Yes\",\"Personal\",G519),'Vendor List'!$A:$B,2,FALSE)","v":"17000.FCF"}]
["-",1,"12/01/2013","XXXXX12002","CHEVRON SLIM OLSON'SWOODS CROSS UT",41.68,"CHEVRON",{"$f":"VLOOKUP(IF(A520=\"Yes\",\"Personal\",G520),'Vendor List'!$A:$B,2,FALSE)","v":"40500.FCF"}]
["-",1,"12/01/2013","XXXXX12003","INTERCONTINENTAL SANSAN FRANCISCO CA",286.49,"HOTELS.COM",{"$f":"VLOOKUP(IF(A521=\"Yes\",\"Personal\",G521),'Vendor List'!$A:$B,2,FALSE)","v":"72900.FCF"}]
["-",1,"12/01/2013","XXXXX12004","PAYPAL *ATLANTAAUTO 4029357733 CA",40.909999999999997,"Auto Parts",{"$f":"VLOOKUP(IF(A522=\"Yes\",\"Personal\",G522),'Vendor List'!$A:$B,2,FALSE)","v":"12105.FCF"}]
["-",1,"12/01/2013","XXXXX12005","TOWER MART #141 0000ROCKLIN CA",27.78,"Personal",{"$f":"VLOOKUP(IF(A523=\"Yes\",\"Personal\",G523),'Vendor List'!$A:$B,2,FALSE)","v":"17000.FCF"}]
["-",1,"12/02/2013","XXXXX12006","CHEVRON VINTNERS DISROCKLIN CA",19.32,"CHEVRON",{"$f":"VLOOKUP(IF(A524=\"Yes\",\"Personal\",G524),'Vendor List'!$A:$B,2,FALSE)","v":"40500.FCF"}]
["-",1,"12/02/2013","XXXXX12007","CHEVRON VINTNERS DISROCKLIN CA",54.27,"CHEVRON",{"$f":"VLOOKUP(IF(A525=\"Yes\",\"Personal\",G525),'Vendor List'!$A:$B,2,FALSE)","v":"40500.FCF"}]
["-",1,"12/02/2013","XXXXX12008","HERTZ CAR RENTAL 800-654-4173 CA",184.51,"HERTZ",{"$f":"VLOOKUP(IF(A526=\"Yes\",\"Personal\",G526),'Vendor List'!$A:$B,2,FALSE)","v":"72900.FCF"}]
["-",1,"12/02/2013","XXXXX12009","OLYMPUS HILLS SERVICSALT LAKE CITY UT",15,"OLYMPUS HILLS SERVICE",{"$f":"VLOOKUP(IF(A527=\"Yes\",\"Personal\",G527),'Vendor List'!$A:$B,2,FALSE)","v":"40500.FCF"}]
["-",1,"12/02/2013","XXXXX12010","PILOT CORP 340 00340FERNLEY NV",19.64,"PILOT GAS",{"$f":"VLOOKUP(IF(A528=\"Yes\",\"Personal\",G528),'Vendor List'!$A:$B,2,FALSE)","v":"40500.FCF"}]
["-",1,"12/02/2013","XXXXX12011","THUNDER VALLEY RESORLINCOLN CA",125.15,"THUNDER VALLEY RESORT",{"$f":"VLOOKUP(IF(A529=\"Yes\",\"Personal\",G529),'Vendor List'!$A:$B,2,FALSE)","v":"60800.FCF"}]
["-",1,"12/03/2013","XXXXX12012","CHEVRON K & H ENTERPSALT LAKE CITY UT",25,"CHEVRON",{"$f":"VLOOKUP(IF(A530=\"Yes\",\"Personal\",G530),'Vendor List'!$A:$B,2,FALSE)","v":"40500.FCF"}]
["-",1,"12/03/2013","XXXXX12013","MES*GLEN'S LOCK & KESALT LAKE CIT UT",89.1,"Glen's Lock & Key",{"$f":"VLOOKUP(IF(A531=\"Yes\",\"Personal\",G531),'Vendor List'!$A:$B,2,FALSE)","v":"12105.FCF"}]
["-",1,"12/03/2013","XXXXX12014","SEARS ROEBUCK 01118 SALT LAKE CIT UT",413.38,"SEARS ROEBUCK",{"$f":"VLOOKUP(IF(A532=\"Yes\",\"Personal\",G532),'Vendor List'!$A:$B,2,FALSE)","v":"12105.FCF"}]
["-",1,"12/04/2013","XXXXX12015","7-ELEVEN 26282 00072SALT LAKE CITY UT",12.08,"7-ELEVEN",{"$f":"VLOOKUP(IF(A533=\"Yes\",\"Personal\",G533),'Vendor List'!$A:$B,2,FALSE)","v":"40500.FCF"}]
["-",1,"12/04/2013","XXXXX12016","GIGGLEPOP.COM 217-344-4922",399,"Personal",{"$f":"VLOOKUP(IF(A534=\"Yes\",\"Personal\",G534),'Vendor List'!$A:$B,2,FALSE)","v":"17000.FCF"}]
["-",1,"12/04/2013","XXXXX12017","GLAUS FRENCH PASTRY SALT LAKE CTY UT",28.46,"GLAUS FRENCH PASTRY",{"$f":"VLOOKUP(IF(A535=\"Yes\",\"Personal\",G535),'Vendor List'!$A:$B,2,FALSE)","v":"60800.FCF"}]
["-",1,"12/04/2013","XXXXX12018","PAYPAL *ISELLHMSTN 4029357733 CA",44.01,"Personal",{"$f":"VLOOKUP(IF(A536=\"Yes\",\"Personal\",G536),'Vendor List'!$A:$B,2,FALSE)","v":"17000.FCF"}]
["-",1,"12/05/2013","XXXXX12019","OLYMPUS VIEW SINCLAISALT LAKE CITY UT",20,"OLYMPUS VIEW",{"$f":"VLOOKUP(IF(A537=\"Yes\",\"Personal\",G537),'Vendor List'!$A:$B,2,FALSE)","v":"40500.FCF"}]
["-",1,"12/05/2013","XXXXX12020","PILOT 141 00141 EVANSTON WY",7.33,"PILOT GAS",{"$f":"VLOOKUP(IF(A538=\"Yes\",\"Personal\",G538),'Vendor List'!$A:$B,2,FALSE)","v":"40500.FCF"}]
["-",1,"12/05/2013","XXXXX12021","PILOT 141 00141 EVANSTON WY",31.3,"PILOT GAS",{"$f":"VLOOKUP(IF(A539=\"Yes\",\"Personal\",G539),'Vendor List'!$A:$B,2,FALSE)","v":"40500.FCF"}]
["-",1,"12/05/2013","XXXXX12022","PILOT 141 00141 EVANSTON WY",51.9,"PILOT GAS",{"$f":"VLOOKUP(IF(A540=\"Yes\",\"Personal\",G540),'Vendor List'!$A:$B,2,FALSE)","v":"40500.FCF"}]
["-",1,"12/06/2013","XXXXX12023","7-ELEVEN 26282 00072SALT LAKE CITY UT",10.02,"7-ELEVEN",{"$f":"VLOOKUP(IF(A541=\"Yes\",\"Personal\",G541),'Vendor List'!$A:$B,2,FALSE)","v":"40500.FCF"}]
["-",1,"12/06/2013","XXXXX12024","7-ELEVEN 26999 00072SALT LAKE CITY UT",8.5,"7-ELEVEN",{"$f":"VLOOKUP(IF(A542=\"Yes\",\"Personal\",G542),'Vendor List'!$A:$B,2,FALSE)","v":"40500.FCF"}]
["-",1,"12/06/2013","XXXXX12025","7-ELEVEN 26999 00072SALT LAKE CITY UT",40.090000000000003,"7-ELEVEN",{"$f":"VLOOKUP(IF(A543=\"Yes\",\"Personal\",G543),'Vendor List'!$A:$B,2,FALSE)","v":"40500.FCF"}]
["-",1,"12/06/2013","XXXXX12026","CHEVRON K & H ENTERPSALT LAKE CITY UT",20.010000000000002,"CHEVRON",{"$f":"VLOOKUP(IF(A544=\"Yes\",\"Personal\",G544),'Vendor List'!$A:$B,2,FALSE)","v":"40500.FCF"}]
["-",1,"12/06/2013","XXXXX12027","CHEVRON K & H ENTERPSALT LAKE CITY UT",30.01,"CHEVRON",{"$f":"VLOOKUP(IF(A545=\"Yes\",\"Personal\",G545),'Vendor List'!$A:$B,2,FALSE)","v":"40500.FCF"}]
["-",1,"12/06/2013","XXXXX12028","MCDONALD'S F6396 000SALT LAKE CI UT",17,"MCDONALD'S",{"$f":"VLOOKUP(IF(A546=\"Yes\",\"Personal\",G546),'Vendor List'!$A:$B,2,FALSE)","v":"60800.FCF"}]
["-",1,"12/06/2013","XXXXX12029","SMITHS FOOD #4080 008666111979",2.2599999999999998,"SMITHS FOOD",{"$f":"VLOOKUP(IF(A547=\"Yes\",\"Personal\",G547),'Vendor List'!$A:$B,2,FALSE)","v":"70000.FCF"}]
["-",1,"12/06/2013","XXXXX12030","THERMOCRAFT 2104965411 TX",86.94,"THERMOCRAFT",{"$f":"VLOOKUP(IF(A548=\"Yes\",\"Personal\",G548),'Vendor List'!$A:$B,2,FALSE)","v":"70700.FCF"}]
["-",1,"12/07/2013","XXXXX12031","CHEVRON K & H ENTERPSALT LAKE CITY UT",9.27,"CHEVRON",{"$f":"VLOOKUP(IF(A549=\"Yes\",\"Personal\",G549),'Vendor List'!$A:$B,2,FALSE)","v":"40500.FCF"}]
["-",1,"12/07/2013","XXXXX12032","KFC/TB #536 0479 SALT LAKE CIT UT",21.56,"KFC/TB",{"$f":"VLOOKUP(IF(A550=\"Yes\",\"Personal\",G550),'Vendor List'!$A:$B,2,FALSE)","v":"60800.FCF"}]
["-",1,"12/09/2013","XXXXX12033","CHEVRON HOLIDAY OIL SALT LAKE CITY UT",20.02,"CHEVRON",{"$f":"VLOOKUP(IF(A551=\"Yes\",\"Personal\",G551),'Vendor List'!$A:$B,2,FALSE)","v":"40500.FCF"}]
["-",1,"12/09/2013","XXXXX12034","DAN'S OLYMPUS 000000SALT LAKE CITY UT",19.829999999999998,"DAN'S FOOD",{"$f":"VLOOKUP(IF(A552=\"Yes\",\"Personal\",G552),'Vendor List'!$A:$B,2,FALSE)","v":"60800.FCF"}]
["-",1,"12/09/2013","XXXXX12035","HERTZ CAR RENTAL 800-654-4173 CA",201.35,"HERTZ",{"$f":"VLOOKUP(IF(A553=\"Yes\",\"Personal\",G553),'Vendor List'!$A:$B,2,FALSE)","v":"72900.FCF"}]
["-",1,"12/09/2013","XXXXX12036","OLYMPUS HILLS SERVICSALT LAKE CITY UT",15,"OLYMPUS HILLS SERVICE",{"$f":"VLOOKUP(IF(A554=\"Yes\",\"Personal\",G554),'Vendor List'!$A:$B,2,FALSE)","v":"40500.FCF"}]
["-",1,"12/09/2013","XXXXX12037","SHELL OIL 5744301480ROSEVILLE CA",31.12,"SHELL OIL",{"$f":"VLOOKUP(IF(A555=\"Yes\",\"Personal\",G555),'Vendor List'!$A:$B,2,FALSE)","v":"70500.FCF"}]
["-",1,"12/09/2013","XXXXX12038","THUNDER VALLEY RESORLINCOLN CA",161.87,"THUNDER VALLEY RESORT",{"$f":"VLOOKUP(IF(A556=\"Yes\",\"Personal\",G556),'Vendor List'!$A:$B,2,FALSE)","v":"60800.FCF"}]
["-",1,"12/10/2013","XXXXX12039","7-ELEVEN 26999 00072SALT LAKE CITY UT",11.02,"7-ELEVEN",{"$f":"VLOOKUP(IF(A557=\"Yes\",\"Personal\",G557),'Vendor List'!$A:$B,2,FALSE)","v":"40500.FCF"}]
["-",1,"12/10/2013","XXXXX12040","7-ELEVEN 26999 00072SALT LAKE CITY UT",15.07,"7-ELEVEN",{"$f":"VLOOKUP(IF(A558=\"Yes\",\"Personal\",G558),'Vendor List'!$A:$B,2,FALSE)","v":"40500.FCF"}]
["-",1,"12/10/2013","XXXXX12041","CHEVRON K & H ENTERPSALT LAKE CITY UT",7.01,"CHEVRON",{"$f":"VLOOKUP(IF(A559=\"Yes\",\"Personal\",G559),'Vendor List'!$A:$B,2,FALSE)","v":"40500.FCF"}]
["-",1,"12/10/2013","XXXXX12042","Interest Charge on Purchases",237.71,"Interest Charged",{"$f":"VLOOKUP(IF(A560=\"Yes\",\"Personal\",G560),'Vendor List'!$A:$B,2,FALSE)","v":"65300.FCF"}]
["-",1,"12/11/2013","XXXXX12043","7-ELEVEN 26282 00072SALT LAKE CITY UT",12.88,"7-ELEVEN",{"$f":"VLOOKUP(IF(A561=\"Yes\",\"Personal\",G561),'Vendor List'!$A:$B,2,FALSE)","v":"40500.FCF"}]
["-",1,"12/11/2013","XXXXX12044","7-ELEVEN 26999 00072SALT LAKE CITY UT",9.5299999999999994,"7-ELEVEN",{"$f":"VLOOKUP(IF(A562=\"Yes\",\"Personal\",G562),'Vendor List'!$A:$B,2,FALSE)","v":"40500.FCF"}]
["-",1,"12/11/2013","XXXXX12045","DELTA AIR LINES ATLANTA",378.8,"DELTA AIRLINES",{"$f":"VLOOKUP(IF(A563=\"Yes\",\"Personal\",G563),'Vendor List'!$A:$B,2,FALSE)","v":"12105.FCF"}]
["-",1,"12/11/2013","XXXXX12046","MCDONALD'S F4010 000SALT LAKE CI UT",23.8,"MCDONALD'S",{"$f":"VLOOKUP(IF(A564=\"Yes\",\"Personal\",G564),'Vendor List'!$A:$B,2,FALSE)","v":"60800.FCF"}]
["-",1,"12/11/2013","XXXXX12047","PETSMART INC 169 SALT LAKE CTY UT",33.11,"PETSMART",{"$f":"VLOOKUP(IF(A565=\"Yes\",\"Personal\",G565),'Vendor List'!$A:$B,2,FALSE)","v":"17000.FCF"}]
["-",1,"12/12/2013","XXXXX12048","COMCAST CABLE COMM 800-COMCAST UT",121.4,"COMCAST",{"$f":"VLOOKUP(IF(A566=\"Yes\",\"Personal\",G566),'Vendor List'!$A:$B,2,FALSE)","v":"17000.FCF"}]
["-",1,"12/12/2013","XXXXX12049","SLC INTERNATIONAL AISALT LAKE CIT UT",8,"SLC INTERNATIONAL",{"$f":"VLOOKUP(IF(A567=\"Yes\",\"Personal\",G567),'Vendor List'!$A:$B,2,FALSE)","v":"72900.FCF"}]
["-",1,"12/13/2013","XXXXX12050","7-ELEVEN 26999 00072SALT LAKE CITY UT",7.06,"7-ELEVEN",{"$f":"VLOOKUP(IF(A568=\"Yes\",\"Personal\",G568),'Vendor List'!$A:$B,2,FALSE)","v":"40500.FCF"}]
["-",1,"12/13/2013","XXXXX12051","7-ELEVEN 26999 00072SALT LAKE CITY UT",11.4,"7-ELEVEN",{"$f":"VLOOKUP(IF(A569=\"Yes\",\"Personal\",G569),'Vendor List'!$A:$B,2,FALSE)","v":"40500.FCF"}]
["-",1,"12/13/2013","XXXXX12052","7-ELEVEN 26999 00072SALT LAKE CITY UT",12.76,"7-ELEVEN",{"$f":"VLOOKUP(IF(A570=\"Yes\",\"Personal\",G570),'Vendor List'!$A:$B,2,FALSE)","v":"40500.FCF"}]
["-",1,"12/13/2013","XXXXX12053","BIG DADDY'S PIZZA (SSALT LAKE CIT UT",60.35,"Personal",{"$f":"VLOOKUP(IF(A571=\"Yes\",\"Personal\",G571),'Vendor List'!$A:$B,2,FALSE)","v":"17000.FCF"}]
["-",1,"12/13/2013","XXXXX12054","DELTA AIR LINES ATLANTA",7.5,"DELTA AIRLINES",{"$f":"VLOOKUP(IF(A572=\"Yes\",\"Personal\",G572),'Vendor List'!$A:$B,2,FALSE)","v":"12105.FCF"}]
["-",1,"12/13/2013","XXXXX12055","DELTA AIR LINES ATLANTA",8.5,"DELTA AIRLINES",{"$f":"VLOOKUP(IF(A573=\"Yes\",\"Personal\",G573),'Vendor List'!$A:$B,2,FALSE)","v":"12105.FCF"}]
["-",1,"12/13/2013","XXXXX12056","DELTA AIR LINES ATLANTA",8.5,"DELTA AIRLINES",{"$f":"VLOOKUP(IF(A574=\"Yes\",\"Personal\",G574),'Vendor List'!$A:$B,2,FALSE)","v":"12105.FCF"}]
["-",1,"12/13/2013","XXXXX12057","HOLIDAY OIL #07 0000DRAPER UT",38.869999999999997,"HOLIDAY OIL",{"$f":"VLOOKUP(IF(A575=\"Yes\",\"Personal\",G575),'Vendor List'!$A:$B,2,FALSE)","v":"40500.FCF"}]
["-",1,"12/13/2013","XXXXX12058","WALL STREET JO326282SALT LAKE CIT UT",13.34,"Personal",{"$f":"VLOOKUP(IF(A576=\"Yes\",\"Personal\",G576),'Vendor List'!$A:$B,2,FALSE)","v":"17000.FCF"}]
["-",1,"12/14/2013","XXXXX12059","7-ELEVEN 26999 00072SALT LAKE CITY UT",10.3,"7-ELEVEN",{"$f":"VLOOKUP(IF(A577=\"Yes\",\"Personal\",G577),'Vendor List'!$A:$B,2,FALSE)","v":"40500.FCF"}]
["-",1,"12/14/2013","XXXXX12060","CHEVRON HOLIDAY OIL SALT LAKE CITY UT",12.26,"CHEVRON",{"$f":"VLOOKUP(IF(A578=\"Yes\",\"Personal\",G578),'Vendor List'!$A:$B,2,FALSE)","v":"40500.FCF"}]
["-",1,"12/15/2013","XXXXX12061","20% In-Flight Savings for Delta SkyMiles",-1.7,"DELTA AIRLINES",{"$f":"VLOOKUP(IF(A579=\"Yes\",\"Personal\",G579),'Vendor List'!$A:$B,2,FALSE)","v":"12105.FCF"}]
["-",1,"12/15/2013","XXXXX12062","20% In-Flight Savings for Delta SkyMiles",-1.7,"DELTA AIRLINES",{"$f":"VLOOKUP(IF(A580=\"Yes\",\"Personal\",G580),'Vendor List'!$A:$B,2,FALSE)","v":"12105.FCF"}]
["-",1,"12/15/2013","XXXXX12063","20% In-Flight Savings for Delta SkyMiles",-1.5,"DELTA AIRLINES",{"$f":"VLOOKUP(IF(A581=\"Yes\",\"Personal\",G581),'Vendor List'!$A:$B,2,FALSE)","v":"12105.FCF"}]
["-",1,"12/16/2013","XXXXX12064","PAYPAL *ENFOTRACEGP 4029357733 CA",19.95,"EnfoTrace",{"$f":"VLOOKUP(IF(A582=\"Yes\",\"Personal\",G582),'Vendor List'!$A:$B,2,FALSE)","v":"12105.FCF"}]
["-",1,"12/16/2013","XXXXX12065","PAYPAL *ENFOTRACEGP 4029357733 CA",59.8,"EnfoTrace",{"$f":"VLOOKUP(IF(A583=\"Yes\",\"Personal\",G583),'Vendor List'!$A:$B,2,FALSE)","v":"12105.FCF"}]
["-",1,"12/16/2013","XXXXX12066","PAYPAL *ENFOTRACEGP 4029357733 CA",259.35000000000002,"EnfoTrace",{"$f":"VLOOKUP(IF(A584=\"Yes\",\"Personal\",G584),'Vendor List'!$A:$B,2,FALSE)","v":"12105.FCF"}]
["-",1,"12/17/2013","XXXXX12067","7-ELEVEN 26999 00072SALT LAKE CITY UT",7.17,"7-ELEVEN",{"$f":"VLOOKUP(IF(A585=\"Yes\",\"Personal\",G585),'Vendor List'!$A:$B,2,FALSE)","v":"40500.FCF"}]
["-",1,"12/17/2013","XXXXX12068","CHEVRON HOLIDAY OIL SALT LAKE CITY UT",8.0299999999999994,"CHEVRON",{"$f":"VLOOKUP(IF(A586=\"Yes\",\"Personal\",G586),'Vendor List'!$A:$B,2,FALSE)","v":"40500.FCF"}]
["-",1,"12/17/2013","XXXXX12069","LOWE'S OF SALT LAKE SALT LAKE CITY UT",13.87,"LOWE'S",{"$f":"VLOOKUP(IF(A587=\"Yes\",\"Personal\",G587),'Vendor List'!$A:$B,2,FALSE)","v":"70000.FCF"}]
["-",1,"12/19/2013","XXXXX12070","7-ELEVEN 25948 00072MIDVALE UT",15.01,"7-ELEVEN",{"$f":"VLOOKUP(IF(A588=\"Yes\",\"Personal\",G588),'Vendor List'!$A:$B,2,FALSE)","v":"40500.FCF"}]
["-",1,"12/19/2013","XXXXX12071","7-ELEVEN 26999 00072SALT LAKE CITY UT",16.399999999999999,"7-ELEVEN",{"$f":"VLOOKUP(IF(A589=\"Yes\",\"Personal\",G589),'Vendor List'!$A:$B,2,FALSE)","v":"40500.FCF"}]
["-",1,"12/19/2013","XXXXX12072","7-ELEVEN 26999 00072SALT LAKE CITY UT",37.549999999999997,"7-ELEVEN",{"$f":"VLOOKUP(IF(A590=\"Yes\",\"Personal\",G590),'Vendor List'!$A:$B,2,FALSE)","v":"40500.FCF"}]
["-",1,"12/19/2013","XXXXX12073","ATLANTIS ROYAL TOWERNASSAU BH",29.87,"Personal",{"$f":"VLOOKUP(IF(A591=\"Yes\",\"Personal\",G591),'Vendor List'!$A:$B,2,FALSE)","v":"17000.FCF"}]
["-",1,"12/19/2013","XXXXX12074","ATLANTIS ROYAL TOWERNASSAU BH",351.48,"Personal",{"$f":"VLOOKUP(IF(A592=\"Yes\",\"Personal\",G592),'Vendor List'!$A:$B,2,FALSE)","v":"17000.FCF"}]
["-",1,"12/19/2013","XXXXX12075","HERTZ RENT-A-CAR NASSAU BH",377.03,"HERTZ",{"$f":"VLOOKUP(IF(A593=\"Yes\",\"Personal\",G593),'Vendor List'!$A:$B,2,FALSE)","v":"72900.FCF"}]
["-",1,"12/19/2013","XXXXX12076","KJZZ 0054 SALT LAKE CIT UT",2720,"KJZZ",{"$f":"VLOOKUP(IF(A594=\"Yes\",\"Personal\",G594),'Vendor List'!$A:$B,2,FALSE)","v":"70700.FCF"}]
["-",1,"12/20/2013","XXXXX12077","7-ELEVEN 26999 00072SALT LAKE CITY UT",12.06,"7-ELEVEN",{"$f":"VLOOKUP(IF(A595=\"Yes\",\"Personal\",G595),'Vendor List'!$A:$B,2,FALSE)","v":"40500.FCF"}]
["-",1,"12/20/2013","XXXXX12078","DELTA AIR LINES ATLANTA",3,"DELTA AIRLINES",{"$f":"VLOOKUP(IF(A596=\"Yes\",\"Personal\",G596),'Vendor List'!$A:$B,2,FALSE)","v":"12105.FCF"}]
["-",1,"12/20/2013","XXXXX12079","DELTA AIR LINES ATLANTA",8.5,"DELTA AIRLINES",{"$f":"VLOOKUP(IF(A597=\"Yes\",\"Personal\",G597),'Vendor List'!$A:$B,2,FALSE)","v":"12105.FCF"}]
["-",1,"12/20/2013","XXXXX12080","DELTA AIR LINES ATLANTA",8.5,"DELTA AIRLINES",{"$f":"VLOOKUP(IF(A598=\"Yes\",\"Personal\",G598),'Vendor List'!$A:$B,2,FALSE)","v":"12105.FCF"}]
["-",1,"12/20/2013","XXXXX12081","DELTA AIR LINES ATLANTA",9.99,"DELTA AIRLINES",{"$f":"VLOOKUP(IF(A599=\"Yes\",\"Personal\",G599),'Vendor List'!$A:$B,2,FALSE)","v":"12105.FCF"}]
["-",1,"12/20/2013","XXXXX12082","PAYPAL *ENFOTRACEGP 4029357733 CA",59.8,"EnfoTrace",{"$f":"VLOOKUP(IF(A600=\"Yes\",\"Personal\",G600),'Vendor List'!$A:$B,2,FALSE)","v":"12105.FCF"}]
["-",1,"12/20/2013","XXXXX12083","UNIFORMS WEST SUPP 5MIDVALE UT",365.95,"UNIFORMS WEST",{"$f":"VLOOKUP(IF(A601=\"Yes\",\"Personal\",G601),'Vendor List'!$A:$B,2,FALSE)","v":"70000.FCF"}]
["-",1,"12/21/2013","XXXXX12084","DESERET DIGITAL MEDISALT LAKE CITY UT",599,"KJZZ",{"$f":"VLOOKUP(IF(A602=\"Yes\",\"Personal\",G602),'Vendor List'!$A:$B,2,FALSE)","v":"70700.FCF"}]
["-",1,"12/21/2013","XXXXX12085","LOWE'S OF SALT LAKE SALT LAKE CITY UT",17.940000000000001,"LOWE'S",{"$f":"VLOOKUP(IF(A603=\"Yes\",\"Personal\",G603),'Vendor List'!$A:$B,2,FALSE)","v":"70000.FCF"}]
["-",1,"12/21/2013","XXXXX12086","OLYMPUS HILLS SERVICSALT LAKE CITY UT",20.03,"OLYMPUS HILLS SERVICE",{"$f":"VLOOKUP(IF(A604=\"Yes\",\"Personal\",G604),'Vendor List'!$A:$B,2,FALSE)","v":"40500.FCF"}]
["-",1,"12/22/2013","XXXXX12087","20% In-Flight Savings for Delta SkyMiles",-2,"DELTA AIRLINES",{"$f":"VLOOKUP(IF(A605=\"Yes\",\"Personal\",G605),'Vendor List'!$A:$B,2,FALSE)","v":"12105.FCF"}]
["-",1,"12/22/2013","XXXXX12088","20% In-Flight Savings for Delta SkyMiles",-1.7,"DELTA AIRLINES",{"$f":"VLOOKUP(IF(A606=\"Yes\",\"Personal\",G606),'Vendor List'!$A:$B,2,FALSE)","v":"12105.FCF"}]
["-",1,"12/22/2013","XXXXX12089","20% In-Flight Savings for Delta SkyMiles",-1.7,"DELTA AIRLINES",{"$f":"VLOOKUP(IF(A607=\"Yes\",\"Personal\",G607),'Vendor List'!$A:$B,2,FALSE)","v":"12105.FCF"}]
["-",1,"12/22/2013","XXXXX12090","20% In-Flight Savings for Delta SkyMiles",-0.6,"DELTA AIRLINES",{"$f":"VLOOKUP(IF(A608=\"Yes\",\"Personal\",G608),'Vendor List'!$A:$B,2,FALSE)","v":"12105.FCF"}]
["-",1,"12/22/2013","XXXXX12091","CHEVRON HOLIDAY OIL SOUTH JORDAN UT",25,"CHEVRON",{"$f":"VLOOKUP(IF(A609=\"Yes\",\"Personal\",G609),'Vendor List'!$A:$B,2,FALSE)","v":"40500.FCF"}]
["-",1,"12/22/2013","XXXXX12092","DIRECTV SERVICE 800-347-3288 CA",330.09,"DIRECTV",{"$f":"VLOOKUP(IF(A610=\"Yes\",\"Personal\",G610),'Vendor List'!$A:$B,2,FALSE)","v":"70000.FCF"}]
["-",1,"12/23/2013","XXXXX12093","CANDLESTICK PARK 49ESAN FRANCISCO CA",30,"Personal",{"$f":"VLOOKUP(IF(A611=\"Yes\",\"Personal\",G611),'Vendor List'!$A:$B,2,FALSE)","v":"17000.FCF"}]
["-",1,"12/23/2013","XXXXX12094","HOLIDAY OIL #07 0000DRAPER UT",30.01,"HOLIDAY OIL",{"$f":"VLOOKUP(IF(A612=\"Yes\",\"Personal\",G612),'Vendor List'!$A:$B,2,FALSE)","v":"40500.FCF"}]
["-",1,"12/23/2013","XXXXX12095","JERRY SEINER CHEV/CHSALT LAKE CITY UT",275,"Auto Parts",{"$f":"VLOOKUP(IF(A613=\"Yes\",\"Personal\",G613),'Vendor List'!$A:$B,2,FALSE)","v":"12105.FCF"}]
["-",1,"12/24/2013","XXXXX12096","FOREIGN TRANSACTION FEE",-0.3,"Finance Charges",{"$f":"VLOOKUP(IF(A614=\"Yes\",\"Personal\",G614),'Vendor List'!$A:$B,2,FALSE)","v":"60450.FCF"}]
["-",1,"12/24/2013","XXXXX12097","GAY USA PAGES 542929ALTAMONTE SPR FL",99,"GAY USA PAGES",{"$f":"VLOOKUP(IF(A615=\"Yes\",\"Personal\",G615),'Vendor List'!$A:$B,2,FALSE)","v":"50200.FCF"}]
["-",1,"12/24/2013","XXXXX12098","HERTZ CAR RENTAL 800-654-4173 CA",191.42,"HERTZ",{"$f":"VLOOKUP(IF(A616=\"Yes\",\"Personal\",G616),'Vendor List'!$A:$B,2,FALSE)","v":"72900.FCF"}]
["-",1,"12/24/2013","XXXXX12099","PAYPAL *GSS666 4029357733 GB",-11.46,"Personal",{"$f":"VLOOKUP(IF(A617=\"Yes\",\"Personal\",G617),'Vendor List'!$A:$B,2,FALSE)","v":"17000.FCF"}]
["-",1,"12/24/2013","XXXXX12100","UNION 76 00506667 OAKLAND CA",11.39,"UNION 76",{"$f":"VLOOKUP(IF(A618=\"Yes\",\"Personal\",G618),'Vendor List'!$A:$B,2,FALSE)","v":"40500.FCF"}]
["-",1,"12/25/2013","XXXXX12101","HYATT HOTELS GRAND SSAN FRANCISCO CA",644.39,"HYATT HOTEL",{"$f":"VLOOKUP(IF(A619=\"Yes\",\"Personal\",G619),'Vendor List'!$A:$B,2,FALSE)","v":"12105.FCF"}]
["-",1,"12/25/2013","XXXXX12102","JASMINE CHINA BISTROSALT LAKE CIT UT",127.32,"JASMINE CHINA BISTRO",{"$f":"VLOOKUP(IF(A620=\"Yes\",\"Personal\",G620),'Vendor List'!$A:$B,2,FALSE)","v":"60800.FCF"}]
["-",1,"12/25/2013","XXXXX12103","TEXACO HOLIDAY OIL #WEST JORDAN UT",25.05,"HOLIDAY OIL",{"$f":"VLOOKUP(IF(A621=\"Yes\",\"Personal\",G621),'Vendor List'!$A:$B,2,FALSE)","v":"40500.FCF"}]
["-",1,"12/26/2013","XXXXX12104","G VALLEY RANCH R/S HENDERSON NV",188.15,"Personal",{"$f":"VLOOKUP(IF(A622=\"Yes\",\"Personal\",G622),'Vendor List'!$A:$B,2,FALSE)","v":"17000.FCF"}]
["-",1,"12/26/2013","XXXXX12105","HOLIDAY OIL #07 0000DRAPER UT",39.380000000000003,"HOLIDAY OIL",{"$f":"VLOOKUP(IF(A623=\"Yes\",\"Personal\",G623),'Vendor List'!$A:$B,2,FALSE)","v":"40500.FCF"}]
["-",1,"12/26/2013","XXXXX12106","MID VALLEY ANIMAL CLSALT LAKE CITY UT",477.06,"ADVANCED VET",{"$f":"VLOOKUP(IF(A624=\"Yes\",\"Personal\",G624),'Vendor List'!$A:$B,2,FALSE)","v":"17000.FCF"}]
["-",1,"12/26/2013","XXXXX12107","PAYPAL *ENFOTRACEGP 4029357733 CA",19.95,"EnfoTrace",{"$f":"VLOOKUP(IF(A625=\"Yes\",\"Personal\",G625),'Vendor List'!$A:$B,2,FALSE)","v":"12105.FCF"}]
["-",1,"12/27/2013","XXXXX12108","CHEVRON HOLIDAY OIL SALT LAKE CITY UT",25.2,"CHEVRON",{"$f":"VLOOKUP(IF(A626=\"Yes\",\"Personal\",G626),'Vendor List'!$A:$B,2,FALSE)","v":"40500.FCF"}]
["-",1,"12/27/2013","XXXXX12109","DELTA AIR LINES ATLANTA",12.1,"DELTA AIRLINES",{"$f":"VLOOKUP(IF(A627=\"Yes\",\"Personal\",G627),'Vendor List'!$A:$B,2,FALSE)","v":"12105.FCF"}]
["-",1,"12/27/2013","XXXXX12110","DELTA AIR LINES ATLANTA",177.9,"DELTA AIRLINES",{"$f":"VLOOKUP(IF(A628=\"Yes\",\"Personal\",G628),'Vendor List'!$A:$B,2,FALSE)","v":"12105.FCF"}]
["-",1,"12/27/2013","XXXXX12111","WWW.GOTOMYPC.COM SERVICE/SW",21.32,"gotomypc.com",{"$f":"VLOOKUP(IF(A629=\"Yes\",\"Personal\",G629),'Vendor List'!$A:$B,2,FALSE)","v":"60700.FCF"}]
["-",1,"12/28/2013","XXXXX12112","DELTA AIR LINES ATLANTA",-177.9,"DELTA AIRLINES",{"$f":"VLOOKUP(IF(A630=\"Yes\",\"Personal\",G630),'Vendor List'!$A:$B,2,FALSE)","v":"12105.FCF"}]
["-",1,"12/28/2013","XXXXX12113","DELTA AIR LINES ATLANTA",-12.1,"DELTA AIRLINES",{"$f":"VLOOKUP(IF(A631=\"Yes\",\"Personal\",G631),'Vendor List'!$A:$B,2,FALSE)","v":"12105.FCF"}]
["-",1,"12/28/2013","XXXXX12114","DELTA AIR LINES ATLANTA",89.9,"DELTA AIRLINES",{"$f":"VLOOKUP(IF(A632=\"Yes\",\"Personal\",G632),'Vendor List'!$A:$B,2,FALSE)","v":"12105.FCF"}]
["-",1,"12/28/2013","XXXXX12115","DELTA AIR LINES ATLANTA",89.9,"DELTA AIRLINES",{"$f":"VLOOKUP(IF(A633=\"Yes\",\"Personal\",G633),'Vendor List'!$A:$B,2,FALSE)","v":"12105.FCF"}]
["-",1,"12/28/2013","XXXXX12116","DELTA AIR LINES ATLANTA",89.9,"DELTA AIRLINES",{"$f":"VLOOKUP(IF(A634=\"Yes\",\"Personal\",G634),'Vendor List'!$A:$B,2,FALSE)","v":"12105.FCF"}]
["-",1,"12/28/2013","XXXXX12117","DELTA AIR LINES ATLANTA",89.9,"DELTA AIRLINES",{"$f":"VLOOKUP(IF(A635=\"Yes\",\"Personal\",G635),'Vendor List'!$A:$B,2,FALSE)","v":"12105.FCF"}]
["-",1,"12/28/2013","XXXXX12118","OLYMPUS HILLS SERVICSALT LAKE CITY UT",20.02,"OLYMPUS HILLS SERVICE",{"$f":"VLOOKUP(IF(A636=\"Yes\",\"Personal\",G636),'Vendor List'!$A:$B,2,FALSE)","v":"40500.FCF"}]
["-",1,"12/28/2013","XXXXX12119","PLAZA CYCLE 801-972-8725",105.99,"PLAZA CYCLE",{"$f":"VLOOKUP(IF(A637=\"Yes\",\"Personal\",G637),'Vendor List'!$A:$B,2,FALSE)","v":"12105.FCF"}]
["-",1,"12/29/2013","XXXXX12120","CHEVRON HOLIDAY OIL SALT LAKE CITY UT",25.05,"CHEVRON",{"$f":"VLOOKUP(IF(A638=\"Yes\",\"Personal\",G638),'Vendor List'!$A:$B,2,FALSE)","v":"40500.FCF"}]
["-",1,"12/29/2013","XXXXX12121","DELTA AIR LINES ATLANTA",14,"DELTA AIRLINES",{"$f":"VLOOKUP(IF(A639=\"Yes\",\"Personal\",G639),'Vendor List'!$A:$B,2,FALSE)","v":"12105.FCF"}]
["-",1,"12/29/2013","XXXXX12122","DELTA AIR LINES ATLANTA",89.9,"DELTA AIRLINES",{"$f":"VLOOKUP(IF(A640=\"Yes\",\"Personal\",G640),'Vendor List'!$A:$B,2,FALSE)","v":"12105.FCF"}]
["-",1,"12/29/2013","XXXXX12123","DELTA AIR LINES ATLANTA",89.9,"DELTA AIRLINES",{"$f":"VLOOKUP(IF(A641=\"Yes\",\"Personal\",G641),'Vendor List'!$A:$B,2,FALSE)","v":"12105.FCF"}]
["-",1,"12/29/2013","XXXXX12124","DELTA AIR LINES ATLANTA",181.8,"DELTA AIRLINES",{"$f":"VLOOKUP(IF(A642=\"Yes\",\"Personal\",G642),'Vendor List'!$A:$B,2,FALSE)","v":"12105.FCF"}]
["-",1,"12/29/2013","XXXXX12125","DELTA AIR LINES ATLANTA",181.8,"DELTA AIRLINES",{"$f":"VLOOKUP(IF(A643=\"Yes\",\"Personal\",G643),'Vendor List'!$A:$B,2,FALSE)","v":"12105.FCF"}]
["-",1,"12/30/2013","XXXXX12126","CHEVRON TOP STOP C-4VERNAL UT",46.22,"CHEVRON",{"$f":"VLOOKUP(IF(A644=\"Yes\",\"Personal\",G644),'Vendor List'!$A:$B,2,FALSE)","v":"40500.FCF"}]
["-",1,"12/30/2013","XXXXX12127","LARRY H MILLER FORD SALT LAKE CTY UT",684.9,"LARRY H MILLER",{"$f":"VLOOKUP(IF(A645=\"Yes\",\"Personal\",G645),'Vendor List'!$A:$B,2,FALSE)","v":"12105.FCF"}]
["-",1,"12/31/2013","XXXXX12128","OLYMPUS HILLS SERVICSALT LAKE CITY UT",15.02,"OLYMPUS HILLS SERVICE",{"$f":"VLOOKUP(IF(A646=\"Yes\",\"Personal\",G646),'Vendor List'!$A:$B,2,FALSE)","v":"40500.FCF"}]
["-",1,"12/31/2013","XXXXX12129","VICTORS TIRES INC VISALT LAKE CITY UT",80,"VICTORS TIRES",{"$f":"VLOOKUP(IF(A647=\"Yes\",\"Personal\",G647),'Vendor List'!$A:$B,2,FALSE)","v":"12105.FCF"}]
["-",5,"2013-12-31","XXXXX12~JE","AMEX XXXXX Payable",{"$f":"SUM($F$519:$F$647)","v":13170.349999999995},"Amex 48004 Payable",{"$f":"VLOOKUP(IF(A648=\"Yes\",\"Personal\",G648),'Vendor List'!$A:$B,2,FALSE)","v":"24059.FCF"}]

{"sheet":"Upload To Certiflex","index":5,"n_rows":643,"n_cols":6,"rows_kept":643,"cut":false,"hidden":false,"merged":[]}
["Type","Date","Ref","Description","Account #","Amount"]
[1,"08/01/2013","XXXXX08001","CHEVRON","40500.FCF",50.68]
[1,"08/01/2013","XXXXX08002","Lowe's","70000.FCF",240.19]
[1,"08/01/2013","XXXXX08003","P-Amazon","17000.FCF",15.02]
[1,"08/02/2013","XXXXX08004","7-ELEVEN","40500.FCF",4.83]
[1,"08/02/2013","XXXXX08005","Glen's Lock & Key","12105.FCF",35]
[1,"08/02/2013","XXXXX08006","MCDONALD'S","60800.FCF",18.04]
[1,"08/03/2013","XXXXX08007","Glen's Lock & Key","12105.FCF",79]
[1,"08/03/2013","XXXXX08008","OLYMPUS HILLS SERVICE","40500.FCF",15]
[1,"08/04/2013","XXXXX08009","7-ELEVEN","40500.FCF",12.82]
[1,"08/04/2013","XXXXX08010","MCDONALD'S","60800.FCF",16.260000000000002]
[1,"08/05/2013","XXXXX08011","7-ELEVEN","40500.FCF",11.98]
[1,"08/05/2013","XXXXX08012","7-ELEVEN","40500.FCF",20.04]
[1,"08/05/2013","XXXXX08013","CHEVRON","40500.FCF",10.01]
[1,"08/05/2013","XXXXX08014","DAN'S FOOD","60800.FCF",12.36]
[1,"08/05/2013","XXXXX08015","SONIC","60800.FCF",151]
[1,"08/05/2013","XXXXX08016","NEXSTAR BROADCASTING","50200.FCF",3271]
[1,"08/05/2013","XXXXX08017","OLYMPUS HILLS SERVICE","40500.FCF",15.03]
[1,"08/06/2013","XXXXX08018","7-ELEVEN","40500.FCF",10.1]
[1,"08/06/2013","XXXXX08019","7-ELEVEN","40500.FCF",15.09]
[1,"08/06/2013","XXXXX08020","Glen's Lock & Key","12105.FCF",35]
[1,"08/06/2013","XXXXX08021","Personal","17000.FCF",47.48]
[1,"08/06/2013","XXXXX08022","SUPERIOR PAINT","72300.FCF",6.22]
[1,"08/06/2013","XXXXX08023","VICTORS TIRES","12105.FCF",80]
[1,"08/07/2013","XXXXX08024","7-ELEVEN","40500.FCF",19.739999999999998]
[1,"08/07/2013","XXXXX08025","OLYMPUS HILLS SERVICE","40500.FCF",15.02]
[1,"08/08/2013","XXXXX08026","7-ELEVEN","40500.FCF",50.56]
[1,"08/09/2013","XXXXX08027","7-ELEVEN","40500.FCF",4.83]
[1,"08/09/2013","XXXXX08028","7-ELEVEN","40500.FCF",10]
[1,"08/09/2013","XXXXX08029","7-ELEVEN","40500.FCF",12.05]
[1,"08/09/2013","XXXXX08030","MEMBERSHIP FEE","60700.FCF",395]
[1,"08/09/2013","XXXXX08031","DAN'S FOOD","60800.FCF",47.19]
[1,"08/09/2013","XXXXX08032","Interest Charged","65300.FCF",243.2]
[1,"08/09/2013","XXXXX08033","MCDONALD'S","60800.FCF",10.78]
[1,"08/10/2013","XXXXX08034","7-ELEVEN","40500.FCF",8.2200000000000006]
[1,"08/10/2013","XXXXX08035","7-ELEVEN","40500.FCF",9.1199999999999992]
[1,"08/10/2013","XXXXX08036","7-ELEVEN","40500.FCF",9.1300000000000008]
[1,"08/10/2013","XXXXX08037","Glen's Lock & Key","12105.FCF",84.41]
[1,"08/10/2013","XXXXX08038","OLYMPUS HILLS SERVICE","40500.FCF",15.03]
[1,"08/11/2013","XXXXX08039","COMCAST","17000.FCF",121.35]
[1,"08/11/2013","XXXXX08040","KFC/TB","60800.FCF",17.21]
[1,"08/11/2013","XXXXX08041","OLYMPUS VIEW","40500.FCF",20.3]
[1,"08/11/2013","XXXXX08042","SMITHS FOOD","70000.FCF",42.82]
[1,"08/12/2013","XXXXX08043","DAN'S FOOD","60800.FCF",20.440000000000001]
[1,"08/12/2013","XXXXX08044","Personal","17000.FCF",40]
[1,"08/12/2013","XXXXX08045","SHELL OIL","70500.FCF",15.25]
[1,"08/13/2013","XXXXX08046","LOWE'S","70000.FCF",42.22]
[1,"08/13/2013","XXXXX08047","OLYMPUS HILLS SERVICE","40500.FCF",15.03]
[1,"08/13/2013","XXXXX08048","PLAZA CYCLE","12105.FCF",93.77]
[1,"08/13/2013","XXXXX08049","THERMOCRAFT","70700.FCF",157.93]
[1,"08/14/2013","XXXXX08050","ADVANCED VET","17000.FCF",58.5]
[1,"08/14/2013","XXXXX08051","MCDONALD'S","60800.FCF",9.6999999999999993]
[1,"08/14/2013","XXXXX08052","VICTORS TIRES","12105.FCF",175]
[1,"08/15/2013","XXXXX08053","7-ELEVEN","40500.FCF",9.2200000000000006]
[1,"08/15/2013","XXXXX08054","7-ELEVEN","40500.FCF",10.08]
[1,"08/15/2013","XXXXX08055","7-ELEVEN","40500.FCF",12.13]
[1,"08/15/2013","XXXXX08056","DAN'S FOOD","60800.FCF",15.22]
[1,"08/15/2013","XXXXX08057","OLYMPUS HILLS SERVICE","40500.FCF",15.03]
[1,"08/15/2013","XXXXX08058","Personal","17000.FCF",38]
[1,"08/16/2013","XXXXX08059","7-ELEVEN","40500.FCF",10.07]
[1,"08/16/2013","XXXXX08060","DELTA AIRLINES","12105.FCF",194.9]
[1,"08/16/2013","XXXXX08061","DELTA AIRLINES","12105.FCF",194.9]
[1,"08/16/2013","XXXXX08062","EINSTEIN BROS.","60800.FCF",17.47]
[1,"08/16/2013","XXXXX08063","KWAL PAINT","70000.FCF",157.88]
[1,"08/16/2013","XXXXX08064","MCDONALD'S","60800.FCF",16.18]
[1,"08/16/2013","XXXXX08065","SEARS ROEBUCK","12105.FCF",2.48]
[1,"08/16/2013","XXXXX08066","SEARS ROEBUCK","12105.FCF",2.5]
[1,"08/17/2013","XXXXX08067","7-ELEVEN","40500.FCF",15.01]
[1,"08/17/2013","XXXXX08068","AUTO ZONE","72300.FCF",13.98]
[1,"08/17/2013","XXXXX08069","CHEVRON","40500.FCF",15.01]
[1,"08/18/2013","XXXXX08070","CHEVRON","40500.FCF",10.02]
[1,"08/19/2013","XXXXX08071","7-ELEVEN","40500.FCF",10.18]
[1,"08/19/2013","XXXXX08072","DIRECTV","70000.FCF",296.10000000000002]
[1,"08/19/2013","XXXXX08073","OLYMPUS HILLS SERVICE","40500.FCF",15.01]
[1,"08/20/2013","XXXXX08074","7-ELEVEN","40500.FCF",10.01]
[1,"08/20/2013","XXXXX08075","KFC/TB","60800.FCF",21.02]
[1,"08/21/2013","XXXXX08076","7-ELEVEN","40500.FCF",49.99]
[1,"08/21/2013","XXXXX08077","7-ELEVEN","40500.FCF",7.79]
[1,"08/21/2013","XXXXX08078","7-ELEVEN","40500.FCF",12.26]
[1,"08/21/2013","XXXXX08079","CHEVRON","40500.FCF",9.0399999999999991]
[1,"08/21/2013","XXXXX08080","CHEVRON","40500.FCF",40.450000000000003]
[1,"08/21/2013","XXXXX08081","CHEVRON","40500.FCF",56.77]
[1,"08/21/2013","XXXXX08082","DAN'S FOOD","60800.FCF",26.04]
[1,"08/21/2013","XXXXX08083","HERTZ","72900.FCF",66.31]
[1,"08/21/2013","XXXXX08084","KSL.COM","70700.FCF",599]
[1,"08/21/2013","XXXXX08085","AM AUTO PARTS","12105.FCF",23.95]
[1,"08/21/2013","XXXXX08086","Personal","17000.FCF",25]
[1,"08/21/2013","XXXXX08087","REBEL","40500.FCF",67.62]
[1,"08/21/2013","XXXXX08088","REBEL","40500.FCF",91.6]
[1,"08/22/2013","XXXXX08089","Personal","17000.FCF",250]
[1,"08/22/2013","XXXXX08090","MCDONALD'S","60800.FCF",26.38]
[1,"08/22/2013","XXXXX08091","OLYMPUS HILLS SERVICE","40500.FCF",20.03]
[1,"08/23/2013","XXXXX08092","CHEVRON","40500.FCF",15.28]
[1,"08/23/2013","XXXXX08093","Auto Parts","12105.FCF",245]
[1,"08/23/2013","XXXXX08094","GREAT HARVEST","60800.FCF",16.5]
[1,"08/23/2013","XXXXX08095","SMITHS FOOD","70000.FCF",7.2]
[1,"08/24/2013","XXXXX08096","DAN'S FOOD","60800.FCF",3.05]
[1,"08/24/2013","XXXXX08097","DAN'S FOOD","60800.FCF",23.84]
[1,"08/24/2013","XXXXX08098","GAY USA PAGES","50200.FCF",99]
[1,"08/24/2013","XXXXX08099","OLYMPUS HILLS SERVICE","40500.FCF",20]
[1,"08/26/2013","XXXXX08100","7-ELEVEN","40500.FCF",7.5]
[1,"08/26/2013","XXXXX08101","7-ELEVEN","40500.FCF",12.35]
[1,"08/26/2013","XXXXX08102","INDEPENDENT DEALERS","70000.FCF",153.6]
[1,"08/26/2013","XXXXX08103","Personal","17000.FCF",74.989999999999995]
[1,"08/26/2013","XXXXX08104","Personal","17000.FCF",6.5]
[1,"08/27/2013","XXXXX08105","7-ELEVEN","40500.FCF",19.48]
[1,"08/27/2013","XXXXX08106","7-ELEVEN","40500.FCF",6.37]
[1,"08/27/2013","XXXXX08107","Personal","17000.FCF",75.41]
[1,"08/27/2013","XXXXX08108","Personal","17000.FCF",39.93]
[1,"08/27/2013","XXXXX08109","MAVERIK","40500.FCF",51.89]
[1,"08/27/2013","XXXXX08110","NATIONAL PEN","70000.FCF",236.4]
[1,"08/27/2013","XXXXX08111","EnfoTrace","12105.FCF",14.95]
[1,"08/27/2013","XXXXX08112","SHELL OIL","70500.FCF",15]
[1,"08/27/2013","XXXXX08113","WALKERS","40500.FCF",42.81]
[1,"08/27/2013","XXXXX08114","gotomypc.com","60700.FCF",21.32]
[1,"08/28/2013","XXXXX08115","7-ELEVEN","40500.FCF",20.07]
[1,"08/28/2013","XXXXX08116","HERTZ","72900.FCF",205.23]
[1,"08/28/2013","XXXXX08117","HOLIDAY OIL","40500.FCF",50.25]
[1,"08/28/2013","XXXXX08118","MAVERIK","40500.FCF",15.01]
[1,"08/28/2013","XXXXX08119","Auto Parts","12105.FCF",38]
[1,"08/28/2013","XXXXX08120","Auto Parts","12105.FCF",69.989999999999995]
[1,"08/29/2013","XXXXX08121","7-ELEVEN","40500.FCF",11.55]
[1,"08/29/2013","XXXXX08122","Personal","17000.FCF",35]
[1,"08/30/2013","XXXXX08123","7-ELEVEN","40500.FCF",10.17]
[1,"08/30/2013","XXXXX08124","GREAT HARVEST","60800.FCF",13.23]
[1,"08/30/2013","XXXXX08125","OLYMPUS HILLS SERVICE","40500.FCF",20]
[1,"08/30/2013","XXXXX08126","Starbucks","60800.FCF",8.14]
[1,"08/31/2013","XXXXX08127","7-ELEVEN","40500.FCF",20.05]
[1,"08/31/2013","XXXXX08128","7-ELEVEN","40500.FCF",11.26]
[1,"08/31/2013","XXXXX08129","EnfoTrace","12105.FCF",17.899999999999999]
[5,"2013-08-31","XXXXX08~JE","Amex 48004 Payable","24059.FCF",10164.799999999999]
[1,"09/01/2013","XXXXX09001","DAN'S FOOD","60800.FCF",11.4]
[1,"09/01/2013","XXXXX09002","DAN'S FOOD","60800.FCF",96.7]
[1,"09/01/2013","XXXXX09003","KFC/TB","60800.FCF",11.11]
[1,"09/02/2013","XXXXX09004","7-ELEVEN","40500.FCF",15.49]
[1,"09/02/2013","XXXXX09005","DAN'S FOOD","60800.FCF",3.09]
[1,"09/02/2013","XXXXX09006","OLYMPUS HILLS SERVICE","40500.FCF",15]
[1,"09/02/2013","XXXXX09007","EnfoTrace","12105.FCF",8.9499999999999993]
[1,"09/02/2013","XXXXX09008","Auto Parts","12105.FCF",30]
[1,"09/03/2013","XXXXX09009","7-ELEVEN","40500.FCF",20.079999999999998]
[1,"09/03/2013","XXXXX09010","HOLIDAY OIL","40500.FCF",46.05]
[1,"09/03/2013","XXXXX09011","Starbucks","60800.FCF",10.95]
[1,"09/03/2013","XXXXX09012","VICTORS TIRES","12105.FCF",105]
[1,"09/04/2013","XXXXX09013","7-ELEVEN","40500.FCF",19.12]
[1,"09/04/2013","XXXXX09014","DAN'S FOOD","60800.FCF",12.36]
[1,"09/04/2013","XXXXX09015","MCDONALD'S","60800.FCF",6.77]
[1,"09/05/2013","XXXXX09016","ADVANCED VET","17000.FCF",58.5]
[1,"09/05/2013","XXXXX09017","Personal","17000.FCF",277.25]
[1,"09/05/2013","XXXXX09018","MAVERIK","40500.FCF",1.53]
[1,"09/05/2013","XXXXX09019","OLYMPUS HILLS SERVICE","40500.FCF",15.02]
[1,"09/05/2013","XXXXX09020","SPEED'S POWER EQUIP.","60100.FCF",21]
[1,"09/06/2013","XXXXX09021","7-ELEVEN","40500.FCF",9.41]
[1,"09/06/2013","XXXXX09022","DELTA AIRLINES","12105.FCF",5]
[1,"09/06/2013","XXXXX09023","MCDONALD'S","60800.FCF",43.92]
[1,"09/06/2013","XXXXX09024","Personal","17000.FCF",119.25]
[1,"09/07/2013","XXXXX09025","7-ELEVEN","40500.FCF",13.08]
[1,"09/07/2013","XXXXX09026","Personal","17000.FCF",295.69]
[1,"09/07/2013","XXXXX09027","Glen's Lock & Key","12105.FCF",4.95]
[1,"09/08/2013","XXXXX09028","DELTA AIRLINES","12105.FCF",32.9]
[1,"09/08/2013","XXXXX09029","DELTA AIRLINES","12105.FCF",182.9]
[1,"09/08/2013","XXXXX09030","HOLIDAY OIL","40500.FCF",45.57]
[1,"09/08/2013","XXXXX09031","MORTON'S","60800.FCF",447.15]
[1,"09/09/2013","XXXXX09032","7-ELEVEN","40500.FCF",7.62]
[1,"09/09/2013","XXXXX09033","7-ELEVEN","40500.FCF",14.49]
[1,"09/09/2013","XXXXX09034","CHEVRON","40500.FCF",7.52]
[1,"09/09/2013","XXXXX09035","CHEVRON","40500.FCF",20.010000000000002]
[1,"09/09/2013","XXXXX09036","CHEVRON","40500.FCF",12.39]
[1,"09/09/2013","XXXXX09037","CHEVRON","40500.FCF",20.02]
[1,"09/09/2013","XXXXX09038","HERTZ","72900.FCF",129.97]
[1,"09/09/2013","XXXXX09039","Interest Charged","65300.FCF",241.62]
[1,"09/09/2013","XXXXX09040","Personal","17000.FCF",32.5]
[1,"09/10/2013","XXXXX09041","7-ELEVEN","40500.FCF",18.22]
[1,"09/10/2013","XXXXX09042","CHEVRON","40500.FCF",10.02]
[1,"09/10/2013","XXXXX09043","HYATT HOTEL","12105.FCF",624.70000000000005]
[1,"09/10/2013","XXXXX09044","OLYMPUS HILLS SERVICE","40500.FCF",15.04]
[1,"09/10/2013","XXXXX09045","EnfoTrace","12105.FCF",159.6]
[1,"09/11/2013","XXXXX09046","7-ELEVEN","40500.FCF",12.28]
[1,"09/11/2013","XXXXX09047","ACE HARDWARE","70000.FCF",6.93]
[1,"09/11/2013","XXXXX09048","COMCAST","17000.FCF",121.35]
[1,"09/11/2013","XXXXX09049","HOTELS.COM","72900.FCF",413.37]
[1,"09/11/2013","XXXXX09050","MCDONALD'S","60800.FCF",26.38]
[1,"09/12/2013","XXXXX09051","INDEPENDENT DEALERS","70000.FCF",841.45]
[1,"09/12/2013","XXXXX09052","SUPERIOR PAINT","72300.FCF",15.9]
[1,"09/13/2013","XXXXX09053","7-ELEVEN","40500.FCF",9.2100000000000009]
[1,"09/13/2013","XXXXX09054","7-ELEVEN","40500.FCF",7.03]
[1,"09/13/2013","XXXXX09055","7-ELEVEN","40500.FCF",8.0399999999999991]
[1,"09/13/2013","XXXXX09056","7-ELEVEN","40500.FCF",10.11]
[1,"09/13/2013","XXXXX09057","DAN'S FOOD","60800.FCF",16.86]
[1,"09/13/2013","XXXXX09058","MCDONALD'S","60800.FCF",5.39]
[1,"09/13/2013","XXXXX09059","Glen's Lock & Key","12105.FCF",10]
[1,"09/13/2013","XXXXX09060","Glen's Lock & Key","12105.FCF",98.4]
[1,"09/13/2013","XXXXX09061","OLYMPUS HILLS SERVICE","40500.FCF",20.03]
[1,"09/13/2013","XXXXX09062","SUPERIOR PAINT","72300.FCF",15.97]
[1,"09/15/2013","XXXXX09063","DELTA AIRLINES","12105.FCF",7]
[1,"09/15/2013","XXXXX09064","HOLIDAY OIL","40500.FCF",20.149999999999999]
[1,"09/16/2013","XXXXX09065","7-ELEVEN","40500.FCF",9.18]
[1,"09/16/2013","XXXXX09066","7-ELEVEN","40500.FCF",17.34]
[1,"09/17/2013","XXXXX09067","DELTA AIRLINES","12105.FCF",-1.4]
[1,"09/17/2013","XXXXX09068","7-ELEVEN","40500.FCF",1.07]
[1,"09/17/2013","XXXXX09069","7-ELEVEN","40500.FCF",10.029999999999999]
[1,"09/17/2013","XXXXX09070","KWAL PAINT","70000.FCF",163.35]
[1,"09/17/2013","XXXXX09071","LOWE'S","70000.FCF",120.06]
[1,"09/17/2013","XXXXX09072","OLYMPUS HILLS SERVICE","40500.FCF",20.02]
[1,"09/17/2013","XXXXX09073","EnfoTrace","12105.FCF",8.9499999999999993]
[1,"09/17/2013","XXXXX09074","EnfoTrace","12105.FCF",8.9499999999999993]
[1,"09/18/2013","XXXXX09075","7-ELEVEN","40500.FCF",3.43]
[1,"09/18/2013","XXXXX09076","7-ELEVEN","40500.FCF",10.27]
[1,"09/18/2013","XXXXX09077","Personal","17000.FCF",38.5]
[1,"09/18/2013","XXXXX09078","DAN'S FOOD","60800.FCF",2.96]
[1,"09/18/2013","XXXXX09079","DAN'S FOOD","60800.FCF",37.369999999999997]
[1,"09/18/2013","XXXXX09080","LOWE'S","70000.FCF",57.97]
[1,"09/18/2013","XXXXX09081","SMITHS FUEL","40500.FCF",47.39]
[1,"09/19/2013","XXXXX09082","CHEVRON","40500.FCF",20]
[1,"09/19/2013","XXXXX09083","DIRECTV","70000.FCF",375.73]
[1,"09/19/2013","XXXXX09084","LOWE'S","70000.FCF",20.94]
[1,"09/19/2013","XXXXX09085","LOWE'S","70000.FCF",69.75]
[1,"09/19/2013","XXXXX09086","MCDONALD'S","60800.FCF",26.61]
[1,"09/20/2013","XXXXX09087","7-ELEVEN","40500.FCF",10.08]
[1,"09/20/2013","XXXXX09088","Personal","17000.FCF",92]
[1,"09/20/2013","XXXXX09089","MCDONALD'S","60800.FCF",15.47]
[1,"09/20/2013","XXXXX09090","OLYMPUS HILLS SERVICE","40500.FCF",20.010000000000002]
[1,"09/21/2013","XXXXX09091","7-ELEVEN","40500.FCF",12.3]
[1,"09/21/2013","XXXXX09092","KSL.COM","70700.FCF",599]
[1,"09/21/2013","XXXXX09093","OLYMPUS HILLS SERVICE","40500.FCF",15.02]
[1,"09/21/2013","XXXXX09094","SLC INTERNATIONAL","72900.FCF",14]
[1,"09/22/2013","XXXXX09095","DAN'S FOOD","60800.FCF",59.39]
[1,"09/22/2013","XXXXX09096","Personal","17000.FCF",420.02]
[1,"09/23/2013","XXXXX09097","7-ELEVEN","40500.FCF",15.12]
[1,"09/23/2013","XXXXX09098","7-ELEVEN","40500.FCF",15.38]
[1,"09/23/2013","XXXXX09099","Personal","17000.FCF",81.209999999999994]
[1,"09/23/2013","XXXXX09100","DAN'S FOOD","60800.FCF",12.34]
[1,"09/23/2013","XXXXX09101","HERTZ","72900.FCF",350.98]
[1,"09/23/2013","XXXXX09102","Personal","17000.FCF",41.87]
[1,"09/23/2013","XXXXX09103","Personal","17000.FCF",24.99]
[1,"09/23/2013","XXXXX09104","EnfoTrace","12105.FCF",19.95]
[1,"09/23/2013","XXXXX09105","UNION 76","40500.FCF",38.369999999999997]
[1,"09/24/2013","XXXXX09106","ADVANCED VET","17000.FCF",70]
[1,"09/24/2013","XXXXX09107","CHEVRON","40500.FCF",42.94]
[1,"09/24/2013","XXXXX09108","DAN'S FOOD","60800.FCF",48.7]
[1,"09/24/2013","XXXXX09109","GAY USA PAGES","50200.FCF",99]
[1,"09/25/2013","XXXXX09110","7-ELEVEN","40500.FCF",8.2200000000000006]
[1,"09/25/2013","XXXXX09111","7-ELEVEN","40500.FCF",9.01]
[1,"09/25/2013","XXXXX09112","7-ELEVEN","40500.FCF",15.02]
[1,"09/25/2013","XXXXX09113","7-ELEVEN","40500.FCF",15.05]
[1,"09/25/2013","XXXXX09114","Personal","17000.FCF",10.029999999999999]
[1,"09/25/2013","XXXXX09115","OLYMPUS HILLS SERVICE","40500.FCF",15.03]
[1,"09/25/2013","XXXXX09116","Auto Parts","12105.FCF",34.9]
[1,"09/26/2013","XXXXX09117","Auto Parts","12105.FCF",286.44]
[1,"09/26/2013","XXXXX09118","CHEVRON","40500.FCF",12]
[1,"09/27/2013","XXXXX09119","7-ELEVEN","40500.FCF",10.97]
[1,"09/27/2013","XXXXX09120","7-ELEVEN","40500.FCF",10.11]
[1,"09/27/2013","XXXXX09121","OLYMPUS HILLS SERVICE","40500.FCF",15.08]
[1,"09/27/2013","XXXXX09122","VICTORS TIRES","12105.FCF",140]
[1,"09/27/2013","XXXXX09123","gotomypc.com","60700.FCF",21.32]
[1,"09/28/2013","XXXXX09124","7-ELEVEN","40500.FCF",10.050000000000001]
[1,"09/28/2013","XXXXX09125","7-ELEVEN","40500.FCF",10.28]
[1,"09/28/2013","XXXXX09126","7-ELEVEN","40500.FCF",12.21]
[1,"09/30/2013","XXXXX09127","7-ELEVEN","40500.FCF",10.19]
[1,"09/30/2013","XXXXX09128","7-ELEVEN","40500.FCF",15.33]
[1,"09/30/2013","XXXXX09129","DAN'S FOOD","60800.FCF",12.36]
[1,"09/30/2013","XXXXX09130","HOLIDAY OIL","40500.FCF",43.47]
[1,"09/30/2013","XXXXX09131","OLYMPUS HILLS SERVICE","40500.FCF",15.01]
[1,"09/30/2013","XXXXX09132","Personal","17000.FCF",26.45]
[5,"2013-09-30","XXXXX09~JE","Amex 48004 Payable","24059.FCF",8909.9000000000015]
[1,"10/01/2013","XXXXX10001","7-ELEVEN","40500.FCF",16.04]
[1,"10/01/2013","XXXXX10002","7-ELEVEN","40500.FCF",10.029999999999999]
[1,"10/01/2013","XXXXX10003","7-ELEVEN","40500.FCF",14.76]
[1,"10/01/2013","XXXXX10004","Office Furniture","16300.FCF",1713]
[1,"10/02/2013","XXXXX10005","7-ELEVEN","40500.FCF",14.53]
[1,"10/02/2013","XXXXX10006","SEARS ROEBUCK","12105.FCF",3.84]
[1,"10/04/2013","XXXXX10007","7-ELEVEN","40500.FCF",1.53]
[1,"10/04/2013","XXXXX10008","BOLT AND NUT","40500.FCF",4.97]
[1,"10/04/2013","XXXXX10009","DAN'S FOOD","60800.FCF",29.28]
[1,"10/04/2013","XXXXX10010","GREAT HARVEST","60800.FCF",24.77]
[1,"10/04/2013","XXXXX10011","OLYMPUS HILLS SERVICE","40500.FCF",20.02]
[1,"10/04/2013","XXXXX10012","RADIOSHACK","70000.FCF",14.41]
[1,"10/04/2013","XXXXX10013","THE HOME DEPOT","72300.FCF",78.12]
[1,"10/05/2013","XXXXX10014","7-ELEVEN","40500.FCF",19.989999999999998]
[1,"10/05/2013","XXXXX10015","Personal","17000.FCF",100]
[1,"10/05/2013","XXXXX10016","DAN'S FOOD","60800.FCF",39.79]
[1,"10/05/2013","XXXXX10017","HOLIDAY OIL","40500.FCF",46.82]
[1,"10/05/2013","XXXXX10018","Personal","17000.FCF",46]
[1,"10/05/2013","XXXXX10019","SLC INTERNATIONAL","72900.FCF",12]
[1,"10/06/2013","XXXXX10020","Personal","17000.FCF",30]
[1,"10/07/2013","XXXXX10021","CHEVRON","40500.FCF",80.17]
[1,"10/07/2013","XXXXX10022","HERTZ","72900.FCF",219.61]
[1,"10/07/2013","XXXXX10023","SUPERIOR PAINT","72300.FCF",6.65]
[1,"10/08/2013","XXXXX10024","CHEVRON","40500.FCF",10.029999999999999]
[1,"10/08/2013","XXXXX10025","OLYMPUS HILLS SERVICE","40500.FCF",20.07]
[1,"10/08/2013","XXXXX10026","Personal","17000.FCF",19.84]
[1,"10/08/2013","XXXXX10027","Personal","17000.FCF",34]
[1,"10/08/2013","XXXXX10028","Personal","17000.FCF",504.92]
[1,"10/08/2013","XXXXX10029","Personal","17000.FCF",567.20000000000005]
[1,"10/09/2013","XXXXX10030","ADVANCED VET","17000.FCF",92]
[1,"10/09/2013","XXXXX10031","CHEVRON","40500.FCF",9.27]
[1,"10/09/2013","XXXXX10032","CHEVRON","40500.FCF",15]
[1,"10/10/2013","XXXXX10033","7-ELEVEN","40500.FCF",15.23]
[1,"10/10/2013","XXXXX10034","ADVANCED VET","17000.FCF",345.5]
[1,"10/10/2013","XXXXX10035","CHEVRON","40500.FCF",15.06]
[1,"10/10/2013","XXXXX10036","Finance Charges","60450.FCF",0.3]
[1,"10/10/2013","XXXXX10037","Interest Charged","65300.FCF",162.32]
[1,"10/10/2013","XXXXX10038","MCDONALD'S","60800.FCF",7.31]
[1,"10/10/2013","XXXXX10039","Personal","17000.FCF",11.18]
[1,"10/11/2013","XXXXX10040","7-ELEVEN","40500.FCF",3.07]
[1,"10/11/2013","XXXXX10041","Personal","17000.FCF",13.36]
[1,"10/11/2013","XXXXX10042","DAN'S FOOD","60800.FCF",40.159999999999997]
[1,"10/11/2013","XXXXX10043","DELTA AIRLINES","12105.FCF",25]
[1,"10/11/2013","XXXXX10044","DUNKIN Donuts","60800.FCF",9.6999999999999993]
[1,"10/11/2013","XXXXX10045","OLYMPUS HILLS SERVICE","40500.FCF",15.03]
[1,"10/11/2013","XXXXX10046","SUPERIOR PAINT","72300.FCF",33.1]
[1,"10/11/2013","XXXXX10047","VICTORS TIRES","12105.FCF",40]
[1,"10/12/2013","XXXXX10048","ADVANCED VET","17000.FCF",1300]
[1,"10/12/2013","XXXXX10049","COMCAST","17000.FCF",121.35]
[1,"10/12/2013","XXXXX10050","PETSMART","17000.FCF",20.8]
[1,"10/13/2013","XXXXX10051","ADVANCED VET","17000.FCF",800]
[1,"10/13/2013","XXXXX10052","CHEVRON","40500.FCF",35.57]
[1,"10/13/2013","XXXXX10053","CHEVRON","40500.FCF",15.1]
[1,"10/13/2013","XXXXX10054","HOTELS.COM","72900.FCF",92.19]
[1,"10/14/2013","XXXXX10055","CHEVRON","40500.FCF",35.840000000000003]
[1,"10/14/2013","XXXXX10056","CHEVRON","40500.FCF",40.76]
[1,"10/14/2013","XXXXX10057","HERTZ","72900.FCF",184.51]
[1,"10/14/2013","XXXXX10058","MCDONALD'S","60800.FCF",29.86]
[1,"10/14/2013","XXXXX10059","OLYMPUS HILLS SERVICE","40500.FCF",20]
[1,"10/14/2013","XXXXX10060","SMITHS FUEL","40500.FCF",27.54]
[1,"10/14/2013","XXXXX10061","SMITHS FUEL","40500.FCF",102.09]
[1,"10/14/2013","XXXXX10062","THUNDER VALLEY RESORT","60800.FCF",161.87]
[1,"10/14/2013","XXXXX10063","Personal","17000.FCF",12.93]
[1,"10/14/2013","XXXXX10064","Personal","17000.FCF",92.52]
[1,"10/14/2013","XXXXX10065","Personal","17000.FCF",99.34]
[1,"10/15/2013","XXXXX10066","7-ELEVEN","40500.FCF",10.119999999999999]
[1,"10/15/2013","XXXXX10067","ADVANCED VET","17000.FCF",464.25]
[1,"10/15/2013","XXXXX10068","HOLIDAY OIL","40500.FCF",45.18]
[1,"10/15/2013","XXXXX10069","VICTORS TIRES","12105.FCF",105]
[1,"10/16/2013","XXXXX10070","ACE HARDWARE","70000.FCF",42.7]
[1,"10/17/2013","XXXXX10071","CHEVRON","40500.FCF",9.99]
[1,"10/17/2013","XXXXX10072","Personal","17000.FCF",138.9]
[1,"10/17/2013","XXXXX10073","Auto Parts","12105.FCF",19.989999999999998]
[1,"10/17/2013","XXXXX10074","JANITOR'S CLOSET","72300.FCF",17.77]
[1,"10/18/2013","XXXXX10075","7-ELEVEN","40500.FCF",15.17]
[1,"10/18/2013","XXXXX10076","7-ELEVEN","40500.FCF",3.07]
[1,"10/18/2013","XXXXX10077","MCDONALD'S","60800.FCF",59.51]
[1,"10/18/2013","XXXXX10078","MCDONALD'S","60800.FCF",18.7]
[1,"10/18/2013","XXXXX10079","OLYMPUS HILLS SERVICE","40500.FCF",15.01]
[1,"10/18/2013","XXXXX10080","Auto Parts","12105.FCF",76.62]
[1,"10/18/2013","XXXXX10081","Personal","17000.FCF",38]
[1,"10/18/2013","XXXXX10082","Personal","17000.FCF",24.99]
[1,"10/18/2013","XXXXX10083","THE HOME DEPOT","72300.FCF",6.91]
[1,"10/19/2013","XXXXX10084","7-ELEVEN","40500.FCF",19.989999999999998]
[1,"10/19/2013","XXXXX10085","DIRECTV","70000.FCF",330.09]
[1,"10/19/2013","XXXXX10086","EnfoTrace","12105.FCF",14.95]
[1,"10/19/2013","XXXXX10087","EnfoTrace","12105.FCF",79.8]
[1,"10/19/2013","XXXXX10088","EnfoTrace","12105.FCF",159.6]
[1,"10/21/2013","XXXXX10089","7-ELEVEN","40500.FCF",6.45]
[1,"10/21/2013","XXXXX10090","7-ELEVEN","40500.FCF",14.76]
[1,"10/21/2013","XXXXX10091","7-ELEVEN","40500.FCF",15.03]
[1,"10/21/2013","XXXXX10092","KJZZ","70700.FCF",2720]
[1,"10/21/2013","XXXXX10093","KSL.COM","70700.FCF",599]
[1,"10/21/2013","XXXXX10094","SEARS ROEBUCK","12105.FCF",4.12]
[1,"10/22/2013","XXXXX10095","CHEVRON","40500.FCF",45.46]
[1,"10/22/2013","XXXXX10096","EVCO","12105.FCF",93.59]
[1,"10/22/2013","XXXXX10097","Glen's Lock & Key","12105.FCF",4.95]
[1,"10/23/2013","XXXXX10098","7-ELEVEN","40500.FCF",10.93]
[1,"10/23/2013","XXXXX10099","OLYMPUS HILLS SERVICE","40500.FCF",20.02]
[1,"10/24/2013","XXXXX10100","7-ELEVEN","40500.FCF",10.96]
[1,"10/24/2013","XXXXX10101","7-ELEVEN","40500.FCF",15.08]
[1,"10/24/2013","XXXXX10102","GAY USA PAGES","50200.FCF",99]
[1,"10/25/2013","XXXXX10103","MCDONALD'S","60800.FCF",23.88]
[1,"10/25/2013","XXXXX10104","OLYMPUS HILLS SERVICE","40500.FCF",20.05]
[1,"10/26/2013","XXXXX10105","7-ELEVEN","40500.FCF",10.84]
[1,"10/26/2013","XXXXX10106","FED EX","70500.FCF",11.11]
[1,"10/26/2013","XXXXX10107","VICTORS TIRES","12105.FCF",35]
[1,"10/27/2013","XXXXX10108","HOLIDAY OIL","40500.FCF",45.17]
[1,"10/27/2013","XXXXX10109","gotomypc.com","60700.FCF",21.32]
[1,"10/28/2013","XXXXX10110","CHEVRON","40500.FCF",7.24]
[1,"10/28/2013","XXXXX10111","VICTORS TIRES","12105.FCF",280]
[1,"10/29/2013","XXXXX10112","SUPERIOR PAINT","72300.FCF",6.22]
[1,"10/30/2013","XXXXX10113","7-ELEVEN","40500.FCF",10.99]
[1,"10/30/2013","XXXXX10114","7-ELEVEN","40500.FCF",8.07]
[1,"10/30/2013","XXXXX10115","CHEVRON","40500.FCF",5.99]
[1,"10/30/2013","XXXXX10116","Personal","17000.FCF",12.53]
[1,"10/30/2013","XXXXX10117","OLYMPUS HILLS SERVICE","40500.FCF",15.06]
[1,"10/30/2013","XXXXX10118","Auto Parts","12105.FCF",34.770000000000003]
[1,"10/30/2013","XXXXX10119","SMITHS FOOD","70000.FCF",19.18]
[1,"10/30/2013","XXXXX10120","SMITHS FOOD","70000.FCF",81.069999999999993]
[1,"10/30/2013","XXXXX10121","Personal","17000.FCF",1.07]
[1,"10/30/2013","XXXXX10122","Personal","17000.FCF",1.07]
[1,"10/31/2013","XXXXX10123","Personal","17000.FCF",178.99]
[1,"10/31/2013","XXXXX10124","Personal","17000.FCF",22.72]
[5,"2013-10-31","XXXXX10~JE","Amex 48004 Payable","24059.FCF",13975.250000000004]
[1,"11/01/2013","XXXXX11001","7-ELEVEN","40500.FCF",12.03]
[1,"11/01/2013","XXXXX11002","7-ELEVEN","40500.FCF",15.05]
[1,"11/01/2013","XXXXX11003","DELTA AIRLINES","12105.FCF",110.1]
[1,"11/01/2013","XXXXX11004","GREAT HARVEST","60800.FCF",16.5]
[1,"11/01/2013","XXXXX11005","Glen's Lock & Key","12105.FCF",79]
[1,"11/01/2013","XXXXX11006","Verizon","72800.FCF",406.01]
[1,"11/02/2013","XXXXX11007","7-ELEVEN","40500.FCF",9.1199999999999992]
[1,"11/02/2013","XXXXX11008","OLYMPUS HILLS SERVICE","40500.FCF",15.08]
[1,"11/03/2013","XXXXX11009","CHEVRON","40500.FCF",20.03]
[1,"11/03/2013","XXXXX11010","DELTA AIRLINES","12105.FCF",192.9]
[1,"11/03/2013","XXXXX11011","DELTA AIRLINES","12105.FCF",201]
[1,"11/04/2013","XXXXX11012","7-ELEVEN","40500.FCF",20.059999999999999]
[1,"11/04/2013","XXXXX11013","CHEVRON","40500.FCF",7]
[1,"11/04/2013","XXXXX11014","CHEVRON","40500.FCF",46.23]
[1,"11/04/2013","XXXXX11015","Auto Parts","12105.FCF",18.95]
[1,"11/04/2013","XXXXX11016","Auto Parts","12105.FCF",15]
[1,"11/05/2013","XXXXX11017","7-ELEVEN","40500.FCF",11.17]
[1,"11/05/2013","XXXXX11018","HOTELS.COM","72900.FCF",78]
[1,"11/06/2013","XXXXX11019","CHEVRON","40500.FCF",8.01]
[1,"11/06/2013","XXXXX11020","Personal","17000.FCF",45]
[1,"11/06/2013","XXXXX11021","HERTZ","72900.FCF",31.84]
[1,"11/06/2013","XXXXX11022","JIMMY JOHN'S","60800.FCF",22.99]
[1,"11/06/2013","XXXXX11023","OLYMPUS HILLS SERVICE","40500.FCF",20]
[1,"11/06/2013","XXXXX11024","Auto Parts","12105.FCF",79.989999999999995]
[1,"11/06/2013","XXXXX11025","REBEL","40500.FCF",10.24]
[1,"11/06/2013","XXXXX11026","REBEL","40500.FCF",25.38]
[1,"11/06/2013","XXXXX11027","REBEL","40500.FCF",61.21]
[1,"11/06/2013","XXXXX11028","TEXACO","40500.FCF",34.26]
[1,"11/06/2013","XXXXX11029","TEXACO","40500.FCF",35.15]
[1,"11/07/2013","XXXXX11030","Personal","17000.FCF",300]
[1,"11/07/2013","XXXXX11031","MCDONALD'S","60800.FCF",19.34]
[1,"11/07/2013","XXXXX11032","SEARS ROEBUCK","12105.FCF",4.9800000000000004]
[1,"11/08/2013","XXXXX11033","Interest Charged","65300.FCF",187.76]
[1,"11/08/2013","XXXXX11034","MCDONALD'S","60800.FCF",23.88]
[1,"11/08/2013","XXXXX11035","SEARS ROEBUCK","12105.FCF",2.68]
[1,"11/08/2013","XXXXX11036","SMITHS FOOD","70000.FCF",4.1100000000000003]
[1,"11/09/2013","XXXXX11037","KFC/TB","60800.FCF",21.56]
[1,"11/09/2013","XXXXX11038","OLYMPUS HILLS SERVICE","40500.FCF",20]
[1,"11/09/2013","XXXXX11039","SLC INTERNATIONAL","72900.FCF",11]
[1,"11/10/2013","XXXXX11040","DAN'S FOOD","60800.FCF",42.58]
[1,"11/11/2013","XXXXX11041","COMCAST","17000.FCF",121.4]
[1,"11/11/2013","XXXXX11042","HERTZ","72900.FCF",64.650000000000006]
[1,"11/11/2013","XXXXX11043","Auto Parts","12105.FCF",54.46]
[1,"11/11/2013","XXXXX11044","Auto Parts","12105.FCF",79.959999999999994]
[1,"11/11/2013","XXXXX11045","Auto Parts","12105.FCF",40.36]
[1,"11/11/2013","XXXXX11046","Personal","17000.FCF",22.85]
[1,"11/11/2013","XXXXX11047","Personal","17000.FCF",16.989999999999998]
[1,"11/11/2013","XXXXX11048","Auto Parts","12105.FCF",111.15]
[1,"11/11/2013","XXXXX11049","Personal","17000.FCF",55]
[1,"11/12/2013","XXXXX11050","7-ELEVEN","40500.FCF",15.08]
[1,"11/12/2013","XXXXX11051","DELTA AIRLINES","12105.FCF",365.8]
[1,"11/12/2013","XXXXX11052","Auto Parts","12105.FCF",19.989999999999998]
[1,"11/12/2013","XXXXX11053","Personal","17000.FCF",-16.989999999999998]
[1,"11/13/2013","XXXXX11054","7-ELEVEN","40500.FCF",10.029999999999999]
[1,"11/13/2013","XXXXX11055","CHEVRON","40500.FCF",15.03]
[1,"11/13/2013","XXXXX11056","COLUMBUS TRAVEL","17000.FCF",50]
[1,"11/13/2013","XXXXX11057","COLUMBUS TRAVEL","17000.FCF",781.9]
[1,"11/13/2013","XXXXX11058","COLUMBUS TRAVEL","17000.FCF",781.9]
[1,"11/13/2013","XXXXX11059","MCDONALD'S","60800.FCF",7.75]
[1,"11/14/2013","XXXXX11060","CHEVRON","40500.FCF",40.82]
[1,"11/15/2013","XXXXX11061","DELTA AIRLINES","12105.FCF",15.8]
[1,"11/15/2013","XXXXX11062","GREAT HARVEST","60800.FCF",13.23]
[1,"11/15/2013","XXXXX11063","SMITHS FOOD","70000.FCF",3.9]
[1,"11/15/2013","XXXXX11064","STRONG VW","12105.FCF",94.76]
[1,"11/16/2013","XXXXX11065","7-ELEVEN","40500.FCF",16.07]
[1,"11/16/2013","XXXXX11066","OLYMPUS HILLS SERVICE","40500.FCF",15.01]
[1,"11/18/2013","XXXXX11067","7-ELEVEN","40500.FCF",10.119999999999999]
[1,"11/18/2013","XXXXX11068","DAN'S FOOD","60800.FCF",17.8]
[1,"11/19/2013","XXXXX11069","7-ELEVEN","40500.FCF",10.1]
[1,"11/19/2013","XXXXX11070","7-ELEVEN","40500.FCF",15.17]
[1,"11/19/2013","XXXXX11071","CHEVRON","40500.FCF",20.03]
[1,"11/19/2013","XXXXX11072","DIRECTV","70000.FCF",330.09]
[1,"11/19/2013","XXXXX11073","Personal","17000.FCF",50]
[1,"11/20/2013","XXXXX11074","CHEVRON","40500.FCF",7.13]
[1,"11/20/2013","XXXXX11075","DELTA AIRLINES","12105.FCF",-161.80000000000001]
[1,"11/20/2013","XXXXX11076","DELTA AIRLINES","12105.FCF",161.80000000000001]
[1,"11/20/2013","XXXXX11077","DELTA AIRLINES","12105.FCF",230.9]
[1,"11/20/2013","XXXXX11078","DELTA AIRLINES","12105.FCF",230.9]
[1,"11/20/2013","XXXXX11079","HERTZ","72900.FCF",56.92]
[1,"11/20/2013","XXXXX11080","KJZZ","70700.FCF",2720]
[1,"11/20/2013","XXXXX11081","MCDONALD'S","60800.FCF",7.33]
[1,"11/20/2013","XXXXX11082","Auto Parts","12105.FCF",70]
[1,"11/20/2013","XXXXX11083","Personal","17000.FCF",249]
[1,"11/20/2013","XXXXX11084","TEXACO","40500.FCF",31.23]
[1,"11/21/2013","XXXXX11085","CHEVRON","40500.FCF",20.12]
[1,"11/21/2013","XXXXX11086","KJZZ","70700.FCF",599]
[1,"11/21/2013","XXXXX11087","MCDONALD'S","60800.FCF",26.39]
[1,"11/21/2013","XXXXX11088","Personal","17000.FCF",2596]
[1,"11/21/2013","XXXXX11089","DMV","60700.FCF",424.25]
[1,"11/22/2013","XXXXX11090","7-ELEVEN","40500.FCF",15.02]
[1,"11/22/2013","XXXXX11091","DAN'S FOOD","60800.FCF",27.64]
[1,"11/22/2013","XXXXX11092","Personal","17000.FCF",15.39]
[1,"11/22/2013","XXXXX11093","LOWE'S","70000.FCF",-21.34]
[1,"11/22/2013","XXXXX11094","LOWE'S","70000.FCF",58.75]
[1,"11/22/2013","XXXXX11095","LOWE'S","70000.FCF",90.23]
[1,"11/22/2013","XXXXX11096","LOWE'S","70000.FCF",117.49]
[1,"11/22/2013","XXXXX11097","MCDONALD'S","60800.FCF",14.1]
[1,"11/22/2013","XXXXX11098","Personal","17000.FCF",61.7]
[1,"11/23/2013","XXXXX11099","SHELL OIL","70500.FCF",20.010000000000002]
[1,"11/24/2013","XXXXX11100","CHEVRON","40500.FCF",9.99]
[1,"11/24/2013","XXXXX11101","GAY USA PAGES","50200.FCF",99]
[1,"11/25/2013","XXXXX11102","AAA POSTAL","70500.FCF",11.32]
[1,"11/25/2013","XXXXX11103","LOWE'S","70000.FCF",-76.11]
[1,"11/25/2013","XXXXX11104","LOWE'S","70000.FCF",2.3199999999999998]
[1,"11/25/2013","XXXXX11105","LOWE'S","70000.FCF",76.11]
[1,"11/25/2013","XXXXX11106","Auto Parts","12105.FCF",63.76]
[1,"11/26/2013","XXXXX11107","7-ELEVEN","40500.FCF",19.260000000000002]
[1,"11/26/2013","XXXXX11108","CHEVRON","40500.FCF",37.14]
[1,"11/26/2013","XXXXX11109","Glen's Lock & Key","12105.FCF",89.1]
[1,"11/26/2013","XXXXX11110","OLYMPUS HILLS SERVICE","40500.FCF",15.14]
[1,"11/26/2013","XXXXX11111","Personal","17000.FCF",7.99]
[1,"11/26/2013","XXXXX11112","Auto Parts","12105.FCF",41.25]
[1,"11/27/2013","XXXXX11113","DAN'S FOOD","60800.FCF",5]
[1,"11/27/2013","XXXXX11114","MCDONALD'S","60800.FCF",26.39]
[1,"11/27/2013","XXXXX11115","RITE AID","17000.FCF",36.69]
[1,"11/27/2013","XXXXX11116","gotomypc.com","60700.FCF",21.32]
[1,"11/29/2013","XXXXX11117","HENRIES DRY CLEANER","70140.FCF",18.510000000000002]
[1,"11/29/2013","XXXXX11118","EnfoTrace","12105.FCF",14.95]
[1,"11/29/2013","XXXXX11119","Personal","17000.FCF",55]
[1,"11/29/2013","XXXXX11120","THE HOME DEPOT","72300.FCF",74.78]
[1,"11/30/2013","XXXXX11121","7-ELEVEN","40500.FCF",16.22]
[1,"11/30/2013","XXXXX11122","CHEVRON","40500.FCF",10.09]
[1,"11/30/2013","XXXXX11123","OLYMPUS HILLS SERVICE","40500.FCF",20.010000000000002]
[5,"2013-11-30","XXXXX11~JE","Amex 48004 Payable","24059.FCF",13898.789999999999]
[1,"12/01/2013","XXXXX12001","Personal","17000.FCF",38.47]
[1,"12/01/2013","XXXXX12002","CHEVRON","40500.FCF",41.68]
[1,"12/01/2013","XXXXX12003","HOTELS.COM","72900.FCF",286.49]
[1,"12/01/2013","XXXXX12004","Auto Parts","12105.FCF",40.909999999999997]
[1,"12/01/2013","XXXXX12005","Personal","17000.FCF",27.78]
[1,"12/02/2013","XXXXX12006","CHEVRON","40500.FCF",19.32]
[1,"12/02/2013","XXXXX12007","CHEVRON","40500.FCF",54.27]
[1,"12/02/2013","XXXXX12008","HERTZ","72900.FCF",184.51]
[1,"12/02/2013","XXXXX12009","OLYMPUS HILLS SERVICE","40500.FCF",15]
[1,"12/02/2013","XXXXX12010","PILOT GAS","40500.FCF",19.64]
[1,"12/02/2013","XXXXX12011","THUNDER VALLEY RESORT","60800.FCF",125.15]
[1,"12/03/2013","XXXXX12012","CHEVRON","40500.FCF",25]
[1,"12/03/2013","XXXXX12013","Glen's Lock & Key","12105.FCF",89.1]
[1,"12/03/2013","XXXXX12014","SEARS ROEBUCK","12105.FCF",413.38]
[1,"12/04/2013","XXXXX12015","7-ELEVEN","40500.FCF",12.08]
[1,"12/04/2013","XXXXX12016","Personal","17000.FCF",399]
[1,"12/04/2013","XXXXX12017","GLAUS FRENCH PASTRY","60800.FCF",28.46]
[1,"12/04/2013","XXXXX12018","Personal","17000.FCF",44.01]
[1,"12/05/2013","XXXXX12019","OLYMPUS VIEW","40500.FCF",20]
[1,"12/05/2013","XXXXX12020","PILOT GAS","40500.FCF",7.33]
[1,"12/05/2013","XXXXX12021","PILOT GAS","40500.FCF",31.3]
[1,"12/05/2013","XXXXX12022","PILOT GAS","40500.FCF",51.9]
[1,"12/06/2013","XXXXX12023","7-ELEVEN","40500.FCF",10.02]
[1,"12/06/2013","XXXXX12024","7-ELEVEN","40500.FCF",8.5]
[1,"12/06/2013","XXXXX12025","7-ELEVEN","40500.FCF",40.090000000000003]
[1,"12/06/2013","XXXXX12026","CHEVRON","40500.FCF",20.010000000000002]
[1,"12/06/2013","XXXXX12027","CHEVRON","40500.FCF",30.01]
[1,"12/06/2013","XXXXX12028","MCDONALD'S","60800.FCF",17]
[1,"12/06/2013","XXXXX12029","SMITHS FOOD","70000.FCF",2.2599999999999998]
[1,"12/06/2013","XXXXX12030","THERMOCRAFT","70700.FCF",86.94]
[1,"12/07/2013","XXXXX12031","CHEVRON","40500.FCF",9.27]
[1,"12/07/2013","XXXXX12032","KFC/TB","60800.FCF",21.56]
[1,"12/09/2013","XXXXX12033","CHEVRON","40500.FCF",20.02]
[1,"12/09/2013","XXXXX12034","DAN'S FOOD","60800.FCF",19.829999999999998]
[1,"12/09/2013","XXXXX12035","HERTZ","72900.FCF",201.35]
[1,"12/09/2013","XXXXX12036","OLYMPUS HILLS SERVICE","40500.FCF",15]
[1,"12/09/2013","XXXXX12037","SHELL OIL","70500.FCF",31.12]
[1,"12/09/2013","XXXXX12038","THUNDER VALLEY RESORT","60800.FCF",161.87]
[1,"12/10/2013","XXXXX12039","7-ELEVEN","40500.FCF",11.02]
[1,"12/10/2013","XXXXX12040","7-ELEVEN","40500.FCF",15.07]
[1,"12/10/2013","XXXXX12041","CHEVRON","40500.FCF",7.01]
[1,"12/10/2013","XXXXX12042","Interest Charged","65300.FCF",237.71]
[1,"12/11/2013","XXXXX12043","7-ELEVEN","40500.FCF",12.88]
[1,"12/11/2013","XXXXX12044","7-ELEVEN","40500.FCF",9.5299999999999994]
[1,"12/11/2013","XXXXX12045","DELTA AIRLINES","12105.FCF",378.8]
[1,"12/11/2013","XXXXX12046","MCDONALD'S","60800.FCF",23.8]
[1,"12/11/2013","XXXXX12047","PETSMART","17000.FCF",33.11]
[1,"12/12/2013","XXXXX12048","COMCAST","17000.FCF",121.4]
[1,"12/12/2013","XXXXX12049","SLC INTERNATIONAL","72900.FCF",8]
[1,"12/13/2013","XXXXX12050","7-ELEVEN","40500.FCF",7.06]
[1,"12/13/2013","XXXXX12051","7-ELEVEN","40500.FCF",11.4]
[1,"12/13/2013","XXXXX12052","7-ELEVEN","40500.FCF",12.76]
[1,"12/13/2013","XXXXX12053","Personal","17000.FCF",60.35]
[1,"12/13/2013","XXXXX12054","DELTA AIRLINES","12105.FCF",7.5]
[1,"12/13/2013","XXXXX12055","DELTA AIRLINES","12105.FCF",8.5]
[1,"12/13/2013","XXXXX12056","DELTA AIRLINES","12105.FCF",8.5]
[1,"12/13/2013","XXXXX12057","HOLIDAY OIL","40500.FCF",38.869999999999997]
[1,"12/13/2013","XXXXX12058","Personal","17000.FCF",13.34]
[1,"12/14/2013","XXXXX12059","7-ELEVEN","40500.FCF",10.3]
[1,"12/14/2013","XXXXX12060","CHEVRON","40500.FCF",12.26]
[1,"12/15/2013","XXXXX12061","DELTA AIRLINES","12105.FCF",-1.7]
[1,"12/15/2013","XXXXX12062","DELTA AIRLINES","12105.FCF",-1.7]
[1,"12/15/2013","XXXXX12063","DELTA AIRLINES","12105.FCF",-1.5]
[1,"12/16/2013","XXXXX12064","EnfoTrace","12105.FCF",19.95]
[1,"12/16/2013","XXXXX12065","EnfoTrace","12105.FCF",59.8]
[1,"12/16/2013","XXXXX12066","EnfoTrace","12105.FCF",259.35000000000002]
[1,"12/17/2013","XXXXX12067","7-ELEVEN","40500.FCF",7.17]
[1,"12/17/2013","XXXXX12068","CHEVRON","40500.FCF",8.0299999999999994]
[1,"12/17/2013","XXXXX12069","LOWE'S","70000.FCF",13.87]
[1,"12/19/2013","XXXXX12070","7-ELEVEN","40500.FCF",15.01]
[1,"12/19/2013","XXXXX12071","7-ELEVEN","40500.FCF",16.399999999999999]
[1,"12/19/2013","XXXXX12072","7-ELEVEN","40500.FCF",37.549999999999997]
[1,"12/19/2013","XXXXX12073","Personal","17000.FCF",29.87]
[1,"12/19/2013","XXXXX12074","Personal","17000.FCF",351.48]
[1,"12/19/2013","XXXXX12075","HERTZ","72900.FCF",377.03]
[1,"12/19/2013","XXXXX12076","KJZZ","70700.FCF",2720]
[1,"12/20/2013","XXXXX12077","7-ELEVEN","40500.FCF",12.06]
[1,"12/20/2013","XXXXX12078","DELTA AIRLINES","12105.FCF",3]
[1,"12/20/2013","XXXXX12079","DELTA AIRLINES","12105.FCF",8.5]
[1,"12/20/2013","XXXXX12080","DELTA AIRLINES","12105.FCF",8.5]
[1,"12/20/2013","XXXXX12081","DELTA AIRLINES","12105.FCF",9.99]
[1,"12/20/2013","XXXXX12082","EnfoTrace","12105.FCF",59.8]
[1,"12/20/2013","XXXXX12083","UNIFORMS WEST","70000.FCF",365.95]
[1,"12/21/2013","XXXXX12084","KJZZ","70700.FCF",599]
[1,"12/21/2013","XXXXX12085","LOWE'S","70000.FCF",17.940000000000001]
[1,"12/21/2013","XXXXX12086","OLYMPUS HILLS SERVICE","40500.FCF",20.03]
[1,"12/22/2013","XXXXX12087","DELTA AIRLINES","12105.FCF",-2]
[1,"12/22/2013","XXXXX12088","DELTA AIRLINES","12105.FCF",-1.7]
[1,"12/22/2013","XXXXX12089","DELTA AIRLINES","12105.FCF",-1.7]
[1,"12/22/2013","XXXXX12090","DELTA AIRLINES","12105.FCF",-0.6]
[1,"12/22/2013","XXXXX12091","CHEVRON","40500.FCF",25]
[1,"12/22/2013","XXXXX12092","DIRECTV","70000.FCF",330.09]
[1,"12/23/2013","XXXXX12093","Personal","17000.FCF",30]
[1,"12/23/2013","XXXXX12094","HOLIDAY OIL","40500.FCF",30.01]
[1,"12/23/2013","XXXXX12095","Auto Parts","12105.FCF",275]
[1,"12/24/2013","XXXXX12096","Finance Charges","60450.FCF",-0.3]
[1,"12/24/2013","XXXXX12097","GAY USA PAGES","50200.FCF",99]
[1,"12/24/2013","XXXXX12098","HERTZ","72900.FCF",191.42]
[1,"12/24/2013","XXXXX12099","Personal","17000.FCF",-11.46]
[1,"12/24/2013","XXXXX12100","UNION 76","40500.FCF",11.39]
[1,"12/25/2013","XXXXX12101","HYATT HOTEL","12105.FCF",644.39]
[1,"12/25/2013","XXXXX12102","JASMINE CHINA BISTRO","60800.FCF",127.32]
[1,"12/25/2013","XXXXX12103","HOLIDAY OIL","40500.FCF",25.05]
[1,"12/26/2013","XXXXX12104","Personal","17000.FCF",188.15]
[1,"12/26/2013","XXXXX12105","HOLIDAY OIL","40500.FCF",39.380000000000003]
[1,"12/26/2013","XXXXX12106","ADVANCED VET","17000.FCF",477.06]
[1,"12/26/2013","XXXXX12107","EnfoTrace","12105.FCF",19.95]
[1,"12/27/2013","XXXXX12108","CHEVRON","40500.FCF",25.2]
[1,"12/27/2013","XXXXX12109","DELTA AIRLINES","12105.FCF",12.1]
[1,"12/27/2013","XXXXX12110","DELTA AIRLINES","12105.FCF",177.9]
[1,"12/27/2013","XXXXX12111","gotomypc.com","60700.FCF",21.32]
[1,"12/28/2013","XXXXX12112","DELTA AIRLINES","12105.FCF",-177.9]
[1,"12/28/2013","XXXXX12113","DELTA AIRLINES","12105.FCF",-12.1]
[1,"12/28/2013","XXXXX12114","DELTA AIRLINES","12105.FCF",89.9]
[1,"12/28/2013","XXXXX12115","DELTA AIRLINES","12105.FCF",89.9]
[1,"12/28/2013","XXXXX12116","DELTA AIRLINES","12105.FCF",89.9]
[1,"12/28/2013","XXXXX12117","DELTA AIRLINES","12105.FCF",89.9]
[1,"12/28/2013","XXXXX12118","OLYMPUS HILLS SERVICE","40500.FCF",20.02]
[1,"12/28/2013","XXXXX12119","PLAZA CYCLE","12105.FCF",105.99]
[1,"12/29/2013","XXXXX12120","CHEVRON","40500.FCF",25.05]
[1,"12/29/2013","XXXXX12121","DELTA AIRLINES","12105.FCF",14]
[1,"12/29/2013","XXXXX12122","DELTA AIRLINES","12105.FCF",89.9]
[1,"12/29/2013","XXXXX12123","DELTA AIRLINES","12105.FCF",89.9]
[1,"12/29/2013","XXXXX12124","DELTA AIRLINES","12105.FCF",181.8]
[1,"12/29/2013","XXXXX12125","DELTA AIRLINES","12105.FCF",181.8]
[1,"12/30/2013","XXXXX12126","CHEVRON","40500.FCF",46.22]
[1,"12/30/2013","XXXXX12127","LARRY H MILLER","12105.FCF",684.9]
[1,"12/31/2013","XXXXX12128","OLYMPUS HILLS SERVICE","40500.FCF",15.02]
[1,"12/31/2013","XXXXX12129","VICTORS TIRES","12105.FCF",80]
[5,"2013-12-31","XXXXX12~JE","Amex 48004 Payable","24059.FCF",13170.349999999995]