{"text_format":"1","workbook":"xlsx","n_sheets":9,"sheets":["Control Center","Delivery","Quality Control","Master Inventory","Completed Builds","Reports","Report_Data","Managers","Backup"],"not_rendered":{"charts":0,"images":0,"macros":1,"external_links":0,"defined_names":0,"comments":0,"pivot_tables":1},"unopened":[],"bounds":{"document_bytes":16777216,"sheet_cells":100000,"rows_first":2000,"rows_last":500,"rows_between":2000,"halvings":0,"cell_chars":16384,"cell_head_chars":4096},"cells_cut":0,"cells_raw":0,"read":"whole","date_system":"1900"}

{"sheet":"Control Center","index":0,"n_rows":20,"n_cols":5,"rows_kept":20,"cut":false,"hidden":false,"merged":[[7,0,7,1],[8,0,8,1],[13,0,13,1],[16,0,16,1],[0,0,0,4]]}
["Project: Staff Kit"]
[null,"Begin Date:","2014-01-02","End Date:","2014-04-18"]
[null,"Manager:","Kaleo Kim"]
[null,"Notifications:","Yes"]
[]
[]
[]
["Project Snapshot"]
["Raw Inventory"]
["Quality Control:",20]
["Cable Kits:",7]
["Hardware Kits:",7]
["Component Kits:",4]
["Inventory in Progress"]
["Cable Builds:",5]
["Integration Builds:",28]
["Finished Products Inventory"]
["Completed Builds:",10]
["Builds Required:",20]
["% Complete:",{"$f":"B18/B19","v":0.5}]

{"sheet":"Delivery","index":1,"n_rows":5,"n_cols":3,"rows_kept":5,"cut":false,"hidden":false,"merged":[[0,0,0,2]]}
["Deliveries"]
["Date","Part Number","Quantity"]
["2014-04-02","M85049/79-15W04",10]
["2014-04-09","19016-0006",10]
["2014-04-14","19016-0006",10]

{"sheet":"Quality Control","index":2,"n_rows":4,"n_cols":4,"rows_kept":4,"cut":false,"hidden":false,"merged":[[0,0,0,3]]}
["Quality Control"]
["Date","Part Number","Quantity","Notes"]
["2014-04-02","M85049/79-15W04",2,"Lorem ipsum dolor sit amet, consectetur adipiscing elit. Donec aliquet luctus mi at tristique. Nulla a turpis pharetra, dictum nisl eu, venenatis dui. Proin ac ultricies magna. Donec eget bibendum felis. Donec viverra neque ante, vehicula malesuada augue ultricies a. Phasellus tincidunt dui at turpis tempus rhoncus."]
["2014-04-14","19016-0006",2,"Cracked component heads."]

{"sheet":"Master Inventory","index":3,"n_rows":76,"n_cols":12,"rows_kept":76,"cut":false,"hidden":false,"merged":[[0,0,2,11],[3,0,3,11]]}
[]
[]
[]
["Master Inventory"]
["Kit_Name","Part_Num","Description","Shelf_Location","Qty_QC","Qty_Shelf","Qty_Kitted","Qty_Floor","Qty_Warehouse","Qty_Required","Qty_Shipped","Notification_Level"]
["Hardware","19016-0006","Quick Disconnect, Female","F01F-7",148,68,14,56,{"$f":"SUM(F6:H6)","v":138},2,128,{"$f":"'Control Center'!$B$19*'Master Inventory'!J6","v":40}]
["Hardware","7113K11","22-18 AWG Ring Terminal #6 Screw Size","G01C-4",459,179,56,224,459,8,512,{"$f":"'Control Center'!$B$19*'Master Inventory'!J7","v":160}]
["Hardware","7113K13","16-14 AWG Ring Terminal 1/4\" Screw Size","G01C-5",153,73,14,56,143,2,128,{"$f":"'Control Center'!$B$19*'Master Inventory'!J8","v":40}]
["Hardware","7113K38","16-14 AWG Ring Terminal #8 Screw Size","G01C-2",67,22,7,28,57,1,64,{"$f":"'Control Center'!$B$19*'Master Inventory'!J9","v":20}]
["Hardware","7113K551","22-18 AWG Ring Terminal #8 Screw Size","G01C-6",559,279,56,224,559,8,512,{"$f":"'Control Center'!$B$19*'Master Inventory'!J10","v":160}]
["Hardware","7113K553","22-18 AWG Ring Terminal 5/16\" Screw Size","G01C-3",524,244,56,224,524,8,512,{"$f":"'Control Center'!$B$19*'Master Inventory'!J11","v":160}]
["Hardware","7113K91","16-14 AWG Ring Terminal 5/16\" Screw Size","G01C-1",77,42,7,28,77,1,64,{"$f":"'Control Center'!$B$19*'Master Inventory'!J12","v":20}]
["Hardware","84735K12","Push-on Round High Temperature Cap, Fits 1/8\"-3/16\"","F01F-3",259,151,100,8,259,4,256,{"$f":"'Control Center'!$B$19*'Master Inventory'!J13","v":80}]
["Hardware","84735K13","Dock Carriage Bolt Caps, 3/16\"-1/4\" OD","F01F-4",373,265,100,8,373,4,256,{"$f":"'Control Center'!$B$19*'Master Inventory'!J14","v":80}]
["Hardware","90762A112","300 Series Stainless Steel Hex Nut 1/4\"-20 Thread Size","F01C-3",188,80,100,8,188,4,256,{"$f":"'Control Center'!$B$19*'Master Inventory'!J15","v":80}]
["Hardware","91240A005","Machine Screw Hex Nut, 4-40 Thread Size","F01C-6",94,40,50,4,94,2,128,{"$f":"'Control Center'!$B$19*'Master Inventory'!J16","v":40}]
["Hardware","91240A007","Machine Screw Hex Nut 6-32 Thread Sie","F01C-2",556,394,150,12,556,6,384,{"$f":"'Control Center'!$B$19*'Master Inventory'!J17","v":120}]
["Hardware","91240A009","Machine Screw Hex Nut 8-32 Thread Size","F01C-4",658,415,225,18,658,9,576,{"$f":"'Control Center'!$B$19*'Master Inventory'!J18","v":180}]
["Hardware","91400A146","Pan Head Philips Machine Screw 6-32 Thread, 3/8\"","F01E-3",67,40,25,2,67,1,64,{"$f":"'Control Center'!$B$19*'Master Inventory'!J19","v":20}]
["Hardware","91400A152","Pan Head Philips Machine Screw 6-32 Thread, 7/8\"","F01E-1",136,82,50,4,136,2,128,{"$f":"'Control Center'!$B$19*'Master Inventory'!J20","v":40}]
["Hardware","91475A018","Split Lock Washer #4 Screw Size","F01D-5",173,119,50,4,173,2,128,{"$f":"'Control Center'!$B$19*'Master Inventory'!J21","v":40}]
["Hardware","91475A020","Split Lock Washer #6 Screw Size","F01D-2",455,293,150,12,455,6,384,{"$f":"'Control Center'!$B$19*'Master Inventory'!J22","v":120}]
["Hardware","91475A029","Split Lock Washer 1/4\" Screw Size","F01D-3",225,117,100,8,225,4,256,{"$f":"'Control Center'!$B$19*'Master Inventory'!J23","v":80}]
["Hardware","91735A145","316 SS Pan Head Philips Screw, 6-32 Thread, 5/16\" Relay Screws","DIODES",200,200,0,0,200,2,0,{"$f":"'Control Center'!$B$19*'Master Inventory'!J24","v":40}]
["Hardware","92000A218","Pan Head Philips Machine Screw, M4 Size, 8MM Length","F01E-2",268,160,100,8,268,4,256,{"$f":"'Control Center'!$B$19*'Master Inventory'!J25","v":80}]
["Hardware","92319A666","Nylon 6/6 Female Threaded Hex Standoff, 1/4\" Hex, 1\" Length","G01E-5",90,36,50,4,90,2,128,{"$f":"'Control Center'!$B$19*'Master Inventory'!J26","v":40}]
["Hardware","92319A736","Female Threaded Hex Standoff, 8-32 5/16 x 2\", TB","G01E-4",32,0,28,4,32,2,128,{"$f":"'Control Center'!$B$19*'Master Inventory'!J27","v":40}]
["Hardware","93180A230","Round Head Square Neck Bolt Type 316, 1/4\"-20, 1-1/2\" Long","F01C-1",183,75,100,8,183,4,256,{"$f":"'Control Center'!$B$19*'Master Inventory'!J28","v":80}]
["Hardware","95584A209","5/16\" Star Washer, TB (2016)","F01E-5",585,288,275,22,585,11,704,{"$f":"'Control Center'!$B$19*'Master Inventory'!J29","v":220}]
["Hardware","97775A150","#6 Star Washer, Relay, GND (Case Bottom)","F01E-4",528,258,250,20,528,10,640,{"$f":"'Control Center'!$B$19*'Master Inventory'!J30","v":200}]
["Hardware","97775A220","#8 Star Washer, Relay, Diode, GND (Case Bottom)","F01E-6",1031,599,400,32,1031,16,1030,{"$f":"'Control Center'!$B$19*'Master Inventory'!J31","v":320}]
["Hardware","97775A260","#10 Star Washer, GND (Top Case)","INT. FLOOR",63,47,15,1,63,1,56,{"$f":"'Control Center'!$B$19*'Master Inventory'!J32","v":20}]
["Hardware","98019A310","300 Series Flat Washer #4 Size","F01D-7",276,222,50,4,276,2,128,{"$f":"'Control Center'!$B$19*'Master Inventory'!J33","v":40}]
["Hardware","98019A314","300 Series Flat Washer #6 Size","F01D-6",466,250,200,16,466,8,512,{"$f":"'Control Center'!$B$19*'Master Inventory'!J34","v":160}]
["Hardware","98019A325","300 Series Flat Washer #8 Size","F01D-1",909,693,200,16,909,8,512,{"$f":"'Control Center'!$B$19*'Master Inventory'!J35","v":160}]
["Hardware","98019A355","300 Series Flat Washer 1/4\" Size","F01D-4",263,155,100,8,263,4,256,{"$f":"'Control Center'!$B$19*'Master Inventory'!J36","v":80}]
["Hardware","OMAR-2761","Rubber Grommet, 1/2\" x 3/16\"x 13/16\" x 11/16\" x 7/16\"","G01E-6",62,30,28,4,62,2,128,{"$f":"'Control Center'!$B$19*'Master Inventory'!J37","v":40}]
["Cable","BTA-70781A","BB-2590, Isolated Pass Thru Assy","E03D",44,30,8,32,70,1,64,{"$f":"'Control Center'!$B$19*'Master Inventory'!J38","v":20}]
["Cable","BTC-70663","Charger Controller, Li ION","E02B",45,30,8,32,{"$f":"SUM(F39:H39)","v":70},1,64,{"$f":"'Control Center'!$B$19*'Master Inventory'!J39","v":20}]
["Cable","CBLIP-F00051","Bare Wire Input","G01A-1",68,30,8,32,70,1,64,{"$f":"'Control Center'!$B$19*'Master Inventory'!J40","v":20}]
["Cable","CBLOPF00691","CF-19 Power Cable","G01A-2",61,30,8,32,70,1,64,{"$f":"'Control Center'!$B$19*'Master Inventory'!J41","v":20}]
["Cable","CONN-BA5590-M","Battery Connector, Male","G02E",57,30,8,32,70,1,64,{"$f":"'Control Center'!$B$19*'Master Inventory'!J42","v":20}]
["Cable","D38999/32W15N","Power Connector Caps","G02E",86,60,16,64,140,2,128,{"$f":"'Control Center'!$B$19*'Master Inventory'!J43","v":40}]
["Cable","D38999/33W15N","Power Receptacle Cap","G03D",94,30,8,32,70,1,64,{"$f":"'Control Center'!$B$19*'Master Inventory'!J44","v":20}]
["Cable","HLG-150H-24A","AC/DC from Meanwell","Inc. QC",43,30,8,32,70,1,64,{"$f":"'Control Center'!$B$19*'Master Inventory'!J45","v":20}]
["Cable","M85049/38S15W","Power in Strain Relief","G03E",44,30,8,32,70,1,64,{"$f":"'Control Center'!$B$19*'Master Inventory'!J46","v":20}]
["Cable","M85049/79-15W04","Power Back Right Angle","G03B",86,60,16,64,140,2,128,{"$f":"'Control Center'!$B$19*'Master Inventory'!J47","v":40}]
["Cable","P7C16-06","6\" 16 AWG Power Cable","G02A-G03A",86,60,16,64,140,2,128,{"$f":"'Control Center'!$B$19*'Master Inventory'!J48","v":40}]
["Cable","TV07RW15-5P","Power in Receptacle","G03F",51,30,8,32,70,1,64,{"$f":"'Control Center'!$B$19*'Master Inventory'!J49","v":20}]
["Cable","TV06RW15-5S","Power In Connector","G03C",86,60,16,64,140,2,128,{"$f":"'Control Center'!$B$19*'Master Inventory'!J50","v":40}]
["Cable","WPCVR-USB-1394","USB Dust Cap","G02D",40,44,2,48,94,2,128,{"$f":"'Control Center'!$B$19*'Master Inventory'!J51","v":40}]
["Cable","WPUSBAX-1M","USB Water-proof Cable Bulkhead","G02C",82,60,16,64,140,2,128,{"$f":"'Control Center'!$B$19*'Master Inventory'!J52","v":40}]
["Component","12003A0502","Battery Charger Top Bracket","F01B",58,48,8,2,58,1,64,{"$f":"'Control Center'!$B$19*'Master Inventory'!J53","v":20}]
["Component","12003A0503","Battery Base Bracket","F02B-2",58,48,8,2,58,1,64,{"$f":"'Control Center'!$B$19*'Master Inventory'!J54","v":20}]
["Component","12003A0504","Battery Top Bracket","F02C",56,46,8,2,56,1,64,{"$f":"'Control Center'!$B$19*'Master Inventory'!J55","v":20}]
["Component","12003A0507","Docking Station Gasket","F02E",58,48,8,2,58,1,64,{"$f":"'Control Center'!$B$19*'Master Inventory'!J56","v":20}]
["Component","12003A0512","Lind Adapter Top Bracket","F02B-1",59,49,8,2,59,1,64,{"$f":"'Control Center'!$B$19*'Master Inventory'!J57","v":20}]
["Component","12003A0514","Docking Station Spacer","F01A",62,52,8,2,62,1,64,{"$f":"'Control Center'!$B$19*'Master Inventory'!J58","v":20}]
["Component","2016B","Dual Pole Bus Bar (Terminal Block)","F03D",34,24,8,2,34,1,64,{"$f":"'Control Center'!$B$19*'Master Inventory'!J59","v":20}]
["Component","7160-0264-00","Panasonic Ruggedized Docking Station","D01B-D03D",44,42,0,2,44,1,64,{"$f":"'Control Center'!$B$19*'Master Inventory'!J60","v":20}]
["Component","ANM-CAP01","N-Type Dust Cap","G03E",45,35,8,2,45,1,64,{"$f":"'Control Center'!$B$19*'Master Inventory'!J61","v":20}]
["Component","APT2X61D120J-ND","Diodes","F03D",54,44,8,2,54,1,64,{"$f":"'Control Center'!$B$19*'Master Inventory'!J62","v":20}]
["Component","AT-PEL-18135","Staff Kit Cases","B01A-C03D",52,50,0,2,52,1,64,{"$f":"'Control Center'!$B$19*'Master Inventory'!J63","v":20}]
["Component","AXA-NFNFB","N-Type Female Bulkhead","G03E",42,32,8,2,42,1,64,{"$f":"'Control Center'!$B$19*'Master Inventory'!J64","v":20}]
["Component","BT-70791A","Battery Lithium Ion","E03B",45,35,8,2,45,1,64,{"$f":"'Control Center'!$B$19*'Master Inventory'!J65","v":20}]
["Component","DC60SA7-B","Crydom Relay","F03E-2",71,61,8,2,71,1,64,{"$f":"'Control Center'!$B$19*'Master Inventory'!J66","v":20}]
["Component","KCA2ANA1BBB","Rocker Switch","F03F",48,38,8,2,48,1,64,{"$f":"'Control Center'!$B$19*'Master Inventory'!J67","v":20}]
["Component","LND-PA1650-1253","Lind Adapter","F02A",71,61,8,2,71,1,64,{"$f":"'Control Center'!$B$19*'Master Inventory'!J68","v":20}]
["Integration_HARD","90295A090","Nylon 6/6 General Purpose Flat Washer #6 Screw Size","F01F-6",177,159,18,0,{"$f":"SUM(F69:H69)","v":177},2,128,{"$f":"'Control Center'!$B$19*'Master Inventory'!J69","v":40}]
["Integration_HARD","94701A223","Slotted PanHead Screw, #6-32 x 3/8\", Diode Cover","F01F-1",78,60,18,0,78,2,128,{"$f":"'Control Center'!$B$19*'Master Inventory'!J70","v":40}]
["Integration_HARD","94701A314","Slotted Panhead Screw, #8-32 x 3/8\", TB Cover","F01F-2",72,54,18,0,72,2,128,{"$f":"'Control Center'!$B$19*'Master Inventory'!J71","v":40}]
["Integration_HARD","95647A117","Wear-Resistant Delrin Acetal Flat Washer #8 Screw Size","F01F-5",127,109,18,0,127,2,128,{"$f":"'Control Center'!$B$19*'Master Inventory'!J72","v":40}]
["Integration_COMP","12003A0508","Docking Station Connector Gasket","F02F",57,48,9,0,57,1,64,{"$f":"'Control Center'!$B$19*'Master Inventory'!J73","v":20}]
["Integration_COMP","12003A0517","Terminal Block Cover","F03E",64,55,9,0,64,1,64,{"$f":"'Control Center'!$B$19*'Master Inventory'!J74","v":20}]
["Integration_COMP","12003A0522","Diode Cover","F03D-1",58,49,9,0,58,1,64,{"$f":"'Control Center'!$B$19*'Master Inventory'!J75","v":20}]
["Integration_COMP","KS100","Crydom Relay Cover","F03C",46,37,9,0,46,1,64,{"$f":"'Control Center'!$B$19*'Master Inventory'!J76","v":20}]

{"sheet":"Completed Builds","index":4,"n_rows":19,"n_cols":8,"rows_kept":19,"cut":false,"hidden":false,"merged":[[0,0,0,7]]}
["Completed Builds"]
["Build","Serial1","Serial2","Serial3","Serial4","Serial5","Notes","Shipped"]
["B002",1,2,3,4,5,"None","2014-04-14"]
["B003",6,7,8,9,10,"Cleared by Kaleo","2014-04-14"]
["B004",11,12,13,14,15,"Quality verification performed on 4/11/2014","2014-04-14"]
["B005",16,17,18,19,20,"None","2014-04-14"]
["B006",21,22,23,24,25,"None","2014-04-14"]
["B007",26,27,28,29,30,"Minor flaws on external case","2014-04-14"]
["B008",31,32,33,34,35,"Part of order 2104958","2014-04-14"]
["B009",36,37,38,39,40,"None","2014-04-14"]
["B010",41,42,43,44,45,"Shipped with order 2104958","2014-04-14"]
["B011",46,47,48,49,50,"Cleared by Kaleo","2014-04-14"]
["B012",104921358,103901538,230589325,230958678,120194848,"Completed as per instructions from Georgia office","2014-04-14"]
["B0193857",15689,85223,"65468-BI309","I_938958",109485,"Build verified by Aaron.","2014-04-15"]
["B01904","I_938958",15689,85223,"I_938958",230589325]
["B12094","I_938958","I_938958",15689,85223,47,null,"2014-04-15"]
["B14878",15689,85223,"I_938958",230589325,"I_938958",null,"2014-04-15"]
["B12095",230589325,15689,85223,"I_938958",230589325]
["B14879","I_938958",230589325,15689,85223,"I_938958"]

{"sheet":"Reports","index":5,"n_rows":9,"n_cols":6,"rows_kept":9,"cut":false,"hidden":false,"merged":[[0,0,0,9]]}
["Reports"]
["Date","(All)"]
["Time","(All)"]
[]
["Sum of Quantity","Column Labels"]
["Row Labels","Cable","Component","Hardware","Integration","Grand Total"]
["Kit_Created",16,16,16,9,57]
["Build_Issued",12,null,null,15,27]
["Grand Total",28,16,16,24,84]

{"sheet":"Report_Data","index":6,"n_rows":78,"n_cols":5,"rows_kept":78,"cut":false,"hidden":false,"merged":[[0,0,0,3]]}
["Report Data"]
["Date","Time","Action","Type","Quantity"]
["2014-04-08","08:00:00","Build_Issued","Integration",1]
["2014-04-08","09:00:00","Build_Issued","Integration",1]
["2014-04-08","10:00:00","Build_Issued","Integration",1]
["2014-04-08","11:00:00","Build_Issued","Integration",1]
["2014-04-08","12:00:00","Build_Issued","Integration",1]
["2014-04-08","13:00:00","Build_Issued","Integration",1]
["2014-04-08","14:00:00","Build_Issued","Integration",1]
["2014-04-08","14:00:00","Build_Issued","Integration",1]
["2014-04-08","14:00:00","Build_Issued","Integration",1]
["2014-04-08","14:00:00","Build_Issued","Integration",1]
["2014-04-08","14:00:00","Build_Issued","Integration",1]
["2014-04-09","08:00:00","Kit_Created","Cable",1]
["2014-04-09","08:30:00","Build_Issued","Integration",1]
["2014-04-09","09:30:00","Kit_Created","Component",1]
["2014-04-09","09:30:00","Kit_Created","Component",1]
["2014-04-09","09:30:00","Kit_Created","Component",1]
["2014-04-09","09:30:00","Kit_Created","Component",1]
["2014-04-09","11:00:00","Build_Issued","Cable",1]
["2014-04-09","11:00:00","Build_Issued","Cable",1]
["2014-04-09","11:00:00","Build_Issued","Cable",1]
["2014-04-09","12:00:00","Kit_Created","Hardware",2]
["2014-04-09","12:00:00","Kit_Created","Hardware",2]
["2014-04-09","15:00:00","Kit_Created","Cable",1]
["2014-04-09","15:00:00","Kit_Created","Cable",1]
["2014-04-09","15:00:00","Kit_Created","Cable",1]
["2014-04-10","08:00:00","Kit_Created","Cable",1]
["2014-04-10","08:00:00","Build_Issued","Integration",1]
["2014-04-10","08:30:00","Kit_Created","Component",1]
["2014-04-10","09:30:00","Kit_Created","Component",1]
["2014-04-10","09:30:00","Kit_Created","Component",1]
["2014-04-10","09:30:00","Kit_Created","Component",1]
["2014-04-10","09:30:00","Build_Issued","Cable",1]
["2014-04-10","11:00:00","Build_Issued","Cable",1]
["2014-04-10","11:00:00","Build_Issued","Cable",1]
["2014-04-10","11:00:00","Kit_Created","Hardware",2]
["2014-04-10","12:00:00","Kit_Created","Hardware",2]
["2014-04-10","12:00:00","Kit_Created","Cable",1]
["2014-04-10","15:00:00","Kit_Created","Cable",1]
["2014-04-10","15:00:00","Kit_Created","Cable",1]
["2014-04-11","08:00:00","Kit_Created","Cable",1]
["2014-04-11","08:00:00","Build_Issued","Integration",1]
["2014-04-11","08:30:00","Kit_Created","Component",1]
["2014-04-11","09:30:00","Kit_Created","Component",1]
["2014-04-11","09:30:00","Kit_Created","Component",1]
["2014-04-11","09:30:00","Kit_Created","Component",1]
["2014-04-11","09:30:00","Build_Issued","Cable",1]
["2014-04-11","11:00:00","Build_Issued","Cable",1]
["2014-04-11","11:00:00","Build_Issued","Cable",1]
["2014-04-11","11:00:00","Kit_Created","Hardware",2]
["2014-04-11","12:00:00","Kit_Created","Hardware",2]
["2014-04-11","12:00:00","Kit_Created","Cable",1]
["2014-04-11","15:00:00","Kit_Created","Cable",1]
["2014-04-11","15:00:00","Kit_Created","Cable",1]
["2014-04-14","08:00:00","Kit_Created","Cable",1]
["2014-04-14","08:00:00","Build_Issued","Integration",1]
["2014-04-14","08:30:00","Kit_Created","Component",1]
["2014-04-14","09:30:00","Kit_Created","Component",1]
["2014-04-14","09:30:00","Kit_Created","Component",1]
["2014-04-14","09:30:00","Kit_Created","Component",1]
["2014-04-14","09:30:00","Build_Issued","Cable",1]
["2014-04-14","11:00:00","Build_Issued","Cable",1]
["2014-04-14","11:00:00","Build_Issued","Cable",1]
["2014-04-14","11:00:00","Kit_Created","Hardware",2]
["2014-04-14","12:00:00","Kit_Created","Hardware",2]
["2014-04-14","12:00:00","Kit_Created","Cable",1]
["2014-04-14","15:00:00","Kit_Created","Cable",1]
["2014-04-14","15:00:00","Kit_Created","Cable",1]
["2014-04-14","22:35:43","Kit_Created","Integration",2]
["2014-04-14","22:35:43","Kit_Created","Integration",2]
["2014-04-14","22:27:57","Kit_Created","Integration",5]
["2014-04-14","23:00:05","Build_Issued","Cable",2]
["2014-04-14","23:00:15","Kit_Created","Cable",5]
["2014-04-14","23:00:24","Build_Issued","Cable",2]
["2014-04-14","23:00:51","Build_Issued","Cable",2]
["2014-04-14","23:01:01","Build_Issued","Cable",2]
["2014-04-14","23:05:30","Build_Issued","Integration",2]

{"sheet":"Managers","index":7,"n_rows":3,"n_cols":1,"rows_kept":3,"cut":false,"hidden":false,"merged":[]}
["Name"]
["Kaleo Kim"]
["Aaron Kamiya"]

{"sheet":"Backup","index":8,"n_rows":71,"n_cols":12,"rows_kept":71,"cut":false,"hidden":false,"merged":[]}
["Hardware","19016-0006","Quick Disconnect, Female","F01F-7",138,68,14,56,{"$f":"SUM(F1:H1)","v":138},2,128,{"$f":"'Control Center'!$B$19*'Master Inventory'!J1","v":0}]
["Hardware","7113K11","22-18 AWG Ring Terminal #6 Screw Size","G01C-4",459,179,56,224,459,8,512,{"$f":"'Control Center'!$B$19*'Master Inventory'!J2","v":0}]
["Hardware","7113K13","16-14 AWG Ring Terminal 1/4\" Screw Size","G01C-5",153,73,14,56,143,2,128,{"$f":"'Control Center'!$B$19*'Master Inventory'!J3","v":0}]
["Hardware","7113K38","16-14 AWG Ring Terminal #8 Screw Size","G01C-2",67,22,7,28,57,1,64,{"$f":"'Control Center'!$B$19*'Master Inventory'!J4","v":0}]
["Hardware","7113K551","22-18 AWG Ring Terminal #8 Screw Size","G01C-6",559,279,56,224,559,8,512,{"$f":"'Control Center'!$B$19*'Master Inventory'!J5","v":{"$error":"#VALUE!"}}]
["Hardware","7113K553","22-18 AWG Ring Terminal 5/16\" Screw Size","G01C-3",524,244,56,224,524,8,512,{"$f":"'Control Center'!$B$19*'Master Inventory'!J6","v":40}]
["Hardware","7113K91","16-14 AWG Ring Terminal 5/16\" Screw Size","G01C-1",77,42,7,28,77,1,64,{"$f":"'Control Center'!$B$19*'Master Inventory'!J7","v":160}]
["Hardware","84735K12","Push-on Round High Temperature Cap, Fits 1/8\"-3/16\"","F01F-3",259,151,100,8,259,4,256,{"$f":"'Control Center'!$B$19*'Master Inventory'!J8","v":40}]
["Hardware","84735K13","Dock Carriage Bolt Caps, 3/16\"-1/4\" OD","F01F-4",373,265,100,8,373,4,256,{"$f":"'Control Center'!$B$19*'Master Inventory'!J9","v":20}]
["Hardware","90762A112","300 Series Stainless Steel Hex Nut 1/4\"-20 Thread Size","F01C-3",188,80,100,8,188,4,256,{"$f":"'Control Center'!$B$19*'Master Inventory'!J10","v":160}]
["Hardware","91240A005","Machine Screw Hex Nut, 4-40 Thread Size","F01C-6",94,40,50,4,94,2,128,{"$f":"'Control Center'!$B$19*'Master Inventory'!J11","v":160}]
["Hardware","91240A007","Machine Screw Hex Nut 6-32 Thread Sie","F01C-2",556,394,150,12,556,6,384,{"$f":"'Control Center'!$B$19*'Master Inventory'!J12","v":20}]
["Hardware","91240A009","Machine Screw Hex Nut 8-32 Thread Size","F01C-4",658,415,225,18,658,9,576,{"$f":"'Control Center'!$B$19*'Master Inventory'!J13","v":80}]
["Hardware","91400A146","Pan Head Philips Machine Screw 6-32 Thread, 3/8\"","F01E-3",67,40,25,2,67,1,64,{"$f":"'Control Center'!$B$19*'Master Inventory'!J14","v":80}]
["Hardware","91400A152","Pan Head Philips Machine Screw 6-32 Thread, 7/8\"","F01E-1",136,82,50,4,136,2,128,{"$f":"'Control Center'!$B$19*'Master Inventory'!J15","v":80}]
["Hardware","91475A018","Split Lock Washer #4 Screw Size","F01D-5",173,119,50,4,173,2,128,{"$f":"'Control Center'!$B$19*'Master Inventory'!J16","v":40}]
["Hardware","91475A020","Split Lock Washer #6 Screw Size","F01D-2",455,293,150,12,455,6,384,{"$f":"'Control Center'!$B$19*'Master Inventory'!J17","v":120}]
["Hardware","91475A029","Split Lock Washer 1/4\" Screw Size","F01D-3",225,117,100,8,225,4,256,{"$f":"'Control Center'!$B$19*'Master Inventory'!J18","v":180}]
["Hardware","91735A145","316 SS Pan Head Philips Screw, 6-32 Thread, 5/16\" Relay Screws","DIODES",200,200,0,0,200,2,0,{"$f":"'Control Center'!$B$19*'Master Inventory'!J19","v":20}]
["Hardware","92000A218","Pan Head Philips Machine Screw, M4 Size, 8MM Length","F01E-2",268,160,100,8,268,4,256,{"$f":"'Control Center'!$B$19*'Master Inventory'!J20","v":40}]
["Hardware","92319A666","Nylon 6/6 Female Threaded Hex Standoff, 1/4\" Hex, 1\" Length","G01E-5",90,36,50,4,90,2,128,{"$f":"'Control Center'!$B$19*'Master Inventory'!J21","v":40}]
["Hardware","92319A736","Female Threaded Hex Standoff, 8-32 5/16 x 2\", TB","G01E-4",32,0,28,4,32,2,128,{"$f":"'Control Center'!$B$19*'Master Inventory'!J22","v":120}]
["Hardware","93180A230","Round Head Square Neck Bolt Type 316, 1/4\"-20, 1-1/2\" Long","F01C-1",183,75,100,8,183,4,256,{"$f":"'Control Center'!$B$19*'Master Inventory'!J23","v":80}]
["Hardware","95584A209","5/16\" Star Washer, TB (2016)","F01E-5",585,288,275,22,585,11,704,{"$f":"'Control Center'!$B$19*'Master Inventory'!J24","v":40}]
["Hardware","97775A150","#6 Star Washer, Relay, GND (Case Bottom)","F01E-4",528,258,250,20,528,10,640,{"$f":"'Control Center'!$B$19*'Master Inventory'!J25","v":80}]
["Hardware","97775A220","#8 Star Washer, Relay, Diode, GND (Case Bottom)","F01E-6",1031,599,400,32,1031,16,1030,{"$f":"'Control Center'!$B$19*'Master Inventory'!J26","v":40}]
["Hardware","97775A260","#10 Star Washer, GND (Top Case)","INT. FLOOR",63,47,15,1,63,1,56,{"$f":"'Control Center'!$B$19*'Master Inventory'!J27","v":40}]
["Hardware","98019A310","300 Series Flat Washer #4 Size","F01D-7",276,222,50,4,276,2,128,{"$f":"'Control Center'!$B$19*'Master Inventory'!J28","v":80}]
["Hardware","98019A314","300 Series Flat Washer #6 Size","F01D-6",466,250,200,16,466,8,512,{"$f":"'Control Center'!$B$19*'Master Inventory'!J29","v":220}]
["Hardware","98019A325","300 Series Flat Washer #8 Size","F01D-1",909,693,200,16,909,8,512,{"$f":"'Control Center'!$B$19*'Master Inventory'!J30","v":200}]
["Hardware","98019A355","300 Series Flat Washer 1/4\" Size","F01D-4",263,155,100,8,263,4,256,{"$f":"'Control Center'!$B$19*'Master Inventory'!J31","v":320}]
["Hardware","OMAR-2761","Rubber Grommet, 1/2\" x 3/16\"x 13/16\" x 11/16\" x 7/16\"","G01E-6",62,30,28,4,62,2,128,{"$f":"'Control Center'!$B$19*'Master Inventory'!J32","v":20}]
["Cable","BTA-70781A","BB-2590, Isolated Pass Thru Assy","E03D",44,9,7,28,44,1,64,{"$f":"'Control Center'!$B$19*'Master Inventory'!J33","v":40}]
["Cable","BTC-70663","Charger Controller, Li ION","E02B",45,10,7,28,{"$f":"SUM(F34:H34)","v":45},1,64,{"$f":"'Control Center'!$B$19*'Master Inventory'!J34","v":160}]
["Cable","CBLIP-F00051","Bare Wire Input","G01A-1",68,33,7,28,68,1,64,{"$f":"'Control Center'!$B$19*'Master Inventory'!J35","v":160}]
["Cable","CBLOPF00691","CF-19 Power Cable","G01A-2",61,26,7,28,61,1,64,{"$f":"'Control Center'!$B$19*'Master Inventory'!J36","v":80}]
["Cable","CONN-BA5590-M","Battery Connector, Male","G02E",57,22,7,28,57,1,64,{"$f":"'Control Center'!$B$19*'Master Inventory'!J37","v":40}]
["Cable","D38999/32W15N","Power Connector Caps","G02E",86,16,14,56,86,2,128,{"$f":"'Control Center'!$B$19*'Master Inventory'!J38","v":20}]
["Cable","D38999/33W15N","Power Receptacle Cap","G03D",94,59,7,28,94,1,64,{"$f":"'Control Center'!$B$19*'Master Inventory'!J39","v":20}]
["Cable","HLG-150H-24A","AC/DC from Meanwell","Inc. QC",43,8,7,28,43,1,64,{"$f":"'Control Center'!$B$19*'Master Inventory'!J40","v":20}]
["Cable","M85049/38S15W","Power in Strain Relief","G03E",44,9,7,28,44,1,64,{"$f":"'Control Center'!$B$19*'Master Inventory'!J41","v":20}]
["Cable","M85049/79-15W04","Power Back Right Angle","G03B",86,16,14,56,86,2,128,{"$f":"'Control Center'!$B$19*'Master Inventory'!J42","v":20}]
["Cable","P7C16-06","6\" 16 AWG Power Cable","G02A-G03A",86,16,14,56,86,2,128,{"$f":"'Control Center'!$B$19*'Master Inventory'!J43","v":40}]
["Cable","TV07RW15-5P","Power in Receptacle","G03F",51,16,7,28,51,1,64,{"$f":"'Control Center'!$B$19*'Master Inventory'!J44","v":20}]
["Cable","TV06RW15-5S","Power In Connector","G03C",86,16,14,56,86,2,128,{"$f":"'Control Center'!$B$19*'Master Inventory'!J45","v":20}]
["Cable","WPCVR-USB-1394","USB Dust Cap","G02D",40,0,0,40,40,2,128,{"$f":"'Control Center'!$B$19*'Master Inventory'!J46","v":20}]
["Cable","WPUSBAX-1M","USB Water-proof Cable Bulkhead","G02C",82,12,14,56,82,2,128,{"$f":"'Control Center'!$B$19*'Master Inventory'!J47","v":40}]
["Component","12003A0502","Battery Charger Top Bracket","F01B",58,48,8,2,58,1,64,{"$f":"'Control Center'!$B$19*'Master Inventory'!J48","v":40}]
["Component","12003A0503","Battery Base Bracket","F02B-2",58,48,8,2,58,1,64,{"$f":"'Control Center'!$B$19*'Master Inventory'!J49","v":20}]
["Component","12003A0504","Battery Top Bracket","F02C",56,46,8,2,56,1,64,{"$f":"'Control Center'!$B$19*'Master Inventory'!J50","v":40}]
["Component","12003A0507","Docking Station Gasket","F02E",58,48,8,2,58,1,64,{"$f":"'Control Center'!$B$19*'Master Inventory'!J51","v":40}]
["Component","12003A0512","Lind Adapter Top Bracket","F02B-1",59,49,8,2,59,1,64,{"$f":"'Control Center'!$B$19*'Master Inventory'!J52","v":40}]
["Component","12003A0514","Docking Station Spacer","F01A",62,52,8,2,62,1,64,{"$f":"'Control Center'!$B$19*'Master Inventory'!J53","v":20}]
["Component","2016B","Dual Pole Bus Bar (Terminal Block)","F03D",34,24,8,2,34,1,64,{"$f":"'Control Center'!$B$19*'Master Inventory'!J54","v":20}]
["Component","7160-0264-00","Panasonic Ruggedized Docking Station","D01B-D03D",44,42,0,2,44,1,64,{"$f":"'Control Center'!$B$19*'Master Inventory'!J55","v":20}]
["Component","ANM-CAP01","N-Type Dust Cap","G03E",45,35,8,2,45,1,64,{"$f":"'Control Center'!$B$19*'Master Inventory'!J56","v":20}]
["Component","APT2X61D120J-ND","Diodes","F03D",54,44,8,2,54,1,64,{"$f":"'Control Center'!$B$19*'Master Inventory'!J57","v":20}]
["Component","AT-PEL-18135","Staff Kit Cases","B01A-C03D",52,50,0,2,52,1,64,{"$f":"'Control Center'!$B$19*'Master Inventory'!J58","v":20}]
["Component","AXA-NFNFB","N-Type Female Bulkhead","G03E",42,32,8,2,42,1,64,{"$f":"'Control Center'!$B$19*'Master Inventory'!J59","v":20}]
["Component","BT-70791A","Battery Lithium Ion","E03B",45,35,8,2,45,1,64,{"$f":"'Control Center'!$B$19*'Master Inventory'!J60","v":20}]
["Component","DC60SA7-B","Crydom Relay","F03E-2",71,61,8,2,71,1,64,{"$f":"'Control Center'!$B$19*'Master Inventory'!J61","v":20}]
["Component","KCA2ANA1BBB","Rocker Switch","F03F",48,38,8,2,48,1,64,{"$f":"'Control Center'!$B$19*'Master Inventory'!J62","v":20}]
["Component","LND-PA1650-1253","Lind Adapter","F02A",71,61,8,2,71,1,64,{"$f":"'Control Center'!$B$19*'Master Inventory'!J63","v":20}]
["Integration_HARD","90295A090","Nylon 6/6 General Purpose Flat Washer #6 Screw Size","F01F-6",177,177,0,0,177,2,128,{"$f":"'Control Center'!$B$19*'Master Inventory'!J64","v":20}]
["Integration_HARD","94701A223","Slotted PanHead Screw, #6-32 x 3/8\", Diode Cover","F01F-1",78,78,0,0,78,2,128,{"$f":"'Control Center'!$B$19*'Master Inventory'!J65","v":20}]
["Integration_HARD","94701A314","Slotted Panhead Screw, #8-32 x 3/8\", TB Cover","F01F-2",72,72,0,0,72,2,128,{"$f":"'Control Center'!$B$19*'Master Inventory'!J66","v":20}]
["Integration_HARD","95647A117","Wear-Resistant Delrin Acetal Flat Washer #8 Screw Size","F01F-5",127,127,0,0,127,2,128,{"$f":"'Control Center'!$B$19*'Master Inventory'!J67","v":20}]
["Integration_COMP","12003A0508","Docking Station Connector Gasket","F02F",57,57,0,0,57,1,64,{"$f":"'Control Center'!$B$19*'Master Inventory'!J68","v":20}]
["Integration_COMP","12003A0517","Terminal Block Cover","F03E",64,64,0,0,64,1,64,{"$f":"'Control Center'!$B$19*'Master Inventory'!J69","v":40}]
["Integration_COMP","12003A0522","Diode Cover","F03D-1",58,58,0,0,58,1,64,{"$f":"'Control Center'!$B$19*'Master Inventory'!J70","v":40}]
["Integration_COMP","KS100","Crydom Relay Cover","F03C",46,46,0,0,46,1,64,{"$f":"'Control Center'!$B$19*'Master Inventory'!J71","v":40}]