{"text_format":"1","workbook":"xlsx","n_sheets":4,"sheets":["4-6-2013","Team Totals","Raw Data","Matchup"],"not_rendered":{"charts":0,"images":0,"macros":1,"external_links":0,"defined_names":1,"comments":0,"pivot_tables":0},"unopened":[],"bounds":{"document_bytes":16777216,"sheet_cells":100000,"rows_first":2000,"rows_last":500,"rows_between":2000,"halvings":0,"cell_chars":16384,"cell_head_chars":4096},"cells_cut":0,"cells_raw":0,"read":"whole","date_system":"1900"}

{"sheet":"4-6-2013","index":0,"n_rows":83,"n_cols":33,"rows_kept":83,"cut":false,"hidden":false,"merged":[[18,0,18,16],[18,19,18,30],[37,0,37,10],[37,19,37,29]]}
["Team","GP*","FGM*","FGA*","FG%","FTM*","FTA*","FT%","3PTM","PTS","REB","AST","ST","BLK","TO",null,null,null,null,"Team","FG%","FT%","3PTM","PTS","REB","AST","ST","BLK","TO",null,null,null,0]
["Nets",885,4573,10040,0.4554780876494024,2089,2706,0.7719881744271988,887,12122,4172,2656,805,677,1598,null,null,null,null,"Nets",0.4554780876494024,0.7719881744271988,1.0022598870056496,13.697175141242937,4.7141242937853107,3.0011299435028249,0.90960451977401124,0.76497175141242935,1.8056497175141244,null,null,null,"2013-04-06"]
["Kings",884,3872,8570,0.45180863477246208,1971,2515,0.7836978131212724,667,10382,3777,2459,738,449,1451,null,null,null,null,"Kings",0.45180863477246208,0.7836978131212724,0.75452488687782804,11.744343891402714,4.2726244343891402,2.7816742081447963,0.83484162895927605,0.50791855203619907,1.6414027149321266]
["Clippers",963,4422,9142,0.48370159702472104,2220,3032,0.73218997361477578,702,11766,5272,2950,967,727,1800,null,null,null,null,"Clippers",0.48370159702472104,0.73218997361477578,0.7289719626168224,12.218068535825545,5.4745586708203531,3.063343717549325,1.0041536863966771,0.75493250259605404,1.8691588785046729]
["Trailblazers",943,4038,8994,0.44896597731821214,1742,2239,0.77802590442161679,917,10735,5109,3075,760,462,1706,null,null,null,null,"Trailblazers",0.44896597731821214,0.77802590442161679,0.9724284199363733,11.38388123011665,5.4178154825026512,3.2608695652173911,0.80593849416755037,0.48992576882290562,1.8091198303287381]
["Hawks",946,4360,9604,0.45397750937109538,1942,2527,0.76850019786307877,796,11458,4464,2376,869,466,1440,null,null,null,null,"Hawks",0.45397750937109538,0.76850019786307877,0.84143763213530653,12.112050739957716,4.7188160676532771,2.5116279069767442,0.91860465116279066,0.492600422832981,1.522198731501057]
["Celtics",936,4172,9171,0.45491222331261583,1798,2348,0.76575809199318567,683,10825,4840,2469,958,821,1612,null,null,null,null,"Celtics",0.45491222331261583,0.76575809199318567,0.72970085470085466,11.56517094017094,5.1709401709401712,2.6378205128205128,1.0235042735042734,0.87713675213675213,1.7222222222222223]
["Nuggets",870,4033,8941,0.45106811318644446,1780,2359,0.75455701568461209,761,10607,4162,2074,757,467,1501,null,null,null,null,"Nuggets",0.45106811318644446,0.75455701568461209,0.87471264367816093,12.191954022988506,4.7839080459770118,2.3839080459770114,0.87011494252873567,0.5367816091954023,1.7252873563218392]
["Thunder",928,4958,10579,0.46866433500330845,2237,2796,0.80007153075822601,713,12866,4387,2586,840,493,1605,null,null,null,null,"Thunder",0.46866433500330845,0.80007153075822601,0.76831896551724133,13.864224137931034,4.7273706896551726,2.7866379310344827,0.90517241379310343,0.53125,1.7295258620689655]
["Warriors",911,4890,10708,0.45666791184161376,2272,2970,0.76498316498316499,679,12731,4869,2627,1059,412,1726,null,null,null,null,"Warriors",0.45666791184161376,0.76498316498316499,0.74533479692645443,13.974753018660813,5.3446761800219535,2.8836443468715696,1.1624588364434687,0.45225027442371019,1.8946212952799122]
["Knicks",971,4178,9223,0.45299793993277676,2300,3191,0.72077718583516137,839,11495,5042,2056,898,519,1511,null,null,null,null,"Knicks",0.45299793993277676,0.72077718583516137,0.8640576725025747,11.838311019567456,5.1925849639546859,2.11740473738414,0.92481977342945421,0.53450051493305872,1.5561277033985581]
["Mavericks",846,3087,6956,0.44378953421506612,1114,1425,0.78175438596491231,934,8222,3238,2159,604,395,1075,null,null,null,null,"Mavericks",0.44378953421506612,0.78175438596491231,1.1040189125295508,9.7186761229314413,3.8274231678486998,2.5520094562647753,0.71394799054373526,0.46690307328605202,1.2706855791962175]
["Heat",949,4851,10609,0.45725327552078426,2361,3010,0.78438538205980068,868,12931,5480,3082,981,483,1764,null,null,null,null,"Heat",0.45725327552078426,0.78438538205980068,0.9146469968387777,13.625922023182298,5.7744994731296098,3.2476290832455215,1.0337197049525817,0.50895679662802951,1.8587987355110642]
["Jazz",811,3887,8397,0.46290341788734074,1670,2257,0.73992024811696944,563,10007,3784,2426,777,515,1411,null,null,null,null,"Jazz",0.46290341788734074,0.73992024811696944,0.69420468557336623,12.339087546239211,4.6658446362515411,2.9913686806411839,0.95807644882860665,0.63501849568434032,1.7398273736128236]
["Bulls",817,3667,7843,0.4675506821369374,2011,2560,0.78554687499999998,658,10003,4076,1945,708,607,1378,null,null,null,null,"Bulls",0.4675506821369374,0.78554687499999998,0.8053855569155447,12.243574051407588,4.9889840881272951,2.3806609547123623,0.8665850673194615,0.74296205630354961,1.6866585067319462]
["Suns",916,4125,9032,0.45670947741364037,1640,2129,0.77031470173790517,1112,11002,4157,2562,730,558,1482,null,null,null,null,"Suns",0.45670947741364037,0.77031470173790517,1.2139737991266375,12.010917030567686,4.5382096069868991,2.7969432314410478,0.79694323144104806,0.60917030567685593,1.6179039301310043]
["Lakers",1002,4169,8788,0.47439690487027764,2248,2916,0.77091906721536352,630,11216,5566,2141,1095,859,1485,null,null,null,null,"Lakers",0.47439690487027764,0.77091906721536352,0.62874251497005984,11.193612774451097,5.5548902195608783,2.1367265469061878,1.0928143712574849,0.85728542914171657,1.4820359281437125]
[]
["Ranks",null,null,null,null,null,null,null,null,null,null,null,null,null,null,null,null,null,null,"Ranks (per game played)"]
["Team",null,null,null,"FG%",null,null,"FT%","3PTM","PTS","REB","AST","ST","BLK","TO","Total","Rank",null,null,"Team","FG%","FT%","3PTM","PTS","REB","AST","ST","BLK","TO","Total","Rank"]
["Heat",null,null,null,6,null,null,3,5,1,2,1,3,10,15,46,1,null,null,"Heat",6,3,5,4,1,2,3,11,14,49,1]
["Lakers",null,null,null,2,null,null,8,15,8,1,13,1,1,7,56,2,null,null,"Nets",9,7,3,3,12,4,9,3,12,62,2]
["Thunder",null,null,null,3,null,null,1,9,2,9,6,8,9,11,58,3,null,null,"Thunder",3,1,10,2,10,8,10,10,10,64,3]
["Clippers",null,null,null,1,null,null,15,10,5,3,3,4,3,16,60,4,null,null,"Lakers",2,8,16,15,2,15,2,2,2,64,3]
["Nets",null,null,null,9,null,null,7,4,4,10,4,9,4,10,61,5,null,null,"Clippers",1,15,14,7,3,3,5,4,15,67,5]
["Suns",null,null,null,7,null,null,9,1,9,12,7,14,6,6,71,6,null,null,"Bulls",4,2,9,6,8,14,12,5,7,67,5]
["Celtics",null,null,null,10,null,null,11,11,10,7,8,5,2,12,76,7,null,null,"Suns",7,9,1,10,14,7,15,7,5,75,7]
["Hawks",null,null,null,11,null,null,10,7,7,8,11,7,12,4,77,8,null,null,"Warriors",8,12,12,1,5,6,1,16,16,77,8]
["Warriors",null,null,null,8,null,null,12,12,3,6,5,2,15,14,77,8,null,null,"Celtics",10,11,13,13,7,10,4,1,8,77,8]
["Trailblazers",null,null,null,15,null,null,6,3,11,4,2,11,13,13,78,10,null,null,"Jazz",5,14,15,5,13,5,6,6,11,80,10]
["Knicks",null,null,null,12,null,null,16,6,6,5,15,6,7,9,82,11,null,null,"Hawks",11,10,8,9,11,12,8,13,3,85,11]
["Bulls",null,null,null,4,null,null,2,14,15,13,16,15,5,2,86,12,null,null,"Trailblazers",15,6,4,14,4,1,14,14,13,85,11]
["Jazz",null,null,null,5,null,null,14,16,14,14,10,10,8,3,94,13,null,null,"Knicks",12,16,7,11,6,16,7,9,4,88,13]
["Kings",null,null,null,13,null,null,4,13,13,15,9,13,14,5,99,14,null,null,"Nuggets",14,13,6,8,9,13,11,8,9,91,14]
["Mavericks",null,null,null,16,null,null,5,2,16,16,12,16,16,1,100,15,null,null,"Kings",13,4,11,12,15,9,13,12,6,95,15]
["Nuggets",null,null,null,14,null,null,13,8,12,11,14,12,11,8,103,16,null,null,"Mavericks",16,5,2,16,16,11,16,15,1,98,16]
[]
["Matchups",null,null,null,null,null,null,null,null,null,null,null,null,null,null,null,null,null,null,"Matchups (per game played)"]
["Team","FG%","FT%","3PTM","PTS","REB","AST","ST","BLK","TO","Score",null,null,null,null,null,null,null,null,"Team","FG%","FT%","3PTM","PTS","REB","AST","ST","BLK","TO","Score"]
["Lakers",0.47439690487027764,0.77091906721536352,630,11216,5566,2141,1095,859,1485,5,null,null,null,null,null,null,null,null,"Lakers",0.47439690487027764,0.77091906721536352,0.62874251497005984,11.193612774451097,5.5548902195608783,2.1367265469061878,1.0928143712574849,0.85728542914171657,1.4820359281437125,5]
["Nets",0.4554780876494024,0.7719881744271988,887,12122,4172,2656,805,677,1598,4,null,null,null,null,null,null,null,null,"Nets",0.4554780876494024,0.7719881744271988,1.0022598870056496,13.697175141242937,4.7141242937853107,3.0011299435028249,0.90960451977401124,0.76497175141242935,1.8056497175141244,4]
[]
["Lakers",0.47439690487027764,0.77091906721536352,630,11216,5566,2141,1095,859,1485,5,null,null,null,null,null,null,null,null,"Lakers",0.47439690487027764,0.77091906721536352,0.62874251497005984,11.193612774451097,5.5548902195608783,2.1367265469061878,1.0928143712574849,0.85728542914171657,1.4820359281437125,5]
["Kings",0.45180863477246208,0.7836978131212724,667,10382,3777,2459,738,449,1451,4,null,null,null,null,null,null,null,null,"Kings",0.45180863477246208,0.7836978131212724,0.75452488687782804,11.744343891402714,4.2726244343891402,2.7816742081447963,0.83484162895927605,0.50791855203619907,1.6414027149321266,4]
[]
["Lakers",0.47439690487027764,0.77091906721536352,630,11216,5566,2141,1095,859,1485,5,null,null,null,null,null,null,null,null,"Lakers",0.47439690487027764,0.77091906721536352,0.62874251497005984,11.193612774451097,5.5548902195608783,2.1367265469061878,1.0928143712574849,0.85728542914171657,1.4820359281437125,5]
["Clippers",0.48370159702472104,0.73218997361477578,702,11766,5272,2950,967,727,1800,4,null,null,null,null,null,null,null,null,"Clippers",0.48370159702472104,0.73218997361477578,0.7289719626168224,12.218068535825545,5.4745586708203531,3.063343717549325,1.0041536863966771,0.75493250259605404,1.8691588785046729,4]
[]
["Lakers",0.47439690487027764,0.77091906721536352,630,11216,5566,2141,1095,859,1485,6,null,null,null,null,null,null,null,null,"Lakers",0.47439690487027764,0.77091906721536352,0.62874251497005984,11.193612774451097,5.5548902195608783,2.1367265469061878,1.0928143712574849,0.85728542914171657,1.4820359281437125,5]
["Trailblazers",0.44896597731821214,0.77802590442161679,917,10735,5109,3075,760,462,1706,3,null,null,null,null,null,null,null,null,"Trailblazers",0.44896597731821214,0.77802590442161679,0.9724284199363733,11.38388123011665,5.4178154825026512,3.2608695652173911,0.80593849416755037,0.48992576882290562,1.8091198303287381,4]
[]
["Lakers",0.47439690487027764,0.77091906721536352,630,11216,5566,2141,1095,859,1485,5,null,null,null,null,null,null,null,null,"Lakers",0.47439690487027764,0.77091906721536352,0.62874251497005984,11.193612774451097,5.5548902195608783,2.1367265469061878,1.0928143712574849,0.85728542914171657,1.4820359281437125,6]
["Hawks",0.45397750937109538,0.76850019786307877,796,11458,4464,2376,869,466,1440,4,null,null,null,null,null,null,null,null,"Hawks",0.45397750937109538,0.76850019786307877,0.84143763213530653,12.112050739957716,4.7188160676532771,2.5116279069767442,0.91860465116279066,0.492600422832981,1.522198731501057,3]
[]
["Lakers",0.47439690487027764,0.77091906721536352,630,11216,5566,2141,1095,859,1485,7,null,null,null,null,null,null,null,null,"Lakers",0.47439690487027764,0.77091906721536352,0.62874251497005984,11.193612774451097,5.5548902195608783,2.1367265469061878,1.0928143712574849,0.85728542914171657,1.4820359281437125,5]
["Celtics",0.45491222331261583,0.76575809199318567,683,10825,4840,2469,958,821,1612,2,null,null,null,null,null,null,null,null,"Celtics",0.45491222331261583,0.76575809199318567,0.72970085470085466,11.56517094017094,5.1709401709401712,2.6378205128205128,1.0235042735042734,0.87713675213675213,1.7222222222222223,4]
[]
["Lakers",0.47439690487027764,0.77091906721536352,630,11216,5566,2141,1095,859,1485,8,null,null,null,null,null,null,null,null,"Lakers",0.47439690487027764,0.77091906721536352,0.62874251497005984,11.193612774451097,5.5548902195608783,2.1367265469061878,1.0928143712574849,0.85728542914171657,1.4820359281437125,6]
["Nuggets",0.45106811318644446,0.75455701568461209,761,10607,4162,2074,757,467,1501,1,null,null,null,null,null,null,null,null,"Nuggets",0.45106811318644446,0.75455701568461209,0.87471264367816093,12.191954022988506,4.7839080459770118,2.3839080459770114,0.87011494252873567,0.5367816091954023,1.7252873563218392,3]
[]
["Lakers",0.47439690487027764,0.77091906721536352,630,11216,5566,2141,1095,859,1485,5,null,null,null,null,null,null,null,null,"Lakers",0.47439690487027764,0.77091906721536352,0.62874251497005984,11.193612774451097,5.5548902195608783,2.1367265469061878,1.0928143712574849,0.85728542914171657,1.4820359281437125,5]
["Thunder",0.46866433500330845,0.80007153075822601,713,12866,4387,2586,840,493,1605,4,null,null,null,null,null,null,null,null,"Thunder",0.46866433500330845,0.80007153075822601,0.76831896551724133,13.864224137931034,4.7273706896551726,2.7866379310344827,0.90517241379310343,0.53125,1.7295258620689655,4]
[]
["Lakers",0.47439690487027764,0.77091906721536352,630,11216,5566,2141,1095,859,1485,6,null,null,null,null,null,null,null,null,"Lakers",0.47439690487027764,0.77091906721536352,0.62874251497005984,11.193612774451097,5.5548902195608783,2.1367265469061878,1.0928143712574849,0.85728542914171657,1.4820359281437125,5]
["Warriors",0.45666791184161376,0.76498316498316499,679,12731,4869,2627,1059,412,1726,3,null,null,null,null,null,null,null,null,"Warriors",0.45666791184161376,0.76498316498316499,0.74533479692645443,13.974753018660813,5.3446761800219535,2.8836443468715696,1.1624588364434687,0.45225027442371019,1.8946212952799122,4]
[]
["Lakers",0.47439690487027764,0.77091906721536352,630,11216,5566,2141,1095,859,1485,7,null,null,null,null,null,null,null,null,"Lakers",0.47439690487027764,0.77091906721536352,0.62874251497005984,11.193612774451097,5.5548902195608783,2.1367265469061878,1.0928143712574849,0.85728542914171657,1.4820359281437125,7]
["Knicks",0.45299793993277676,0.72077718583516137,839,11495,5042,2056,898,519,1511,2,null,null,null,null,null,null,null,null,"Knicks",0.45299793993277676,0.72077718583516137,0.8640576725025747,11.838311019567456,5.1925849639546859,2.11740473738414,0.92481977342945421,0.53450051493305872,1.5561277033985581,2]
[]
["Lakers",0.47439690487027764,0.77091906721536352,630,11216,5566,2141,1095,859,1485,5,null,null,null,null,null,null,null,null,"Lakers",0.47439690487027764,0.77091906721536352,0.62874251497005984,11.193612774451097,5.5548902195608783,2.1367265469061878,1.0928143712574849,0.85728542914171657,1.4820359281437125,5]
["Mavericks",0.44378953421506612,0.78175438596491231,934,8222,3238,2159,604,395,1075,4,null,null,null,null,null,null,null,null,"Mavericks",0.44378953421506612,0.78175438596491231,1.1040189125295508,9.7186761229314413,3.8274231678486998,2.5520094562647753,0.71394799054373526,0.46690307328605202,1.2706855791962175,4]
[]
["Lakers",0.47439690487027764,0.77091906721536352,630,11216,5566,2141,1095,859,1485,5,null,null,null,null,null,null,null,null,"Lakers",0.47439690487027764,0.77091906721536352,0.62874251497005984,11.193612774451097,5.5548902195608783,2.1367265469061878,1.0928143712574849,0.85728542914171657,1.4820359281437125,4]
["Heat",0.45725327552078426,0.78438538205980068,868,12931,5480,3082,981,483,1764,4,null,null,null,null,null,null,null,null,"Heat",0.45725327552078426,0.78438538205980068,0.9146469968387777,13.625922023182298,5.7744994731296098,3.2476290832455215,1.0337197049525817,0.50895679662802951,1.8587987355110642,5]
[]
["Lakers",0.47439690487027764,0.77091906721536352,630,11216,5566,2141,1095,859,1485,7,null,null,null,null,null,null,null,null,"Lakers",0.47439690487027764,0.77091906721536352,0.62874251497005984,11.193612774451097,5.5548902195608783,2.1367265469061878,1.0928143712574849,0.85728542914171657,1.4820359281437125,6]
["Jazz",0.46290341788734074,0.73992024811696944,563,10007,3784,2426,777,515,1411,2,null,null,null,null,null,null,null,null,"Jazz",0.46290341788734074,0.73992024811696944,0.69420468557336623,12.339087546239211,4.6658446362515411,2.9913686806411839,0.95807644882860665,0.63501849568434032,1.7398273736128236,3]
[]
["Lakers",0.47439690487027764,0.77091906721536352,630,11216,5566,2141,1095,859,1485,6,null,null,null,null,null,null,null,null,"Lakers",0.47439690487027764,0.77091906721536352,0.62874251497005984,11.193612774451097,5.5548902195608783,2.1367265469061878,1.0928143712574849,0.85728542914171657,1.4820359281437125,5]
["Bulls",0.4675506821369374,0.78554687499999998,658,10003,4076,1945,708,607,1378,3,null,null,null,null,null,null,null,null,"Bulls",0.4675506821369374,0.78554687499999998,0.8053855569155447,12.243574051407588,4.9889840881272951,2.3806609547123623,0.8665850673194615,0.74296205630354961,1.6866585067319462,4]
[]
["Lakers",0.47439690487027764,0.77091906721536352,630,11216,5566,2141,1095,859,1485,6,null,null,null,null,null,null,null,null,"Lakers",0.47439690487027764,0.77091906721536352,0.62874251497005984,11.193612774451097,5.5548902195608783,2.1367265469061878,1.0928143712574849,0.85728542914171657,1.4820359281437125,6]
["Suns",0.45670947741364037,0.77031470173790517,1112,11002,4157,2562,730,558,1482,3,null,null,null,null,null,null,null,null,"Suns",0.45670947741364037,0.77031470173790517,1.2139737991266375,12.010917030567686,4.5382096069868991,2.7969432314410478,0.79694323144104806,0.60917030567685593,1.6179039301310043,3]

{"sheet":"Team Totals","index":1,"n_rows":83,"n_cols":33,"rows_kept":83,"cut":false,"hidden":false,"merged":[[18,0,18,16],[18,19,18,30],[37,19,37,29],[37,0,37,10]]}
["Team","GP*","FGM*","FGA*","FG%","FTM*","FTA*","FT%","3PTM","PTS","REB","AST","ST","BLK","TO",null,null,null,null,"Team","FG%","FT%","3PTM","PTS","REB","AST","ST","BLK","TO",null,null,"My Team #:",16]
["Nets",{"$f":"SUM('Raw Data'!C2:C15)","v":939},{"$f":"SUM('Raw Data'!D2:D15)","v":4880},{"$f":"SUM('Raw Data'!E2:E15)","v":10678},{"$f":"C2/D2","v":0.45701442217643756},{"$f":"SUM('Raw Data'!F2:F15)","v":2232},{"$f":"SUM('Raw Data'!G2:G15)","v":2896},{"$f":"F2/G2","v":0.77071823204419887},{"$f":"SUM('Raw Data'!H2:H15)","v":952},{"$f":"SUM('Raw Data'!I2:I15)","v":12944},{"$f":"SUM('Raw Data'!J2:J15)","v":4411},{"$f":"SUM('Raw Data'!K2:K15)","v":2825},{"$f":"SUM('Raw Data'!L2:L15)","v":856},{"$f":"SUM('Raw Data'!M2:M15)","v":717},{"$f":"SUM('Raw Data'!N2:N15)","v":1695},null,null,null,null,{"$f":"A2","v":"Nets"},{"$f":"E2","v":0.45701442217643756},{"$f":"H2","v":0.77071823204419887},{"$f":"I2/$B2","v":1.0138445154419595},{"$f":"J2/$B2","v":13.784877529286476},4.6975505857294992,3.0085197018104366,0.91160809371671991,0.76357827476038342,1.805111821086262,null,null,"Date Updated:","2013-04-15"]
["Kings",{"$f":"SUM('Raw Data'!C17:C30)","v":924},{"$f":"SUM('Raw Data'!D17:D30)","v":4025},{"$f":"SUM('Raw Data'!E17:E30)","v":8915},{"$f":"C3/D3","v":0.45148625911385304},{"$f":"SUM('Raw Data'!F17:F30)","v":2094},{"$f":"SUM('Raw Data'!G17:G30)","v":2668},{"$f":"F3/G3","v":0.78485757121439281},{"$f":"SUM('Raw Data'!H17:H30)","v":697},{"$f":"SUM('Raw Data'!I17:I30)","v":10841},{"$f":"SUM('Raw Data'!J17:J30)","v":3948},{"$f":"SUM('Raw Data'!K17:K30)","v":2556},{"$f":"SUM('Raw Data'!L17:L30)","v":777},{"$f":"SUM('Raw Data'!M17:M30)","v":472},{"$f":"SUM('Raw Data'!N17:N30)","v":1509},null,null,null,null,"Kings",{"$f":"E3","v":0.45148625911385304},{"$f":"H3","v":0.78485757121439281},{"$f":"I3/$B3","v":0.75432900432900429},11.732683982683982,4.2727272727272725,2.7662337662337664,0.84090909090909094,0.51082251082251084,1.6331168831168832]
["Clippers",{"$f":"SUM('Raw Data'!C32:C45)","v":1012},{"$f":"SUM('Raw Data'!D32:D45)","v":4664},{"$f":"SUM('Raw Data'!E32:E45)","v":9639},0.48386762112252307,{"$f":"SUM('Raw Data'!F32:F45)","v":2354},{"$f":"SUM('Raw Data'!G32:G45)","v":3201},0.73539518900343648,{"$f":"SUM('Raw Data'!H32:H45)","v":737},{"$f":"SUM('Raw Data'!I32:I45)","v":12419},{"$f":"SUM('Raw Data'!J32:J45)","v":5577},{"$f":"SUM('Raw Data'!K32:K45)","v":3144},{"$f":"SUM('Raw Data'!L32:L45)","v":1025},{"$f":"SUM('Raw Data'!M32:M45)","v":761},{"$f":"SUM('Raw Data'!N32:N45)","v":1903},null,null,null,null,"Clippers",0.48386762112252307,0.73539518900343648,0.72826086956521741,12.271739130434783,5.5108695652173916,3.1067193675889326,1.0128458498023716,0.75197628458498023,1.8804347826086956]
["Trailblazers",{"$f":"SUM('Raw Data'!C47:C60)","v":992},{"$f":"SUM('Raw Data'!D47:D60)","v":4240},{"$f":"SUM('Raw Data'!E47:E60)","v":9481},0.44721020989347116,{"$f":"SUM('Raw Data'!F47:F60)","v":1825},{"$f":"SUM('Raw Data'!G47:G60)","v":2350},0.77659574468085102,{"$f":"SUM('Raw Data'!H47:H60)","v":960},{"$f":"SUM('Raw Data'!I47:I60)","v":11265},{"$f":"SUM('Raw Data'!J47:J60)","v":5425},{"$f":"SUM('Raw Data'!K47:K60)","v":3203},{"$f":"SUM('Raw Data'!L47:L60)","v":808},{"$f":"SUM('Raw Data'!M47:M60)","v":483},{"$f":"SUM('Raw Data'!N47:N60)","v":1764},null,null,null,null,"Trailblazers",0.44721020989347116,0.77659574468085102,0.967741935483871,11.355846774193548,5.46875,3.2288306451612905,0.81451612903225812,0.48689516129032256,1.778225806451613]
["Hawks",{"$f":"SUM('Raw Data'!C62:C75)","v":992},{"$f":"SUM('Raw Data'!D62:D75)","v":4550},{"$f":"SUM('Raw Data'!E62:E75)","v":10005},0.45477261369315342,{"$f":"SUM('Raw Data'!F62:F75)","v":2013},{"$f":"SUM('Raw Data'!G62:G75)","v":2630},0.76539923954372624,{"$f":"SUM('Raw Data'!H62:H75)","v":830},{"$f":"SUM('Raw Data'!I62:I75)","v":11943},{"$f":"SUM('Raw Data'!J62:J75)","v":4685},{"$f":"SUM('Raw Data'!K62:K75)","v":2509},{"$f":"SUM('Raw Data'!L62:L75)","v":901},{"$f":"SUM('Raw Data'!M62:M75)","v":484},{"$f":"SUM('Raw Data'!N62:N75)","v":1514},null,null,null,null,"Hawks",0.45477261369315342,0.76539923954372624,0.83669354838709675,12.039314516129032,4.722782258064516,2.529233870967742,0.90826612903225812,0.48790322580645162,1.5262096774193548]
["Celtics",{"$f":"SUM('Raw Data'!C77:C90)","v":986},{"$f":"SUM('Raw Data'!D77:D90)","v":4414},{"$f":"SUM('Raw Data'!E77:E90)","v":9666},0.45665218290916615,{"$f":"SUM('Raw Data'!F77:F90)","v":1884},{"$f":"SUM('Raw Data'!G77:G90)","v":2456},0.76710097719869708,{"$f":"SUM('Raw Data'!H77:H90)","v":726},{"$f":"SUM('Raw Data'!I77:I90)","v":11438},{"$f":"SUM('Raw Data'!J77:J90)","v":5068},{"$f":"SUM('Raw Data'!K77:K90)","v":2574},{"$f":"SUM('Raw Data'!L77:L90)","v":1003},{"$f":"SUM('Raw Data'!M77:M90)","v":865},{"$f":"SUM('Raw Data'!N77:N90)","v":1687},null,null,null,null,"Celtics",0.45665218290916615,0.76710097719869708,0.73630831643002026,11.600405679513184,5.1399594320486814,2.6105476673427992,1.0172413793103448,0.87728194726166331,1.7109533468559839]
["Nuggets",{"$f":"SUM('Raw Data'!C92:C105)","v":914},{"$f":"SUM('Raw Data'!D92:D105)","v":4234},{"$f":"SUM('Raw Data'!E92:E105)","v":9400},0.4504255319148936,{"$f":"SUM('Raw Data'!F92:F105)","v":1882},{"$f":"SUM('Raw Data'!G92:G105)","v":2482},0.75825946817083001,{"$f":"SUM('Raw Data'!H92:H105)","v":805},{"$f":"SUM('Raw Data'!I92:I105)","v":11155},{"$f":"SUM('Raw Data'!J92:J105)","v":4375},{"$f":"SUM('Raw Data'!K92:K105)","v":2177},{"$f":"SUM('Raw Data'!L92:L105)","v":795},{"$f":"SUM('Raw Data'!M92:M105)","v":501},{"$f":"SUM('Raw Data'!N92:N105)","v":1574},null,null,null,null,"Nuggets",0.4504255319148936,0.75825946817083001,0.88074398249452956,12.204595185995624,4.7866520787746172,2.3818380743982495,0.86980306345733038,0.5481400437636762,1.7221006564551422]
["Thunder",{"$f":"SUM('Raw Data'!C107:C120)","v":973},{"$f":"SUM('Raw Data'!D107:D120)","v":5216},{"$f":"SUM('Raw Data'!E107:E120)","v":11144},0.46805455850681982,{"$f":"SUM('Raw Data'!F107:F120)","v":2342},{"$f":"SUM('Raw Data'!G107:G120)","v":2921},0.80178021225607665,{"$f":"SUM('Raw Data'!H107:H120)","v":755},{"$f":"SUM('Raw Data'!I107:I120)","v":13529},{"$f":"SUM('Raw Data'!J107:J120)","v":4642},{"$f":"SUM('Raw Data'!K107:K120)","v":2733},{"$f":"SUM('Raw Data'!L107:L120)","v":876},{"$f":"SUM('Raw Data'!M107:M120)","v":510},{"$f":"SUM('Raw Data'!N107:N120)","v":1691},null,null,null,null,"Thunder",0.46805455850681982,0.80178021225607665,0.77595066803699897,13.904419321685509,4.7708119218910587,2.8088386433710175,0.90030832476875644,0.52415210688591984,1.7379239465570402]
["Warriors",{"$f":"SUM('Raw Data'!C122:C135)","v":971},{"$f":"SUM('Raw Data'!D122:D135)","v":5220},{"$f":"SUM('Raw Data'!E122:E135)","v":11462},0.4554179026347932,{"$f":"SUM('Raw Data'!F122:F135)","v":2424},{"$f":"SUM('Raw Data'!G122:G135)","v":3173},0.76394579262527573,{"$f":"SUM('Raw Data'!H122:H135)","v":719},{"$f":"SUM('Raw Data'!I122:I135)","v":13583},{"$f":"SUM('Raw Data'!J122:J135)","v":5202},{"$f":"SUM('Raw Data'!K122:K135)","v":2810},{"$f":"SUM('Raw Data'!L122:L135)","v":1148},{"$f":"SUM('Raw Data'!M122:M135)","v":435},{"$f":"SUM('Raw Data'!N122:N135)","v":1839},null,null,null,null,"Warriors",0.4554179026347932,0.76394579262527573,0.74047373841400621,13.988671472708548,5.3573635427394439,2.893923789907312,1.1822863027806385,0.44799176107106076,1.893923789907312]
["Knicks",{"$f":"SUM('Raw Data'!C137:C150)","v":1026},{"$f":"SUM('Raw Data'!D137:D150)","v":4400},{"$f":"SUM('Raw Data'!E137:E150)","v":9711},0.45309442899804347,{"$f":"SUM('Raw Data'!F137:F150)","v":2426},{"$f":"SUM('Raw Data'!G137:G150)","v":3380},0.71775147928994087,{"$f":"SUM('Raw Data'!H137:H150)","v":876},{"$f":"SUM('Raw Data'!I137:I150)","v":12102},{"$f":"SUM('Raw Data'!J137:J150)","v":5302},{"$f":"SUM('Raw Data'!K137:K150)","v":2182},{"$f":"SUM('Raw Data'!L137:L150)","v":941},{"$f":"SUM('Raw Data'!M137:M150)","v":543},{"$f":"SUM('Raw Data'!N137:N150)","v":1584},null,null,null,null,"Knicks",0.45309442899804347,0.71775147928994087,0.85380116959064323,11.7953216374269,5.1676413255360627,2.1267056530214425,0.9171539961013645,0.5292397660818714,1.5438596491228069]
["Mavericks",{"$f":"SUM('Raw Data'!C152:C165)","v":887},{"$f":"SUM('Raw Data'!D152:D165)","v":3257},{"$f":"SUM('Raw Data'!E152:E165)","v":7341},0.44367252417926711,{"$f":"SUM('Raw Data'!F152:F165)","v":1194},{"$f":"SUM('Raw Data'!G152:G165)","v":1522},0.78449408672798948,{"$f":"SUM('Raw Data'!H152:H165)","v":981},{"$f":"SUM('Raw Data'!I152:I165)","v":8689},{"$f":"SUM('Raw Data'!J152:J165)","v":3410},{"$f":"SUM('Raw Data'!K152:K165)","v":2272},{"$f":"SUM('Raw Data'!L152:L165)","v":634},{"$f":"SUM('Raw Data'!M152:M165)","v":412},{"$f":"SUM('Raw Data'!N152:N165)","v":1138},null,null,null,null,"Mavericks",0.44367252417926711,0.78449408672798948,1.1059751972942502,9.7959413754227729,3.8444193912063134,2.5614430665163472,0.71476888387824122,0.46448703494926719,1.2829763246899661]
["Heat",{"$f":"SUM('Raw Data'!C167:C180)","v":1000},{"$f":"SUM('Raw Data'!D167:D180)","v":5112},{"$f":"SUM('Raw Data'!E167:E180)","v":11212},0.45594006421691047,{"$f":"SUM('Raw Data'!F167:F180)","v":2510},{"$f":"SUM('Raw Data'!G167:G180)","v":3200},0.78437500000000004,{"$f":"SUM('Raw Data'!H167:H180)","v":918},{"$f":"SUM('Raw Data'!I167:I180)","v":13652},{"$f":"SUM('Raw Data'!J167:J180)","v":5735},{"$f":"SUM('Raw Data'!K167:K180)","v":3281},{"$f":"SUM('Raw Data'!L167:L180)","v":1035},{"$f":"SUM('Raw Data'!M167:M180)","v":516},{"$f":"SUM('Raw Data'!N167:N180)","v":1854},null,null,null,null,"Heat",0.45594006421691047,0.78437500000000004,0.91800000000000004,13.651999999999999,5.7350000000000003,3.2810000000000001,1.0349999999999999,0.51600000000000001,1.8540000000000001]
["Jazz",{"$f":"SUM('Raw Data'!C182:C195)","v":854},{"$f":"SUM('Raw Data'!D182:D195)","v":4129},{"$f":"SUM('Raw Data'!E182:E195)","v":8915},0.46315199102636007,{"$f":"SUM('Raw Data'!F182:F195)","v":1793},{"$f":"SUM('Raw Data'!G182:G195)","v":2415},0.74244306418219463,{"$f":"SUM('Raw Data'!H182:H195)","v":618},{"$f":"SUM('Raw Data'!I182:I195)","v":10669},{"$f":"SUM('Raw Data'!J182:J195)","v":4005},{"$f":"SUM('Raw Data'!K182:K195)","v":2558},{"$f":"SUM('Raw Data'!L182:L195)","v":824},{"$f":"SUM('Raw Data'!M182:M195)","v":535},{"$f":"SUM('Raw Data'!N182:N195)","v":1498},null,null,null,null,"Jazz",0.46315199102636007,0.74244306418219463,0.72365339578454335,12.492974238875878,4.6896955503512885,2.9953161592505855,0.96487119437939106,0.62646370023419207,1.7540983606557377]
["Bulls",{"$f":"SUM('Raw Data'!C197:C210)","v":863},{"$f":"SUM('Raw Data'!D197:D210)","v":3886},{"$f":"SUM('Raw Data'!E197:E210)","v":8334},0.46628269738420924,{"$f":"SUM('Raw Data'!F197:F210)","v":2120},{"$f":"SUM('Raw Data'!G197:G210)","v":2701},0.78489448352462055,{"$f":"SUM('Raw Data'!H197:H210)","v":700},{"$f":"SUM('Raw Data'!I197:I210)","v":10592},{"$f":"SUM('Raw Data'!J197:J210)","v":4325},{"$f":"SUM('Raw Data'!K197:K210)","v":2072},{"$f":"SUM('Raw Data'!L197:L210)","v":758},{"$f":"SUM('Raw Data'!M197:M210)","v":652},{"$f":"SUM('Raw Data'!N197:N210)","v":1468},null,null,null,null,"Bulls",0.46628269738420924,0.78489448352462055,0.81112398609501735,12.273464658169177,5.0115874855156433,2.4009269988412516,0.87833140208574745,0.7555040556199305,1.7010428736964078]
["Suns",{"$f":"SUM('Raw Data'!C212:C225)","v":956},{"$f":"SUM('Raw Data'!D212:D225)","v":4339},{"$f":"SUM('Raw Data'!E212:E225)","v":9457},0.45881357724436928,{"$f":"SUM('Raw Data'!F212:F225)","v":1697},{"$f":"SUM('Raw Data'!G212:G225)","v":2209},0.76822091444092344,{"$f":"SUM('Raw Data'!H212:H225)","v":1162},{"$f":"SUM('Raw Data'!I212:I225)","v":11537},{"$f":"SUM('Raw Data'!J212:J225)","v":4393},{"$f":"SUM('Raw Data'!K212:K225)","v":2661},{"$f":"SUM('Raw Data'!L212:L225)","v":767},{"$f":"SUM('Raw Data'!M212:M225)","v":600},{"$f":"SUM('Raw Data'!N212:N225)","v":1552},null,null,null,null,"Suns",0.45881357724436928,0.76822091444092344,1.2154811715481171,12.067991631799163,4.5951882845188283,2.7834728033472804,0.80230125523012552,0.62761506276150625,1.6234309623430963]
["Lakers",{"$f":"SUM('Raw Data'!C227:C240)","v":1052},{"$f":"SUM('Raw Data'!D227:D240)","v":4402},{"$f":"SUM('Raw Data'!E227:E240)","v":9264},{"$f":"C17/D17","v":0.47517271157167529},{"$f":"SUM('Raw Data'!F227:F240)","v":2364},{"$f":"SUM('Raw Data'!G227:G240)","v":3075},{"$f":"F17/G17","v":0.76878048780487807},{"$f":"SUM('Raw Data'!H227:H240)","v":678},{"$f":"SUM('Raw Data'!I227:I240)","v":11846},{"$f":"SUM('Raw Data'!J227:J240)","v":5844},{"$f":"SUM('Raw Data'!K227:K240)","v":2266},{"$f":"SUM('Raw Data'!L227:L240)","v":1148},{"$f":"SUM('Raw Data'!M227:M240)","v":909},{"$f":"SUM('Raw Data'!N227:N240)","v":1579},null,null,null,null,"Lakers",0.47517271157167529,0.76878048780487807,0.64448669201520914,11.260456273764259,5.5551330798479084,2.1539923954372622,1.0912547528517109,0.86406844106463876,1.5009505703422052]
[]
["Ranks",null,null,null,null,null,null,null,null,null,null,null,null,null,null,null,null,null,null,"Ranks (per game played)"]
["Team",null,null,null,"FG%",null,null,"FT%","3PTM","PTS","REB","AST","ST","BLK","TO","Total","Rank",null,null,"Team","FG%","FT%","3PTM","PTS","REB","AST","ST","BLK","TO","Total","Rank"]
[{"$f":"A13","v":"Heat"},null,null,null,{"$f":"RANK(E13,E$2:E$17,0)","v":9},null,null,{"$f":"RANK(H13,H$2:H$17,0)","v":5},5,1,2,1,3,9,{"$f":"RANK(O13,O$2:O$17,1)","v":15},{"$f":"SUM(E21:O21)","v":50},{"$f":"RANK(P21,P$21:P$36,1)","v":1},null,null,{"$f":"A13","v":"Heat"},{"$f":"RANK(U13,U$2:U$17,0)","v":9},5,5,4,1,1,3,11,{"$f":"RANK(AC13,AC$2:AC$17,1)","v":14},{"$f":"SUM(U21:AC21)","v":53},{"$f":"RANK(AD21,AD$21:AD$36,1)","v":1}]
[{"$f":"A17","v":"Lakers"},null,null,null,{"$f":"RANK(E17,E$2:E$17,0)","v":2},null,null,{"$f":"RANK(H17,H$2:H$17,0)","v":8},15,8,1,13,1,1,{"$f":"RANK(O17,O$2:O$17,1)","v":8},{"$f":"SUM(E22:O22)","v":57},{"$f":"RANK(P22,P$21:P$36,1)","v":2},null,null,{"$f":"A2","v":"Nets"},{"$f":"RANK(U2,U$2:U$17,0)","v":7},7,3,3,12,4,8,3,{"$f":"RANK(AC2,AC$2:AC$17,1)","v":13},{"$f":"SUM(U22:AC22)","v":60},{"$f":"RANK(AD22,AD$21:AD$36,1)","v":2}]
[{"$f":"A9","v":"Thunder"},null,null,null,{"$f":"RANK(E9,E$2:E$17,0)","v":3},null,null,{"$f":"RANK(H9,H$2:H$17,0)","v":1},9,3,9,6,8,10,{"$f":"RANK(O9,O$2:O$17,1)","v":11},60,3,null,null,{"$f":"A9","v":"Thunder"},{"$f":"RANK(U9,U$2:U$17,0)","v":3},1,10,2,10,7,10,10,{"$f":"RANK(AC9,AC$2:AC$17,1)","v":10},63,3]
[{"$f":"A4","v":"Clippers"},null,null,null,{"$f":"RANK(E4,E$2:E$17,0)","v":1},null,null,{"$f":"RANK(H4,H$2:H$17,0)","v":15},10,5,3,3,4,3,{"$f":"RANK(O4,O$2:O$17,1)","v":16},60,3,null,null,{"$f":"A17","v":"Lakers"},{"$f":"RANK(U17,U$2:U$17,0)","v":2},8,16,15,2,15,2,2,{"$f":"RANK(AC17,AC$2:AC$17,1)","v":2},64,4]
[{"$f":"A2","v":"Nets"},null,null,null,{"$f":"RANK(E2,E$2:E$17,0)","v":7},null,null,{"$f":"RANK(H2,H$2:H$17,0)","v":7},4,4,10,4,9,4,{"$f":"RANK(O2,O$2:O$17,1)","v":12},61,5,null,null,{"$f":"A15","v":"Bulls"},{"$f":"RANK(U15,U$2:U$17,0)","v":4},2,9,6,8,13,11,4,{"$f":"RANK(AC15,AC$2:AC$17,1)","v":7},64,4]
[{"$f":"A16","v":"Suns"},null,null,null,{"$f":"RANK(E16,E$2:E$17,0)","v":6},null,null,{"$f":"RANK(H16,H$2:H$17,0)","v":9},1,9,11,7,14,6,{"$f":"RANK(O16,O$2:O$17,1)","v":6},69,6,null,null,{"$f":"A4","v":"Clippers"},{"$f":"RANK(U4,U$2:U$17,0)","v":1},15,14,7,3,3,5,5,{"$f":"RANK(AC4,AC$2:AC$17,1)","v":15},68,6]
[{"$f":"A7","v":"Celtics"},null,null,null,{"$f":"RANK(E7,E$2:E$17,0)","v":8},null,null,{"$f":"RANK(H7,H$2:H$17,0)","v":10},11,10,7,8,5,2,{"$f":"RANK(O7,O$2:O$17,1)","v":10},71,7,null,null,{"$f":"A16","v":"Suns"},{"$f":"RANK(U16,U$2:U$17,0)","v":6},9,1,9,14,8,15,6,{"$f":"RANK(AC16,AC$2:AC$17,1)","v":5},73,7]
[{"$f":"A10","v":"Warriors"},null,null,null,{"$f":"RANK(E10,E$2:E$17,0)","v":10},null,null,{"$f":"RANK(H10,H$2:H$17,0)","v":12},12,2,6,5,1,15,{"$f":"RANK(O10,O$2:O$17,1)","v":14},77,8,null,null,{"$f":"A7","v":"Celtics"},{"$f":"RANK(U7,U$2:U$17,0)","v":8},10,13,13,7,10,4,1,{"$f":"RANK(AC7,AC$2:AC$17,1)","v":8},74,8]
[{"$f":"A5","v":"Trailblazers"},null,null,null,{"$f":"RANK(E5,E$2:E$17,0)","v":15},null,null,{"$f":"RANK(H5,H$2:H$17,0)","v":6},3,11,4,2,11,13,{"$f":"RANK(O5,O$2:O$17,1)","v":13},78,9,null,null,{"$f":"A10","v":"Warriors"},{"$f":"RANK(U10,U$2:U$17,0)","v":10},12,12,1,5,6,1,16,{"$f":"RANK(AC10,AC$2:AC$17,1)","v":16},79,9]
[{"$f":"A6","v":"Hawks"},null,null,null,{"$f":"RANK(E6,E$2:E$17,0)","v":11},null,null,11,7,7,8,11,7,12,{"$f":"RANK(O6,O$2:O$17,1)","v":5},79,10,null,null,{"$f":"A14","v":"Jazz"},{"$f":"RANK(U14,U$2:U$17,0)","v":5},14,15,5,13,5,6,7,{"$f":"RANK(AC14,AC$2:AC$17,1)","v":11},81,10]
[{"$f":"A11","v":"Knicks"},null,null,null,{"$f":"RANK(E11,E$2:E$17,0)","v":12},null,null,{"$f":"RANK(H11,H$2:H$17,0)","v":16},6,6,5,14,6,7,{"$f":"RANK(O11,O$2:O$17,1)","v":9},81,11,null,null,{"$f":"A5","v":"Trailblazers"},{"$f":"RANK(U5,U$2:U$17,0)","v":15},6,4,14,4,2,14,14,{"$f":"RANK(AC5,AC$2:AC$17,1)","v":12},85,11]
[{"$f":"A15","v":"Bulls"},null,null,null,{"$f":"RANK(E15,E$2:E$17,0)","v":4},null,null,{"$f":"RANK(H15,H$2:H$17,0)","v":2},13,15,13,16,15,5,{"$f":"RANK(O15,O$2:O$17,1)","v":2},85,12,null,null,{"$f":"A6","v":"Hawks"},11,11,8,10,11,12,9,13,{"$f":"RANK(AC6,AC$2:AC$17,1)","v":3},88,12]
[{"$f":"A14","v":"Jazz"},null,null,null,{"$f":"RANK(E14,E$2:E$17,0)","v":5},null,null,{"$f":"RANK(H14,H$2:H$17,0)","v":14},16,14,14,9,10,8,{"$f":"RANK(O14,O$2:O$17,1)","v":3},93,13,null,null,{"$f":"A11","v":"Knicks"},{"$f":"RANK(U11,U$2:U$17,0)","v":12},16,7,11,6,16,7,9,{"$f":"RANK(AC11,AC$2:AC$17,1)","v":4},88,12]
[{"$f":"A3","v":"Kings"},null,null,null,{"$f":"RANK(E3,E$2:E$17,0)","v":13},null,null,{"$f":"RANK(H3,H$2:H$17,0)","v":3},14,13,15,10,13,14,{"$f":"RANK(O3,O$2:O$17,1)","v":4},99,14,null,null,{"$f":"A8","v":"Nuggets"},{"$f":"RANK(U8,U$2:U$17,0)","v":14},13,6,8,9,14,12,8,{"$f":"RANK(AC8,AC$2:AC$17,1)","v":9},93,14]
[{"$f":"A12","v":"Mavericks"},null,null,null,{"$f":"RANK(E12,E$2:E$17,0)","v":16},null,null,{"$f":"RANK(H12,H$2:H$17,0)","v":4},2,16,16,12,16,16,{"$f":"RANK(O12,O$2:O$17,1)","v":1},99,14,null,null,{"$f":"A3","v":"Kings"},{"$f":"RANK(U3,U$2:U$17,0)","v":13},3,11,12,15,9,13,12,{"$f":"RANK(AC3,AC$2:AC$17,1)","v":6},94,15]
[{"$f":"A8","v":"Nuggets"},null,null,null,{"$f":"RANK(E8,E$2:E$17,0)","v":14},null,null,{"$f":"RANK(H8,H$2:H$17,0)","v":13},8,12,12,15,12,11,{"$f":"RANK(O8,O$2:O$17,1)","v":7},104,16,null,null,{"$f":"A12","v":"Mavericks"},{"$f":"RANK(U12,U$2:U$17,0)","v":16},4,2,16,16,11,16,15,{"$f":"RANK(AC12,AC$2:AC$17,1)","v":1},97,16]
[]
["Matchups",null,null,null,null,null,null,null,null,null,null,null,null,null,null,null,null,null,null,"Matchups (per game played)"]
["Team","FG%","FT%","3PTM","PTS","REB","AST","ST","BLK","TO","Score",null,null,null,null,null,null,null,null,"Team","FG%","FT%","3PTM","PTS","REB","AST","ST","BLK","TO","Score"]
["Lakers",0.47517271157167529,0.76878048780487807,678,11846,5844,2266,1148,909,1579,5,null,null,null,null,null,null,null,null,"Lakers",0.47517271157167529,0.76878048780487807,0.64448669201520914,11.260456273764259,5.5551330798479084,2.1539923954372622,1.0912547528517109,0.86406844106463876,1.5009505703422052,5]
["Nets",0.45701442217643756,0.77071823204419887,952,12944,4411,2825,856,717,1695,4,null,null,null,null,null,null,null,null,"Nets",0.45701442217643756,0.77071823204419887,1.0138445154419595,13.784877529286476,4.6975505857294992,3.0085197018104366,0.91160809371671991,0.76357827476038342,1.805111821086262,4]
[]
["Lakers",0.47517271157167529,0.76878048780487807,678,11846,5844,2266,1148,909,1579,5,null,null,null,null,null,null,null,null,"Lakers",0.47517271157167529,0.76878048780487807,0.64448669201520914,11.260456273764259,5.5551330798479084,2.1539923954372622,1.0912547528517109,0.86406844106463876,1.5009505703422052,5]
["Kings",0.45148625911385304,0.78485757121439281,697,10841,3948,2556,777,472,1509,4,null,null,null,null,null,null,null,null,"Kings",0.45148625911385304,0.78485757121439281,0.75432900432900429,11.732683982683982,4.2727272727272725,2.7662337662337664,0.84090909090909094,0.51082251082251084,1.6331168831168832,4]
[]
["Lakers",0.47517271157167529,0.76878048780487807,678,11846,5844,2266,1148,909,1579,5,null,null,null,null,null,null,null,null,"Lakers",0.47517271157167529,0.76878048780487807,0.64448669201520914,11.260456273764259,5.5551330798479084,2.1539923954372622,1.0912547528517109,0.86406844106463876,1.5009505703422052,5]
["Clippers",0.48386762112252307,0.73539518900343648,737,12419,5577,3144,1025,761,1903,4,null,null,null,null,null,null,null,null,"Clippers",0.48386762112252307,0.73539518900343648,0.72826086956521741,12.271739130434783,5.5108695652173916,3.1067193675889326,1.0128458498023716,0.75197628458498023,1.8804347826086956,4]
[]
["Lakers",0.47517271157167529,0.76878048780487807,678,11846,5844,2266,1148,909,1579,6,null,null,null,null,null,null,null,null,"Lakers",0.47517271157167529,0.76878048780487807,0.64448669201520914,11.260456273764259,5.5551330798479084,2.1539923954372622,1.0912547528517109,0.86406844106463876,1.5009505703422052,5]
["Trailblazers",0.44721020989347116,0.77659574468085102,960,11265,5425,3203,808,483,1764,3,null,null,null,null,null,null,null,null,"Trailblazers",0.44721020989347116,0.77659574468085102,0.967741935483871,11.355846774193548,5.46875,3.2288306451612905,0.81451612903225812,0.48689516129032256,1.778225806451613,4]
[]
["Lakers",0.47517271157167529,0.76878048780487807,678,11846,5844,2266,1148,909,1579,5,null,null,null,null,null,null,null,null,"Lakers",0.47517271157167529,0.76878048780487807,0.64448669201520914,11.260456273764259,5.5551330798479084,2.1539923954372622,1.0912547528517109,0.86406844106463876,1.5009505703422052,6]
["Hawks",0.45477261369315342,0.76539923954372624,830,11943,4685,2509,901,484,1514,4,null,null,null,null,null,null,null,null,"Hawks",0.45477261369315342,0.76539923954372624,0.83669354838709675,12.039314516129032,4.722782258064516,2.529233870967742,0.90826612903225812,0.48790322580645162,1.5262096774193548,3]
[]
["Lakers",0.47517271157167529,0.76878048780487807,678,11846,5844,2266,1148,909,1579,7,null,null,null,null,null,null,null,null,"Lakers",0.47517271157167529,0.76878048780487807,0.64448669201520914,11.260456273764259,5.5551330798479084,2.1539923954372622,1.0912547528517109,0.86406844106463876,1.5009505703422052,5]
["Celtics",0.45665218290916615,0.76710097719869708,726,11438,5068,2574,1003,865,1687,2,null,null,null,null,null,null,null,null,"Celtics",0.45665218290916615,0.76710097719869708,0.73630831643002026,11.600405679513184,5.1399594320486814,2.6105476673427992,1.0172413793103448,0.87728194726166331,1.7109533468559839,4]
[]
["Lakers",0.47517271157167529,0.76878048780487807,678,11846,5844,2266,1148,909,1579,7,null,null,null,null,null,null,null,null,"Lakers",0.47517271157167529,0.76878048780487807,0.64448669201520914,11.260456273764259,5.5551330798479084,2.1539923954372622,1.0912547528517109,0.86406844106463876,1.5009505703422052,6]
["Nuggets",0.4504255319148936,0.75825946817083001,805,11155,4375,2177,795,501,1574,2,null,null,null,null,null,null,null,null,"Nuggets",0.4504255319148936,0.75825946817083001,0.88074398249452956,12.204595185995624,4.7866520787746172,2.3818380743982495,0.86980306345733038,0.5481400437636762,1.7221006564551422,3]
[]
["Lakers",0.47517271157167529,0.76878048780487807,678,11846,5844,2266,1148,909,1579,5,null,null,null,null,null,null,null,null,"Lakers",0.47517271157167529,0.76878048780487807,0.64448669201520914,11.260456273764259,5.5551330798479084,2.1539923954372622,1.0912547528517109,0.86406844106463876,1.5009505703422052,5]
["Thunder",0.46805455850681982,0.80178021225607665,755,13529,4642,2733,876,510,1691,4,null,null,null,null,null,null,null,null,"Thunder",0.46805455850681982,0.80178021225607665,0.77595066803699897,13.904419321685509,4.7708119218910587,2.8088386433710175,0.90030832476875644,0.52415210688591984,1.7379239465570402,4]
[]
["Lakers",0.47517271157167529,0.76878048780487807,678,11846,5844,2266,1148,909,1579,5,null,null,null,null,null,null,null,null,"Lakers",0.47517271157167529,0.76878048780487807,0.64448669201520914,11.260456273764259,5.5551330798479084,2.1539923954372622,1.0912547528517109,0.86406844106463876,1.5009505703422052,5]
["Warriors",0.4554179026347932,0.76394579262527573,719,13583,5202,2810,1148,435,1839,4,null,null,null,null,null,null,null,null,"Warriors",0.4554179026347932,0.76394579262527573,0.74047373841400621,13.988671472708548,5.3573635427394439,2.893923789907312,1.1822863027806385,0.44799176107106076,1.893923789907312,4]
[]
["Lakers",0.47517271157167529,0.76878048780487807,678,11846,5844,2266,1148,909,1579,7,null,null,null,null,null,null,null,null,"Lakers",0.47517271157167529,0.76878048780487807,0.64448669201520914,11.260456273764259,5.5551330798479084,2.1539923954372622,1.0912547528517109,0.86406844106463876,1.5009505703422052,7]
["Knicks",0.45309442899804347,0.71775147928994087,876,12102,5302,2182,941,543,1584,2,null,null,null,null,null,null,null,null,"Knicks",0.45309442899804347,0.71775147928994087,0.85380116959064323,11.7953216374269,5.1676413255360627,2.1267056530214425,0.9171539961013645,0.5292397660818714,1.5438596491228069,2]
[]
["Lakers",0.47517271157167529,0.76878048780487807,678,11846,5844,2266,1148,909,1579,5,null,null,null,null,null,null,null,null,"Lakers",0.47517271157167529,0.76878048780487807,0.64448669201520914,11.260456273764259,5.5551330798479084,2.1539923954372622,1.0912547528517109,0.86406844106463876,1.5009505703422052,5]
["Mavericks",0.44367252417926711,0.78449408672798948,981,8689,3410,2272,634,412,1138,4,null,null,null,null,null,null,null,null,"Mavericks",0.44367252417926711,0.78449408672798948,1.1059751972942502,9.7959413754227729,3.8444193912063134,2.5614430665163472,0.71476888387824122,0.46448703494926719,1.2829763246899661,4]
[]
["Lakers",0.47517271157167529,0.76878048780487807,678,11846,5844,2266,1148,909,1579,5,null,null,null,null,null,null,null,null,"Lakers",0.47517271157167529,0.76878048780487807,0.64448669201520914,11.260456273764259,5.5551330798479084,2.1539923954372622,1.0912547528517109,0.86406844106463876,1.5009505703422052,4]
["Heat",0.45594006421691047,0.78437500000000004,918,13652,5735,3281,1035,516,1854,4,null,null,null,null,null,null,null,null,"Heat",0.45594006421691047,0.78437500000000004,0.91800000000000004,13.651999999999999,5.7350000000000003,3.2810000000000001,1.0349999999999999,0.51600000000000001,1.8540000000000001,5]
[]
["Lakers",0.47517271157167529,0.76878048780487807,678,11846,5844,2266,1148,909,1579,7,null,null,null,null,null,null,null,null,"Lakers",0.47517271157167529,0.76878048780487807,0.64448669201520914,11.260456273764259,5.5551330798479084,2.1539923954372622,1.0912547528517109,0.86406844106463876,1.5009505703422052,6]
["Jazz",0.46315199102636007,0.74244306418219463,618,10669,4005,2558,824,535,1498,2,null,null,null,null,null,null,null,null,"Jazz",0.46315199102636007,0.74244306418219463,0.72365339578454335,12.492974238875878,4.6896955503512885,2.9953161592505855,0.96487119437939106,0.62646370023419207,1.7540983606557377,3]
[]
["Lakers",0.47517271157167529,0.76878048780487807,678,11846,5844,2266,1148,909,1579,6,null,null,null,null,null,null,null,null,"Lakers",0.47517271157167529,0.76878048780487807,0.64448669201520914,11.260456273764259,5.5551330798479084,2.1539923954372622,1.0912547528517109,0.86406844106463876,1.5009505703422052,5]
["Bulls",0.46628269738420924,0.78489448352462055,700,10592,4325,2072,758,652,1468,3,null,null,null,null,null,null,null,null,"Bulls",0.46628269738420924,0.78489448352462055,0.81112398609501735,12.273464658169177,5.0115874855156433,2.4009269988412516,0.87833140208574745,0.7555040556199305,1.7010428736964078,4]
[]
["Lakers",0.47517271157167529,0.76878048780487807,678,11846,5844,2266,1148,909,1579,6,null,null,null,null,null,null,null,null,"Lakers",0.47517271157167529,0.76878048780487807,0.64448669201520914,11.260456273764259,5.5551330798479084,2.1539923954372622,1.0912547528517109,0.86406844106463876,1.5009505703422052,6]
["Suns",0.45881357724436928,0.76822091444092344,1162,11537,4393,2661,767,600,1552,3,null,null,null,null,null,null,null,null,"Suns",0.45881357724436928,0.76822091444092344,1.2154811715481171,12.067991631799163,4.5951882845188283,2.7834728033472804,0.80230125523012552,0.62761506276150625,1.6234309623430963,3]

{"sheet":"Raw Data","index":2,"n_rows":240,"n_cols":14,"rows_kept":240,"cut":false,"hidden":false,"merged":[]}
["Player","Team","GP*","FGM*","FGA*","FTM*","FTA*","3PTM","PTS","REB","AST","ST","BLK","TO"]
["Brooklyn Nets","Deron Williams",77,493,1119,314,366,168,1468,231,598,74,30,216]
["Brooklyn Nets","Josh Smith",75,548,1177,165,319,60,1321,636,321,94,136,225]
["Brooklyn Nets","Eric Gordon",41,231,567,179,213,56,697,74,134,41,7,113]
["Brooklyn Nets","Ersan Ilyasova",72,364,790,125,157,95,948,510,116,67,36,72]
["Brooklyn Nets","Brook Lopez",73,563,1079,291,386,0,1417,503,69,32,154,130]
["Brooklyn Nets","J.R. Smith",80,527,1249,237,311,155,1446,425,218,100,24,134]
["Brooklyn Nets","Darren Collison",79,329,704,233,261,47,938,213,407,98,7,173]
["Brooklyn Nets","Spencer Hawes",80,369,796,121,156,30,889,581,180,23,111,128]
["Brooklyn Nets","Luke Ridnour",80,360,794,139,164,65,924,204,302,80,15,127]
["Brooklyn Nets","Jamal Crawford",74,433,992,216,248,141,1223,125,184,76,13,144]
["Brooklyn Nets","Taj Gibson",63,206,423,85,125,0,497,340,59,27,87,73]
["Brooklyn Nets","Matt Barnes",78,304,659,86,115,111,805,356,121,82,63,88]
["Brooklyn Nets","Garrett Temple",49,97,236,24,35,24,242,119,108,46,17,56]
["Brooklyn Nets","Kenyon Martin",18,56,93,17,40,0,129,94,8,16,17,16]
[]
["Sacramento Kings","Kobe Bryant",78,738,1595,525,626,132,2133,433,469,106,25,287]
["Sacramento Kings","Ty Lawson",71,435,949,224,298,82,1176,192,487,105,8,177]
["Sacramento Kings","Mike Conley",78,406,921,231,278,105,1148,218,478,173,23,185]
["Sacramento Kings","Amar'e Stoudemire",29,154,267,105,130,0,413,145,13,10,21,50]
["Sacramento Kings","Andrew Bogut",31,82,176,19,38,1,184,237,64,20,53,33]
["Sacramento Kings","Michael Kidd-Gilchrist",76,272,599,139,185,2,685,442,112,52,70,101]
["Sacramento Kings","Michael Beasley",73,305,747,93,124,43,746,279,110,31,33,142]
["Sacramento Kings","Jordan Crawford",69,295,711,127,157,81,798,203,220,38,7,139]
["Sacramento Kings","Nick Young",58,224,540,105,128,75,628,130,84,36,14,49]
["Sacramento Kings","Ed Davis",79,253,465,102,166,0,608,440,62,37,81,59]
["Sacramento Kings","Tayshaun Prince",80,354,807,93,126,37,838,359,193,47,25,87]
["Sacramento Kings","Zaza Pachulia",52,114,241,78,103,0,306,336,79,35,12,70]
["Sacramento Kings","Ekpe Udoh",74,112,261,85,111,0,309,240,42,37,83,40]
["Sacramento Kings","Martell Webster",76,281,636,168,198,139,869,294,143,50,17,90]
[]
["LA Clippers","LeBron James",76,765,1354,403,535,103,2036,610,551,129,67,226]
["LA Clippers","Goran Dragic",76,394,889,239,320,86,1113,233,555,121,26,209]
["LA Clippers","Andre Iguodala",78,383,856,150,262,89,1005,410,421,136,48,202]
["LA Clippers","Chris Bosh",74,485,907,241,302,21,1232,501,123,66,101,128]
["LA Clippers","Jeremy Lin",80,384,864,212,267,83,1063,242,485,133,28,232]
["LA Clippers","Isaiah Thomas",77,356,805,249,283,108,1069,153,304,65,3,132]
["LA Clippers","Derrick Favors",75,267,552,177,257,0,711,529,71,64,128,127]
["LA Clippers","Kawhi Leonard",57,258,520,104,126,65,685,343,92,95,32,61]
["LA Clippers","Omer Asik",80,325,603,168,298,0,818,937,74,46,86,171]
["LA Clippers","Antawn Jamison",75,261,563,92,132,82,696,358,49,30,22,52]
["LA Clippers","Kendrick Perkins",78,144,314,44,72,0,332,467,111,43,83,109]
["LA Clippers","Jonas Valanciunas",60,194,351,135,171,0,523,357,45,17,72,86]
["LA Clippers","Tobias Harris",53,218,479,94,119,34,564,275,63,30,43,65]
["LA Clippers","E'Twaun Moore",73,230,582,46,57,66,572,162,200,50,22,103]
[]
["PDX Trail Blazers","Marc Gasol",78,425,860,266,313,1,1117,609,310,78,136,154]
["PDX Trail Blazers","Nicolas Batum",73,352,833,178,210,165,1047,412,360,91,83,190]
["PDX Trail Blazers","Ryan Anderson",80,468,1102,148,175,212,1296,512,97,42,31,97]
["PDX Trail Blazers","Greg Monroe",79,499,1034,261,381,0,1259,749,274,103,54,227]
["PDX Trail Blazers","Steve Nash",50,236,475,107,116,57,636,142,333,30,5,126]
["PDX Trail Blazers","Wilson Chandler",41,194,428,83,106,47,518,209,54,44,12,56]
["PDX Trail Blazers","Greivis Vasquez",78,438,1012,124,154,83,1083,337,704,66,6,247]
["PDX Trail Blazers","Jarrett Jack",77,378,839,165,195,82,1003,237,421,59,10,154]
["PDX Trail Blazers","Caron Butler",76,292,698,75,90,121,780,217,78,49,11,71]
["PDX Trail Blazers","Jerryd Bayless",78,253,602,97,116,68,671,169,257,53,16,118]
["PDX Trail Blazers","Josh McRoberts",65,146,332,58,77,21,371,310,131,31,26,58]
["PDX Trail Blazers","Kyle Singler",80,267,626,98,122,68,700,321,75,53,36,97]
["PDX Trail Blazers","Earl Clark",58,170,385,53,76,35,428,324,66,36,44,61]
["PDX Trail Blazers","Reggie Evans",79,122,255,112,219,0,356,877,43,73,13,108]
[]
["ATL Hawks","Al Jefferson",76,595,1202,155,205,2,1347,696,162,79,86,101]
["ATL Hawks","Nene Hilario",61,285,594,196,269,0,766,407,177,55,37,139]
["ATL Hawks","Wesley Matthews",69,352,808,149,187,169,1022,191,174,90,18,109]
["ATL Hawks","Evan Turner",80,429,1022,151,204,56,1065,508,344,68,17,185]
["ATL Hawks","O.J. Mayo",80,458,1014,191,233,141,1248,286,357,93,23,202]
["ATL Hawks","Dion Waiters",59,323,788,155,208,61,862,146,176,57,14,118]
["ATL Hawks","Jason Kidd",75,150,401,40,48,112,452,321,243,124,25,75]
["ATL Hawks","Mike Dunleavy",73,268,602,101,123,124,761,283,140,38,34,88]
["ATL Hawks","Marvin Williams",71,195,459,76,97,53,519,256,76,37,38,60]
["ATL Hawks","DeMar DeRozan",80,529,1201,345,416,28,1431,316,202,76,24,150]
["ATL Hawks","Ramon Sessions",61,276,676,291,347,33,876,169,230,48,7,104]
["ATL Hawks","Andre Drummond",58,201,331,55,152,1,458,446,29,54,91,53]
["ATL Hawks","Nick Collison",80,175,292,60,78,0,410,331,121,51,30,69]
["ATL Hawks","Patrick Patterson",69,314,615,48,63,50,726,329,78,31,40,61]
[]
["Boston Celtics","Russell Westbrook",80,663,1511,457,571,95,1878,423,596,142,24,269]
["Boston Celtics","Joakim Noah",64,301,625,176,233,0,778,727,261,77,141,173]
["Boston Celtics","Raymond Felton",68,377,882,101,128,93,948,195,372,94,14,155]
["Boston Celtics","Roy Hibbert",79,385,859,166,224,1,937,656,113,39,206,162]
["Boston Celtics","Mo Williams",44,219,505,73,80,58,569,105,275,41,9,118]
["Boston Celtics","JaVale McGee",77,298,516,108,181,1,705,361,24,30,154,86]
["Boston Celtics","Avery Bradley",49,188,468,35,47,39,450,108,101,63,19,69]
["Boston Celtics","Trevor Ariza",56,188,451,78,95,76,530,266,114,72,20,84]
["Boston Celtics","Tony Allen",77,278,624,132,184,3,691,352,93,117,44,92]
["Boston Celtics","Brandon Bass",80,283,581,129,150,0,695,422,83,44,64,79]
["Boston Celtics","Chandler Parsons",74,438,908,106,146,148,1130,396,260,74,31,141]
["Boston Celtics","Steve Novak",79,171,413,30,33,143,515,144,32,27,8,11]
["Boston Celtics","Amir Johnson",79,330,597,133,183,3,796,601,118,80,102,116]
["Boston Celtics","Alonzo Gee",80,295,726,160,201,66,816,312,132,103,29,132]
[]
["Denver Nuggets","Danny Granger",5,10,35,5,8,2,27,9,3,2,1,4]
["Denver Nuggets","Rudy Gay",73,506,1225,236,291,77,1325,448,195,111,53,194]
["Denver Nuggets","Anthony Davis",64,349,676,169,225,0,867,522,63,75,112,89]
["Denver Nuggets","Jrue Holiday",76,546,1271,182,242,90,1364,325,622,122,32,286]
["Denver Nuggets","Kenneth Faried",80,380,689,163,266,0,923,734,77,81,83,113]
["Denver Nuggets","Damian Lillard",80,542,1263,264,312,181,1529,253,520,73,19,237]
["Denver Nuggets","Dorell Wright",77,224,572,109,129,127,684,292,139,60,32,62]
["Denver Nuggets","Nikola Pekovic",62,385,741,241,324,0,1011,545,53,43,50,101]
["Denver Nuggets","C.J. Miles",65,255,614,93,107,126,729,174,63,49,17,69]
["Denver Nuggets","John Henson",61,145,304,48,91,0,338,266,28,16,38,45]
["Denver Nuggets","Enes Kanter",70,206,379,93,117,1,506,304,31,28,32,101]
["Denver Nuggets","Alan Anderson",63,230,597,120,141,93,673,138,100,48,7,79]
["Denver Nuggets","Will Bynum",63,238,517,93,116,22,591,94,224,43,5,117]
["Denver Nuggets","Marcus Morris",75,218,517,66,113,86,588,271,59,44,20,77]
[]
["OKC Thunder","LaMarcus Aldridge",73,626,1295,276,342,2,1530,649,191,62,88,141]
["OKC Thunder","Kyrie Irving",57,468,1031,243,284,106,1285,209,332,87,20,184]
["OKC Thunder","Carmelo Anthony",67,669,1489,425,512,157,1920,460,171,52,32,175]
["OKC Thunder","Tony Parker",65,516,985,270,321,24,1326,198,491,53,6,168]
["OKC Thunder","Jeff Teague",79,437,969,199,226,89,1162,180,570,117,28,229]
["OKC Thunder","Tyreke Evans",64,362,760,210,271,45,979,287,228,89,27,128]
["OKC Thunder","Elton Brand",70,225,471,66,93,0,516,424,68,50,92,57]
["OKC Thunder","Nikola Vucevic",75,446,863,79,117,0,971,890,140,57,78,136]
["OKC Thunder","Courtney Lee",77,243,520,62,72,56,604,185,142,88,20,83]
["OKC Thunder","Randy Foye",80,287,718,112,136,175,861,122,162,64,26,92]
["OKC Thunder","Derrick Williams",76,324,758,183,260,63,894,418,43,42,37,99]
["OKC Thunder","DeJuan Blair",59,130,247,44,68,0,304,219,45,34,9,47]
["OKC Thunder","Shannon Brown",58,234,563,98,125,38,604,148,108,58,15,74]
["OKC Thunder","Andrew Nicholson",73,249,475,75,94,0,573,253,42,23,32,78]
[]
["GoldenState Warriors","Dwyane Wade",68,560,1078,305,417,17,1442,339,343,128,54,192]
["GoldenState Warriors","DeMarcus Cousins",73,466,1003,301,408,4,1237,718,194,108,52,217]
["GoldenState Warriors","Marcus Thornton",70,321,744,111,126,136,889,176,85,58,4,67]
["GoldenState Warriors","Joe Johnson",71,441,1044,132,161,146,1160,216,251,49,14,123]
["GoldenState Warriors","Carlos Boozer",77,525,1109,190,260,0,1240,750,171,66,28,171]
["GoldenState Warriors","John Wall",47,311,695,232,286,11,865,187,356,61,37,153]
["GoldenState Warriors","Klay Thompson",80,489,1169,129,153,205,1312,298,182,84,43,152]
["GoldenState Warriors","Luis Scola",80,415,880,172,219,3,1005,515,174,66,35,123]
["GoldenState Warriors","Thaddeus Young",74,499,943,107,186,1,1106,560,124,128,55,89]
["GoldenState Warriors","Jason Terry",79,281,648,114,131,123,799,159,198,66,11,102]
["GoldenState Warriors","Ricky Rubio",55,179,495,208,260,24,590,221,410,133,5,167]
["GoldenState Warriors","Gerald Henderson",66,365,826,251,305,32,1013,244,166,67,33,101]
["GoldenState Warriors","Al-Farouq Aminu",75,217,459,101,137,4,539,565,102,92,50,113]
["GoldenState Warriors","Luc Richard Mbah a Moute",56,151,369,71,124,13,386,254,54,42,14,69]
[]
["New York Knicks","Dwight Howard",75,464,798,351,711,1,1280,927,106,81,182,221]
["New York Knicks","Kyle Lowry",66,245,608,186,235,98,774,314,416,88,24,151]
["New York Knicks","Kevin Garnett",68,422,850,158,201,2,1004,530,159,78,62,110]
["New York Knicks","Zach Randolph",74,458,997,217,289,2,1135,828,105,61,31,147]
["New York Knicks","Kevin Martin",77,350,778,219,246,158,1077,178,106,72,8,101]
["New York Knicks","George Hill",76,386,871,174,213,130,1076,284,355,81,26,116]
["New York Knicks","Harrison Barnes",79,269,608,140,186,51,729,316,92,51,14,94]
["New York Knicks","Gordon Hayward",70,330,760,239,289,101,1000,216,208,56,38,116]
["New York Knicks","Marco Belinelli",71,233,593,139,166,77,682,137,144,44,6,82]
["New York Knicks","Metta World Peace",74,328,813,122,166,139,917,369,109,121,42,98]
["New York Knicks","Tyler Hansbrough",80,173,398,212,294,0,558,364,36,29,18,75]
["New York Knicks","Gerald Green",59,141,401,52,64,53,387,135,49,16,22,50]
["New York Knicks","Andray Blatche",80,331,646,144,207,2,808,403,80,82,54,118]
["New York Knicks","Lance Stephenson",77,270,590,73,113,62,675,301,217,81,16,105]
[]
["Dallas Mavericks","Pau Gasol",48,263,562,122,174,8,656,401,189,24,59,101]
["Dallas Mavericks","Dirk Nowitzki",51,328,695,156,182,63,875,351,125,37,35,68]
["Dallas Mavericks","Jameer Nelson",56,306,780,89,102,121,822,209,413,71,6,154]
["Dallas Mavericks","Ray Allen",77,285,631,137,155,135,842,216,126,66,15,97]
["Dallas Mavericks","Andre Miller",80,300,617,154,185,17,771,231,476,70,11,172]
["Dallas Mavericks","Kyle Korver",73,272,594,67,78,186,797,292,145,68,37,68]
["Dallas Mavericks","Carlos Delfino",65,243,601,47,55,152,685,210,131,65,8,71]
["Dallas Mavericks","John Salmons",74,241,600,85,110,99,666,199,222,51,24,82]
["Dallas Mavericks","Kosta Koufos",79,287,491,55,97,0,629,546,32,44,101,52]
["Dallas Mavericks","Jason Maxiell",72,204,457,90,145,0,498,409,54,32,95,81]
["Dallas Mavericks","Corey Maggette",18,27,76,36,48,5,95,25,19,6,2,17]
["Dallas Mavericks","Jimmer Fredette",67,167,395,84,95,63,481,68,90,29,3,66]
["Dallas Mavericks","Terrence Ross",72,183,450,28,40,65,459,142,53,40,14,48]
["Dallas Mavericks","A.J. Price",55,151,392,44,56,67,413,111,197,31,2,61]
[]
["Miami Heat","Chris Paul",68,398,829,281,316,76,1153,257,656,165,10,158]
["Miami Heat","Paul Pierce",76,471,1085,333,422,144,1419,486,369,83,30,214]
["Miami Heat","Paul George",79,493,1176,221,274,170,1377,603,327,143,51,233]
["Miami Heat","David Lee",77,588,1138,251,313,0,1427,865,276,64,22,204]
["Miami Heat","Tim Duncan",68,485,965,238,293,2,1210,672,181,50,182,142]
["Miami Heat","Luol Deng",73,456,1075,230,282,72,1214,467,209,80,30,142]
["Miami Heat","Jared Dudley",77,308,655,128,159,105,849,240,198,73,8,99]
["Miami Heat","J.J. Hickson",78,414,733,181,266,0,1009,818,87,47,51,142]
["Miami Heat","Kirk Hinrich",58,147,405,68,95,65,427,154,304,60,25,97]
["Miami Heat","Rodney Stuckey",74,296,731,213,272,52,857,208,262,49,17,130]
["Miami Heat","Jason Thompson",80,369,730,138,198,0,876,540,84,45,61,101]
["Miami Heat","Gary Neal",66,230,570,58,67,85,603,136,124,29,2,63]
["Miami Heat","Corey Brewer",80,373,873,144,206,91,981,229,122,117,23,98]
["Miami Heat","Daniel Gibson",46,84,247,26,37,56,250,60,82,30,4,31]
[]
["Utah Jazz","Brandon Jennings",78,490,1222,228,279,168,1376,241,515,125,10,200]
["Utah Jazz","Marcin Gortat",61,295,566,90,138,0,680,516,75,40,98,99]
["Utah Jazz","Blake Griffin",78,568,1053,276,419,5,1417,652,293,95,50,178]
["Utah Jazz","Monta Ellis",80,582,1408,285,369,88,1537,314,490,166,36,249]
["Utah Jazz","David West",73,502,1009,242,315,4,1250,563,213,74,69,157]
["Utah Jazz","Samuel Dalembert",47,137,253,38,55,1,313,276,21,17,53,51]
["Utah Jazz","Al Harrington",10,20,57,3,4,8,51,27,10,4,1,7]
["Utah Jazz","Andrei Kirilenko",62,280,547,184,245,35,779,349,169,93,61,117]
["Utah Jazz","Rashard Lewis",53,92,224,21,34,45,250,110,28,19,12,32]
["Utah Jazz","Nate Robinson",80,395,911,135,169,138,1063,176,347,83,10,137]
["Utah Jazz","Ronnie Brewer",58,68,184,16,39,23,175,120,46,42,6,18]
["Utah Jazz","Robin Lopez",81,378,708,159,205,0,915,449,64,32,128,108]
["Utah Jazz","J.J. Barea",72,308,734,103,131,94,813,203,284,32,0,141]
["Utah Jazz","Jeremy Lamb",21,14,39,13,13,9,50,9,3,2,1,4]
[]
["Da' Bulls","James Harden",76,572,1294,658,769,175,1977,367,450,140,38,285]
["Da' Bulls","Serge Ibaka",78,434,757,143,191,20,1031,608,43,27,239,123]
["Da' Bulls","Gerald Wallace",67,179,450,120,185,46,524,318,176,92,45,108]
["Da' Bulls","Arron Afflalo",64,397,905,191,223,72,1057,239,206,40,11,138]
["Da' Bulls","Derrick Rose","-","-","-","-","-","-","-","-","-","-","-","-"]
["Da' Bulls","Emeka Okafor",78,326,685,109,191,0,761,690,93,44,77,106]
["Da' Bulls","Glen Davis",34,214,478,84,117,0,512,246,70,32,21,64]
["Da' Bulls","Shawn Marion",65,345,670,76,98,22,788,510,157,68,46,99]
["Da' Bulls","Mario Chalmers",77,227,529,89,112,123,666,171,272,118,12,119]
["Da' Bulls","J.J. Redick",76,371,856,166,185,160,1068,166,290,37,9,136]
["Da' Bulls","Tiago Splitter",80,311,554,208,285,0,830,508,128,62,64,98]
["Da' Bulls","Jeff Green",80,372,799,214,265,69,1027,312,126,56,68,129]
["Da' Bulls","Will Barton",71,103,276,49,63,8,263,132,49,31,9,51]
["Da' Bulls","Terrence Jones",17,35,81,13,17,5,88,58,12,11,13,12]
[]
["Phoenix Suns","Al Horford",74,576,1060,134,208,3,1289,757,240,78,78,147]
["Phoenix Suns","Stephen Curry",76,608,1349,259,288,261,1736,304,528,121,12,236]
["Phoenix Suns","Manu Ginobili",59,228,535,164,206,83,703,200,272,80,13,130]
["Phoenix Suns","Danilo Gallinari",71,364,871,286,348,135,1149,367,176,64,36,111]
["Phoenix Suns","Brandon Knight",73,349,848,164,222,118,980,244,294,55,8,200]
["Phoenix Suns","Bradley Beal",56,282,687,125,159,91,780,211,137,50,29,90]
["Phoenix Suns","Jose Calderon",73,312,635,72,80,130,826,176,518,58,8,126]
["Phoenix Suns","Chris Kaman",64,309,606,67,85,0,685,361,51,30,50,102]
["Phoenix Suns","Vince Carter",79,360,837,180,221,157,1057,327,186,73,42,106]
["Phoenix Suns","Bismack Biyombo",78,149,335,70,137,0,368,567,34,28,137,82]
["Phoenix Suns","Shane Battier",71,151,359,30,35,135,467,165,71,40,51,34]
["Phoenix Suns","Iman Shumpert",43,97,248,30,41,49,273,127,62,40,7,31]
["Phoenix Suns","Kevin Seraphin",77,318,695,58,85,0,694,330,54,24,56,126]
["Phoenix Suns","Brandan Wright",62,236,392,58,94,0,530,257,38,26,73,31]
[]
["LA Lakers","Kevin Durant",80,721,1417,673,742,136,2251,633,366,115,103,279]
["LA Lakers","Paul Millsap",76,424,858,261,350,13,1122,538,197,100,78,138]
["LA Lakers","Tyson Chandler",66,255,400,179,258,0,689,703,62,42,75,87]
["LA Lakers","Kemba Walker",80,511,1213,284,356,102,1408,275,450,157,30,194]
["LA Lakers","Thomas Robinson",70,138,321,57,109,0,333,315,46,41,26,88]
["LA Lakers","Danny Green",78,295,653,67,79,177,834,241,138,90,54,92]
["LA Lakers","Thabo Sefolosha",79,220,457,55,67,106,601,316,121,101,42,63]
["LA Lakers","Markieff Morris",80,256,631,91,125,43,646,386,107,72,58,102]
["LA Lakers","Larry Sanders",71,306,605,84,136,0,696,672,83,53,201,87]
["LA Lakers","Shaun Livingston",64,163,341,85,98,0,411,155,206,48,29,76]
["LA Lakers","Maurice Harkless",74,249,538,69,117,32,599,329,47,85,59,62]
["LA Lakers","Eric Bledsoe",74,251,557,106,134,31,639,219,228,109,55,133]
["LA Lakers","Tristan Thompson",80,380,776,173,281,0,933,750,107,60,69,120]
["LA Lakers","Jimmy Butler",80,233,497,180,223,38,684,312,108,75,30,58]

{"sheet":"Matchup","index":3,"n_rows":73,"n_cols":12,"rows_kept":73,"cut":false,"hidden":false,"merged":[]}
["Week","Team","FG%","FT%","3PTM","PTS","REB","AST","ST","BLK","TO","Score"]
["Total","LA Lakers",15,14,2,8,15,0,22,20,17,{"$f":"SUM(C2:K2)","v":113}]
[null,"PDX Trail Blazers",8,9,21,15,8,23,1,3,5,{"$f":"SUM(C3:K3)","v":93}]
[]
[]
[1,"LA Lakers",0.44900000000000001,0.73099999999999998,18,338,154,70,34,15,48,7]
[null,"PDX Trail Blazers",0.42,0.66700000000000004,20,316,143,76,31,14,58,2]
[]
[2,"LA Lakers",0.48,0.73,16,427,221,71,41,22,71,3]
[null,"PDX Trail Blazers",0.45300000000000001,0.752,29,483,205,98,35,29,68,6]
[]
[3,"LA Lakers",0.504,0.77700000000000002,28,517,244,87,42,31,62,5]
[null,"PDX Trail Blazers",0.52,0.76500000000000001,41,470,180,89,34,23,62,3]
[]
[4,"LA Lakers",0.46899999999999997,0.81699999999999995,21,414,193,75,29,29,55,6]
[null,"PDX Trail Blazers",0.44500000000000001,0.75,35,437,189,90,20,16,72,3]
[]
[5,"LA Lakers",0.47399999999999998,0.78600000000000003,17,385,211,70,27,41,46,4]
[null,"PDX Trail Blazers",0.40600000000000003,0.72899999999999998,44,436,244,81,35,18,74,5]
[]
[6,"LA Lakers",0.496,0.72399999999999998,19,553,264,96,43,49,67,7]
[null,"PDX Trail Blazers",0.42699999999999999,0.71699999999999997,45,457,187,101,24,21,73,2]
[]
[7,"LA Lakers",0.52300000000000002,0.79100000000000004,25,441,170,81,41,17,48,4]
[null,"PDX Trail Blazers",0.432,0.72499999999999998,44,510,224,135,33,19,56,5]
[]
[8,"LA Lakers",0.47799999999999998,0.76600000000000001,38,534,284,99,43,46,81,5]
[null,"PDX Trail Blazers",0.44700000000000001,0.81399999999999995,42,570,245,123,35,16,90,4]
[]
[9,"LA Lakers",0.438,0.74399999999999999,26,405,212,83,27,34,58,6]
[null,"PDX Trail Blazers",0.47199999999999998,0.77100000000000002,25,377,177,100,21,15,59,3]
[]
[10,"LA Lakers",0.48,0.79800000000000004,24,463,217,90,45,37,71,4]
[null,"PDX Trail Blazers",0.46500000000000002,0.76300000000000001,47,551,231,143,36,26,66,5]
[]
[11,"LA Lakers",0.48499999999999999,0.72099999999999997,19,455,259,89,35,58,49,5]
[null,"PDX Trail Blazers",0.47499999999999998,0.752,29,467,187,133,26,13,66,4]
[]
[12,"LA Lakers",0.42899999999999999,0.85899999999999999,27,469,233,86,43,23,50,5]
[null,"PDX Trail Blazers",0.43099999999999999,0.72299999999999998,36,473,228,141,31,16,93,4]
[]
[13,"LA Lakers",0.48899999999999999,0.81799999999999995,32,544,278,106,51,40,78,6]
[null,"PDX Trail Blazers",0.44400000000000001,0.79800000000000004,43,480,205,162,23,20,71,3]
[]
[14,"LA Lakers",0.47699999999999998,0.75700000000000001,25,440,211,82,38,29,56,5]
[null,"PDX Trail Blazers",0.45700000000000002,0.66100000000000003,47,515,238,151,21,24,93,4]
[]
[15,"LA Lakers",0.49199999999999999,0.78100000000000003,26,434,201,105,42,44,66,3]
[null,"PDX Trail Blazers",0.499,0.8,38,522,256,124,35,23,87,6]
[]
[16,"LA Lakers",0.439,0.82899999999999996,11,238,101,55,26,18,36,5]
[null,"PDX Trail Blazers",0.41799999999999998,0.67200000000000004,20,255,131,74,24,13,42,4]
[]
[17,"LA Lakers",0.495,0.8,38,500,245,97,30,42,69,6]
[null,"PDX Trail Blazers",0.42599999999999999,0.80400000000000005,32,426,198,143,26,20,61,3]
[]
[18,"LA Lakers",0.437,0.83499999999999996,24,392,224,85,47,25,60,5]
[null,"PDX Trail Blazers",0.45500000000000002,0.755,34,485,170,115,38,19,77,4]
[]
[19,"LA Lakers",0.433,0.78500000000000003,23,435,235,98,33,35,66,5]
[null,"PDX Trail Blazers",0.442,0.76500000000000001,44,480,182,134,26,20,67,4]
[]
[20,"LA Lakers",0.45300000000000001,0.78,22,408,207,67,42,20,70,4]
[null,"PDX Trail Blazers",0.45500000000000002,0.75800000000000001,31,486,175,133,29,28,78,5]
[]
[21,"LA Lakers",0.45700000000000002,0.80600000000000005,21,485,218,76,51,37,51,6]
[null,"PDX Trail Blazers",0.439,0.82699999999999996,35,432,189,118,29,20,66,3]
[]
[22,"LA Lakers",0.46300000000000002,0.69099999999999995,25,431,170,93,31,21,57,3]
[null,"PDX Trail Blazers",0.46700000000000003,0.81699999999999995,39,471,190,122,25,19,64,6]
[]
[23,"LA Lakers",0.47099999999999997,0.747,23,526,225,106,40,43,77,4]
[null,"PDX Trail Blazers",0.45600000000000002,0.76800000000000002,24,419,228,115,31,23,66,5]