{"text_format":"1","workbook":"xlsx","n_sheets":83,"sheets":["FX codes","Sheet1","    CAD    ","    CNY    ","    COP    ","    EUR    ","    HKD    ","    JPY    ","    KRW    ","    MOP    ","    MYR    ","    MXN    ","    PHP    "," CAD "," CNY "," COP "," HKD "," JPY "," KRW "," MOP "," MYR "," MXN "," PHP "," SGD "," TWD "," THB "," TRY "," VEF "," AUD "," GBP "," BND "," DKK "," EUR "," NZD "," SEK "," CHF "," HUF "," CZK "," PLN "," IDR "," LAK "," NOK "," INR "," CLP ","Averages","CAD","CNY","COP","HKD","JPY","KRW","MOP","MYR","MXN","PHP","SGD","TWD","THB","TRY","VEF","AUD","GBP","BND","DKK","EUR","NZD","SEK","CHF","HUF","CZK","PLN","IDR","LAK","NOK","INR","CLP","BS Rates","IS Rates","Inventory Rates","Inverse IS Rates","Inverse BS Rates","Matrix","Instructions"],"not_rendered":{"charts":0,"images":1,"macros":1,"external_links":0,"defined_names":22,"comments":5,"pivot_tables":0},"unopened":[],"bounds":{"document_bytes":16777216,"sheet_cells":100000,"rows_first":2000,"rows_last":500,"rows_between":2000,"halvings":0,"cell_chars":16384,"cell_head_chars":4096},"cells_cut":0,"cells_raw":0,"read":"whole","date_system":"1900"}

{"sheet":"FX codes","index":0,"n_rows":201,"n_cols":3,"rows_kept":201,"cut":false,"hidden":true,"merged":[]}
["Currency","FX","FX"]
["Afghanistan Afghani","AFN","AFN (old code: AFA)"]
["Albanian Lek","ALL","ALL"]
["Algerian Dinar","DZD","DZD"]
["Andorran Franc","ADF","ADF"]
["Andorran Peseta","ADP","ADP"]
["Angolan Kwanza","AOA","AOA (old code: AON)"]
["(United) Arab Emirates Dirham","AED","AED"]
["Argentine Peso","ARS","ARS (old code: ARA)"]
["Armenian Dram","AMD","AMD"]
["Aruban Florin (old guilder)","AWG","AWG"]
["Australian Dollar","AUD","AUD"]
["Austrian Schilling","EUR","EUR (prior to 2002: ATS)"]
["Azerbaijan Manat","AZN","AZN (old code: AZM)"]
["Bahamian Dollar","BSD","BSD"]
["Bahraini Dinar","BHD","BHD"]
["Bangladeshi Taka","BDT","BDT"]
["Barbados Dollar","BBD","BBD"]
["Belarusian Ruble","BYR","BYR"]
["Belgian Franc","EUR","EUR (prior to 2002: BEF)"]
["Belize Dollar","BZD","BZD"]
["Benin: CFA Franc BCEAO","XOF","XOF"]
["Bermudian Dollar","BMD","BMD"]
["Bhutan Ngultrum","BTN","BTN"]
["Bolivian Boliviano","BOB","BOB"]
["Bosnia and Herzegovina Convertible Mark","BAM","BAM"]
["Botswana Pula","BWP","BWP"]
["Brazilian Real","BRL","BRL (old code: BRC)"]
["British Pound","GBP","GBP"]
["Brunei Dollar","BND","BND"]
["Bulgarian Lev","BGN","BGN (old code: BGL)"]
["Burkino Faso: CFA Franc BCEAO","XOF","XOF"]
["Burundi Franc","BIF","BIF"]
["CFA Franc BCEAO (for Benin, Burkino Faso, Cote D'Ivoire, Mali, Niger, Senegal and Togo)","XOF","XOF"]
["CFA Franc BEAC (for Cameroon, the Central African Republic, Chad, Congo, Equatorial Guinea and Gabon)","XAF","XAF"]
["Kampuchean (Cambodian) Riel","KHR","KHR"]
["Cameroon: CFA Franc BEAC","XAF","XAF"]
["Canadian Dollar","CAD","CAD"]
["Cape Verde Escudo","CVE","CVE"]
["Cayman Islands Dollar","KYD","KYD"]
["The Central African Republic: CFA Franc BEAC","XAF","XAF"]
["Chad: CFA Franc BEAC","XAF","XAF"]
["Chilean Peso","CLP","CLP"]
["Chinese Yuan Renminbi","CNY","CNY"]
["Colombian Peso","COP","COP"]
["Comoros Franc","KMF","KMF"]
["Congo: CFA Franc BEAC","XAF","XAF"]
["Congolese Franc","CDF","CDF"]
["Costa Rican Colon","CRC","CRC"]
["Cote D'Ivoire: CFA Franc BCEAO","XOF","XOF"]
["Croatian Kuna","HRK","HRK"]
["Cuban Peso","CUP","CUP"]
["Cyprus Pound","EUR","EUR (prior to 2008: CYP)"]
["Czech Koruna","CZK","CZK (old code: CSK)"]
["Danish Krone","DKK","DKK"]
["Djibouti Franc","DJF","DJF"]
["Dominican Peso","DOP","DOP"]
["Dutch Guilder","NLG","NLG"]
["Euro","EUR","EUR"]
["Ecuador Sucre","ECS","ECS"]
["Egyption Pound","EGP","EGP"]
["El Salvador Colon","SVC","SVC"]
["Equatorial Guinea: CFA Franc BEAC","XAF","XAF"]
["Estonian Kroon","EEK","EEK"]
["Ethiopian Birr","ETB","ETB"]
["Falkland Islands Pound","FKP","FKP"]
["Fiji Dollar","FJD","FJD"]
["Finnish Markka","EUR","EUR (prior to 2002: FIM)"]
["French Franc","EUR","EUR (prior to 2002: FRF)"]
["Gabon: CFA Franc BEAC","XAF","XAF"]
["Gambian Dalasi","GMD","GMD"]
["Georgian Lari","GEL","GEL"]
["German Mark","EUR","EUR (prior to 2002: DEM)"]
["Ghanaian Cedi","GHS","GHS (old code: GHC)"]
["Gibraltar Pound","GIP","GIP"]
["Gold (oz.)","XAU","XAU"]
["Greek Drachma","EUR","EUR (prior to 2002: GRD)"]
["Guatemalan Quetzal","GTQ","GTQ"]
["Guiniea Franc","GNF","GNF"]
["Guyanan Dollar","GYD","GYD"]
["Haitian Gourde","HTG","HTG"]
["Honduran Lempira","HNL","HNL"]
["Hong Kong Dollar","HKD","HKD"]
["Hungarian Forint","HUF","HUF"]
["Iceland Krona","ISK","ISK"]
["Indian Rupee","INR","INR"]
["Indonesian Rupiah","IDR","IDR"]
["Iranian Rial","IRR","IRR"]
["Iraqi Dinar","IQD","IQD"]
["Irish Punt","EUR","EUR (prior to 2002: IEP)"]
["Israeili New Shekel","ILS","ILS"]
["Italian Lira","EUR","EUR (prior to 2002: ITL)"]
["Jamaican Dollar","JMD","JMD"]
["Japanese Yen","JPY","JPY"]
["Jordanian Dinar","JOD","JOD"]
["Kampuchean (Cambodian) Riel","KHR","KHR"]
["Kazakhstan Tenge","KZT","KZT"]
["Kenyan Schilling","KES","KES"]
["Korean Won","KRW","KRW"]
["Kuwaiti Dinar","KWD","KWD"]
["Kyrgyzstanian Som","KGS","KGS"]
["Lao Kip","LAK","LAK"]
["Latvian Lats","LVL","LVL"]
["Lebanese Pound","LBP","LBP"]
["Lesotho Loti","LSL","LSL"]
["Liberian Dollar","LRD","LRD"]
["Libyan Dinar","LYD","LYD"]
["Lithuanian Litas","LTL","LTL"]
["Luxembourg Franc","EUR","EUR (prior to 2002: LUF)"]
["Macau Pataca","MOP","MOP"]
["Macedonian Denar","MKD","MKD"]
["Malagasy Franc","MGF","MGF"]
["Malawi Kwacha","MWK","MWK"]
["Malaysian Ringgit","MYR","MYR"]
["Maldive Rufiyaa","MVR","MVR"]
["Maltese Lira","EUR","EUR (prior to 2008: MTL)"]
["Mali: CFA Franc BCEAO","XOF","XOF"]
["Mauritanian Ouguiya","MRO","MRO"]
["Mauritius Rupee","MUR","MUR"]
["Mexican Peso","MXN","MXN (old code: MXP)"]
["Moldovan Leu","MDL","MDL"]
["Mongolian Tugrik","MNT","MNT"]
["Moroccan Dirham","MAD","MAD"]
["Mozambique Metical","MZN","MZN (old code: MZM)"]
["Myanmar Kyat","MMK","MMK"]
["Netherlands Guilder","EUR","EUR (prior to 2002: NLG)"]
["Netherlands Antillian Guilder","ANG","ANG"]
["Namibian Dollar","NAD","NAD"]
["Nepalese Rupee","NPR","NPR"]
["New Zealand Dollar","NZD","NZD"]
["Nicaraguan Cordoba Oro","NIO","NIO"]
["Niger: CFA Franc BCEAO","XOF","XOF"]
["Nigerian Naira","NGN","NGN"]
["North Korean Won","KPW","KPW"]
["Norwegian Kroner","NOK","NOK"]
["Omani Rial","OMR","OMR"]
["Pakistan Rupee","PKR","PKR"]
["Palladium (oz.)","XPD","XPD"]
["Panamanian Balboa","PAB","PAB"]
["Papua New Guinea Kina","PGK","PGK"]
["Paraguay Guarani","PYG","PYG"]
["Peruvian Neuevo Sol","PEN","PEN"]
["Philippine Peso","PHP","PHP"]
["Platinum (oz.)","XPT","XPT"]
["Polish Zloty","PLN","PLN"]
["Portugese Escudo","EUR","EUR (prior to 2002: PTE)"]
["Pound Sterling","GBP","GBP"]
["Qatari Rial","QAR","QAR"]
["Romanian Leu","RON","RON (prior to July 2005: ROL)"]
["Russian Rouble","RUB","RUB"]
["Rwandan Franc","RWF","RWF"]
["Samoan Tala","WST","WST"]
["Sao Tome and Principe Dobra","STD","STD"]
["Saudi Riyal","SAR","SAR"]
["Senegal: CFA Franc BCEAO","XOF","XOF"]
["Serbian Dinar","RSD","RSD"]
["Seychelles Rupee","SCR","SCR"]
["Sierra Leone Leone","SLL","SLL"]
["Silver (oz.)","XAG","XAG"]
["Singapore Dollar","SGD","SGD"]
["Slovak Koruna","SKK","SKK"]
["Slovenian Tolar","SIT","SIT"]
["Solomon Islands Dollar","SBD","SBD"]
["Somali Schilling","SOS","SOS"]
["South African Rand","ZAR","ZAR"]
["Spanish Peseta","EUR","EUR (prior to 2002: ESP)"]
["Sri Lanka Rupee","LKR","LKR"]
["St. Helena Pound","SHP","SHP"]
["Sudanese Dinar","SDD","SDD"]
["Sudanese Pound","SDG","SDG"]
["Sudanese Pound, Old","SDP","SDP"]
["Suriname Dollar","SRD","SRD"]
["Suriname Guilder","SRG","SRG"]
["Swaziland Lilangeni","SZL","SZL"]
["Swedish Krona","SEK","SEK"]
["Swiss Franc","CHF","CHF"]
["Syrian Pound","SYP","SYP"]
["Taiwan Dollar","TWD","TWD"]
["Tajikistani Somoni","TJS","TJS"]
["Tanzanian Schilling","TZS","TZS"]
["Thai Baht","THB","THB"]
["Togo: CFA Franc BCEAO","XOF","XOF"]
["Tongan Pa'anga","TOP","TOP"]
["Trinidad and Tobago Dollar","TTD","TTD"]
["Tunisian Dinar","TND","TND"]
["Turkish Lira","TRY","TRY (prior to 2005: TRL)"]
["Turkmenistan Manat","TMM","TMM"]
["US Dollar","USD","USD"]
["Uganda Schilling","UGX","UGX (old code: UGS)"]
["Ukraine Hryvnia","UAH","UAH (old codes: UAG, UAK)"]
["Ukraine Karbovanets","UAK","UAK"]
["United Arab Emirates Dirham","AED","AED"]
["United Kingdom Pound","GBP","GBP"]
["Uruguayan Peso","UYU","UYU (old code: UYP)"]
["Uzbekistan Som","UZS","UZS"]
["Vanuatu Vatu","VUV","VUV"]
["Venezuelan Bolivar Fuerte","VEF","VEF (old code: VEB)"]
["Vietnamese Dong","VND","VND"]
["Yugoslav Dinar","YUN","YUN"]
["Zambian Kwacha","ZMK","ZMK"]
["Zimbabwe Dollar","ZWD","ZWD"]

{"sheet":"Sheet1","index":1,"n_rows":0,"n_cols":0,"rows_kept":0,"cut":false,"hidden":true,"merged":[]}

{"sheet":"    CAD    ","index":2,"n_rows":123,"n_cols":3,"rows_kept":123,"cut":false,"hidden":true,"merged":[]}
["ENGLISH"]
[]
["DEUTSCH"]
["ESPAяL"]
["FRANǁIS"]
["ITALIANO"]
["PORTUGUʓ"]
["SVENSKA"]
[]
["Rate Subscriptions "]
["Register Sign in "]
[]
["Forex Trading "]
["Currency Converter "]
["Rate Subscriptions "]
["Money Transfers "]
[]
["Currency Converter"]
["Currency Tools"]
["Mobile"]
[]
["Home "]
["|"]
["fxConverter Classic"]
[]
["Help "]
[]
["fxConverter Classic"]
[]
[]
[null,"Sunday, April 1, 2012","Add to your site"]
[]
[null,"1 US Dollar = 0.99915 Canadian Dollar ","Print"]
[]
[null,"1 Canadian Dollar (CAD) = 1.00085 US Dollar (USD)","Info"]
[]
[null,"Interbank rate +/- 0%","FXConverter Mobile [BlackBerry Eddition]"]
[]
[null,"This means:","Traveler's cheatsheet"]
[null,"You buy 1 US Dollar :     0.99915 Canadian Dollar"]
[null,"You sell 1 US Dollar :     0.99815 Canadian Dollar "]
[null,"You buy 1 Canadian Dollar :     1.00185 US Dollar"]
[null,"You sell 1 Canadian Dollar :     1.00085 US Dollar "]
[]
[null,"Median price = 0.99815 / 0.99915 (bid/ask)"]
[null,"Minimum price = 0.99815 / 0.99915"]
[null,"Maximum price = 0.99815 / 0.99915"]
[]
[null,"Rate for previous or next day"]
[null,"Get exchange rates with amount:"]
[]
[null,"Trade with OANDAOpen demo accountSend money with OANDA"]
[]
[]
[]
[null,"Also See..."]
[]
[null,"FXTrade: trade currencies with tight spreads, no minimum deposit and earn continuous interest on your money."]
[null,"FXGlobalTransfer: Send money overseas to 230 countries."]
[null,"FXTradeTicker: A Yahoo! Widget which shows live FX rates and FXTrade/FXGame account status."]
[null,"iPhone Currency Converter: Visit the iPhone store to download OANDA's currency converter."]
[null,"Travel Expense Report Manager (FXPense): Create multi-currency expense reports online and save it in MS Excel."]
[null,"Link to Currency Converter: Find out how to link to OANDA's FXConverter."]
[]
[]
["TRY ALSO..."]
[]
["NEW Currency Converter"]
["Currency Converter Widget"]
["iPhone Converter"]
["BlackBerry Converter"]
["Android Converter"]
["Money Transfers"]
["Exchange Rate Feeds"]
[]
["Foreign Exchange Tools"]
[]
["Historical Exchange Rates"]
["Live Exchange Rates"]
["Mobile Currency Apps"]
["Currency Data"]
["Currency Widgets"]
[]
["Mobile Currency Apps"]
[]
["iPhone Currency App"]
["Android Currency App"]
["Blackberry Currency App"]
["PlayBook Currency App"]
["Windows Phone 7 Currency App"]
[]
["Currency Quick Links"]
[]
["Free Converter Widget"]
["Currency Data Feeds"]
["Big Mac Index"]
["EUR/USD Rates"]
[]
["1996 - 2012 OANDA Corporation. All rights reserved. \"OANDA\", \"fxTrade\" and OANDA's \"fx\" family of trade marks are owned by OANDA Corporation. All other trade marks appearing on this Website are the property of their respective owners. "]
["OANDA Services"]
[]
["Forex Trading"]
["Currency Converter"]
["Rate Subscriptions"]
["Money Transfers"]
["Forex Blog"]
["Currency Hedging"]
["fxUnity"]
[]
["About OANDA"]
[]
["About Us"]
["Our Story"]
["Corporate Blog"]
["Press Room"]
["Jobs"]
[]
["Terms of Use"]
["Privacy Policy"]
["Site Map"]
["Advertise"]
["Contact Us"]
["Feedback"]

{"sheet":"    CNY    ","index":3,"n_rows":123,"n_cols":3,"rows_kept":123,"cut":false,"hidden":true,"merged":[]}
["ENGLISH"]
[]
["DEUTSCH"]
["ESPAяL"]
["FRANǁIS"]
["ITALIANO"]
["PORTUGUʓ"]
["SVENSKA"]
[]
["Rate Subscriptions "]
["Register Sign in "]
[]
["Forex Trading "]
["Currency Converter "]
["Rate Subscriptions "]
["Money Transfers "]
[]
["Currency Converter"]
["Currency Tools"]
["Mobile"]
[]
["Home "]
["|"]
["fxConverter Classic"]
[]
["Help "]
[]
["fxConverter Classic"]
[]
[]
[null,"Sunday, April 1, 2012","Add to your site"]
[]
[null,"1 US Dollar = 6.34250 Chinese Yuan Renminbi ","Print"]
[]
[null,"1 Chinese Yuan Renminbi (CNY) = 0.15767 US Dollar (USD)","Info"]
[]
[null,"Interbank rate +/- 0%","FXConverter Mobile [BlackBerry Eddition]"]
[]
[null,"This means:","Traveler's cheatsheet"]
[null,"You buy 1 US Dollar :     6.34250 Chinese Yuan Renminbi"]
[null,"You sell 1 US Dollar :     6.29250 Chinese Yuan Renminbi "]
[null,"You buy 1 Chinese Yuan Renminbi :     0.15892 US Dollar"]
[null,"You sell 1 Chinese Yuan Renminbi :     0.15767 US Dollar "]
[]
[null,"Median price = 6.29250 / 6.34250 (bid/ask)"]
[null,"Minimum price = 6.29250 / 6.34250"]
[null,"Maximum price = 6.29250 / 6.34250"]
[]
[null,"Rate for previous or next day"]
[null,"Get exchange rates with amount:"]
[]
[null,"Trade with OANDAOpen demo accountSend money with OANDA"]
[]
[]
[]
[null,"Also See..."]
[]
[null,"FXTrade: trade currencies with tight spreads, no minimum deposit and earn continuous interest on your money."]
[null,"FXGlobalTransfer: Send money overseas to 230 countries."]
[null,"FXTradeTicker: A Yahoo! Widget which shows live FX rates and FXTrade/FXGame account status."]
[null,"iPhone Currency Converter: Visit the iPhone store to download OANDA's currency converter."]
[null,"Travel Expense Report Manager (FXPense): Create multi-currency expense reports online and save it in MS Excel."]
[null,"Link to Currency Converter: Find out how to link to OANDA's FXConverter."]
[]
[]
["TRY ALSO..."]
[]
["NEW Currency Converter"]
["Currency Converter Widget"]
["iPhone Converter"]
["BlackBerry Converter"]
["Android Converter"]
["Money Transfers"]
["Exchange Rate Feeds"]
[]
["Foreign Exchange Tools"]
[]
["Historical Exchange Rates"]
["Live Exchange Rates"]
["Mobile Currency Apps"]
["Currency Data"]
["Currency Widgets"]
[]
["Mobile Currency Apps"]
[]
["iPhone Currency App"]
["Android Currency App"]
["Blackberry Currency App"]
["PlayBook Currency App"]
["Windows Phone 7 Currency App"]
[]
["Currency Quick Links"]
[]
["Free Converter Widget"]
["Currency Data Feeds"]
["Big Mac Index"]
["EUR/USD Rates"]
[]
["1996 - 2012 OANDA Corporation. All rights reserved. \"OANDA\", \"fxTrade\" and OANDA's \"fx\" family of trade marks are owned by OANDA Corporation. All other trade marks appearing on this Website are the property of their respective owners. "]
["OANDA Services"]
[]
["Forex Trading"]
["Currency Converter"]
["Rate Subscriptions"]
["Money Transfers"]
["Forex Blog"]
["Currency Hedging"]
["fxUnity"]
[]
["About OANDA"]
[]
["About Us"]
["Our Story"]
["Corporate Blog"]
["Press Room"]
["Jobs"]
[]
["Terms of Use"]
["Privacy Policy"]
["Site Map"]
["Advertise"]
["Contact Us"]
["Feedback"]

{"sheet":"    COP    ","index":4,"n_rows":123,"n_cols":3,"rows_kept":123,"cut":false,"hidden":true,"merged":[]}
["ENGLISH"]
[]
["DEUTSCH"]
["ESPAяL"]
["FRANǁIS"]
["ITALIANO"]
["PORTUGUʓ"]
["SVENSKA"]
[]
["Rate Subscriptions "]
["Register Sign in "]
[]
["Forex Trading "]
["Currency Converter "]
["Rate Subscriptions "]
["Money Transfers "]
[]
["Currency Converter"]
["Currency Tools"]
["Mobile"]
[]
["Home "]
["|"]
["fxConverter Classic"]
[]
["Help "]
[]
["fxConverter Classic"]
[]
[]
[null,"Sunday, April 1, 2012","Add to your site"]
[]
[null,"1 US Dollar = 1,808.15 Colombian Peso ","Print"]
[]
[null,"1 Colombian Peso (COP) = 0.0005531 US Dollar (USD)","Info"]
[]
[null,"Interbank rate +/- 0%","FXConverter Mobile [BlackBerry Eddition]"]
[]
[null,"This means:","Traveler's cheatsheet"]
[null,"You buy 1 US Dollar :     1,808.15 Colombian Peso"]
[null,"You sell 1 US Dollar :     1,775.03 Colombian Peso "]
[null,"You buy 1 Colombian Peso :     0.0005634 US Dollar"]
[null,"You sell 1 Colombian Peso :     0.0005531 US Dollar "]
[]
[null,"Median price = 1,775.03 / 1,808.15 (bid/ask)"]
[null,"Minimum price = 1,753.50 / 1,794.00"]
[null,"Maximum price = 1,790.00 / 1,828.50"]
[]
[null,"Rate for previous or next day"]
[null,"Get exchange rates with amount:"]
[]
[null,"Trade with OANDAOpen demo accountSend money with OANDA"]
[]
[]
[]
[null,"Also See..."]
[]
[null,"FXTrade: trade currencies with tight spreads, no minimum deposit and earn continuous interest on your money."]
[null,"FXGlobalTransfer: Send money overseas to 230 countries."]
[null,"FXTradeTicker: A Yahoo! Widget which shows live FX rates and FXTrade/FXGame account status."]
[null,"iPhone Currency Converter: Visit the iPhone store to download OANDA's currency converter."]
[null,"Travel Expense Report Manager (FXPense): Create multi-currency expense reports online and save it in MS Excel."]
[null,"Link to Currency Converter: Find out how to link to OANDA's FXConverter."]
[]
[]
["TRY ALSO..."]
[]
["NEW Currency Converter"]
["Currency Converter Widget"]
["iPhone Converter"]
["BlackBerry Converter"]
["Android Converter"]
["Money Transfers"]
["Exchange Rate Feeds"]
[]
["Foreign Exchange Tools"]
[]
["Historical Exchange Rates"]
["Live Exchange Rates"]
["Mobile Currency Apps"]
["Currency Data"]
["Currency Widgets"]
[]
["Mobile Currency Apps"]
[]
["iPhone Currency App"]
["Android Currency App"]
["Blackberry Currency App"]
["PlayBook Currency App"]
["Windows Phone 7 Currency App"]
[]
["Currency Quick Links"]
[]
["Free Converter Widget"]
["Currency Data Feeds"]
["Big Mac Index"]
["EUR/USD Rates"]
[]
["1996 - 2012 OANDA Corporation. All rights reserved. \"OANDA\", \"fxTrade\" and OANDA's \"fx\" family of trade marks are owned by OANDA Corporation. All other trade marks appearing on this Website are the property of their respective owners. "]
["OANDA Services"]
[]
["Forex Trading"]
["Currency Converter"]
["Rate Subscriptions"]
["Money Transfers"]
["Forex Blog"]
["Currency Hedging"]
["fxUnity"]
[]
["About OANDA"]
[]
["About Us"]
["Our Story"]
["Corporate Blog"]
["Press Room"]
["Jobs"]
[]
["Terms of Use"]
["Privacy Policy"]
["Site Map"]
["Advertise"]
["Contact Us"]
["Feedback"]

{"sheet":"    EUR    ","index":5,"n_rows":123,"n_cols":3,"rows_kept":123,"cut":false,"hidden":true,"merged":[]}
["ENGLISH"]
[]
["DEUTSCH"]
["ESPAяL"]
["FRANǁIS"]
["ITALIANO"]
["PORTUGUʓ"]
["SVENSKA"]
[]
["Rate Subscriptions "]
["Register Sign in "]
[]
["Forex Trading "]
["Currency Converter "]
["Rate Subscriptions "]
["Money Transfers "]
[]
["Currency Converter"]
["Currency Tools"]
["Mobile"]
[]
["Home "]
["|"]
["fxConverter Classic"]
[]
["Help "]
[]
["fxConverter Classic"]
[]
[]
[null,"Sunday, April 1, 2012","Add to your site"]
[]
[null,"1 US Dollar = 0.74977 Euro ","Print"]
[]
[null,"1 Euro (EUR) = 1.33374 US Dollar (USD)","Info"]
[]
[null,"Interbank rate +/- 0%","FXConverter Mobile [BlackBerry Eddition]"]
[]
[null,"This means:","Traveler's cheatsheet"]
[null,"You buy 1 US Dollar :     0.74977 Euro"]
[null,"You sell 1 US Dollar :     0.74921 Euro "]
[null,"You buy 1 Euro :     1.33474 US Dollar"]
[null,"You sell 1 Euro :     1.33374 US Dollar "]
[]
[null,"Median price = 0.74921 / 0.74977 (bid/ask)"]
[null,"Minimum price = 0.74921 / 0.74977"]
[null,"Maximum price = 0.74921 / 0.74977"]
[]
[null,"Rate for previous or next day"]
[null,"Get exchange rates with amount:"]
[]
[null,"Trade with OANDAOpen demo accountSend money with OANDA"]
[]
[]
[]
[null,"Also See..."]
[]
[null,"FXTrade: trade currencies with tight spreads, no minimum deposit and earn continuous interest on your money."]
[null,"FXGlobalTransfer: Send money overseas to 230 countries."]
[null,"FXTradeTicker: A Yahoo! Widget which shows live FX rates and FXTrade/FXGame account status."]
[null,"iPhone Currency Converter: Visit the iPhone store to download OANDA's currency converter."]
[null,"Travel Expense Report Manager (FXPense): Create multi-currency expense reports online and save it in MS Excel."]
[null,"Link to Currency Converter: Find out how to link to OANDA's FXConverter."]
[]
[]
["TRY ALSO..."]
[]
["NEW Currency Converter"]
["Currency Converter Widget"]
["iPhone Converter"]
["BlackBerry Converter"]
["Android Converter"]
["Money Transfers"]
["Exchange Rate Feeds"]
[]
["Foreign Exchange Tools"]
[]
["Historical Exchange Rates"]
["Live Exchange Rates"]
["Mobile Currency Apps"]
["Currency Data"]
["Currency Widgets"]
[]
["Mobile Currency Apps"]
[]
["iPhone Currency App"]
["Android Currency App"]
["Blackberry Currency App"]
["PlayBook Currency App"]
["Windows Phone 7 Currency App"]
[]
["Currency Quick Links"]
[]
["Free Converter Widget"]
["Currency Data Feeds"]
["Big Mac Index"]
["EUR/USD Rates"]
[]
["1996 - 2012 OANDA Corporation. All rights reserved. \"OANDA\", \"fxTrade\" and OANDA's \"fx\" family of trade marks are owned by OANDA Corporation. All other trade marks appearing on this Website are the property of their respective owners. "]
["OANDA Services"]
[]
["Forex Trading"]
["Currency Converter"]
["Rate Subscriptions"]
["Money Transfers"]
["Forex Blog"]
["Currency Hedging"]
["fxUnity"]
[]
["About OANDA"]
[]
["About Us"]
["Our Story"]
["Corporate Blog"]
["Press Room"]
["Jobs"]
[]
["Terms of Use"]
["Privacy Policy"]
["Site Map"]
["Advertise"]
["Contact Us"]
["Feedback"]

{"sheet":"    HKD    ","index":6,"n_rows":123,"n_cols":3,"rows_kept":123,"cut":false,"hidden":true,"merged":[]}
["ENGLISH"]
[]
["DEUTSCH"]
["ESPAяL"]
["FRANǁIS"]
["ITALIANO"]
["PORTUGUʓ"]
["SVENSKA"]
[]
["Rate Subscriptions "]
["Register Sign in "]
[]
["Forex Trading "]
["Currency Converter "]
["Rate Subscriptions "]
["Money Transfers "]
[]
["Currency Converter"]
["Currency Tools"]
["Mobile"]
[]
["Home "]
["|"]
["fxConverter Classic"]
[]
["Help "]
[]
["fxConverter Classic"]
[]
[]
[null,"Sunday, April 1, 2012","Add to your site"]
[]
[null,"1 US Dollar = 7.76745 Hong Kong Dollar ","Print"]
[]
[null,"1 Hong Kong Dollar (HKD) = 0.12874 US Dollar (USD)","Info"]
[]
[null,"Interbank rate +/- 0%","FXConverter Mobile [BlackBerry Eddition]"]
[]
[null,"This means:","Traveler's cheatsheet"]
[null,"You buy 1 US Dollar :     7.76745 Hong Kong Dollar"]
[null,"You sell 1 US Dollar :     7.76445 Hong Kong Dollar "]
[null,"You buy 1 Hong Kong Dollar :     0.12879 US Dollar"]
[null,"You sell 1 Hong Kong Dollar :     0.12874 US Dollar "]
[]
[null,"Median price = 7.76445 / 7.76745 (bid/ask)"]
[null,"Minimum price = 7.76445 / 7.76745"]
[null,"Maximum price = 7.76445 / 7.76745"]
[]
[null,"Rate for previous or next day"]
[null,"Get exchange rates with amount:"]
[]
[null,"Trade with OANDAOpen demo accountSend money with OANDA"]
[]
[]
[]
[null,"Also See..."]
[]
[null,"FXTrade: trade currencies with tight spreads, no minimum deposit and earn continuous interest on your money."]
[null,"FXGlobalTransfer: Send money overseas to 230 countries."]
[null,"FXTradeTicker: A Yahoo! Widget which shows live FX rates and FXTrade/FXGame account status."]
[null,"iPhone Currency Converter: Visit the iPhone store to download OANDA's currency converter."]
[null,"Travel Expense Report Manager (FXPense): Create multi-currency expense reports online and save it in MS Excel."]
[null,"Link to Currency Converter: Find out how to link to OANDA's FXConverter."]
[]
[]
["TRY ALSO..."]
[]
["NEW Currency Converter"]
["Currency Converter Widget"]
["iPhone Converter"]
["BlackBerry Converter"]
["Android Converter"]
["Money Transfers"]
["Exchange Rate Feeds"]
[]
["Foreign Exchange Tools"]
[]
["Historical Exchange Rates"]
["Live Exchange Rates"]
["Mobile Currency Apps"]
["Currency Data"]
["Currency Widgets"]
[]
["Mobile Currency Apps"]
[]
["iPhone Currency App"]
["Android Currency App"]
["Blackberry Currency App"]
["PlayBook Currency App"]
["Windows Phone 7 Currency App"]
[]
["Currency Quick Links"]
[]
["Free Converter Widget"]
["Currency Data Feeds"]
["Big Mac Index"]
["EUR/USD Rates"]
[]
["1996 - 2012 OANDA Corporation. All rights reserved. \"OANDA\", \"fxTrade\" and OANDA's \"fx\" family of trade marks are owned by OANDA Corporation. All other trade marks appearing on this Website are the property of their respective owners. "]
["OANDA Services"]
[]
["Forex Trading"]
["Currency Converter"]
["Rate Subscriptions"]
["Money Transfers"]
["Forex Blog"]
["Currency Hedging"]
["fxUnity"]
[]
["About OANDA"]
[]
["About Us"]
["Our Story"]
["Corporate Blog"]
["Press Room"]
["Jobs"]
[]
["Terms of Use"]
["Privacy Policy"]
["Site Map"]
["Advertise"]
["Contact Us"]
["Feedback"]

{"sheet":"    JPY    ","index":7,"n_rows":123,"n_cols":3,"rows_kept":123,"cut":false,"hidden":true,"merged":[]}
["ENGLISH"]
[]
["DEUTSCH"]
["ESPAяL"]
["FRANǁIS"]
["ITALIANO"]
["PORTUGUʓ"]
["SVENSKA"]
[]
["Rate Subscriptions "]
["Register Sign in "]
[]
["Forex Trading "]
["Currency Converter "]
["Rate Subscriptions "]
["Money Transfers "]
[]
["Currency Converter"]
["Currency Tools"]
["Mobile"]
[]
["Home "]
["|"]
["fxConverter Classic"]
[]
["Help "]
[]
["fxConverter Classic"]
[]
[]
[null,"Sunday, April 1, 2012","Add to your site"]
[]
[null,"1 US Dollar = 82.91500 Japanese Yen ","Print"]
[]
[null,"1 Japanese Yen (JPY) = 0.01206 US Dollar (USD)","Info"]
[]
[null,"Interbank rate +/- 0%","FXConverter Mobile [BlackBerry Eddition]"]
[]
[null,"This means:","Traveler's cheatsheet"]
[null,"You buy 1 US Dollar :     82.91500 Japanese Yen"]
[null,"You sell 1 US Dollar :     82.81500 Japanese Yen "]
[null,"You buy 1 Japanese Yen :     0.01208 US Dollar"]
[null,"You sell 1 Japanese Yen :     0.01206 US Dollar "]
[]
[null,"Median price = 82.81500 / 82.91500 (bid/ask)"]
[null,"Minimum price = 82.81500 / 82.91500"]
[null,"Maximum price = 82.81500 / 82.91500"]
[]
[null,"Rate for previous or next day"]
[null,"Get exchange rates with amount:"]
[]
[null,"Trade with OANDAOpen demo accountSend money with OANDA"]
[]
[]
[]
[null,"Also See..."]
[]
[null,"FXTrade: trade currencies with tight spreads, no minimum deposit and earn continuous interest on your money."]
[null,"FXGlobalTransfer: Send money overseas to 230 countries."]
[null,"FXTradeTicker: A Yahoo! Widget which shows live FX rates and FXTrade/FXGame account status."]
[null,"iPhone Currency Converter: Visit the iPhone store to download OANDA's currency converter."]
[null,"Travel Expense Report Manager (FXPense): Create multi-currency expense reports online and save it in MS Excel."]
[null,"Link to Currency Converter: Find out how to link to OANDA's FXConverter."]
[]
[]
["TRY ALSO..."]
[]
["NEW Currency Converter"]
["Currency Converter Widget"]
["iPhone Converter"]
["BlackBerry Converter"]
["Android Converter"]
["Money Transfers"]
["Exchange Rate Feeds"]
[]
["Foreign Exchange Tools"]
[]
["Historical Exchange Rates"]
["Live Exchange Rates"]
["Mobile Currency Apps"]
["Currency Data"]
["Currency Widgets"]
[]
["Mobile Currency Apps"]
[]
["iPhone Currency App"]
["Android Currency App"]
["Blackberry Currency App"]
["PlayBook Currency App"]
["Windows Phone 7 Currency App"]
[]
["Currency Quick Links"]
[]
["Free Converter Widget"]
["Currency Data Feeds"]
["Big Mac Index"]
["EUR/USD Rates"]
[]
["1996 - 2012 OANDA Corporation. All rights reserved. \"OANDA\", \"fxTrade\" and OANDA's \"fx\" family of trade marks are owned by OANDA Corporation. All other trade marks appearing on this Website are the property of their respective owners. "]
["OANDA Services"]
[]
["Forex Trading"]
["Currency Converter"]
["Rate Subscriptions"]
["Money Transfers"]
["Forex Blog"]
["Currency Hedging"]
["fxUnity"]
[]
["About OANDA"]
[]
["About Us"]
["Our Story"]
["Corporate Blog"]
["Press Room"]
["Jobs"]
[]
["Terms of Use"]
["Privacy Policy"]
["Site Map"]
["Advertise"]
["Contact Us"]
["Feedback"]

{"sheet":"    KRW    ","index":8,"n_rows":123,"n_cols":3,"rows_kept":123,"cut":false,"hidden":true,"merged":[]}
["ENGLISH"]
[]
["DEUTSCH"]
["ESPAяL"]
["FRANǁIS"]
["ITALIANO"]
["PORTUGUʓ"]
["SVENSKA"]
[]
["Rate Subscriptions "]
["Register Sign in "]
[]
["Forex Trading "]
["Currency Converter "]
["Rate Subscriptions "]
["Money Transfers "]
[]
["Currency Converter"]
["Currency Tools"]
["Mobile"]
[]
["Home "]
["|"]
["fxConverter Classic"]
[]
["Help "]
[]
["fxConverter Classic"]
[]
[]
[null,"Sunday, April 1, 2012","Add to your site"]
[]
[null,"1 US Dollar = 1,133.02 South-Korean Won ","Print"]
[]
[null,"1 South-Korean Won (KRW) = 0.0008826 US Dollar (USD)","Info"]
[]
[null,"Interbank rate +/- 0%","FXConverter Mobile [BlackBerry Eddition]"]
[]
[null,"This means:","Traveler's cheatsheet"]
[null,"You buy 1 US Dollar :     1,133.02 South-Korean Won"]
[null,"You sell 1 US Dollar :     1,130.84 South-Korean Won "]
[null,"You buy 1 South-Korean Won :     0.0008843 US Dollar"]
[null,"You sell 1 South-Korean Won :     0.0008826 US Dollar "]
[]
[null,"Median price = 1,130.84 / 1,133.02 (bid/ask)"]
[null,"Minimum price = 1,130.71 / 1,132.89"]
[null,"Maximum price = 1,130.97 / 1,133.14"]
[]
[null,"Rate for previous or next day"]
[null,"Get exchange rates with amount:"]
[]
[null,"Trade with OANDAOpen demo accountSend money with OANDA"]
[]
[]
[]
[null,"Also See..."]
[]
[null,"FXTrade: trade currencies with tight spreads, no minimum deposit and earn continuous interest on your money."]
[null,"FXGlobalTransfer: Send money overseas to 230 countries."]
[null,"FXTradeTicker: A Yahoo! Widget which shows live FX rates and FXTrade/FXGame account status."]
[null,"iPhone Currency Converter: Visit the iPhone store to download OANDA's currency converter."]
[null,"Travel Expense Report Manager (FXPense): Create multi-currency expense reports online and save it in MS Excel."]
[null,"Link to Currency Converter: Find out how to link to OANDA's FXConverter."]
[]
[]
["TRY ALSO..."]
[]
["NEW Currency Converter"]
["Currency Converter Widget"]
["iPhone Converter"]
["BlackBerry Converter"]
["Android Converter"]
["Money Transfers"]
["Exchange Rate Feeds"]
[]
["Foreign Exchange Tools"]
[]
["Historical Exchange Rates"]
["Live Exchange Rates"]
["Mobile Currency Apps"]
["Currency Data"]
["Currency Widgets"]
[]
["Mobile Currency Apps"]
[]
["iPhone Currency App"]
["Android Currency App"]
["Blackberry Currency App"]
["PlayBook Currency App"]
["Windows Phone 7 Currency App"]
[]
["Currency Quick Links"]
[]
["Free Converter Widget"]
["Currency Data Feeds"]
["Big Mac Index"]
["EUR/USD Rates"]
[]
["1996 - 2012 OANDA Corporation. All rights reserved. \"OANDA\", \"fxTrade\" and OANDA's \"fx\" family of trade marks are owned by OANDA Corporation. All other trade marks appearing on this Website are the property of their respective owners. "]
["OANDA Services"]
[]
["Forex Trading"]
["Currency Converter"]
["Rate Subscriptions"]
["Money Transfers"]
["Forex Blog"]
["Currency Hedging"]
["fxUnity"]
[]
["About OANDA"]
[]
["About Us"]
["Our Story"]
["Corporate Blog"]
["Press Room"]
["Jobs"]
[]
["Terms of Use"]
["Privacy Policy"]
["Site Map"]
["Advertise"]
["Contact Us"]
["Feedback"]

{"sheet":"    MOP    ","index":9,"n_rows":123,"n_cols":3,"rows_kept":123,"cut":false,"hidden":true,"merged":[]}
["ENGLISH"]
[]
["DEUTSCH"]
["ESPAяL"]
["FRANǁIS"]
["ITALIANO"]
["PORTUGUʓ"]
["SVENSKA"]
[]
["Rate Subscriptions "]
["Register Sign in "]
[]
["Forex Trading "]
["Currency Converter "]
["Rate Subscriptions "]
["Money Transfers "]
[]
["Currency Converter"]
["Currency Tools"]
["Mobile"]
[]
["Home "]
["|"]
["fxConverter Classic"]
[]
["Help "]
[]
["fxConverter Classic"]
[]
[]
[null,"Sunday, April 1, 2012","Add to your site"]
[]
[null,"1 US Dollar = 8.14455 Macau Pataca ","Print"]
[]
[null,"1 Macau Pataca (MOP) = 0.12278 US Dollar (USD)","Info"]
[]
[null,"Interbank rate +/- 0%","FXConverter Mobile [BlackBerry Eddition]"]
[]
[null,"This means:","Traveler's cheatsheet"]
[null,"You buy 1 US Dollar :     8.14455 Macau Pataca"]
[null,"You sell 1 US Dollar :     7.84463 Macau Pataca "]
[null,"You buy 1 Macau Pataca :     0.12748 US Dollar"]
[null,"You sell 1 Macau Pataca :     0.12278 US Dollar "]
[]
[null,"Median price = 7.84463 / 8.14455 (bid/ask)"]
[null,"Minimum price = 7.84310 / 8.14290"]
[null,"Maximum price = 7.84570 / 8.14570"]
[]
[null,"Rate for previous or next day"]
[null,"Get exchange rates with amount:"]
[]
[null,"Trade with OANDAOpen demo accountSend money with OANDA"]
[]
[]
[]
[null,"Also See..."]
[]
[null,"FXTrade: trade currencies with tight spreads, no minimum deposit and earn continuous interest on your money."]
[null,"FXGlobalTransfer: Send money overseas to 230 countries."]
[null,"FXTradeTicker: A Yahoo! Widget which shows live FX rates and FXTrade/FXGame account status."]
[null,"iPhone Currency Converter: Visit the iPhone store to download OANDA's currency converter."]
[null,"Travel Expense Report Manager (FXPense): Create multi-currency expense reports online and save it in MS Excel."]
[null,"Link to Currency Converter: Find out how to link to OANDA's FXConverter."]
[]
[]
["TRY ALSO..."]
[]
["NEW Currency Converter"]
["Currency Converter Widget"]
["iPhone Converter"]
["BlackBerry Converter"]
["Android Converter"]
["Money Transfers"]
["Exchange Rate Feeds"]
[]
["Foreign Exchange Tools"]
[]
["Historical Exchange Rates"]
["Live Exchange Rates"]
["Mobile Currency Apps"]
["Currency Data"]
["Currency Widgets"]
[]
["Mobile Currency Apps"]
[]
["iPhone Currency App"]
["Android Currency App"]
["Blackberry Currency App"]
["PlayBook Currency App"]
["Windows Phone 7 Currency App"]
[]
["Currency Quick Links"]
[]
["Free Converter Widget"]
["Currency Data Feeds"]
["Big Mac Index"]
["EUR/USD Rates"]
[]
["1996 - 2012 OANDA Corporation. All rights reserved. \"OANDA\", \"fxTrade\" and OANDA's \"fx\" family of trade marks are owned by OANDA Corporation. All other trade marks appearing on this Website are the property of their respective owners. "]
["OANDA Services"]
[]
["Forex Trading"]
["Currency Converter"]
["Rate Subscriptions"]
["Money Transfers"]
["Forex Blog"]
["Currency Hedging"]
["fxUnity"]
[]
["About OANDA"]
[]
["About Us"]
["Our Story"]
["Corporate Blog"]
["Press Room"]
["Jobs"]
[]
["Terms of Use"]
["Privacy Policy"]
["Site Map"]
["Advertise"]
["Contact Us"]
["Feedback"]

{"sheet":"    MYR    ","index":10,"n_rows":123,"n_cols":3,"rows_kept":123,"cut":false,"hidden":true,"merged":[]}
["ENGLISH"]
[]
["DEUTSCH"]
["ESPAяL"]
["FRANǁIS"]
["ITALIANO"]
["PORTUGUʓ"]
["SVENSKA"]
[]
["Rate Subscriptions "]
["Register Sign in "]
[]
["Forex Trading "]
["Currency Converter "]
["Rate Subscriptions "]
["Money Transfers "]
[]
["Currency Converter"]
["Currency Tools"]
["Mobile"]
[]
["Home "]
["|"]
["fxConverter Classic"]
[]
["Help "]
[]
["fxConverter Classic"]
[]
[]
[null,"Sunday, April 1, 2012","Add to your site"]
[]
[null,"1 US Dollar = 3.06509 Malaysian Ringgit ","Print"]
[]
[null,"1 Malaysian Ringgit (MYR) = 0.32625 US Dollar (USD)","Info"]
[]
[null,"Interbank rate +/- 0%","FXConverter Mobile [BlackBerry Eddition]"]
[]
[null,"This means:","Traveler's cheatsheet"]
[null,"You buy 1 US Dollar :     3.06509 Malaysian Ringgit"]
[null,"You sell 1 US Dollar :     3.05913 Malaysian Ringgit "]
[null,"You buy 1 Malaysian Ringgit :     0.32689 US Dollar"]
[null,"You sell 1 Malaysian Ringgit :     0.32625 US Dollar "]
[]
[null,"Median price = 3.05913 / 3.06509 (bid/ask)"]
[null,"Minimum price = 3.05680 / 3.06470"]
[null,"Maximum price = 3.05940 / 3.06680"]
[]
[null,"Rate for previous or next day"]
[null,"Get exchange rates with amount:"]
[]
[null,"Trade with OANDAOpen demo accountSend money with OANDA"]
[]
[]
[]
[null,"Also See..."]
[]
[null,"FXTrade: trade currencies with tight spreads, no minimum deposit and earn continuous interest on your money."]
[null,"FXGlobalTransfer: Send money overseas to 230 countries."]
[null,"FXTradeTicker: A Yahoo! Widget which shows live FX rates and FXTrade/FXGame account status."]
[null,"iPhone Currency Converter: Visit the iPhone store to download OANDA's currency converter."]
[null,"Travel Expense Report Manager (FXPense): Create multi-currency expense reports online and save it in MS Excel."]
[null,"Link to Currency Converter: Find out how to link to OANDA's FXConverter."]
[]
[]
["TRY ALSO..."]
[]
["NEW Currency Converter"]
["Currency Converter Widget"]
["iPhone Converter"]
["BlackBerry Converter"]
["Android Converter"]
["Money Transfers"]
["Exchange Rate Feeds"]
[]
["Foreign Exchange Tools"]
[]
["Historical Exchange Rates"]
["Live Exchange Rates"]
["Mobile Currency Apps"]
["Currency Data"]
["Currency Widgets"]
[]
["Mobile Currency Apps"]
[]
["iPhone Currency App"]
["Android Currency App"]
["Blackberry Currency App"]
["PlayBook Currency App"]
["Windows Phone 7 Currency App"]
[]
["Currency Quick Links"]
[]
["Free Converter Widget"]
["Currency Data Feeds"]
["Big Mac Index"]
["EUR/USD Rates"]
[]
["1996 - 2012 OANDA Corporation. All rights reserved. \"OANDA\", \"fxTrade\" and OANDA's \"fx\" family of trade marks are owned by OANDA Corporation. All other trade marks appearing on this Website are the property of their respective owners. "]
["OANDA Services"]
[]
["Forex Trading"]
["Currency Converter"]
["Rate Subscriptions"]
["Money Transfers"]
["Forex Blog"]
["Currency Hedging"]
["fxUnity"]
[]
["About OANDA"]
[]
["About Us"]
["Our Story"]
["Corporate Blog"]
["Press Room"]
["Jobs"]
[]
["Terms of Use"]
["Privacy Policy"]
["Site Map"]
["Advertise"]
["Contact Us"]
["Feedback"]

{"sheet":"    MXN    ","index":11,"n_rows":123,"n_cols":3,"rows_kept":123,"cut":false,"hidden":true,"merged":[]}
["ENGLISH"]
[]
["DEUTSCH"]
["ESPAяL"]
["FRANǁIS"]
["ITALIANO"]
["PORTUGUʓ"]
["SVENSKA"]
[]
["Rate Subscriptions "]
["Register Sign in "]
[]
["Forex Trading "]
["Currency Converter "]
["Rate Subscriptions "]
["Money Transfers "]
[]
["Currency Converter"]
["Currency Tools"]
["Mobile"]
[]
["Home "]
["|"]
["fxConverter Classic"]
[]
["Help "]
[]
["fxConverter Classic"]
[]
[]
[null,"Sunday, April 1, 2012","Add to your site"]
[]
[null,"1 US Dollar = 12.82643 Mexican Peso ","Print"]
[]
[null,"1 Mexican Peso (MXN) = 0.07796 US Dollar (USD)","Info"]
[]
[null,"Interbank rate +/- 0%","FXConverter Mobile [BlackBerry Eddition]"]
[]
[null,"This means:","Traveler's cheatsheet"]
[null,"You buy 1 US Dollar :     12.82643 Mexican Peso"]
[null,"You sell 1 US Dollar :     12.78643 Mexican Peso "]
[null,"You buy 1 Mexican Peso :     0.07821 US Dollar"]
[null,"You sell 1 Mexican Peso :     0.07796 US Dollar "]
[]
[null,"Median price = 12.78643 / 12.82643 (bid/ask)"]
[null,"Minimum price = 12.78643 / 12.82643"]
[null,"Maximum price = 12.78643 / 12.82643"]
[]
[null,"Rate for previous or next day"]
[null,"Get exchange rates with amount:"]
[]
[null,"Trade with OANDAOpen demo accountSend money with OANDA"]
[]
[]
[]
[null,"Also See..."]
[]
[null,"FXTrade: trade currencies with tight spreads, no minimum deposit and earn continuous interest on your money."]
[null,"FXGlobalTransfer: Send money overseas to 230 countries."]
[null,"FXTradeTicker: A Yahoo! Widget which shows live FX rates and FXTrade/FXGame account status."]
[null,"iPhone Currency Converter: Visit the iPhone store to download OANDA's currency converter."]
[null,"Travel Expense Report Manager (FXPense): Create multi-currency expense reports online and save it in MS Excel."]
[null,"Link to Currency Converter: Find out how to link to OANDA's FXConverter."]
[]
[]
["TRY ALSO..."]
[]
["NEW Currency Converter"]
["Currency Converter Widget"]
["iPhone Converter"]
["BlackBerry Converter"]
["Android Converter"]
["Money Transfers"]
["Exchange Rate Feeds"]
[]
["Foreign Exchange Tools"]
[]
["Historical Exchange Rates"]
["Live Exchange Rates"]
["Mobile Currency Apps"]
["Currency Data"]
["Currency Widgets"]
[]
["Mobile Currency Apps"]
[]
["iPhone Currency App"]
["Android Currency App"]
["Blackberry Currency App"]
["PlayBook Currency App"]
["Windows Phone 7 Currency App"]
[]
["Currency Quick Links"]
[]
["Free Converter Widget"]
["Currency Data Feeds"]
["Big Mac Index"]
["EUR/USD Rates"]
[]
["1996 - 2012 OANDA Corporation. All rights reserved. \"OANDA\", \"fxTrade\" and OANDA's \"fx\" family of trade marks are owned by OANDA Corporation. All other trade marks appearing on this Website are the property of their respective owners. "]
["OANDA Services"]
[]
["Forex Trading"]
["Currency Converter"]
["Rate Subscriptions"]
["Money Transfers"]
["Forex Blog"]
["Currency Hedging"]
["fxUnity"]
[]
["About OANDA"]
[]
["About Us"]
["Our Story"]
["Corporate Blog"]
["Press Room"]
["Jobs"]
[]
["Terms of Use"]
["Privacy Policy"]
["Site Map"]
["Advertise"]
["Contact Us"]
["Feedback"]

{"sheet":"    PHP    ","index":12,"n_rows":123,"n_cols":3,"rows_kept":123,"cut":false,"hidden":true,"merged":[]}
["ENGLISH"]
[]
["DEUTSCH"]
["ESPAяL"]
["FRANǁIS"]
["ITALIANO"]
["PORTUGUʓ"]
["SVENSKA"]
[]
["Rate Subscriptions "]
["Register Sign in "]
[]
["Forex Trading "]
["Currency Converter "]
["Rate Subscriptions "]
["Money Transfers "]
[]
["Currency Converter"]
["Currency Tools"]
["Mobile"]
[]
["Home "]
["|"]
["fxConverter Classic"]
[]
["Help "]
[]
["fxConverter Classic"]
[]
[]
[null,"Sunday, April 1, 2012","Add to your site"]
[]
[null,"1 US Dollar = 43.03562 Philippine Peso ","Print"]
[]
[null,"1 Philippine Peso (PHP) = 0.02324 US Dollar (USD)","Info"]
[]
[null,"Interbank rate +/- 0%","FXConverter Mobile [BlackBerry Eddition]"]
[]
[null,"This means:","Traveler's cheatsheet"]
[null,"You buy 1 US Dollar :     43.03562 Philippine Peso"]
[null,"You sell 1 US Dollar :     42.82543 Philippine Peso "]
[null,"You buy 1 Philippine Peso :     0.02335 US Dollar"]
[null,"You sell 1 Philippine Peso :     0.02324 US Dollar "]
[]
[null,"Median price = 42.82543 / 43.03562 (bid/ask)"]
[null,"Minimum price = 42.78700 / 43.01200"]
[null,"Maximum price = 42.84500 / 43.04500"]
[]
[null,"Rate for previous or next day"]
[null,"Get exchange rates with amount:"]
[]
[null,"Trade with OANDAOpen demo accountSend money with OANDA"]
[]
[]
[]
[null,"Also See..."]
[]
[null,"FXTrade: trade currencies with tight spreads, no minimum deposit and earn continuous interest on your money."]
[null,"FXGlobalTransfer: Send money overseas to 230 countries."]
[null,"FXTradeTicker: A Yahoo! Widget which shows live FX rates and FXTrade/FXGame account status."]
[null,"iPhone Currency Converter: Visit the iPhone store to download OANDA's currency converter."]
[null,"Travel Expense Report Manager (FXPense): Create multi-currency expense reports online and save it in MS Excel."]
[null,"Link to Currency Converter: Find out how to link to OANDA's FXConverter."]
[]
[]
["TRY ALSO..."]
[]
["NEW Currency Converter"]
["Currency Converter Widget"]
["iPhone Converter"]
["BlackBerry Converter"]
["Android Converter"]
["Money Transfers"]
["Exchange Rate Feeds"]
[]
["Foreign Exchange Tools"]
[]
["Historical Exchange Rates"]
["Live Exchange Rates"]
["Mobile Currency Apps"]
["Currency Data"]
["Currency Widgets"]
[]
["Mobile Currency Apps"]
[]
["iPhone Currency App"]
["Android Currency App"]
["Blackberry Currency App"]
["PlayBook Currency App"]
["Windows Phone 7 Currency App"]
[]
["Currency Quick Links"]
[]
["Free Converter Widget"]
["Currency Data Feeds"]
["Big Mac Index"]
["EUR/USD Rates"]
[]
["1996 - 2012 OANDA Corporation. All rights reserved. \"OANDA\", \"fxTrade\" and OANDA's \"fx\" family of trade marks are owned by OANDA Corporation. All other trade marks appearing on this Website are the property of their respective owners. "]
["OANDA Services"]
[]
["Forex Trading"]
["Currency Converter"]
["Rate Subscriptions"]
["Money Transfers"]
["Forex Blog"]
["Currency Hedging"]
["fxUnity"]
[]
["About OANDA"]
[]
["About Us"]
["Our Story"]
["Corporate Blog"]
["Press Room"]
["Jobs"]
[]
["Terms of Use"]
["Privacy Policy"]
["Site Map"]
["Advertise"]
["Contact Us"]
["Feedback"]

{"sheet":" CAD ","index":13,"n_rows":123,"n_cols":3,"rows_kept":123,"cut":false,"hidden":true,"merged":[]}
["ENGLISH"]
[]
["DEUTSCH"]
["ESPAяL"]
["FRANǁIS"]
["ITALIANO"]
["PORTUGUʓ"]
["SVENSKA"]
[]
["Rate Subscriptions "]
["Register Sign in "]
[]
["Forex Trading "]
["Currency Converter "]
["Rate Subscriptions "]
["Money Transfers "]
[]
["Currency Converter"]
["Currency Tools"]
["Mobile"]
[]
["Home "]
["|"]
["fxConverter Classic"]
[]
["Help "]
[]
["fxConverter Classic"]
[]
[]
[null,"Sunday, April 1, 2012","Add to your site"]
[]
[null,"1 US Dollar = 0.99915 Canadian Dollar ","Print"]
[]
[null,"1 Canadian Dollar (CAD) = 1.00085 US Dollar (USD)","Info"]
[]
[null,"Interbank rate +/- 0%","FXConverter Mobile [BlackBerry Eddition]"]
[]
[null,"This means:","Traveler's cheatsheet"]
[null,"You buy 1 US Dollar :     0.99915 Canadian Dollar"]
[null,"You sell 1 US Dollar :     0.99815 Canadian Dollar "]
[null,"You buy 1 Canadian Dollar :     1.00185 US Dollar"]
[null,"You sell 1 Canadian Dollar :     1.00085 US Dollar "]
[]
[null,"Median price = 0.99815 / 0.99915 (bid/ask)"]
[null,"Minimum price = 0.99815 / 0.99915"]
[null,"Maximum price = 0.99815 / 0.99915"]
[]
[null,"Rate for previous or next day"]
[null,"Get exchange rates with amount:"]
[]
[null,"Trade with OANDAOpen demo accountSend money with OANDA"]
[]
[]
[]
[null,"Also See..."]
[]
[null,"FXTrade: trade currencies with tight spreads, no minimum deposit and earn continuous interest on your money."]
[null,"FXGlobalTransfer: Send money overseas to 230 countries."]
[null,"FXTradeTicker: A Yahoo! Widget which shows live FX rates and FXTrade/FXGame account status."]
[null,"iPhone Currency Converter: Visit the iPhone store to download OANDA's currency converter."]
[null,"Travel Expense Report Manager (FXPense): Create multi-currency expense reports online and save it in MS Excel."]
[null,"Link to Currency Converter: Find out how to link to OANDA's FXConverter."]
[]
[]
["TRY ALSO..."]
[]
["NEW Currency Converter"]
["Currency Converter Widget"]
["iPhone Converter"]
["BlackBerry Converter"]
["Android Converter"]
["Money Transfers"]
["Exchange Rate Feeds"]
[]
["Foreign Exchange Tools"]
[]
["Historical Exchange Rates"]
["Live Exchange Rates"]
["Mobile Currency Apps"]
["Currency Data"]
["Currency Widgets"]
[]
["Mobile Currency Apps"]
[]
["iPhone Currency App"]
["Android Currency App"]
["Blackberry Currency App"]
["PlayBook Currency App"]
["Windows Phone 7 Currency App"]
[]
["Currency Quick Links"]
[]
["Free Converter Widget"]
["Currency Data Feeds"]
["Big Mac Index"]
["EUR/USD Rates"]
[]
["1996 - 2012 OANDA Corporation. All rights reserved. \"OANDA\", \"fxTrade\" and OANDA's \"fx\" family of trade marks are owned by OANDA Corporation. All other trade marks appearing on this Website are the property of their respective owners. "]
["OANDA Services"]
[]
["Forex Trading"]
["Currency Converter"]
["Rate Subscriptions"]
["Money Transfers"]
["Forex Blog"]
["Currency Hedging"]
["fxUnity"]
[]
["About OANDA"]
[]
["About Us"]
["Our Story"]
["Corporate Blog"]
["Press Room"]
["Jobs"]
[]
["Terms of Use"]
["Privacy Policy"]
["Site Map"]
["Advertise"]
["Contact Us"]
["Feedback"]

{"sheet":" CNY ","index":14,"n_rows":123,"n_cols":3,"rows_kept":123,"cut":false,"hidden":true,"merged":[]}
["ENGLISH"]
[]
["DEUTSCH"]
["ESPAяL"]
["FRANǁIS"]
["ITALIANO"]
["PORTUGUʓ"]
["SVENSKA"]
[]
["Rate Subscriptions "]
["Register Sign in "]
[]
["Forex Trading "]
["Currency Converter "]
["Rate Subscriptions "]
["Money Transfers "]
[]
["Currency Converter"]
["Currency Tools"]
["Mobile"]
[]
["Home "]
["|"]
["fxConverter Classic"]
[]
["Help "]
[]
["fxConverter Classic"]
[]
[]
[null,"Sunday, April 1, 2012","Add to your site"]
[]
[null,"1 US Dollar = 6.34250 Chinese Yuan Renminbi ","Print"]
[]
[null,"1 Chinese Yuan Renminbi (CNY) = 0.15767 US Dollar (USD)","Info"]
[]
[null,"Interbank rate +/- 0%","FXConverter Mobile [BlackBerry Eddition]"]
[]
[null,"This means:","Traveler's cheatsheet"]
[null,"You buy 1 US Dollar :     6.34250 Chinese Yuan Renminbi"]
[null,"You sell 1 US Dollar :     6.29250 Chinese Yuan Renminbi "]
[null,"You buy 1 Chinese Yuan Renminbi :     0.15892 US Dollar"]
[null,"You sell 1 Chinese Yuan Renminbi :     0.15767 US Dollar "]
[]
[null,"Median price = 6.29250 / 6.34250 (bid/ask)"]
[null,"Minimum price = 6.29250 / 6.34250"]
[null,"Maximum price = 6.29250 / 6.34250"]
[]
[null,"Rate for previous or next day"]
[null,"Get exchange rates with amount:"]
[]
[null,"Trade with OANDAOpen demo accountSend money with OANDA"]
[]
[]
[]
[null,"Also See..."]
[]
[null,"FXTrade: trade currencies with tight spreads, no minimum deposit and earn continuous interest on your money."]
[null,"FXGlobalTransfer: Send money overseas to 230 countries."]
[null,"FXTradeTicker: A Yahoo! Widget which shows live FX rates and FXTrade/FXGame account status."]
[null,"iPhone Currency Converter: Visit the iPhone store to download OANDA's currency converter."]
[null,"Travel Expense Report Manager (FXPense): Create multi-currency expense reports online and save it in MS Excel."]
[null,"Link to Currency Converter: Find out how to link to OANDA's FXConverter."]
[]
[]
["TRY ALSO..."]
[]
["NEW Currency Converter"]
["Currency Converter Widget"]
["iPhone Converter"]
["BlackBerry Converter"]
["Android Converter"]
["Money Transfers"]
["Exchange Rate Feeds"]
[]
["Foreign Exchange Tools"]
[]
["Historical Exchange Rates"]
["Live Exchange Rates"]
["Mobile Currency Apps"]
["Currency Data"]
["Currency Widgets"]
[]
["Mobile Currency Apps"]
[]
["iPhone Currency App"]
["Android Currency App"]
["Blackberry Currency App"]
["PlayBook Currency App"]
["Windows Phone 7 Currency App"]
[]
["Currency Quick Links"]
[]
["Free Converter Widget"]
["Currency Data Feeds"]
["Big Mac Index"]
["EUR/USD Rates"]
[]
["1996 - 2012 OANDA Corporation. All rights reserved. \"OANDA\", \"fxTrade\" and OANDA's \"fx\" family of trade marks are owned by OANDA Corporation. All other trade marks appearing on this Website are the property of their respective owners. "]
["OANDA Services"]
[]
["Forex Trading"]
["Currency Converter"]
["Rate Subscriptions"]
["Money Transfers"]
["Forex Blog"]
["Currency Hedging"]
["fxUnity"]
[]
["About OANDA"]
[]
["About Us"]
["Our Story"]
["Corporate Blog"]
["Press Room"]
["Jobs"]
[]
["Terms of Use"]
["Privacy Policy"]
["Site Map"]
["Advertise"]
["Contact Us"]
["Feedback"]

{"sheet":" COP ","index":15,"n_rows":123,"n_cols":3,"rows_kept":123,"cut":false,"hidden":true,"merged":[]}
["ENGLISH"]
[]
["DEUTSCH"]
["ESPAяL"]
["FRANǁIS"]
["ITALIANO"]
["PORTUGUʓ"]
["SVENSKA"]
[]
["Rate Subscriptions "]
["Register Sign in "]
[]
["Forex Trading "]
["Currency Converter "]
["Rate Subscriptions "]
["Money Transfers "]
[]
["Currency Converter"]
["Currency Tools"]
["Mobile"]
[]
["Home "]
["|"]
["fxConverter Classic"]
[]
["Help "]
[]
["fxConverter Classic"]
[]
[]
[null,"Sunday, April 1, 2012","Add to your site"]
[]
[null,"1 US Dollar = 1,808.15 Colombian Peso ","Print"]
[]
[null,"1 Colombian Peso (COP) = 0.0005531 US Dollar (USD)","Info"]
[]
[null,"Interbank rate +/- 0%","FXConverter Mobile [BlackBerry Eddition]"]
[]
[null,"This means:","Traveler's cheatsheet"]
[null,"You buy 1 US Dollar :     1,808.15 Colombian Peso"]
[null,"You sell 1 US Dollar :     1,775.03 Colombian Peso "]
[null,"You buy 1 Colombian Peso :     0.0005634 US Dollar"]
[null,"You sell 1 Colombian Peso :     0.0005531 US Dollar "]
[]
[null,"Median price = 1,775.03 / 1,808.15 (bid/ask)"]
[null,"Minimum price = 1,753.50 / 1,794.00"]
[null,"Maximum price = 1,790.00 / 1,828.50"]
[]
[null,"Rate for previous or next day"]
[null,"Get exchange rates with amount:"]
[]
[null,"Trade with OANDAOpen demo accountSend money with OANDA"]
[]
[]
[]
[null,"Also See..."]
[]
[null,"FXTrade: trade currencies with tight spreads, no minimum deposit and earn continuous interest on your money."]
[null,"FXGlobalTransfer: Send money overseas to 230 countries."]
[null,"FXTradeTicker: A Yahoo! Widget which shows live FX rates and FXTrade/FXGame account status."]
[null,"iPhone Currency Converter: Visit the iPhone store to download OANDA's currency converter."]
[null,"Travel Expense Report Manager (FXPense): Create multi-currency expense reports online and save it in MS Excel."]
[null,"Link to Currency Converter: Find out how to link to OANDA's FXConverter."]
[]
[]
["TRY ALSO..."]
[]
["NEW Currency Converter"]
["Currency Converter Widget"]
["iPhone Converter"]
["BlackBerry Converter"]
["Android Converter"]
["Money Transfers"]
["Exchange Rate Feeds"]
[]
["Foreign Exchange Tools"]
[]
["Historical Exchange Rates"]
["Live Exchange Rates"]
["Mobile Currency Apps"]
["Currency Data"]
["Currency Widgets"]
[]
["Mobile Currency Apps"]
[]
["iPhone Currency App"]
["Android Currency App"]
["Blackberry Currency App"]
["PlayBook Currency App"]
["Windows Phone 7 Currency App"]
[]
["Currency Quick Links"]
[]
["Free Converter Widget"]
["Currency Data Feeds"]
["Big Mac Index"]
["EUR/USD Rates"]
[]
["1996 - 2012 OANDA Corporation. All rights reserved. \"OANDA\", \"fxTrade\" and OANDA's \"fx\" family of trade marks are owned by OANDA Corporation. All other trade marks appearing on this Website are the property of their respective owners. "]
["OANDA Services"]
[]
["Forex Trading"]
["Currency Converter"]
["Rate Subscriptions"]
["Money Transfers"]
["Forex Blog"]
["Currency Hedging"]
["fxUnity"]
[]
["About OANDA"]
[]
["About Us"]
["Our Story"]
["Corporate Blog"]
["Press Room"]
["Jobs"]
[]
["Terms of Use"]
["Privacy Policy"]
["Site Map"]
["Advertise"]
["Contact Us"]
["Feedback"]

{"sheet":" HKD ","index":16,"n_rows":123,"n_cols":3,"rows_kept":123,"cut":false,"hidden":true,"merged":[]}
["ENGLISH"]
[]
["DEUTSCH"]
["ESPAяL"]
["FRANǁIS"]
["ITALIANO"]
["PORTUGUʓ"]
["SVENSKA"]
[]
["Rate Subscriptions "]
["Register Sign in "]
[]
["Forex Trading "]
["Currency Converter "]
["Rate Subscriptions "]
["Money Transfers "]
[]
["Currency Converter"]
["Currency Tools"]
["Mobile"]
[]
["Home "]
["|"]
["fxConverter Classic"]
[]
["Help "]
[]
["fxConverter Classic"]
[]
[]
[null,"Sunday, April 1, 2012","Add to your site"]
[]
[null,"1 US Dollar = 7.76745 Hong Kong Dollar ","Print"]
[]
[null,"1 Hong Kong Dollar (HKD) = 0.12874 US Dollar (USD)","Info"]
[]
[null,"Interbank rate +/- 0%","FXConverter Mobile [BlackBerry Eddition]"]
[]
[null,"This means:","Traveler's cheatsheet"]
[null,"You buy 1 US Dollar :     7.76745 Hong Kong Dollar"]
[null,"You sell 1 US Dollar :     7.76445 Hong Kong Dollar "]
[null,"You buy 1 Hong Kong Dollar :     0.12879 US Dollar"]
[null,"You sell 1 Hong Kong Dollar :     0.12874 US Dollar "]
[]
[null,"Median price = 7.76445 / 7.76745 (bid/ask)"]
[null,"Minimum price = 7.76445 / 7.76745"]
[null,"Maximum price = 7.76445 / 7.76745"]
[]
[null,"Rate for previous or next day"]
[null,"Get exchange rates with amount:"]
[]
[null,"Trade with OANDAOpen demo accountSend money with OANDA"]
[]
[]
[]
[null,"Also See..."]
[]
[null,"FXTrade: trade currencies with tight spreads, no minimum deposit and earn continuous interest on your money."]
[null,"FXGlobalTransfer: Send money overseas to 230 countries."]
[null,"FXTradeTicker: A Yahoo! Widget which shows live FX rates and FXTrade/FXGame account status."]
[null,"iPhone Currency Converter: Visit the iPhone store to download OANDA's currency converter."]
[null,"Travel Expense Report Manager (FXPense): Create multi-currency expense reports online and save it in MS Excel."]
[null,"Link to Currency Converter: Find out how to link to OANDA's FXConverter."]
[]
[]
["TRY ALSO..."]
[]
["NEW Currency Converter"]
["Currency Converter Widget"]
["iPhone Converter"]
["BlackBerry Converter"]
["Android Converter"]
["Money Transfers"]
["Exchange Rate Feeds"]
[]
["Foreign Exchange Tools"]
[]
["Historical Exchange Rates"]
["Live Exchange Rates"]
["Mobile Currency Apps"]
["Currency Data"]
["Currency Widgets"]
[]
["Mobile Currency Apps"]
[]
["iPhone Currency App"]
["Android Currency App"]
["Blackberry Currency App"]
["PlayBook Currency App"]
["Windows Phone 7 Currency App"]
[]
["Currency Quick Links"]
[]
["Free Converter Widget"]
["Currency Data Feeds"]
["Big Mac Index"]
["EUR/USD Rates"]
[]
["1996 - 2012 OANDA Corporation. All rights reserved. \"OANDA\", \"fxTrade\" and OANDA's \"fx\" family of trade marks are owned by OANDA Corporation. All other trade marks appearing on this Website are the property of their respective owners. "]
["OANDA Services"]
[]
["Forex Trading"]
["Currency Converter"]
["Rate Subscriptions"]
["Money Transfers"]
["Forex Blog"]
["Currency Hedging"]
["fxUnity"]
[]
["About OANDA"]
[]
["About Us"]
["Our Story"]
["Corporate Blog"]
["Press Room"]
["Jobs"]
[]
["Terms of Use"]
["Privacy Policy"]
["Site Map"]
["Advertise"]
["Contact Us"]
["Feedback"]

{"sheet":" JPY ","index":17,"n_rows":123,"n_cols":3,"rows_kept":123,"cut":false,"hidden":true,"merged":[]}
["ENGLISH"]
[]
["DEUTSCH"]
["ESPAяL"]
["FRANǁIS"]
["ITALIANO"]
["PORTUGUʓ"]
["SVENSKA"]
[]
["Rate Subscriptions "]
["Register Sign in "]
[]
["Forex Trading "]
["Currency Converter "]
["Rate Subscriptions "]
["Money Transfers "]
[]
["Currency Converter"]
["Currency Tools"]
["Mobile"]
[]
["Home "]
["|"]
["fxConverter Classic"]
[]
["Help "]
[]
["fxConverter Classic"]
[]
[]
[null,"Sunday, April 1, 2012","Add to your site"]
[]
[null,"1 US Dollar = 82.91500 Japanese Yen ","Print"]
[]
[null,"1 Japanese Yen (JPY) = 0.01206 US Dollar (USD)","Info"]
[]
[null,"Interbank rate +/- 0%","FXConverter Mobile [BlackBerry Eddition]"]
[]
[null,"This means:","Traveler's cheatsheet"]
[null,"You buy 1 US Dollar :     82.91500 Japanese Yen"]
[null,"You sell 1 US Dollar :     82.81500 Japanese Yen "]
[null,"You buy 1 Japanese Yen :     0.01208 US Dollar"]
[null,"You sell 1 Japanese Yen :     0.01206 US Dollar "]
[]
[null,"Median price = 82.81500 / 82.91500 (bid/ask)"]
[null,"Minimum price = 82.81500 / 82.91500"]
[null,"Maximum price = 82.81500 / 82.91500"]
[]
[null,"Rate for previous or next day"]
[null,"Get exchange rates with amount:"]
[]
[null,"Trade with OANDAOpen demo accountSend money with OANDA"]
[]
[]
[]
[null,"Also See..."]
[]
[null,"FXTrade: trade currencies with tight spreads, no minimum deposit and earn continuous interest on your money."]
[null,"FXGlobalTransfer: Send money overseas to 230 countries."]
[null,"FXTradeTicker: A Yahoo! Widget which shows live FX rates and FXTrade/FXGame account status."]
[null,"iPhone Currency Converter: Visit the iPhone store to download OANDA's currency converter."]
[null,"Travel Expense Report Manager (FXPense): Create multi-currency expense reports online and save it in MS Excel."]
[null,"Link to Currency Converter: Find out how to link to OANDA's FXConverter."]
[]
[]
["TRY ALSO..."]
[]
["NEW Currency Converter"]
["Currency Converter Widget"]
["iPhone Converter"]
["BlackBerry Converter"]
["Android Converter"]
["Money Transfers"]
["Exchange Rate Feeds"]
[]
["Foreign Exchange Tools"]
[]
["Historical Exchange Rates"]
["Live Exchange Rates"]
["Mobile Currency Apps"]
["Currency Data"]
["Currency Widgets"]
[]
["Mobile Currency Apps"]
[]
["iPhone Currency App"]
["Android Currency App"]
["Blackberry Currency App"]
["PlayBook Currency App"]
["Windows Phone 7 Currency App"]
[]
["Currency Quick Links"]
[]
["Free Converter Widget"]
["Currency Data Feeds"]
["Big Mac Index"]
["EUR/USD Rates"]
[]
["1996 - 2012 OANDA Corporation. All rights reserved. \"OANDA\", \"fxTrade\" and OANDA's \"fx\" family of trade marks are owned by OANDA Corporation. All other trade marks appearing on this Website are the property of their respective owners. "]
["OANDA Services"]
[]
["Forex Trading"]
["Currency Converter"]
["Rate Subscriptions"]
["Money Transfers"]
["Forex Blog"]
["Currency Hedging"]
["fxUnity"]
[]
["About OANDA"]
[]
["About Us"]
["Our Story"]
["Corporate Blog"]
["Press Room"]
["Jobs"]
[]
["Terms of Use"]
["Privacy Policy"]
["Site Map"]
["Advertise"]
["Contact Us"]
["Feedback"]

{"sheet":" KRW ","index":18,"n_rows":123,"n_cols":3,"rows_kept":123,"cut":false,"hidden":true,"merged":[]}
["ENGLISH"]
[]
["DEUTSCH"]
["ESPAяL"]
["FRANǁIS"]
["ITALIANO"]
["PORTUGUʓ"]
["SVENSKA"]
[]
["Rate Subscriptions "]
["Register Sign in "]
[]
["Forex Trading "]
["Currency Converter "]
["Rate Subscriptions "]
["Money Transfers "]
[]
["Currency Converter"]
["Currency Tools"]
["Mobile"]
[]
["Home "]
["|"]
["fxConverter Classic"]
[]
["Help "]
[]
["fxConverter Classic"]
[]
[]
[null,"Sunday, April 1, 2012","Add to your site"]
[]
[null,"1 US Dollar = 1,133.02 South-Korean Won ","Print"]
[]
[null,"1 South-Korean Won (KRW) = 0.0008826 US Dollar (USD)","Info"]
[]
[null,"Interbank rate +/- 0%","FXConverter Mobile [BlackBerry Eddition]"]
[]
[null,"This means:","Traveler's cheatsheet"]
[null,"You buy 1 US Dollar :     1,133.02 South-Korean Won"]
[null,"You sell 1 US Dollar :     1,130.84 South-Korean Won "]
[null,"You buy 1 South-Korean Won :     0.0008843 US Dollar"]
[null,"You sell 1 South-Korean Won :     0.0008826 US Dollar "]
[]
[null,"Median price = 1,130.84 / 1,133.02 (bid/ask)"]
[null,"Minimum price = 1,130.71 / 1,132.89"]
[null,"Maximum price = 1,130.97 / 1,133.14"]
[]
[null,"Rate for previous or next day"]
[null,"Get exchange rates with amount:"]
[]
[null,"Trade with OANDAOpen demo accountSend money with OANDA"]
[]
[]
[]
[null,"Also See..."]
[]
[null,"FXTrade: trade currencies with tight spreads, no minimum deposit and earn continuous interest on your money."]
[null,"FXGlobalTransfer: Send money overseas to 230 countries."]
[null,"FXTradeTicker: A Yahoo! Widget which shows live FX rates and FXTrade/FXGame account status."]
[null,"iPhone Currency Converter: Visit the iPhone store to download OANDA's currency converter."]
[null,"Travel Expense Report Manager (FXPense): Create multi-currency expense reports online and save it in MS Excel."]
[null,"Link to Currency Converter: Find out how to link to OANDA's FXConverter."]
[]
[]
["TRY ALSO..."]
[]
["NEW Currency Converter"]
["Currency Converter Widget"]
["iPhone Converter"]
["BlackBerry Converter"]
["Android Converter"]
["Money Transfers"]
["Exchange Rate Feeds"]
[]
["Foreign Exchange Tools"]
[]
["Historical Exchange Rates"]
["Live Exchange Rates"]
["Mobile Currency Apps"]
["Currency Data"]
["Currency Widgets"]
[]
["Mobile Currency Apps"]
[]
["iPhone Currency App"]
["Android Currency App"]
["Blackberry Currency App"]
["PlayBook Currency App"]
["Windows Phone 7 Currency App"]
[]
["Currency Quick Links"]
[]
["Free Converter Widget"]
["Currency Data Feeds"]
["Big Mac Index"]
["EUR/USD Rates"]
[]
["1996 - 2012 OANDA Corporation. All rights reserved. \"OANDA\", \"fxTrade\" and OANDA's \"fx\" family of trade marks are owned by OANDA Corporation. All other trade marks appearing on this Website are the property of their respective owners. "]
["OANDA Services"]
[]
["Forex Trading"]
["Currency Converter"]
["Rate Subscriptions"]
["Money Transfers"]
["Forex Blog"]
["Currency Hedging"]
["fxUnity"]
[]
["About OANDA"]
[]
["About Us"]
["Our Story"]
["Corporate Blog"]
["Press Room"]
["Jobs"]
[]
["Terms of Use"]
["Privacy Policy"]
["Site Map"]
["Advertise"]
["Contact Us"]
["Feedback"]

{"sheet":" MOP ","index":19,"n_rows":123,"n_cols":3,"rows_kept":123,"cut":false,"hidden":true,"merged":[]}
["ENGLISH"]
[]
["DEUTSCH"]
["ESPAяL"]
["FRANǁIS"]
["ITALIANO"]
["PORTUGUʓ"]
["SVENSKA"]
[]
["Rate Subscriptions "]
["Register Sign in "]
[]
["Forex Trading "]
["Currency Converter "]
["Rate Subscriptions "]
["Money Transfers "]
[]
["Currency Converter"]
["Currency Tools"]
["Mobile"]
[]
["Home "]
["|"]
["fxConverter Classic"]
[]
["Help "]
[]
["fxConverter Classic"]
[]
[]
[null,"Sunday, April 1, 2012","Add to your site"]
[]
[null,"1 US Dollar = 8.14455 Macau Pataca ","Print"]
[]
[null,"1 Macau Pataca (MOP) = 0.12278 US Dollar (USD)","Info"]
[]
[null,"Interbank rate +/- 0%","FXConverter Mobile [BlackBerry Eddition]"]
[]
[null,"This means:","Traveler's cheatsheet"]
[null,"You buy 1 US Dollar :     8.14455 Macau Pataca"]
[null,"You sell 1 US Dollar :     7.84463 Macau Pataca "]
[null,"You buy 1 Macau Pataca :     0.12748 US Dollar"]
[null,"You sell 1 Macau Pataca :     0.12278 US Dollar "]
[]
[null,"Median price = 7.84463 / 8.14455 (bid/ask)"]
[null,"Minimum price = 7.84310 / 8.14290"]
[null,"Maximum price = 7.84570 / 8.14570"]
[]
[null,"Rate for previous or next day"]
[null,"Get exchange rates with amount:"]
[]
[null,"Trade with OANDAOpen demo accountSend money with OANDA"]
[]
[]
[]
[null,"Also See..."]
[]
[null,"FXTrade: trade currencies with tight spreads, no minimum deposit and earn continuous interest on your money."]
[null,"FXGlobalTransfer: Send money overseas to 230 countries."]
[null,"FXTradeTicker: A Yahoo! Widget which shows live FX rates and FXTrade/FXGame account status."]
[null,"iPhone Currency Converter: Visit the iPhone store to download OANDA's currency converter."]
[null,"Travel Expense Report Manager (FXPense): Create multi-currency expense reports online and save it in MS Excel."]
[null,"Link to Currency Converter: Find out how to link to OANDA's FXConverter."]
[]
[]
["TRY ALSO..."]
[]
["NEW Currency Converter"]
["Currency Converter Widget"]
["iPhone Converter"]
["BlackBerry Converter"]
["Android Converter"]
["Money Transfers"]
["Exchange Rate Feeds"]
[]
["Foreign Exchange Tools"]
[]
["Historical Exchange Rates"]
["Live Exchange Rates"]
["Mobile Currency Apps"]
["Currency Data"]
["Currency Widgets"]
[]
["Mobile Currency Apps"]
[]
["iPhone Currency App"]
["Android Currency App"]
["Blackberry Currency App"]
["PlayBook Currency App"]
["Windows Phone 7 Currency App"]
[]
["Currency Quick Links"]
[]
["Free Converter Widget"]
["Currency Data Feeds"]
["Big Mac Index"]
["EUR/USD Rates"]
[]
["1996 - 2012 OANDA Corporation. All rights reserved. \"OANDA\", \"fxTrade\" and OANDA's \"fx\" family of trade marks are owned by OANDA Corporation. All other trade marks appearing on this Website are the property of their respective owners. "]
["OANDA Services"]
[]
["Forex Trading"]
["Currency Converter"]
["Rate Subscriptions"]
["Money Transfers"]
["Forex Blog"]
["Currency Hedging"]
["fxUnity"]
[]
["About OANDA"]
[]
["About Us"]
["Our Story"]
["Corporate Blog"]
["Press Room"]
["Jobs"]
[]
["Terms of Use"]
["Privacy Policy"]
["Site Map"]
["Advertise"]
["Contact Us"]
["Feedback"]

{"sheet":" MYR ","index":20,"n_rows":123,"n_cols":3,"rows_kept":123,"cut":false,"hidden":true,"merged":[]}
["ENGLISH"]
[]
["DEUTSCH"]
["ESPAяL"]
["FRANǁIS"]
["ITALIANO"]
["PORTUGUʓ"]
["SVENSKA"]
[]
["Rate Subscriptions "]
["Register Sign in "]
[]
["Forex Trading "]
["Currency Converter "]
["Rate Subscriptions "]
["Money Transfers "]
[]
["Currency Converter"]
["Currency Tools"]
["Mobile"]
[]
["Home "]
["|"]
["fxConverter Classic"]
[]
["Help "]
[]
["fxConverter Classic"]
[]
[]
[null,"Sunday, April 1, 2012","Add to your site"]
[]
[null,"1 US Dollar = 3.06509 Malaysian Ringgit ","Print"]
[]
[null,"1 Malaysian Ringgit (MYR) = 0.32625 US Dollar (USD)","Info"]
[]
[null,"Interbank rate +/- 0%","FXConverter Mobile [BlackBerry Eddition]"]
[]
[null,"This means:","Traveler's cheatsheet"]
[null,"You buy 1 US Dollar :     3.06509 Malaysian Ringgit"]
[null,"You sell 1 US Dollar :     3.05913 Malaysian Ringgit "]
[null,"You buy 1 Malaysian Ringgit :     0.32689 US Dollar"]
[null,"You sell 1 Malaysian Ringgit :     0.32625 US Dollar "]
[]
[null,"Median price = 3.05913 / 3.06509 (bid/ask)"]
[null,"Minimum price = 3.05680 / 3.06470"]
[null,"Maximum price = 3.05940 / 3.06680"]
[]
[null,"Rate for previous or next day"]
[null,"Get exchange rates with amount:"]
[]
[null,"Trade with OANDAOpen demo accountSend money with OANDA"]
[]
[]
[]
[null,"Also See..."]
[]
[null,"FXTrade: trade currencies with tight spreads, no minimum deposit and earn continuous interest on your money."]
[null,"FXGlobalTransfer: Send money overseas to 230 countries."]
[null,"FXTradeTicker: A Yahoo! Widget which shows live FX rates and FXTrade/FXGame account status."]
[null,"iPhone Currency Converter: Visit the iPhone store to download OANDA's currency converter."]
[null,"Travel Expense Report Manager (FXPense): Create multi-currency expense reports online and save it in MS Excel."]
[null,"Link to Currency Converter: Find out how to link to OANDA's FXConverter."]
[]
[]
["TRY ALSO..."]
[]
["NEW Currency Converter"]
["Currency Converter Widget"]
["iPhone Converter"]
["BlackBerry Converter"]
["Android Converter"]
["Money Transfers"]
["Exchange Rate Feeds"]
[]
["Foreign Exchange Tools"]
[]
["Historical Exchange Rates"]
["Live Exchange Rates"]
["Mobile Currency Apps"]
["Currency Data"]
["Currency Widgets"]
[]
["Mobile Currency Apps"]
[]
["iPhone Currency App"]
["Android Currency App"]
["Blackberry Currency App"]
["PlayBook Currency App"]
["Windows Phone 7 Currency App"]
[]
["Currency Quick Links"]
[]
["Free Converter Widget"]
["Currency Data Feeds"]
["Big Mac Index"]
["EUR/USD Rates"]
[]
["1996 - 2012 OANDA Corporation. All rights reserved. \"OANDA\", \"fxTrade\" and OANDA's \"fx\" family of trade marks are owned by OANDA Corporation. All other trade marks appearing on this Website are the property of their respective owners. "]
["OANDA Services"]
[]
["Forex Trading"]
["Currency Converter"]
["Rate Subscriptions"]
["Money Transfers"]
["Forex Blog"]
["Currency Hedging"]
["fxUnity"]
[]
["About OANDA"]
[]
["About Us"]
["Our Story"]
["Corporate Blog"]
["Press Room"]
["Jobs"]
[]
["Terms of Use"]
["Privacy Policy"]
["Site Map"]
["Advertise"]
["Contact Us"]
["Feedback"]

{"sheet":" MXN ","index":21,"n_rows":123,"n_cols":3,"rows_kept":123,"cut":false,"hidden":true,"merged":[]}
["ENGLISH"]
[]
["DEUTSCH"]
["ESPAяL"]
["FRANǁIS"]
["ITALIANO"]
["PORTUGUʓ"]
["SVENSKA"]
[]
["Rate Subscriptions "]
["Register Sign in "]
[]
["Forex Trading "]
["Currency Converter "]
["Rate Subscriptions "]
["Money Transfers "]
[]
["Currency Converter"]
["Currency Tools"]
["Mobile"]
[]
["Home "]
["|"]
["fxConverter Classic"]
[]
["Help "]
[]
["fxConverter Classic"]
[]
[]
[null,"Sunday, April 1, 2012","Add to your site"]
[]
[null,"1 US Dollar = 12.82643 Mexican Peso ","Print"]
[]
[null,"1 Mexican Peso (MXN) = 0.07796 US Dollar (USD)","Info"]
[]
[null,"Interbank rate +/- 0%","FXConverter Mobile [BlackBerry Eddition]"]
[]
[null,"This means:","Traveler's cheatsheet"]
[null,"You buy 1 US Dollar :     12.82643 Mexican Peso"]
[null,"You sell 1 US Dollar :     12.78643 Mexican Peso "]
[null,"You buy 1 Mexican Peso :     0.07821 US Dollar"]
[null,"You sell 1 Mexican Peso :     0.07796 US Dollar "]
[]
[null,"Median price = 12.78643 / 12.82643 (bid/ask)"]
[null,"Minimum price = 12.78643 / 12.82643"]
[null,"Maximum price = 12.78643 / 12.82643"]
[]
[null,"Rate for previous or next day"]
[null,"Get exchange rates with amount:"]
[]
[null,"Trade with OANDAOpen demo accountSend money with OANDA"]
[]
[]
[]
[null,"Also See..."]
[]
[null,"FXTrade: trade currencies with tight spreads, no minimum deposit and earn continuous interest on your money."]
[null,"FXGlobalTransfer: Send money overseas to 230 countries."]
[null,"FXTradeTicker: A Yahoo! Widget which shows live FX rates and FXTrade/FXGame account status."]
[null,"iPhone Currency Converter: Visit the iPhone store to download OANDA's currency converter."]
[null,"Travel Expense Report Manager (FXPense): Create multi-currency expense reports online and save it in MS Excel."]
[null,"Link to Currency Converter: Find out how to link to OANDA's FXConverter."]
[]
[]
["TRY ALSO..."]
[]
["NEW Currency Converter"]
["Currency Converter Widget"]
["iPhone Converter"]
["BlackBerry Converter"]
["Android Converter"]
["Money Transfers"]
["Exchange Rate Feeds"]
[]
["Foreign Exchange Tools"]
[]
["Historical Exchange Rates"]
["Live Exchange Rates"]
["Mobile Currency Apps"]
["Currency Data"]
["Currency Widgets"]
[]
["Mobile Currency Apps"]
[]
["iPhone Currency App"]
["Android Currency App"]
["Blackberry Currency App"]
["PlayBook Currency App"]
["Windows Phone 7 Currency App"]
[]
["Currency Quick Links"]
[]
["Free Converter Widget"]
["Currency Data Feeds"]
["Big Mac Index"]
["EUR/USD Rates"]
[]
["1996 - 2012 OANDA Corporation. All rights reserved. \"OANDA\", \"fxTrade\" and OANDA's \"fx\" family of trade marks are owned by OANDA Corporation. All other trade marks appearing on this Website are the property of their respective owners. "]
["OANDA Services"]
[]
["Forex Trading"]
["Currency Converter"]
["Rate Subscriptions"]
["Money Transfers"]
["Forex Blog"]
["Currency Hedging"]
["fxUnity"]
[]
["About OANDA"]
[]
["About Us"]
["Our Story"]
["Corporate Blog"]
["Press Room"]
["Jobs"]
[]
["Terms of Use"]
["Privacy Policy"]
["Site Map"]
["Advertise"]
["Contact Us"]
["Feedback"]

{"sheet":" PHP ","index":22,"n_rows":123,"n_cols":3,"rows_kept":123,"cut":false,"hidden":true,"merged":[]}
["ENGLISH"]
[]
["DEUTSCH"]
["ESPAяL"]
["FRANǁIS"]
["ITALIANO"]
["PORTUGUʓ"]
["SVENSKA"]
[]
["Rate Subscriptions "]
["Register Sign in "]
[]
["Forex Trading "]
["Currency Converter "]
["Rate Subscriptions "]
["Money Transfers "]
[]
["Currency Converter"]
["Currency Tools"]
["Mobile"]
[]
["Home "]
["|"]
["fxConverter Classic"]
[]
["Help "]
[]
["fxConverter Classic"]
[]
[]
[null,"Sunday, April 1, 2012","Add to your site"]
[]
[null,"1 US Dollar = 43.03562 Philippine Peso ","Print"]
[]
[null,"1 Philippine Peso (PHP) = 0.02324 US Dollar (USD)","Info"]
[]
[null,"Interbank rate +/- 0%","FXConverter Mobile [BlackBerry Eddition]"]
[]
[null,"This means:","Traveler's cheatsheet"]
[null,"You buy 1 US Dollar :     43.03562 Philippine Peso"]
[null,"You sell 1 US Dollar :     42.82543 Philippine Peso "]
[null,"You buy 1 Philippine Peso :     0.02335 US Dollar"]
[null,"You sell 1 Philippine Peso :     0.02324 US Dollar "]
[]
[null,"Median price = 42.82543 / 43.03562 (bid/ask)"]
[null,"Minimum price = 42.78700 / 43.01200"]
[null,"Maximum price = 42.84500 / 43.04500"]
[]
[null,"Rate for previous or next day"]
[null,"Get exchange rates with amount:"]
[]
[null,"Trade with OANDAOpen demo accountSend money with OANDA"]
[]
[]
[]
[null,"Also See..."]
[]
[null,"FXTrade: trade currencies with tight spreads, no minimum deposit and earn continuous interest on your money."]
[null,"FXGlobalTransfer: Send money overseas to 230 countries."]
[null,"FXTradeTicker: A Yahoo! Widget which shows live FX rates and FXTrade/FXGame account status."]
[null,"iPhone Currency Converter: Visit the iPhone store to download OANDA's currency converter."]
[null,"Travel Expense Report Manager (FXPense): Create multi-currency expense reports online and save it in MS Excel."]
[null,"Link to Currency Converter: Find out how to link to OANDA's FXConverter."]
[]
[]
["TRY ALSO..."]
[]
["NEW Currency Converter"]
["Currency Converter Widget"]
["iPhone Converter"]
["BlackBerry Converter"]
["Android Converter"]
["Money Transfers"]
["Exchange Rate Feeds"]
[]
["Foreign Exchange Tools"]
[]
["Historical Exchange Rates"]
["Live Exchange Rates"]
["Mobile Currency Apps"]
["Currency Data"]
["Currency Widgets"]
[]
["Mobile Currency Apps"]
[]
["iPhone Currency App"]
["Android Currency App"]
["Blackberry Currency App"]
["PlayBook Currency App"]
["Windows Phone 7 Currency App"]
[]
["Currency Quick Links"]
[]
["Free Converter Widget"]
["Currency Data Feeds"]
["Big Mac Index"]
["EUR/USD Rates"]
[]
["1996 - 2012 OANDA Corporation. All rights reserved. \"OANDA\", \"fxTrade\" and OANDA's \"fx\" family of trade marks are owned by OANDA Corporation. All other trade marks appearing on this Website are the property of their respective owners. "]
["OANDA Services"]
[]
["Forex Trading"]
["Currency Converter"]
["Rate Subscriptions"]
["Money Transfers"]
["Forex Blog"]
["Currency Hedging"]
["fxUnity"]
[]
["About OANDA"]
[]
["About Us"]
["Our Story"]
["Corporate Blog"]
["Press Room"]
["Jobs"]
[]
["Terms of Use"]
["Privacy Policy"]
["Site Map"]
["Advertise"]
["Contact Us"]
["Feedback"]

{"sheet":" SGD ","index":23,"n_rows":123,"n_cols":3,"rows_kept":123,"cut":false,"hidden":true,"merged":[]}
["ENGLISH"]
[]
["DEUTSCH"]
["ESPAяL"]
["FRANǁIS"]
["ITALIANO"]
["PORTUGUʓ"]
["SVENSKA"]
[]
["Rate Subscriptions "]
["Register Sign in "]
[]
["Forex Trading "]
["Currency Converter "]
["Rate Subscriptions "]
["Money Transfers "]
[]
["Currency Converter"]
["Currency Tools"]
["Mobile"]
[]
["Home "]
["|"]
["fxConverter Classic"]
[]
["Help "]
[]
["fxConverter Classic"]
[]
[]
[null,"Sunday, April 1, 2012","Add to your site"]
[]
[null,"1 US Dollar = 1.25822 Singapore Dollar ","Print"]
[]
[null,"1 Singapore Dollar (SGD) = 0.79477 US Dollar (USD)","Info"]
[]
[null,"Interbank rate +/- 0%","FXConverter Mobile [BlackBerry Eddition]"]
[]
[null,"This means:","Traveler's cheatsheet"]
[null,"You buy 1 US Dollar :     1.25822 Singapore Dollar"]
[null,"You sell 1 US Dollar :     1.25722 Singapore Dollar "]
[null,"You buy 1 Singapore Dollar :     0.79541 US Dollar"]
[null,"You sell 1 Singapore Dollar :     0.79477 US Dollar "]
[]
[null,"Median price = 1.25722 / 1.25822 (bid/ask)"]
[null,"Minimum price = 1.25722 / 1.25822"]
[null,"Maximum price = 1.25722 / 1.25822"]
[]
[null,"Rate for previous or next day"]
[null,"Get exchange rates with amount:"]
[]
[null,"Trade with OANDAOpen demo accountSend money with OANDA"]
[]
[]
[]
[null,"Also See..."]
[]
[null,"FXTrade: trade currencies with tight spreads, no minimum deposit and earn continuous interest on your money."]
[null,"FXGlobalTransfer: Send money overseas to 230 countries."]
[null,"FXTradeTicker: A Yahoo! Widget which shows live FX rates and FXTrade/FXGame account status."]
[null,"iPhone Currency Converter: Visit the iPhone store to download OANDA's currency converter."]
[null,"Travel Expense Report Manager (FXPense): Create multi-currency expense reports online and save it in MS Excel."]
[null,"Link to Currency Converter: Find out how to link to OANDA's FXConverter."]
[]
[]
["TRY ALSO..."]
[]
["NEW Currency Converter"]
["Currency Converter Widget"]
["iPhone Converter"]
["BlackBerry Converter"]
["Android Converter"]
["Money Transfers"]
["Exchange Rate Feeds"]
[]
["Foreign Exchange Tools"]
[]
["Historical Exchange Rates"]
["Live Exchange Rates"]
["Mobile Currency Apps"]
["Currency Data"]
["Currency Widgets"]
[]
["Mobile Currency Apps"]
[]
["iPhone Currency App"]
["Android Currency App"]
["Blackberry Currency App"]
["PlayBook Currency App"]
["Windows Phone 7 Currency App"]
[]
["Currency Quick Links"]
[]
["Free Converter Widget"]
["Currency Data Feeds"]
["Big Mac Index"]
["EUR/USD Rates"]
[]
["1996 - 2012 OANDA Corporation. All rights reserved. \"OANDA\", \"fxTrade\" and OANDA's \"fx\" family of trade marks are owned by OANDA Corporation. All other trade marks appearing on this Website are the property of their respective owners. "]
["OANDA Services"]
[]
["Forex Trading"]
["Currency Converter"]
["Rate Subscriptions"]
["Money Transfers"]
["Forex Blog"]
["Currency Hedging"]
["fxUnity"]
[]
["About OANDA"]
[]
["About Us"]
["Our Story"]
["Corporate Blog"]
["Press Room"]
["Jobs"]
[]
["Terms of Use"]
["Privacy Policy"]
["Site Map"]
["Advertise"]
["Contact Us"]
["Feedback"]

{"sheet":" TWD ","index":24,"n_rows":123,"n_cols":3,"rows_kept":123,"cut":false,"hidden":true,"merged":[]}
["ENGLISH"]
[]
["DEUTSCH"]
["ESPAяL"]
["FRANǁIS"]
["ITALIANO"]
["PORTUGUʓ"]
["SVENSKA"]
[]
["Rate Subscriptions "]
["Register Sign in "]
[]
["Forex Trading "]
["Currency Converter "]
["Rate Subscriptions "]
["Money Transfers "]
[]
["Currency Converter"]
["Currency Tools"]
["Mobile"]
[]
["Home "]
["|"]
["fxConverter Classic"]
[]
["Help "]
[]
["fxConverter Classic"]
[]
[]
[null,"Sunday, April 1, 2012","Add to your site"]
[]
[null,"1 US Dollar = 29.68235 Taiwan Dollar ","Print"]
[]
[null,"1 Taiwan Dollar (TWD) = 0.03369 US Dollar (USD)","Info"]
[]
[null,"Interbank rate +/- 0%","FXConverter Mobile [BlackBerry Eddition]"]
[]
[null,"This means:","Traveler's cheatsheet"]
[null,"You buy 1 US Dollar :     29.68235 Taiwan Dollar"]
[null,"You sell 1 US Dollar :     29.35689 Taiwan Dollar "]
[null,"You buy 1 Taiwan Dollar :     0.03406 US Dollar"]
[null,"You sell 1 Taiwan Dollar :     0.03369 US Dollar "]
[]
[null,"Median price = 29.35689 / 29.68235 (bid/ask)"]
[null,"Minimum price = 28.74800 / 29.54000"]
[null,"Maximum price = 29.50000 / 30.24800"]
[]
[null,"Rate for previous or next day"]
[null,"Get exchange rates with amount:"]
[]
[null,"Trade with OANDAOpen demo accountSend money with OANDA"]
[]
[]
[]
[null,"Also See..."]
[]
[null,"FXTrade: trade currencies with tight spreads, no minimum deposit and earn continuous interest on your money."]
[null,"FXGlobalTransfer: Send money overseas to 230 countries."]
[null,"FXTradeTicker: A Yahoo! Widget which shows live FX rates and FXTrade/FXGame account status."]
[null,"iPhone Currency Converter: Visit the iPhone store to download OANDA's currency converter."]
[null,"Travel Expense Report Manager (FXPense): Create multi-currency expense reports online and save it in MS Excel."]
[null,"Link to Currency Converter: Find out how to link to OANDA's FXConverter."]
[]
[]
["TRY ALSO..."]
[]
["NEW Currency Converter"]
["Currency Converter Widget"]
["iPhone Converter"]
["BlackBerry Converter"]
["Android Converter"]
["Money Transfers"]
["Exchange Rate Feeds"]
[]
["Foreign Exchange Tools"]
[]
["Historical Exchange Rates"]
["Live Exchange Rates"]
["Mobile Currency Apps"]
["Currency Data"]
["Currency Widgets"]
[]
["Mobile Currency Apps"]
[]
["iPhone Currency App"]
["Android Currency App"]
["Blackberry Currency App"]
["PlayBook Currency App"]
["Windows Phone 7 Currency App"]
[]
["Currency Quick Links"]
[]
["Free Converter Widget"]
["Currency Data Feeds"]
["Big Mac Index"]
["EUR/USD Rates"]
[]
["1996 - 2012 OANDA Corporation. All rights reserved. \"OANDA\", \"fxTrade\" and OANDA's \"fx\" family of trade marks are owned by OANDA Corporation. All other trade marks appearing on this Website are the property of their respective owners. "]
["OANDA Services"]
[]
["Forex Trading"]
["Currency Converter"]
["Rate Subscriptions"]
["Money Transfers"]
["Forex Blog"]
["Currency Hedging"]
["fxUnity"]
[]
["About OANDA"]
[]
["About Us"]
["Our Story"]
["Corporate Blog"]
["Press Room"]
["Jobs"]
[]
["Terms of Use"]
["Privacy Policy"]
["Site Map"]
["Advertise"]
["Contact Us"]
["Feedback"]

{"sheet":" THB ","index":25,"n_rows":123,"n_cols":3,"rows_kept":123,"cut":false,"hidden":true,"merged":[]}
["ENGLISH"]
[]
["DEUTSCH"]
["ESPAяL"]
["FRANǁIS"]
["ITALIANO"]
["PORTUGUʓ"]
["SVENSKA"]
[]
["Rate Subscriptions "]
["Register Sign in "]
[]
["Forex Trading "]
["Currency Converter "]
["Rate Subscriptions "]
["Money Transfers "]
[]
["Currency Converter"]
["Currency Tools"]
["Mobile"]
[]
["Home "]
["|"]
["fxConverter Classic"]
[]
["Help "]
[]
["fxConverter Classic"]
[]
[]
[null,"Sunday, April 1, 2012","Add to your site"]
[]
[null,"1 US Dollar = 31.29500 Thai Baht ","Print"]
[]
[null,"1 Thai Baht (THB) = 0.03195 US Dollar (USD)","Info"]
[]
[null,"Interbank rate +/- 0%","FXConverter Mobile [BlackBerry Eddition]"]
[]
[null,"This means:","Traveler's cheatsheet"]
[null,"You buy 1 US Dollar :     31.29500 Thai Baht"]
[null,"You sell 1 US Dollar :     30.29500 Thai Baht "]
[null,"You buy 1 Thai Baht :     0.03301 US Dollar"]
[null,"You sell 1 Thai Baht :     0.03195 US Dollar "]
[]
[null,"Median price = 30.29500 / 31.29500 (bid/ask)"]
[null,"Minimum price = 30.29500 / 31.29500"]
[null,"Maximum price = 30.29500 / 31.29500"]
[]
[null,"Rate for previous or next day"]
[null,"Get exchange rates with amount:"]
[]
[null,"Trade with OANDAOpen demo accountSend money with OANDA"]
[]
[]
[]
[null,"Also See..."]
[]
[null,"FXTrade: trade currencies with tight spreads, no minimum deposit and earn continuous interest on your money."]
[null,"FXGlobalTransfer: Send money overseas to 230 countries."]
[null,"FXTradeTicker: A Yahoo! Widget which shows live FX rates and FXTrade/FXGame account status."]
[null,"iPhone Currency Converter: Visit the iPhone store to download OANDA's currency converter."]
[null,"Travel Expense Report Manager (FXPense): Create multi-currency expense reports online and save it in MS Excel."]
[null,"Link to Currency Converter: Find out how to link to OANDA's FXConverter."]
[]
[]
["TRY ALSO..."]
[]
["NEW Currency Converter"]
["Currency Converter Widget"]
["iPhone Converter"]
["BlackBerry Converter"]
["Android Converter"]
["Money Transfers"]
["Exchange Rate Feeds"]
[]
["Foreign Exchange Tools"]
[]
["Historical Exchange Rates"]
["Live Exchange Rates"]
["Mobile Currency Apps"]
["Currency Data"]
["Currency Widgets"]
[]
["Mobile Currency Apps"]
[]
["iPhone Currency App"]
["Android Currency App"]
["Blackberry Currency App"]
["PlayBook Currency App"]
["Windows Phone 7 Currency App"]
[]
["Currency Quick Links"]
[]
["Free Converter Widget"]
["Currency Data Feeds"]
["Big Mac Index"]
["EUR/USD Rates"]
[]
["1996 - 2012 OANDA Corporation. All rights reserved. \"OANDA\", \"fxTrade\" and OANDA's \"fx\" family of trade marks are owned by OANDA Corporation. All other trade marks appearing on this Website are the property of their respective owners. "]
["OANDA Services"]
[]
["Forex Trading"]
["Currency Converter"]
["Rate Subscriptions"]
["Money Transfers"]
["Forex Blog"]
["Currency Hedging"]
["fxUnity"]
[]
["About OANDA"]
[]
["About Us"]
["Our Story"]
["Corporate Blog"]
["Press Room"]
["Jobs"]
[]
["Terms of Use"]
["Privacy Policy"]
["Site Map"]
["Advertise"]
["Contact Us"]
["Feedback"]

{"sheet":" TRY ","index":26,"n_rows":123,"n_cols":3,"rows_kept":123,"cut":false,"hidden":true,"merged":[]}
["ENGLISH"]
[]
["DEUTSCH"]
["ESPAяL"]
["FRANǁIS"]
["ITALIANO"]
["PORTUGUʓ"]
["SVENSKA"]
[]
["Rate Subscriptions "]
["Register Sign in "]
[]
["Forex Trading "]
["Currency Converter "]
["Rate Subscriptions "]
["Money Transfers "]
[]
["Currency Converter"]
["Currency Tools"]
["Mobile"]
[]
["Home "]
["|"]
["fxConverter Classic"]
[]
["Help "]
[]
["fxConverter Classic"]
[]
[]
[null,"Sunday, April 1, 2012","Add to your site"]
[]
[null,"1 US Dollar = 1.78450 Turkish Lira ","Print"]
[]
[null,"1 Turkish Lira (TRY) = 0.56038 US Dollar (USD)","Info"]
[]
[null,"Interbank rate +/- 0%","FXConverter Mobile [BlackBerry Eddition]"]
[]
[null,"This means:","Traveler's cheatsheet"]
[null,"You buy 1 US Dollar :     1.78450 Turkish Lira"]
[null,"You sell 1 US Dollar :     1.78050 Turkish Lira "]
[null,"You buy 1 Turkish Lira :     0.56164 US Dollar"]
[null,"You sell 1 Turkish Lira :     0.56038 US Dollar "]
[]
[null,"Median price = 1.78050 / 1.78450 (bid/ask)"]
[null,"Minimum price = 1.78050 / 1.78450"]
[null,"Maximum price = 1.78050 / 1.78450"]
[]
[null,"Rate for previous or next day"]
[null,"Get exchange rates with amount:"]
[]
[null,"Trade with OANDAOpen demo accountSend money with OANDA"]
[]
[]
[]
[null,"Also See..."]
[]
[null,"FXTrade: trade currencies with tight spreads, no minimum deposit and earn continuous interest on your money."]
[null,"FXGlobalTransfer: Send money overseas to 230 countries."]
[null,"FXTradeTicker: A Yahoo! Widget which shows live FX rates and FXTrade/FXGame account status."]
[null,"iPhone Currency Converter: Visit the iPhone store to download OANDA's currency converter."]
[null,"Travel Expense Report Manager (FXPense): Create multi-currency expense reports online and save it in MS Excel."]
[null,"Link to Currency Converter: Find out how to link to OANDA's FXConverter."]
[]
[]
["TRY ALSO..."]
[]
["NEW Currency Converter"]
["Currency Converter Widget"]
["iPhone Converter"]
["BlackBerry Converter"]
["Android Converter"]
["Money Transfers"]
["Exchange Rate Feeds"]
[]
["Foreign Exchange Tools"]
[]
["Historical Exchange Rates"]
["Live Exchange Rates"]
["Mobile Currency Apps"]
["Currency Data"]
["Currency Widgets"]
[]
["Mobile Currency Apps"]
[]
["iPhone Currency App"]
["Android Currency App"]
["Blackberry Currency App"]
["PlayBook Currency App"]
["Windows Phone 7 Currency App"]
[]
["Currency Quick Links"]
[]
["Free Converter Widget"]
["Currency Data Feeds"]
["Big Mac Index"]
["EUR/USD Rates"]
[]
["1996 - 2012 OANDA Corporation. All rights reserved. \"OANDA\", \"fxTrade\" and OANDA's \"fx\" family of trade marks are owned by OANDA Corporation. All other trade marks appearing on this Website are the property of their respective owners. "]
["OANDA Services"]
[]
["Forex Trading"]
["Currency Converter"]
["Rate Subscriptions"]
["Money Transfers"]
["Forex Blog"]
["Currency Hedging"]
["fxUnity"]
[]
["About OANDA"]
[]
["About Us"]
["Our Story"]
["Corporate Blog"]
["Press Room"]
["Jobs"]
[]
["Terms of Use"]
["Privacy Policy"]
["Site Map"]
["Advertise"]
["Contact Us"]
["Feedback"]

{"sheet":" VEF ","index":27,"n_rows":123,"n_cols":3,"rows_kept":123,"cut":false,"hidden":true,"merged":[]}
["ENGLISH"]
[]
["DEUTSCH"]
["ESPAяL"]
["FRANǁIS"]
["ITALIANO"]
["PORTUGUʓ"]
["SVENSKA"]
[]
["Rate Subscriptions "]
["Register Sign in "]
[]
["Forex Trading "]
["Currency Converter "]
["Rate Subscriptions "]
["Money Transfers "]
[]
["Currency Converter"]
["Currency Tools"]
["Mobile"]
[]
["Home "]
["|"]
["fxConverter Classic"]
[]
["Help "]
[]
["fxConverter Classic"]
[]
[]
[null,"Sunday, April 1, 2012","Add to your site"]
[]
[null,"1 US Dollar = 4.29970 Venezuelan Bolivar Fuerte ","Print"]
[]
[null,"1 Venezuelan Bolivar Fuerte (VEF) = 0.23257 US Dollar (USD)","Info"]
[]
[null,"Interbank rate +/- 0%","FXConverter Mobile [BlackBerry Eddition]"]
[]
[null,"This means:","Traveler's cheatsheet"]
[null,"You buy 1 US Dollar :     4.29970 Venezuelan Bolivar Fuerte"]
[null,"You sell 1 US Dollar :     4.28970 Venezuelan Bolivar Fuerte "]
[null,"You buy 1 Venezuelan Bolivar Fuerte :     0.23312 US Dollar"]
[null,"You sell 1 Venezuelan Bolivar Fuerte :     0.23257 US Dollar "]
[]
[null,"Median price = 4.28970 / 4.29970 (bid/ask)"]
[null,"Minimum price = 4.28970 / 4.29970"]
[null,"Maximum price = 4.28970 / 4.29970"]
[]
[null,"Rate for previous or next day"]
[null,"Get exchange rates with amount:"]
[]
[null,"Trade with OANDAOpen demo accountSend money with OANDA"]
[]
[]
[]
[null,"Also See..."]
[]
[null,"FXTrade: trade currencies with tight spreads, no minimum deposit and earn continuous interest on your money."]
[null,"FXGlobalTransfer: Send money overseas to 230 countries."]
[null,"FXTradeTicker: A Yahoo! Widget which shows live FX rates and FXTrade/FXGame account status."]
[null,"iPhone Currency Converter: Visit the iPhone store to download OANDA's currency converter."]
[null,"Travel Expense Report Manager (FXPense): Create multi-currency expense reports online and save it in MS Excel."]
[null,"Link to Currency Converter: Find out how to link to OANDA's FXConverter."]
[]
[]
["TRY ALSO..."]
[]
["NEW Currency Converter"]
["Currency Converter Widget"]
["iPhone Converter"]
["BlackBerry Converter"]
["Android Converter"]
["Money Transfers"]
["Exchange Rate Feeds"]
[]
["Foreign Exchange Tools"]
[]
["Historical Exchange Rates"]
["Live Exchange Rates"]
["Mobile Currency Apps"]
["Currency Data"]
["Currency Widgets"]
[]
["Mobile Currency Apps"]
[]
["iPhone Currency App"]
["Android Currency App"]
["Blackberry Currency App"]
["PlayBook Currency App"]
["Windows Phone 7 Currency App"]
[]
["Currency Quick Links"]
[]
["Free Converter Widget"]
["Currency Data Feeds"]
["Big Mac Index"]
["EUR/USD Rates"]
[]
["1996 - 2012 OANDA Corporation. All rights reserved. \"OANDA\", \"fxTrade\" and OANDA's \"fx\" family of trade marks are owned by OANDA Corporation. All other trade marks appearing on this Website are the property of their respective owners. "]
["OANDA Services"]
[]
["Forex Trading"]
["Currency Converter"]
["Rate Subscriptions"]
["Money Transfers"]
["Forex Blog"]
["Currency Hedging"]
["fxUnity"]
[]
["About OANDA"]
[]
["About Us"]
["Our Story"]
["Corporate Blog"]
["Press Room"]
["Jobs"]
[]
["Terms of Use"]
["Privacy Policy"]
["Site Map"]
["Advertise"]
["Contact Us"]
["Feedback"]

{"sheet":" AUD ","index":28,"n_rows":123,"n_cols":3,"rows_kept":123,"cut":false,"hidden":true,"merged":[]}
["ENGLISH"]
[]
["DEUTSCH"]
["ESPAяL"]
["FRANǁIS"]
["ITALIANO"]
["PORTUGUʓ"]
["SVENSKA"]
[]
["Rate Subscriptions "]
["Register Sign in "]
[]
["Forex Trading "]
["Currency Converter "]
["Rate Subscriptions "]
["Money Transfers "]
[]
["Currency Converter"]
["Currency Tools"]
["Mobile"]
[]
["Home "]
["|"]
["fxConverter Classic"]
[]
["Help "]
[]
["fxConverter Classic"]
[]
[]
[null,"Sunday, April 1, 2012","Add to your site"]
[]
[null,"1 US Dollar = 0.96680 Australian Dollar ","Print"]
[]
[null,"1 Australian Dollar (AUD) = 1.03434 US Dollar (USD)","Info"]
[]
[null,"Interbank rate +/- 0%","FXConverter Mobile [BlackBerry Eddition]"]
[]
[null,"This means:","Traveler's cheatsheet"]
[null,"You buy 1 US Dollar :     0.96680 Australian Dollar"]
[null,"You sell 1 US Dollar :     0.96587 Australian Dollar "]
[null,"You buy 1 Australian Dollar :     1.03534 US Dollar"]
[null,"You sell 1 Australian Dollar :     1.03434 US Dollar "]
[]
[null,"Median price = 0.96587 / 0.96680 (bid/ask)"]
[null,"Minimum price = 0.96587 / 0.96680"]
[null,"Maximum price = 0.96587 / 0.96680"]
[]
[null,"Rate for previous or next day"]
[null,"Get exchange rates with amount:"]
[]
[null,"Trade with OANDAOpen demo accountSend money with OANDA"]
[]
[]
[]
[null,"Also See..."]
[]
[null,"FXTrade: trade currencies with tight spreads, no minimum deposit and earn continuous interest on your money."]
[null,"FXGlobalTransfer: Send money overseas to 230 countries."]
[null,"FXTradeTicker: A Yahoo! Widget which shows live FX rates and FXTrade/FXGame account status."]
[null,"iPhone Currency Converter: Visit the iPhone store to download OANDA's currency converter."]
[null,"Travel Expense Report Manager (FXPense): Create multi-currency expense reports online and save it in MS Excel."]
[null,"Link to Currency Converter: Find out how to link to OANDA's FXConverter."]
[]
[]
["TRY ALSO..."]
[]
["NEW Currency Converter"]
["Currency Converter Widget"]
["iPhone Converter"]
["BlackBerry Converter"]
["Android Converter"]
["Money Transfers"]
["Exchange Rate Feeds"]
[]
["Foreign Exchange Tools"]
[]
["Historical Exchange Rates"]
["Live Exchange Rates"]
["Mobile Currency Apps"]
["Currency Data"]
["Currency Widgets"]
[]
["Mobile Currency Apps"]
[]
["iPhone Currency App"]
["Android Currency App"]
["Blackberry Currency App"]
["PlayBook Currency App"]
["Windows Phone 7 Currency App"]
[]
["Currency Quick Links"]
[]
["Free Converter Widget"]
["Currency Data Feeds"]
["Big Mac Index"]
["EUR/USD Rates"]
[]
["1996 - 2012 OANDA Corporation. All rights reserved. \"OANDA\", \"fxTrade\" and OANDA's \"fx\" family of trade marks are owned by OANDA Corporation. All other trade marks appearing on this Website are the property of their respective owners. "]
["OANDA Services"]
[]
["Forex Trading"]
["Currency Converter"]
["Rate Subscriptions"]
["Money Transfers"]
["Forex Blog"]
["Currency Hedging"]
["fxUnity"]
[]
["About OANDA"]
[]
["About Us"]
["Our Story"]
["Corporate Blog"]
["Press Room"]
["Jobs"]
[]
["Terms of Use"]
["Privacy Policy"]
["Site Map"]
["Advertise"]
["Contact Us"]
["Feedback"]

{"sheet":" GBP ","index":29,"n_rows":123,"n_cols":3,"rows_kept":123,"cut":false,"hidden":true,"merged":[]}
["ENGLISH"]
[]
["DEUTSCH"]
["ESPAяL"]
["FRANǁIS"]
["ITALIANO"]
["PORTUGUʓ"]
["SVENSKA"]
[]
["Rate Subscriptions "]
["Register Sign in "]
[]
["Forex Trading "]
["Currency Converter "]
["Rate Subscriptions "]
["Money Transfers "]
[]
["Currency Converter"]
["Currency Tools"]
["Mobile"]
[]
["Home "]
["|"]
["fxConverter Classic"]
[]
["Help "]
[]
["fxConverter Classic"]
[]
[]
[null,"Sunday, April 1, 2012","Add to your site"]
[]
[null,"1 US Dollar = 0.62464 British Pound ","Print"]
[]
[null,"1 British Pound (GBP) = 1.60092 US Dollar (USD)","Info"]
[]
[null,"Interbank rate +/- 0%","FXConverter Mobile [BlackBerry Eddition]"]
[]
[null,"This means:","Traveler's cheatsheet"]
[null,"You buy 1 US Dollar :     0.62464 British Pound"]
[null,"You sell 1 US Dollar :     0.62425 British Pound "]
[null,"You buy 1 British Pound :     1.60192 US Dollar"]
[null,"You sell 1 British Pound :     1.60092 US Dollar "]
[]
[null,"Median price = 0.62425 / 0.62464 (bid/ask)"]
[null,"Minimum price = 0.62425 / 0.62464"]
[null,"Maximum price = 0.62425 / 0.62464"]
[]
[null,"Rate for previous or next day"]
[null,"Get exchange rates with amount:"]
[]
[null,"Trade with OANDAOpen demo accountSend money with OANDA"]
[]
[]
[]
[null,"Also See..."]
[]
[null,"FXTrade: trade currencies with tight spreads, no minimum deposit and earn continuous interest on your money."]
[null,"FXGlobalTransfer: Send money overseas to 230 countries."]
[null,"FXTradeTicker: A Yahoo! Widget which shows live FX rates and FXTrade/FXGame account status."]
[null,"iPhone Currency Converter: Visit the iPhone store to download OANDA's currency converter."]
[null,"Travel Expense Report Manager (FXPense): Create multi-currency expense reports online and save it in MS Excel."]
[null,"Link to Currency Converter: Find out how to link to OANDA's FXConverter."]
[]
[]
["TRY ALSO..."]
[]
["NEW Currency Converter"]
["Currency Converter Widget"]
["iPhone Converter"]
["BlackBerry Converter"]
["Android Converter"]
["Money Transfers"]
["Exchange Rate Feeds"]
[]
["Foreign Exchange Tools"]
[]
["Historical Exchange Rates"]
["Live Exchange Rates"]
["Mobile Currency Apps"]
["Currency Data"]
["Currency Widgets"]
[]
["Mobile Currency Apps"]
[]
["iPhone Currency App"]
["Android Currency App"]
["Blackberry Currency App"]
["PlayBook Currency App"]
["Windows Phone 7 Currency App"]
[]
["Currency Quick Links"]
[]
["Free Converter Widget"]
["Currency Data Feeds"]
["Big Mac Index"]
["EUR/USD Rates"]
[]
["1996 - 2012 OANDA Corporation. All rights reserved. \"OANDA\", \"fxTrade\" and OANDA's \"fx\" family of trade marks are owned by OANDA Corporation. All other trade marks appearing on this Website are the property of their respective owners. "]
["OANDA Services"]
[]
["Forex Trading"]
["Currency Converter"]
["Rate Subscriptions"]
["Money Transfers"]
["Forex Blog"]
["Currency Hedging"]
["fxUnity"]
[]
["About OANDA"]
[]
["About Us"]
["Our Story"]
["Corporate Blog"]
["Press Room"]
["Jobs"]
[]
["Terms of Use"]
["Privacy Policy"]
["Site Map"]
["Advertise"]
["Contact Us"]
["Feedback"]

{"sheet":" BND ","index":30,"n_rows":123,"n_cols":3,"rows_kept":123,"cut":false,"hidden":true,"merged":[]}
["ENGLISH"]
[]
["DEUTSCH"]
["ESPAяL"]
["FRANǁIS"]
["ITALIANO"]
["PORTUGUʓ"]
["SVENSKA"]
[]
["Rate Subscriptions "]
["Register Sign in "]
[]
["Forex Trading "]
["Currency Converter "]
["Rate Subscriptions "]
["Money Transfers "]
[]
["Currency Converter"]
["Currency Tools"]
["Mobile"]
[]
["Home "]
["|"]
["fxConverter Classic"]
[]
["Help "]
[]
["fxConverter Classic"]
[]
[]
[null,"Sunday, April 1, 2012","Add to your site"]
[]
[null,"1 US Dollar = 1.27505 Brunei Dollar ","Print"]
[]
[null,"1 Brunei Dollar (BND) = 0.78428 US Dollar (USD)","Info"]
[]
[null,"Interbank rate +/- 0%","FXConverter Mobile [BlackBerry Eddition]"]
[]
[null,"This means:","Traveler's cheatsheet"]
[null,"You buy 1 US Dollar :     1.27505 Brunei Dollar"]
[null,"You sell 1 US Dollar :     1.23755 Brunei Dollar "]
[null,"You buy 1 Brunei Dollar :     0.80805 US Dollar"]
[null,"You sell 1 Brunei Dollar :     0.78428 US Dollar "]
[]
[null,"Median price = 1.23755 / 1.27505 (bid/ask)"]
[null,"Minimum price = 1.23720 / 1.27470"]
[null,"Maximum price = 1.23780 / 1.27530"]
[]
[null,"Rate for previous or next day"]
[null,"Get exchange rates with amount:"]
[]
[null,"Trade with OANDAOpen demo accountSend money with OANDA"]
[]
[]
[]
[null,"Also See..."]
[]
[null,"FXTrade: trade currencies with tight spreads, no minimum deposit and earn continuous interest on your money."]
[null,"FXGlobalTransfer: Send money overseas to 230 countries."]
[null,"FXTradeTicker: A Yahoo! Widget which shows live FX rates and FXTrade/FXGame account status."]
[null,"iPhone Currency Converter: Visit the iPhone store to download OANDA's currency converter."]
[null,"Travel Expense Report Manager (FXPense): Create multi-currency expense reports online and save it in MS Excel."]
[null,"Link to Currency Converter: Find out how to link to OANDA's FXConverter."]
[]
[]
["TRY ALSO..."]
[]
["NEW Currency Converter"]
["Currency Converter Widget"]
["iPhone Converter"]
["BlackBerry Converter"]
["Android Converter"]
["Money Transfers"]
["Exchange Rate Feeds"]
[]
["Foreign Exchange Tools"]
[]
["Historical Exchange Rates"]
["Live Exchange Rates"]
["Mobile Currency Apps"]
["Currency Data"]
["Currency Widgets"]
[]
["Mobile Currency Apps"]
[]
["iPhone Currency App"]
["Android Currency App"]
["Blackberry Currency App"]
["PlayBook Currency App"]
["Windows Phone 7 Currency App"]
[]
["Currency Quick Links"]
[]
["Free Converter Widget"]
["Currency Data Feeds"]
["Big Mac Index"]
["EUR/USD Rates"]
[]
["1996 - 2012 OANDA Corporation. All rights reserved. \"OANDA\", \"fxTrade\" and OANDA's \"fx\" family of trade marks are owned by OANDA Corporation. All other trade marks appearing on this Website are the property of their respective owners. "]
["OANDA Services"]
[]
["Forex Trading"]
["Currency Converter"]
["Rate Subscriptions"]
["Money Transfers"]
["Forex Blog"]
["Currency Hedging"]
["fxUnity"]
[]
["About OANDA"]
[]
["About Us"]
["Our Story"]
["Corporate Blog"]
["Press Room"]
["Jobs"]
[]
["Terms of Use"]
["Privacy Policy"]
["Site Map"]
["Advertise"]
["Contact Us"]
["Feedback"]

{"sheet":" DKK ","index":31,"n_rows":123,"n_cols":3,"rows_kept":123,"cut":false,"hidden":true,"merged":[]}
["ENGLISH"]
[]
["DEUTSCH"]
["ESPAяL"]
["FRANǁIS"]
["ITALIANO"]
["PORTUGUʓ"]
["SVENSKA"]
[]
["Rate Subscriptions "]
["Register Sign in "]
[]
["Forex Trading "]
["Currency Converter "]
["Rate Subscriptions "]
["Money Transfers "]
[]
["Currency Converter"]
["Currency Tools"]
["Mobile"]
[]
["Home "]
["|"]
["fxConverter Classic"]
[]
["Help "]
[]
["fxConverter Classic"]
[]
[]
[null,"Sunday, April 1, 2012","Add to your site"]
[]
[null,"1 US Dollar = 5.57812 Danish Krone ","Print"]
[]
[null,"1 Danish Krone (DKK) = 0.17927 US Dollar (USD)","Info"]
[]
[null,"Interbank rate +/- 0%","FXConverter Mobile [BlackBerry Eddition]"]
[]
[null,"This means:","Traveler's cheatsheet"]
[null,"You buy 1 US Dollar :     5.57812 Danish Krone"]
[null,"You sell 1 US Dollar :     5.57629 Danish Krone "]
[null,"You buy 1 Danish Krone :     0.17933 US Dollar"]
[null,"You sell 1 Danish Krone :     0.17927 US Dollar "]
[]
[null,"Median price = 5.57629 / 5.57812 (bid/ask)"]
[null,"Minimum price = 5.57610 / 5.57710"]
[null,"Maximum price = 5.57750 / 5.57920"]
[]
[null,"Rate for previous or next day"]
[null,"Get exchange rates with amount:"]
[]
[null,"Trade with OANDAOpen demo accountSend money with OANDA"]
[]
[]
[]
[null,"Also See..."]
[]
[null,"FXTrade: trade currencies with tight spreads, no minimum deposit and earn continuous interest on your money."]
[null,"FXGlobalTransfer: Send money overseas to 230 countries."]
[null,"FXTradeTicker: A Yahoo! Widget which shows live FX rates and FXTrade/FXGame account status."]
[null,"iPhone Currency Converter: Visit the iPhone store to download OANDA's currency converter."]
[null,"Travel Expense Report Manager (FXPense): Create multi-currency expense reports online and save it in MS Excel."]
[null,"Link to Currency Converter: Find out how to link to OANDA's FXConverter."]
[]
[]
["TRY ALSO..."]
[]
["NEW Currency Converter"]
["Currency Converter Widget"]
["iPhone Converter"]
["BlackBerry Converter"]
["Android Converter"]
["Money Transfers"]
["Exchange Rate Feeds"]
[]
["Foreign Exchange Tools"]
[]
["Historical Exchange Rates"]
["Live Exchange Rates"]
["Mobile Currency Apps"]
["Currency Data"]
["Currency Widgets"]
[]
["Mobile Currency Apps"]
[]
["iPhone Currency App"]
["Android Currency App"]
["Blackberry Currency App"]
["PlayBook Currency App"]
["Windows Phone 7 Currency App"]
[]
["Currency Quick Links"]
[]
["Free Converter Widget"]
["Currency Data Feeds"]
["Big Mac Index"]
["EUR/USD Rates"]
[]
["1996 - 2012 OANDA Corporation. All rights reserved. \"OANDA\", \"fxTrade\" and OANDA's \"fx\" family of trade marks are owned by OANDA Corporation. All other trade marks appearing on this Website are the property of their respective owners. "]
["OANDA Services"]
[]
["Forex Trading"]
["Currency Converter"]
["Rate Subscriptions"]
["Money Transfers"]
["Forex Blog"]
["Currency Hedging"]
["fxUnity"]
[]
["About OANDA"]
[]
["About Us"]
["Our Story"]
["Corporate Blog"]
["Press Room"]
["Jobs"]
[]
["Terms of Use"]
["Privacy Policy"]
["Site Map"]
["Advertise"]
["Contact Us"]
["Feedback"]

{"sheet":" EUR ","index":32,"n_rows":123,"n_cols":3,"rows_kept":123,"cut":false,"hidden":true,"merged":[]}
["ENGLISH"]
[]
["DEUTSCH"]
["ESPAяL"]
["FRANǁIS"]
["ITALIANO"]
["PORTUGUʓ"]
["SVENSKA"]
[]
["Rate Subscriptions "]
["Register Sign in "]
[]
["Forex Trading "]
["Currency Converter "]
["Rate Subscriptions "]
["Money Transfers "]
[]
["Currency Converter"]
["Currency Tools"]
["Mobile"]
[]
["Home "]
["|"]
["fxConverter Classic"]
[]
["Help "]
[]
["fxConverter Classic"]
[]
[]
[null,"Sunday, April 1, 2012","Add to your site"]
[]
[null,"1 US Dollar = 0.74977 Euro ","Print"]
[]
[null,"1 Euro (EUR) = 1.33374 US Dollar (USD)","Info"]
[]
[null,"Interbank rate +/- 0%","FXConverter Mobile [BlackBerry Eddition]"]
[]
[null,"This means:","Traveler's cheatsheet"]
[null,"You buy 1 US Dollar :     0.74977 Euro"]
[null,"You sell 1 US Dollar :     0.74921 Euro "]
[null,"You buy 1 Euro :     1.33474 US Dollar"]
[null,"You sell 1 Euro :     1.33374 US Dollar "]
[]
[null,"Median price = 0.74921 / 0.74977 (bid/ask)"]
[null,"Minimum price = 0.74921 / 0.74977"]
[null,"Maximum price = 0.74921 / 0.74977"]
[]
[null,"Rate for previous or next day"]
[null,"Get exchange rates with amount:"]
[]
[null,"Trade with OANDAOpen demo accountSend money with OANDA"]
[]
[]
[]
[null,"Also See..."]
[]
[null,"FXTrade: trade currencies with tight spreads, no minimum deposit and earn continuous interest on your money."]
[null,"FXGlobalTransfer: Send money overseas to 230 countries."]
[null,"FXTradeTicker: A Yahoo! Widget which shows live FX rates and FXTrade/FXGame account status."]
[null,"iPhone Currency Converter: Visit the iPhone store to download OANDA's currency converter."]
[null,"Travel Expense Report Manager (FXPense): Create multi-currency expense reports online and save it in MS Excel."]
[null,"Link to Currency Converter: Find out how to link to OANDA's FXConverter."]
[]
[]
["TRY ALSO..."]
[]
["NEW Currency Converter"]
["Currency Converter Widget"]
["iPhone Converter"]
["BlackBerry Converter"]
["Android Converter"]
["Money Transfers"]
["Exchange Rate Feeds"]
[]
["Foreign Exchange Tools"]
[]
["Historical Exchange Rates"]
["Live Exchange Rates"]
["Mobile Currency Apps"]
["Currency Data"]
["Currency Widgets"]
[]
["Mobile Currency Apps"]
[]
["iPhone Currency App"]
["Android Currency App"]
["Blackberry Currency App"]
["PlayBook Currency App"]
["Windows Phone 7 Currency App"]
[]
["Currency Quick Links"]
[]
["Free Converter Widget"]
["Currency Data Feeds"]
["Big Mac Index"]
["EUR/USD Rates"]
[]
["1996 - 2012 OANDA Corporation. All rights reserved. \"OANDA\", \"fxTrade\" and OANDA's \"fx\" family of trade marks are owned by OANDA Corporation. All other trade marks appearing on this Website are the property of their respective owners. "]
["OANDA Services"]
[]
["Forex Trading"]
["Currency Converter"]
["Rate Subscriptions"]
["Money Transfers"]
["Forex Blog"]
["Currency Hedging"]
["fxUnity"]
[]
["About OANDA"]
[]
["About Us"]
["Our Story"]
["Corporate Blog"]
["Press Room"]
["Jobs"]
[]
["Terms of Use"]
["Privacy Policy"]
["Site Map"]
["Advertise"]
["Contact Us"]
["Feedback"]

{"sheet":" NZD ","index":33,"n_rows":123,"n_cols":3,"rows_kept":123,"cut":false,"hidden":true,"merged":[]}
["ENGLISH"]
[]
["DEUTSCH"]
["ESPAяL"]
["FRANǁIS"]
["ITALIANO"]
["PORTUGUʓ"]
["SVENSKA"]
[]
["Rate Subscriptions "]
["Register Sign in "]
[]
["Forex Trading "]
["Currency Converter "]
["Rate Subscriptions "]
["Money Transfers "]
[]
["Currency Converter"]
["Currency Tools"]
["Mobile"]
[]
["Home "]
["|"]
["fxConverter Classic"]
[]
["Help "]
[]
["fxConverter Classic"]
[]
[]
[null,"Sunday, April 1, 2012","Add to your site"]
[]
[null,"1 US Dollar = 1.22267 New Zealand Dollar ","Print"]
[]
[null,"1 New Zealand Dollar (NZD) = 0.81788 US Dollar (USD)","Info"]
[]
[null,"Interbank rate +/- 0%","FXConverter Mobile [BlackBerry Eddition]"]
[]
[null,"This means:","Traveler's cheatsheet"]
[null,"You buy 1 US Dollar :     1.22267 New Zealand Dollar"]
[null,"You sell 1 US Dollar :     1.22118 New Zealand Dollar "]
[null,"You buy 1 New Zealand Dollar :     0.81888 US Dollar"]
[null,"You sell 1 New Zealand Dollar :     0.81788 US Dollar "]
[]
[null,"Median price = 1.22118 / 1.22267 (bid/ask)"]
[null,"Minimum price = 1.22118 / 1.22267"]
[null,"Maximum price = 1.22118 / 1.22267"]
[]
[null,"Rate for previous or next day"]
[null,"Get exchange rates with amount:"]
[]
[null,"Trade with OANDAOpen demo accountSend money with OANDA"]
[]
[]
[]
[null,"Also See..."]
[]
[null,"FXTrade: trade currencies with tight spreads, no minimum deposit and earn continuous interest on your money."]
[null,"FXGlobalTransfer: Send money overseas to 230 countries."]
[null,"FXTradeTicker: A Yahoo! Widget which shows live FX rates and FXTrade/FXGame account status."]
[null,"iPhone Currency Converter: Visit the iPhone store to download OANDA's currency converter."]
[null,"Travel Expense Report Manager (FXPense): Create multi-currency expense reports online and save it in MS Excel."]
[null,"Link to Currency Converter: Find out how to link to OANDA's FXConverter."]
[]
[]
["TRY ALSO..."]
[]
["NEW Currency Converter"]
["Currency Converter Widget"]
["iPhone Converter"]
["BlackBerry Converter"]
["Android Converter"]
["Money Transfers"]
["Exchange Rate Feeds"]
[]
["Foreign Exchange Tools"]
[]
["Historical Exchange Rates"]
["Live Exchange Rates"]
["Mobile Currency Apps"]
["Currency Data"]
["Currency Widgets"]
[]
["Mobile Currency Apps"]
[]
["iPhone Currency App"]
["Android Currency App"]
["Blackberry Currency App"]
["PlayBook Currency App"]
["Windows Phone 7 Currency App"]
[]
["Currency Quick Links"]
[]
["Free Converter Widget"]
["Currency Data Feeds"]
["Big Mac Index"]
["EUR/USD Rates"]
[]
["1996 - 2012 OANDA Corporation. All rights reserved. \"OANDA\", \"fxTrade\" and OANDA's \"fx\" family of trade marks are owned by OANDA Corporation. All other trade marks appearing on this Website are the property of their respective owners. "]
["OANDA Services"]
[]
["Forex Trading"]
["Currency Converter"]
["Rate Subscriptions"]
["Money Transfers"]
["Forex Blog"]
["Currency Hedging"]
["fxUnity"]
[]
["About OANDA"]
[]
["About Us"]
["Our Story"]
["Corporate Blog"]
["Press Room"]
["Jobs"]
[]
["Terms of Use"]
["Privacy Policy"]
["Site Map"]
["Advertise"]
["Contact Us"]
["Feedback"]

{"sheet":" SEK ","index":34,"n_rows":123,"n_cols":3,"rows_kept":123,"cut":false,"hidden":true,"merged":[]}
["ENGLISH"]
[]
["DEUTSCH"]
["ESPAяL"]
["FRANǁIS"]
["ITALIANO"]
["PORTUGUʓ"]
["SVENSKA"]
[]
["Rate Subscriptions "]
["Register Sign in "]
[]
["Forex Trading "]
["Currency Converter "]
["Rate Subscriptions "]
["Money Transfers "]
[]
["Currency Converter"]
["Currency Tools"]
["Mobile"]
[]
["Home "]
["|"]
["fxConverter Classic"]
[]
["Help "]
[]
["fxConverter Classic"]
[]
[]
[null,"Sunday, April 1, 2012","Add to your site"]
[]
[null,"1 US Dollar = 6.61713 Swedish Krona ","Print"]
[]
[null,"1 Swedish Krona (SEK) = 0.15112 US Dollar (USD)","Info"]
[]
[null,"Interbank rate +/- 0%","FXConverter Mobile [BlackBerry Eddition]"]
[]
[null,"This means:","Traveler's cheatsheet"]
[null,"You buy 1 US Dollar :     6.61713 Swedish Krona"]
[null,"You sell 1 US Dollar :     6.61198 Swedish Krona "]
[null,"You buy 1 Swedish Krona :     0.15124 US Dollar"]
[null,"You sell 1 Swedish Krona :     0.15112 US Dollar "]
[]
[null,"Median price = 6.61198 / 6.61713 (bid/ask)"]
[null,"Minimum price = 6.60700 / 6.61660"]
[null,"Maximum price = 6.61450 / 6.62130"]
[]
[null,"Rate for previous or next day"]
[null,"Get exchange rates with amount:"]
[]
[null,"Trade with OANDAOpen demo accountSend money with OANDA"]
[]
[]
[]
[null,"Also See..."]
[]
[null,"FXTrade: trade currencies with tight spreads, no minimum deposit and earn continuous interest on your money."]
[null,"FXGlobalTransfer: Send money overseas to 230 countries."]
[null,"FXTradeTicker: A Yahoo! Widget which shows live FX rates and FXTrade/FXGame account status."]
[null,"iPhone Currency Converter: Visit the iPhone store to download OANDA's currency converter."]
[null,"Travel Expense Report Manager (FXPense): Create multi-currency expense reports online and save it in MS Excel."]
[null,"Link to Currency Converter: Find out how to link to OANDA's FXConverter."]
[]
[]
["TRY ALSO..."]
[]
["NEW Currency Converter"]
["Currency Converter Widget"]
["iPhone Converter"]
["BlackBerry Converter"]
["Android Converter"]
["Money Transfers"]
["Exchange Rate Feeds"]
[]
["Foreign Exchange Tools"]
[]
["Historical Exchange Rates"]
["Live Exchange Rates"]
["Mobile Currency Apps"]
["Currency Data"]
["Currency Widgets"]
[]
["Mobile Currency Apps"]
[]
["iPhone Currency App"]
["Android Currency App"]
["Blackberry Currency App"]
["PlayBook Currency App"]
["Windows Phone 7 Currency App"]
[]
["Currency Quick Links"]
[]
["Free Converter Widget"]
["Currency Data Feeds"]
["Big Mac Index"]
["EUR/USD Rates"]
[]
["1996 - 2012 OANDA Corporation. All rights reserved. \"OANDA\", \"fxTrade\" and OANDA's \"fx\" family of trade marks are owned by OANDA Corporation. All other trade marks appearing on this Website are the property of their respective owners. "]
["OANDA Services"]
[]
["Forex Trading"]
["Currency Converter"]
["Rate Subscriptions"]
["Money Transfers"]
["Forex Blog"]
["Currency Hedging"]
["fxUnity"]
[]
["About OANDA"]
[]
["About Us"]
["Our Story"]
["Corporate Blog"]
["Press Room"]
["Jobs"]
[]
["Terms of Use"]
["Privacy Policy"]
["Site Map"]
["Advertise"]
["Contact Us"]
["Feedback"]

{"sheet":" CHF ","index":35,"n_rows":123,"n_cols":3,"rows_kept":123,"cut":false,"hidden":true,"merged":[]}
["ENGLISH"]
[]
["DEUTSCH"]
["ESPAяL"]
["FRANǁIS"]
["ITALIANO"]
["PORTUGUʓ"]
["SVENSKA"]
[]
["Rate Subscriptions "]
["Register Sign in "]
[]
["Forex Trading "]
["Currency Converter "]
["Rate Subscriptions "]
["Money Transfers "]
[]
["Currency Converter"]
["Currency Tools"]
["Mobile"]
[]
["Home "]
["|"]
["fxConverter Classic"]
[]
["Help "]
[]
["fxConverter Classic"]
[]
[]
[null,"Sunday, April 1, 2012","Add to your site"]
[]
[null,"1 US Dollar = 0.90290 Swiss Franc ","Print"]
[]
[null,"1 Swiss Franc (CHF) = 1.10754 US Dollar (USD)","Info"]
[]
[null,"Interbank rate +/- 0%","FXConverter Mobile [BlackBerry Eddition]"]
[]
[null,"This means:","Traveler's cheatsheet"]
[null,"You buy 1 US Dollar :     0.90290 Swiss Franc"]
[null,"You sell 1 US Dollar :     0.90190 Swiss Franc "]
[null,"You buy 1 Swiss Franc :     1.10877 US Dollar"]
[null,"You sell 1 Swiss Franc :     1.10754 US Dollar "]
[]
[null,"Median price = 0.90190 / 0.90290 (bid/ask)"]
[null,"Minimum price = 0.90190 / 0.90290"]
[null,"Maximum price = 0.90190 / 0.90290"]
[]
[null,"Rate for previous or next day"]
[null,"Get exchange rates with amount:"]
[]
[null,"Trade with OANDAOpen demo accountSend money with OANDA"]
[]
[]
[]
[null,"Also See..."]
[]
[null,"FXTrade: trade currencies with tight spreads, no minimum deposit and earn continuous interest on your money."]
[null,"FXGlobalTransfer: Send money overseas to 230 countries."]
[null,"FXTradeTicker: A Yahoo! Widget which shows live FX rates and FXTrade/FXGame account status."]
[null,"iPhone Currency Converter: Visit the iPhone store to download OANDA's currency converter."]
[null,"Travel Expense Report Manager (FXPense): Create multi-currency expense reports online and save it in MS Excel."]
[null,"Link to Currency Converter: Find out how to link to OANDA's FXConverter."]
[]
[]
["TRY ALSO..."]
[]
["NEW Currency Converter"]
["Currency Converter Widget"]
["iPhone Converter"]
["BlackBerry Converter"]
["Android Converter"]
["Money Transfers"]
["Exchange Rate Feeds"]
[]
["Foreign Exchange Tools"]
[]
["Historical Exchange Rates"]
["Live Exchange Rates"]
["Mobile Currency Apps"]
["Currency Data"]
["Currency Widgets"]
[]
["Mobile Currency Apps"]
[]
["iPhone Currency App"]
["Android Currency App"]
["Blackberry Currency App"]
["PlayBook Currency App"]
["Windows Phone 7 Currency App"]
[]
["Currency Quick Links"]
[]
["Free Converter Widget"]
["Currency Data Feeds"]
["Big Mac Index"]
["EUR/USD Rates"]
[]
["1996 - 2012 OANDA Corporation. All rights reserved. \"OANDA\", \"fxTrade\" and OANDA's \"fx\" family of trade marks are owned by OANDA Corporation. All other trade marks appearing on this Website are the property of their respective owners. "]
["OANDA Services"]
[]
["Forex Trading"]
["Currency Converter"]
["Rate Subscriptions"]
["Money Transfers"]
["Forex Blog"]
["Currency Hedging"]
["fxUnity"]
[]
["About OANDA"]
[]
["About Us"]
["Our Story"]
["Corporate Blog"]
["Press Room"]
["Jobs"]
[]
["Terms of Use"]
["Privacy Policy"]
["Site Map"]
["Advertise"]
["Contact Us"]
["Feedback"]

{"sheet":" HUF ","index":36,"n_rows":123,"n_cols":3,"rows_kept":123,"cut":false,"hidden":true,"merged":[]}
["ENGLISH"]
[]
["DEUTSCH"]
["ESPAяL"]
["FRANǁIS"]
["ITALIANO"]
["PORTUGUʓ"]
["SVENSKA"]
[]
["Rate Subscriptions "]
["Register Sign in "]
[]
["Forex Trading "]
["Currency Converter "]
["Rate Subscriptions "]
["Money Transfers "]
[]
["Currency Converter"]
["Currency Tools"]
["Mobile"]
[]
["Home "]
["|"]
["fxConverter Classic"]
[]
["Help "]
[]
["fxConverter Classic"]
[]
[]
[null,"Sunday, April 1, 2012","Add to your site"]
[]
[null,"1 US Dollar = 221.003 Hungarian Forint ","Print"]
[]
[null,"1 Hungarian Forint (HUF) = 0.004525 US Dollar (USD)","Info"]
[]
[null,"Interbank rate +/- 0%","FXConverter Mobile [BlackBerry Eddition]"]
[]
[null,"This means:","Traveler's cheatsheet"]
[null,"You buy 1 US Dollar :     221.003 Hungarian Forint"]
[null,"You sell 1 US Dollar :     220.495 Hungarian Forint "]
[null,"You buy 1 Hungarian Forint :     0.004535 US Dollar"]
[null,"You sell 1 Hungarian Forint :     0.004525 US Dollar "]
[]
[null,"Median price = 220.495 / 221.003 (bid/ask)"]
[null,"Minimum price = 220.440 / 220.830"]
[null,"Maximum price = 220.530 / 221.120"]
[]
[null,"Rate for previous or next day"]
[null,"Get exchange rates with amount:"]
[]
[null,"Trade with OANDAOpen demo accountSend money with OANDA"]
[]
[]
[]
[null,"Also See..."]
[]
[null,"FXTrade: trade currencies with tight spreads, no minimum deposit and earn continuous interest on your money."]
[null,"FXGlobalTransfer: Send money overseas to 230 countries."]
[null,"FXTradeTicker: A Yahoo! Widget which shows live FX rates and FXTrade/FXGame account status."]
[null,"iPhone Currency Converter: Visit the iPhone store to download OANDA's currency converter."]
[null,"Travel Expense Report Manager (FXPense): Create multi-currency expense reports online and save it in MS Excel."]
[null,"Link to Currency Converter: Find out how to link to OANDA's FXConverter."]
[]
[]
["TRY ALSO..."]
[]
["NEW Currency Converter"]
["Currency Converter Widget"]
["iPhone Converter"]
["BlackBerry Converter"]
["Android Converter"]
["Money Transfers"]
["Exchange Rate Feeds"]
[]
["Foreign Exchange Tools"]
[]
["Historical Exchange Rates"]
["Live Exchange Rates"]
["Mobile Currency Apps"]
["Currency Data"]
["Currency Widgets"]
[]
["Mobile Currency Apps"]
[]
["iPhone Currency App"]
["Android Currency App"]
["Blackberry Currency App"]
["PlayBook Currency App"]
["Windows Phone 7 Currency App"]
[]
["Currency Quick Links"]
[]
["Free Converter Widget"]
["Currency Data Feeds"]
["Big Mac Index"]
["EUR/USD Rates"]
[]
["1996 - 2012 OANDA Corporation. All rights reserved. \"OANDA\", \"fxTrade\" and OANDA's \"fx\" family of trade marks are owned by OANDA Corporation. All other trade marks appearing on this Website are the property of their respective owners. "]
["OANDA Services"]
[]
["Forex Trading"]
["Currency Converter"]
["Rate Subscriptions"]
["Money Transfers"]
["Forex Blog"]
["Currency Hedging"]
["fxUnity"]
[]
["About OANDA"]
[]
["About Us"]
["Our Story"]
["Corporate Blog"]
["Press Room"]
["Jobs"]
[]
["Terms of Use"]
["Privacy Policy"]
["Site Map"]
["Advertise"]
["Contact Us"]
["Feedback"]

{"sheet":" CZK ","index":37,"n_rows":123,"n_cols":3,"rows_kept":123,"cut":false,"hidden":true,"merged":[]}
["ENGLISH"]
[]
["DEUTSCH"]
["ESPAяL"]
["FRANǁIS"]
["ITALIANO"]
["PORTUGUʓ"]
["SVENSKA"]
[]
["Rate Subscriptions "]
["Register Sign in "]
[]
["Forex Trading "]
["Currency Converter "]
["Rate Subscriptions "]
["Money Transfers "]
[]
["Currency Converter"]
["Currency Tools"]
["Mobile"]
[]
["Home "]
["|"]
["fxConverter Classic"]
[]
["Help "]
[]
["fxConverter Classic"]
[]
[]
[null,"Sunday, April 1, 2012","Add to your site"]
[]
[null,"1 US Dollar = 18.59692 Czech Koruna ","Print"]
[]
[null,"1 Czech Koruna (CZK) = 0.05377 US Dollar (USD)","Info"]
[]
[null,"Interbank rate +/- 0%","FXConverter Mobile [BlackBerry Eddition]"]
[]
[null,"This means:","Traveler's cheatsheet"]
[null,"You buy 1 US Dollar :     18.59692 Czech Koruna"]
[null,"You sell 1 US Dollar :     18.56744 Czech Koruna "]
[null,"You buy 1 Czech Koruna :     0.05386 US Dollar"]
[null,"You sell 1 Czech Koruna :     0.05377 US Dollar "]
[]
[null,"Median price = 18.56744 / 18.59692 (bid/ask)"]
[null,"Minimum price = 18.55900 / 18.59000"]
[null,"Maximum price = 18.58500 / 18.65700"]
[]
[null,"Rate for previous or next day"]
[null,"Get exchange rates with amount:"]
[]
[null,"Trade with OANDAOpen demo accountSend money with OANDA"]
[]
[]
[]
[null,"Also See..."]
[]
[null,"FXTrade: trade currencies with tight spreads, no minimum deposit and earn continuous interest on your money."]
[null,"FXGlobalTransfer: Send money overseas to 230 countries."]
[null,"FXTradeTicker: A Yahoo! Widget which shows live FX rates and FXTrade/FXGame account status."]
[null,"iPhone Currency Converter: Visit the iPhone store to download OANDA's currency converter."]
[null,"Travel Expense Report Manager (FXPense): Create multi-currency expense reports online and save it in MS Excel."]
[null,"Link to Currency Converter: Find out how to link to OANDA's FXConverter."]
[]
[]
["TRY ALSO..."]
[]
["NEW Currency Converter"]
["Currency Converter Widget"]
["iPhone Converter"]
["BlackBerry Converter"]
["Android Converter"]
["Money Transfers"]
["Exchange Rate Feeds"]
[]
["Foreign Exchange Tools"]
[]
["Historical Exchange Rates"]
["Live Exchange Rates"]
["Mobile Currency Apps"]
["Currency Data"]
["Currency Widgets"]
[]
["Mobile Currency Apps"]
[]
["iPhone Currency App"]
["Android Currency App"]
["Blackberry Currency App"]
["PlayBook Currency App"]
["Windows Phone 7 Currency App"]
[]
["Currency Quick Links"]
[]
["Free Converter Widget"]
["Currency Data Feeds"]
["Big Mac Index"]
["EUR/USD Rates"]
[]
["1996 - 2012 OANDA Corporation. All rights reserved. \"OANDA\", \"fxTrade\" and OANDA's \"fx\" family of trade marks are owned by OANDA Corporation. All other trade marks appearing on this Website are the property of their respective owners. "]
["OANDA Services"]
[]
["Forex Trading"]
["Currency Converter"]
["Rate Subscriptions"]
["Money Transfers"]
["Forex Blog"]
["Currency Hedging"]
["fxUnity"]
[]
["About OANDA"]
[]
["About Us"]
["Our Story"]
["Corporate Blog"]
["Press Room"]
["Jobs"]
[]
["Terms of Use"]
["Privacy Policy"]
["Site Map"]
["Advertise"]
["Contact Us"]
["Feedback"]

{"sheet":" PLN ","index":38,"n_rows":123,"n_cols":3,"rows_kept":123,"cut":false,"hidden":true,"merged":[]}
["ENGLISH"]
[]
["DEUTSCH"]
["ESPAяL"]
["FRANǁIS"]
["ITALIANO"]
["PORTUGUʓ"]
["SVENSKA"]
[]
["Rate Subscriptions "]
["Register Sign in "]
[]
["Forex Trading "]
["Currency Converter "]
["Rate Subscriptions "]
["Money Transfers "]
[]
["Currency Converter"]
["Currency Tools"]
["Mobile"]
[]
["Home "]
["|"]
["fxConverter Classic"]
[]
["Help "]
[]
["fxConverter Classic"]
[]
[]
[null,"Sunday, April 1, 2012","Add to your site"]
[]
[null,"1 US Dollar = 3.11152 Polish Zloty ","Print"]
[]
[null,"1 Polish Zloty (PLN) = 0.32139 US Dollar (USD)","Info"]
[]
[null,"Interbank rate +/- 0%","FXConverter Mobile [BlackBerry Eddition]"]
[]
[null,"This means:","Traveler's cheatsheet"]
[null,"You buy 1 US Dollar :     3.11152 Polish Zloty"]
[null,"You sell 1 US Dollar :     3.10848 Polish Zloty "]
[null,"You buy 1 Polish Zloty :     0.32170 US Dollar"]
[null,"You sell 1 Polish Zloty :     0.32139 US Dollar "]
[]
[null,"Median price = 3.10848 / 3.11152 (bid/ask)"]
[null,"Minimum price = 3.10200 / 3.10820"]
[null,"Maximum price = 3.11150 / 3.12030"]
[]
[null,"Rate for previous or next day"]
[null,"Get exchange rates with amount:"]
[]
[null,"Trade with OANDAOpen demo accountSend money with OANDA"]
[]
[]
[]
[null,"Also See..."]
[]
[null,"FXTrade: trade currencies with tight spreads, no minimum deposit and earn continuous interest on your money."]
[null,"FXGlobalTransfer: Send money overseas to 230 countries."]
[null,"FXTradeTicker: A Yahoo! Widget which shows live FX rates and FXTrade/FXGame account status."]
[null,"iPhone Currency Converter: Visit the iPhone store to download OANDA's currency converter."]
[null,"Travel Expense Report Manager (FXPense): Create multi-currency expense reports online and save it in MS Excel."]
[null,"Link to Currency Converter: Find out how to link to OANDA's FXConverter."]
[]
[]
["TRY ALSO..."]
[]
["NEW Currency Converter"]
["Currency Converter Widget"]
["iPhone Converter"]
["BlackBerry Converter"]
["Android Converter"]
["Money Transfers"]
["Exchange Rate Feeds"]
[]
["Foreign Exchange Tools"]
[]
["Historical Exchange Rates"]
["Live Exchange Rates"]
["Mobile Currency Apps"]
["Currency Data"]
["Currency Widgets"]
[]
["Mobile Currency Apps"]
[]
["iPhone Currency App"]
["Android Currency App"]
["Blackberry Currency App"]
["PlayBook Currency App"]
["Windows Phone 7 Currency App"]
[]
["Currency Quick Links"]
[]
["Free Converter Widget"]
["Currency Data Feeds"]
["Big Mac Index"]
["EUR/USD Rates"]
[]
["1996 - 2012 OANDA Corporation. All rights reserved. \"OANDA\", \"fxTrade\" and OANDA's \"fx\" family of trade marks are owned by OANDA Corporation. All other trade marks appearing on this Website are the property of their respective owners. "]
["OANDA Services"]
[]
["Forex Trading"]
["Currency Converter"]
["Rate Subscriptions"]
["Money Transfers"]
["Forex Blog"]
["Currency Hedging"]
["fxUnity"]
[]
["About OANDA"]
[]
["About Us"]
["Our Story"]
["Corporate Blog"]
["Press Room"]
["Jobs"]
[]
["Terms of Use"]
["Privacy Policy"]
["Site Map"]
["Advertise"]
["Contact Us"]
["Feedback"]

{"sheet":" IDR ","index":39,"n_rows":123,"n_cols":3,"rows_kept":123,"cut":false,"hidden":true,"merged":[]}
["ENGLISH"]
[]
["DEUTSCH"]
["ESPAяL"]
["FRANǁIS"]
["ITALIANO"]
["PORTUGUʓ"]
["SVENSKA"]
[]
["Rate Subscriptions "]
["Register Sign in "]
[]
["Forex Trading "]
["Currency Converter "]
["Rate Subscriptions "]
["Money Transfers "]
[]
["Currency Converter"]
["Currency Tools"]
["Mobile"]
[]
["Home "]
["|"]
["fxConverter Classic"]
[]
["Help "]
[]
["fxConverter Classic"]
[]
[]
[null,"Sunday, April 1, 2012","Add to your site"]
[]
[null,"1 US Dollar = 9,165.90 Indonesian Rupiah ","Print"]
[]
[null,"1 Indonesian Rupiah (IDR) = 0.0001091 US Dollar (USD)","Info"]
[]
[null,"Interbank rate +/- 0%","FXConverter Mobile [BlackBerry Eddition]"]
[]
[null,"This means:","Traveler's cheatsheet"]
[null,"You buy 1 US Dollar :     9,165.90 Indonesian Rupiah"]
[null,"You sell 1 US Dollar :     9,115.77 Indonesian Rupiah "]
[null,"You buy 1 Indonesian Rupiah :     0.0001097 US Dollar"]
[null,"You sell 1 Indonesian Rupiah :     0.0001091 US Dollar "]
[]
[null,"Median price = 9,115.77 / 9,165.90 (bid/ask)"]
[null,"Minimum price = 9,115.77 / 9,165.90"]
[null,"Maximum price = 9,124.09 / 9,174.31"]
[]
[null,"Rate for previous or next day"]
[null,"Get exchange rates with amount:"]
[]
[null,"Trade with OANDAOpen demo accountSend money with OANDA"]
[]
[]
[]
[null,"Also See..."]
[]
[null,"FXTrade: trade currencies with tight spreads, no minimum deposit and earn continuous interest on your money."]
[null,"FXGlobalTransfer: Send money overseas to 230 countries."]
[null,"FXTradeTicker: A Yahoo! Widget which shows live FX rates and FXTrade/FXGame account status."]
[null,"iPhone Currency Converter: Visit the iPhone store to download OANDA's currency converter."]
[null,"Travel Expense Report Manager (FXPense): Create multi-currency expense reports online and save it in MS Excel."]
[null,"Link to Currency Converter: Find out how to link to OANDA's FXConverter."]
[]
[]
["TRY ALSO..."]
[]
["NEW Currency Converter"]
["Currency Converter Widget"]
["iPhone Converter"]
["BlackBerry Converter"]
["Android Converter"]
["Money Transfers"]
["Exchange Rate Feeds"]
[]
["Foreign Exchange Tools"]
[]
["Historical Exchange Rates"]
["Live Exchange Rates"]
["Mobile Currency Apps"]
["Currency Data"]
["Currency Widgets"]
[]
["Mobile Currency Apps"]
[]
["iPhone Currency App"]
["Android Currency App"]
["Blackberry Currency App"]
["PlayBook Currency App"]
["Windows Phone 7 Currency App"]
[]
["Currency Quick Links"]
[]
["Free Converter Widget"]
["Currency Data Feeds"]
["Big Mac Index"]
["EUR/USD Rates"]
[]
["1996 - 2012 OANDA Corporation. All rights reserved. \"OANDA\", \"fxTrade\" and OANDA's \"fx\" family of trade marks are owned by OANDA Corporation. All other trade marks appearing on this Website are the property of their respective owners. "]
["OANDA Services"]
[]
["Forex Trading"]
["Currency Converter"]
["Rate Subscriptions"]
["Money Transfers"]
["Forex Blog"]
["Currency Hedging"]
["fxUnity"]
[]
["About OANDA"]
[]
["About Us"]
["Our Story"]
["Corporate Blog"]
["Press Room"]
["Jobs"]
[]
["Terms of Use"]
["Privacy Policy"]
["Site Map"]
["Advertise"]
["Contact Us"]
["Feedback"]

{"sheet":" LAK ","index":40,"n_rows":123,"n_cols":3,"rows_kept":123,"cut":false,"hidden":true,"merged":[]}
["ENGLISH"]
[]
["DEUTSCH"]
["ESPAяL"]
["FRANǁIS"]
["ITALIANO"]
["PORTUGUʓ"]
["SVENSKA"]
[]
["Rate Subscriptions "]
["Register Sign in "]
[]
["Forex Trading "]
["Currency Converter "]
["Rate Subscriptions "]
["Money Transfers "]
[]
["Currency Converter"]
["Currency Tools"]
["Mobile"]
[]
["Home "]
["|"]
["fxConverter Classic"]
[]
["Help "]
[]
["fxConverter Classic"]
[]
[]
[null,"Sunday, April 1, 2012","Add to your site"]
[]
[null,"1 US Dollar = 8,087.45 Lao Kip ","Print"]
[]
[null,"1 Lao Kip (LAK) = 0.0001236 US Dollar (USD)","Info"]
[]
[null,"Interbank rate +/- 0%","FXConverter Mobile [BlackBerry Eddition]"]
[]
[null,"This means:","Traveler's cheatsheet"]
[null,"You buy 1 US Dollar :     8,087.45 Lao Kip"]
[null,"You sell 1 US Dollar :     7,886.50 Lao Kip "]
[null,"You buy 1 Lao Kip :     0.0001268 US Dollar"]
[null,"You sell 1 Lao Kip :     0.0001236 US Dollar "]
[]
[null,"Median price = 7,886.50 / 8,087.45 (bid/ask)"]
[null,"Minimum price = 7,798.10 / 8,028.00"]
[null,"Maximum price = 7,948.00 / 8,172.90"]
[]
[null,"Rate for previous or next day"]
[null,"Get exchange rates with amount:"]
[]
[null,"Trade with OANDAOpen demo accountSend money with OANDA"]
[]
[]
[]
[null,"Also See..."]
[]
[null,"FXTrade: trade currencies with tight spreads, no minimum deposit and earn continuous interest on your money."]
[null,"FXGlobalTransfer: Send money overseas to 230 countries."]
[null,"FXTradeTicker: A Yahoo! Widget which shows live FX rates and FXTrade/FXGame account status."]
[null,"iPhone Currency Converter: Visit the iPhone store to download OANDA's currency converter."]
[null,"Travel Expense Report Manager (FXPense): Create multi-currency expense reports online and save it in MS Excel."]
[null,"Link to Currency Converter: Find out how to link to OANDA's FXConverter."]
[]
[]
["TRY ALSO..."]
[]
["NEW Currency Converter"]
["Currency Converter Widget"]
["iPhone Converter"]
["BlackBerry Converter"]
["Android Converter"]
["Money Transfers"]
["Exchange Rate Feeds"]
[]
["Foreign Exchange Tools"]
[]
["Historical Exchange Rates"]
["Live Exchange Rates"]
["Mobile Currency Apps"]
["Currency Data"]
["Currency Widgets"]
[]
["Mobile Currency Apps"]
[]
["iPhone Currency App"]
["Android Currency App"]
["Blackberry Currency App"]
["PlayBook Currency App"]
["Windows Phone 7 Currency App"]
[]
["Currency Quick Links"]
[]
["Free Converter Widget"]
["Currency Data Feeds"]
["Big Mac Index"]
["EUR/USD Rates"]
[]
["1996 - 2012 OANDA Corporation. All rights reserved. \"OANDA\", \"fxTrade\" and OANDA's \"fx\" family of trade marks are owned by OANDA Corporation. All other trade marks appearing on this Website are the property of their respective owners. "]
["OANDA Services"]
[]
["Forex Trading"]
["Currency Converter"]
["Rate Subscriptions"]
["Money Transfers"]
["Forex Blog"]
["Currency Hedging"]
["fxUnity"]
[]
["About OANDA"]
[]
["About Us"]
["Our Story"]
["Corporate Blog"]
["Press Room"]
["Jobs"]
[]
["Terms of Use"]
["Privacy Policy"]
["Site Map"]
["Advertise"]
["Contact Us"]
["Feedback"]

{"sheet":" NOK ","index":41,"n_rows":123,"n_cols":3,"rows_kept":123,"cut":false,"hidden":true,"merged":[]}
["ENGLISH"]
[]
["DEUTSCH"]
["ESPAяL"]
["FRANǁIS"]
["ITALIANO"]
["PORTUGUʓ"]
["SVENSKA"]
[]
["Rate Subscriptions "]
["Register Sign in "]
[]
["Forex Trading "]
["Currency Converter "]
["Rate Subscriptions "]
["Money Transfers "]
[]
["Currency Converter"]
["Currency Tools"]
["Mobile"]
[]
["Home "]
["|"]
["fxConverter Classic"]
[]
["Help "]
[]
["fxConverter Classic"]
[]
[]
[null,"Sunday, April 1, 2012","Add to your site"]
[]
[null,"1 US Dollar = 5.70309 Norwegian Kroner ","Print"]
[]
[null,"1 Norwegian Kroner (NOK) = 0.17534 US Dollar (USD)","Info"]
[]
[null,"Interbank rate +/- 0%","FXConverter Mobile [BlackBerry Eddition]"]
[]
[null,"This means:","Traveler's cheatsheet"]
[null,"You buy 1 US Dollar :     5.70309 Norwegian Kroner"]
[null,"You sell 1 US Dollar :     5.68309 Norwegian Kroner "]
[null,"You buy 1 Norwegian Kroner :     0.17596 US Dollar"]
[null,"You sell 1 Norwegian Kroner :     0.17534 US Dollar "]
[]
[null,"Median price = 5.68309 / 5.70309 (bid/ask)"]
[null,"Minimum price = 5.68309 / 5.70309"]
[null,"Maximum price = 5.68309 / 5.70309"]
[]
[null,"Rate for previous or next day"]
[null,"Get exchange rates with amount:"]
[]
[null,"Trade with OANDAOpen demo accountSend money with OANDA"]
[]
[]
[]
[null,"Also See..."]
[]
[null,"FXTrade: trade currencies with tight spreads, no minimum deposit and earn continuous interest on your money."]
[null,"FXGlobalTransfer: Send money overseas to 230 countries."]
[null,"FXTradeTicker: A Yahoo! Widget which shows live FX rates and FXTrade/FXGame account status."]
[null,"iPhone Currency Converter: Visit the iPhone store to download OANDA's currency converter."]
[null,"Travel Expense Report Manager (FXPense): Create multi-currency expense reports online and save it in MS Excel."]
[null,"Link to Currency Converter: Find out how to link to OANDA's FXConverter."]
[]
[]
["TRY ALSO..."]
[]
["NEW Currency Converter"]
["Currency Converter Widget"]
["iPhone Converter"]
["BlackBerry Converter"]
["Android Converter"]
["Money Transfers"]
["Exchange Rate Feeds"]
[]
["Foreign Exchange Tools"]
[]
["Historical Exchange Rates"]
["Live Exchange Rates"]
["Mobile Currency Apps"]
["Currency Data"]
["Currency Widgets"]
[]
["Mobile Currency Apps"]
[]
["iPhone Currency App"]
["Android Currency App"]
["Blackberry Currency App"]
["PlayBook Currency App"]
["Windows Phone 7 Currency App"]
[]
["Currency Quick Links"]
[]
["Free Converter Widget"]
["Currency Data Feeds"]
["Big Mac Index"]
["EUR/USD Rates"]
[]
["1996 - 2012 OANDA Corporation. All rights reserved. \"OANDA\", \"fxTrade\" and OANDA's \"fx\" family of trade marks are owned by OANDA Corporation. All other trade marks appearing on this Website are the property of their respective owners. "]
["OANDA Services"]
[]
["Forex Trading"]
["Currency Converter"]
["Rate Subscriptions"]
["Money Transfers"]
["Forex Blog"]
["Currency Hedging"]
["fxUnity"]
[]
["About OANDA"]
[]
["About Us"]
["Our Story"]
["Corporate Blog"]
["Press Room"]
["Jobs"]
[]
["Terms of Use"]
["Privacy Policy"]
["Site Map"]
["Advertise"]
["Contact Us"]
["Feedback"]

{"sheet":" INR ","index":42,"n_rows":123,"n_cols":3,"rows_kept":123,"cut":false,"hidden":true,"merged":[]}
["ENGLISH"]
[]
["DEUTSCH"]
["ESPAяL"]
["FRANǁIS"]
["ITALIANO"]
["PORTUGUʓ"]
["SVENSKA"]
[]
["Rate Subscriptions "]
["Register Sign in "]
[]
["Forex Trading "]
["Currency Converter "]
["Rate Subscriptions "]
["Money Transfers "]
[]
["Currency Converter"]
["Currency Tools"]
["Mobile"]
[]
["Home "]
["|"]
["fxConverter Classic"]
[]
["Help "]
[]
["fxConverter Classic"]
[]
[]
[null,"Sunday, April 1, 2012","Add to your site"]
[]
[null,"1 US Dollar = 52.18500 Indian Rupee ","Print"]
[]
[null,"1 Indian Rupee (INR) = 0.01916 US Dollar (USD)","Info"]
[]
[null,"Interbank rate +/- 0%","FXConverter Mobile [BlackBerry Eddition]"]
[]
[null,"This means:","Traveler's cheatsheet"]
[null,"You buy 1 US Dollar :     52.18500 Indian Rupee"]
[null,"You sell 1 US Dollar :     51.18500 Indian Rupee "]
[null,"You buy 1 Indian Rupee :     0.01954 US Dollar"]
[null,"You sell 1 Indian Rupee :     0.01916 US Dollar "]
[]
[null,"Median price = 51.18500 / 52.18500 (bid/ask)"]
[null,"Minimum price = 51.18500 / 52.18500"]
[null,"Maximum price = 51.18500 / 52.18500"]
[]
[null,"Rate for previous or next day"]
[null,"Get exchange rates with amount:"]
[]
[null,"Trade with OANDAOpen demo accountSend money with OANDA"]
[]
[]
[]
[null,"Also See..."]
[]
[null,"FXTrade: trade currencies with tight spreads, no minimum deposit and earn continuous interest on your money."]
[null,"FXGlobalTransfer: Send money overseas to 230 countries."]
[null,"FXTradeTicker: A Yahoo! Widget which shows live FX rates and FXTrade/FXGame account status."]
[null,"iPhone Currency Converter: Visit the iPhone store to download OANDA's currency converter."]
[null,"Travel Expense Report Manager (FXPense): Create multi-currency expense reports online and save it in MS Excel."]
[null,"Link to Currency Converter: Find out how to link to OANDA's FXConverter."]
[]
[]
["TRY ALSO..."]
[]
["NEW Currency Converter"]
["Currency Converter Widget"]
["iPhone Converter"]
["BlackBerry Converter"]
["Android Converter"]
["Money Transfers"]
["Exchange Rate Feeds"]
[]
["Foreign Exchange Tools"]
[]
["Historical Exchange Rates"]
["Live Exchange Rates"]
["Mobile Currency Apps"]
["Currency Data"]
["Currency Widgets"]
[]
["Mobile Currency Apps"]
[]
["iPhone Currency App"]
["Android Currency App"]
["Blackberry Currency App"]
["PlayBook Currency App"]
["Windows Phone 7 Currency App"]
[]
["Currency Quick Links"]
[]
["Free Converter Widget"]
["Currency Data Feeds"]
["Big Mac Index"]
["EUR/USD Rates"]
[]
["1996 - 2012 OANDA Corporation. All rights reserved. \"OANDA\", \"fxTrade\" and OANDA's \"fx\" family of trade marks are owned by OANDA Corporation. All other trade marks appearing on this Website are the property of their respective owners. "]
["OANDA Services"]
[]
["Forex Trading"]
["Currency Converter"]
["Rate Subscriptions"]
["Money Transfers"]
["Forex Blog"]
["Currency Hedging"]
["fxUnity"]
[]
["About OANDA"]
[]
["About Us"]
["Our Story"]
["Corporate Blog"]
["Press Room"]
["Jobs"]
[]
["Terms of Use"]
["Privacy Policy"]
["Site Map"]
["Advertise"]
["Contact Us"]
["Feedback"]

{"sheet":" CLP ","index":43,"n_rows":123,"n_cols":3,"rows_kept":123,"cut":false,"hidden":true,"merged":[]}
["ENGLISH"]
[]
["DEUTSCH"]
["ESPAяL"]
["FRANǁIS"]
["ITALIANO"]
["PORTUGUʓ"]
["SVENSKA"]
[]
["Rate Subscriptions "]
["Register Sign in "]
[]
["Forex Trading "]
["Currency Converter "]
["Rate Subscriptions "]
["Money Transfers "]
[]
["Currency Converter"]
["Currency Tools"]
["Mobile"]
[]
["Home "]
["|"]
["fxConverter Classic"]
[]
["Help "]
[]
["fxConverter Classic"]
[]
[]
[null,"Sunday, April 1, 2012","Add to your site"]
[]
[null,"1 US Dollar = 486.500 Chilean Peso ","Print"]
[]
[null,"1 Chilean Peso (CLP) = 0.002055 US Dollar (USD)","Info"]
[]
[null,"Interbank rate +/- 0%","FXConverter Mobile [BlackBerry Eddition]"]
[]
[null,"This means:","Traveler's cheatsheet"]
[null,"You buy 1 US Dollar :     486.500 Chilean Peso"]
[null,"You sell 1 US Dollar :     485.000 Chilean Peso "]
[null,"You buy 1 Chilean Peso :     0.002062 US Dollar"]
[null,"You sell 1 Chilean Peso :     0.002055 US Dollar "]
[]
[null,"Median price = 485.000 / 486.500 (bid/ask)"]
[null,"Minimum price = 485.000 / 485.700"]
[null,"Maximum price = 490.000 / 491.500"]
[]
[null,"Rate for previous or next day"]
[null,"Get exchange rates with amount:"]
[]
[null,"Trade with OANDAOpen demo accountSend money with OANDA"]
[]
[]
[]
[null,"Also See..."]
[]
[null,"FXTrade: trade currencies with tight spreads, no minimum deposit and earn continuous interest on your money."]
[null,"FXGlobalTransfer: Send money overseas to 230 countries."]
[null,"FXTradeTicker: A Yahoo! Widget which shows live FX rates and FXTrade/FXGame account status."]
[null,"iPhone Currency Converter: Visit the iPhone store to download OANDA's currency converter."]
[null,"Travel Expense Report Manager (FXPense): Create multi-currency expense reports online and save it in MS Excel."]
[null,"Link to Currency Converter: Find out how to link to OANDA's FXConverter."]
[]
[]
["TRY ALSO..."]
[]
["NEW Currency Converter"]
["Currency Converter Widget"]
["iPhone Converter"]
["BlackBerry Converter"]
["Android Converter"]
["Money Transfers"]
["Exchange Rate Feeds"]
[]
["Foreign Exchange Tools"]
[]
["Historical Exchange Rates"]
["Live Exchange Rates"]
["Mobile Currency Apps"]
["Currency Data"]
["Currency Widgets"]
[]
["Mobile Currency Apps"]
[]
["iPhone Currency App"]
["Android Currency App"]
["Blackberry Currency App"]
["PlayBook Currency App"]
["Windows Phone 7 Currency App"]
[]
["Currency Quick Links"]
[]
["Free Converter Widget"]
["Currency Data Feeds"]
["Big Mac Index"]
["EUR/USD Rates"]
[]
["1996 - 2012 OANDA Corporation. All rights reserved. \"OANDA\", \"fxTrade\" and OANDA's \"fx\" family of trade marks are owned by OANDA Corporation. All other trade marks appearing on this Website are the property of their respective owners. "]
["OANDA Services"]
[]
["Forex Trading"]
["Currency Converter"]
["Rate Subscriptions"]
["Money Transfers"]
["Forex Blog"]
["Currency Hedging"]
["fxUnity"]
[]
["About OANDA"]
[]
["About Us"]
["Our Story"]
["Corporate Blog"]
["Press Room"]
["Jobs"]
[]
["Terms of Use"]
["Privacy Policy"]
["Site Map"]
["Advertise"]
["Contact Us"]
["Feedback"]

{"sheet":"Averages","index":44,"n_rows":160,"n_cols":3,"rows_kept":160,"cut":false,"hidden":true,"merged":[]}
[]
["AUD","Average"]
[null,"bid","ask"]
[2012]
["*April",0.96750000000000003,0.96816000000000002]
[]
["BND","Average"]
[null,"bid","ask"]
[2012]
["*April",1.24088,1.2746]
[]
["CAD","Average"]
[null,"bid","ask"]
[2012]
["*April",0.99536000000000002,0.99594000000000005]
[]
["CHF","Average"]
[null,"bid","ask"]
[2012]
["*April",0.91032000000000002,0.91088000000000002]
[]
["CLP","Average"]
[null,"bid","ask"]
[2012]
["*April",483.56666999999999,485.01110999999997]
[]
["CNY","Average"]
[null,"bid","ask"]
[2012]
["*April",6.2990700000000004,6.3297100000000004]
[]
["COP","Average"]
[null,"bid","ask"]
[2012]
["*April",1767.33556,1790.1522199999999]
[]
["CZK","Average"]
[null,"bid","ask"]
[2012]
["*April",18.68628,18.720469999999999]
[]
["DKK","Average"]
[null,"bid","ask"]
[2012]
["*April",5.6324199999999998,5.6341799999999997]
[]
["EUR","Average"]
[null,"bid","ask"]
[2012]
["*April",0.75688999999999995,0.75719999999999998]
[]
["EUR","Average"]
[null,"bid","ask"]
[2012]
["*April",0.75688999999999995,0.75719999999999998]
[]
["GBP","Average"]
[null,"bid","ask"]
[2012]
["*April",0.62751000000000001,0.62773000000000001]
[]
["HKD","Average"]
[null,"bid","ask"]
[2012]
["*April",7.7644799999999998,7.7660400000000003]
[]
["HUF","Average"]
[null,"bid","ask"]
[2012]
["*April",223.25411,223.76167000000001]
[]
["IDR","Average"]
[null,"bid","ask"]
[2012]
["*April",9124.8244400000003,9168.6788899999992]
[]
["INR","Average"]
[null,"bid","ask"]
[2012]
["*April",51.534059999999997,52.090089999999996]
[]
["JPY","Average"]
[null,"bid","ask"]
[2012]
["*April",82.279820000000001,82.332229999999996]
[]
["KRW","Average"]
[null,"bid","ask"]
[2012]
["*April",1128.3888899999999,1130.43]
[]
["LAK","Average"]
[null,"bid","ask"]
[2012]
["*April",7907.3455599999998,8067.6622200000002]
[]
["MOP","Average"]
[null,"bid","ask"]
[2012]
["*April",7.8454300000000003,8.1480899999999998]
[]
["MXN","Average"]
[null,"bid","ask"]
[2012]
["*April",12.832610000000001,12.862439999999999]
[]
["MYR","Average"]
[null,"bid","ask"]
[2012]
["*April",3.0575299999999999,3.0630299999999999]
[]
["NOK","Average"]
[null,"bid","ask"]
[2012]
["*April",5.7302900000000001,5.74214]
[]
["NZD","Average"]
[null,"bid","ask"]
[2012]
["*April",1.2206699999999999,1.2217100000000001]
[]
["PHP","Average"]
[null,"bid","ask"]
[2012]
["*April",42.694690000000001,42.873980000000003]
[]
["PLN","Average"]
[null,"bid","ask"]
[2012]
["*April",3.14053,3.14473]
[]
["SEK","Average"]
[null,"bid","ask"]
[2012]
["*April",6.6743600000000001,6.6804199999999998]
[]
["SGD","Average"]
[null,"bid","ask"]
[2012]
["*April",1.25726,1.25804]
[]
["THB","Average"]
[null,"bid","ask"]
[2012]
["*April",30.651820000000001,31.167459999999998]
[]
["TRY","Average"]
[null,"bid","ask"]
[2012]
["*April",1.7863199999999999,1.7890999999999999]
[]
["TWD","Average"]
[null,"bid","ask"]
[2012]
["*April",29.464169999999999,29.552869999999999]
[]
["VEF","Average"]
[null,"bid","ask"]
[2012]
["*April",4.2888400000000004,4.3017700000000003]

{"sheet":"CAD","index":45,"n_rows":124,"n_cols":3,"rows_kept":124,"cut":false,"hidden":true,"merged":[]}
["ENGLISH"]
[]
["DEUTSCH"]
["ESPAяL"]
["FRANǁIS"]
["ITALIANO"]
["PORTUGUʓ"]
["SVENSKA"]
[]
["Rate Subscriptions "]
["Register Sign in "]
[]
["Forex Trading "]
["Currency Converter "]
["Rate Subscriptions "]
["Money Transfers "]
[]
["Currency Converter"]
["Currency Tools"]
["Mobile"]
[]
["Home "]
["|"]
["fxConverter Classic"]
[]
["Help "]
[]
["fxConverter Classic"]
[]
[]
[null,"Sunday, April 1, 2012","Add to your site"]
[]
[null,"1 US Dollar = 0.99915 Canadian Dollar ","Print"]
[]
[null,"1 Canadian Dollar (CAD) = 1.00085 US Dollar (USD)","Info"]
[]
[null,"Interbank rate +/- 0%","FXConverter Mobile [BlackBerry Eddition]"]
[]
[null,"This means:","Traveler's cheatsheet"]
[null,"You buy 1 US Dollar :     0.99915 Canadian Dollar"]
[null,"You sell 1 US Dollar :     0.99815 Canadian Dollar "]
[null,"You buy 1 Canadian Dollar :     1.00185 US Dollar"]
[null,"You sell 1 Canadian Dollar :     1.00085 US Dollar "]
[]
[null,"Median price = 0.99815 / 0.99915 (bid/ask)"]
[null,"Minimum price = 0.99815 / 0.99915"]
[null,"Maximum price = 0.99815 / 0.99915"]
[]
[null,"Rate for previous or next day"]
[null,"Get exchange rates with amount:"]
[]
[null,"Trade with OANDAOpen demo accountSend money with OANDA"]
[]
[]
[]
[null,"Also See..."]
[]
[null,"FXTrade: trade currencies with tight spreads, no minimum deposit and earn continuous interest on your money."]
[null,"FXGlobalTransfer: Send money overseas to 230 countries."]
[null,"FXTradeTicker: A Yahoo! Widget which shows live FX rates and FXTrade/FXGame account status."]
[null,"iPhone Currency Converter: Visit the iPhone store to download OANDA's currency converter."]
[null,"Travel Expense Report Manager (FXPense): Create multi-currency expense reports online and save it in MS Excel."]
[null,"Link to Currency Converter: Find out how to link to OANDA's FXConverter."]
[]
[]
["TRY ALSO..."]
[]
["NEW Currency Converter"]
["Currency Converter Widget"]
["iPhone Converter"]
["BlackBerry Converter"]
["Android Converter"]
["Money Transfers"]
["Exchange Rate Feeds"]
[]
["<a href=\"http://x.oanda.com/delivery/ck.php?n=ac7bbf34\" target=\"_blank\" rel=\"nofollow\"><img src=\"http://x.oanda.com/delivery/avw.php?zoneid=341%20border=\" alt=\"\"></a>"]
["Foreign Exchange Tools"]
[]
["Historical Exchange Rates"]
["Live Exchange Rates"]
["Mobile Currency Apps"]
["Currency Data"]
["Currency Widgets"]
[]
["Mobile Currency Apps"]
[]
["iPhone Currency App"]
["Android Currency App"]
["Blackberry Currency App"]
["PlayBook Currency App"]
["Windows Phone 7 Currency App"]
[]
["Currency Quick Links"]
[]
["Free Converter Widget"]
["Currency Data Feeds"]
["Big Mac Index"]
["EUR/USD Rates"]
[]
["1996 - 2012 OANDA Corporation. All rights reserved. \"OANDA\", \"fxTrade\" and OANDA's \"fx\" family of trade marks are owned by OANDA Corporation. All other trade marks appearing on this Website are the property of their respective owners. "]
["OANDA Services"]
[]
["Forex Trading"]
["Currency Converter"]
["Rate Subscriptions"]
["Money Transfers"]
["Forex Blog"]
["Currency Hedging"]
["fxUnity"]
[]
["About OANDA"]
[]
["About Us"]
["Our Story"]
["Corporate Blog"]
["Press Room"]
["Jobs"]
[]
["Terms of Use"]
["Privacy Policy"]
["Site Map"]
["Advertise"]
["Contact Us"]
["Feedback"]

{"sheet":"CNY","index":46,"n_rows":124,"n_cols":3,"rows_kept":124,"cut":false,"hidden":true,"merged":[]}
["ENGLISH"]
[]
["DEUTSCH"]
["ESPAяL"]
["FRANǁIS"]
["ITALIANO"]
["PORTUGUʓ"]
["SVENSKA"]
[]
["Rate Subscriptions "]
["Register Sign in "]
[]
["Forex Trading "]
["Currency Converter "]
["Rate Subscriptions "]
["Money Transfers "]
[]
["Currency Converter"]
["Currency Tools"]
["Mobile"]
[]
["Home "]
["|"]
["fxConverter Classic"]
[]
["Help "]
[]
["fxConverter Classic"]
[]
[]
[null,"Sunday, April 1, 2012","Add to your site"]
[]
[null,"1 US Dollar = 6.34250 Chinese Yuan Renminbi ","Print"]
[]
[null,"1 Chinese Yuan Renminbi (CNY) = 0.15767 US Dollar (USD)","Info"]
[]
[null,"Interbank rate +/- 0%","FXConverter Mobile [BlackBerry Eddition]"]
[]
[null,"This means:","Traveler's cheatsheet"]
[null,"You buy 1 US Dollar :     6.34250 Chinese Yuan Renminbi"]
[null,"You sell 1 US Dollar :     6.29250 Chinese Yuan Renminbi "]
[null,"You buy 1 Chinese Yuan Renminbi :     0.15892 US Dollar"]
[null,"You sell 1 Chinese Yuan Renminbi :     0.15767 US Dollar "]
[]
[null,"Median price = 6.29250 / 6.34250 (bid/ask)"]
[null,"Minimum price = 6.29250 / 6.34250"]
[null,"Maximum price = 6.29250 / 6.34250"]
[]
[null,"Rate for previous or next day"]
[null,"Get exchange rates with amount:"]
[]
[null,"Trade with OANDAOpen demo accountSend money with OANDA"]
[]
[]
[]
[null,"Also See..."]
[]
[null,"FXTrade: trade currencies with tight spreads, no minimum deposit and earn continuous interest on your money."]
[null,"FXGlobalTransfer: Send money overseas to 230 countries."]
[null,"FXTradeTicker: A Yahoo! Widget which shows live FX rates and FXTrade/FXGame account status."]
[null,"iPhone Currency Converter: Visit the iPhone store to download OANDA's currency converter."]
[null,"Travel Expense Report Manager (FXPense): Create multi-currency expense reports online and save it in MS Excel."]
[null,"Link to Currency Converter: Find out how to link to OANDA's FXConverter."]
[]
[]
["TRY ALSO..."]
[]
["NEW Currency Converter"]
["Currency Converter Widget"]
["iPhone Converter"]
["BlackBerry Converter"]
["Android Converter"]
["Money Transfers"]
["Exchange Rate Feeds"]
[]
["<a href=\"http://x.oanda.com/delivery/ck.php?n=ac7bbf34\" target=\"_blank\" rel=\"nofollow\"><img src=\"http://x.oanda.com/delivery/avw.php?zoneid=341%20border=\" alt=\"\"></a>"]
["Foreign Exchange Tools"]
[]
["Historical Exchange Rates"]
["Live Exchange Rates"]
["Mobile Currency Apps"]
["Currency Data"]
["Currency Widgets"]
[]
["Mobile Currency Apps"]
[]
["iPhone Currency App"]
["Android Currency App"]
["Blackberry Currency App"]
["PlayBook Currency App"]
["Windows Phone 7 Currency App"]
[]
["Currency Quick Links"]
[]
["Free Converter Widget"]
["Currency Data Feeds"]
["Big Mac Index"]
["EUR/USD Rates"]
[]
["1996 - 2012 OANDA Corporation. All rights reserved. \"OANDA\", \"fxTrade\" and OANDA's \"fx\" family of trade marks are owned by OANDA Corporation. All other trade marks appearing on this Website are the property of their respective owners. "]
["OANDA Services"]
[]
["Forex Trading"]
["Currency Converter"]
["Rate Subscriptions"]
["Money Transfers"]
["Forex Blog"]
["Currency Hedging"]
["fxUnity"]
[]
["About OANDA"]
[]
["About Us"]
["Our Story"]
["Corporate Blog"]
["Press Room"]
["Jobs"]
[]
["Terms of Use"]
["Privacy Policy"]
["Site Map"]
["Advertise"]
["Contact Us"]
["Feedback"]

{"sheet":"COP","index":47,"n_rows":124,"n_cols":3,"rows_kept":124,"cut":false,"hidden":true,"merged":[]}
["ENGLISH"]
[]
["DEUTSCH"]
["ESPAяL"]
["FRANǁIS"]
["ITALIANO"]
["PORTUGUʓ"]
["SVENSKA"]
[]
["Rate Subscriptions "]
["Register Sign in "]
[]
["Forex Trading "]
["Currency Converter "]
["Rate Subscriptions "]
["Money Transfers "]
[]
["Currency Converter"]
["Currency Tools"]
["Mobile"]
[]
["Home "]
["|"]
["fxConverter Classic"]
[]
["Help "]
[]
["fxConverter Classic"]
[]
[]
[null,"Sunday, April 1, 2012","Add to your site"]
[]
[null,"1 US Dollar = 1,808.15 Colombian Peso ","Print"]
[]
[null,"1 Colombian Peso (COP) = 0.0005531 US Dollar (USD)","Info"]
[]
[null,"Interbank rate +/- 0%","FXConverter Mobile [BlackBerry Eddition]"]
[]
[null,"This means:","Traveler's cheatsheet"]
[null,"You buy 1 US Dollar :     1,808.15 Colombian Peso"]
[null,"You sell 1 US Dollar :     1,775.03 Colombian Peso "]
[null,"You buy 1 Colombian Peso :     0.0005634 US Dollar"]
[null,"You sell 1 Colombian Peso :     0.0005531 US Dollar "]
[]
[null,"Median price = 1,775.03 / 1,808.15 (bid/ask)"]
[null,"Minimum price = 1,753.50 / 1,794.00"]
[null,"Maximum price = 1,790.00 / 1,828.50"]
[]
[null,"Rate for previous or next day"]
[null,"Get exchange rates with amount:"]
[]
[null,"Trade with OANDAOpen demo accountSend money with OANDA"]
[]
[]
[]
[null,"Also See..."]
[]
[null,"FXTrade: trade currencies with tight spreads, no minimum deposit and earn continuous interest on your money."]
[null,"FXGlobalTransfer: Send money overseas to 230 countries."]
[null,"FXTradeTicker: A Yahoo! Widget which shows live FX rates and FXTrade/FXGame account status."]
[null,"iPhone Currency Converter: Visit the iPhone store to download OANDA's currency converter."]
[null,"Travel Expense Report Manager (FXPense): Create multi-currency expense reports online and save it in MS Excel."]
[null,"Link to Currency Converter: Find out how to link to OANDA's FXConverter."]
[]
[]
["TRY ALSO..."]
[]
["NEW Currency Converter"]
["Currency Converter Widget"]
["iPhone Converter"]
["BlackBerry Converter"]
["Android Converter"]
["Money Transfers"]
["Exchange Rate Feeds"]
[]
["<a href=\"http://x.oanda.com/delivery/ck.php?n=ac7bbf34\" target=\"_blank\" rel=\"nofollow\"><img src=\"http://x.oanda.com/delivery/avw.php?zoneid=341%20border=\" alt=\"\"></a>"]
["Foreign Exchange Tools"]
[]
["Historical Exchange Rates"]
["Live Exchange Rates"]
["Mobile Currency Apps"]
["Currency Data"]
["Currency Widgets"]
[]
["Mobile Currency Apps"]
[]
["iPhone Currency App"]
["Android Currency App"]
["Blackberry Currency App"]
["PlayBook Currency App"]
["Windows Phone 7 Currency App"]
[]
["Currency Quick Links"]
[]
["Free Converter Widget"]
["Currency Data Feeds"]
["Big Mac Index"]
["EUR/USD Rates"]
[]
["1996 - 2012 OANDA Corporation. All rights reserved. \"OANDA\", \"fxTrade\" and OANDA's \"fx\" family of trade marks are owned by OANDA Corporation. All other trade marks appearing on this Website are the property of their respective owners. "]
["OANDA Services"]
[]
["Forex Trading"]
["Currency Converter"]
["Rate Subscriptions"]
["Money Transfers"]
["Forex Blog"]
["Currency Hedging"]
["fxUnity"]
[]
["About OANDA"]
[]
["About Us"]
["Our Story"]
["Corporate Blog"]
["Press Room"]
["Jobs"]
[]
["Terms of Use"]
["Privacy Policy"]
["Site Map"]
["Advertise"]
["Contact Us"]
["Feedback"]

{"sheet":"HKD","index":48,"n_rows":124,"n_cols":3,"rows_kept":124,"cut":false,"hidden":true,"merged":[]}
["ENGLISH"]
[]
["DEUTSCH"]
["ESPAяL"]
["FRANǁIS"]
["ITALIANO"]
["PORTUGUʓ"]
["SVENSKA"]
[]
["Rate Subscriptions "]
["Register Sign in "]
[]
["Forex Trading "]
["Currency Converter "]
["Rate Subscriptions "]
["Money Transfers "]
[]
["Currency Converter"]
["Currency Tools"]
["Mobile"]
[]
["Home "]
["|"]
["fxConverter Classic"]
[]
["Help "]
[]
["fxConverter Classic"]
[]
[]
[null,"Sunday, April 1, 2012","Add to your site"]
[]
[null,"1 US Dollar = 7.76745 Hong Kong Dollar ","Print"]
[]
[null,"1 Hong Kong Dollar (HKD) = 0.12874 US Dollar (USD)","Info"]
[]
[null,"Interbank rate +/- 0%","FXConverter Mobile [BlackBerry Eddition]"]
[]
[null,"This means:","Traveler's cheatsheet"]
[null,"You buy 1 US Dollar :     7.76745 Hong Kong Dollar"]
[null,"You sell 1 US Dollar :     7.76445 Hong Kong Dollar "]
[null,"You buy 1 Hong Kong Dollar :     0.12879 US Dollar"]
[null,"You sell 1 Hong Kong Dollar :     0.12874 US Dollar "]
[]
[null,"Median price = 7.76445 / 7.76745 (bid/ask)"]
[null,"Minimum price = 7.76445 / 7.76745"]
[null,"Maximum price = 7.76445 / 7.76745"]
[]
[null,"Rate for previous or next day"]
[null,"Get exchange rates with amount:"]
[]
[null,"Trade with OANDAOpen demo accountSend money with OANDA"]
[]
[]
[]
[null,"Also See..."]
[]
[null,"FXTrade: trade currencies with tight spreads, no minimum deposit and earn continuous interest on your money."]
[null,"FXGlobalTransfer: Send money overseas to 230 countries."]
[null,"FXTradeTicker: A Yahoo! Widget which shows live FX rates and FXTrade/FXGame account status."]
[null,"iPhone Currency Converter: Visit the iPhone store to download OANDA's currency converter."]
[null,"Travel Expense Report Manager (FXPense): Create multi-currency expense reports online and save it in MS Excel."]
[null,"Link to Currency Converter: Find out how to link to OANDA's FXConverter."]
[]
[]
["TRY ALSO..."]
[]
["NEW Currency Converter"]
["Currency Converter Widget"]
["iPhone Converter"]
["BlackBerry Converter"]
["Android Converter"]
["Money Transfers"]
["Exchange Rate Feeds"]
[]
["<a href=\"http://x.oanda.com/delivery/ck.php?n=ac7bbf34\" target=\"_blank\" rel=\"nofollow\"><img src=\"http://x.oanda.com/delivery/avw.php?zoneid=341%20border=\" alt=\"\"></a>"]
["Foreign Exchange Tools"]
[]
["Historical Exchange Rates"]
["Live Exchange Rates"]
["Mobile Currency Apps"]
["Currency Data"]
["Currency Widgets"]
[]
["Mobile Currency Apps"]
[]
["iPhone Currency App"]
["Android Currency App"]
["Blackberry Currency App"]
["PlayBook Currency App"]
["Windows Phone 7 Currency App"]
[]
["Currency Quick Links"]
[]
["Free Converter Widget"]
["Currency Data Feeds"]
["Big Mac Index"]
["EUR/USD Rates"]
[]
["1996 - 2012 OANDA Corporation. All rights reserved. \"OANDA\", \"fxTrade\" and OANDA's \"fx\" family of trade marks are owned by OANDA Corporation. All other trade marks appearing on this Website are the property of their respective owners. "]
["OANDA Services"]
[]
["Forex Trading"]
["Currency Converter"]
["Rate Subscriptions"]
["Money Transfers"]
["Forex Blog"]
["Currency Hedging"]
["fxUnity"]
[]
["About OANDA"]
[]
["About Us"]
["Our Story"]
["Corporate Blog"]
["Press Room"]
["Jobs"]
[]
["Terms of Use"]
["Privacy Policy"]
["Site Map"]
["Advertise"]
["Contact Us"]
["Feedback"]

{"sheet":"JPY","index":49,"n_rows":124,"n_cols":3,"rows_kept":124,"cut":false,"hidden":true,"merged":[]}
["ENGLISH"]
[]
["DEUTSCH"]
["ESPAяL"]
["FRANǁIS"]
["ITALIANO"]
["PORTUGUʓ"]
["SVENSKA"]
[]
["Rate Subscriptions "]
["Register Sign in "]
[]
["Forex Trading "]
["Currency Converter "]
["Rate Subscriptions "]
["Money Transfers "]
[]
["Currency Converter"]
["Currency Tools"]
["Mobile"]
[]
["Home "]
["|"]
["fxConverter Classic"]
[]
["Help "]
[]
["fxConverter Classic"]
[]
[]
[null,"Sunday, April 1, 2012","Add to your site"]
[]
[null,"1 US Dollar = 82.91500 Japanese Yen ","Print"]
[]
[null,"1 Japanese Yen (JPY) = 0.01206 US Dollar (USD)","Info"]
[]
[null,"Interbank rate +/- 0%","FXConverter Mobile [BlackBerry Eddition]"]
[]
[null,"This means:","Traveler's cheatsheet"]
[null,"You buy 1 US Dollar :     82.91500 Japanese Yen"]
[null,"You sell 1 US Dollar :     82.81500 Japanese Yen "]
[null,"You buy 1 Japanese Yen :     0.01208 US Dollar"]
[null,"You sell 1 Japanese Yen :     0.01206 US Dollar "]
[]
[null,"Median price = 82.81500 / 82.91500 (bid/ask)"]
[null,"Minimum price = 82.81500 / 82.91500"]
[null,"Maximum price = 82.81500 / 82.91500"]
[]
[null,"Rate for previous or next day"]
[null,"Get exchange rates with amount:"]
[]
[null,"Trade with OANDAOpen demo accountSend money with OANDA"]
[]
[]
[]
[null,"Also See..."]
[]
[null,"FXTrade: trade currencies with tight spreads, no minimum deposit and earn continuous interest on your money."]
[null,"FXGlobalTransfer: Send money overseas to 230 countries."]
[null,"FXTradeTicker: A Yahoo! Widget which shows live FX rates and FXTrade/FXGame account status."]
[null,"iPhone Currency Converter: Visit the iPhone store to download OANDA's currency converter."]
[null,"Travel Expense Report Manager (FXPense): Create multi-currency expense reports online and save it in MS Excel."]
[null,"Link to Currency Converter: Find out how to link to OANDA's FXConverter."]
[]
[]
["TRY ALSO..."]
[]
["NEW Currency Converter"]
["Currency Converter Widget"]
["iPhone Converter"]
["BlackBerry Converter"]
["Android Converter"]
["Money Transfers"]
["Exchange Rate Feeds"]
[]
["<a href=\"http://x.oanda.com/delivery/ck.php?n=ac7bbf34\" target=\"_blank\" rel=\"nofollow\"><img src=\"http://x.oanda.com/delivery/avw.php?zoneid=341%20border=\" alt=\"\"></a>"]
["Foreign Exchange Tools"]
[]
["Historical Exchange Rates"]
["Live Exchange Rates"]
["Mobile Currency Apps"]
["Currency Data"]
["Currency Widgets"]
[]
["Mobile Currency Apps"]
[]
["iPhone Currency App"]
["Android Currency App"]
["Blackberry Currency App"]
["PlayBook Currency App"]
["Windows Phone 7 Currency App"]
[]
["Currency Quick Links"]
[]
["Free Converter Widget"]
["Currency Data Feeds"]
["Big Mac Index"]
["EUR/USD Rates"]
[]
["1996 - 2012 OANDA Corporation. All rights reserved. \"OANDA\", \"fxTrade\" and OANDA's \"fx\" family of trade marks are owned by OANDA Corporation. All other trade marks appearing on this Website are the property of their respective owners. "]
["OANDA Services"]
[]
["Forex Trading"]
["Currency Converter"]
["Rate Subscriptions"]
["Money Transfers"]
["Forex Blog"]
["Currency Hedging"]
["fxUnity"]
[]
["About OANDA"]
[]
["About Us"]
["Our Story"]
["Corporate Blog"]
["Press Room"]
["Jobs"]
[]
["Terms of Use"]
["Privacy Policy"]
["Site Map"]
["Advertise"]
["Contact Us"]
["Feedback"]

{"sheet":"KRW","index":50,"n_rows":124,"n_cols":3,"rows_kept":124,"cut":false,"hidden":true,"merged":[]}
["ENGLISH"]
[]
["DEUTSCH"]
["ESPAяL"]
["FRANǁIS"]
["ITALIANO"]
["PORTUGUʓ"]
["SVENSKA"]
[]
["Rate Subscriptions "]
["Register Sign in "]
[]
["Forex Trading "]
["Currency Converter "]
["Rate Subscriptions "]
["Money Transfers "]
[]
["Currency Converter"]
["Currency Tools"]
["Mobile"]
[]
["Home "]
["|"]
["fxConverter Classic"]
[]
["Help "]
[]
["fxConverter Classic"]
[]
[]
[null,"Sunday, April 1, 2012","Add to your site"]
[]
[null,"1 US Dollar = 1,133.02 South-Korean Won ","Print"]
[]
[null,"1 South-Korean Won (KRW) = 0.0008826 US Dollar (USD)","Info"]
[]
[null,"Interbank rate +/- 0%","FXConverter Mobile [BlackBerry Eddition]"]
[]
[null,"This means:","Traveler's cheatsheet"]
[null,"You buy 1 US Dollar :     1,133.02 South-Korean Won"]
[null,"You sell 1 US Dollar :     1,130.84 South-Korean Won "]
[null,"You buy 1 South-Korean Won :     0.0008843 US Dollar"]
[null,"You sell 1 South-Korean Won :     0.0008826 US Dollar "]
[]
[null,"Median price = 1,130.84 / 1,133.02 (bid/ask)"]
[null,"Minimum price = 1,130.71 / 1,132.89"]
[null,"Maximum price = 1,130.97 / 1,133.14"]
[]
[null,"Rate for previous or next day"]
[null,"Get exchange rates with amount:"]
[]
[null,"Trade with OANDAOpen demo accountSend money with OANDA"]
[]
[]
[]
[null,"Also See..."]
[]
[null,"FXTrade: trade currencies with tight spreads, no minimum deposit and earn continuous interest on your money."]
[null,"FXGlobalTransfer: Send money overseas to 230 countries."]
[null,"FXTradeTicker: A Yahoo! Widget which shows live FX rates and FXTrade/FXGame account status."]
[null,"iPhone Currency Converter: Visit the iPhone store to download OANDA's currency converter."]
[null,"Travel Expense Report Manager (FXPense): Create multi-currency expense reports online and save it in MS Excel."]
[null,"Link to Currency Converter: Find out how to link to OANDA's FXConverter."]
[]
[]
["TRY ALSO..."]
[]
["NEW Currency Converter"]
["Currency Converter Widget"]
["iPhone Converter"]
["BlackBerry Converter"]
["Android Converter"]
["Money Transfers"]
["Exchange Rate Feeds"]
[]
["<a href=\"http://x.oanda.com/delivery/ck.php?n=ac7bbf34\" target=\"_blank\" rel=\"nofollow\"><img src=\"http://x.oanda.com/delivery/avw.php?zoneid=341%20border=\" alt=\"\"></a>"]
["Foreign Exchange Tools"]
[]
["Historical Exchange Rates"]
["Live Exchange Rates"]
["Mobile Currency Apps"]
["Currency Data"]
["Currency Widgets"]
[]
["Mobile Currency Apps"]
[]
["iPhone Currency App"]
["Android Currency App"]
["Blackberry Currency App"]
["PlayBook Currency App"]
["Windows Phone 7 Currency App"]
[]
["Currency Quick Links"]
[]
["Free Converter Widget"]
["Currency Data Feeds"]
["Big Mac Index"]
["EUR/USD Rates"]
[]
["1996 - 2012 OANDA Corporation. All rights reserved. \"OANDA\", \"fxTrade\" and OANDA's \"fx\" family of trade marks are owned by OANDA Corporation. All other trade marks appearing on this Website are the property of their respective owners. "]
["OANDA Services"]
[]
["Forex Trading"]
["Currency Converter"]
["Rate Subscriptions"]
["Money Transfers"]
["Forex Blog"]
["Currency Hedging"]
["fxUnity"]
[]
["About OANDA"]
[]
["About Us"]
["Our Story"]
["Corporate Blog"]
["Press Room"]
["Jobs"]
[]
["Terms of Use"]
["Privacy Policy"]
["Site Map"]
["Advertise"]
["Contact Us"]
["Feedback"]

{"sheet":"MOP","index":51,"n_rows":124,"n_cols":3,"rows_kept":124,"cut":false,"hidden":true,"merged":[]}
["ENGLISH"]
[]
["DEUTSCH"]
["ESPAяL"]
["FRANǁIS"]
["ITALIANO"]
["PORTUGUʓ"]
["SVENSKA"]
[]
["Rate Subscriptions "]
["Register Sign in "]
[]
["Forex Trading "]
["Currency Converter "]
["Rate Subscriptions "]
["Money Transfers "]
[]
["Currency Converter"]
["Currency Tools"]
["Mobile"]
[]
["Home "]
["|"]
["fxConverter Classic"]
[]
["Help "]
[]
["fxConverter Classic"]
[]
[]
[null,"Sunday, April 1, 2012","Add to your site"]
[]
[null,"1 US Dollar = 8.14455 Macau Pataca ","Print"]
[]
[null,"1 Macau Pataca (MOP) = 0.12278 US Dollar (USD)","Info"]
[]
[null,"Interbank rate +/- 0%","FXConverter Mobile [BlackBerry Eddition]"]
[]
[null,"This means:","Traveler's cheatsheet"]
[null,"You buy 1 US Dollar :     8.14455 Macau Pataca"]
[null,"You sell 1 US Dollar :     7.84463 Macau Pataca "]
[null,"You buy 1 Macau Pataca :     0.12748 US Dollar"]
[null,"You sell 1 Macau Pataca :     0.12278 US Dollar "]
[]
[null,"Median price = 7.84463 / 8.14455 (bid/ask)"]
[null,"Minimum price = 7.84310 / 8.14290"]
[null,"Maximum price = 7.84570 / 8.14570"]
[]
[null,"Rate for previous or next day"]
[null,"Get exchange rates with amount:"]
[]
[null,"Trade with OANDAOpen demo accountSend money with OANDA"]
[]
[]
[]
[null,"Also See..."]
[]
[null,"FXTrade: trade currencies with tight spreads, no minimum deposit and earn continuous interest on your money."]
[null,"FXGlobalTransfer: Send money overseas to 230 countries."]
[null,"FXTradeTicker: A Yahoo! Widget which shows live FX rates and FXTrade/FXGame account status."]
[null,"iPhone Currency Converter: Visit the iPhone store to download OANDA's currency converter."]
[null,"Travel Expense Report Manager (FXPense): Create multi-currency expense reports online and save it in MS Excel."]
[null,"Link to Currency Converter: Find out how to link to OANDA's FXConverter."]
[]
[]
["TRY ALSO..."]
[]
["NEW Currency Converter"]
["Currency Converter Widget"]
["iPhone Converter"]
["BlackBerry Converter"]
["Android Converter"]
["Money Transfers"]
["Exchange Rate Feeds"]
[]
["<a href=\"http://x.oanda.com/delivery/ck.php?n=ac7bbf34\" target=\"_blank\" rel=\"nofollow\"><img src=\"http://x.oanda.com/delivery/avw.php?zoneid=341%20border=\" alt=\"\"></a>"]
["Foreign Exchange Tools"]
[]
["Historical Exchange Rates"]
["Live Exchange Rates"]
["Mobile Currency Apps"]
["Currency Data"]
["Currency Widgets"]
[]
["Mobile Currency Apps"]
[]
["iPhone Currency App"]
["Android Currency App"]
["Blackberry Currency App"]
["PlayBook Currency App"]
["Windows Phone 7 Currency App"]
[]
["Currency Quick Links"]
[]
["Free Converter Widget"]
["Currency Data Feeds"]
["Big Mac Index"]
["EUR/USD Rates"]
[]
["1996 - 2012 OANDA Corporation. All rights reserved. \"OANDA\", \"fxTrade\" and OANDA's \"fx\" family of trade marks are owned by OANDA Corporation. All other trade marks appearing on this Website are the property of their respective owners. "]
["OANDA Services"]
[]
["Forex Trading"]
["Currency Converter"]
["Rate Subscriptions"]
["Money Transfers"]
["Forex Blog"]
["Currency Hedging"]
["fxUnity"]
[]
["About OANDA"]
[]
["About Us"]
["Our Story"]
["Corporate Blog"]
["Press Room"]
["Jobs"]
[]
["Terms of Use"]
["Privacy Policy"]
["Site Map"]
["Advertise"]
["Contact Us"]
["Feedback"]

{"sheet":"MYR","index":52,"n_rows":124,"n_cols":3,"rows_kept":124,"cut":false,"hidden":true,"merged":[]}
["ENGLISH"]
[]
["DEUTSCH"]
["ESPAяL"]
["FRANǁIS"]
["ITALIANO"]
["PORTUGUʓ"]
["SVENSKA"]
[]
["Rate Subscriptions "]
["Register Sign in "]
[]
["Forex Trading "]
["Currency Converter "]
["Rate Subscriptions "]
["Money Transfers "]
[]
["Currency Converter"]
["Currency Tools"]
["Mobile"]
[]
["Home "]
["|"]
["fxConverter Classic"]
[]
["Help "]
[]
["fxConverter Classic"]
[]
[]
[null,"Sunday, April 1, 2012","Add to your site"]
[]
[null,"1 US Dollar = 3.06509 Malaysian Ringgit ","Print"]
[]
[null,"1 Malaysian Ringgit (MYR) = 0.32625 US Dollar (USD)","Info"]
[]
[null,"Interbank rate +/- 0%","FXConverter Mobile [BlackBerry Eddition]"]
[]
[null,"This means:","Traveler's cheatsheet"]
[null,"You buy 1 US Dollar :     3.06509 Malaysian Ringgit"]
[null,"You sell 1 US Dollar :     3.05913 Malaysian Ringgit "]
[null,"You buy 1 Malaysian Ringgit :     0.32689 US Dollar"]
[null,"You sell 1 Malaysian Ringgit :     0.32625 US Dollar "]
[]
[null,"Median price = 3.05913 / 3.06509 (bid/ask)"]
[null,"Minimum price = 3.05680 / 3.06470"]
[null,"Maximum price = 3.05940 / 3.06680"]
[]
[null,"Rate for previous or next day"]
[null,"Get exchange rates with amount:"]
[]
[null,"Trade with OANDAOpen demo accountSend money with OANDA"]
[]
[]
[]
[null,"Also See..."]
[]
[null,"FXTrade: trade currencies with tight spreads, no minimum deposit and earn continuous interest on your money."]
[null,"FXGlobalTransfer: Send money overseas to 230 countries."]
[null,"FXTradeTicker: A Yahoo! Widget which shows live FX rates and FXTrade/FXGame account status."]
[null,"iPhone Currency Converter: Visit the iPhone store to download OANDA's currency converter."]
[null,"Travel Expense Report Manager (FXPense): Create multi-currency expense reports online and save it in MS Excel."]
[null,"Link to Currency Converter: Find out how to link to OANDA's FXConverter."]
[]
[]
["TRY ALSO..."]
[]
["NEW Currency Converter"]
["Currency Converter Widget"]
["iPhone Converter"]
["BlackBerry Converter"]
["Android Converter"]
["Money Transfers"]
["Exchange Rate Feeds"]
[]
["<a href=\"http://x.oanda.com/delivery/ck.php?n=ac7bbf34\" target=\"_blank\" rel=\"nofollow\"><img src=\"http://x.oanda.com/delivery/avw.php?zoneid=341%20border=\" alt=\"\"></a>"]
["Foreign Exchange Tools"]
[]
["Historical Exchange Rates"]
["Live Exchange Rates"]
["Mobile Currency Apps"]
["Currency Data"]
["Currency Widgets"]
[]
["Mobile Currency Apps"]
[]
["iPhone Currency App"]
["Android Currency App"]
["Blackberry Currency App"]
["PlayBook Currency App"]
["Windows Phone 7 Currency App"]
[]
["Currency Quick Links"]
[]
["Free Converter Widget"]
["Currency Data Feeds"]
["Big Mac Index"]
["EUR/USD Rates"]
[]
["1996 - 2012 OANDA Corporation. All rights reserved. \"OANDA\", \"fxTrade\" and OANDA's \"fx\" family of trade marks are owned by OANDA Corporation. All other trade marks appearing on this Website are the property of their respective owners. "]
["OANDA Services"]
[]
["Forex Trading"]
["Currency Converter"]
["Rate Subscriptions"]
["Money Transfers"]
["Forex Blog"]
["Currency Hedging"]
["fxUnity"]
[]
["About OANDA"]
[]
["About Us"]
["Our Story"]
["Corporate Blog"]
["Press Room"]
["Jobs"]
[]
["Terms of Use"]
["Privacy Policy"]
["Site Map"]
["Advertise"]
["Contact Us"]
["Feedback"]

{"sheet":"MXN","index":53,"n_rows":124,"n_cols":3,"rows_kept":124,"cut":false,"hidden":true,"merged":[]}
["ENGLISH"]
[]
["DEUTSCH"]
["ESPAяL"]
["FRANǁIS"]
["ITALIANO"]
["PORTUGUʓ"]
["SVENSKA"]
[]
["Rate Subscriptions "]
["Register Sign in "]
[]
["Forex Trading "]
["Currency Converter "]
["Rate Subscriptions "]
["Money Transfers "]
[]
["Currency Converter"]
["Currency Tools"]
["Mobile"]
[]
["Home "]
["|"]
["fxConverter Classic"]
[]
["Help "]
[]
["fxConverter Classic"]
[]
[]
[null,"Sunday, April 1, 2012","Add to your site"]
[]
[null,"1 US Dollar = 12.82643 Mexican Peso ","Print"]
[]
[null,"1 Mexican Peso (MXN) = 0.07796 US Dollar (USD)","Info"]
[]
[null,"Interbank rate +/- 0%","FXConverter Mobile [BlackBerry Eddition]"]
[]
[null,"This means:","Traveler's cheatsheet"]
[null,"You buy 1 US Dollar :     12.82643 Mexican Peso"]
[null,"You sell 1 US Dollar :     12.78643 Mexican Peso "]
[null,"You buy 1 Mexican Peso :     0.07821 US Dollar"]
[null,"You sell 1 Mexican Peso :     0.07796 US Dollar "]
[]
[null,"Median price = 12.78643 / 12.82643 (bid/ask)"]
[null,"Minimum price = 12.78643 / 12.82643"]
[null,"Maximum price = 12.78643 / 12.82643"]
[]
[null,"Rate for previous or next day"]
[null,"Get exchange rates with amount:"]
[]
[null,"Trade with OANDAOpen demo accountSend money with OANDA"]
[]
[]
[]
[null,"Also See..."]
[]
[null,"FXTrade: trade currencies with tight spreads, no minimum deposit and earn continuous interest on your money."]
[null,"FXGlobalTransfer: Send money overseas to 230 countries."]
[null,"FXTradeTicker: A Yahoo! Widget which shows live FX rates and FXTrade/FXGame account status."]
[null,"iPhone Currency Converter: Visit the iPhone store to download OANDA's currency converter."]
[null,"Travel Expense Report Manager (FXPense): Create multi-currency expense reports online and save it in MS Excel."]
[null,"Link to Currency Converter: Find out how to link to OANDA's FXConverter."]
[]
[]
["TRY ALSO..."]
[]
["NEW Currency Converter"]
["Currency Converter Widget"]
["iPhone Converter"]
["BlackBerry Converter"]
["Android Converter"]
["Money Transfers"]
["Exchange Rate Feeds"]
[]
["<a href=\"http://x.oanda.com/delivery/ck.php?n=ac7bbf34\" target=\"_blank\" rel=\"nofollow\"><img src=\"http://x.oanda.com/delivery/avw.php?zoneid=341%20border=\" alt=\"\"></a>"]
["Foreign Exchange Tools"]
[]
["Historical Exchange Rates"]
["Live Exchange Rates"]
["Mobile Currency Apps"]
["Currency Data"]
["Currency Widgets"]
[]
["Mobile Currency Apps"]
[]
["iPhone Currency App"]
["Android Currency App"]
["Blackberry Currency App"]
["PlayBook Currency App"]
["Windows Phone 7 Currency App"]
[]
["Currency Quick Links"]
[]
["Free Converter Widget"]
["Currency Data Feeds"]
["Big Mac Index"]
["EUR/USD Rates"]
[]
["1996 - 2012 OANDA Corporation. All rights reserved. \"OANDA\", \"fxTrade\" and OANDA's \"fx\" family of trade marks are owned by OANDA Corporation. All other trade marks appearing on this Website are the property of their respective owners. "]
["OANDA Services"]
[]
["Forex Trading"]
["Currency Converter"]
["Rate Subscriptions"]
["Money Transfers"]
["Forex Blog"]
["Currency Hedging"]
["fxUnity"]
[]
["About OANDA"]
[]
["About Us"]
["Our Story"]
["Corporate Blog"]
["Press Room"]
["Jobs"]
[]
["Terms of Use"]
["Privacy Policy"]
["Site Map"]
["Advertise"]
["Contact Us"]
["Feedback"]

{"sheet":"PHP","index":54,"n_rows":124,"n_cols":3,"rows_kept":124,"cut":false,"hidden":true,"merged":[]}
["ENGLISH"]
[]
["DEUTSCH"]
["ESPAяL"]
["FRANǁIS"]
["ITALIANO"]
["PORTUGUʓ"]
["SVENSKA"]
[]
["Rate Subscriptions "]
["Register Sign in "]
[]
["Forex Trading "]
["Currency Converter "]
["Rate Subscriptions "]
["Money Transfers "]
[]
["Currency Converter"]
["Currency Tools"]
["Mobile"]
[]
["Home "]
["|"]
["fxConverter Classic"]
[]
["Help "]
[]
["fxConverter Classic"]
[]
[]
[null,"Sunday, April 1, 2012","Add to your site"]
[]
[null,"1 US Dollar = 43.03562 Philippine Peso ","Print"]
[]
[null,"1 Philippine Peso (PHP) = 0.02324 US Dollar (USD)","Info"]
[]
[null,"Interbank rate +/- 0%","FXConverter Mobile [BlackBerry Eddition]"]
[]
[null,"This means:","Traveler's cheatsheet"]
[null,"You buy 1 US Dollar :     43.03562 Philippine Peso"]
[null,"You sell 1 US Dollar :     42.82543 Philippine Peso "]
[null,"You buy 1 Philippine Peso :     0.02335 US Dollar"]
[null,"You sell 1 Philippine Peso :     0.02324 US Dollar "]
[]
[null,"Median price = 42.82543 / 43.03562 (bid/ask)"]
[null,"Minimum price = 42.78700 / 43.01200"]
[null,"Maximum price = 42.84500 / 43.04500"]
[]
[null,"Rate for previous or next day"]
[null,"Get exchange rates with amount:"]
[]
[null,"Trade with OANDAOpen demo accountSend money with OANDA"]
[]
[]
[]
[null,"Also See..."]
[]
[null,"FXTrade: trade currencies with tight spreads, no minimum deposit and earn continuous interest on your money."]
[null,"FXGlobalTransfer: Send money overseas to 230 countries."]
[null,"FXTradeTicker: A Yahoo! Widget which shows live FX rates and FXTrade/FXGame account status."]
[null,"iPhone Currency Converter: Visit the iPhone store to download OANDA's currency converter."]
[null,"Travel Expense Report Manager (FXPense): Create multi-currency expense reports online and save it in MS Excel."]
[null,"Link to Currency Converter: Find out how to link to OANDA's FXConverter."]
[]
[]
["TRY ALSO..."]
[]
["NEW Currency Converter"]
["Currency Converter Widget"]
["iPhone Converter"]
["BlackBerry Converter"]
["Android Converter"]
["Money Transfers"]
["Exchange Rate Feeds"]
[]
["<a href=\"http://x.oanda.com/delivery/ck.php?n=ac7bbf34\" target=\"_blank\" rel=\"nofollow\"><img src=\"http://x.oanda.com/delivery/avw.php?zoneid=341%20border=\" alt=\"\"></a>"]
["Foreign Exchange Tools"]
[]
["Historical Exchange Rates"]
["Live Exchange Rates"]
["Mobile Currency Apps"]
["Currency Data"]
["Currency Widgets"]
[]
["Mobile Currency Apps"]
[]
["iPhone Currency App"]
["Android Currency App"]
["Blackberry Currency App"]
["PlayBook Currency App"]
["Windows Phone 7 Currency App"]
[]
["Currency Quick Links"]
[]
["Free Converter Widget"]
["Currency Data Feeds"]
["Big Mac Index"]
["EUR/USD Rates"]
[]
["1996 - 2012 OANDA Corporation. All rights reserved. \"OANDA\", \"fxTrade\" and OANDA's \"fx\" family of trade marks are owned by OANDA Corporation. All other trade marks appearing on this Website are the property of their respective owners. "]
["OANDA Services"]
[]
["Forex Trading"]
["Currency Converter"]
["Rate Subscriptions"]
["Money Transfers"]
["Forex Blog"]
["Currency Hedging"]
["fxUnity"]
[]
["About OANDA"]
[]
["About Us"]
["Our Story"]
["Corporate Blog"]
["Press Room"]
["Jobs"]
[]
["Terms of Use"]
["Privacy Policy"]
["Site Map"]
["Advertise"]
["Contact Us"]
["Feedback"]

{"sheet":"SGD","index":55,"n_rows":124,"n_cols":3,"rows_kept":124,"cut":false,"hidden":true,"merged":[]}
["ENGLISH"]
[]
["DEUTSCH"]
["ESPAяL"]
["FRANǁIS"]
["ITALIANO"]
["PORTUGUʓ"]
["SVENSKA"]
[]
["Rate Subscriptions "]
["Register Sign in "]
[]
["Forex Trading "]
["Currency Converter "]
["Rate Subscriptions "]
["Money Transfers "]
[]
["Currency Converter"]
["Currency Tools"]
["Mobile"]
[]
["Home "]
["|"]
["fxConverter Classic"]
[]
["Help "]
[]
["fxConverter Classic"]
[]
[]
[null,"Sunday, April 1, 2012","Add to your site"]
[]
[null,"1 US Dollar = 1.25822 Singapore Dollar ","Print"]
[]
[null,"1 Singapore Dollar (SGD) = 0.79477 US Dollar (USD)","Info"]
[]
[null,"Interbank rate +/- 0%","FXConverter Mobile [BlackBerry Eddition]"]
[]
[null,"This means:","Traveler's cheatsheet"]
[null,"You buy 1 US Dollar :     1.25822 Singapore Dollar"]
[null,"You sell 1 US Dollar :     1.25722 Singapore Dollar "]
[null,"You buy 1 Singapore Dollar :     0.79541 US Dollar"]
[null,"You sell 1 Singapore Dollar :     0.79477 US Dollar "]
[]
[null,"Median price = 1.25722 / 1.25822 (bid/ask)"]
[null,"Minimum price = 1.25722 / 1.25822"]
[null,"Maximum price = 1.25722 / 1.25822"]
[]
[null,"Rate for previous or next day"]
[null,"Get exchange rates with amount:"]
[]
[null,"Trade with OANDAOpen demo accountSend money with OANDA"]
[]
[]
[]
[null,"Also See..."]
[]
[null,"FXTrade: trade currencies with tight spreads, no minimum deposit and earn continuous interest on your money."]
[null,"FXGlobalTransfer: Send money overseas to 230 countries."]
[null,"FXTradeTicker: A Yahoo! Widget which shows live FX rates and FXTrade/FXGame account status."]
[null,"iPhone Currency Converter: Visit the iPhone store to download OANDA's currency converter."]
[null,"Travel Expense Report Manager (FXPense): Create multi-currency expense reports online and save it in MS Excel."]
[null,"Link to Currency Converter: Find out how to link to OANDA's FXConverter."]
[]
[]
["TRY ALSO..."]
[]
["NEW Currency Converter"]
["Currency Converter Widget"]
["iPhone Converter"]
["BlackBerry Converter"]
["Android Converter"]
["Money Transfers"]
["Exchange Rate Feeds"]
[]
["<a href=\"http://x.oanda.com/delivery/ck.php?n=ac7bbf34\" target=\"_blank\" rel=\"nofollow\"><img src=\"http://x.oanda.com/delivery/avw.php?zoneid=341%20border=\" alt=\"\"></a>"]
["Foreign Exchange Tools"]
[]
["Historical Exchange Rates"]
["Live Exchange Rates"]
["Mobile Currency Apps"]
["Currency Data"]
["Currency Widgets"]
[]
["Mobile Currency Apps"]
[]
["iPhone Currency App"]
["Android Currency App"]
["Blackberry Currency App"]
["PlayBook Currency App"]
["Windows Phone 7 Currency App"]
[]
["Currency Quick Links"]
[]
["Free Converter Widget"]
["Currency Data Feeds"]
["Big Mac Index"]
["EUR/USD Rates"]
[]
["1996 - 2012 OANDA Corporation. All rights reserved. \"OANDA\", \"fxTrade\" and OANDA's \"fx\" family of trade marks are owned by OANDA Corporation. All other trade marks appearing on this Website are the property of their respective owners. "]
["OANDA Services"]
[]
["Forex Trading"]
["Currency Converter"]
["Rate Subscriptions"]
["Money Transfers"]
["Forex Blog"]
["Currency Hedging"]
["fxUnity"]
[]
["About OANDA"]
[]
["About Us"]
["Our Story"]
["Corporate Blog"]
["Press Room"]
["Jobs"]
[]
["Terms of Use"]
["Privacy Policy"]
["Site Map"]
["Advertise"]
["Contact Us"]
["Feedback"]

{"sheet":"TWD","index":56,"n_rows":124,"n_cols":3,"rows_kept":124,"cut":false,"hidden":true,"merged":[]}
["ENGLISH"]
[]
["DEUTSCH"]
["ESPAяL"]
["FRANǁIS"]
["ITALIANO"]
["PORTUGUʓ"]
["SVENSKA"]
[]
["Rate Subscriptions "]
["Register Sign in "]
[]
["Forex Trading "]
["Currency Converter "]
["Rate Subscriptions "]
["Money Transfers "]
[]
["Currency Converter"]
["Currency Tools"]
["Mobile"]
[]
["Home "]
["|"]
["fxConverter Classic"]
[]
["Help "]
[]
["fxConverter Classic"]
[]
[]
[null,"Sunday, April 1, 2012","Add to your site"]
[]
[null,"1 US Dollar = 29.68235 Taiwan Dollar ","Print"]
[]
[null,"1 Taiwan Dollar (TWD) = 0.03369 US Dollar (USD)","Info"]
[]
[null,"Interbank rate +/- 0%","FXConverter Mobile [BlackBerry Eddition]"]
[]
[null,"This means:","Traveler's cheatsheet"]
[null,"You buy 1 US Dollar :     29.68235 Taiwan Dollar"]
[null,"You sell 1 US Dollar :     29.35689 Taiwan Dollar "]
[null,"You buy 1 Taiwan Dollar :     0.03406 US Dollar"]
[null,"You sell 1 Taiwan Dollar :     0.03369 US Dollar "]
[]
[null,"Median price = 29.35689 / 29.68235 (bid/ask)"]
[null,"Minimum price = 28.74800 / 29.54000"]
[null,"Maximum price = 29.50000 / 30.24800"]
[]
[null,"Rate for previous or next day"]
[null,"Get exchange rates with amount:"]
[]
[null,"Trade with OANDAOpen demo accountSend money with OANDA"]
[]
[]
[]
[null,"Also See..."]
[]
[null,"FXTrade: trade currencies with tight spreads, no minimum deposit and earn continuous interest on your money."]
[null,"FXGlobalTransfer: Send money overseas to 230 countries."]
[null,"FXTradeTicker: A Yahoo! Widget which shows live FX rates and FXTrade/FXGame account status."]
[null,"iPhone Currency Converter: Visit the iPhone store to download OANDA's currency converter."]
[null,"Travel Expense Report Manager (FXPense): Create multi-currency expense reports online and save it in MS Excel."]
[null,"Link to Currency Converter: Find out how to link to OANDA's FXConverter."]
[]
[]
["TRY ALSO..."]
[]
["NEW Currency Converter"]
["Currency Converter Widget"]
["iPhone Converter"]
["BlackBerry Converter"]
["Android Converter"]
["Money Transfers"]
["Exchange Rate Feeds"]
[]
["<a href=\"http://x.oanda.com/delivery/ck.php?n=ac7bbf34\" target=\"_blank\" rel=\"nofollow\"><img src=\"http://x.oanda.com/delivery/avw.php?zoneid=341%20border=\" alt=\"\"></a>"]
["Foreign Exchange Tools"]
[]
["Historical Exchange Rates"]
["Live Exchange Rates"]
["Mobile Currency Apps"]
["Currency Data"]
["Currency Widgets"]
[]
["Mobile Currency Apps"]
[]
["iPhone Currency App"]
["Android Currency App"]
["Blackberry Currency App"]
["PlayBook Currency App"]
["Windows Phone 7 Currency App"]
[]
["Currency Quick Links"]
[]
["Free Converter Widget"]
["Currency Data Feeds"]
["Big Mac Index"]
["EUR/USD Rates"]
[]
["1996 - 2012 OANDA Corporation. All rights reserved. \"OANDA\", \"fxTrade\" and OANDA's \"fx\" family of trade marks are owned by OANDA Corporation. All other trade marks appearing on this Website are the property of their respective owners. "]
["OANDA Services"]
[]
["Forex Trading"]
["Currency Converter"]
["Rate Subscriptions"]
["Money Transfers"]
["Forex Blog"]
["Currency Hedging"]
["fxUnity"]
[]
["About OANDA"]
[]
["About Us"]
["Our Story"]
["Corporate Blog"]
["Press Room"]
["Jobs"]
[]
["Terms of Use"]
["Privacy Policy"]
["Site Map"]
["Advertise"]
["Contact Us"]
["Feedback"]

{"sheet":"THB","index":57,"n_rows":124,"n_cols":3,"rows_kept":124,"cut":false,"hidden":true,"merged":[]}
["ENGLISH"]
[]
["DEUTSCH"]
["ESPAяL"]
["FRANǁIS"]
["ITALIANO"]
["PORTUGUʓ"]
["SVENSKA"]
[]
["Rate Subscriptions "]
["Register Sign in "]
[]
["Forex Trading "]
["Currency Converter "]
["Rate Subscriptions "]
["Money Transfers "]
[]
["Currency Converter"]
["Currency Tools"]
["Mobile"]
[]
["Home "]
["|"]
["fxConverter Classic"]
[]
["Help "]
[]
["fxConverter Classic"]
[]
[]
[null,"Sunday, April 1, 2012","Add to your site"]
[]
[null,"1 US Dollar = 31.29500 Thai Baht ","Print"]
[]
[null,"1 Thai Baht (THB) = 0.03195 US Dollar (USD)","Info"]
[]
[null,"Interbank rate +/- 0%","FXConverter Mobile [BlackBerry Eddition]"]
[]
[null,"This means:","Traveler's cheatsheet"]
[null,"You buy 1 US Dollar :     31.29500 Thai Baht"]
[null,"You sell 1 US Dollar :     30.29500 Thai Baht "]
[null,"You buy 1 Thai Baht :     0.03301 US Dollar"]
[null,"You sell 1 Thai Baht :     0.03195 US Dollar "]
[]
[null,"Median price = 30.29500 / 31.29500 (bid/ask)"]
[null,"Minimum price = 30.29500 / 31.29500"]
[null,"Maximum price = 30.29500 / 31.29500"]
[]
[null,"Rate for previous or next day"]
[null,"Get exchange rates with amount:"]
[]
[null,"Trade with OANDAOpen demo accountSend money with OANDA"]
[]
[]
[]
[null,"Also See..."]
[]
[null,"FXTrade: trade currencies with tight spreads, no minimum deposit and earn continuous interest on your money."]
[null,"FXGlobalTransfer: Send money overseas to 230 countries."]
[null,"FXTradeTicker: A Yahoo! Widget which shows live FX rates and FXTrade/FXGame account status."]
[null,"iPhone Currency Converter: Visit the iPhone store to download OANDA's currency converter."]
[null,"Travel Expense Report Manager (FXPense): Create multi-currency expense reports online and save it in MS Excel."]
[null,"Link to Currency Converter: Find out how to link to OANDA's FXConverter."]
[]
[]
["TRY ALSO..."]
[]
["NEW Currency Converter"]
["Currency Converter Widget"]
["iPhone Converter"]
["BlackBerry Converter"]
["Android Converter"]
["Money Transfers"]
["Exchange Rate Feeds"]
[]
["<a href=\"http://x.oanda.com/delivery/ck.php?n=ac7bbf34\" target=\"_blank\" rel=\"nofollow\"><img src=\"http://x.oanda.com/delivery/avw.php?zoneid=341%20border=\" alt=\"\"></a>"]
["Foreign Exchange Tools"]
[]
["Historical Exchange Rates"]
["Live Exchange Rates"]
["Mobile Currency Apps"]
["Currency Data"]
["Currency Widgets"]
[]
["Mobile Currency Apps"]
[]
["iPhone Currency App"]
["Android Currency App"]
["Blackberry Currency App"]
["PlayBook Currency App"]
["Windows Phone 7 Currency App"]
[]
["Currency Quick Links"]
[]
["Free Converter Widget"]
["Currency Data Feeds"]
["Big Mac Index"]
["EUR/USD Rates"]
[]
["1996 - 2012 OANDA Corporation. All rights reserved. \"OANDA\", \"fxTrade\" and OANDA's \"fx\" family of trade marks are owned by OANDA Corporation. All other trade marks appearing on this Website are the property of their respective owners. "]
["OANDA Services"]
[]
["Forex Trading"]
["Currency Converter"]
["Rate Subscriptions"]
["Money Transfers"]
["Forex Blog"]
["Currency Hedging"]
["fxUnity"]
[]
["About OANDA"]
[]
["About Us"]
["Our Story"]
["Corporate Blog"]
["Press Room"]
["Jobs"]
[]
["Terms of Use"]
["Privacy Policy"]
["Site Map"]
["Advertise"]
["Contact Us"]
["Feedback"]

{"sheet":"TRY","index":58,"n_rows":124,"n_cols":3,"rows_kept":124,"cut":false,"hidden":true,"merged":[]}
["ENGLISH"]
[]
["DEUTSCH"]
["ESPAяL"]
["FRANǁIS"]
["ITALIANO"]
["PORTUGUʓ"]
["SVENSKA"]
[]
["Rate Subscriptions "]
["Register Sign in "]
[]
["Forex Trading "]
["Currency Converter "]
["Rate Subscriptions "]
["Money Transfers "]
[]
["Currency Converter"]
["Currency Tools"]
["Mobile"]
[]
["Home "]
["|"]
["fxConverter Classic"]
[]
["Help "]
[]
["fxConverter Classic"]
[]
[]
[null,"Sunday, April 1, 2012","Add to your site"]
[]
[null,"1 US Dollar = 1.78450 Turkish Lira ","Print"]
[]
[null,"1 Turkish Lira (TRY) = 0.56038 US Dollar (USD)","Info"]
[]
[null,"Interbank rate +/- 0%","FXConverter Mobile [BlackBerry Eddition]"]
[]
[null,"This means:","Traveler's cheatsheet"]
[null,"You buy 1 US Dollar :     1.78450 Turkish Lira"]
[null,"You sell 1 US Dollar :     1.78050 Turkish Lira "]
[null,"You buy 1 Turkish Lira :     0.56164 US Dollar"]
[null,"You sell 1 Turkish Lira :     0.56038 US Dollar "]
[]
[null,"Median price = 1.78050 / 1.78450 (bid/ask)"]
[null,"Minimum price = 1.78050 / 1.78450"]
[null,"Maximum price = 1.78050 / 1.78450"]
[]
[null,"Rate for previous or next day"]
[null,"Get exchange rates with amount:"]
[]
[null,"Trade with OANDAOpen demo accountSend money with OANDA"]
[]
[]
[]
[null,"Also See..."]
[]
[null,"FXTrade: trade currencies with tight spreads, no minimum deposit and earn continuous interest on your money."]
[null,"FXGlobalTransfer: Send money overseas to 230 countries."]
[null,"FXTradeTicker: A Yahoo! Widget which shows live FX rates and FXTrade/FXGame account status."]
[null,"iPhone Currency Converter: Visit the iPhone store to download OANDA's currency converter."]
[null,"Travel Expense Report Manager (FXPense): Create multi-currency expense reports online and save it in MS Excel."]
[null,"Link to Currency Converter: Find out how to link to OANDA's FXConverter."]
[]
[]
["TRY ALSO..."]
[]
["NEW Currency Converter"]
["Currency Converter Widget"]
["iPhone Converter"]
["BlackBerry Converter"]
["Android Converter"]
["Money Transfers"]
["Exchange Rate Feeds"]
[]
["<a href=\"http://x.oanda.com/delivery/ck.php?n=ac7bbf34\" target=\"_blank\" rel=\"nofollow\"><img src=\"http://x.oanda.com/delivery/avw.php?zoneid=341%20border=\" alt=\"\"></a>"]
["Foreign Exchange Tools"]
[]
["Historical Exchange Rates"]
["Live Exchange Rates"]
["Mobile Currency Apps"]
["Currency Data"]
["Currency Widgets"]
[]
["Mobile Currency Apps"]
[]
["iPhone Currency App"]
["Android Currency App"]
["Blackberry Currency App"]
["PlayBook Currency App"]
["Windows Phone 7 Currency App"]
[]
["Currency Quick Links"]
[]
["Free Converter Widget"]
["Currency Data Feeds"]
["Big Mac Index"]
["EUR/USD Rates"]
[]
["1996 - 2012 OANDA Corporation. All rights reserved. \"OANDA\", \"fxTrade\" and OANDA's \"fx\" family of trade marks are owned by OANDA Corporation. All other trade marks appearing on this Website are the property of their respective owners. "]
["OANDA Services"]
[]
["Forex Trading"]
["Currency Converter"]
["Rate Subscriptions"]
["Money Transfers"]
["Forex Blog"]
["Currency Hedging"]
["fxUnity"]
[]
["About OANDA"]
[]
["About Us"]
["Our Story"]
["Corporate Blog"]
["Press Room"]
["Jobs"]
[]
["Terms of Use"]
["Privacy Policy"]
["Site Map"]
["Advertise"]
["Contact Us"]
["Feedback"]

{"sheet":"VEF","index":59,"n_rows":124,"n_cols":3,"rows_kept":124,"cut":false,"hidden":true,"merged":[]}
["ENGLISH"]
[]
["DEUTSCH"]
["ESPAяL"]
["FRANǁIS"]
["ITALIANO"]
["PORTUGUʓ"]
["SVENSKA"]
[]
["Rate Subscriptions "]
["Register Sign in "]
[]
["Forex Trading "]
["Currency Converter "]
["Rate Subscriptions "]
["Money Transfers "]
[]
["Currency Converter"]
["Currency Tools"]
["Mobile"]
[]
["Home "]
["|"]
["fxConverter Classic"]
[]
["Help "]
[]
["fxConverter Classic"]
[]
[]
[null,"Sunday, April 1, 2012","Add to your site"]
[]
[null,"1 US Dollar = 4.29970 Venezuelan Bolivar Fuerte ","Print"]
[]
[null,"1 Venezuelan Bolivar Fuerte (VEF) = 0.23257 US Dollar (USD)","Info"]
[]
[null,"Interbank rate +/- 0%","FXConverter Mobile [BlackBerry Eddition]"]
[]
[null,"This means:","Traveler's cheatsheet"]
[null,"You buy 1 US Dollar :     4.29970 Venezuelan Bolivar Fuerte"]
[null,"You sell 1 US Dollar :     4.28970 Venezuelan Bolivar Fuerte "]
[null,"You buy 1 Venezuelan Bolivar Fuerte :     0.23312 US Dollar"]
[null,"You sell 1 Venezuelan Bolivar Fuerte :     0.23257 US Dollar "]
[]
[null,"Median price = 4.28970 / 4.29970 (bid/ask)"]
[null,"Minimum price = 4.28970 / 4.29970"]
[null,"Maximum price = 4.28970 / 4.29970"]
[]
[null,"Rate for previous or next day"]
[null,"Get exchange rates with amount:"]
[]
[null,"Trade with OANDAOpen demo accountSend money with OANDA"]
[]
[]
[]
[null,"Also See..."]
[]
[null,"FXTrade: trade currencies with tight spreads, no minimum deposit and earn continuous interest on your money."]
[null,"FXGlobalTransfer: Send money overseas to 230 countries."]
[null,"FXTradeTicker: A Yahoo! Widget which shows live FX rates and FXTrade/FXGame account status."]
[null,"iPhone Currency Converter: Visit the iPhone store to download OANDA's currency converter."]
[null,"Travel Expense Report Manager (FXPense): Create multi-currency expense reports online and save it in MS Excel."]
[null,"Link to Currency Converter: Find out how to link to OANDA's FXConverter."]
[]
[]
["TRY ALSO..."]
[]
["NEW Currency Converter"]
["Currency Converter Widget"]
["iPhone Converter"]
["BlackBerry Converter"]
["Android Converter"]
["Money Transfers"]
["Exchange Rate Feeds"]
[]
["<a href=\"http://x.oanda.com/delivery/ck.php?n=ac7bbf34\" target=\"_blank\" rel=\"nofollow\"><img src=\"http://x.oanda.com/delivery/avw.php?zoneid=341%20border=\" alt=\"\"></a>"]
["Foreign Exchange Tools"]
[]
["Historical Exchange Rates"]
["Live Exchange Rates"]
["Mobile Currency Apps"]
["Currency Data"]
["Currency Widgets"]
[]
["Mobile Currency Apps"]
[]
["iPhone Currency App"]
["Android Currency App"]
["Blackberry Currency App"]
["PlayBook Currency App"]
["Windows Phone 7 Currency App"]
[]
["Currency Quick Links"]
[]
["Free Converter Widget"]
["Currency Data Feeds"]
["Big Mac Index"]
["EUR/USD Rates"]
[]
["1996 - 2012 OANDA Corporation. All rights reserved. \"OANDA\", \"fxTrade\" and OANDA's \"fx\" family of trade marks are owned by OANDA Corporation. All other trade marks appearing on this Website are the property of their respective owners. "]
["OANDA Services"]
[]
["Forex Trading"]
["Currency Converter"]
["Rate Subscriptions"]
["Money Transfers"]
["Forex Blog"]
["Currency Hedging"]
["fxUnity"]
[]
["About OANDA"]
[]
["About Us"]
["Our Story"]
["Corporate Blog"]
["Press Room"]
["Jobs"]
[]
["Terms of Use"]
["Privacy Policy"]
["Site Map"]
["Advertise"]
["Contact Us"]
["Feedback"]

{"sheet":"AUD","index":60,"n_rows":124,"n_cols":3,"rows_kept":124,"cut":false,"hidden":true,"merged":[]}
["ENGLISH"]
[]
["DEUTSCH"]
["ESPAяL"]
["FRANǁIS"]
["ITALIANO"]
["PORTUGUʓ"]
["SVENSKA"]
[]
["Rate Subscriptions "]
["Register Sign in "]
[]
["Forex Trading "]
["Currency Converter "]
["Rate Subscriptions "]
["Money Transfers "]
[]
["Currency Converter"]
["Currency Tools"]
["Mobile"]
[]
["Home "]
["|"]
["fxConverter Classic"]
[]
["Help "]
[]
["fxConverter Classic"]
[]
[]
[null,"Sunday, April 1, 2012","Add to your site"]
[]
[null,"1 US Dollar = 0.96680 Australian Dollar ","Print"]
[]
[null,"1 Australian Dollar (AUD) = 1.03434 US Dollar (USD)","Info"]
[]
[null,"Interbank rate +/- 0%","FXConverter Mobile [BlackBerry Eddition]"]
[]
[null,"This means:","Traveler's cheatsheet"]
[null,"You buy 1 US Dollar :     0.96680 Australian Dollar"]
[null,"You sell 1 US Dollar :     0.96587 Australian Dollar "]
[null,"You buy 1 Australian Dollar :     1.03534 US Dollar"]
[null,"You sell 1 Australian Dollar :     1.03434 US Dollar "]
[]
[null,"Median price = 0.96587 / 0.96680 (bid/ask)"]
[null,"Minimum price = 0.96587 / 0.96680"]
[null,"Maximum price = 0.96587 / 0.96680"]
[]
[null,"Rate for previous or next day"]
[null,"Get exchange rates with amount:"]
[]
[null,"Trade with OANDAOpen demo accountSend money with OANDA"]
[]
[]
[]
[null,"Also See..."]
[]
[null,"FXTrade: trade currencies with tight spreads, no minimum deposit and earn continuous interest on your money."]
[null,"FXGlobalTransfer: Send money overseas to 230 countries."]
[null,"FXTradeTicker: A Yahoo! Widget which shows live FX rates and FXTrade/FXGame account status."]
[null,"iPhone Currency Converter: Visit the iPhone store to download OANDA's currency converter."]
[null,"Travel Expense Report Manager (FXPense): Create multi-currency expense reports online and save it in MS Excel."]
[null,"Link to Currency Converter: Find out how to link to OANDA's FXConverter."]
[]
[]
["TRY ALSO..."]
[]
["NEW Currency Converter"]
["Currency Converter Widget"]
["iPhone Converter"]
["BlackBerry Converter"]
["Android Converter"]
["Money Transfers"]
["Exchange Rate Feeds"]
[]
["<a href=\"http://x.oanda.com/delivery/ck.php?n=ac7bbf34\" target=\"_blank\" rel=\"nofollow\"><img src=\"http://x.oanda.com/delivery/avw.php?zoneid=341%20border=\" alt=\"\"></a>"]
["Foreign Exchange Tools"]
[]
["Historical Exchange Rates"]
["Live Exchange Rates"]
["Mobile Currency Apps"]
["Currency Data"]
["Currency Widgets"]
[]
["Mobile Currency Apps"]
[]
["iPhone Currency App"]
["Android Currency App"]
["Blackberry Currency App"]
["PlayBook Currency App"]
["Windows Phone 7 Currency App"]
[]
["Currency Quick Links"]
[]
["Free Converter Widget"]
["Currency Data Feeds"]
["Big Mac Index"]
["EUR/USD Rates"]
[]
["1996 - 2012 OANDA Corporation. All rights reserved. \"OANDA\", \"fxTrade\" and OANDA's \"fx\" family of trade marks are owned by OANDA Corporation. All other trade marks appearing on this Website are the property of their respective owners. "]
["OANDA Services"]
[]
["Forex Trading"]
["Currency Converter"]
["Rate Subscriptions"]
["Money Transfers"]
["Forex Blog"]
["Currency Hedging"]
["fxUnity"]
[]
["About OANDA"]
[]
["About Us"]
["Our Story"]
["Corporate Blog"]
["Press Room"]
["Jobs"]
[]
["Terms of Use"]
["Privacy Policy"]
["Site Map"]
["Advertise"]
["Contact Us"]
["Feedback"]

{"sheet":"GBP","index":61,"n_rows":124,"n_cols":3,"rows_kept":124,"cut":false,"hidden":true,"merged":[]}
["ENGLISH"]
[]
["DEUTSCH"]
["ESPAяL"]
["FRANǁIS"]
["ITALIANO"]
["PORTUGUʓ"]
["SVENSKA"]
[]
["Rate Subscriptions "]
["Register Sign in "]
[]
["Forex Trading "]
["Currency Converter "]
["Rate Subscriptions "]
["Money Transfers "]
[]
["Currency Converter"]
["Currency Tools"]
["Mobile"]
[]
["Home "]
["|"]
["fxConverter Classic"]
[]
["Help "]
[]
["fxConverter Classic"]
[]
[]
[null,"Sunday, April 1, 2012","Add to your site"]
[]
[null,"1 US Dollar = 0.62464 British Pound ","Print"]
[]
[null,"1 British Pound (GBP) = 1.60092 US Dollar (USD)","Info"]
[]
[null,"Interbank rate +/- 0%","FXConverter Mobile [BlackBerry Eddition]"]
[]
[null,"This means:","Traveler's cheatsheet"]
[null,"You buy 1 US Dollar :     0.62464 British Pound"]
[null,"You sell 1 US Dollar :     0.62425 British Pound "]
[null,"You buy 1 British Pound :     1.60192 US Dollar"]
[null,"You sell 1 British Pound :     1.60092 US Dollar "]
[]
[null,"Median price = 0.62425 / 0.62464 (bid/ask)"]
[null,"Minimum price = 0.62425 / 0.62464"]
[null,"Maximum price = 0.62425 / 0.62464"]
[]
[null,"Rate for previous or next day"]
[null,"Get exchange rates with amount:"]
[]
[null,"Trade with OANDAOpen demo accountSend money with OANDA"]
[]
[]
[]
[null,"Also See..."]
[]
[null,"FXTrade: trade currencies with tight spreads, no minimum deposit and earn continuous interest on your money."]
[null,"FXGlobalTransfer: Send money overseas to 230 countries."]
[null,"FXTradeTicker: A Yahoo! Widget which shows live FX rates and FXTrade/FXGame account status."]
[null,"iPhone Currency Converter: Visit the iPhone store to download OANDA's currency converter."]
[null,"Travel Expense Report Manager (FXPense): Create multi-currency expense reports online and save it in MS Excel."]
[null,"Link to Currency Converter: Find out how to link to OANDA's FXConverter."]
[]
[]
["TRY ALSO..."]
[]
["NEW Currency Converter"]
["Currency Converter Widget"]
["iPhone Converter"]
["BlackBerry Converter"]
["Android Converter"]
["Money Transfers"]
["Exchange Rate Feeds"]
[]
["<a href=\"http://x.oanda.com/delivery/ck.php?n=ac7bbf34\" target=\"_blank\" rel=\"nofollow\"><img src=\"http://x.oanda.com/delivery/avw.php?zoneid=341%20border=\" alt=\"\"></a>"]
["Foreign Exchange Tools"]
[]
["Historical Exchange Rates"]
["Live Exchange Rates"]
["Mobile Currency Apps"]
["Currency Data"]
["Currency Widgets"]
[]
["Mobile Currency Apps"]
[]
["iPhone Currency App"]
["Android Currency App"]
["Blackberry Currency App"]
["PlayBook Currency App"]
["Windows Phone 7 Currency App"]
[]
["Currency Quick Links"]
[]
["Free Converter Widget"]
["Currency Data Feeds"]
["Big Mac Index"]
["EUR/USD Rates"]
[]
["1996 - 2012 OANDA Corporation. All rights reserved. \"OANDA\", \"fxTrade\" and OANDA's \"fx\" family of trade marks are owned by OANDA Corporation. All other trade marks appearing on this Website are the property of their respective owners. "]
["OANDA Services"]
[]
["Forex Trading"]
["Currency Converter"]
["Rate Subscriptions"]
["Money Transfers"]
["Forex Blog"]
["Currency Hedging"]
["fxUnity"]
[]
["About OANDA"]
[]
["About Us"]
["Our Story"]
["Corporate Blog"]
["Press Room"]
["Jobs"]
[]
["Terms of Use"]
["Privacy Policy"]
["Site Map"]
["Advertise"]
["Contact Us"]
["Feedback"]

{"sheet":"BND","index":62,"n_rows":124,"n_cols":3,"rows_kept":124,"cut":false,"hidden":true,"merged":[]}
["ENGLISH"]
[]
["DEUTSCH"]
["ESPAяL"]
["FRANǁIS"]
["ITALIANO"]
["PORTUGUʓ"]
["SVENSKA"]
[]
["Rate Subscriptions "]
["Register Sign in "]
[]
["Forex Trading "]
["Currency Converter "]
["Rate Subscriptions "]
["Money Transfers "]
[]
["Currency Converter"]
["Currency Tools"]
["Mobile"]
[]
["Home "]
["|"]
["fxConverter Classic"]
[]
["Help "]
[]
["fxConverter Classic"]
[]
[]
[null,"Sunday, April 1, 2012","Add to your site"]
[]
[null,"1 US Dollar = 1.27505 Brunei Dollar ","Print"]
[]
[null,"1 Brunei Dollar (BND) = 0.78428 US Dollar (USD)","Info"]
[]
[null,"Interbank rate +/- 0%","FXConverter Mobile [BlackBerry Eddition]"]
[]
[null,"This means:","Traveler's cheatsheet"]
[null,"You buy 1 US Dollar :     1.27505 Brunei Dollar"]
[null,"You sell 1 US Dollar :     1.23755 Brunei Dollar "]
[null,"You buy 1 Brunei Dollar :     0.80805 US Dollar"]
[null,"You sell 1 Brunei Dollar :     0.78428 US Dollar "]
[]
[null,"Median price = 1.23755 / 1.27505 (bid/ask)"]
[null,"Minimum price = 1.23720 / 1.27470"]
[null,"Maximum price = 1.23780 / 1.27530"]
[]
[null,"Rate for previous or next day"]
[null,"Get exchange rates with amount:"]
[]
[null,"Trade with OANDAOpen demo accountSend money with OANDA"]
[]
[]
[]
[null,"Also See..."]
[]
[null,"FXTrade: trade currencies with tight spreads, no minimum deposit and earn continuous interest on your money."]
[null,"FXGlobalTransfer: Send money overseas to 230 countries."]
[null,"FXTradeTicker: A Yahoo! Widget which shows live FX rates and FXTrade/FXGame account status."]
[null,"iPhone Currency Converter: Visit the iPhone store to download OANDA's currency converter."]
[null,"Travel Expense Report Manager (FXPense): Create multi-currency expense reports online and save it in MS Excel."]
[null,"Link to Currency Converter: Find out how to link to OANDA's FXConverter."]
[]
[]
["TRY ALSO..."]
[]
["NEW Currency Converter"]
["Currency Converter Widget"]
["iPhone Converter"]
["BlackBerry Converter"]
["Android Converter"]
["Money Transfers"]
["Exchange Rate Feeds"]
[]
["<a href=\"http://x.oanda.com/delivery/ck.php?n=ac7bbf34\" target=\"_blank\" rel=\"nofollow\"><img src=\"http://x.oanda.com/delivery/avw.php?zoneid=341%20border=\" alt=\"\"></a>"]
["Foreign Exchange Tools"]
[]
["Historical Exchange Rates"]
["Live Exchange Rates"]
["Mobile Currency Apps"]
["Currency Data"]
["Currency Widgets"]
[]
["Mobile Currency Apps"]
[]
["iPhone Currency App"]
["Android Currency App"]
["Blackberry Currency App"]
["PlayBook Currency App"]
["Windows Phone 7 Currency App"]
[]
["Currency Quick Links"]
[]
["Free Converter Widget"]
["Currency Data Feeds"]
["Big Mac Index"]
["EUR/USD Rates"]
[]
["1996 - 2012 OANDA Corporation. All rights reserved. \"OANDA\", \"fxTrade\" and OANDA's \"fx\" family of trade marks are owned by OANDA Corporation. All other trade marks appearing on this Website are the property of their respective owners. "]
["OANDA Services"]
[]
["Forex Trading"]
["Currency Converter"]
["Rate Subscriptions"]
["Money Transfers"]
["Forex Blog"]
["Currency Hedging"]
["fxUnity"]
[]
["About OANDA"]
[]
["About Us"]
["Our Story"]
["Corporate Blog"]
["Press Room"]
["Jobs"]
[]
["Terms of Use"]
["Privacy Policy"]
["Site Map"]
["Advertise"]
["Contact Us"]
["Feedback"]

{"sheet":"DKK","index":63,"n_rows":124,"n_cols":3,"rows_kept":124,"cut":false,"hidden":true,"merged":[]}
["ENGLISH"]
[]
["DEUTSCH"]
["ESPAяL"]
["FRANǁIS"]
["ITALIANO"]
["PORTUGUʓ"]
["SVENSKA"]
[]
["Rate Subscriptions "]
["Register Sign in "]
[]
["Forex Trading "]
["Currency Converter "]
["Rate Subscriptions "]
["Money Transfers "]
[]
["Currency Converter"]
["Currency Tools"]
["Mobile"]
[]
["Home "]
["|"]
["fxConverter Classic"]
[]
["Help "]
[]
["fxConverter Classic"]
[]
[]
[null,"Sunday, April 1, 2012","Add to your site"]
[]
[null,"1 US Dollar = 5.57812 Danish Krone ","Print"]
[]
[null,"1 Danish Krone (DKK) = 0.17927 US Dollar (USD)","Info"]
[]
[null,"Interbank rate +/- 0%","FXConverter Mobile [BlackBerry Eddition]"]
[]
[null,"This means:","Traveler's cheatsheet"]
[null,"You buy 1 US Dollar :     5.57812 Danish Krone"]
[null,"You sell 1 US Dollar :     5.57629 Danish Krone "]
[null,"You buy 1 Danish Krone :     0.17933 US Dollar"]
[null,"You sell 1 Danish Krone :     0.17927 US Dollar "]
[]
[null,"Median price = 5.57629 / 5.57812 (bid/ask)"]
[null,"Minimum price = 5.57610 / 5.57710"]
[null,"Maximum price = 5.57750 / 5.57920"]
[]
[null,"Rate for previous or next day"]
[null,"Get exchange rates with amount:"]
[]
[null,"Trade with OANDAOpen demo accountSend money with OANDA"]
[]
[]
[]
[null,"Also See..."]
[]
[null,"FXTrade: trade currencies with tight spreads, no minimum deposit and earn continuous interest on your money."]
[null,"FXGlobalTransfer: Send money overseas to 230 countries."]
[null,"FXTradeTicker: A Yahoo! Widget which shows live FX rates and FXTrade/FXGame account status."]
[null,"iPhone Currency Converter: Visit the iPhone store to download OANDA's currency converter."]
[null,"Travel Expense Report Manager (FXPense): Create multi-currency expense reports online and save it in MS Excel."]
[null,"Link to Currency Converter: Find out how to link to OANDA's FXConverter."]
[]
[]
["TRY ALSO..."]
[]
["NEW Currency Converter"]
["Currency Converter Widget"]
["iPhone Converter"]
["BlackBerry Converter"]
["Android Converter"]
["Money Transfers"]
["Exchange Rate Feeds"]
[]
["<a href=\"http://x.oanda.com/delivery/ck.php?n=ac7bbf34\" target=\"_blank\" rel=\"nofollow\"><img src=\"http://x.oanda.com/delivery/avw.php?zoneid=341%20border=\" alt=\"\"></a>"]
["Foreign Exchange Tools"]
[]
["Historical Exchange Rates"]
["Live Exchange Rates"]
["Mobile Currency Apps"]
["Currency Data"]
["Currency Widgets"]
[]
["Mobile Currency Apps"]
[]
["iPhone Currency App"]
["Android Currency App"]
["Blackberry Currency App"]
["PlayBook Currency App"]
["Windows Phone 7 Currency App"]
[]
["Currency Quick Links"]
[]
["Free Converter Widget"]
["Currency Data Feeds"]
["Big Mac Index"]
["EUR/USD Rates"]
[]
["1996 - 2012 OANDA Corporation. All rights reserved. \"OANDA\", \"fxTrade\" and OANDA's \"fx\" family of trade marks are owned by OANDA Corporation. All other trade marks appearing on this Website are the property of their respective owners. "]
["OANDA Services"]
[]
["Forex Trading"]
["Currency Converter"]
["Rate Subscriptions"]
["Money Transfers"]
["Forex Blog"]
["Currency Hedging"]
["fxUnity"]
[]
["About OANDA"]
[]
["About Us"]
["Our Story"]
["Corporate Blog"]
["Press Room"]
["Jobs"]
[]
["Terms of Use"]
["Privacy Policy"]
["Site Map"]
["Advertise"]
["Contact Us"]
["Feedback"]

{"sheet":"EUR","index":64,"n_rows":124,"n_cols":3,"rows_kept":124,"cut":false,"hidden":true,"merged":[]}
["ENGLISH"]
[]
["DEUTSCH"]
["ESPAяL"]
["FRANǁIS"]
["ITALIANO"]
["PORTUGUʓ"]
["SVENSKA"]
[]
["Rate Subscriptions "]
["Register Sign in "]
[]
["Forex Trading "]
["Currency Converter "]
["Rate Subscriptions "]
["Money Transfers "]
[]
["Currency Converter"]
["Currency Tools"]
["Mobile"]
[]
["Home "]
["|"]
["fxConverter Classic"]
[]
["Help "]
[]
["fxConverter Classic"]
[]
[]
[null,"Sunday, April 1, 2012","Add to your site"]
[]
[null,"1 US Dollar = 0.74977 Euro ","Print"]
[]
[null,"1 Euro (EUR) = 1.33374 US Dollar (USD)","Info"]
[]
[null,"Interbank rate +/- 0%","FXConverter Mobile [BlackBerry Eddition]"]
[]
[null,"This means:","Traveler's cheatsheet"]
[null,"You buy 1 US Dollar :     0.74977 Euro"]
[null,"You sell 1 US Dollar :     0.74921 Euro "]
[null,"You buy 1 Euro :     1.33474 US Dollar"]
[null,"You sell 1 Euro :     1.33374 US Dollar "]
[]
[null,"Median price = 0.74921 / 0.74977 (bid/ask)"]
[null,"Minimum price = 0.74921 / 0.74977"]
[null,"Maximum price = 0.74921 / 0.74977"]
[]
[null,"Rate for previous or next day"]
[null,"Get exchange rates with amount:"]
[]
[null,"Trade with OANDAOpen demo accountSend money with OANDA"]
[]
[]
[]
[null,"Also See..."]
[]
[null,"FXTrade: trade currencies with tight spreads, no minimum deposit and earn continuous interest on your money."]
[null,"FXGlobalTransfer: Send money overseas to 230 countries."]
[null,"FXTradeTicker: A Yahoo! Widget which shows live FX rates and FXTrade/FXGame account status."]
[null,"iPhone Currency Converter: Visit the iPhone store to download OANDA's currency converter."]
[null,"Travel Expense Report Manager (FXPense): Create multi-currency expense reports online and save it in MS Excel."]
[null,"Link to Currency Converter: Find out how to link to OANDA's FXConverter."]
[]
[]
["TRY ALSO..."]
[]
["NEW Currency Converter"]
["Currency Converter Widget"]
["iPhone Converter"]
["BlackBerry Converter"]
["Android Converter"]
["Money Transfers"]
["Exchange Rate Feeds"]
[]
["<a href=\"http://x.oanda.com/delivery/ck.php?n=ac7bbf34\" target=\"_blank\" rel=\"nofollow\"><img src=\"http://x.oanda.com/delivery/avw.php?zoneid=341%20border=\" alt=\"\"></a>"]
["Foreign Exchange Tools"]
[]
["Historical Exchange Rates"]
["Live Exchange Rates"]
["Mobile Currency Apps"]
["Currency Data"]
["Currency Widgets"]
[]
["Mobile Currency Apps"]
[]
["iPhone Currency App"]
["Android Currency App"]
["Blackberry Currency App"]
["PlayBook Currency App"]
["Windows Phone 7 Currency App"]
[]
["Currency Quick Links"]
[]
["Free Converter Widget"]
["Currency Data Feeds"]
["Big Mac Index"]
["EUR/USD Rates"]
[]
["1996 - 2012 OANDA Corporation. All rights reserved. \"OANDA\", \"fxTrade\" and OANDA's \"fx\" family of trade marks are owned by OANDA Corporation. All other trade marks appearing on this Website are the property of their respective owners. "]
["OANDA Services"]
[]
["Forex Trading"]
["Currency Converter"]
["Rate Subscriptions"]
["Money Transfers"]
["Forex Blog"]
["Currency Hedging"]
["fxUnity"]
[]
["About OANDA"]
[]
["About Us"]
["Our Story"]
["Corporate Blog"]
["Press Room"]
["Jobs"]
[]
["Terms of Use"]
["Privacy Policy"]
["Site Map"]
["Advertise"]
["Contact Us"]
["Feedback"]

{"sheet":"NZD","index":65,"n_rows":124,"n_cols":3,"rows_kept":124,"cut":false,"hidden":true,"merged":[]}
["ENGLISH"]
[]
["DEUTSCH"]
["ESPAяL"]
["FRANǁIS"]
["ITALIANO"]
["PORTUGUʓ"]
["SVENSKA"]
[]
["Rate Subscriptions "]
["Register Sign in "]
[]
["Forex Trading "]
["Currency Converter "]
["Rate Subscriptions "]
["Money Transfers "]
[]
["Currency Converter"]
["Currency Tools"]
["Mobile"]
[]
["Home "]
["|"]
["fxConverter Classic"]
[]
["Help "]
[]
["fxConverter Classic"]
[]
[]
[null,"Sunday, April 1, 2012","Add to your site"]
[]
[null,"1 US Dollar = 1.22267 New Zealand Dollar ","Print"]
[]
[null,"1 New Zealand Dollar (NZD) = 0.81788 US Dollar (USD)","Info"]
[]
[null,"Interbank rate +/- 0%","FXConverter Mobile [BlackBerry Eddition]"]
[]
[null,"This means:","Traveler's cheatsheet"]
[null,"You buy 1 US Dollar :     1.22267 New Zealand Dollar"]
[null,"You sell 1 US Dollar :     1.22118 New Zealand Dollar "]
[null,"You buy 1 New Zealand Dollar :     0.81888 US Dollar"]
[null,"You sell 1 New Zealand Dollar :     0.81788 US Dollar "]
[]
[null,"Median price = 1.22118 / 1.22267 (bid/ask)"]
[null,"Minimum price = 1.22118 / 1.22267"]
[null,"Maximum price = 1.22118 / 1.22267"]
[]
[null,"Rate for previous or next day"]
[null,"Get exchange rates with amount:"]
[]
[null,"Trade with OANDAOpen demo accountSend money with OANDA"]
[]
[]
[]
[null,"Also See..."]
[]
[null,"FXTrade: trade currencies with tight spreads, no minimum deposit and earn continuous interest on your money."]
[null,"FXGlobalTransfer: Send money overseas to 230 countries."]
[null,"FXTradeTicker: A Yahoo! Widget which shows live FX rates and FXTrade/FXGame account status."]
[null,"iPhone Currency Converter: Visit the iPhone store to download OANDA's currency converter."]
[null,"Travel Expense Report Manager (FXPense): Create multi-currency expense reports online and save it in MS Excel."]
[null,"Link to Currency Converter: Find out how to link to OANDA's FXConverter."]
[]
[]
["TRY ALSO..."]
[]
["NEW Currency Converter"]
["Currency Converter Widget"]
["iPhone Converter"]
["BlackBerry Converter"]
["Android Converter"]
["Money Transfers"]
["Exchange Rate Feeds"]
[]
["<a href=\"http://x.oanda.com/delivery/ck.php?n=ac7bbf34\" target=\"_blank\" rel=\"nofollow\"><img src=\"http://x.oanda.com/delivery/avw.php?zoneid=341%20border=\" alt=\"\"></a>"]
["Foreign Exchange Tools"]
[]
["Historical Exchange Rates"]
["Live Exchange Rates"]
["Mobile Currency Apps"]
["Currency Data"]
["Currency Widgets"]
[]
["Mobile Currency Apps"]
[]
["iPhone Currency App"]
["Android Currency App"]
["Blackberry Currency App"]
["PlayBook Currency App"]
["Windows Phone 7 Currency App"]
[]
["Currency Quick Links"]
[]
["Free Converter Widget"]
["Currency Data Feeds"]
["Big Mac Index"]
["EUR/USD Rates"]
[]
["1996 - 2012 OANDA Corporation. All rights reserved. \"OANDA\", \"fxTrade\" and OANDA's \"fx\" family of trade marks are owned by OANDA Corporation. All other trade marks appearing on this Website are the property of their respective owners. "]
["OANDA Services"]
[]
["Forex Trading"]
["Currency Converter"]
["Rate Subscriptions"]
["Money Transfers"]
["Forex Blog"]
["Currency Hedging"]
["fxUnity"]
[]
["About OANDA"]
[]
["About Us"]
["Our Story"]
["Corporate Blog"]
["Press Room"]
["Jobs"]
[]
["Terms of Use"]
["Privacy Policy"]
["Site Map"]
["Advertise"]
["Contact Us"]
["Feedback"]

{"sheet":"SEK","index":66,"n_rows":124,"n_cols":3,"rows_kept":124,"cut":false,"hidden":true,"merged":[]}
["ENGLISH"]
[]
["DEUTSCH"]
["ESPAяL"]
["FRANǁIS"]
["ITALIANO"]
["PORTUGUʓ"]
["SVENSKA"]
[]
["Rate Subscriptions "]
["Register Sign in "]
[]
["Forex Trading "]
["Currency Converter "]
["Rate Subscriptions "]
["Money Transfers "]
[]
["Currency Converter"]
["Currency Tools"]
["Mobile"]
[]
["Home "]
["|"]
["fxConverter Classic"]
[]
["Help "]
[]
["fxConverter Classic"]
[]
[]
[null,"Sunday, April 1, 2012","Add to your site"]
[]
[null,"1 US Dollar = 6.61713 Swedish Krona ","Print"]
[]
[null,"1 Swedish Krona (SEK) = 0.15112 US Dollar (USD)","Info"]
[]
[null,"Interbank rate +/- 0%","FXConverter Mobile [BlackBerry Eddition]"]
[]
[null,"This means:","Traveler's cheatsheet"]
[null,"You buy 1 US Dollar :     6.61713 Swedish Krona"]
[null,"You sell 1 US Dollar :     6.61198 Swedish Krona "]
[null,"You buy 1 Swedish Krona :     0.15124 US Dollar"]
[null,"You sell 1 Swedish Krona :     0.15112 US Dollar "]
[]
[null,"Median price = 6.61198 / 6.61713 (bid/ask)"]
[null,"Minimum price = 6.60700 / 6.61660"]
[null,"Maximum price = 6.61450 / 6.62130"]
[]
[null,"Rate for previous or next day"]
[null,"Get exchange rates with amount:"]
[]
[null,"Trade with OANDAOpen demo accountSend money with OANDA"]
[]
[]
[]
[null,"Also See..."]
[]
[null,"FXTrade: trade currencies with tight spreads, no minimum deposit and earn continuous interest on your money."]
[null,"FXGlobalTransfer: Send money overseas to 230 countries."]
[null,"FXTradeTicker: A Yahoo! Widget which shows live FX rates and FXTrade/FXGame account status."]
[null,"iPhone Currency Converter: Visit the iPhone store to download OANDA's currency converter."]
[null,"Travel Expense Report Manager (FXPense): Create multi-currency expense reports online and save it in MS Excel."]
[null,"Link to Currency Converter: Find out how to link to OANDA's FXConverter."]
[]
[]
["TRY ALSO..."]
[]
["NEW Currency Converter"]
["Currency Converter Widget"]
["iPhone Converter"]
["BlackBerry Converter"]
["Android Converter"]
["Money Transfers"]
["Exchange Rate Feeds"]
[]
["<a href=\"http://x.oanda.com/delivery/ck.php?n=ac7bbf34\" target=\"_blank\" rel=\"nofollow\"><img src=\"http://x.oanda.com/delivery/avw.php?zoneid=341%20border=\" alt=\"\"></a>"]
["Foreign Exchange Tools"]
[]
["Historical Exchange Rates"]
["Live Exchange Rates"]
["Mobile Currency Apps"]
["Currency Data"]
["Currency Widgets"]
[]
["Mobile Currency Apps"]
[]
["iPhone Currency App"]
["Android Currency App"]
["Blackberry Currency App"]
["PlayBook Currency App"]
["Windows Phone 7 Currency App"]
[]
["Currency Quick Links"]
[]
["Free Converter Widget"]
["Currency Data Feeds"]
["Big Mac Index"]
["EUR/USD Rates"]
[]
["1996 - 2012 OANDA Corporation. All rights reserved. \"OANDA\", \"fxTrade\" and OANDA's \"fx\" family of trade marks are owned by OANDA Corporation. All other trade marks appearing on this Website are the property of their respective owners. "]
["OANDA Services"]
[]
["Forex Trading"]
["Currency Converter"]
["Rate Subscriptions"]
["Money Transfers"]
["Forex Blog"]
["Currency Hedging"]
["fxUnity"]
[]
["About OANDA"]
[]
["About Us"]
["Our Story"]
["Corporate Blog"]
["Press Room"]
["Jobs"]
[]
["Terms of Use"]
["Privacy Policy"]
["Site Map"]
["Advertise"]
["Contact Us"]
["Feedback"]

{"sheet":"CHF","index":67,"n_rows":124,"n_cols":3,"rows_kept":124,"cut":false,"hidden":true,"merged":[]}
["ENGLISH"]
[]
["DEUTSCH"]
["ESPAяL"]
["FRANǁIS"]
["ITALIANO"]
["PORTUGUʓ"]
["SVENSKA"]
[]
["Rate Subscriptions "]
["Register Sign in "]
[]
["Forex Trading "]
["Currency Converter "]
["Rate Subscriptions "]
["Money Transfers "]
[]
["Currency Converter"]
["Currency Tools"]
["Mobile"]
[]
["Home "]
["|"]
["fxConverter Classic"]
[]
["Help "]
[]
["fxConverter Classic"]
[]
[]
[null,"Sunday, April 1, 2012","Add to your site"]
[]
[null,"1 US Dollar = 0.90290 Swiss Franc ","Print"]
[]
[null,"1 Swiss Franc (CHF) = 1.10754 US Dollar (USD)","Info"]
[]
[null,"Interbank rate +/- 0%","FXConverter Mobile [BlackBerry Eddition]"]
[]
[null,"This means:","Traveler's cheatsheet"]
[null,"You buy 1 US Dollar :     0.90290 Swiss Franc"]
[null,"You sell 1 US Dollar :     0.90190 Swiss Franc "]
[null,"You buy 1 Swiss Franc :     1.10877 US Dollar"]
[null,"You sell 1 Swiss Franc :     1.10754 US Dollar "]
[]
[null,"Median price = 0.90190 / 0.90290 (bid/ask)"]
[null,"Minimum price = 0.90190 / 0.90290"]
[null,"Maximum price = 0.90190 / 0.90290"]
[]
[null,"Rate for previous or next day"]
[null,"Get exchange rates with amount:"]
[]
[null,"Trade with OANDAOpen demo accountSend money with OANDA"]
[]
[]
[]
[null,"Also See..."]
[]
[null,"FXTrade: trade currencies with tight spreads, no minimum deposit and earn continuous interest on your money."]
[null,"FXGlobalTransfer: Send money overseas to 230 countries."]
[null,"FXTradeTicker: A Yahoo! Widget which shows live FX rates and FXTrade/FXGame account status."]
[null,"iPhone Currency Converter: Visit the iPhone store to download OANDA's currency converter."]
[null,"Travel Expense Report Manager (FXPense): Create multi-currency expense reports online and save it in MS Excel."]
[null,"Link to Currency Converter: Find out how to link to OANDA's FXConverter."]
[]
[]
["TRY ALSO..."]
[]
["NEW Currency Converter"]
["Currency Converter Widget"]
["iPhone Converter"]
["BlackBerry Converter"]
["Android Converter"]
["Money Transfers"]
["Exchange Rate Feeds"]
[]
["<a href=\"http://x.oanda.com/delivery/ck.php?n=ac7bbf34\" target=\"_blank\" rel=\"nofollow\"><img src=\"http://x.oanda.com/delivery/avw.php?zoneid=341%20border=\" alt=\"\"></a>"]
["Foreign Exchange Tools"]
[]
["Historical Exchange Rates"]
["Live Exchange Rates"]
["Mobile Currency Apps"]
["Currency Data"]
["Currency Widgets"]
[]
["Mobile Currency Apps"]
[]
["iPhone Currency App"]
["Android Currency App"]
["Blackberry Currency App"]
["PlayBook Currency App"]
["Windows Phone 7 Currency App"]
[]
["Currency Quick Links"]
[]
["Free Converter Widget"]
["Currency Data Feeds"]
["Big Mac Index"]
["EUR/USD Rates"]
[]
["1996 - 2012 OANDA Corporation. All rights reserved. \"OANDA\", \"fxTrade\" and OANDA's \"fx\" family of trade marks are owned by OANDA Corporation. All other trade marks appearing on this Website are the property of their respective owners. "]
["OANDA Services"]
[]
["Forex Trading"]
["Currency Converter"]
["Rate Subscriptions"]
["Money Transfers"]
["Forex Blog"]
["Currency Hedging"]
["fxUnity"]
[]
["About OANDA"]
[]
["About Us"]
["Our Story"]
["Corporate Blog"]
["Press Room"]
["Jobs"]
[]
["Terms of Use"]
["Privacy Policy"]
["Site Map"]
["Advertise"]
["Contact Us"]
["Feedback"]

{"sheet":"HUF","index":68,"n_rows":124,"n_cols":3,"rows_kept":124,"cut":false,"hidden":true,"merged":[]}
["ENGLISH"]
[]
["DEUTSCH"]
["ESPAяL"]
["FRANǁIS"]
["ITALIANO"]
["PORTUGUʓ"]
["SVENSKA"]
[]
["Rate Subscriptions "]
["Register Sign in "]
[]
["Forex Trading "]
["Currency Converter "]
["Rate Subscriptions "]
["Money Transfers "]
[]
["Currency Converter"]
["Currency Tools"]
["Mobile"]
[]
["Home "]
["|"]
["fxConverter Classic"]
[]
["Help "]
[]
["fxConverter Classic"]
[]
[]
[null,"Sunday, April 1, 2012","Add to your site"]
[]
[null,"1 US Dollar = 221.003 Hungarian Forint ","Print"]
[]
[null,"1 Hungarian Forint (HUF) = 0.004525 US Dollar (USD)","Info"]
[]
[null,"Interbank rate +/- 0%","FXConverter Mobile [BlackBerry Eddition]"]
[]
[null,"This means:","Traveler's cheatsheet"]
[null,"You buy 1 US Dollar :     221.003 Hungarian Forint"]
[null,"You sell 1 US Dollar :     220.495 Hungarian Forint "]
[null,"You buy 1 Hungarian Forint :     0.004535 US Dollar"]
[null,"You sell 1 Hungarian Forint :     0.004525 US Dollar "]
[]
[null,"Median price = 220.495 / 221.003 (bid/ask)"]
[null,"Minimum price = 220.440 / 220.830"]
[null,"Maximum price = 220.530 / 221.120"]
[]
[null,"Rate for previous or next day"]
[null,"Get exchange rates with amount:"]
[]
[null,"Trade with OANDAOpen demo accountSend money with OANDA"]
[]
[]
[]
[null,"Also See..."]
[]
[null,"FXTrade: trade currencies with tight spreads, no minimum deposit and earn continuous interest on your money."]
[null,"FXGlobalTransfer: Send money overseas to 230 countries."]
[null,"FXTradeTicker: A Yahoo! Widget which shows live FX rates and FXTrade/FXGame account status."]
[null,"iPhone Currency Converter: Visit the iPhone store to download OANDA's currency converter."]
[null,"Travel Expense Report Manager (FXPense): Create multi-currency expense reports online and save it in MS Excel."]
[null,"Link to Currency Converter: Find out how to link to OANDA's FXConverter."]
[]
[]
["TRY ALSO..."]
[]
["NEW Currency Converter"]
["Currency Converter Widget"]
["iPhone Converter"]
["BlackBerry Converter"]
["Android Converter"]
["Money Transfers"]
["Exchange Rate Feeds"]
[]
["<a href=\"http://x.oanda.com/delivery/ck.php?n=ac7bbf34\" target=\"_blank\" rel=\"nofollow\"><img src=\"http://x.oanda.com/delivery/avw.php?zoneid=341%20border=\" alt=\"\"></a>"]
["Foreign Exchange Tools"]
[]
["Historical Exchange Rates"]
["Live Exchange Rates"]
["Mobile Currency Apps"]
["Currency Data"]
["Currency Widgets"]
[]
["Mobile Currency Apps"]
[]
["iPhone Currency App"]
["Android Currency App"]
["Blackberry Currency App"]
["PlayBook Currency App"]
["Windows Phone 7 Currency App"]
[]
["Currency Quick Links"]
[]
["Free Converter Widget"]
["Currency Data Feeds"]
["Big Mac Index"]
["EUR/USD Rates"]
[]
["1996 - 2012 OANDA Corporation. All rights reserved. \"OANDA\", \"fxTrade\" and OANDA's \"fx\" family of trade marks are owned by OANDA Corporation. All other trade marks appearing on this Website are the property of their respective owners. "]
["OANDA Services"]
[]
["Forex Trading"]
["Currency Converter"]
["Rate Subscriptions"]
["Money Transfers"]
["Forex Blog"]
["Currency Hedging"]
["fxUnity"]
[]
["About OANDA"]
[]
["About Us"]
["Our Story"]
["Corporate Blog"]
["Press Room"]
["Jobs"]
[]
["Terms of Use"]
["Privacy Policy"]
["Site Map"]
["Advertise"]
["Contact Us"]
["Feedback"]

{"sheet":"CZK","index":69,"n_rows":124,"n_cols":3,"rows_kept":124,"cut":false,"hidden":true,"merged":[]}
["ENGLISH"]
[]
["DEUTSCH"]
["ESPAяL"]
["FRANǁIS"]
["ITALIANO"]
["PORTUGUʓ"]
["SVENSKA"]
[]
["Rate Subscriptions "]
["Register Sign in "]
[]
["Forex Trading "]
["Currency Converter "]
["Rate Subscriptions "]
["Money Transfers "]
[]
["Currency Converter"]
["Currency Tools"]
["Mobile"]
[]
["Home "]
["|"]
["fxConverter Classic"]
[]
["Help "]
[]
["fxConverter Classic"]
[]
[]
[null,"Sunday, April 1, 2012","Add to your site"]
[]
[null,"1 US Dollar = 18.59692 Czech Koruna ","Print"]
[]
[null,"1 Czech Koruna (CZK) = 0.05377 US Dollar (USD)","Info"]
[]
[null,"Interbank rate +/- 0%","FXConverter Mobile [BlackBerry Eddition]"]
[]
[null,"This means:","Traveler's cheatsheet"]
[null,"You buy 1 US Dollar :     18.59692 Czech Koruna"]
[null,"You sell 1 US Dollar :     18.56744 Czech Koruna "]
[null,"You buy 1 Czech Koruna :     0.05386 US Dollar"]
[null,"You sell 1 Czech Koruna :     0.05377 US Dollar "]
[]
[null,"Median price = 18.56744 / 18.59692 (bid/ask)"]
[null,"Minimum price = 18.55900 / 18.59000"]
[null,"Maximum price = 18.58500 / 18.65700"]
[]
[null,"Rate for previous or next day"]
[null,"Get exchange rates with amount:"]
[]
[null,"Trade with OANDAOpen demo accountSend money with OANDA"]
[]
[]
[]
[null,"Also See..."]
[]
[null,"FXTrade: trade currencies with tight spreads, no minimum deposit and earn continuous interest on your money."]
[null,"FXGlobalTransfer: Send money overseas to 230 countries."]
[null,"FXTradeTicker: A Yahoo! Widget which shows live FX rates and FXTrade/FXGame account status."]
[null,"iPhone Currency Converter: Visit the iPhone store to download OANDA's currency converter."]
[null,"Travel Expense Report Manager (FXPense): Create multi-currency expense reports online and save it in MS Excel."]
[null,"Link to Currency Converter: Find out how to link to OANDA's FXConverter."]
[]
[]
["TRY ALSO..."]
[]
["NEW Currency Converter"]
["Currency Converter Widget"]
["iPhone Converter"]
["BlackBerry Converter"]
["Android Converter"]
["Money Transfers"]
["Exchange Rate Feeds"]
[]
["<a href=\"http://x.oanda.com/delivery/ck.php?n=ac7bbf34\" target=\"_blank\" rel=\"nofollow\"><img src=\"http://x.oanda.com/delivery/avw.php?zoneid=341%20border=\" alt=\"\"></a>"]
["Foreign Exchange Tools"]
[]
["Historical Exchange Rates"]
["Live Exchange Rates"]
["Mobile Currency Apps"]
["Currency Data"]
["Currency Widgets"]
[]
["Mobile Currency Apps"]
[]
["iPhone Currency App"]
["Android Currency App"]
["Blackberry Currency App"]
["PlayBook Currency App"]
["Windows Phone 7 Currency App"]
[]
["Currency Quick Links"]
[]
["Free Converter Widget"]
["Currency Data Feeds"]
["Big Mac Index"]
["EUR/USD Rates"]
[]
["1996 - 2012 OANDA Corporation. All rights reserved. \"OANDA\", \"fxTrade\" and OANDA's \"fx\" family of trade marks are owned by OANDA Corporation. All other trade marks appearing on this Website are the property of their respective owners. "]
["OANDA Services"]
[]
["Forex Trading"]
["Currency Converter"]
["Rate Subscriptions"]
["Money Transfers"]
["Forex Blog"]
["Currency Hedging"]
["fxUnity"]
[]
["About OANDA"]
[]
["About Us"]
["Our Story"]
["Corporate Blog"]
["Press Room"]
["Jobs"]
[]
["Terms of Use"]
["Privacy Policy"]
["Site Map"]
["Advertise"]
["Contact Us"]
["Feedback"]

{"sheet":"PLN","index":70,"n_rows":124,"n_cols":3,"rows_kept":124,"cut":false,"hidden":true,"merged":[]}
["ENGLISH"]
[]
["DEUTSCH"]
["ESPAяL"]
["FRANǁIS"]
["ITALIANO"]
["PORTUGUʓ"]
["SVENSKA"]
[]
["Rate Subscriptions "]
["Register Sign in "]
[]
["Forex Trading "]
["Currency Converter "]
["Rate Subscriptions "]
["Money Transfers "]
[]
["Currency Converter"]
["Currency Tools"]
["Mobile"]
[]
["Home "]
["|"]
["fxConverter Classic"]
[]
["Help "]
[]
["fxConverter Classic"]
[]
[]
[null,"Sunday, April 1, 2012","Add to your site"]
[]
[null,"1 US Dollar = 3.11152 Polish Zloty ","Print"]
[]
[null,"1 Polish Zloty (PLN) = 0.32139 US Dollar (USD)","Info"]
[]
[null,"Interbank rate +/- 0%","FXConverter Mobile [BlackBerry Eddition]"]
[]
[null,"This means:","Traveler's cheatsheet"]
[null,"You buy 1 US Dollar :     3.11152 Polish Zloty"]
[null,"You sell 1 US Dollar :     3.10848 Polish Zloty "]
[null,"You buy 1 Polish Zloty :     0.32170 US Dollar"]
[null,"You sell 1 Polish Zloty :     0.32139 US Dollar "]
[]
[null,"Median price = 3.10848 / 3.11152 (bid/ask)"]
[null,"Minimum price = 3.10200 / 3.10820"]
[null,"Maximum price = 3.11150 / 3.12030"]
[]
[null,"Rate for previous or next day"]
[null,"Get exchange rates with amount:"]
[]
[null,"Trade with OANDAOpen demo accountSend money with OANDA"]
[]
[]
[]
[null,"Also See..."]
[]
[null,"FXTrade: trade currencies with tight spreads, no minimum deposit and earn continuous interest on your money."]
[null,"FXGlobalTransfer: Send money overseas to 230 countries."]
[null,"FXTradeTicker: A Yahoo! Widget which shows live FX rates and FXTrade/FXGame account status."]
[null,"iPhone Currency Converter: Visit the iPhone store to download OANDA's currency converter."]
[null,"Travel Expense Report Manager (FXPense): Create multi-currency expense reports online and save it in MS Excel."]
[null,"Link to Currency Converter: Find out how to link to OANDA's FXConverter."]
[]
[]
["TRY ALSO..."]
[]
["NEW Currency Converter"]
["Currency Converter Widget"]
["iPhone Converter"]
["BlackBerry Converter"]
["Android Converter"]
["Money Transfers"]
["Exchange Rate Feeds"]
[]
["<a href=\"http://x.oanda.com/delivery/ck.php?n=ac7bbf34\" target=\"_blank\" rel=\"nofollow\"><img src=\"http://x.oanda.com/delivery/avw.php?zoneid=341%20border=\" alt=\"\"></a>"]
["Foreign Exchange Tools"]
[]
["Historical Exchange Rates"]
["Live Exchange Rates"]
["Mobile Currency Apps"]
["Currency Data"]
["Currency Widgets"]
[]
["Mobile Currency Apps"]
[]
["iPhone Currency App"]
["Android Currency App"]
["Blackberry Currency App"]
["PlayBook Currency App"]
["Windows Phone 7 Currency App"]
[]
["Currency Quick Links"]
[]
["Free Converter Widget"]
["Currency Data Feeds"]
["Big Mac Index"]
["EUR/USD Rates"]
[]
["1996 - 2012 OANDA Corporation. All rights reserved. \"OANDA\", \"fxTrade\" and OANDA's \"fx\" family of trade marks are owned by OANDA Corporation. All other trade marks appearing on this Website are the property of their respective owners. "]
["OANDA Services"]
[]
["Forex Trading"]
["Currency Converter"]
["Rate Subscriptions"]
["Money Transfers"]
["Forex Blog"]
["Currency Hedging"]
["fxUnity"]
[]
["About OANDA"]
[]
["About Us"]
["Our Story"]
["Corporate Blog"]
["Press Room"]
["Jobs"]
[]
["Terms of Use"]
["Privacy Policy"]
["Site Map"]
["Advertise"]
["Contact Us"]
["Feedback"]

{"sheet":"IDR","index":71,"n_rows":124,"n_cols":3,"rows_kept":124,"cut":false,"hidden":true,"merged":[]}
["ENGLISH"]
[]
["DEUTSCH"]
["ESPAяL"]
["FRANǁIS"]
["ITALIANO"]
["PORTUGUʓ"]
["SVENSKA"]
[]
["Rate Subscriptions "]
["Register Sign in "]
[]
["Forex Trading "]
["Currency Converter "]
["Rate Subscriptions "]
["Money Transfers "]
[]
["Currency Converter"]
["Currency Tools"]
["Mobile"]
[]
["Home "]
["|"]
["fxConverter Classic"]
[]
["Help "]
[]
["fxConverter Classic"]
[]
[]
[null,"Sunday, April 1, 2012","Add to your site"]
[]
[null,"1 US Dollar = 9,165.90 Indonesian Rupiah ","Print"]
[]
[null,"1 Indonesian Rupiah (IDR) = 0.0001091 US Dollar (USD)","Info"]
[]
[null,"Interbank rate +/- 0%","FXConverter Mobile [BlackBerry Eddition]"]
[]
[null,"This means:","Traveler's cheatsheet"]
[null,"You buy 1 US Dollar :     9,165.90 Indonesian Rupiah"]
[null,"You sell 1 US Dollar :     9,115.77 Indonesian Rupiah "]
[null,"You buy 1 Indonesian Rupiah :     0.0001097 US Dollar"]
[null,"You sell 1 Indonesian Rupiah :     0.0001091 US Dollar "]
[]
[null,"Median price = 9,115.77 / 9,165.90 (bid/ask)"]
[null,"Minimum price = 9,115.77 / 9,165.90"]
[null,"Maximum price = 9,124.09 / 9,174.31"]
[]
[null,"Rate for previous or next day"]
[null,"Get exchange rates with amount:"]
[]
[null,"Trade with OANDAOpen demo accountSend money with OANDA"]
[]
[]
[]
[null,"Also See..."]
[]
[null,"FXTrade: trade currencies with tight spreads, no minimum deposit and earn continuous interest on your money."]
[null,"FXGlobalTransfer: Send money overseas to 230 countries."]
[null,"FXTradeTicker: A Yahoo! Widget which shows live FX rates and FXTrade/FXGame account status."]
[null,"iPhone Currency Converter: Visit the iPhone store to download OANDA's currency converter."]
[null,"Travel Expense Report Manager (FXPense): Create multi-currency expense reports online and save it in MS Excel."]
[null,"Link to Currency Converter: Find out how to link to OANDA's FXConverter."]
[]
[]
["TRY ALSO..."]
[]
["NEW Currency Converter"]
["Currency Converter Widget"]
["iPhone Converter"]
["BlackBerry Converter"]
["Android Converter"]
["Money Transfers"]
["Exchange Rate Feeds"]
[]
["<a href=\"http://x.oanda.com/delivery/ck.php?n=ac7bbf34\" target=\"_blank\" rel=\"nofollow\"><img src=\"http://x.oanda.com/delivery/avw.php?zoneid=341%20border=\" alt=\"\"></a>"]
["Foreign Exchange Tools"]
[]
["Historical Exchange Rates"]
["Live Exchange Rates"]
["Mobile Currency Apps"]
["Currency Data"]
["Currency Widgets"]
[]
["Mobile Currency Apps"]
[]
["iPhone Currency App"]
["Android Currency App"]
["Blackberry Currency App"]
["PlayBook Currency App"]
["Windows Phone 7 Currency App"]
[]
["Currency Quick Links"]
[]
["Free Converter Widget"]
["Currency Data Feeds"]
["Big Mac Index"]
["EUR/USD Rates"]
[]
["1996 - 2012 OANDA Corporation. All rights reserved. \"OANDA\", \"fxTrade\" and OANDA's \"fx\" family of trade marks are owned by OANDA Corporation. All other trade marks appearing on this Website are the property of their respective owners. "]
["OANDA Services"]
[]
["Forex Trading"]
["Currency Converter"]
["Rate Subscriptions"]
["Money Transfers"]
["Forex Blog"]
["Currency Hedging"]
["fxUnity"]
[]
["About OANDA"]
[]
["About Us"]
["Our Story"]
["Corporate Blog"]
["Press Room"]
["Jobs"]
[]
["Terms of Use"]
["Privacy Policy"]
["Site Map"]
["Advertise"]
["Contact Us"]
["Feedback"]

{"sheet":"LAK","index":72,"n_rows":124,"n_cols":3,"rows_kept":124,"cut":false,"hidden":true,"merged":[]}
["ENGLISH"]
[]
["DEUTSCH"]
["ESPAяL"]
["FRANǁIS"]
["ITALIANO"]
["PORTUGUʓ"]
["SVENSKA"]
[]
["Rate Subscriptions "]
["Register Sign in "]
[]
["Forex Trading "]
["Currency Converter "]
["Rate Subscriptions "]
["Money Transfers "]
[]
["Currency Converter"]
["Currency Tools"]
["Mobile"]
[]
["Home "]
["|"]
["fxConverter Classic"]
[]
["Help "]
[]
["fxConverter Classic"]
[]
[]
[null,"Sunday, April 1, 2012","Add to your site"]
[]
[null,"1 US Dollar = 8,087.45 Lao Kip ","Print"]
[]
[null,"1 Lao Kip (LAK) = 0.0001236 US Dollar (USD)","Info"]
[]
[null,"Interbank rate +/- 0%","FXConverter Mobile [BlackBerry Eddition]"]
[]
[null,"This means:","Traveler's cheatsheet"]
[null,"You buy 1 US Dollar :     8,087.45 Lao Kip"]
[null,"You sell 1 US Dollar :     7,886.50 Lao Kip "]
[null,"You buy 1 Lao Kip :     0.0001268 US Dollar"]
[null,"You sell 1 Lao Kip :     0.0001236 US Dollar "]
[]
[null,"Median price = 7,886.50 / 8,087.45 (bid/ask)"]
[null,"Minimum price = 7,798.10 / 8,028.00"]
[null,"Maximum price = 7,948.00 / 8,172.90"]
[]
[null,"Rate for previous or next day"]
[null,"Get exchange rates with amount:"]
[]
[null,"Trade with OANDAOpen demo accountSend money with OANDA"]
[]
[]
[]
[null,"Also See..."]
[]
[null,"FXTrade: trade currencies with tight spreads, no minimum deposit and earn continuous interest on your money."]
[null,"FXGlobalTransfer: Send money overseas to 230 countries."]
[null,"FXTradeTicker: A Yahoo! Widget which shows live FX rates and FXTrade/FXGame account status."]
[null,"iPhone Currency Converter: Visit the iPhone store to download OANDA's currency converter."]
[null,"Travel Expense Report Manager (FXPense): Create multi-currency expense reports online and save it in MS Excel."]
[null,"Link to Currency Converter: Find out how to link to OANDA's FXConverter."]
[]
[]
["TRY ALSO..."]
[]
["NEW Currency Converter"]
["Currency Converter Widget"]
["iPhone Converter"]
["BlackBerry Converter"]
["Android Converter"]
["Money Transfers"]
["Exchange Rate Feeds"]
[]
["<a href=\"http://x.oanda.com/delivery/ck.php?n=ac7bbf34\" target=\"_blank\" rel=\"nofollow\"><img src=\"http://x.oanda.com/delivery/avw.php?zoneid=341%20border=\" alt=\"\"></a>"]
["Foreign Exchange Tools"]
[]
["Historical Exchange Rates"]
["Live Exchange Rates"]
["Mobile Currency Apps"]
["Currency Data"]
["Currency Widgets"]
[]
["Mobile Currency Apps"]
[]
["iPhone Currency App"]
["Android Currency App"]
["Blackberry Currency App"]
["PlayBook Currency App"]
["Windows Phone 7 Currency App"]
[]
["Currency Quick Links"]
[]
["Free Converter Widget"]
["Currency Data Feeds"]
["Big Mac Index"]
["EUR/USD Rates"]
[]
["1996 - 2012 OANDA Corporation. All rights reserved. \"OANDA\", \"fxTrade\" and OANDA's \"fx\" family of trade marks are owned by OANDA Corporation. All other trade marks appearing on this Website are the property of their respective owners. "]
["OANDA Services"]
[]
["Forex Trading"]
["Currency Converter"]
["Rate Subscriptions"]
["Money Transfers"]
["Forex Blog"]
["Currency Hedging"]
["fxUnity"]
[]
["About OANDA"]
[]
["About Us"]
["Our Story"]
["Corporate Blog"]
["Press Room"]
["Jobs"]
[]
["Terms of Use"]
["Privacy Policy"]
["Site Map"]
["Advertise"]
["Contact Us"]
["Feedback"]

{"sheet":"NOK","index":73,"n_rows":124,"n_cols":3,"rows_kept":124,"cut":false,"hidden":true,"merged":[]}
["ENGLISH"]
[]
["DEUTSCH"]
["ESPAяL"]
["FRANǁIS"]
["ITALIANO"]
["PORTUGUʓ"]
["SVENSKA"]
[]
["Rate Subscriptions "]
["Register Sign in "]
[]
["Forex Trading "]
["Currency Converter "]
["Rate Subscriptions "]
["Money Transfers "]
[]
["Currency Converter"]
["Currency Tools"]
["Mobile"]
[]
["Home "]
["|"]
["fxConverter Classic"]
[]
["Help "]
[]
["fxConverter Classic"]
[]
[]
[null,"Sunday, April 1, 2012","Add to your site"]
[]
[null,"1 US Dollar = 5.70309 Norwegian Kroner ","Print"]
[]
[null,"1 Norwegian Kroner (NOK) = 0.17534 US Dollar (USD)","Info"]
[]
[null,"Interbank rate +/- 0%","FXConverter Mobile [BlackBerry Eddition]"]
[]
[null,"This means:","Traveler's cheatsheet"]
[null,"You buy 1 US Dollar :     5.70309 Norwegian Kroner"]
[null,"You sell 1 US Dollar :     5.68309 Norwegian Kroner "]
[null,"You buy 1 Norwegian Kroner :     0.17596 US Dollar"]
[null,"You sell 1 Norwegian Kroner :     0.17534 US Dollar "]
[]
[null,"Median price = 5.68309 / 5.70309 (bid/ask)"]
[null,"Minimum price = 5.68309 / 5.70309"]
[null,"Maximum price = 5.68309 / 5.70309"]
[]
[null,"Rate for previous or next day"]
[null,"Get exchange rates with amount:"]
[]
[null,"Trade with OANDAOpen demo accountSend money with OANDA"]
[]
[]
[]
[null,"Also See..."]
[]
[null,"FXTrade: trade currencies with tight spreads, no minimum deposit and earn continuous interest on your money."]
[null,"FXGlobalTransfer: Send money overseas to 230 countries."]
[null,"FXTradeTicker: A Yahoo! Widget which shows live FX rates and FXTrade/FXGame account status."]
[null,"iPhone Currency Converter: Visit the iPhone store to download OANDA's currency converter."]
[null,"Travel Expense Report Manager (FXPense): Create multi-currency expense reports online and save it in MS Excel."]
[null,"Link to Currency Converter: Find out how to link to OANDA's FXConverter."]
[]
[]
["TRY ALSO..."]
[]
["NEW Currency Converter"]
["Currency Converter Widget"]
["iPhone Converter"]
["BlackBerry Converter"]
["Android Converter"]
["Money Transfers"]
["Exchange Rate Feeds"]
[]
["<a href=\"http://x.oanda.com/delivery/ck.php?n=ac7bbf34\" target=\"_blank\" rel=\"nofollow\"><img src=\"http://x.oanda.com/delivery/avw.php?zoneid=341%20border=\" alt=\"\"></a>"]
["Foreign Exchange Tools"]
[]
["Historical Exchange Rates"]
["Live Exchange Rates"]
["Mobile Currency Apps"]
["Currency Data"]
["Currency Widgets"]
[]
["Mobile Currency Apps"]
[]
["iPhone Currency App"]
["Android Currency App"]
["Blackberry Currency App"]
["PlayBook Currency App"]
["Windows Phone 7 Currency App"]
[]
["Currency Quick Links"]
[]
["Free Converter Widget"]
["Currency Data Feeds"]
["Big Mac Index"]
["EUR/USD Rates"]
[]
["1996 - 2012 OANDA Corporation. All rights reserved. \"OANDA\", \"fxTrade\" and OANDA's \"fx\" family of trade marks are owned by OANDA Corporation. All other trade marks appearing on this Website are the property of their respective owners. "]
["OANDA Services"]
[]
["Forex Trading"]
["Currency Converter"]
["Rate Subscriptions"]
["Money Transfers"]
["Forex Blog"]
["Currency Hedging"]
["fxUnity"]
[]
["About OANDA"]
[]
["About Us"]
["Our Story"]
["Corporate Blog"]
["Press Room"]
["Jobs"]
[]
["Terms of Use"]
["Privacy Policy"]
["Site Map"]
["Advertise"]
["Contact Us"]
["Feedback"]

{"sheet":"INR","index":74,"n_rows":124,"n_cols":3,"rows_kept":124,"cut":false,"hidden":true,"merged":[]}
["ENGLISH"]
[]
["DEUTSCH"]
["ESPAяL"]
["FRANǁIS"]
["ITALIANO"]
["PORTUGUʓ"]
["SVENSKA"]
[]
["Rate Subscriptions "]
["Register Sign in "]
[]
["Forex Trading "]
["Currency Converter "]
["Rate Subscriptions "]
["Money Transfers "]
[]
["Currency Converter"]
["Currency Tools"]
["Mobile"]
[]
["Home "]
["|"]
["fxConverter Classic"]
[]
["Help "]
[]
["fxConverter Classic"]
[]
[]
[null,"Sunday, April 1, 2012","Add to your site"]
[]
[null,"1 US Dollar = 52.18500 Indian Rupee ","Print"]
[]
[null,"1 Indian Rupee (INR) = 0.01916 US Dollar (USD)","Info"]
[]
[null,"Interbank rate +/- 0%","FXConverter Mobile [BlackBerry Eddition]"]
[]
[null,"This means:","Traveler's cheatsheet"]
[null,"You buy 1 US Dollar :     52.18500 Indian Rupee"]
[null,"You sell 1 US Dollar :     51.18500 Indian Rupee "]
[null,"You buy 1 Indian Rupee :     0.01954 US Dollar"]
[null,"You sell 1 Indian Rupee :     0.01916 US Dollar "]
[]
[null,"Median price = 51.18500 / 52.18500 (bid/ask)"]
[null,"Minimum price = 51.18500 / 52.18500"]
[null,"Maximum price = 51.18500 / 52.18500"]
[]
[null,"Rate for previous or next day"]
[null,"Get exchange rates with amount:"]
[]
[null,"Trade with OANDAOpen demo accountSend money with OANDA"]
[]
[]
[]
[null,"Also See..."]
[]
[null,"FXTrade: trade currencies with tight spreads, no minimum deposit and earn continuous interest on your money."]
[null,"FXGlobalTransfer: Send money overseas to 230 countries."]
[null,"FXTradeTicker: A Yahoo! Widget which shows live FX rates and FXTrade/FXGame account status."]
[null,"iPhone Currency Converter: Visit the iPhone store to download OANDA's currency converter."]
[null,"Travel Expense Report Manager (FXPense): Create multi-currency expense reports online and save it in MS Excel."]
[null,"Link to Currency Converter: Find out how to link to OANDA's FXConverter."]
[]
[]
["TRY ALSO..."]
[]
["NEW Currency Converter"]
["Currency Converter Widget"]
["iPhone Converter"]
["BlackBerry Converter"]
["Android Converter"]
["Money Transfers"]
["Exchange Rate Feeds"]
[]
["<a href=\"http://x.oanda.com/delivery/ck.php?n=ac7bbf34\" target=\"_blank\" rel=\"nofollow\"><img src=\"http://x.oanda.com/delivery/avw.php?zoneid=341%20border=\" alt=\"\"></a>"]
["Foreign Exchange Tools"]
[]
["Historical Exchange Rates"]
["Live Exchange Rates"]
["Mobile Currency Apps"]
["Currency Data"]
["Currency Widgets"]
[]
["Mobile Currency Apps"]
[]
["iPhone Currency App"]
["Android Currency App"]
["Blackberry Currency App"]
["PlayBook Currency App"]
["Windows Phone 7 Currency App"]
[]
["Currency Quick Links"]
[]
["Free Converter Widget"]
["Currency Data Feeds"]
["Big Mac Index"]
["EUR/USD Rates"]
[]
["1996 - 2012 OANDA Corporation. All rights reserved. \"OANDA\", \"fxTrade\" and OANDA's \"fx\" family of trade marks are owned by OANDA Corporation. All other trade marks appearing on this Website are the property of their respective owners. "]
["OANDA Services"]
[]
["Forex Trading"]
["Currency Converter"]
["Rate Subscriptions"]
["Money Transfers"]
["Forex Blog"]
["Currency Hedging"]
["fxUnity"]
[]
["About OANDA"]
[]
["About Us"]
["Our Story"]
["Corporate Blog"]
["Press Room"]
["Jobs"]
[]
["Terms of Use"]
["Privacy Policy"]
["Site Map"]
["Advertise"]
["Contact Us"]
["Feedback"]

{"sheet":"CLP","index":75,"n_rows":124,"n_cols":3,"rows_kept":124,"cut":false,"hidden":true,"merged":[]}
["ENGLISH"]
[]
["DEUTSCH"]
["ESPAяL"]
["FRANǁIS"]
["ITALIANO"]
["PORTUGUʓ"]
["SVENSKA"]
[]
["Rate Subscriptions "]
["Register Sign in "]
[]
["Forex Trading "]
["Currency Converter "]
["Rate Subscriptions "]
["Money Transfers "]
[]
["Currency Converter"]
["Currency Tools"]
["Mobile"]
[]
["Home "]
["|"]
["fxConverter Classic"]
[]
["Help "]
[]
["fxConverter Classic"]
[]
[]
[null,"Sunday, April 1, 2012","Add to your site"]
[]
[null,"1 US Dollar = 486.500 Chilean Peso ","Print"]
[]
[null,"1 Chilean Peso (CLP) = 0.002055 US Dollar (USD)","Info"]
[]
[null,"Interbank rate +/- 0%","FXConverter Mobile [BlackBerry Eddition]"]
[]
[null,"This means:","Traveler's cheatsheet"]
[null,"You buy 1 US Dollar :     486.500 Chilean Peso"]
[null,"You sell 1 US Dollar :     485.000 Chilean Peso "]
[null,"You buy 1 Chilean Peso :     0.002062 US Dollar"]
[null,"You sell 1 Chilean Peso :     0.002055 US Dollar "]
[]
[null,"Median price = 485.000 / 486.500 (bid/ask)"]
[null,"Minimum price = 485.000 / 485.700"]
[null,"Maximum price = 490.000 / 491.500"]
[]
[null,"Rate for previous or next day"]
[null,"Get exchange rates with amount:"]
[]
[null,"Trade with OANDAOpen demo accountSend money with OANDA"]
[]
[]
[]
[null,"Also See..."]
[]
[null,"FXTrade: trade currencies with tight spreads, no minimum deposit and earn continuous interest on your money."]
[null,"FXGlobalTransfer: Send money overseas to 230 countries."]
[null,"FXTradeTicker: A Yahoo! Widget which shows live FX rates and FXTrade/FXGame account status."]
[null,"iPhone Currency Converter: Visit the iPhone store to download OANDA's currency converter."]
[null,"Travel Expense Report Manager (FXPense): Create multi-currency expense reports online and save it in MS Excel."]
[null,"Link to Currency Converter: Find out how to link to OANDA's FXConverter."]
[]
[]
["TRY ALSO..."]
[]
["NEW Currency Converter"]
["Currency Converter Widget"]
["iPhone Converter"]
["BlackBerry Converter"]
["Android Converter"]
["Money Transfers"]
["Exchange Rate Feeds"]
[]
["<a href=\"http://x.oanda.com/delivery/ck.php?n=ac7bbf34\" target=\"_blank\" rel=\"nofollow\"><img src=\"http://x.oanda.com/delivery/avw.php?zoneid=341%20border=\" alt=\"\"></a>"]
["Foreign Exchange Tools"]
[]
["Historical Exchange Rates"]
["Live Exchange Rates"]
["Mobile Currency Apps"]
["Currency Data"]
["Currency Widgets"]
[]
["Mobile Currency Apps"]
[]
["iPhone Currency App"]
["Android Currency App"]
["Blackberry Currency App"]
["PlayBook Currency App"]
["Windows Phone 7 Currency App"]
[]
["Currency Quick Links"]
[]
["Free Converter Widget"]
["Currency Data Feeds"]
["Big Mac Index"]
["EUR/USD Rates"]
[]
["1996 - 2012 OANDA Corporation. All rights reserved. \"OANDA\", \"fxTrade\" and OANDA's \"fx\" family of trade marks are owned by OANDA Corporation. All other trade marks appearing on this Website are the property of their respective owners. "]
["OANDA Services"]
[]
["Forex Trading"]
["Currency Converter"]
["Rate Subscriptions"]
["Money Transfers"]
["Forex Blog"]
["Currency Hedging"]
["fxUnity"]
[]
["About OANDA"]
[]
["About Us"]
["Our Story"]
["Corporate Blog"]
["Press Room"]
["Jobs"]
[]
["Terms of Use"]
["Privacy Policy"]
["Site Map"]
["Advertise"]
["Contact Us"]
["Feedback"]

{"sheet":"BS Rates","index":76,"n_rows":113,"n_cols":34,"rows_kept":113,"cut":false,"hidden":false,"merged":[[7,0,10,0],[107,0,118,0],[11,0,22,0],[23,0,34,0],[35,0,46,0],[47,0,58,0],[59,0,70,0],[71,0,82,0],[83,0,94,0],[95,0,106,0]]}
[null,null,"CAD","CNY","COP","EUR","HKD","JPY","KRW","MOP","MYR","MXN","PHP","SGD","TWD","THB","TRY","VEF","AUD","GBP","BND","DKK","EUR","NZD","SEK","CHF","HUF","CZK","PLN","IDR","LAK","NOK","INR","CLP"]
[null,null,0.99914999999999998,6.3425000000000002,1808.15,0.74977000000000005,7.7674500000000002,82.915000000000006,1133.02,8.1445500000000006,3.0650900000000001,12.82643,43.035620000000002,1.2582199999999999,29.68235,31.295000000000002,1.7845,4.2996999999999996,0.96679999999999999,0.62463999999999997,1.27505,5.5781200000000002,0.74977000000000005,1.2226699999999999,6.6171300000000004,0.90290000000000004,221.00299999999999,18.596920000000001,3.1115200000000001,9165.9,8087.45,5.7030900000000004,52.185000000000002,486.5]
[]
[null,null,"Canadian","China","Colombian","European","HongKong","Japanese","Korean","Macau","Malaysian","Mexico","Philippines","Singapore","Taiwan","Thailand","Turkish","Venezuelan","Australian","British","Brunei ","Danish","Dutch","New Zealand","Swedish","Swiss ","Hungarian","Czech","Polish","Indonesian","Lao","Norway","Indian","Chilean"]
[null,null,"Dollar","RMB","Peso","Euro","Dollar","Yen","Won","Pataca","Ringgit","Peso","Peso","Dollar","Dollar","Baht","New Lira","Bolivar","Dollar","Pound","Dollar","Krona","Guilder","Dollar","Krona","Franc","Forint","Koruna","Zloty","Rupiah","Kip","Krone","Rupee","Peso"]
[null,null,"CAD","CNY","COP","EUR","HKD","JPY","KRW","MOP","MYR","MXN","PHP","SGD","TWD","THB","TRY","VEF","AUD","GBP","BND","DKK","EUR","NZD","SEK","CHF","HUF","CZK","PLN","IDR","LAK","NOK","INR","CLP"]
[null,null,"B/S Rate","B/S Rate","B/S Rate","B/S Rate","B/S Rate","B/S Rate","B/S Rate","B/S Rate","B/S Rate","B/S Rate","B/S Rate","B/S Rate","B/S Rate","B/S Rate","B/S Rate","B/S Rate","B/S Rate","B/S Rate","B/S Rate","B/S Rate","B/S Rate","B/S Rate","B/S Rate","B/S Rate","B/S Rate","B/S Rate","B/S Rate","B/S Rate","B/S Rate","B/S Rate","B/S Rate","B/S Rate"]
[2012,"2012-04-01",0.99914999999999998,6.3425000000000002,1808.15,0.74977000000000005,7.7674500000000002,82.915000000000006,1133.02,8.1445500000000006,3.0650900000000001,12.82643,43.035620000000002,1.2582199999999999,29.68235,31.295000000000002,1.7845,4.2996999999999996,0.96679999999999999,0.62463999999999997,1.27505,5.5781200000000002,0.74977000000000005,1.2226699999999999,6.6171300000000004,0.90290000000000004,221.00299999999999,18.596920000000001,3.1115200000000001,9165.9,8087.45,5.7030900000000004,52.185000000000002,486.5]
[null,"2012-03-01",0.99892999999999998,6.3288599999999997,1777.97,0.75183,7.7647000000000004,82.495729999999995,1139.3399999999999,8.1479199999999992,3.0698400000000001,12.80119,43.108330000000002,1.2588200000000001,29.595490000000002,30.914159999999999,1.7840800000000001,4.3022999999999998,0.96519999999999995,0.62880000000000003,1.2759,5.5919999999999996,0.75183,1.2256100000000001,6.6640800000000002,0.90624000000000005,221.27099999999999,18.602119999999999,3.13219,9182.74,8033.36,5.7463699999999998,52.289479999999998,489.5]
[null,"2012-02-01",0.99680000000000002,6.3045,1779.78,0.74460000000000004,7.7552000000000003,80.482299999999995,1127.27,8.1344999999999992,3.0148999999999999,12.8728,42.967399999999998,1.2535000000000001,29.613600000000002,30.25,1.7611000000000001,4.3013000000000003,0.92920000000000003,0.63100000000000001,1.2756000000000001,5.5358000000000001,0.74460000000000004,1.1922999999999999,6.5762999999999998,0.89739999999999998,216.608,18.590599999999998,3.0935000000000001,9124.09,8049.72,5.5822000000000003,49.470599999999997,478.1]
[null,"2012-01-01",1.0041,6.3038999999999996,1834.44,0.76039999999999996,7.7569999999999997,76.601799999999997,1127.01,8.1127000000000002,3.0546000000000002,12.982699999999999,43.054499999999997,1.2568999999999999,29.861799999999999,31.04,1.7867,4.2996999999999996,0.94510000000000005,0.63719999999999999,1.2719,5.6550000000000002,0.76039999999999996,1.22,6.7717000000000001,0.91669999999999996,224.59800000000001,19.1906,3.2311999999999999,9017.1299999999992,8117.86,5.8315000000000001,50.313899999999997,490.55]
[2011,"2011-12-01",1.0234000000000001,6.3715000000000002,1952.88,0.77390000000000003,7.7736999999999998,77.790800000000004,1157.4100000000001,8.1542999999999992,3.1762999999999999,13.9962,44.006100000000004,1.3018000000000001,30.440799999999999,31.702999999999999,1.9187000000000001,4.3034999999999997,0.99109999999999998,0.64829999999999999,1.3164,5.7538999999999998,0.77390000000000003,1.3009999999999999,6.9192999999999998,0.94330000000000003,240.434,19.9846,3.4150999999999998,9124.09,8091.13,6.0223000000000004,54.669899999999998,521.5]
[null,"2011-11-01",1.0322,6.3773,2004.94,0.74990000000000001,7.7931999999999997,77.952200000000005,1154.2,8.1792999999999996,3.2147999999999999,13.997999999999999,43.803600000000003,1.2986,30.4405,31.210999999999999,1.8557999999999999,4.2996999999999996,1.0033000000000001,0.64280000000000004,1.3218000000000001,5.5778999999999996,0.74990000000000001,1.3186,6.9291999999999998,0.92130000000000001,232.14099999999999,19.238099999999999,3.3978000000000002,9182.74,8238.25,5.8806000000000003,52.262500000000003,524.6]
[null,"2011-10-01",0.99229999999999996,6.3754999999999997,1876.7,0.70709999999999995,7.7656000000000001,75.838999999999999,1104.8499999999999,8.1479999999999997,3.0688,13.027200000000001,42.771799999999999,1.2425999999999999,30.1479,30.704999999999998,1.7470000000000001,4.3032000000000004,0.93489999999999995,0.62029999999999996,1.2601,5.2561,0.70709999999999995,1.2188000000000001,6.3830999999999998,0.8639,214.60300000000001,17.481000000000002,3.0630000000000002,8818.34,8103.23,5.4417999999999997,49.454999999999998,490.25]
[null,"2011-09-01",1.0328999999999999,6.4017999999999997,1938.54,0.73550000000000004,7.7934000000000001,76.63,1177.72,8.1758000000000006,3.1884999999999999,13.545199999999999,43.719000000000001,1.296,30.541499999999999,31.154,1.8533999999999999,4.3028000000000004,1.0213000000000001,0.64,1.3123,5.47,0.73550000000000004,1.2885,6.7925000000000004,0.89729999999999999,215.22,18.093399999999999,3.2528000000000001,8936.5499999999993,8111.63,5.7815000000000003,49.739199999999997,514.4]
[null,"2011-08-01",0.97819999999999996,6.3800999999999997,1795.79,0.69120000000000004,7.7942,76.789299999999997,1074.23,8.1661999999999999,2.9851000000000001,12.484,42.604799999999997,1.2061999999999999,29.199200000000001,30.168199999999999,1.7350000000000001,4.3028000000000004,0.93759999999999999,0.61170000000000002,1.2248000000000001,5.1508000000000003,0.69120000000000004,1.1754,6.3357999999999999,0.81830000000000003,188.34700000000001,16.664100000000001,2.8715000000000002,8576.33,8076.59,5.3632,46.117600000000003,467]
[null,"2011-07-01",0.94910000000000005,6.4398999999999997,1782.19,0.69769999999999999,7.7926000000000002,77.829599999999999,1053.6300000000001,8.1798999999999999,2.9495,11.6717,42.227699999999999,1.2032,28.78,29.895600000000002,1.6841999999999999,4.3032000000000004,0.90680000000000005,0.61229999999999996,1.2224999999999999,5.1992000000000003,0.69769999999999999,1.1472,6.3476999999999997,0.80189999999999995,187.49700000000001,16.9177,2.8041,8510.64,8116.54,5.4086999999999996,44.359900000000003,457.57]
[null,"2011-06-01",0.9768,6.4640000000000004,1783,0.69489999999999996,7.7835000000000001,80.989999999999995,1078.8699999999999,8.1568000000000005,3.0432999999999999,11.8041,43.540599999999998,1.2363,28.92,30.888200000000001,1.6234999999999999,4.2960000000000003,0.94379999999999997,0.62429999999999997,1.2338,5.1843000000000004,0.69489999999999996,1.2236,6.3373999999999997,0.83309999999999995,183.62,16.815999999999999,2.7627000000000002,8620,8079.05,5.4135999999999997,45.417200000000001,470]
[null,"2011-05-01",0.97689999999999999,6.4965000000000002,1854.25,0.70020000000000004,7.7801,80.863399999999999,1081.9000000000001,8.1289999999999996,3.0238999999999998,11.6188,43.459499999999998,1.2347999999999999,28.824999999999999,30.450900000000001,1.6054999999999999,4.2996999999999996,0.93530000000000002,0.60709999999999997,1.2502,5.2213000000000003,0.70020000000000004,1.2229000000000001,6.2309999999999999,0.85160000000000002,187.911,17.196999999999999,2.7841,8628.1299999999992,8178.7,5.4367999999999999,45.296399999999998,467]
[null,"2011-04-01",0.94930000000000003,6.5130999999999997,1783.64,0.67469999999999997,7.7697000000000003,81.739999999999995,1071.47,8.1214999999999993,2.9575,11.5418,43.191099999999999,1.2282,28.824200000000001,29.697700000000001,1.5197000000000001,4.3036000000000003,0.91700000000000004,0.6,1.2454000000000001,5.0317999999999996,0.67390000000000005,1.2454000000000001,6.0316999999999998,0.87280000000000002,178.43600000000001,16.2803,2.6564000000000001,8583.69,8095.26,5.2675000000000001,44.7866,462.5]
[null,"2011-03-01",0.97250000000000003,6.5701000000000001,1894.6,0.70930000000000004,7.7887000000000004,82.869900000000001,1105.83,8.1722000000000001,3.0285000000000002,11.946300000000001,43.461599999999997,1.2623,29.482099999999999,30.434799999999999,1.5562,4.3056000000000001,0.97,0.62380000000000002,1.2810999999999999,5.2907000000000002,0.70930000000000004,1.3167,6.343,0.92169999999999996,189.83699999999999,17.434799999999999,2.8388,8748.91,8117.87,5.5941000000000001,45.397799999999997,484.21600000000001]
[null,"2011-02-01",0.97819999999999996,6.5838999999999999,1916.19,0.72740000000000005,7.7949000000000002,81.7333,1127.6500000000001,8.1682000000000006,3.0541999999999998,12.142200000000001,43.814900000000002,1.2735000000000001,29.815000000000001,30.756900000000002,1.599,4.3036000000000003,0.98329999999999995,0.62070000000000003,1.2916000000000001,5.4221000000000004,0.72740000000000005,1.3313999999999999,6.4275000000000002,0.92889999999999995,198.82,17.814800000000002,2.8963999999999999,8849.56,8148.06,5.6483999999999996,46.064999999999998,475]
[null,"2011-01-11",1.0017,6.5833000000000004,1860.9,0.73509999999999998,7.7914000000000003,82.157399999999996,1116.07,8.2344000000000008,3.0558999999999998,12.223699999999999,44.13,1.2854000000000001,29.094999999999999,31.2834,1.6185,4.2960000000000003,1.0067999999999999,0.63100000000000001,1.2825,5.4756999999999998,0.73509999999999998,1.2939000000000001,6.5342000000000002,0.94259999999999999,201.08,17.8538,2.8988999999999998,9140.77,8108,5.8301999999999996,46.79]
[2010,{"$f":"B25+30","v":"2010-12-07"},1.0002,6.6117999999999997,2004.1,0.75460000000000005,7.7831999999999999,81.553299999999993,1133.79,8.1644000000000005,3.0851000000000002,12.3895,43.898000000000003,1.2912999999999999,29.4,30.296299999999999,1.5551999999999999,4.2998000000000003,0.98409999999999997,0.64649999999999996,1.3092999999999999,5.6210000000000004,0.75460000000000005,1.3008999999999999,6.7835000000000001,0.94079999999999997,211.08699999999999,19.0532,2.9933000000000001,9107.4699999999993,8128.64,5.9016000000000002,45.55]
[null,"2010-11-07",1.0205,6.6714000000000002,1914.5,0.7581,7.7643000000000004,84.155699999999996,1160.0899999999999,8.1430000000000007,3.1543999999999999,12.504899999999999,44.383499999999998,1.3193999999999999,30.532699999999998,30.3614,1.4991000000000001,4.3010999999999999,1.0379,0.64170000000000005,1.3391999999999999,5.6634000000000002,0.7581,1.3368,7.0034000000000001,1.0017,214.369,18.8689,3.0886999999999998,9124.09,8193.7900000000009,6.1726000000000001,46.162799999999997]
[null,"2010-10-08",1.0241,6.6970000000000001,1845.54,0.7208,7.7576000000000001,81.224999999999994,1125.6199999999999,8.1373999999999995,3.1114000000000002,12.412599999999999,43.1751,1.2982,30.69,30.113499999999998,1.4346000000000001,4.2990000000000004,1.0169999999999999,0.62990000000000002,1.3169999999999999,5.3766999999999996,0.7208,1.331,6.7332999999999998,0.9829,196.45599999999999,17.784400000000002,2.8628,8896.7999999999993,8093.65,5.8848000000000003]
[null,"2010-09-08",1.0294000000000001,6.6981000000000002,1814.77,0.73480000000000001,7.7582000000000004,83.673599999999993,1142.5999999999999,8.1335999999999995,3.0886999999999998,12.488099999999999,43.990099999999998,1.3167,31.38,30.5578,1.4577,4.3,1.0310999999999999,0.63270000000000004,1.3352999999999999,5.4757999999999996,0.73480000000000001,1.3548,6.7351000000000001,0.97629999999999995,203.57900000000001,18.091799999999999,2.9214000000000002,9090.91,8217.4699999999993,5.8529999999999998]
[null,"2010-08-09",1.03939,6.8129999999999997,1856.4,0.78739999999999999,7.7797000000000001,84.845799999999997,1194.74,8.1662999999999997,3.1454,13.0686,45.302300000000002,1.3547,32.06,31.446400000000001,1.5214000000000001,4.2996999999999996,1.1160000000000001,0.64470000000000005,1.3747,5.8636999999999997,0.78739999999999999,1.41,7.3951000000000002,1.0275000000000001,224.02699999999999,19.549399999999999,3.1362000000000001,9020,8385]
[null,"2010-07-10",1.0345,6.7869999999999999,1855.43,0.76549999999999996,7.7667999999999999,87.051000000000002,1186.94,8.1562999999999999,3.1928999999999998,12.6953,45.937199999999997,1.3635999999999999,31.274999999999999,32.407400000000003,1.5123,4.3030999999999997,1.1100000000000001,0.64019999999999999,1.38,5.7039999999999997,0.76549999999999996,1.3792,7.2521000000000004,1.0407999999999999,218.47,18.972100000000001,3.0659000000000001,8984.73,8316.73]
[null,"2010-06-10",1.0484,6.8086000000000002,1918.45,0.81930000000000003,7.7847,88.661500000000004,1217.73,8.1844000000000001,3.2521,12.8355,46.517400000000002,1.3987000000000001,32.064999999999998,32.586399999999998,1.5842000000000001,4.2984999999999998,1.1677999999999999,0.66369999999999996,1.4212,6.1021999999999998,0.81930000000000003,1.4369000000000001,7.8064,1.0851999999999999,235.369,21.134,3.4076,9165.9]
[null,"2010-05-10",1.0550999999999999,6.8403,1975,0.81310000000000004,7.7880000000000003,90.566100000000006,1231.07,8.2291000000000007,3.3069000000000002,12.918900000000001,46.672199999999997,1.4039999999999999,32.049999999999997,32.684899999999999,1.5671999999999999,4.2996999999999996,1.181,0.68899999999999995,1.4283999999999999,6.0496999999999996,0.81310000000000004,1.4803999999999999,7.8940999999999999,1.1597,224.83,20.853899999999999,3.33,9285.0499999999993]
[null,"2010-04-10",1.006,6.8357999999999999,1983.69,0.75549999999999995,7.766,94.061499999999995,1115.57,8.1506000000000007,3.1978,12.2783,44.7498,1.3701000000000001,31.36,32.444000000000003,1.4882,4.3002000000000002,1.0789,0.65559999999999996,1.3876999999999999,5.6231,0.75549999999999995,1.3863000000000001,7.2728000000000002,1.0835999999999999,202.32,19.2834,2.9575,9025.27]
[null,"2010-03-10",1.0192000000000001,6.8361000000000001,1951.75,0.74329999999999996,7.8,92.697400000000002,1132.1199999999999,8.1417999999999999,3.2704,12.414999999999999,45.407200000000003,1.3992,31.8001,32.526800000000001,1.5301,4.2996999999999996,1.0879000000000001,0.66369999999999996,1.4161999999999999,5.5339,0.74329999999999996,1.4073,7.2613000000000003,1.0642,197.959,18.924099999999999,2.8813]
[null,"2010-02-07",1.0604,6.8369,1969.42,0.74080000000000001,7.8,89.250699999999995,1164.82,8.1460000000000008,3.4073000000000002,12.841900000000001,46.415999999999997,1.411,32.1,33.226100000000002,1.5531999999999999,4.2971000000000004,1.1173999999999999,0.65649999999999997,null,null,null,null,null,1.0739000000000001,197.35]
[null,"2010-01-08",1.0618000000000001,6.8369,2042.32,0.71419999999999995,7.8,90.136499999999998,1154.2,8.1502999999999997,3.4165000000000001,12.965299999999999,46.599899999999998,1.4036999999999999,31.998999999999999,33.298299999999998,1.496,4.2996999999999996,1.1322000000000001,0.62570000000000003,null,null,null,null,null,1.0612999999999999,195.88499999999999]
[2009,"2009-12-09",1.0494000000000001,6.8372000000000002,2064.63,0.69769999999999999,7.8,92.240099999999998,1165.77,8.1439000000000004,3.4291999999999998,13.0388,46.424100000000003,1.4054,32.238,33.516800000000003,1.5129999999999999,2.1516999999999999,1.1198999999999999,0.62790000000000001,null,null,null,null,null,1.038,190.21100000000001]
[null,"2009-11-08",1.0620000000000001,6.8285,2007,0.6673,7.8,86.656300000000002,1182.5899999999999,8.0860000000000003,3.4298999999999999,12.9619,47.330599999999997,1.3885000000000001,32.341999999999999,33.212000000000003,1.5207999999999999,2.1495000000000002,1.103,0.60589999999999999,null,null,null,null,null,1.0058,182.55]
[null,"2009-10-09",1.0757000000000001,6.8395000000000001,2021.17,0.67759999999999998,7.8,90.870900000000006,1193.46,8.1140000000000008,3.4278,13.238099999999999,47.819800000000001,1.4009,32.58,33.432000000000002,1.4990000000000001,2.1522999999999999,1.0981000000000001,0.60519999999999996,null,null,null,null,null,1.0207999999999999,185.30500000000001]
[null,"2009-09-08",1.0861000000000001,6.8376000000000001,1938.52,0.68540000000000001,7.8,89.977999999999994,1190.6199999999999,8.1228999999999996,3.4870000000000001,13.5573,47.696599999999997,1.4184000000000001,32.427700000000002,33.549999999999997,1.4917,2.1522000000000001,1.1458999999999999,0.62819999999999998,null,null,null,null,null,1.0356000000000001,185.279]
[null,"2009-08-08",1.0920000000000001,6.8411999999999997,2077.9,0.69940000000000002,7.8,93.128500000000003,1267.1099999999999,8.1219000000000001,3.5865999999999998,13.2677,49.702800000000003,1.4423999999999999,32.975000000000001,34.012999999999998,1.4943900000000001,2.1522999999999999,1.1897,0.61480000000000001,null,null,null,null,null,1.0602,190.203]
[null,"2009-07-09",1.0865,6.8426,2073.67,0.71130000000000004,7.8,95.254199999999997,1235.18,8.1265000000000001,3.5341999999999998,13.2577,48.206200000000003,1.4448000000000001,32.862900000000003,34.04,1.4837,2.1520999999999999,1.2165999999999999,0.60799999999999998,null,null,null,null,null,1.0879000000000001,190.78100000000001]
[null,"2009-06-09",1.1559999999999999,6.8448000000000002,2179.31,0.71189999999999998,7.8,95.549800000000005,1284.69,8.1229999999999993,3.5400999999999998,13.2316,48.369399999999999,1.4542999999999999,32.972200000000001,34.024000000000001,1.5405,2.1516000000000002,1.2430000000000001,0.60550000000000004,null,null,null,null,null,1.0855999999999999,196.75399999999999]
[null,"2009-05-08",1.1191,6.8383000000000003,2245.6999999999998,0.72070000000000001,7.8,96.472999999999999,1263.9000000000001,8.1329999999999991,3.5192000000000001,13.2675,47.502899999999997,1.4544999999999999,32.681699999999999,34.378999999999998,1.5805,2.1518000000000002,1.2493000000000001,0.6179,null,null,null,null,null,1.0674999999999999,201.44300000000001]
[null,"2009-04-08",1.21,6.8151999999999999,2290.33,0.75670000000000004,7.8,96.858500000000006,1337.98,7.8117999999999999,3.5884,13.7417,48.451000000000001,1.4903,33.5931,35.298000000000002,1.5994999999999999,2.1423000000000001,1.3966000000000001,0.67959999999999998,null,null,null,null,null,1.1394,219.50800000000001]
[null,"2009-03-08",1.2488999999999999,6.8255999999999997,2482.6,0.7571,7.8,97.266099999999994,1390.05,7.8388999999999998,3.6450999999999998,14.3954,48.304699999999997,1.5202,33.976100000000002,35.523000000000003,1.6968000000000001,2.1429999999999998,1.4637,0.70379999999999998,null,null,null,null,null,1.149,234.881]
[null,"2009-02-08",1.2514000000000001,6.8274999999999997,2549.08,0.78459999999999996,7.8,97.937299999999993,1512.4,7.8426999999999998,3.6688000000000001,14.9321,48.142200000000003,1.5341,34.780299999999997,36.045999999999999,1.6880999999999999,2.1429999999999998,1.5553999999999999,0.70140000000000002,null,null,null,null,null,1.1684000000000001,236.52500000000001]
[null,"2009-01-08",1.2175,6.8296999999999999,2302.84,0.7641,7.8,90.006200000000007,1377.03,7.8708,3.6002000000000001,14.066599999999999,46.488900000000001,1.5041,33.6282,34.926000000000002,1.6229,2.1423999999999999,1.5558000000000001,0.69920000000000004,null,null,null,null,null,1.1571,230.941]
[2008,"2008-12-04",1.222,6.8173000000000004,2205.16,0.70940000000000003,7.8,90.358199999999997,1258.6500000000001,7.8996000000000004,3.4765000000000001,13.7804,47.2483,1.4419,32.7864,34.926000000000002,1.52,2.1404999999999998,1.4487000000000001,0.69099999999999995,null,null,null,null,null,1.0561,189.38200000000001]
[null,"2008-11-05",1.2347999999999999,6.8156999999999996,2289.9699999999998,0.77449999999999997,7.8,96.245400000000004,1502.63,7.8308999999999997,3.6093000000000002,13.5023,49.332900000000002,1.5129999999999999,33.328499999999998,35.222999999999999,1.5733999999999999,2.1431,1.5290999999999999,0.65069999999999995,null,null,null,null,null,1.2138,204.61]
[null,"2008-10-06",1.2082999999999999,6.8253000000000004,2330.8200000000002,0.76600000000000001,7.8,98.191599999999994,1267.75,7.7477,3.5221,12.896000000000001,48.423900000000003,1.4718,32.750599999999999,34.985999999999997,1.5139,2.1414,1.4766999999999999,0.60709999999999997,null,null,null,null,null,1.1321000000000001,198.36199999999999]
[null,"2008-09-07",1.0378000000000001,6.8350999999999997,2134.36,0.69210000000000005,7.8,105.86499999999999,1180.92,7.9151999999999996,3.4354,10.866400000000001,46.735900000000001,1.4300999999999999,32.140500000000003,34.024000000000001,1.2572000000000001,2.1429999999999998,1.2185999999999999,0.5504,null,null,null,null,null,1.0971,168.435]
[null,"2008-08-08",1.0468,6.8207000000000004,1875.92,0.67789999999999995,7.8,109.31399999999999,1080.03,7.9173999999999998,3.3788,10.164300000000001,45.4664,1.4153,31.488900000000001,34.17,1.1859999999999999,2.1425000000000001,1.1661999999999999,0.54930000000000001,null,null,null,null,null,1.1019000000000001,162.5]
[null,"2008-07-08",1.0235000000000001,6.82,1779.25,0.64170000000000005,7.8,108.03700000000001,1009.9,7.9435000000000002,3.2591999999999999,10.048299999999999,44.025599999999997,1.3680000000000001,30.532499999999999,33.534999999999997,1.1808000000000001,2.1431,1.0555000000000001,0.505,null,null,null,null,null,1.0468,148.42099999999999]
[null,"2008-06-08",1.0101,6.8517999999999999,1839.9,0.63300000000000001,7.8,106.069,1039.0999999999999,7.9192999999999998,3.2538,10.311,44.670999999999999,1.3625,30.4054,33.524000000000001,1.2219,2.1423000000000001,1.0410999999999999,0.50139999999999996,null,null,null,null,null,1.0189999999999999,150.75]
[null,"2008-05-08",0.9889,6.9286000000000003,1737.59,0.64159999999999995,7.8,105.087,1031.1400000000001,7.9040999999999997,3.2484000000000002,10.335699999999999,43.789499999999997,1.3655999999999999,30.472799999999999,32.572600000000001,1.2163999999999999,2.1423000000000001,1.0468999999999999,0.50609999999999999,null,null,null,null,null,1.0469999999999999,155.364]
[null,"2008-04-08",1.0130999999999999,6.9756999999999998,1760.45,0.64070000000000005,7.8,104.035,1000.6,7.9017999999999997,3.1528,10.4962,42.029699999999998,1.3605,30.413,31.712605263157901,1.2857000000000001,2.1423999999999999,1.0697000000000001,0.50460000000000005,null,null,null,null,null,1.0358000000000001,162.505]
[null,"2008-03-08",1.02,7,1783.7,0.63,7.8,99.19,991.05,7.92,3.19,10.714499999999999,41.78,1.38,30.41,31.62,null,2.14,1.0908,0.50149999999999995,null,null,null,null,null,0.99550000000000005,164.26300000000001]
[null,"2008-02-08",0.98,7.1,1828.78,0.66,7.8,106.17,932.97,7.89,3.2,10.6965,40.25,1.4,30.88,32.020000000000003,null,2.14,1.0606,0.504,null,null,null,null,null,1.0605,171.571]
[null,"2008-01-08",1,7.2,1982,0.68,7.8,106.98,940.69,8.18,3.24,10.8483,40.61,1.42,32.26,33.03,null,2.15,1.1254,0.50260000000000005,null,null,null,null,null,1.0923,174.65600000000001]
[2007,"2007-12-07",0.98,7.29,1976.2,0.68,7.8,112.25,934.49,7.89,3.31,10.923500000000001,41.11,1.45,32.5,33.75,null,2.1457999999999999,1.1418999999999999,0.50090000000000001,null,null,null,null,null,1.1267,172.91800000000001]
[null,"2007-11-08",0.99,7.37,2045.51,0.68,7.8,109.96,929.35,7.87,3.37,null,42.66,1.45,32.299999999999997,33.85,null,{"$f":"2145.39/1000","v":2.1453899999999999}]
[null,"2007-10-10",0.95,7.46,1976.88,0.69,7.8,114.65,908.27,7.85,3.34,null,43.71,1.45,32.409999999999997,34,null,{"$f":"2145.47/1000","v":2.14547}]
[null,"2007-09-11",1.06,7.5,1994.44,0.71,7.8,115.53,918.46,7.89,3.42,null,44.92,1.49,32.799999999999997,34.270000000000003,null,{"$f":"2145.71/1000","v":2.1457100000000002}]
[null,"2007-08-13",1.06,7.54,2148.31,0.73,7.8,115.72,939.76,7.89,3.5,null,46.67,1.52,33.049999999999997,34.33,null,{"$f":"2145.33/1000","v":2.14533}]
[null,"2007-07-15",1.07,7.56,1956,0.73,7.8,118.49,922,7.91,3.45,null,45.38,1.51,32.799999999999997,33.81,null,{"$f":"2145.69/1000","v":2.1456900000000001}]
[null,"2007-06-16",1.07,7.61,1950.63,0.74,7.82,122.99,925.84,7.86,3.47,null,46.24,1.54,32.83,31.49,null,{"$f":"2145.41/1000","v":2.14541}]
[null,"2007-05-18",1.07,7.65,1917.87,0.74,7.8,121.57,929.71,7.75,3.4,null,46.2,1.53,33.020000000000003,32.58,null,{"$f":"2144.6/1000","v":2.1446000000000001}]
[null,"2007-04-19",1.1200000000000001,7.65,2018.3,0.73,7.8,119.57,927.64,7.75,3.42,null,47.26,1.52,33.25,32.549999999999997,null,2.1446000000000001]
[null,"2007-03-21",1.1599999999999999,8.0399999999999991,2140.17,0.75,7.8,117.36,928.51,8,3.45,null,48.04,1.52,33.07,31.95,null,2.1446000000000001]
[null,"2007-02-20",1.1599999999999999,8.0399999999999991,2136.56,0.76,7.8,119.76,930.58,8,3.49,null,48.21,1.53,33,33.869999999999997,null,2.1446000000000001]
[null,"2007-01-22",1.18,8.0399999999999991,2225.4699999999998,0.77,7.8,121.75,930.58,8,3.5,null,48.87,1.54,32.99,34.18,null,2.1446000000000001]
[2006,"2006-12-06",1.1599999999999999,8.0399999999999991,2152.84,0.76,7.8,118.79,917.01,8,3.53,null,48.98,1.54,32.659999999999997,35.47,null,2.1446000000000001]
[null,"2006-11-06",1.1299999999999999,8.0399999999999991,2328.8200000000002,0.76,7.8,116.07,944.2,8,3.64,null,49.85,1.55,32.53,36.15,null,2.1446000000000001]
[null,"2006-10-06",1.1200000000000001,8.0399999999999991,2415.42,0.79,7.8,117.45,957.12,8,3.65,null,49.96,1.56,33.25,36.79,null,2.1446000000000001]
[null,"2006-09-06",1.1100000000000001,8.0399999999999991,2450.25,0.79,7.8,117.63,957.49,8,3.69,null,50.35,1.59,33,37.57,null,2.1446000000000001]
[null,"2006-08-06",1.1100000000000001,8.0399999999999991,2461.2600000000002,0.78,7.8,116.94,977.14,8,3.68,null,51.09,1.57,32.92,37.590000000000003,null,2.1446000000000001]
[null,"2006-07-06",1.1299999999999999,8.0399999999999991,2533.8000000000002,0.78,7.8,114.66,962.93,8,3.67,null,51.67,1.58,32.83,37.909999999999997,null,2.1446000000000001]
[null,"2006-06-06",1.1200000000000001,8.0399999999999991,2746.6,0.8,7.8,116.32,970.69,8,3.68,null,53.7,1.6,32.619999999999997,38.47,null,2.1446000000000001]
[null,"2006-05-06",1.1000000000000001,8.0399999999999991,2546.5,0.78,7.8,112.17,955.84,8,3.62,null,52.65,1.58,32.090000000000003,38.22,null,2.1446000000000001]
[null,"2006-04-06",1.1200000000000001,8.0399999999999991,2425.84,0.8,7.8,114.16,950.57,8,3.63,null,51.85,1.58,31.92,37.53,null,2.1446000000000001]
[null,"2006-03-06",1.17,8.0399999999999991,2338.59,0.83,7.8,117.59,985.51,8,3.69,null,51.35,1.62,32.57,38.89,null,2.1446000000000001]
[null,"2006-02-06",1.1499999999999999,8.0399999999999991,2247.21,0.84,7.8,116.31,982.32,8,3.73,null,51.98,1.62,32.49,39.340000000000003,null,2.1446000000000001]
[null,"2006-01-06",1.1499999999999999,8.0399999999999991,2268.2600000000002,0.83,7.8,117.45,984.45,7.8,3.75,null,52.33,1.63,32.03,39.15,null,2.1446000000000001]
[2005,"2005-12-05",1.17,null,2286.3000000000002,0.84,7.8,117.36,1020.72,7.8,3.79,null,53.1,1.67,32.950000000000003,41.04,null,2.1446000000000001]
[null,"2005-11-05",1.17,null,2274.6999999999998,0.85,7.8,119.72,1051.19,7.8,3.78,null,53.98,1.7,33.57,41.31,null,2.1446000000000001]
[null,"2005-10-05",1.18,null,2292,0.83,7.8,115.68,1044.5,7.8,3.78,null,55.03,1.7,33.64,40.85,null,2.1446000000000001]
[null,"2005-09-05",1.17,null,2292,0.83,7.8,113.01,1051.3,8.34,3.77,null,56.15,1.69,33.270000000000003,41.08,null,2.1446000000000001]
[null,"2005-08-05",1.19,null,2306.1999999999998,0.82,7.8,111.3,1032.8,8.32,3.77,null,56.26,1.68,32.700000000000003,41.17,null,2.1446000000000001]
[null,"2005-07-05",1.22,null,2310,0.82,7.77,112.48,1023.5,8.33,3.75,null,56.23,1.66,31.95,41.68,null,2.1446000000000001]
[null,"2005-06-05",1.23,null,2322.1999999999998,0.82,7.78,109.32,1008.9,8.01,3.8,null,55.71,1.68,31.32,41.08,null,2.1446000000000001]
[null,"2005-05-05",1.27,null,2340,0.8,7.79,108.12,1008,8.01,3.8,null,54.56,1.66,31.45,40,null,2.1446000000000001]
[null,"2005-04-05",1.24,null,2341.6999999999998,0.76,7.8,106.7,1005,8.01,3.8,null,54.3,1.65,31.38,39.36,null,2.1446000000000001]
[null,"2005-03-05",1.2,null,2368.5,0.75,7.8,104.71,1004,8.01,3.8,null,54.2,1.62,31.13,38.51,null,2.1446000000000001]
[null,"2005-02-05",1.23,null,2317.6999999999998,0.77,7.8,105.65,1024,8.01,3.8,null,54.57,1.64,31.46,38.549999999999997,null,1.9152]
[null,"2005-01-05",1.23,null,2372.5,0.77,7.8,102.76,1033.0999999999999,8.01,3.8,null,55.35,1.64,31.6,38.520000000000003,null,1.9152]
[2004,"2004-12-04",1.2,null,2355,0.73,7.78,103.1,1047.5,8.23,3.8,null,56.21,1.64,31.84,39.03,null,1.9152]
[null,"2004-11-04",1.19,null,2475.1,0.75,7.8,102.59,1048,8.01,3.8,null,56.18,1.64,32.200000000000003,39.39,null,1.9152]
[null,"2004-10-04",1.22,null,2564,0.78,7.78,105.93,1119,7.8,3.8,null,56.32,1.66,33.44,40.99,null,1.9152]
[null,"2004-09-04",1.27,null,2595,0.81,7.8,110.58,1151.8,7.8,3.8,null,56.2,1.69,33.78,41.42,null,1.9152]
[null,"2004-08-04",1.32,null,2541,0.83,7.8,109.86,1151.7,7.8,3.8,null,56.1,1.71,33.85,41.6,null,1.9152]
[null,"2004-07-04",1.32,null,2608.1,0.83,7.8,111.31,1170,7.8,3.8,null,55.9,1.72,33.94,41.32,null,1.9152]
[null,"2004-06-04",1.34,null,2698,0.82,7.8,108.82,1155,7.8,3.8,null,56.08,1.72,33.6,40.89,null,1.9152]
[null,"2004-05-04",1.36,null,2723.2,0.82,7.8,110.19,1164,7.8,3.8,null,55.86,1.7,33.28,40.54,null,1.9152]
[null,"2004-04-04",1.37,null,2648,0.84,7.8,110,1173,7.8,3.8,null,56.05,1.7,33.22,40,null,1.9152]
[null,"2004-03-04",1.31,null,2677.5,0.82,7.8,104,1146,7.8,3.8,null,56.1,1.67,32.9,39,null,1.9152]
[null,"2004-02-04",1.35,null,2683.55,0.81,7.8,109,1175,7.8,3.8,null,56.25,1.7,33.200000000000003,39,null,1.9152]
[null,"2004-01-04",1.33,null,2748.9,0.81,7.8,106,1173,7.8,3.8,null,55.87,1.7,33.33,39,null,1.5960000000000001]
[2003,"2003-12-04",1.28,null,null,0.79,7.8,107,1193,7.8,3.8,null,55.5,1.7,33.9,40]
[null,"2003-11-04",1.31,null,null,0.85,7.8,110,1202,7.8,3.8,null,55.53,1.72,34.1,40]
[null,"2003-10-04",1.32,null,null,0.86,7.8,109,1183,7.8,3.8,null,55.31,1.74,33.94,40]
[null,"2003-09-04",1.35,null,null,0.86,7.8,110,1150,7.8,3.8,null,54.8,1.73,33.68,40]
[null,"2003-08-04",1.4,null,null,0.91,7.8,116,1178,7.8,3.8,null,54.85,1.75,33.15,41]
[null,"2003-07-04",1.4,null,null,0.88,7.8,120,1180,7.8,3.8,null,54.62,1.76,34.31,42]

{"sheet":"IS Rates","index":77,"n_rows":119,"n_cols":34,"rows_kept":119,"cut":false,"hidden":false,"merged":[[47,0,58,0],[11,0,22,0],[23,0,34,0],[35,0,46,0],[7,0,10,0],[107,0,118,0],[59,0,70,0],[71,0,82,0],[83,0,94,0],[95,0,106,0]]}
[]
[]
[]
[null,null,"Canadian","China","Colombian","European","HongKong","Japanese","Korean","Macau","Malaysian","Mexico","Philippines","Singapore","Taiwan","Thailand","Turkish","Venezuelan","Australian","British","Brunei ","Danish","Dutch","New Zealand","Swedish","Swiss ","Hungarian","Czech","Polish","Indonesian","Lao","Norway","Indian ","Chilean"]
[null,null,"Dollar","RMB","Peso","Euro","Dollar","Yen","Won","Pataca","Ringgit","Peso","Peso","Dollar","Dollar","Baht","New Lira","Bolivar","Dollar","Pound","Dollar","Krona","Guilder","Dollar","Krona","Franc","Forint","Koruna","Zloty","Rupiah","Kip","Krone","Rupee","Peso"]
[null,null,"CAD","CNY","COP","EUR","HKD","JPY","KRW","MOP","MYR","MXN","PHP","SGD","TWD","THB","TRY","VEF","AUD","GBP","BND","DKK","EUR","NZD","SEK","CHF","HUF","CZK","PLN","IDR","LAK","NOK","INR","CLP"]
[null,null,"I/S Rate","I/S Rate","I/S Rate","I/S Rate","I/S Rate","I/S Rate","I/S Rate","I/S Rate","I/S Rate","I/S Rate","I/S Rate","I/S Rate","I/S Rate","I/S Rate","I/S Rate","I/S Rate","I/S Rate","I/S Rate","I/S Rate","I/S Rate","I/S Rate","I/S Rate","I/S Rate","I/S Rate","I/S Rate","I/S Rate","I/S Rate","I/S Rate","I/S Rate","I/S Rate","I/S Rate","I/S Rate"]
[2012,"2012-04-01",0.99594000000000005,6.3297100000000004,1790.1522199999999,0.75719999999999998,7.7660400000000003,82.332229999999996,1130.43,8.1480899999999998,3.0630299999999999,12.862439999999999,42.873980000000003,1.25804,29.552869999999999,31.167459999999998,1.7890999999999999,4.3017700000000003,0.96816000000000002,0.62773000000000001,1.2746,5.6341799999999997,0.75719999999999998,1.2217100000000001,6.6804199999999998,0.91088000000000002,223.76167000000001,18.720469999999999,3.14473,9168.6788899999992,8067.6622200000002,5.74214,52.090089999999996,485.01110999999997]
[null,"2012-03-01",0.99331000000000003,6.3281900000000002,1775.2216100000001,0.75695000000000001,7.7625099999999998,82.439750000000004,1128.29645,8.1403599999999994,3.0481699999999998,12.745850000000001,42.986179999999997,1.2581199999999999,29.572669999999999,30.852889999999999,1.78904,4.30185,0.94733000000000001,0.63207999999999998,1.2760499999999999,5.6285699999999999,0.75695000000000001,1.2173799999999999,6.7290900000000002,0.91300999999999999,221.11348000000001,18.6858,3.1315499999999998,9172.8829000000005,8074.6538700000001,5.7006300000000003,51.129739999999998,486.29354999999998]
[null,"2012-02-01",0.99802000000000002,6.3059700000000003,1801.73552,0.75649,7.7552399999999997,78.40558,1124.14552,8.1404899999999998,3.02752,12.801539999999999,42.742420000000003,1.25461,29.6069,30.869375999999999,1.76075,4.3017099999999999,0.93323999999999996,0.63304000000000005,1.27376,5.6238799999999998,0.75649,1.20025,6.6735100000000003,0.91341000000000006,220.40779000000001,18.963529999999999,3.17049,9039.2717200000006,8101.8441400000002,5.7273300000000003,49.780299999999997,482.41207000000003]
[null,"2012-01-01",1.0156400000000001,6.3252899999999999,1877.4064499999999,0.77573000000000003,7.7641499999999999,76.976339999999993,1145.50161,8.1531500000000001,3.1239400000000002,13.47073,43.689779999999999,1.2816000000000001,30.367349999999998,31.713325000000001,1.84781,4.3025500000000001,0.96336999999999995,0.64509000000000005,1.30176,5.76708,0.77573000000000003,1.2542,6.8672500000000003,0.93955,239.52748,19.830559999999998,3.4064000000000001,9084.4554800000005,8132.7025800000001,5.9629300000000001,52.355379999999997,507.01934999999997]
[2011,"2011-12-01",1.0239799999999999,6.3739400000000002,1956.76367,0.75817000000000001,7.7788700000000004,77.875919999999994,1149.693,8.1716800000000003,3.1658599999999999,13.76505,43.756140000000002,1.2952600000000001,30.552219999999998,31.348894999999999,1.8691800000000001,4.3033200000000003,0.98780999999999997,0.64095999999999997,1.3146199999999999,5.6369699999999998,0.75817000000000001,1.2984100000000001,6.8457800000000004,0.93120000000000003,231.3673,19.348400000000002,3.40516,9107.8936699999995,8128.3236699999998,5.8811799999999996,53.438989999999997,517.68667000000005]
[null,"2011-11-01",1.0246,6.3665599999999998,1946.63933,0.73614000000000002,7.7819799999999999,77.535179999999997,1135.3206700000001,8.1648599999999991,3.1547700000000001,13.70665,43.371740000000003,1.28817,30.592590000000001,31.094286,1.81134,4.3006599999999997,0.98909999999999998,0.63190999999999997,1.3072600000000001,5.4784899999999999,0.73614000000000002,1.29637,6.7306999999999997,0.90649999999999997,227.8125,18.774239999999999,3.2623600000000001,9024.6293299999998,8173.6333299999997,5.73393,51.11289,507.84332999999998]
[null,"2011-10-01",1.0224599999999999,6.3906299999999998,1924.20903,0.73018000000000005,7.7797299999999998,76.640199999999993,1157.8632299999999,8.1508800000000008,3.1493199999999999,13.4893,43.449779999999997,1.27911,30.486460000000001,31.025255000000001,1.83358,4.3025900000000004,0.98984000000000005,0.63495999999999997,1.2957099999999999,5.4354800000000001,0.73018000000000005,1.2689600000000001,6.6657500000000001,0.89781,216.70765,18.139420000000001,3.1886299999999999,8921.3680600000007,8094.32935,5.67,49.949350000000003,510.75806]
[null,"2011-09-01",0.99819999999999998,6.4006999999999996,1849.2157,0.72470000000000001,7.7953000000000001,76.86,1112.6433300000001,8.1755399999999998,3.0694599999999999,12.97649,43.063310000000001,1.2458400000000001,29.867059999999999,30.556204999999999,1.7917000000000001,4.3022200000000002,0.97285999999999995,0.63214999999999999,1.2622500000000001,5.3961100000000002,0.72470000000000001,1.22461,6.61564,0.86643999999999999,205.77713,17.7837,3.12826,8734.4053299999996,8126.4826700000003,5.59734,48.048520000000003,483.84332999999998]
[null,"2011-08-01",0.98155000000000003,6.4083399999999999,1809.83032,0.69725999999999999,7.7980299999999998,77.094949999999997,1075.95,8.15442,2.9891100000000002,12.2271,42.519440000000003,1.2095499999999999,29.193750000000001,30.0204045454546,1.7576000000000001,4.3007299999999997,0.95274999999999999,0.61097000000000001,1.22506,5.1961000000000004,0.69725999999999999,1.1945300000000001,6.4049399999999999,0.78120000000000001,190.23258000000001,16.940069999999999,2.8755000000000002,8578.8716100000001,8137.92677,5.4478200000000001,45.666260000000001,467.60484000000002]
[null,"2011-07-01",0.95669999999999999,6.4602000000000004,1776.1296600000001,0.69926999999999995,7.7887300000000002,79.620900000000006,1060.2972400000001,8.1638999999999999,3.00204,11.67726,42.896050000000002,1.2185600000000001,28.838979999999999,30.2174421052631,1.6519900000000001,4.3023199999999999,0.92986999999999997,0.62017999999999995,1.23597,5.21387,0.69926999999999995,1.1860200000000001,6.3893700000000004,0.82691000000000003,187.02552,17.026710000000001,2.7894299999999999,8561.9879299999993,8123.2617200000004,5.4493600000000004,44.959380000000003,464.07558999999998]
[null,"2011-06-01",0.97894999999999999,6.4828200000000002,1802.0543299999999,0.69538999999999995,7.7858200000000002,80.468170000000001,1084.922,8.1585900000000002,3.0380099999999999,11.824769999999999,43.452739999999999,1.2363,28.822220000000002,30.653045454545499,1.6001799999999999,4.3014700000000001,0.94345999999999997,0.61626000000000003,1.2494799999999999,5.1866099999999999,0.69538999999999995,1.2278100000000001,6.3287500000000003,0.84116000000000002,185.55996999999999,16.893350000000002,2.7593399999999999,8596.4803300000003,8127.6136699999997,5.4512299999999998,45.54862,469.83273000000003]
[null,"2011-05-01",0.96714999999999995,6.5025899999999996,1821.2674199999999,0.69755,7.7744799999999996,81.122789999999995,1085.7551599999999,8.1612299999999998,3.0166300000000001,11.65583,43.200600000000001,1.23803,28.736830000000001,30.3827,1.5743100000000001,4.3029700000000002,0.93530000000000002,0.61146,1.2556,5.2016799999999996,0.69755,1.25535,6.2570600000000001,0.87438000000000005,186.47313,17.01118,2.7505500000000001,8609.4261299999998,8151.2193500000003,5.4757199999999999,45.298259999999999,467.66723000000002]
[null,"2011-04-01",0.95889999999999997,6.5382999999999996,1828.92,0.69350000000000001,7.7744,83.38,1086.0999999999999,8.1461000000000006,3.0190000000000001,11.7339,43.275100000000002,1.2488999999999999,29.055800000000001,30.195376,1.5232000000000001,4.3052999999999999,0.94769999999999999,0.61219999999999997,1.2665,5.1718999999999999,0.69284999999999997,1.2714000000000001,6.2172000000000001,0.90090000000000003,184.202,16.8719,2.7566000000000002,8676.85,8121.62,5.4195000000000002,45.006399999999999,474.34899999999999]
[null,"2011-03-01",0.97729999999999995,6.5763499999999997,1896.7241899999999,0.71430000000000005,7.7933500000000002,81.644540000000006,1122.3429000000001,8.1623000000000001,3.0397799999999999,12.01937,43.554459999999999,1.26867,29.511510000000001,30.509822,1.5827100000000001,4.3023899999999999,0.98985999999999996,0.61878999999999995,1.2850900000000001,5.3274999999999997,0.71430000000000005,1.3499300000000001,6.3523399999999999,0.91971999999999998,193.9699,17.43965,2.86883,8789.2271000000001,8131.1361299999999,5.5977800000000002,45.710209999999996,483.66728999999998]
[null,"2011-02-01",0.98828000000000005,6.58711,1909.48,0.73287999999999998,7.7902199999999997,82.624740000000003,1119.3896400000001,8.1652000000000005,3.0504099999999998,12.07504,43.79,1.2769999999999999,29.294149999999998,30.857052631578998,1.5906800000000001,4.3009399999999998,0.9919,0.62053999999999998,1.2946800000000001,5.4642799999999996,0.73287999999999998,1.3123400000000001,6.4479600000000001,0.95084999999999997,198.94175000000001,17.806090000000001,2.8811800000000001,9009.2199999999993,8167.83464,5.7437899999999997,45.893639999999998,481.76611000000003]
[null,"2011-01-11",0.99446000000000001,6.6045499999999997,1894.6661300000001,0.74914000000000003,7.7802199999999999,82.529139999999998,1122.89645,8.1651900000000008,3.0752999999999999,12.16356,44.372059999999998,1.28732,29.2026,30.718389999999999,1.5666199999999999,4.3010099999999998,1.0027999999999999,0.63482000000000005,1.30419,5.5821800000000001,0.74914000000000003,1.30515,6.6897700000000002,0.95555000000000001,206.89855,18.37359,2.9250799999999999,9142.7951599999997,8177.0470999999998,5.8658700000000001,46.077730000000003]
[2010,{"$f":"B25+30","v":"2010-12-07"},1.00945,6.6610300000000002,1939.64581,0.75683999999999996,7.7744299999999997,83.393320000000003,1149.5312899999999,8.1496999999999993,3.1376300000000001,12.408659999999999,44.059699999999999,1.3076700000000001,30.07865,30.26023,1.52258,4.3004600000000002,1.00912,0.64083999999999997,1.32498,5.6405000000000003,0.75683999999999996,1.33402,6.86355,0.97174000000000005,210.28787,19.070989999999998,3.0270600000000001,9126.2806500000006,8150.3590299999996,5.9967699999999997,45.866169999999997]
[null,"2010-11-07",1.01257,6.6626099999999999,1878.30267,0.73046,7.7550600000000003,82.467770000000002,1129.8599999999999,8.1341900000000003,3.11544,12.335129999999999,43.629199999999997,1.2979799999999999,30.420590000000001,30.024895454545501,1.4419500000000001,4.2998900000000004,1.0106900000000001,0.62573999999999996,1.3126100000000001,5.4471499999999997,0.73046,1.2938000000000001,6.8170400000000004,0.98402999999999996,201.54990000000001,18.031580000000002,2.8896099999999998,9010.6693300000006,8131.4269999999997,5.9538900000000003,45.415179999999999]
[null,"2010-10-08",1.0185299999999999,6.6772999999999998,1825.89483,0.71992999999999996,7.7595900000000002,81.973979999999997,1125.7465500000001,8.1287199999999995,3.1061999999999999,12.452159999999999,43.53398,1.3044100000000001,30.888069999999999,30.111245,1.4261699999999999,4.3003999999999998,1.01929,0.63097999999999999,1.3220799999999999,5.36883,0.71992999999999996,1.3333600000000001,6.6741999999999999,0.98509999999999998,197.86076,17.681809999999999,2.8499400000000001,8974.5300000000007,8162.9258600000003,5.8308400000000002]
[null,"2010-09-08",1.03521,6.7581100000000003,1828.72,0.76787000000000005,7.7666300000000001,84.501570000000001,1167.2983300000001,8.1541999999999994,3.11693,12.83755,44.388579999999997,1.3366400000000001,31.742170000000002,30.977640909090901,1.4970600000000001,4.2999599999999996,1.07134,0.64307999999999998,1.35439,5.7182599999999999,0.76787000000000005,1.3776600000000001,7.09321,1.00478,217.07810000000001,18.960370000000001,3.0409899999999999,9089.2129999999997,8281.9410000000007,6.0800099999999997]
[null,"2010-08-09",1.0530999999999999,6.79603,1851.6664499999999,0.77470000000000006,7.7710699999999999,85.579899999999995,1182.69065,8.1492299999999993,3.1642600000000001,12.75942,45.308219999999999,1.3560099999999999,31.928999999999998,31.8857,1.5110699999999999,4.2999400000000003,1.1105,0.63849999999999996,1.3748800000000001,5.7709999999999999,0.77470000000000006,1.3980600000000001,7.3051700000000004,1.0402199999999999,218.05858000000001,19.239640000000001,3.09768,9008.6796799999993,8364.5422600000002]
[null,"2010-07-10",1.04569,6.7861399999999996,1903.70867,0.78474999999999995,7.7779400000000001,87.673339999999996,1212.1690000000001,8.1685499999999998,3.21821,12.84923,46.552280000000003,1.37958,32.135840000000002,32.465584999999997,1.5451999999999999,4.3000400000000001,1.1465700000000001,0.65580000000000005,1.3976299999999999,5.8485699999999996,0.78474999999999995,1.4084000000000001,7.4590199999999998,1.0562100000000001,222.87780000000001,19.935379999999999,3.2200700000000002,9048.0923299999995,8372.5025800000003]
[null,"2010-06-10",1.0383500000000001,6.8309800000000003,1953.1633300000001,0.81898000000000004,7.7888000000000002,90.996369999999999,1217.461,8.2026299999999992,3.2726700000000002,12.73298,46.468559999999997,1.3989,32.271590000000003,32.609749999999998,1.57921,4.2999599999999996,1.1727799999999999,0.67927000000000004,1.42005,6.0938800000000004,0.81898000000000004,1.44655,7.8467700000000002,1.13053,230.76992999999999,21.132960000000001,3.3625500000000001,9187.71767]
[null,"2010-05-10",1.0386899999999999,6.8364200000000004,2009.8671400000001,0.79069999999999996,7.7854599999999996,92.172809999999998,1161.06214,8.1777499999999996,3.2599900000000002,12.703329999999999,45.66095,1.39188,31.81202,32.536580000000001,1.5451699999999999,4.3010599999999997,1.14137,0.67940999999999996,1.4104399999999999,5.8847300000000002,0.79069999999999996,1.4249000000000001,7.6577400000000004,1.1231899999999999,218.67907,20.293520000000001,3.20784,9209.5021400000005]
[null,"2010-04-10",1.0057799999999999,6.8328600000000002,1954.56267,0.74400999999999995,7.7632399999999997,93.459969999999998,1120.8900000000001,8.1448699999999992,3.2216399999999998,12.25067,44.791690000000003,1.3839699999999999,31.511849999999999,32.423960000000001,1.49485,4.3000100000000003,1.0805199999999999,0.65269999999999995,1.3998699999999999,5.53939,0.74400999999999995,1.4064399999999999,7.1987100000000002,1.0668599999999999,197.56039999999999,18.842600000000001,2.8841399999999999,9055.1473299999998]
[null,"2010-03-10",1.0249600000000001,6.8358999999999996,1929.85742,0.73651999999999995,7.8,90.616479999999996,1140.7071000000001,8.1412999999999993,3.3396599999999999,12.593999999999999,45.867190000000001,1.40022,31.845960000000002,32.650880000000001,1.5373300000000001,4.2774700000000001,1.0980399999999999,0.66425000000000001,1.417,5.4817799999999997,0.73651999999999995,1.42374,7.16073,1.06684,195.71102999999999,18.833179999999999,2.8714300000000001]
[null,"2010-02-07",1.05671,6.8377400000000002,1972.3584599999999,0.73075000000000001,7.8,90.270470000000003,1160.25038,8.1484500000000004,3.4260700000000002,12.971270000000001,46.458570000000002,1.41317,32.122729999999997,33.286810000000003,1.51827,4.2979000000000003]
[null,"2010-01-08",1.0425899999999999,6.8345200000000004,2012.5034499999999,0.69901999999999997,7.8,91.484560000000002,1145.9127599999999,8.1323399999999992,3.39377,12.85,46.167940000000002,1.39747,31.907550000000001,33.175780000000003,1.4776100000000001,3.2542800000000001]
[2009,"2009-12-09",1.0562100000000001,6.8361599999999996,2042.4858099999999,0.68501999999999996,7.8,89.801050000000004,1171.3338699999999,8.1381499999999996,3.4258500000000001,12.852740000000001,46.55489,1.39649,32.282159999999998,33.372019999999999,1.5111399999999999,2.15164]
[null,"2009-11-08",1.06297,6.8355499999999996,1989.7493300000001,0.67139000000000004,7.8,89.258629999999997,1167.1903299999999,8.1148500000000006,3.3946800000000001,13.140090000000001,47.199039999999997,1.3900999999999999,32.372790000000002,33.421466666666703,1.4947299999999999,2.1516600000000001]
[null,"2009-10-09",1.0541199999999999,6.8363199999999997,1919.7529999999999,0.67542999999999997,7.8,90.358680000000007,1177.45433,8.1178600000000003,3.41669,13.27581,46.956040000000002,1.39923,32.30997,33.549171000000001,1.47323,2.1519900000000001]
[null,"2009-09-08",1.0828500000000001,6.8390399999999998,2002.62733,0.68747000000000003,7.8,91.489360000000005,1220.0796700000001,8.1196000000000002,3.5082,13.4102,48.22495,1.4245300000000001,32.625329999999998,33.967081818181803,1.49231,2.1519400000000002]
[null,"2009-08-08",1.0869800000000001,6.8421000000000003,2041.51323,0.7016,7.8,95.009159999999994,1241.1887099999999,8.1181999999999999,3.5281899999999999,13.02563,48.341670000000001,1.44207,32.896920000000001,34.156619999999997,1.5132000000000001,2.15144]
[null,"2009-07-09",1.1292800000000001,6.8420899999999998,2081.41806,0.71077000000000001,7.8,94.489900000000006,1267.9529,8.1266599999999993,3.5570599999999999,13.37965,48.267090000000003,1.4508000000000001,32.946559999999998,34.185625000000002,1.5265899999999999,2.1520800000000002]
[null,"2009-06-09",1.1247499999999999,6.8440099999999999,2113.8159999999998,0.7137,7.8,96.738119999999995,1264.8510000000001,8.1234000000000002,3.5244200000000001,13.35018,47.936030000000002,1.4529399999999999,32.8217,34.277481818181798,1.5485800000000001,2.15198]
[null,"2009-05-08",1.1581399999999999,6.8333700000000004,2264.3906900000002,0.73550000000000004,7.8,96.807090000000002,1260.53448,8.1329600000000006,3.5426600000000001,13.28084,47.579410000000003,1.4637100000000001,32.949359999999999,34.723522222222201,1.56227,2.1520100000000002]
[null,"2009-04-08",1.22746,6.8422700000000001,2419.7586700000002,0.75739000000000001,7.8,99.012709999999998,1340.8086699999999,8.1549800000000001,3.6157900000000001,13.423970000000001,48.215490000000003,1.506,33.72777,35.594294444444401,1.60894,2.1520299999999999]
[null,"2009-03-08",1.26416,6.8461699999999999,2498.0228999999999,0.76793,7.8,97.688220000000001,1460.09968,8.1378500000000003,3.6878000000000002,14.713559999999999,48.54571,1.53172,34.385339999999999,35.918968181818201,1.71408,2.1520299999999999]
[null,"2009-02-08",1.24108,6.8463599999999998,2525.80296,0.78022999999999998,7.8,92.118970000000004,1430.0940700000001,8.1268799999999999,3.6302400000000001,14.55461,47.551079999999999,1.5150699999999999,34.20373,35.456899999999997,1.66089,2.1520199999999998]
[null,"2009-01-08",1.2226399999999999,6.8470399999999998,2280.279,0.74838000000000005,7.8,90.429779999999994,1353.6713299999999,8.1504899999999996,3.5729500000000001,13.864929999999999,47.370959999999997,1.48465,33.33569,35.050870000000003,1.59792,2.1528299999999998]
[2008,"2008-12-04",1.23603,6.8675600000000001,2282.5106500000002,0.74402999999999997,7.8,91.322220000000002,1375.5780600000001,8.1365400000000001,3.5601099999999999,13.45632,48.110979999999998,1.4812799999999999,33.157380000000003,35.156828571428598,1.54949,2.15306]
[null,"2008-11-05",1.2199500000000001,6.8418999999999999,2364.8726900000001,0.78834000000000004,7.8,97.310379999999995,1384.12077,8.1601199999999992,3.5946699999999998,13.1058,49.328580000000002,1.50606,33.093049999999998,35.173288235294102,1.60118,2.15293]
[null,"2008-10-06",1.1726700000000001,6.8503600000000002,2304.9619400000001,0.74939,7.8,100.4933,1324.23226,8.1972299999999994,3.5273500000000002,12.61783,48.090960000000003,1.47662,32.684040000000003,34.552736363636399,1.47119,2.1535299999999999]
[null,"2008-09-07",1.0568,6.8499699999999999,2090.4589999999998,0.69489999999999996,7.8,106.96553,1132.069,8.1735299999999995,3.4508299999999998,10.614839999999999,46.812350000000002,1.4298299999999999,31.99757,34.408763636363602,1.2404299999999999,2.1532200000000001]
[null,"2008-08-08",1.05124,6.86233,1864.1941400000001,0.66632000000000002,7.8,109.38638,1044.39517,8.1871600000000004,3.3249200000000001,10.102359999999999,45.003419999999998,1.40208,31.196149999999999,33.973925000000001,1.18123,2.1522100000000002]
[null,"2008-07-08",1.0130999999999999,6.8475000000000001,1803.1309699999999,0.63373000000000002,7.8,106.79376999999999,1021.16871,8.1755200000000006,3.2571599999999998,null,44.978009999999998,1.3588499999999999,30.41076,33.6217238095238,1.21713,2.1522000000000001]
[null,"2008-06-08",1.01566,6.9113199999999999,1747.09933,0.64229000000000003,7.8,106.77753,1033.5730000000001,8.1613399999999992,3.26233,null,44.449640000000002,1.36815,30.383790000000001,33.317661904761898,1.23773,2.1521499999999998]
[null,"2008-05-08",1.0019,6.9859,1798.1893,0.64270000000000005,7.8,104.15179999999999,1036.6867,8.1506000000000007,3.2164000000000001,null,42.947699999999998,1.3653999999999999,30.6187,32.225499999999997,1.2533000000000001,2.1520999999999999]
[null,"2008-04-08",1.0142100000000001,7.0120500000000003,1814.4826700000001,0.63449999999999995,7.8,102.46366,989.79240000000004,8.1498899999999992,3.1653500000000001,null,41.874650000000003,1.36514,30.37163,31.742000000000001,1.3040499999999999,2.15205]
[null,"2008-03-08",1,7.09,1867,0.65,7.8,100.98,980.85,8.14,3.18,null,41.35,1.39,30.63,31.58,null,2.15]
[null,"2008-02-08",1,7.18,1933.41,0.68,7.8,107.26,945.49,8.17,3.23,null,40.74,1.41,31.71,32.74,null,2.15]
[null,"2008-01-08",1.01,7.26,2012.42,0.68,7.8,108.15,944.13,8.18,3.28,null,40.99,1.43,32.39,33.31,null,2.15]
[2007,"2007-12-07",0.98,7.38,2045.13,0.69,7.8,112.43,932.25,8.17,3.35,null,41.71,1.45,32.42,33.75,null,2.1488999999999998]
[null,"2007-11-08",0.96,7.43,2067.21,0.68,7.8,111.25,917.54,8.14,3.36,null,43.26,1.45,32.35,33.85,null,{"$f":"2148.76/1000","v":2.1487600000000002}]
[null,"2007-10-10",0.98,7.51,2025.48,0.7,7.8,115.87,916.44,8.1300000000000008,3.39,null,44.35,1.47,32.58,34,null,{"$f":"2148.89/1000","v":2.1488899999999997}]
[null,"2007-09-11",1.03,7.54,2153.2800000000002,0.72,7.8,115.08,931.53,8.17,3.49,null,46.26,1.52,33.04,34.270000000000003,null,{"$f":"2148.83/1000","v":2.1488299999999998}]
[null,"2007-08-13",1.06,7.58,2080.96,0.73,7.8,116.89,936.81,8.18,3.48,null,46.24,1.52,32.96,34.33,null,{"$f":"2148.7/1000","v":2.1486999999999998}]
[null,"2007-07-15",1.05,7.59,1983.28,0.73,7.8,121.71,922.09,8.16,3.45,null,45.7,1.52,33.82,33.67,null,{"$f":"2148.68/1000","v":2.1486799999999997}]
[null,"2007-06-16",1.07,7.64,1949.42,0.75,7.81,122.64,930.79,8.15,3.45,null,46.33,1.54,33.020000000000003,32.79,null,{"$f":"2148.94/1000","v":2.1489400000000001}]
[null,"2007-05-18",1.1200000000000001,7.65,2018.3,0.73,7.8,119.57,927.64,7.75,3.42,null,47.26,1.52,33.25,32.549999999999997,null,{"$f":"2144.6/1000","v":2.1446000000000001}]
[null,"2007-04-19",1.1599999999999999,7.65,2140.17,0.75,7.8,117.36,928.51,7.75,3.45,null,48.04,1.52,33.07,31.95,null,2.1446000000000001]
[null,"2007-03-21",1.1599999999999999,8.0399999999999991,2136.56,0.76,7.8,119.76,927.3,8,3.49,null,48.21,1.53,33,33.869999999999997,null,2.1446000000000001]
[null,"2007-02-20",1.18,8.0399999999999991,2225.4699999999998,0.77,7.8,121.75,927.3,8,3.5,null,48.87,1.54,32.99,34.18,null,2.1446000000000001]
[null,"2007-01-22",1.1599999999999999,8.0399999999999991,2152.84,0.76,7.8,118.79,917.01,8,3.53,null,48.98,1.54,32.659999999999997,35.47,null,2.1446000000000001]
[2006,"2006-12-06",1.1299999999999999,8.0399999999999991,2328.8200000000002,0.76,7.8,116.07,944.2,8,3.64,null,49.85,1.55,32.53,36.15,null,2.1446000000000001]
[null,"2006-11-06",1.1200000000000001,8.0399999999999991,2415.42,0.79,7.8,117.45,957.12,8,3.65,null,49.96,1.56,33.25,36.79,null,2.1446000000000001]
[null,"2006-10-06",1.1100000000000001,8.0399999999999991,2450.25,0.79,7.8,117.63,957.49,8,3.69,null,50.35,1.59,33,37.57,null,2.1446000000000001]
[null,"2006-09-06",1.1100000000000001,8.0399999999999991,2461.2600000000002,0.78,7.8,116.94,977.14,8,3.68,null,51.09,1.57,32.92,37.590000000000003,null,2.1446000000000001]
[null,"2006-08-06",1.1299999999999999,8.0399999999999991,2533.8000000000002,0.78,7.8,114.66,962.93,8,3.67,null,51.67,1.58,32.83,37.909999999999997,null,2.1446000000000001]
[null,"2006-07-06",1.1200000000000001,8.0399999999999991,2746.6,0.8,7.8,"116..32",970.69,8,3.68,null,53.7,1.6,32.619999999999997,38.47,null,2.1446000000000001]
[null,"2006-06-06",1.1000000000000001,8.0399999999999991,2546.5,0.78,7.8,112.17,955.84,8,3.62,null,52.65,1.58,32.090000000000003,38.22,null,2.1446000000000001]
[null,"2006-05-06",1.1200000000000001,8.0399999999999991,2425.84,0.8,7.8,114.16,950.57,8,3.63,null,51.85,1.58,31.92,37.53,null,2.1446000000000001]
[null,"2006-04-06",1.17,8.0399999999999991,2338.59,0.83,7.8,117.59,985.51,8,3.69,null,51.35,1.62,32.57,38.89,null,2.1446000000000001]
[null,"2006-03-06",1.1499999999999999,8.0399999999999991,2247.21,0.874,7.8,116.31,982.32,8,3.73,null,51.98,1.62,32.49,39.340000000000003,null,2.1446000000000001]
[null,"2006-02-06",1.1499999999999999,8.0399999999999991,2268.2600000000002,0.83,7.8,117.45,984.45,8,3.75,null,52.33,1.63,32.03,39.15,null,2.1446000000000001]
[null,"2006-01-06",1.17,8.0399999999999991,2286.3000000000002,0.84,7.8,117.36,1026.5899999999999,7.8,3.79,null,53.1,1.67,32.950000000000003,41.04,null,2.1446000000000001]
[2005,"2005-12-05",1.17,"No Data",2274.6999999999998,0.85,7.8,119.72,1051.19,7.8,3.78,null,53.98,1.7,33.57,41.31,null,2.1446000000000001]
[null,"2005-11-05",1.18,null,2292,0.83,7.8,115.68,1044.5,7.8,3.78,null,55.03,1.7,33.64,40.85,null,2.1446000000000001]
[null,"2005-10-05",1.17,null,2292,0.83,7.8,113.01,1051.3,7.8,3.77,null,56.15,1.69,33.270000000000003,41.08,null,2.1446000000000001]
[null,"2005-09-05",1.19,null,2306.1999999999998,0.82,7.8,111.3,1032.8,8.32,3.77,null,56.26,1.68,32.700000000000003,41.17,null,2.1446000000000001]
[null,"2005-08-05",1.22,null,2310,0.82,7.8,112.46,1023.5,8.33,3.75,null,56.23,1.66,31.95,41.68,null,2.1446000000000001]
[null,"2005-07-05",1.23,null,2322.1999999999998,0.82,7.78,109.32,1008.9,8.01,3.8,null,55.71,1.68,31.32,41.08,null,2.1446000000000001]
[null,"2005-06-05",1.25,null,2336.9,0.81,7.78,108.25,1007.54,8.02,3.8,null,54.79,1.67,31.32,40.61,null,2.1446000000000001]
[null,"2005-05-05",1.25,null,2340.9,0.78,7.8,106.05,1001.85,8.01,3.8,null,54.24,1.65,31.28,39.590000000000003,null,2.1446000000000001]
[null,"2005-04-05",1.22,null,2364.84,0.77,7.8,107.3,1014.62,8.01,3.8,null,54.42,1.65,31.51,39.299999999999997,null,2.1446000000000001]
[null,"2005-03-05",1.22,null,2336.21,0.75,7.8,104.66,1004.71,8.01,3.8,null,54.47,1.62,30.93,38.380000000000003,null,{"$f":"2052.84/1000","v":2.0528400000000002}]
[null,"2005-02-05",1.24,null,2355.04,0.77,7.8,104.43,1030.7,8.01,3.8,null,54.99,1.64,31.7,38.54,null,{"$f":"1915.2/1000","v":1.9152}]
[null,"2005-01-05",1.22,null,2373.62,0.75,7.79,103.39,1044.83,8.06,3.8,null,56,1.64,31.99,38.92,null,{"$f":"1915.2/1000","v":1.9152}]
[2004,"2004-12-04",1.22,"No Data",2407.1,0.75,7.78,103.81,1051.6600000000001,8.07,3.8,null,56.17,1.64,32.200000000000003,39.21,null,1.9152]
[null,"2004-11-04",1.2,null,2525.37,0.77,7.78,104.64,1086.19,8.01,3.8,null,56.26,1.65,32.75,40.26,null,1.9152]
[null,"2004-10-04",1.25,null,2577.89,0.8,7.79,108.83,1142.1199999999999,7.8,3.8,null,56.33,1.68,33.729999999999997,41.29,null,1.9166399999999999]
[null,"2004-09-04",1.29,null,2552.1,0.82,7.8,110.08,1148.1500000000001,7.8,3.8,null,56.18,1.7,33.81,41.44,null,1.9157]
[null,"2004-08-04",1.31,null,2593.79,0.82,7.8,110.29,1157.26,7.8,3.8,null,55.79,1.71,33.97,41.48,null,1.9152]
[null,"2004-07-04",1.32,null,2652.19,0.82,7.8,109.32,1158.46,7.8,3.8,null,55.91,1.71,33.76,40.93,null,1.9152]
[null,"2004-06-04",1.36,null,2717.78,0.83,7.8,109.47,1158.44,7.8,3.8,null,55.99,1.71,33.520000000000003,40.799999999999997,null,1.9152]
[null,"2004-05-04",1.38,null,2724.58,0.83,7.8,112.07,1177.3499999999999,7.8,3.8,null,55.79,1.71,33.369999999999997,40.409999999999997,null,1.9152]
[null,"2004-04-04",1.34,null,2643.58,0.83,7.8,107.59,1152.73,7.8,3.8,null,55.93,1.69,32.83,39.409999999999997,null,1.9152]
[null,"2004-03-04",1.33,null,2675.88,0.81,7.8,108.57,1165.6099999999999,7.8,3.8,null,56.27,1.7,33.19,39.299999999999997,null,1.9152]
[null,"2004-02-04",1.33,null,2720.18,0.79,7.8,106.5,1167.1500000000001,7.8,3.8,null,56.07,1.68,33.159999999999997,39,null,1.8194399999999999]
[null,"2004-01-04",1.3,null,2750.65,0.79,7.8,106.38,1182.9000000000001,7.8,3.8,null,55.47,1.7,33.6,39.049999999999997,null,1.5960000000000001]
[2004,"2003-12-04",1.31000000004454,"No Data","No Data",{"$f":"1/1.2345679012","v":0.81000000002268002},7.8,{"$f":"1/0.009284189","v":107.71000030266511},{"$f":"1/0.0008392641","v":1191.5200471460653},7.8,3.8,null,{"$f":"1/0.0180538003","v":55.390000076604373},{"$f":"1/0.5847953216","v":1.71000000010944},{"$f":"1/0.0291460216","v":34.30999996239624},{"$f":"1/0.025","v":40}]
[null,"2003-11-04",1.3099999983284401,null,null,{"$f":"1/1.1627906977","v":0.85999999998108001},7.8,{"$f":"1/0.0091508053","v":109.27999965205248},{"$f":"1/0.0008439246","v":1184.9399816049918},7.8,3.8,null,{"$f":"1/0.0180668473","v":55.350000107655745},{"$f":"1/0.5780346821","v":1.7299999999429101},{"$f":"1/0.0291885581","v":34.259999982664439},{"$f":"1/0.025","v":40}]
[null,"2003-10-04",1.33000000008512,null,null,{"$f":"1/1.1627906977","v":0.85999999998108001},7.8,{"$f":"1/0.0091265857","v":109.57000053152407},{"$f":"1/0.0008567072","v":1167.2599459885478},7.8,3.8,null,{"$f":"1/0.0182049882","v":54.929999899697819},{"$f":"1/0.5780346821","v":1.7299999999429101},{"$f":"1/0.0294637596","v":33.939999972033441},{"$f":"1/0.0251635632","v":39.739999937687685}]
[null,"2003-09-04",1.3699999999986301,null,null,{"$f":"1/1.1235955056","v":0.89000000001423996},7.8,{"$f":"1/0.0087009484","v":114.93000004459284},{"$f":"1/0.0008585755","v":1164.7199343563843},7.8,3.8,null,{"$f":"1/0.0182016746","v":54.939999861331444},{"$f":"1/0.5714285714","v":1.7500000000875},{"$f":"1/0.0295857988","v":33.800000018928003},{"$f":"1/0.0247218789","v":40.449999939122748}]
[null,"2003-08-04",1.3999999999720001,null,null,{"$f":"1/1.1111111111","v":0.90000000000899993},7.8,{"$f":"1/0.0084132593","v":118.85999995269373},{"$f":"1/0.0008484139","v":1178.6699864299724},7.8,3.8,null,{"$f":"1/0.018208303","v":54.919999958260803},{"$f":"1/0.5714285714","v":1.7500000000875},{"$f":"1/0.0294464075","v":33.960000044147996},{"$f":"1/0.0239980802","v":41.669999919410216}]
[null,"2003-07-04",1.3999999999720001,null,null,{"$f":"1/1.1363636364","v":0.87999999997183997},7.8,{"$f":"1/0.0083913737","v":119.16999954369808},{"$f":"1/0.0008480541","v":1179.170055306613},7.8,3.8,null,{"$f":"1/0.0185219485","v":53.99000002618515},{"$f":"1/0.5681818182","v":1.7599999999436799},{"$f":"1/0.0294290759","v":33.98000003119364},{"$f":"1/0.0238095238","v":42.000000016800001}]
[]
[]
[]
[]
[]
[null,null,1.0156400000000001,6.3252899999999999,1877.4064499999999,0.77573000000000003,7.7641499999999999,76.976339999999993,1145.50161,8.1531500000000001,3.1239400000000002,13.47073,43.689779999999999,1.2816000000000001,30.367349999999998,31.759979999999999,1.84781,4.3025500000000001,0.96336999999999995,0.64509000000000005,1.30176,5.76708,0.77573000000000003,1.2542,6.8672500000000003,0.93955,239.52748,19.830559999999998,3.4064000000000001,9084.4554800000005,8132.7025800000001,5.9629300000000001,52.355379999999997,507.01934999999997]

{"sheet":"Inventory Rates","index":78,"n_rows":113,"n_cols":34,"rows_kept":113,"cut":false,"hidden":false,"merged":[[47,0,58,0],[11,0,22,0],[23,0,34,0],[35,0,46,0],[7,0,10,0],[107,0,118,0],[59,0,70,0],[71,0,82,0],[83,0,94,0],[95,0,106,0]]}
[]
[]
[]
[null,null,"Canadian","China","Colombian","European","HongKong","Japanese","Korean","Macau","Malaysian","Mexico","Philippines","Singapore","Taiwan","Thailand","Turkish","Venezuelan","Australian","British","Brunei ","Danish","Dutch","New Zealand","Swedish","Swiss ","Hungarian","Czech","Polish","Indonesian","Lao","Norway"]
[null,null,"Dollar","RMB","Peso","Euro","Dollar","Yen","Won","Pataca","Ringgit","Peso","Peso","Dollar","Dollar","Baht","New Lira","Bolivar","Dollar","Pound","Dollar","Krona","Guilder","Dollar","Krona","Franc","Forint","Koruna","Zloty","Rupiah","Kip","Krone"]
[null,null,"CAD","CNY","COP","EUR","HKD","JPY","KRW","MOP","MYR","MXN","PHP","SGD","TWD","THB","TRY","VEF","AUD","GBP","BND","DKK","EUR","NZD","SEK","CHF","HUF","CZK","PLN","IDR","LAK","NOK","INR","CLP"]
[null,null,"B/S Rate","B/S Rate","B/S Rate","B/S Rate","B/S Rate","B/S Rate","B/S Rate","B/S Rate","B/S Rate","B/S Rate","B/S Rate","B/S Rate","B/S Rate","B/S Rate","B/S Rate","B/S Rate","B/S Rate","B/S Rate","B/S Rate","B/S Rate","B/S Rate","B/S Rate","B/S Rate","B/S Rate","B/S Rate","B/S Rate","B/S Rate","B/S Rate","B/S Rate","B/S Rate"]
[2012,"2012-04-01",0.99892999999999998,6.3288599999999997,1777.97,0.75183,7.7647000000000004,82.495729999999995,1139.3399999999999,8.1479199999999992,3.0698400000000001,12.80119,43.108330000000002,1.2588200000000001,29.595490000000002,30.914159999999999,1.7840800000000001,4.3022999999999998,0.96519999999999995,0.62880000000000003,1.2759,5.5919999999999996,0.75183,1.2256100000000001,6.6640800000000002,0.90624000000000005,221.27099999999999,18.602119999999999,3.13219,9182.74,8033.36,5.7463699999999998,52.289479999999998,489.5]
[null,"2012-03-01",0.99680000000000002,6.3045,1779.78,0.74460000000000004,7.7552000000000003,80.482299999999995,1127.27,8.1344999999999992,3.0148999999999999,12.8728,42.967399999999998,1.2535000000000001,29.613600000000002,30.25,1.7611000000000001,4.3013000000000003,0.92920000000000003,0.63100000000000001,1.2756000000000001,5.5358000000000001,0.74460000000000004,1.1922999999999999,6.5762999999999998,0.89739999999999998,216.608,18.590599999999998,3.0935000000000001,9124.09,8049.72,5.5822000000000003,49.470599999999997,478.1]
[null,{"$f":"B11+30","v":"2012-02-05"},{"$f":"ROUND(IFERROR(('BS Rates'!C11),\"\"),6)","v":1.0041},{"$f":"ROUND(IFERROR(('BS Rates'!D11),\"\"),6)","v":6.3038999999999996},{"$f":"ROUND(IFERROR(('BS Rates'!E11),\"\"),6)","v":1834.44},{"$f":"ROUND(IFERROR(('BS Rates'!F11),\"\"),6)","v":0.76039999999999996},{"$f":"ROUND(IFERROR(('BS Rates'!G11),\"\"),6)","v":7.7569999999999997},{"$f":"ROUND(IFERROR(('BS Rates'!H11),\"\"),6)","v":76.601799999999997},{"$f":"ROUND(IFERROR(('BS Rates'!I11),\"\"),6)","v":1127.01},{"$f":"ROUND(IFERROR(('BS Rates'!J11),\"\"),6)","v":8.1127000000000002},{"$f":"ROUND(IFERROR(('BS Rates'!K11),\"\"),6)","v":3.0546000000000002},{"$f":"ROUND(IFERROR(('BS Rates'!L11),\"\"),6)","v":12.982699999999999},{"$f":"ROUND(IFERROR(('BS Rates'!M11),\"\"),6)","v":43.054499999999997},{"$f":"ROUND(IFERROR(('BS Rates'!N11),\"\"),6)","v":1.2568999999999999},{"$f":"ROUND(IFERROR(('BS Rates'!O11),\"\"),6)","v":29.861799999999999},{"$f":"ROUND(IFERROR(('BS Rates'!P11),\"\"),6)","v":31.04},{"$f":"ROUND(IFERROR(('BS Rates'!Q11),\"\"),6)","v":1.7867},{"$f":"ROUND(IFERROR(('BS Rates'!R11),\"\"),6)","v":4.2996999999999996},{"$f":"ROUND(IFERROR(('BS Rates'!S11),\"\"),6)","v":0.94510000000000005},{"$f":"ROUND(IFERROR(('BS Rates'!T11),\"\"),6)","v":0.63719999999999999},{"$f":"ROUND(IFERROR(('BS Rates'!U11),\"\"),6)","v":1.2719},{"$f":"ROUND(IFERROR(('BS Rates'!V11),\"\"),6)","v":5.6550000000000002},{"$f":"ROUND(IFERROR(('BS Rates'!W11),\"\"),6)","v":0.76039999999999996},{"$f":"ROUND(IFERROR(('BS Rates'!X11),\"\"),6)","v":1.22},{"$f":"ROUND(IFERROR(('BS Rates'!Y11),\"\"),6)","v":6.7717000000000001},{"$f":"ROUND(IFERROR(('BS Rates'!Z11),\"\"),6)","v":0.91669999999999996},{"$f":"ROUND(IFERROR(('BS Rates'!AA11),\"\"),6)","v":224.59800000000001},{"$f":"ROUND(IFERROR(('BS Rates'!AB11),\"\"),6)","v":19.1906},{"$f":"ROUND(IFERROR(('BS Rates'!AC11),\"\"),6)","v":3.2311999999999999},{"$f":"ROUND(IFERROR(('BS Rates'!AD11),\"\"),6)","v":9017.1299999999992},{"$f":"ROUND(IFERROR(('BS Rates'!AE11),\"\"),6)","v":8117.86},{"$f":"ROUND(IFERROR(('BS Rates'!AF11),\"\"),6)","v":5.8315000000000001}]
[null,"2012-01-06",{"$f":"ROUND(IFERROR(('BS Rates'!C12),\"\"),6)","v":1.0234000000000001},{"$f":"ROUND(IFERROR(('BS Rates'!D12),\"\"),6)","v":6.3715000000000002},{"$f":"ROUND(IFERROR(('BS Rates'!E12),\"\"),6)","v":1952.88},{"$f":"ROUND(IFERROR(('BS Rates'!F12),\"\"),6)","v":0.77390000000000003},{"$f":"ROUND(IFERROR(('BS Rates'!G12),\"\"),6)","v":7.7736999999999998},{"$f":"ROUND(IFERROR(('BS Rates'!H12),\"\"),6)","v":77.790800000000004},{"$f":"ROUND(IFERROR(('BS Rates'!I12),\"\"),6)","v":1157.4100000000001},{"$f":"ROUND(IFERROR(('BS Rates'!J12),\"\"),6)","v":8.1542999999999992},{"$f":"ROUND(IFERROR(('BS Rates'!K12),\"\"),6)","v":3.1762999999999999},{"$f":"ROUND(IFERROR(('BS Rates'!L12),\"\"),6)","v":13.9962},{"$f":"ROUND(IFERROR(('BS Rates'!M12),\"\"),6)","v":44.006100000000004},{"$f":"ROUND(IFERROR(('BS Rates'!N12),\"\"),6)","v":1.3018000000000001},{"$f":"ROUND(IFERROR(('BS Rates'!O12),\"\"),6)","v":30.440799999999999},{"$f":"ROUND(IFERROR(('BS Rates'!P12),\"\"),6)","v":31.702999999999999},{"$f":"ROUND(IFERROR(('BS Rates'!Q12),\"\"),6)","v":1.9187000000000001},{"$f":"ROUND(IFERROR(('BS Rates'!R12),\"\"),6)","v":4.3034999999999997},{"$f":"ROUND(IFERROR(('BS Rates'!S12),\"\"),6)","v":0.99109999999999998},{"$f":"ROUND(IFERROR(('BS Rates'!T12),\"\"),6)","v":0.64829999999999999},{"$f":"ROUND(IFERROR(('BS Rates'!U12),\"\"),6)","v":1.3164},{"$f":"ROUND(IFERROR(('BS Rates'!V12),\"\"),6)","v":5.7538999999999998},{"$f":"ROUND(IFERROR(('BS Rates'!W12),\"\"),6)","v":0.77390000000000003},{"$f":"ROUND(IFERROR(('BS Rates'!X12),\"\"),6)","v":1.3009999999999999},{"$f":"ROUND(IFERROR(('BS Rates'!Y12),\"\"),6)","v":6.9192999999999998},{"$f":"ROUND(IFERROR(('BS Rates'!Z12),\"\"),6)","v":0.94330000000000003},{"$f":"ROUND(IFERROR(('BS Rates'!AA12),\"\"),6)","v":240.434},{"$f":"ROUND(IFERROR(('BS Rates'!AB12),\"\"),6)","v":19.9846},{"$f":"ROUND(IFERROR(('BS Rates'!AC12),\"\"),6)","v":3.4150999999999998},{"$f":"ROUND(IFERROR(('BS Rates'!AD12),\"\"),6)","v":9124.09},{"$f":"ROUND(IFERROR(('BS Rates'!AE12),\"\"),6)","v":8091.13},{"$f":"ROUND(IFERROR(('BS Rates'!AF12),\"\"),6)","v":6.0223000000000004}]
[2011,"2011-12-07",{"$f":"ROUND(IFERROR(('BS Rates'!C13),\"\"),6)","v":1.0322},{"$f":"ROUND(IFERROR(('BS Rates'!D13),\"\"),6)","v":6.3773},{"$f":"ROUND(IFERROR(('BS Rates'!E13),\"\"),6)","v":2004.94},{"$f":"ROUND(IFERROR(('BS Rates'!F13),\"\"),6)","v":0.74990000000000001},{"$f":"ROUND(IFERROR(('BS Rates'!G13),\"\"),6)","v":7.7931999999999997},{"$f":"ROUND(IFERROR(('BS Rates'!H13),\"\"),6)","v":77.952200000000005},{"$f":"ROUND(IFERROR(('BS Rates'!I13),\"\"),6)","v":1154.2},{"$f":"ROUND(IFERROR(('BS Rates'!J13),\"\"),6)","v":8.1792999999999996},{"$f":"ROUND(IFERROR(('BS Rates'!K13),\"\"),6)","v":3.2147999999999999},{"$f":"ROUND(IFERROR(('BS Rates'!L13),\"\"),6)","v":13.997999999999999},{"$f":"ROUND(IFERROR(('BS Rates'!M13),\"\"),6)","v":43.803600000000003},{"$f":"ROUND(IFERROR(('BS Rates'!N13),\"\"),6)","v":1.2986},{"$f":"ROUND(IFERROR(('BS Rates'!O13),\"\"),6)","v":30.4405},{"$f":"ROUND(IFERROR(('BS Rates'!P13),\"\"),6)","v":31.210999999999999},{"$f":"ROUND(IFERROR(('BS Rates'!Q13),\"\"),6)","v":1.8557999999999999},{"$f":"ROUND(IFERROR(('BS Rates'!R13),\"\"),6)","v":4.2996999999999996},{"$f":"ROUND(IFERROR(('BS Rates'!S13),\"\"),6)","v":1.0033000000000001},{"$f":"ROUND(IFERROR(('BS Rates'!T13),\"\"),6)","v":0.64280000000000004},{"$f":"ROUND(IFERROR(('BS Rates'!U13),\"\"),6)","v":1.3218000000000001},{"$f":"ROUND(IFERROR(('BS Rates'!V13),\"\"),6)","v":5.5778999999999996},{"$f":"ROUND(IFERROR(('BS Rates'!W13),\"\"),6)","v":0.74990000000000001},{"$f":"ROUND(IFERROR(('BS Rates'!X13),\"\"),6)","v":1.3186},{"$f":"ROUND(IFERROR(('BS Rates'!Y13),\"\"),6)","v":6.9291999999999998},{"$f":"ROUND(IFERROR(('BS Rates'!Z13),\"\"),6)","v":0.92130000000000001},{"$f":"ROUND(IFERROR(('BS Rates'!AA13),\"\"),6)","v":232.14099999999999},{"$f":"ROUND(IFERROR(('BS Rates'!AB13),\"\"),6)","v":19.238099999999999},{"$f":"ROUND(IFERROR(('BS Rates'!AC13),\"\"),6)","v":3.3978000000000002},{"$f":"ROUND(IFERROR(('BS Rates'!AD13),\"\"),6)","v":9182.74},{"$f":"ROUND(IFERROR(('BS Rates'!AE13),\"\"),6)","v":8238.25},{"$f":"ROUND(IFERROR(('BS Rates'!AF13),\"\"),6)","v":5.8806000000000003}]
[null,"2011-11-07",{"$f":"ROUND(IFERROR(('BS Rates'!C14),\"\"),6)","v":0.99229999999999996},{"$f":"ROUND(IFERROR(('BS Rates'!D14),\"\"),6)","v":6.3754999999999997},{"$f":"ROUND(IFERROR(('BS Rates'!E14),\"\"),6)","v":1876.7},{"$f":"ROUND(IFERROR(('BS Rates'!F14),\"\"),6)","v":0.70709999999999995},{"$f":"ROUND(IFERROR(('BS Rates'!G14),\"\"),6)","v":7.7656000000000001},{"$f":"ROUND(IFERROR(('BS Rates'!H14),\"\"),6)","v":75.838999999999999},{"$f":"ROUND(IFERROR(('BS Rates'!I14),\"\"),6)","v":1104.8499999999999},{"$f":"ROUND(IFERROR(('BS Rates'!J14),\"\"),6)","v":8.1479999999999997},{"$f":"ROUND(IFERROR(('BS Rates'!K14),\"\"),6)","v":3.0688},{"$f":"ROUND(IFERROR(('BS Rates'!L14),\"\"),6)","v":13.027200000000001},{"$f":"ROUND(IFERROR(('BS Rates'!M14),\"\"),6)","v":42.771799999999999},{"$f":"ROUND(IFERROR(('BS Rates'!N14),\"\"),6)","v":1.2425999999999999},{"$f":"ROUND(IFERROR(('BS Rates'!O14),\"\"),6)","v":30.1479},{"$f":"ROUND(IFERROR(('BS Rates'!P14),\"\"),6)","v":30.704999999999998},{"$f":"ROUND(IFERROR(('BS Rates'!Q14),\"\"),6)","v":1.7470000000000001},{"$f":"ROUND(IFERROR(('BS Rates'!R14),\"\"),6)","v":4.3032000000000004},{"$f":"ROUND(IFERROR(('BS Rates'!S14),\"\"),6)","v":0.93489999999999995},{"$f":"ROUND(IFERROR(('BS Rates'!T14),\"\"),6)","v":0.62029999999999996},{"$f":"ROUND(IFERROR(('BS Rates'!U14),\"\"),6)","v":1.2601},{"$f":"ROUND(IFERROR(('BS Rates'!V14),\"\"),6)","v":5.2561},{"$f":"ROUND(IFERROR(('BS Rates'!W14),\"\"),6)","v":0.70709999999999995},{"$f":"ROUND(IFERROR(('BS Rates'!X14),\"\"),6)","v":1.2188000000000001},{"$f":"ROUND(IFERROR(('BS Rates'!Y14),\"\"),6)","v":6.3830999999999998},{"$f":"ROUND(IFERROR(('BS Rates'!Z14),\"\"),6)","v":0.8639},{"$f":"ROUND(IFERROR(('BS Rates'!AA14),\"\"),6)","v":214.60300000000001},{"$f":"ROUND(IFERROR(('BS Rates'!AB14),\"\"),6)","v":17.481000000000002},{"$f":"ROUND(IFERROR(('BS Rates'!AC14),\"\"),6)","v":3.0630000000000002},{"$f":"ROUND(IFERROR(('BS Rates'!AD14),\"\"),6)","v":8818.34},{"$f":"ROUND(IFERROR(('BS Rates'!AE14),\"\"),6)","v":8103.23},{"$f":"ROUND(IFERROR(('BS Rates'!AF14),\"\"),6)","v":5.4417999999999997}]
[null,"2011-10-08",{"$f":"ROUND(IFERROR(('BS Rates'!C15),\"\"),6)","v":1.0328999999999999},{"$f":"ROUND(IFERROR(('BS Rates'!D15),\"\"),6)","v":6.4017999999999997},{"$f":"ROUND(IFERROR(('BS Rates'!E15),\"\"),6)","v":1938.54},{"$f":"ROUND(IFERROR(('BS Rates'!F15),\"\"),6)","v":0.73550000000000004},{"$f":"ROUND(IFERROR(('BS Rates'!G15),\"\"),6)","v":7.7934000000000001},{"$f":"ROUND(IFERROR(('BS Rates'!H15),\"\"),6)","v":76.63},{"$f":"ROUND(IFERROR(('BS Rates'!I15),\"\"),6)","v":1177.72},{"$f":"ROUND(IFERROR(('BS Rates'!J15),\"\"),6)","v":8.1758000000000006},{"$f":"ROUND(IFERROR(('BS Rates'!K15),\"\"),6)","v":3.1884999999999999},{"$f":"ROUND(IFERROR(('BS Rates'!L15),\"\"),6)","v":13.545199999999999},{"$f":"ROUND(IFERROR(('BS Rates'!M15),\"\"),6)","v":43.719000000000001},{"$f":"ROUND(IFERROR(('BS Rates'!N15),\"\"),6)","v":1.296},{"$f":"ROUND(IFERROR(('BS Rates'!O15),\"\"),6)","v":30.541499999999999},{"$f":"ROUND(IFERROR(('BS Rates'!P15),\"\"),6)","v":31.154},{"$f":"ROUND(IFERROR(('BS Rates'!Q15),\"\"),6)","v":1.8533999999999999},{"$f":"ROUND(IFERROR(('BS Rates'!R15),\"\"),6)","v":4.3028000000000004},{"$f":"ROUND(IFERROR(('BS Rates'!S15),\"\"),6)","v":1.0213000000000001},{"$f":"ROUND(IFERROR(('BS Rates'!T15),\"\"),6)","v":0.64},{"$f":"ROUND(IFERROR(('BS Rates'!U15),\"\"),6)","v":1.3123},{"$f":"ROUND(IFERROR(('BS Rates'!V15),\"\"),6)","v":5.47},{"$f":"ROUND(IFERROR(('BS Rates'!W15),\"\"),6)","v":0.73550000000000004},{"$f":"ROUND(IFERROR(('BS Rates'!X15),\"\"),6)","v":1.2885},{"$f":"ROUND(IFERROR(('BS Rates'!Y15),\"\"),6)","v":6.7925000000000004},{"$f":"ROUND(IFERROR(('BS Rates'!Z15),\"\"),6)","v":0.89729999999999999},{"$f":"ROUND(IFERROR(('BS Rates'!AA15),\"\"),6)","v":215.22},{"$f":"ROUND(IFERROR(('BS Rates'!AB15),\"\"),6)","v":18.093399999999999},{"$f":"ROUND(IFERROR(('BS Rates'!AC15),\"\"),6)","v":3.2528000000000001},{"$f":"ROUND(IFERROR(('BS Rates'!AD15),\"\"),6)","v":8936.5499999999993},{"$f":"ROUND(IFERROR(('BS Rates'!AE15),\"\"),6)","v":8111.63},{"$f":"ROUND(IFERROR(('BS Rates'!AF15),\"\"),6)","v":5.7815000000000003}]
[null,"2011-09-08",{"$f":"ROUND(IFERROR(('BS Rates'!C16),\"\"),6)","v":0.97819999999999996},{"$f":"ROUND(IFERROR(('BS Rates'!D16),\"\"),6)","v":6.3800999999999997},{"$f":"ROUND(IFERROR(('BS Rates'!E16),\"\"),6)","v":1795.79},{"$f":"ROUND(IFERROR(('BS Rates'!F16),\"\"),6)","v":0.69120000000000004},{"$f":"ROUND(IFERROR(('BS Rates'!G16),\"\"),6)","v":7.7942},{"$f":"ROUND(IFERROR(('BS Rates'!H16),\"\"),6)","v":76.789299999999997},{"$f":"ROUND(IFERROR(('BS Rates'!I16),\"\"),6)","v":1074.23},{"$f":"ROUND(IFERROR(('BS Rates'!J16),\"\"),6)","v":8.1661999999999999},{"$f":"ROUND(IFERROR(('BS Rates'!K16),\"\"),6)","v":2.9851000000000001},{"$f":"ROUND(IFERROR(('BS Rates'!L16),\"\"),6)","v":12.484},{"$f":"ROUND(IFERROR(('BS Rates'!M16),\"\"),6)","v":42.604799999999997},{"$f":"ROUND(IFERROR(('BS Rates'!N16),\"\"),6)","v":1.2061999999999999},{"$f":"ROUND(IFERROR(('BS Rates'!O16),\"\"),6)","v":29.199200000000001},{"$f":"ROUND(IFERROR(('BS Rates'!P16),\"\"),6)","v":30.168199999999999},{"$f":"ROUND(IFERROR(('BS Rates'!Q16),\"\"),6)","v":1.7350000000000001},{"$f":"ROUND(IFERROR(('BS Rates'!R16),\"\"),6)","v":4.3028000000000004},{"$f":"ROUND(IFERROR(('BS Rates'!S16),\"\"),6)","v":0.93759999999999999},{"$f":"ROUND(IFERROR(('BS Rates'!T16),\"\"),6)","v":0.61170000000000002},{"$f":"ROUND(IFERROR(('BS Rates'!U16),\"\"),6)","v":1.2248000000000001},{"$f":"ROUND(IFERROR(('BS Rates'!V16),\"\"),6)","v":5.1508000000000003},{"$f":"ROUND(IFERROR(('BS Rates'!W16),\"\"),6)","v":0.69120000000000004},{"$f":"ROUND(IFERROR(('BS Rates'!X16),\"\"),6)","v":1.1754},{"$f":"ROUND(IFERROR(('BS Rates'!Y16),\"\"),6)","v":6.3357999999999999},{"$f":"ROUND(IFERROR(('BS Rates'!Z16),\"\"),6)","v":0.81830000000000003},{"$f":"ROUND(IFERROR(('BS Rates'!AA16),\"\"),6)","v":188.34700000000001},{"$f":"ROUND(IFERROR(('BS Rates'!AB16),\"\"),6)","v":16.664100000000001},{"$f":"ROUND(IFERROR(('BS Rates'!AC16),\"\"),6)","v":2.8715000000000002},{"$f":"ROUND(IFERROR(('BS Rates'!AD16),\"\"),6)","v":8576.33},{"$f":"ROUND(IFERROR(('BS Rates'!AE16),\"\"),6)","v":8076.59},{"$f":"ROUND(IFERROR(('BS Rates'!AF16),\"\"),6)","v":5.3632}]
[null,"2011-08-09",{"$f":"ROUND(IFERROR(('BS Rates'!C17),\"\"),6)","v":0.94910000000000005},{"$f":"ROUND(IFERROR(('BS Rates'!D17),\"\"),6)","v":6.4398999999999997},{"$f":"ROUND(IFERROR(('BS Rates'!E17),\"\"),6)","v":1782.19},{"$f":"ROUND(IFERROR(('BS Rates'!F17),\"\"),6)","v":0.69769999999999999},{"$f":"ROUND(IFERROR(('BS Rates'!G17),\"\"),6)","v":7.7926000000000002},{"$f":"ROUND(IFERROR(('BS Rates'!H17),\"\"),6)","v":77.829599999999999},{"$f":"ROUND(IFERROR(('BS Rates'!I17),\"\"),6)","v":1053.6300000000001},{"$f":"ROUND(IFERROR(('BS Rates'!J17),\"\"),6)","v":8.1798999999999999},{"$f":"ROUND(IFERROR(('BS Rates'!K17),\"\"),6)","v":2.9495},{"$f":"ROUND(IFERROR(('BS Rates'!L17),\"\"),6)","v":11.6717},{"$f":"ROUND(IFERROR(('BS Rates'!M17),\"\"),6)","v":42.227699999999999},{"$f":"ROUND(IFERROR(('BS Rates'!N17),\"\"),6)","v":1.2032},{"$f":"ROUND(IFERROR(('BS Rates'!O17),\"\"),6)","v":28.78},{"$f":"ROUND(IFERROR(('BS Rates'!P17),\"\"),6)","v":29.895600000000002},{"$f":"ROUND(IFERROR(('BS Rates'!Q17),\"\"),6)","v":1.6841999999999999},{"$f":"ROUND(IFERROR(('BS Rates'!R17),\"\"),6)","v":4.3032000000000004},{"$f":"ROUND(IFERROR(('BS Rates'!S17),\"\"),6)","v":0.90680000000000005},{"$f":"ROUND(IFERROR(('BS Rates'!T17),\"\"),6)","v":0.61229999999999996},{"$f":"ROUND(IFERROR(('BS Rates'!U17),\"\"),6)","v":1.2224999999999999},{"$f":"ROUND(IFERROR(('BS Rates'!V17),\"\"),6)","v":5.1992000000000003},{"$f":"ROUND(IFERROR(('BS Rates'!W17),\"\"),6)","v":0.69769999999999999},{"$f":"ROUND(IFERROR(('BS Rates'!X17),\"\"),6)","v":1.1472},{"$f":"ROUND(IFERROR(('BS Rates'!Y17),\"\"),6)","v":6.3476999999999997},{"$f":"ROUND(IFERROR(('BS Rates'!Z17),\"\"),6)","v":0.80189999999999995},{"$f":"ROUND(IFERROR(('BS Rates'!AA17),\"\"),6)","v":187.49700000000001},{"$f":"ROUND(IFERROR(('BS Rates'!AB17),\"\"),6)","v":16.9177},{"$f":"ROUND(IFERROR(('BS Rates'!AC17),\"\"),6)","v":2.8041},{"$f":"ROUND(IFERROR(('BS Rates'!AD17),\"\"),6)","v":8510.64},{"$f":"ROUND(IFERROR(('BS Rates'!AE17),\"\"),6)","v":8116.54},{"$f":"ROUND(IFERROR(('BS Rates'!AF17),\"\"),6)","v":5.4086999999999996}]
[null,"2011-07-10",{"$f":"ROUND(IFERROR(('BS Rates'!C18),\"\"),6)","v":0.9768},{"$f":"ROUND(IFERROR(('BS Rates'!D18),\"\"),6)","v":6.4640000000000004},{"$f":"ROUND(IFERROR(('BS Rates'!E18),\"\"),6)","v":1783},{"$f":"ROUND(IFERROR(('BS Rates'!F18),\"\"),6)","v":0.69489999999999996},{"$f":"ROUND(IFERROR(('BS Rates'!G18),\"\"),6)","v":7.7835000000000001},{"$f":"ROUND(IFERROR(('BS Rates'!H18),\"\"),6)","v":80.989999999999995},{"$f":"ROUND(IFERROR(('BS Rates'!I18),\"\"),6)","v":1078.8699999999999},{"$f":"ROUND(IFERROR(('BS Rates'!J18),\"\"),6)","v":8.1568000000000005},{"$f":"ROUND(IFERROR(('BS Rates'!K18),\"\"),6)","v":3.0432999999999999},{"$f":"ROUND(IFERROR(('BS Rates'!L18),\"\"),6)","v":11.8041},{"$f":"ROUND(IFERROR(('BS Rates'!M18),\"\"),6)","v":43.540599999999998},{"$f":"ROUND(IFERROR(('BS Rates'!N18),\"\"),6)","v":1.2363},{"$f":"ROUND(IFERROR(('BS Rates'!O18),\"\"),6)","v":28.92},{"$f":"ROUND(IFERROR(('BS Rates'!P18),\"\"),6)","v":30.888200000000001},{"$f":"ROUND(IFERROR(('BS Rates'!Q18),\"\"),6)","v":1.6234999999999999},{"$f":"ROUND(IFERROR(('BS Rates'!R18),\"\"),6)","v":4.2960000000000003},{"$f":"ROUND(IFERROR(('BS Rates'!S18),\"\"),6)","v":0.94379999999999997},{"$f":"ROUND(IFERROR(('BS Rates'!T18),\"\"),6)","v":0.62429999999999997},{"$f":"ROUND(IFERROR(('BS Rates'!U18),\"\"),6)","v":1.2338},{"$f":"ROUND(IFERROR(('BS Rates'!V18),\"\"),6)","v":5.1843000000000004},{"$f":"ROUND(IFERROR(('BS Rates'!W18),\"\"),6)","v":0.69489999999999996},{"$f":"ROUND(IFERROR(('BS Rates'!X18),\"\"),6)","v":1.2236},{"$f":"ROUND(IFERROR(('BS Rates'!Y18),\"\"),6)","v":6.3373999999999997},{"$f":"ROUND(IFERROR(('BS Rates'!Z18),\"\"),6)","v":0.83309999999999995},{"$f":"ROUND(IFERROR(('BS Rates'!AA18),\"\"),6)","v":183.62},{"$f":"ROUND(IFERROR(('BS Rates'!AB18),\"\"),6)","v":16.815999999999999},{"$f":"ROUND(IFERROR(('BS Rates'!AC18),\"\"),6)","v":2.7627000000000002},{"$f":"ROUND(IFERROR(('BS Rates'!AD18),\"\"),6)","v":8620},{"$f":"ROUND(IFERROR(('BS Rates'!AE18),\"\"),6)","v":8079.05},{"$f":"ROUND(IFERROR(('BS Rates'!AF18),\"\"),6)","v":5.4135999999999997}]
[null,"2011-06-10",{"$f":"ROUND(IFERROR(('BS Rates'!C19),\"\"),6)","v":0.97689999999999999},{"$f":"ROUND(IFERROR(('BS Rates'!D19),\"\"),6)","v":6.4965000000000002},{"$f":"ROUND(IFERROR(('BS Rates'!E19),\"\"),6)","v":1854.25},{"$f":"ROUND(IFERROR(('BS Rates'!F19),\"\"),6)","v":0.70020000000000004},{"$f":"ROUND(IFERROR(('BS Rates'!G19),\"\"),6)","v":7.7801},{"$f":"ROUND(IFERROR(('BS Rates'!H19),\"\"),6)","v":80.863399999999999},{"$f":"ROUND(IFERROR(('BS Rates'!I19),\"\"),6)","v":1081.9000000000001},{"$f":"ROUND(IFERROR(('BS Rates'!J19),\"\"),6)","v":8.1289999999999996},{"$f":"ROUND(IFERROR(('BS Rates'!K19),\"\"),6)","v":3.0238999999999998},{"$f":"ROUND(IFERROR(('BS Rates'!L19),\"\"),6)","v":11.6188},{"$f":"ROUND(IFERROR(('BS Rates'!M19),\"\"),6)","v":43.459499999999998},{"$f":"ROUND(IFERROR(('BS Rates'!N19),\"\"),6)","v":1.2347999999999999},{"$f":"ROUND(IFERROR(('BS Rates'!O19),\"\"),6)","v":28.824999999999999},{"$f":"ROUND(IFERROR(('BS Rates'!P19),\"\"),6)","v":30.450900000000001},{"$f":"ROUND(IFERROR(('BS Rates'!Q19),\"\"),6)","v":1.6054999999999999},{"$f":"ROUND(IFERROR(('BS Rates'!R19),\"\"),6)","v":4.2996999999999996},{"$f":"ROUND(IFERROR(('BS Rates'!S19),\"\"),6)","v":0.93530000000000002},{"$f":"ROUND(IFERROR(('BS Rates'!T19),\"\"),6)","v":0.60709999999999997},{"$f":"ROUND(IFERROR(('BS Rates'!U19),\"\"),6)","v":1.2502},{"$f":"ROUND(IFERROR(('BS Rates'!V19),\"\"),6)","v":5.2213000000000003},{"$f":"ROUND(IFERROR(('BS Rates'!W19),\"\"),6)","v":0.70020000000000004},{"$f":"ROUND(IFERROR(('BS Rates'!X19),\"\"),6)","v":1.2229000000000001},{"$f":"ROUND(IFERROR(('BS Rates'!Y19),\"\"),6)","v":6.2309999999999999},{"$f":"ROUND(IFERROR(('BS Rates'!Z19),\"\"),6)","v":0.85160000000000002},{"$f":"ROUND(IFERROR(('BS Rates'!AA19),\"\"),6)","v":187.911},{"$f":"ROUND(IFERROR(('BS Rates'!AB19),\"\"),6)","v":17.196999999999999},{"$f":"ROUND(IFERROR(('BS Rates'!AC19),\"\"),6)","v":2.7841},{"$f":"ROUND(IFERROR(('BS Rates'!AD19),\"\"),6)","v":8628.1299999999992},{"$f":"ROUND(IFERROR(('BS Rates'!AE19),\"\"),6)","v":8178.7},{"$f":"ROUND(IFERROR(('BS Rates'!AF19),\"\"),6)","v":5.4367999999999999}]
[null,"2011-05-11",{"$f":"ROUND(IFERROR(('BS Rates'!C20),\"\"),6)","v":0.94930000000000003},{"$f":"ROUND(IFERROR(('BS Rates'!D20),\"\"),6)","v":6.5130999999999997},{"$f":"ROUND(IFERROR(('BS Rates'!E20),\"\"),6)","v":1783.64},{"$f":"ROUND(IFERROR(('BS Rates'!F20),\"\"),6)","v":0.67469999999999997},{"$f":"ROUND(IFERROR(('BS Rates'!G20),\"\"),6)","v":7.7697000000000003},{"$f":"ROUND(IFERROR(('BS Rates'!H20),\"\"),6)","v":81.739999999999995},{"$f":"ROUND(IFERROR(('BS Rates'!I20),\"\"),6)","v":1071.47},{"$f":"ROUND(IFERROR(('BS Rates'!J20),\"\"),6)","v":8.1214999999999993},{"$f":"ROUND(IFERROR(('BS Rates'!K20),\"\"),6)","v":2.9575},{"$f":"ROUND(IFERROR(('BS Rates'!L20),\"\"),6)","v":11.5418},{"$f":"ROUND(IFERROR(('BS Rates'!M20),\"\"),6)","v":43.191099999999999},{"$f":"ROUND(IFERROR(('BS Rates'!N20),\"\"),6)","v":1.2282},{"$f":"ROUND(IFERROR(('BS Rates'!O20),\"\"),6)","v":28.824200000000001},{"$f":"ROUND(IFERROR(('BS Rates'!P20),\"\"),6)","v":29.697700000000001},{"$f":"ROUND(IFERROR(('BS Rates'!Q20),\"\"),6)","v":1.5197000000000001},{"$f":"ROUND(IFERROR(('BS Rates'!R20),\"\"),6)","v":4.3036000000000003},{"$f":"ROUND(IFERROR(('BS Rates'!S20),\"\"),6)","v":0.91700000000000004},{"$f":"ROUND(IFERROR(('BS Rates'!T20),\"\"),6)","v":0.6},{"$f":"ROUND(IFERROR(('BS Rates'!U20),\"\"),6)","v":1.2454000000000001},{"$f":"ROUND(IFERROR(('BS Rates'!V20),\"\"),6)","v":5.0317999999999996},{"$f":"ROUND(IFERROR(('BS Rates'!W20),\"\"),6)","v":0.67390000000000005},{"$f":"ROUND(IFERROR(('BS Rates'!X20),\"\"),6)","v":1.2454000000000001},{"$f":"ROUND(IFERROR(('BS Rates'!Y20),\"\"),6)","v":6.0316999999999998},{"$f":"ROUND(IFERROR(('BS Rates'!Z20),\"\"),6)","v":0.87280000000000002},{"$f":"ROUND(IFERROR(('BS Rates'!AA20),\"\"),6)","v":178.43600000000001},{"$f":"ROUND(IFERROR(('BS Rates'!AB20),\"\"),6)","v":16.2803},{"$f":"ROUND(IFERROR(('BS Rates'!AC20),\"\"),6)","v":2.6564000000000001},{"$f":"ROUND(IFERROR(('BS Rates'!AD20),\"\"),6)","v":8583.69},{"$f":"ROUND(IFERROR(('BS Rates'!AE20),\"\"),6)","v":8095.26},{"$f":"ROUND(IFERROR(('BS Rates'!AF20),\"\"),6)","v":5.2675000000000001}]
[null,"2011-04-11",{"$f":"ROUND(IFERROR(('BS Rates'!C21),\"\"),6)","v":0.97250000000000003},{"$f":"ROUND(IFERROR(('BS Rates'!D21),\"\"),6)","v":6.5701000000000001},{"$f":"ROUND(IFERROR(('BS Rates'!E21),\"\"),6)","v":1894.6},{"$f":"ROUND(IFERROR(('BS Rates'!F21),\"\"),6)","v":0.70930000000000004},{"$f":"ROUND(IFERROR(('BS Rates'!G21),\"\"),6)","v":7.7887000000000004},{"$f":"ROUND(IFERROR(('BS Rates'!H21),\"\"),6)","v":82.869900000000001},{"$f":"ROUND(IFERROR(('BS Rates'!I21),\"\"),6)","v":1105.83},{"$f":"ROUND(IFERROR(('BS Rates'!J21),\"\"),6)","v":8.1722000000000001},{"$f":"ROUND(IFERROR(('BS Rates'!K21),\"\"),6)","v":3.0285000000000002},{"$f":"ROUND(IFERROR(('BS Rates'!L21),\"\"),6)","v":11.946300000000001},{"$f":"ROUND(IFERROR(('BS Rates'!M21),\"\"),6)","v":43.461599999999997},{"$f":"ROUND(IFERROR(('BS Rates'!N21),\"\"),6)","v":1.2623},{"$f":"ROUND(IFERROR(('BS Rates'!O21),\"\"),6)","v":29.482099999999999},{"$f":"ROUND(IFERROR(('BS Rates'!P21),\"\"),6)","v":30.434799999999999},{"$f":"ROUND(IFERROR(('BS Rates'!Q21),\"\"),6)","v":1.5562},{"$f":"ROUND(IFERROR(('BS Rates'!R21),\"\"),6)","v":4.3056000000000001},{"$f":"ROUND(IFERROR(('BS Rates'!S21),\"\"),6)","v":0.97},{"$f":"ROUND(IFERROR(('BS Rates'!T21),\"\"),6)","v":0.62380000000000002},{"$f":"ROUND(IFERROR(('BS Rates'!U21),\"\"),6)","v":1.2810999999999999},{"$f":"ROUND(IFERROR(('BS Rates'!V21),\"\"),6)","v":5.2907000000000002},{"$f":"ROUND(IFERROR(('BS Rates'!W21),\"\"),6)","v":0.70930000000000004},{"$f":"ROUND(IFERROR(('BS Rates'!X21),\"\"),6)","v":1.3167},{"$f":"ROUND(IFERROR(('BS Rates'!Y21),\"\"),6)","v":6.343},{"$f":"ROUND(IFERROR(('BS Rates'!Z21),\"\"),6)","v":0.92169999999999996},{"$f":"ROUND(IFERROR(('BS Rates'!AA21),\"\"),6)","v":189.83699999999999},{"$f":"ROUND(IFERROR(('BS Rates'!AB21),\"\"),6)","v":17.434799999999999},{"$f":"ROUND(IFERROR(('BS Rates'!AC21),\"\"),6)","v":2.8388},{"$f":"ROUND(IFERROR(('BS Rates'!AD21),\"\"),6)","v":8748.91},{"$f":"ROUND(IFERROR(('BS Rates'!AE21),\"\"),6)","v":8117.87},{"$f":"ROUND(IFERROR(('BS Rates'!AF21),\"\"),6)","v":5.5941000000000001}]
[null,"2011-03-12",{"$f":"ROUND(IFERROR(('BS Rates'!C22),\"\"),6)","v":0.97819999999999996},{"$f":"ROUND(IFERROR(('BS Rates'!D22),\"\"),6)","v":6.5838999999999999},{"$f":"ROUND(IFERROR(('BS Rates'!E22),\"\"),6)","v":1916.19},{"$f":"ROUND(IFERROR(('BS Rates'!F22),\"\"),6)","v":0.72740000000000005},{"$f":"ROUND(IFERROR(('BS Rates'!G22),\"\"),6)","v":7.7949000000000002},{"$f":"ROUND(IFERROR(('BS Rates'!H22),\"\"),6)","v":81.7333},{"$f":"ROUND(IFERROR(('BS Rates'!I22),\"\"),6)","v":1127.6500000000001},{"$f":"ROUND(IFERROR(('BS Rates'!J22),\"\"),6)","v":8.1682000000000006},{"$f":"ROUND(IFERROR(('BS Rates'!K22),\"\"),6)","v":3.0541999999999998},{"$f":"ROUND(IFERROR(('BS Rates'!L22),\"\"),6)","v":12.142200000000001},{"$f":"ROUND(IFERROR(('BS Rates'!M22),\"\"),6)","v":43.814900000000002},{"$f":"ROUND(IFERROR(('BS Rates'!N22),\"\"),6)","v":1.2735000000000001},{"$f":"ROUND(IFERROR(('BS Rates'!O22),\"\"),6)","v":29.815000000000001},{"$f":"ROUND(IFERROR(('BS Rates'!P22),\"\"),6)","v":30.756900000000002},{"$f":"ROUND(IFERROR(('BS Rates'!Q22),\"\"),6)","v":1.599},{"$f":"ROUND(IFERROR(('BS Rates'!R22),\"\"),6)","v":4.3036000000000003},{"$f":"ROUND(IFERROR(('BS Rates'!S22),\"\"),6)","v":0.98329999999999995},{"$f":"ROUND(IFERROR(('BS Rates'!T22),\"\"),6)","v":0.62070000000000003},{"$f":"ROUND(IFERROR(('BS Rates'!U22),\"\"),6)","v":1.2916000000000001},{"$f":"ROUND(IFERROR(('BS Rates'!V22),\"\"),6)","v":5.4221000000000004},{"$f":"ROUND(IFERROR(('BS Rates'!W22),\"\"),6)","v":0.72740000000000005},{"$f":"ROUND(IFERROR(('BS Rates'!X22),\"\"),6)","v":1.3313999999999999},{"$f":"ROUND(IFERROR(('BS Rates'!Y22),\"\"),6)","v":6.4275000000000002},{"$f":"ROUND(IFERROR(('BS Rates'!Z22),\"\"),6)","v":0.92889999999999995},{"$f":"ROUND(IFERROR(('BS Rates'!AA22),\"\"),6)","v":198.82},{"$f":"ROUND(IFERROR(('BS Rates'!AB22),\"\"),6)","v":17.814800000000002},{"$f":"ROUND(IFERROR(('BS Rates'!AC22),\"\"),6)","v":2.8963999999999999},{"$f":"ROUND(IFERROR(('BS Rates'!AD22),\"\"),6)","v":8849.56},{"$f":"ROUND(IFERROR(('BS Rates'!AE22),\"\"),6)","v":8148.06},{"$f":"ROUND(IFERROR(('BS Rates'!AF22),\"\"),6)","v":5.6483999999999996}]
[null,"2011-02-10",{"$f":"ROUND(IFERROR(('BS Rates'!C23),\"\"),6)","v":1.0017},{"$f":"ROUND(IFERROR(('BS Rates'!D23),\"\"),6)","v":6.5833000000000004},{"$f":"ROUND(IFERROR(('BS Rates'!E23),\"\"),6)","v":1860.9},{"$f":"ROUND(IFERROR(('BS Rates'!F23),\"\"),6)","v":0.73509999999999998},{"$f":"ROUND(IFERROR(('BS Rates'!G23),\"\"),6)","v":7.7914000000000003},{"$f":"ROUND(IFERROR(('BS Rates'!H23),\"\"),6)","v":82.157399999999996},{"$f":"ROUND(IFERROR(('BS Rates'!I23),\"\"),6)","v":1116.07},{"$f":"ROUND(IFERROR(('BS Rates'!J23),\"\"),6)","v":8.2344000000000008},{"$f":"ROUND(IFERROR(('BS Rates'!K23),\"\"),6)","v":3.0558999999999998},{"$f":"ROUND(IFERROR(('BS Rates'!L23),\"\"),6)","v":12.223699999999999},{"$f":"ROUND(IFERROR(('BS Rates'!M23),\"\"),6)","v":44.13},{"$f":"ROUND(IFERROR(('BS Rates'!N23),\"\"),6)","v":1.2854000000000001},{"$f":"ROUND(IFERROR(('BS Rates'!O23),\"\"),6)","v":29.094999999999999},{"$f":"ROUND(IFERROR(('BS Rates'!P23),\"\"),6)","v":31.2834},{"$f":"ROUND(IFERROR(('BS Rates'!Q23),\"\"),6)","v":1.6185},{"$f":"ROUND(IFERROR(('BS Rates'!R23),\"\"),6)","v":4.2960000000000003},{"$f":"ROUND(IFERROR(('BS Rates'!S23),\"\"),6)","v":1.0067999999999999},{"$f":"ROUND(IFERROR(('BS Rates'!T23),\"\"),6)","v":0.63100000000000001},{"$f":"ROUND(IFERROR(('BS Rates'!U23),\"\"),6)","v":1.2825},{"$f":"ROUND(IFERROR(('BS Rates'!V23),\"\"),6)","v":5.4756999999999998},{"$f":"ROUND(IFERROR(('BS Rates'!W23),\"\"),6)","v":0.73509999999999998},{"$f":"ROUND(IFERROR(('BS Rates'!X23),\"\"),6)","v":1.2939000000000001},{"$f":"ROUND(IFERROR(('BS Rates'!Y23),\"\"),6)","v":6.5342000000000002},{"$f":"ROUND(IFERROR(('BS Rates'!Z23),\"\"),6)","v":0.94259999999999999},{"$f":"ROUND(IFERROR(('BS Rates'!AA23),\"\"),6)","v":201.08},{"$f":"ROUND(IFERROR(('BS Rates'!AB23),\"\"),6)","v":17.8538},{"$f":"ROUND(IFERROR(('BS Rates'!AC23),\"\"),6)","v":2.8988999999999998},{"$f":"ROUND(IFERROR(('BS Rates'!AD23),\"\"),6)","v":9140.77},{"$f":"ROUND(IFERROR(('BS Rates'!AE23),\"\"),6)","v":8108},{"$f":"ROUND(IFERROR(('BS Rates'!AF23),\"\"),6)","v":5.8301999999999996}]
[null,"2011-01-11",{"$f":"ROUND(IFERROR(('BS Rates'!C24),\"\"),6)","v":1.0002},{"$f":"ROUND(IFERROR(('BS Rates'!D24),\"\"),6)","v":6.6117999999999997},{"$f":"ROUND(IFERROR(('BS Rates'!E24),\"\"),6)","v":2004.1},{"$f":"ROUND(IFERROR(('BS Rates'!F24),\"\"),6)","v":0.75460000000000005},{"$f":"ROUND(IFERROR(('BS Rates'!G24),\"\"),6)","v":7.7831999999999999},{"$f":"ROUND(IFERROR(('BS Rates'!H24),\"\"),6)","v":81.553299999999993},{"$f":"ROUND(IFERROR(('BS Rates'!I24),\"\"),6)","v":1133.79},{"$f":"ROUND(IFERROR(('BS Rates'!J24),\"\"),6)","v":8.1644000000000005},{"$f":"ROUND(IFERROR(('BS Rates'!K24),\"\"),6)","v":3.0851000000000002},{"$f":"ROUND(IFERROR(('BS Rates'!L24),\"\"),6)","v":12.3895},{"$f":"ROUND(IFERROR(('BS Rates'!M24),\"\"),6)","v":43.898000000000003},{"$f":"ROUND(IFERROR(('BS Rates'!N24),\"\"),6)","v":1.2912999999999999},{"$f":"ROUND(IFERROR(('BS Rates'!O24),\"\"),6)","v":29.4},{"$f":"ROUND(IFERROR(('BS Rates'!P24),\"\"),6)","v":30.296299999999999},{"$f":"ROUND(IFERROR(('BS Rates'!Q24),\"\"),6)","v":1.5551999999999999},{"$f":"ROUND(IFERROR(('BS Rates'!R24),\"\"),6)","v":4.2998000000000003},{"$f":"ROUND(IFERROR(('BS Rates'!S24),\"\"),6)","v":0.98409999999999997},{"$f":"ROUND(IFERROR(('BS Rates'!T24),\"\"),6)","v":0.64649999999999996},{"$f":"ROUND(IFERROR(('BS Rates'!U24),\"\"),6)","v":1.3092999999999999},{"$f":"ROUND(IFERROR(('BS Rates'!V24),\"\"),6)","v":5.6210000000000004},{"$f":"ROUND(IFERROR(('BS Rates'!W24),\"\"),6)","v":0.75460000000000005},{"$f":"ROUND(IFERROR(('BS Rates'!X24),\"\"),6)","v":1.3008999999999999},{"$f":"ROUND(IFERROR(('BS Rates'!Y24),\"\"),6)","v":6.7835000000000001},{"$f":"ROUND(IFERROR(('BS Rates'!Z24),\"\"),6)","v":0.94079999999999997},{"$f":"ROUND(IFERROR(('BS Rates'!AA24),\"\"),6)","v":211.08699999999999},{"$f":"ROUND(IFERROR(('BS Rates'!AB24),\"\"),6)","v":19.0532},{"$f":"ROUND(IFERROR(('BS Rates'!AC24),\"\"),6)","v":2.9933000000000001},{"$f":"ROUND(IFERROR(('BS Rates'!AD24),\"\"),6)","v":9107.4699999999993},{"$f":"ROUND(IFERROR(('BS Rates'!AE24),\"\"),6)","v":8128.64},{"$f":"ROUND(IFERROR(('BS Rates'!AF24),\"\"),6)","v":5.9016000000000002}]
[2010,{"$f":"B25+30","v":"2010-12-07"},{"$f":"ROUND(IFERROR(('BS Rates'!C25),\"\"),6)","v":1.0205},{"$f":"ROUND(IFERROR(('BS Rates'!D25),\"\"),6)","v":6.6714000000000002},{"$f":"ROUND(IFERROR(('BS Rates'!E25),\"\"),6)","v":1914.5},{"$f":"ROUND(IFERROR(('BS Rates'!F25),\"\"),6)","v":0.7581},{"$f":"ROUND(IFERROR(('BS Rates'!G25),\"\"),6)","v":7.7643000000000004},{"$f":"ROUND(IFERROR(('BS Rates'!H25),\"\"),6)","v":84.155699999999996},{"$f":"ROUND(IFERROR(('BS Rates'!I25),\"\"),6)","v":1160.0899999999999},{"$f":"ROUND(IFERROR(('BS Rates'!J25),\"\"),6)","v":8.1430000000000007},{"$f":"ROUND(IFERROR(('BS Rates'!K25),\"\"),6)","v":3.1543999999999999},{"$f":"ROUND(IFERROR(('BS Rates'!L25),\"\"),6)","v":12.504899999999999},{"$f":"ROUND(IFERROR(('BS Rates'!M25),\"\"),6)","v":44.383499999999998},{"$f":"ROUND(IFERROR(('BS Rates'!N25),\"\"),6)","v":1.3193999999999999},{"$f":"ROUND(IFERROR(('BS Rates'!O25),\"\"),6)","v":30.532699999999998},{"$f":"ROUND(IFERROR(('BS Rates'!P25),\"\"),6)","v":30.3614},{"$f":"ROUND(IFERROR(('BS Rates'!Q25),\"\"),6)","v":1.4991000000000001},{"$f":"ROUND(IFERROR(('BS Rates'!R25),\"\"),6)","v":4.3010999999999999},{"$f":"ROUND(IFERROR(('BS Rates'!S25),\"\"),6)","v":1.0379},{"$f":"ROUND(IFERROR(('BS Rates'!T25),\"\"),6)","v":0.64170000000000005},{"$f":"ROUND(IFERROR(('BS Rates'!U25),\"\"),6)","v":1.3391999999999999},{"$f":"ROUND(IFERROR(('BS Rates'!V25),\"\"),6)","v":5.6634000000000002},{"$f":"ROUND(IFERROR(('BS Rates'!W25),\"\"),6)","v":0.7581},{"$f":"ROUND(IFERROR(('BS Rates'!X25),\"\"),6)","v":1.3368},{"$f":"ROUND(IFERROR(('BS Rates'!Y25),\"\"),6)","v":7.0034000000000001},{"$f":"ROUND(IFERROR(('BS Rates'!Z25),\"\"),6)","v":1.0017},{"$f":"ROUND(IFERROR(('BS Rates'!AA25),\"\"),6)","v":214.369},{"$f":"ROUND(IFERROR(('BS Rates'!AB25),\"\"),6)","v":18.8689},{"$f":"ROUND(IFERROR(('BS Rates'!AC25),\"\"),6)","v":3.0886999999999998},{"$f":"ROUND(IFERROR(('BS Rates'!AD25),\"\"),6)","v":9124.09},{"$f":"ROUND(IFERROR(('BS Rates'!AE25),\"\"),6)","v":8193.7900000000009},{"$f":"ROUND(IFERROR(('BS Rates'!AF25),\"\"),6)","v":6.1726000000000001}]
[null,{"$f":"B26+30","v":"2010-11-07"},{"$f":"ROUND(IFERROR(('BS Rates'!C26),\"\"),6)","v":1.0241},{"$f":"ROUND(IFERROR(('BS Rates'!D26),\"\"),6)","v":6.6970000000000001},{"$f":"ROUND(IFERROR(('BS Rates'!E26),\"\"),6)","v":1845.54},{"$f":"ROUND(IFERROR(('BS Rates'!F26),\"\"),6)","v":0.7208},{"$f":"ROUND(IFERROR(('BS Rates'!G26),\"\"),6)","v":7.7576000000000001},{"$f":"ROUND(IFERROR(('BS Rates'!H26),\"\"),6)","v":81.224999999999994},{"$f":"ROUND(IFERROR(('BS Rates'!I26),\"\"),6)","v":1125.6199999999999},{"$f":"ROUND(IFERROR(('BS Rates'!J26),\"\"),6)","v":8.1373999999999995},{"$f":"ROUND(IFERROR(('BS Rates'!K26),\"\"),6)","v":3.1114000000000002},{"$f":"ROUND(IFERROR(('BS Rates'!L26),\"\"),6)","v":12.412599999999999},{"$f":"ROUND(IFERROR(('BS Rates'!M26),\"\"),6)","v":43.1751},{"$f":"ROUND(IFERROR(('BS Rates'!N26),\"\"),6)","v":1.2982},{"$f":"ROUND(IFERROR(('BS Rates'!O26),\"\"),6)","v":30.69},{"$f":"ROUND(IFERROR(('BS Rates'!P26),\"\"),6)","v":30.113499999999998},{"$f":"ROUND(IFERROR(('BS Rates'!Q26),\"\"),6)","v":1.4346000000000001},{"$f":"ROUND(IFERROR(('BS Rates'!R26),\"\"),6)","v":4.2990000000000004},{"$f":"ROUND(IFERROR(('BS Rates'!S26),\"\"),6)","v":1.0169999999999999},{"$f":"ROUND(IFERROR(('BS Rates'!T26),\"\"),6)","v":0.62990000000000002},{"$f":"ROUND(IFERROR(('BS Rates'!U26),\"\"),6)","v":1.3169999999999999},{"$f":"ROUND(IFERROR(('BS Rates'!V26),\"\"),6)","v":5.3766999999999996},{"$f":"ROUND(IFERROR(('BS Rates'!W26),\"\"),6)","v":0.7208},{"$f":"ROUND(IFERROR(('BS Rates'!X26),\"\"),6)","v":1.331},{"$f":"ROUND(IFERROR(('BS Rates'!Y26),\"\"),6)","v":6.7332999999999998},{"$f":"ROUND(IFERROR(('BS Rates'!Z26),\"\"),6)","v":0.9829},{"$f":"ROUND(IFERROR(('BS Rates'!AA26),\"\"),6)","v":196.45599999999999},{"$f":"ROUND(IFERROR(('BS Rates'!AB26),\"\"),6)","v":17.784400000000002},{"$f":"ROUND(IFERROR(('BS Rates'!AC26),\"\"),6)","v":2.8628},{"$f":"ROUND(IFERROR(('BS Rates'!AD26),\"\"),6)","v":8896.7999999999993},{"$f":"ROUND(IFERROR(('BS Rates'!AE26),\"\"),6)","v":8093.65},{"$f":"ROUND(IFERROR(('BS Rates'!AF26),\"\"),6)","v":5.8848000000000003}]
[null,{"$f":"B27+30","v":"2010-10-08"},{"$f":"ROUND(IFERROR(('BS Rates'!C27),\"\"),6)","v":1.0294000000000001},{"$f":"ROUND(IFERROR(('BS Rates'!D27),\"\"),6)","v":6.6981000000000002},{"$f":"ROUND(IFERROR(('BS Rates'!E27),\"\"),6)","v":1814.77},{"$f":"ROUND(IFERROR(('BS Rates'!F27),\"\"),6)","v":0.73480000000000001},{"$f":"ROUND(IFERROR(('BS Rates'!G27),\"\"),6)","v":7.7582000000000004},{"$f":"ROUND(IFERROR(('BS Rates'!H27),\"\"),6)","v":83.673599999999993},{"$f":"ROUND(IFERROR(('BS Rates'!I27),\"\"),6)","v":1142.5999999999999},{"$f":"ROUND(IFERROR(('BS Rates'!J27),\"\"),6)","v":8.1335999999999995},{"$f":"ROUND(IFERROR(('BS Rates'!K27),\"\"),6)","v":3.0886999999999998},{"$f":"ROUND(IFERROR(('BS Rates'!L27),\"\"),6)","v":12.488099999999999},{"$f":"ROUND(IFERROR(('BS Rates'!M27),\"\"),6)","v":43.990099999999998},{"$f":"ROUND(IFERROR(('BS Rates'!N27),\"\"),6)","v":1.3167},{"$f":"ROUND(IFERROR(('BS Rates'!O27),\"\"),6)","v":31.38},{"$f":"ROUND(IFERROR(('BS Rates'!P27),\"\"),6)","v":30.5578},{"$f":"ROUND(IFERROR(('BS Rates'!Q27),\"\"),6)","v":1.4577},{"$f":"ROUND(IFERROR(('BS Rates'!R27),\"\"),6)","v":4.3},{"$f":"ROUND(IFERROR(('BS Rates'!S27),\"\"),6)","v":1.0310999999999999},{"$f":"ROUND(IFERROR(('BS Rates'!T27),\"\"),6)","v":0.63270000000000004},{"$f":"ROUND(IFERROR(('BS Rates'!U27),\"\"),6)","v":1.3352999999999999},{"$f":"ROUND(IFERROR(('BS Rates'!V27),\"\"),6)","v":5.4757999999999996},{"$f":"ROUND(IFERROR(('BS Rates'!W27),\"\"),6)","v":0.73480000000000001},{"$f":"ROUND(IFERROR(('BS Rates'!X27),\"\"),6)","v":1.3548},{"$f":"ROUND(IFERROR(('BS Rates'!Y27),\"\"),6)","v":6.7351000000000001},{"$f":"ROUND(IFERROR(('BS Rates'!Z27),\"\"),6)","v":0.97629999999999995},{"$f":"ROUND(IFERROR(('BS Rates'!AA27),\"\"),6)","v":203.57900000000001},{"$f":"ROUND(IFERROR(('BS Rates'!AB27),\"\"),6)","v":18.091799999999999},{"$f":"ROUND(IFERROR(('BS Rates'!AC27),\"\"),6)","v":2.9214000000000002},{"$f":"ROUND(IFERROR(('BS Rates'!AD27),\"\"),6)","v":9090.91},{"$f":"ROUND(IFERROR(('BS Rates'!AE27),\"\"),6)","v":8217.4699999999993},{"$f":"ROUND(IFERROR(('BS Rates'!AF27),\"\"),6)","v":5.8529999999999998}]
[null,{"$f":"B28+30","v":"2010-09-08"},{"$f":"ROUND(IFERROR(('BS Rates'!C28),\"\"),6)","v":1.03939},{"$f":"ROUND(IFERROR(('BS Rates'!D28),\"\"),6)","v":6.8129999999999997},{"$f":"ROUND(IFERROR(('BS Rates'!E28),\"\"),6)","v":1856.4},{"$f":"ROUND(IFERROR(('BS Rates'!F28),\"\"),6)","v":0.78739999999999999},{"$f":"ROUND(IFERROR(('BS Rates'!G28),\"\"),6)","v":7.7797000000000001},{"$f":"ROUND(IFERROR(('BS Rates'!H28),\"\"),6)","v":84.845799999999997},{"$f":"ROUND(IFERROR(('BS Rates'!I28),\"\"),6)","v":1194.74},{"$f":"ROUND(IFERROR(('BS Rates'!J28),\"\"),6)","v":8.1662999999999997},{"$f":"ROUND(IFERROR(('BS Rates'!K28),\"\"),6)","v":3.1454},{"$f":"ROUND(IFERROR(('BS Rates'!L28),\"\"),6)","v":13.0686},{"$f":"ROUND(IFERROR(('BS Rates'!M28),\"\"),6)","v":45.302300000000002},{"$f":"ROUND(IFERROR(('BS Rates'!N28),\"\"),6)","v":1.3547},{"$f":"ROUND(IFERROR(('BS Rates'!O28),\"\"),6)","v":32.06},{"$f":"ROUND(IFERROR(('BS Rates'!P28),\"\"),6)","v":31.446400000000001},{"$f":"ROUND(IFERROR(('BS Rates'!Q28),\"\"),6)","v":1.5214000000000001},{"$f":"ROUND(IFERROR(('BS Rates'!R28),\"\"),6)","v":4.2996999999999996},{"$f":"ROUND(IFERROR(('BS Rates'!S28),\"\"),6)","v":1.1160000000000001},{"$f":"ROUND(IFERROR(('BS Rates'!T28),\"\"),6)","v":0.64470000000000005},{"$f":"ROUND(IFERROR(('BS Rates'!U28),\"\"),6)","v":1.3747},{"$f":"ROUND(IFERROR(('BS Rates'!V28),\"\"),6)","v":5.8636999999999997},{"$f":"ROUND(IFERROR(('BS Rates'!W28),\"\"),6)","v":0.78739999999999999},{"$f":"ROUND(IFERROR(('BS Rates'!X28),\"\"),6)","v":1.41},{"$f":"ROUND(IFERROR(('BS Rates'!Y28),\"\"),6)","v":7.3951000000000002},{"$f":"ROUND(IFERROR(('BS Rates'!Z28),\"\"),6)","v":1.0275000000000001},{"$f":"ROUND(IFERROR(('BS Rates'!AA28),\"\"),6)","v":224.02699999999999},{"$f":"ROUND(IFERROR(('BS Rates'!AB28),\"\"),6)","v":19.549399999999999},{"$f":"ROUND(IFERROR(('BS Rates'!AC28),\"\"),6)","v":3.1362000000000001},{"$f":"ROUND(IFERROR(('BS Rates'!AD28),\"\"),6)","v":9020},{"$f":"ROUND(IFERROR(('BS Rates'!AE28),\"\"),6)","v":8385}]
[null,{"$f":"B29+30","v":"2010-08-09"},{"$f":"ROUND(IFERROR(('BS Rates'!C29),\"\"),6)","v":1.0345},{"$f":"ROUND(IFERROR(('BS Rates'!D29),\"\"),6)","v":6.7869999999999999},{"$f":"ROUND(IFERROR(('BS Rates'!E29),\"\"),6)","v":1855.43},{"$f":"ROUND(IFERROR(('BS Rates'!F29),\"\"),6)","v":0.76549999999999996},{"$f":"ROUND(IFERROR(('BS Rates'!G29),\"\"),6)","v":7.7667999999999999},{"$f":"ROUND(IFERROR(('BS Rates'!H29),\"\"),6)","v":87.051000000000002},{"$f":"ROUND(IFERROR(('BS Rates'!I29),\"\"),6)","v":1186.94},{"$f":"ROUND(IFERROR(('BS Rates'!J29),\"\"),6)","v":8.1562999999999999},{"$f":"ROUND(IFERROR(('BS Rates'!K29),\"\"),6)","v":3.1928999999999998},{"$f":"ROUND(IFERROR(('BS Rates'!L29),\"\"),6)","v":12.6953},{"$f":"ROUND(IFERROR(('BS Rates'!M29),\"\"),6)","v":45.937199999999997},{"$f":"ROUND(IFERROR(('BS Rates'!N29),\"\"),6)","v":1.3635999999999999},{"$f":"ROUND(IFERROR(('BS Rates'!O29),\"\"),6)","v":31.274999999999999},{"$f":"ROUND(IFERROR(('BS Rates'!P29),\"\"),6)","v":32.407400000000003},{"$f":"ROUND(IFERROR(('BS Rates'!Q29),\"\"),6)","v":1.5123},{"$f":"ROUND(IFERROR(('BS Rates'!R29),\"\"),6)","v":4.3030999999999997},{"$f":"ROUND(IFERROR(('BS Rates'!S29),\"\"),6)","v":1.1100000000000001},{"$f":"ROUND(IFERROR(('BS Rates'!T29),\"\"),6)","v":0.64019999999999999},{"$f":"ROUND(IFERROR(('BS Rates'!U29),\"\"),6)","v":1.38},{"$f":"ROUND(IFERROR(('BS Rates'!V29),\"\"),6)","v":5.7039999999999997},{"$f":"ROUND(IFERROR(('BS Rates'!W29),\"\"),6)","v":0.76549999999999996},{"$f":"ROUND(IFERROR(('BS Rates'!X29),\"\"),6)","v":1.3792},{"$f":"ROUND(IFERROR(('BS Rates'!Y29),\"\"),6)","v":7.2521000000000004},{"$f":"ROUND(IFERROR(('BS Rates'!Z29),\"\"),6)","v":1.0407999999999999},{"$f":"ROUND(IFERROR(('BS Rates'!AA29),\"\"),6)","v":218.47},{"$f":"ROUND(IFERROR(('BS Rates'!AB29),\"\"),6)","v":18.972100000000001},{"$f":"ROUND(IFERROR(('BS Rates'!AC29),\"\"),6)","v":3.0659000000000001},{"$f":"ROUND(IFERROR(('BS Rates'!AD29),\"\"),6)","v":8984.73},{"$f":"ROUND(IFERROR(('BS Rates'!AE29),\"\"),6)","v":8316.73}]
[null,"2010-07-10",{"$f":"ROUND(IFERROR(('BS Rates'!C30),\"\"),6)","v":1.0484},{"$f":"ROUND(IFERROR(('BS Rates'!D30),\"\"),6)","v":6.8086000000000002},{"$f":"ROUND(IFERROR(('BS Rates'!E30),\"\"),6)","v":1918.45},{"$f":"ROUND(IFERROR(('BS Rates'!F30),\"\"),6)","v":0.81930000000000003},{"$f":"ROUND(IFERROR(('BS Rates'!G30),\"\"),6)","v":7.7847},{"$f":"ROUND(IFERROR(('BS Rates'!H30),\"\"),6)","v":88.661500000000004},{"$f":"ROUND(IFERROR(('BS Rates'!I30),\"\"),6)","v":1217.73},{"$f":"ROUND(IFERROR(('BS Rates'!J30),\"\"),6)","v":8.1844000000000001},{"$f":"ROUND(IFERROR(('BS Rates'!K30),\"\"),6)","v":3.2521},{"$f":"ROUND(IFERROR(('BS Rates'!L30),\"\"),6)","v":12.8355},{"$f":"ROUND(IFERROR(('BS Rates'!M30),\"\"),6)","v":46.517400000000002},{"$f":"ROUND(IFERROR(('BS Rates'!N30),\"\"),6)","v":1.3987000000000001},{"$f":"ROUND(IFERROR(('BS Rates'!O30),\"\"),6)","v":32.064999999999998},{"$f":"ROUND(IFERROR(('BS Rates'!P30),\"\"),6)","v":32.586399999999998},{"$f":"ROUND(IFERROR(('BS Rates'!Q30),\"\"),6)","v":1.5842000000000001},{"$f":"ROUND(IFERROR(('BS Rates'!R30),\"\"),6)","v":4.2984999999999998},{"$f":"ROUND(IFERROR(('BS Rates'!S30),\"\"),6)","v":1.1677999999999999},{"$f":"ROUND(IFERROR(('BS Rates'!T30),\"\"),6)","v":0.66369999999999996},{"$f":"ROUND(IFERROR(('BS Rates'!U30),\"\"),6)","v":1.4212},{"$f":"ROUND(IFERROR(('BS Rates'!V30),\"\"),6)","v":6.1021999999999998},{"$f":"ROUND(IFERROR(('BS Rates'!W30),\"\"),6)","v":0.81930000000000003},{"$f":"ROUND(IFERROR(('BS Rates'!X30),\"\"),6)","v":1.4369000000000001},{"$f":"ROUND(IFERROR(('BS Rates'!Y30),\"\"),6)","v":7.8064},{"$f":"ROUND(IFERROR(('BS Rates'!Z30),\"\"),6)","v":1.0851999999999999},{"$f":"ROUND(IFERROR(('BS Rates'!AA30),\"\"),6)","v":235.369},{"$f":"ROUND(IFERROR(('BS Rates'!AB30),\"\"),6)","v":21.134},{"$f":"ROUND(IFERROR(('BS Rates'!AC30),\"\"),6)","v":3.4076},{"$f":"ROUND(IFERROR(('BS Rates'!AD30),\"\"),6)","v":9165.9},{"$f":"IFERROR(('BS Rates'!AE30),\"\")","v":0}]
[null,"2010-06-10",{"$f":"ROUND(IFERROR(('BS Rates'!C31),\"\"),6)","v":1.0550999999999999},{"$f":"ROUND(IFERROR(('BS Rates'!D31),\"\"),6)","v":6.8403},{"$f":"ROUND(IFERROR(('BS Rates'!E31),\"\"),6)","v":1975},{"$f":"ROUND(IFERROR(('BS Rates'!F31),\"\"),6)","v":0.81310000000000004},{"$f":"ROUND(IFERROR(('BS Rates'!G31),\"\"),6)","v":7.7880000000000003},{"$f":"ROUND(IFERROR(('BS Rates'!H31),\"\"),6)","v":90.566100000000006},{"$f":"ROUND(IFERROR(('BS Rates'!I31),\"\"),6)","v":1231.07},{"$f":"ROUND(IFERROR(('BS Rates'!J31),\"\"),6)","v":8.2291000000000007},{"$f":"ROUND(IFERROR(('BS Rates'!K31),\"\"),6)","v":3.3069000000000002},{"$f":"ROUND(IFERROR(('BS Rates'!L31),\"\"),6)","v":12.918900000000001},{"$f":"ROUND(IFERROR(('BS Rates'!M31),\"\"),6)","v":46.672199999999997},{"$f":"ROUND(IFERROR(('BS Rates'!N31),\"\"),6)","v":1.4039999999999999},{"$f":"ROUND(IFERROR(('BS Rates'!O31),\"\"),6)","v":32.049999999999997},{"$f":"ROUND(IFERROR(('BS Rates'!P31),\"\"),6)","v":32.684899999999999},{"$f":"ROUND(IFERROR(('BS Rates'!Q31),\"\"),6)","v":1.5671999999999999},{"$f":"ROUND(IFERROR(('BS Rates'!R31),\"\"),6)","v":4.2996999999999996},{"$f":"ROUND(IFERROR(('BS Rates'!S31),\"\"),6)","v":1.181},{"$f":"ROUND(IFERROR(('BS Rates'!T31),\"\"),6)","v":0.68899999999999995},{"$f":"ROUND(IFERROR(('BS Rates'!U31),\"\"),6)","v":1.4283999999999999},{"$f":"ROUND(IFERROR(('BS Rates'!V31),\"\"),6)","v":6.0496999999999996},{"$f":"ROUND(IFERROR(('BS Rates'!W31),\"\"),6)","v":0.81310000000000004},{"$f":"ROUND(IFERROR(('BS Rates'!X31),\"\"),6)","v":1.4803999999999999},{"$f":"ROUND(IFERROR(('BS Rates'!Y31),\"\"),6)","v":7.8940999999999999},{"$f":"ROUND(IFERROR(('BS Rates'!Z31),\"\"),6)","v":1.1597},{"$f":"ROUND(IFERROR(('BS Rates'!AA31),\"\"),6)","v":224.83},{"$f":"ROUND(IFERROR(('BS Rates'!AB31),\"\"),6)","v":20.853899999999999},{"$f":"ROUND(IFERROR(('BS Rates'!AC31),\"\"),6)","v":3.33},{"$f":"ROUND(IFERROR(('BS Rates'!AD31),\"\"),6)","v":9285.0499999999993}]
[null,"2010-05-10",{"$f":"ROUND(IFERROR(('BS Rates'!C32),\"\"),6)","v":1.006},{"$f":"ROUND(IFERROR(('BS Rates'!D32),\"\"),6)","v":6.8357999999999999},{"$f":"ROUND(IFERROR(('BS Rates'!E32),\"\"),6)","v":1983.69},{"$f":"ROUND(IFERROR(('BS Rates'!F32),\"\"),6)","v":0.75549999999999995},{"$f":"ROUND(IFERROR(('BS Rates'!G32),\"\"),6)","v":7.766},{"$f":"ROUND(IFERROR(('BS Rates'!H32),\"\"),6)","v":94.061499999999995},{"$f":"ROUND(IFERROR(('BS Rates'!I32),\"\"),6)","v":1115.57},{"$f":"ROUND(IFERROR(('BS Rates'!J32),\"\"),6)","v":8.1506000000000007},{"$f":"ROUND(IFERROR(('BS Rates'!K32),\"\"),6)","v":3.1978},{"$f":"ROUND(IFERROR(('BS Rates'!L32),\"\"),6)","v":12.2783},{"$f":"ROUND(IFERROR(('BS Rates'!M32),\"\"),6)","v":44.7498},{"$f":"ROUND(IFERROR(('BS Rates'!N32),\"\"),6)","v":1.3701000000000001},{"$f":"ROUND(IFERROR(('BS Rates'!O32),\"\"),6)","v":31.36},{"$f":"ROUND(IFERROR(('BS Rates'!P32),\"\"),6)","v":32.444000000000003},{"$f":"ROUND(IFERROR(('BS Rates'!Q32),\"\"),6)","v":1.4882},{"$f":"ROUND(IFERROR(('BS Rates'!R32),\"\"),6)","v":4.3002000000000002},{"$f":"ROUND(IFERROR(('BS Rates'!S32),\"\"),6)","v":1.0789},{"$f":"ROUND(IFERROR(('BS Rates'!T32),\"\"),6)","v":0.65559999999999996},{"$f":"ROUND(IFERROR(('BS Rates'!U32),\"\"),6)","v":1.3876999999999999},{"$f":"ROUND(IFERROR(('BS Rates'!V32),\"\"),6)","v":5.6231},{"$f":"ROUND(IFERROR(('BS Rates'!W32),\"\"),6)","v":0.75549999999999995},{"$f":"ROUND(IFERROR(('BS Rates'!X32),\"\"),6)","v":1.3863000000000001},{"$f":"ROUND(IFERROR(('BS Rates'!Y32),\"\"),6)","v":7.2728000000000002},{"$f":"ROUND(IFERROR(('BS Rates'!Z32),\"\"),6)","v":1.0835999999999999},{"$f":"ROUND(IFERROR(('BS Rates'!AA32),\"\"),6)","v":202.32},{"$f":"ROUND(IFERROR(('BS Rates'!AB32),\"\"),6)","v":19.2834},{"$f":"ROUND(IFERROR(('BS Rates'!AC32),\"\"),6)","v":2.9575},{"$f":"ROUND(IFERROR(('BS Rates'!AD32),\"\"),6)","v":9025.27}]
[null,"2010-04-10",{"$f":"ROUND(IFERROR(('BS Rates'!C33),\"\"),6)","v":1.0192000000000001},{"$f":"ROUND(IFERROR(('BS Rates'!D33),\"\"),6)","v":6.8361000000000001},{"$f":"ROUND(IFERROR(('BS Rates'!E33),\"\"),6)","v":1951.75},{"$f":"ROUND(IFERROR(('BS Rates'!F33),\"\"),6)","v":0.74329999999999996},{"$f":"ROUND(IFERROR(('BS Rates'!G33),\"\"),6)","v":7.8},{"$f":"ROUND(IFERROR(('BS Rates'!H33),\"\"),6)","v":92.697400000000002},{"$f":"ROUND(IFERROR(('BS Rates'!I33),\"\"),6)","v":1132.1199999999999},{"$f":"ROUND(IFERROR(('BS Rates'!J33),\"\"),6)","v":8.1417999999999999},{"$f":"ROUND(IFERROR(('BS Rates'!K33),\"\"),6)","v":3.2704},{"$f":"ROUND(IFERROR(('BS Rates'!L33),\"\"),6)","v":12.414999999999999},{"$f":"ROUND(IFERROR(('BS Rates'!M33),\"\"),6)","v":45.407200000000003},{"$f":"ROUND(IFERROR(('BS Rates'!N33),\"\"),6)","v":1.3992},{"$f":"ROUND(IFERROR(('BS Rates'!O33),\"\"),6)","v":31.8001},{"$f":"ROUND(IFERROR(('BS Rates'!P33),\"\"),6)","v":32.526800000000001},{"$f":"ROUND(IFERROR(('BS Rates'!Q33),\"\"),6)","v":1.5301},{"$f":"ROUND(IFERROR(('BS Rates'!R33),\"\"),6)","v":4.2996999999999996},{"$f":"ROUND(IFERROR(('BS Rates'!S33),\"\"),6)","v":1.0879000000000001},{"$f":"ROUND(IFERROR(('BS Rates'!T33),\"\"),6)","v":0.66369999999999996},{"$f":"ROUND(IFERROR(('BS Rates'!U33),\"\"),6)","v":1.4161999999999999},{"$f":"ROUND(IFERROR(('BS Rates'!V33),\"\"),6)","v":5.5339},{"$f":"ROUND(IFERROR(('BS Rates'!W33),\"\"),6)","v":0.74329999999999996},{"$f":"ROUND(IFERROR(('BS Rates'!X33),\"\"),6)","v":1.4073},{"$f":"ROUND(IFERROR(('BS Rates'!Y33),\"\"),6)","v":7.2613000000000003},{"$f":"ROUND(IFERROR(('BS Rates'!Z33),\"\"),6)","v":1.0642},{"$f":"ROUND(IFERROR(('BS Rates'!AA33),\"\"),6)","v":197.959},{"$f":"ROUND(IFERROR(('BS Rates'!AB33),\"\"),6)","v":18.924099999999999},{"$f":"ROUND(IFERROR(('BS Rates'!AC33),\"\"),6)","v":2.8813},{"$f":"IFERROR(('BS Rates'!AD33),\"\")","v":0}]
[null,"2010-03-10",{"$f":"ROUND(IFERROR(('BS Rates'!C34),\"\"),6)","v":1.0604},{"$f":"ROUND(IFERROR(('BS Rates'!D34),\"\"),6)","v":6.8369},{"$f":"ROUND(IFERROR(('BS Rates'!E34),\"\"),6)","v":1969.42},{"$f":"ROUND(IFERROR(('BS Rates'!F34),\"\"),6)","v":0.74080000000000001},{"$f":"ROUND(IFERROR(('BS Rates'!G34),\"\"),6)","v":7.8},{"$f":"ROUND(IFERROR(('BS Rates'!H34),\"\"),6)","v":89.250699999999995},{"$f":"ROUND(IFERROR(('BS Rates'!I34),\"\"),6)","v":1164.82},{"$f":"ROUND(IFERROR(('BS Rates'!J34),\"\"),6)","v":8.1460000000000008},{"$f":"ROUND(IFERROR(('BS Rates'!K34),\"\"),6)","v":3.4073000000000002},{"$f":"ROUND(IFERROR(('BS Rates'!L34),\"\"),6)","v":12.841900000000001},{"$f":"ROUND(IFERROR(('BS Rates'!M34),\"\"),6)","v":46.415999999999997},{"$f":"ROUND(IFERROR(('BS Rates'!N34),\"\"),6)","v":1.411},{"$f":"ROUND(IFERROR(('BS Rates'!O34),\"\"),6)","v":32.1},{"$f":"ROUND(IFERROR(('BS Rates'!P34),\"\"),6)","v":33.226100000000002},{"$f":"ROUND(IFERROR(('BS Rates'!Q34),\"\"),6)","v":1.5531999999999999},{"$f":"ROUND(IFERROR(('BS Rates'!R34),\"\"),6)","v":4.2971000000000004},{"$f":"IFERROR(('BS Rates'!S34),\"\")","v":1.1173999999999999},{"$f":"IFERROR(('BS Rates'!T34),\"\")","v":0.65649999999999997},{"$f":"IFERROR(('BS Rates'!U34),\"\")","v":0},{"$f":"IFERROR(('BS Rates'!V34),\"\")","v":0},{"$f":"IFERROR(('BS Rates'!W34),\"\")","v":0},{"$f":"IFERROR(('BS Rates'!X34),\"\")","v":0},{"$f":"IFERROR(('BS Rates'!Y34),\"\")","v":0},{"$f":"IFERROR(('BS Rates'!Z34),\"\")","v":1.0739000000000001},{"$f":"IFERROR(('BS Rates'!AA34),\"\")","v":197.35},{"$f":"IFERROR(('BS Rates'!AB34),\"\")","v":0},{"$f":"IFERROR(('BS Rates'!AC34),\"\")","v":0},{"$f":"IFERROR(('BS Rates'!AD34),\"\")","v":0}]
[null,"2010-02-07",{"$f":"ROUND(IFERROR(('BS Rates'!C35),\"\"),6)","v":1.0618000000000001},{"$f":"ROUND(IFERROR(('BS Rates'!D35),\"\"),6)","v":6.8369},{"$f":"ROUND(IFERROR(('BS Rates'!E35),\"\"),6)","v":2042.32},{"$f":"ROUND(IFERROR(('BS Rates'!F35),\"\"),6)","v":0.71419999999999995},{"$f":"ROUND(IFERROR(('BS Rates'!G35),\"\"),6)","v":7.8},{"$f":"ROUND(IFERROR(('BS Rates'!H35),\"\"),6)","v":90.136499999999998},{"$f":"ROUND(IFERROR(('BS Rates'!I35),\"\"),6)","v":1154.2},{"$f":"ROUND(IFERROR(('BS Rates'!J35),\"\"),6)","v":8.1502999999999997},{"$f":"ROUND(IFERROR(('BS Rates'!K35),\"\"),6)","v":3.4165000000000001},{"$f":"ROUND(IFERROR(('BS Rates'!L35),\"\"),6)","v":12.965299999999999},{"$f":"ROUND(IFERROR(('BS Rates'!M35),\"\"),6)","v":46.599899999999998},{"$f":"ROUND(IFERROR(('BS Rates'!N35),\"\"),6)","v":1.4036999999999999},{"$f":"ROUND(IFERROR(('BS Rates'!O35),\"\"),6)","v":31.998999999999999},{"$f":"ROUND(IFERROR(('BS Rates'!P35),\"\"),6)","v":33.298299999999998},{"$f":"ROUND(IFERROR(('BS Rates'!Q35),\"\"),6)","v":1.496},{"$f":"ROUND(IFERROR(('BS Rates'!R35),\"\"),6)","v":4.2996999999999996},{"$f":"IFERROR(('BS Rates'!S35),\"\")","v":1.1322000000000001},{"$f":"IFERROR(('BS Rates'!T35),\"\")","v":0.62570000000000003},{"$f":"IFERROR(('BS Rates'!U35),\"\")","v":0},{"$f":"IFERROR(('BS Rates'!V35),\"\")","v":0},{"$f":"IFERROR(('BS Rates'!W35),\"\")","v":0},{"$f":"IFERROR(('BS Rates'!X35),\"\")","v":0},{"$f":"IFERROR(('BS Rates'!Y35),\"\")","v":0},{"$f":"IFERROR(('BS Rates'!Z35),\"\")","v":1.0612999999999999},{"$f":"IFERROR(('BS Rates'!AA35),\"\")","v":195.88499999999999},{"$f":"IFERROR(('BS Rates'!AB35),\"\")","v":0},{"$f":"IFERROR(('BS Rates'!AC35),\"\")","v":0},{"$f":"IFERROR(('BS Rates'!AD35),\"\")","v":0}]
[null,"2010-01-08",{"$f":"ROUND(IFERROR(('BS Rates'!C36),\"\"),6)","v":1.0494000000000001},{"$f":"ROUND(IFERROR(('BS Rates'!D36),\"\"),6)","v":6.8372000000000002},{"$f":"ROUND(IFERROR(('BS Rates'!E36),\"\"),6)","v":2064.63},{"$f":"ROUND(IFERROR(('BS Rates'!F36),\"\"),6)","v":0.69769999999999999},{"$f":"ROUND(IFERROR(('BS Rates'!G36),\"\"),6)","v":7.8},{"$f":"ROUND(IFERROR(('BS Rates'!H36),\"\"),6)","v":92.240099999999998},{"$f":"ROUND(IFERROR(('BS Rates'!I36),\"\"),6)","v":1165.77},{"$f":"ROUND(IFERROR(('BS Rates'!J36),\"\"),6)","v":8.1439000000000004},{"$f":"ROUND(IFERROR(('BS Rates'!K36),\"\"),6)","v":3.4291999999999998},{"$f":"ROUND(IFERROR(('BS Rates'!L36),\"\"),6)","v":13.0388},{"$f":"ROUND(IFERROR(('BS Rates'!M36),\"\"),6)","v":46.424100000000003},{"$f":"ROUND(IFERROR(('BS Rates'!N36),\"\"),6)","v":1.4054},{"$f":"ROUND(IFERROR(('BS Rates'!O36),\"\"),6)","v":32.238},{"$f":"ROUND(IFERROR(('BS Rates'!P36),\"\"),6)","v":33.516800000000003},{"$f":"ROUND(IFERROR(('BS Rates'!Q36),\"\"),6)","v":1.5129999999999999},{"$f":"ROUND(IFERROR(('BS Rates'!R36),\"\"),6)","v":2.1516999999999999},{"$f":"IFERROR(('BS Rates'!S36),\"\")","v":1.1198999999999999},{"$f":"IFERROR(('BS Rates'!T36),\"\")","v":0.62790000000000001},{"$f":"IFERROR(('BS Rates'!U36),\"\")","v":0},{"$f":"IFERROR(('BS Rates'!V36),\"\")","v":0},{"$f":"IFERROR(('BS Rates'!W36),\"\")","v":0},{"$f":"IFERROR(('BS Rates'!X36),\"\")","v":0},{"$f":"IFERROR(('BS Rates'!Y36),\"\")","v":0},{"$f":"IFERROR(('BS Rates'!Z36),\"\")","v":1.038},{"$f":"IFERROR(('BS Rates'!AA36),\"\")","v":190.21100000000001},{"$f":"IFERROR(('BS Rates'!AB36),\"\")","v":0},{"$f":"IFERROR(('BS Rates'!AC36),\"\")","v":0},{"$f":"IFERROR(('BS Rates'!AD36),\"\")","v":0}]
[{"$f":"A24-1","v":2009},"2009-12-09",{"$f":"ROUND(IFERROR(('BS Rates'!C37),\"\"),6)","v":1.0620000000000001},{"$f":"ROUND(IFERROR(('BS Rates'!D37),\"\"),6)","v":6.8285},{"$f":"ROUND(IFERROR(('BS Rates'!E37),\"\"),6)","v":2007},{"$f":"ROUND(IFERROR(('BS Rates'!F37),\"\"),6)","v":0.6673},{"$f":"ROUND(IFERROR(('BS Rates'!G37),\"\"),6)","v":7.8},{"$f":"ROUND(IFERROR(('BS Rates'!H37),\"\"),6)","v":86.656300000000002},{"$f":"ROUND(IFERROR(('BS Rates'!I37),\"\"),6)","v":1182.5899999999999},{"$f":"ROUND(IFERROR(('BS Rates'!J37),\"\"),6)","v":8.0860000000000003},{"$f":"ROUND(IFERROR(('BS Rates'!K37),\"\"),6)","v":3.4298999999999999},{"$f":"ROUND(IFERROR(('BS Rates'!L37),\"\"),6)","v":12.9619},{"$f":"ROUND(IFERROR(('BS Rates'!M37),\"\"),6)","v":47.330599999999997},{"$f":"ROUND(IFERROR(('BS Rates'!N37),\"\"),6)","v":1.3885000000000001},{"$f":"ROUND(IFERROR(('BS Rates'!O37),\"\"),6)","v":32.341999999999999},{"$f":"ROUND(IFERROR(('BS Rates'!P37),\"\"),6)","v":33.212000000000003},{"$f":"ROUND(IFERROR(('BS Rates'!Q37),\"\"),6)","v":1.5207999999999999},{"$f":"ROUND(IFERROR(('BS Rates'!R37),\"\"),6)","v":2.1495000000000002},{"$f":"IFERROR(('BS Rates'!S37),\"\")","v":1.103},{"$f":"IFERROR(('BS Rates'!T37),\"\")","v":0.60589999999999999},{"$f":"IFERROR(('BS Rates'!U37),\"\")","v":0},{"$f":"IFERROR(('BS Rates'!V37),\"\")","v":0},{"$f":"IFERROR(('BS Rates'!W37),\"\")","v":0},{"$f":"IFERROR(('BS Rates'!X37),\"\")","v":0},{"$f":"IFERROR(('BS Rates'!Y37),\"\")","v":0},{"$f":"IFERROR(('BS Rates'!Z37),\"\")","v":1.0058},{"$f":"IFERROR(('BS Rates'!AA37),\"\")","v":182.55},{"$f":"IFERROR(('BS Rates'!AB37),\"\")","v":0},{"$f":"IFERROR(('BS Rates'!AC37),\"\")","v":0},{"$f":"IFERROR(('BS Rates'!AD37),\"\")","v":0}]
[null,"2009-11-08",{"$f":"ROUND(IFERROR(('BS Rates'!C38),\"\"),6)","v":1.0757000000000001},{"$f":"ROUND(IFERROR(('BS Rates'!D38),\"\"),6)","v":6.8395000000000001},{"$f":"ROUND(IFERROR(('BS Rates'!E38),\"\"),6)","v":2021.17},{"$f":"ROUND(IFERROR(('BS Rates'!F38),\"\"),6)","v":0.67759999999999998},{"$f":"ROUND(IFERROR(('BS Rates'!G38),\"\"),6)","v":7.8},{"$f":"ROUND(IFERROR(('BS Rates'!H38),\"\"),6)","v":90.870900000000006},{"$f":"ROUND(IFERROR(('BS Rates'!I38),\"\"),6)","v":1193.46},{"$f":"ROUND(IFERROR(('BS Rates'!J38),\"\"),6)","v":8.1140000000000008},{"$f":"ROUND(IFERROR(('BS Rates'!K38),\"\"),6)","v":3.4278},{"$f":"ROUND(IFERROR(('BS Rates'!L38),\"\"),6)","v":13.238099999999999},{"$f":"ROUND(IFERROR(('BS Rates'!M38),\"\"),6)","v":47.819800000000001},{"$f":"ROUND(IFERROR(('BS Rates'!N38),\"\"),6)","v":1.4009},{"$f":"ROUND(IFERROR(('BS Rates'!O38),\"\"),6)","v":32.58},{"$f":"ROUND(IFERROR(('BS Rates'!P38),\"\"),6)","v":33.432000000000002},{"$f":"ROUND(IFERROR(('BS Rates'!Q38),\"\"),6)","v":1.4990000000000001},{"$f":"ROUND(IFERROR(('BS Rates'!R38),\"\"),6)","v":2.1522999999999999},{"$f":"IFERROR(('BS Rates'!S38),\"\")","v":1.0981000000000001},{"$f":"IFERROR(('BS Rates'!T38),\"\")","v":0.60519999999999996},{"$f":"IFERROR(('BS Rates'!U38),\"\")","v":0},{"$f":"IFERROR(('BS Rates'!V38),\"\")","v":0},{"$f":"IFERROR(('BS Rates'!W38),\"\")","v":0},{"$f":"IFERROR(('BS Rates'!X38),\"\")","v":0},{"$f":"IFERROR(('BS Rates'!Y38),\"\")","v":0},{"$f":"IFERROR(('BS Rates'!Z38),\"\")","v":1.0207999999999999},{"$f":"IFERROR(('BS Rates'!AA38),\"\")","v":185.30500000000001},{"$f":"IFERROR(('BS Rates'!AB38),\"\")","v":0},{"$f":"IFERROR(('BS Rates'!AC38),\"\")","v":0},{"$f":"IFERROR(('BS Rates'!AD38),\"\")","v":0}]
[null,"2009-10-09",{"$f":"ROUND(IFERROR(('BS Rates'!C39),\"\"),6)","v":1.0861000000000001},{"$f":"ROUND(IFERROR(('BS Rates'!D39),\"\"),6)","v":6.8376000000000001},{"$f":"ROUND(IFERROR(('BS Rates'!E39),\"\"),6)","v":1938.52},{"$f":"ROUND(IFERROR(('BS Rates'!F39),\"\"),6)","v":0.68540000000000001},{"$f":"ROUND(IFERROR(('BS Rates'!G39),\"\"),6)","v":7.8},{"$f":"ROUND(IFERROR(('BS Rates'!H39),\"\"),6)","v":89.977999999999994},{"$f":"ROUND(IFERROR(('BS Rates'!I39),\"\"),6)","v":1190.6199999999999},{"$f":"ROUND(IFERROR(('BS Rates'!J39),\"\"),6)","v":8.1228999999999996},{"$f":"ROUND(IFERROR(('BS Rates'!K39),\"\"),6)","v":3.4870000000000001},{"$f":"ROUND(IFERROR(('BS Rates'!L39),\"\"),6)","v":13.5573},{"$f":"ROUND(IFERROR(('BS Rates'!M39),\"\"),6)","v":47.696599999999997},{"$f":"ROUND(IFERROR(('BS Rates'!N39),\"\"),6)","v":1.4184000000000001},{"$f":"ROUND(IFERROR(('BS Rates'!O39),\"\"),6)","v":32.427700000000002},{"$f":"ROUND(IFERROR(('BS Rates'!P39),\"\"),6)","v":33.549999999999997},{"$f":"ROUND(IFERROR(('BS Rates'!Q39),\"\"),6)","v":1.4917},{"$f":"ROUND(IFERROR(('BS Rates'!R39),\"\"),6)","v":2.1522000000000001},{"$f":"IFERROR(('BS Rates'!S39),\"\")","v":1.1458999999999999},{"$f":"IFERROR(('BS Rates'!T40),\"\")","v":0.61480000000000001},{"$f":"IFERROR(('BS Rates'!U39),\"\")","v":0},{"$f":"IFERROR(('BS Rates'!V39),\"\")","v":0},{"$f":"IFERROR(('BS Rates'!W39),\"\")","v":0},{"$f":"IFERROR(('BS Rates'!X39),\"\")","v":0},{"$f":"IFERROR(('BS Rates'!Y39),\"\")","v":0},{"$f":"IFERROR(('BS Rates'!Z39),\"\")","v":1.0356000000000001},{"$f":"IFERROR(('BS Rates'!AA39),\"\")","v":185.279},{"$f":"IFERROR(('BS Rates'!AB39),\"\")","v":0},{"$f":"IFERROR(('BS Rates'!AC39),\"\")","v":0},{"$f":"IFERROR(('BS Rates'!AD39),\"\")","v":0}]
[null,"2009-09-08",{"$f":"ROUND(IFERROR(('BS Rates'!C40),\"\"),6)","v":1.0920000000000001},{"$f":"ROUND(IFERROR(('BS Rates'!D40),\"\"),6)","v":6.8411999999999997},{"$f":"ROUND(IFERROR(('BS Rates'!E40),\"\"),6)","v":2077.9},{"$f":"ROUND(IFERROR(('BS Rates'!F40),\"\"),6)","v":0.69940000000000002},{"$f":"ROUND(IFERROR(('BS Rates'!G40),\"\"),6)","v":7.8},{"$f":"ROUND(IFERROR(('BS Rates'!H40),\"\"),6)","v":93.128500000000003},{"$f":"ROUND(IFERROR(('BS Rates'!I40),\"\"),6)","v":1267.1099999999999},{"$f":"ROUND(IFERROR(('BS Rates'!J40),\"\"),6)","v":8.1219000000000001},{"$f":"ROUND(IFERROR(('BS Rates'!K40),\"\"),6)","v":3.5865999999999998},{"$f":"ROUND(IFERROR(('BS Rates'!L40),\"\"),6)","v":13.2677},{"$f":"ROUND(IFERROR(('BS Rates'!M40),\"\"),6)","v":49.702800000000003},{"$f":"ROUND(IFERROR(('BS Rates'!N40),\"\"),6)","v":1.4423999999999999},{"$f":"ROUND(IFERROR(('BS Rates'!O40),\"\"),6)","v":32.975000000000001},{"$f":"ROUND(IFERROR(('BS Rates'!P40),\"\"),6)","v":34.012999999999998},{"$f":"ROUND(IFERROR(('BS Rates'!Q40),\"\"),6)","v":1.4943900000000001},{"$f":"ROUND(IFERROR(('BS Rates'!R40),\"\"),6)","v":2.1522999999999999},{"$f":"IFERROR(('BS Rates'!S40),\"\")","v":1.1897},{"$f":"IFERROR(('BS Rates'!T41),\"\")","v":0.60799999999999998},{"$f":"IFERROR(('BS Rates'!U40),\"\")","v":0},{"$f":"IFERROR(('BS Rates'!V40),\"\")","v":0},{"$f":"IFERROR(('BS Rates'!W40),\"\")","v":0},{"$f":"IFERROR(('BS Rates'!X40),\"\")","v":0},{"$f":"IFERROR(('BS Rates'!Y40),\"\")","v":0},{"$f":"IFERROR(('BS Rates'!Z40),\"\")","v":1.0602},{"$f":"IFERROR(('BS Rates'!AA40),\"\")","v":190.203},{"$f":"IFERROR(('BS Rates'!AB40),\"\")","v":0},{"$f":"IFERROR(('BS Rates'!AC40),\"\")","v":0},{"$f":"IFERROR(('BS Rates'!AD40),\"\")","v":0}]
[null,"2009-08-08",{"$f":"ROUND(IFERROR(('BS Rates'!C41),\"\"),6)","v":1.0865},{"$f":"ROUND(IFERROR(('BS Rates'!D41),\"\"),6)","v":6.8426},{"$f":"ROUND(IFERROR(('BS Rates'!E41),\"\"),6)","v":2073.67},{"$f":"ROUND(IFERROR(('BS Rates'!F41),\"\"),6)","v":0.71130000000000004},{"$f":"ROUND(IFERROR(('BS Rates'!G41),\"\"),6)","v":7.8},{"$f":"ROUND(IFERROR(('BS Rates'!H41),\"\"),6)","v":95.254199999999997},{"$f":"ROUND(IFERROR(('BS Rates'!I41),\"\"),6)","v":1235.18},{"$f":"ROUND(IFERROR(('BS Rates'!J41),\"\"),6)","v":8.1265000000000001},{"$f":"ROUND(IFERROR(('BS Rates'!K41),\"\"),6)","v":3.5341999999999998},{"$f":"ROUND(IFERROR(('BS Rates'!L41),\"\"),6)","v":13.2577},{"$f":"ROUND(IFERROR(('BS Rates'!M41),\"\"),6)","v":48.206200000000003},{"$f":"ROUND(IFERROR(('BS Rates'!N41),\"\"),6)","v":1.4448000000000001},{"$f":"ROUND(IFERROR(('BS Rates'!O41),\"\"),6)","v":32.862900000000003},{"$f":"ROUND(IFERROR(('BS Rates'!P41),\"\"),6)","v":34.04},{"$f":"ROUND(IFERROR(('BS Rates'!Q41),\"\"),6)","v":1.4837},{"$f":"ROUND(IFERROR(('BS Rates'!R41),\"\"),6)","v":2.1520999999999999},{"$f":"IFERROR(('BS Rates'!S41),\"\")","v":1.2165999999999999},{"$f":"IFERROR(('BS Rates'!T42),\"\")","v":0.60550000000000004},{"$f":"IFERROR(('BS Rates'!U41),\"\")","v":0},{"$f":"IFERROR(('BS Rates'!V41),\"\")","v":0},{"$f":"IFERROR(('BS Rates'!W41),\"\")","v":0},{"$f":"IFERROR(('BS Rates'!X41),\"\")","v":0},{"$f":"IFERROR(('BS Rates'!Y41),\"\")","v":0},{"$f":"IFERROR(('BS Rates'!Z41),\"\")","v":1.0879000000000001},{"$f":"IFERROR(('BS Rates'!AA41),\"\")","v":190.78100000000001},{"$f":"IFERROR(('BS Rates'!AB41),\"\")","v":0},{"$f":"IFERROR(('BS Rates'!AC41),\"\")","v":0},{"$f":"IFERROR(('BS Rates'!AD41),\"\")","v":0}]
[null,"2009-07-09",{"$f":"ROUND(IFERROR(('BS Rates'!C42),\"\"),6)","v":1.1559999999999999},{"$f":"ROUND(IFERROR(('BS Rates'!D42),\"\"),6)","v":6.8448000000000002},{"$f":"ROUND(IFERROR(('BS Rates'!E42),\"\"),6)","v":2179.31},{"$f":"ROUND(IFERROR(('BS Rates'!F42),\"\"),6)","v":0.71189999999999998},{"$f":"ROUND(IFERROR(('BS Rates'!G42),\"\"),6)","v":7.8},{"$f":"ROUND(IFERROR(('BS Rates'!H42),\"\"),6)","v":95.549800000000005},{"$f":"ROUND(IFERROR(('BS Rates'!I42),\"\"),6)","v":1284.69},{"$f":"ROUND(IFERROR(('BS Rates'!J42),\"\"),6)","v":8.1229999999999993},{"$f":"ROUND(IFERROR(('BS Rates'!K42),\"\"),6)","v":3.5400999999999998},{"$f":"ROUND(IFERROR(('BS Rates'!L42),\"\"),6)","v":13.2316},{"$f":"ROUND(IFERROR(('BS Rates'!M42),\"\"),6)","v":48.369399999999999},{"$f":"ROUND(IFERROR(('BS Rates'!N42),\"\"),6)","v":1.4542999999999999},{"$f":"ROUND(IFERROR(('BS Rates'!O42),\"\"),6)","v":32.972200000000001},{"$f":"ROUND(IFERROR(('BS Rates'!P42),\"\"),6)","v":34.024000000000001},{"$f":"ROUND(IFERROR(('BS Rates'!Q42),\"\"),6)","v":1.5405},{"$f":"ROUND(IFERROR(('BS Rates'!R42),\"\"),6)","v":2.1516000000000002},{"$f":"IFERROR(('BS Rates'!S42),\"\")","v":1.2430000000000001},{"$f":"IFERROR(('BS Rates'!T43),\"\")","v":0.6179},{"$f":"IFERROR(('BS Rates'!U42),\"\")","v":0},{"$f":"IFERROR(('BS Rates'!V42),\"\")","v":0},{"$f":"IFERROR(('BS Rates'!W42),\"\")","v":0},{"$f":"IFERROR(('BS Rates'!X42),\"\")","v":0},{"$f":"IFERROR(('BS Rates'!Y42),\"\")","v":0},{"$f":"IFERROR(('BS Rates'!Z42),\"\")","v":1.0855999999999999},{"$f":"IFERROR(('BS Rates'!AA42),\"\")","v":196.75399999999999},{"$f":"IFERROR(('BS Rates'!AB42),\"\")","v":0},{"$f":"IFERROR(('BS Rates'!AC42),\"\")","v":0},{"$f":"IFERROR(('BS Rates'!AD42),\"\")","v":0}]
[null,"2009-06-09",{"$f":"ROUND(IFERROR(('BS Rates'!C43),\"\"),6)","v":1.1191},{"$f":"ROUND(IFERROR(('BS Rates'!D43),\"\"),6)","v":6.8383000000000003},{"$f":"ROUND(IFERROR(('BS Rates'!E43),\"\"),6)","v":2245.6999999999998},{"$f":"ROUND(IFERROR(('BS Rates'!F43),\"\"),6)","v":0.72070000000000001},{"$f":"ROUND(IFERROR(('BS Rates'!G43),\"\"),6)","v":7.8},{"$f":"ROUND(IFERROR(('BS Rates'!H43),\"\"),6)","v":96.472999999999999},{"$f":"ROUND(IFERROR(('BS Rates'!I43),\"\"),6)","v":1263.9000000000001},{"$f":"ROUND(IFERROR(('BS Rates'!J43),\"\"),6)","v":8.1329999999999991},{"$f":"ROUND(IFERROR(('BS Rates'!K43),\"\"),6)","v":3.5192000000000001},{"$f":"ROUND(IFERROR(('BS Rates'!L43),\"\"),6)","v":13.2675},{"$f":"ROUND(IFERROR(('BS Rates'!M43),\"\"),6)","v":47.502899999999997},{"$f":"ROUND(IFERROR(('BS Rates'!N43),\"\"),6)","v":1.4544999999999999},{"$f":"ROUND(IFERROR(('BS Rates'!O43),\"\"),6)","v":32.681699999999999},{"$f":"ROUND(IFERROR(('BS Rates'!P43),\"\"),6)","v":34.378999999999998},{"$f":"ROUND(IFERROR(('BS Rates'!Q43),\"\"),6)","v":1.5805},{"$f":"ROUND(IFERROR(('BS Rates'!R43),\"\"),6)","v":2.1518000000000002},{"$f":"IFERROR(('BS Rates'!S43),\"\")","v":1.2493000000000001},{"$f":"IFERROR(('BS Rates'!T44),\"\")","v":0.67959999999999998},{"$f":"IFERROR(('BS Rates'!U43),\"\")","v":0},{"$f":"IFERROR(('BS Rates'!V43),\"\")","v":0},{"$f":"IFERROR(('BS Rates'!W43),\"\")","v":0},{"$f":"IFERROR(('BS Rates'!X43),\"\")","v":0},{"$f":"IFERROR(('BS Rates'!Y43),\"\")","v":0},{"$f":"IFERROR(('BS Rates'!Z43),\"\")","v":1.0674999999999999},{"$f":"IFERROR(('BS Rates'!AA43),\"\")","v":201.44300000000001},{"$f":"IFERROR(('BS Rates'!AB43),\"\")","v":0},{"$f":"IFERROR(('BS Rates'!AC43),\"\")","v":0},{"$f":"IFERROR(('BS Rates'!AD43),\"\")","v":0}]
[null,"2009-05-08",{"$f":"ROUND(IFERROR(('BS Rates'!C44),\"\"),6)","v":1.21},{"$f":"ROUND(IFERROR(('BS Rates'!D44),\"\"),6)","v":6.8151999999999999},{"$f":"ROUND(IFERROR(('BS Rates'!E44),\"\"),6)","v":2290.33},{"$f":"ROUND(IFERROR(('BS Rates'!F44),\"\"),6)","v":0.75670000000000004},{"$f":"ROUND(IFERROR(('BS Rates'!G44),\"\"),6)","v":7.8},{"$f":"ROUND(IFERROR(('BS Rates'!H44),\"\"),6)","v":96.858500000000006},{"$f":"ROUND(IFERROR(('BS Rates'!I44),\"\"),6)","v":1337.98},{"$f":"ROUND(IFERROR(('BS Rates'!J44),\"\"),6)","v":7.8117999999999999},{"$f":"ROUND(IFERROR(('BS Rates'!K44),\"\"),6)","v":3.5884},{"$f":"ROUND(IFERROR(('BS Rates'!L44),\"\"),6)","v":13.7417},{"$f":"ROUND(IFERROR(('BS Rates'!M44),\"\"),6)","v":48.451000000000001},{"$f":"ROUND(IFERROR(('BS Rates'!N44),\"\"),6)","v":1.4903},{"$f":"ROUND(IFERROR(('BS Rates'!O44),\"\"),6)","v":33.5931},{"$f":"ROUND(IFERROR(('BS Rates'!P44),\"\"),6)","v":35.298000000000002},{"$f":"ROUND(IFERROR(('BS Rates'!Q44),\"\"),6)","v":1.5994999999999999},{"$f":"ROUND(IFERROR(('BS Rates'!R44),\"\"),6)","v":2.1423000000000001},{"$f":"IFERROR(('BS Rates'!S44),\"\")","v":1.3966000000000001},{"$f":"IFERROR(('BS Rates'!T45),\"\")","v":0.70379999999999998},{"$f":"IFERROR(('BS Rates'!U44),\"\")","v":0},{"$f":"IFERROR(('BS Rates'!V44),\"\")","v":0},{"$f":"IFERROR(('BS Rates'!W44),\"\")","v":0},{"$f":"IFERROR(('BS Rates'!X44),\"\")","v":0},{"$f":"IFERROR(('BS Rates'!Y44),\"\")","v":0},{"$f":"IFERROR(('BS Rates'!Z44),\"\")","v":1.1394},{"$f":"IFERROR(('BS Rates'!AA44),\"\")","v":219.50800000000001},{"$f":"IFERROR(('BS Rates'!AB44),\"\")","v":0},{"$f":"IFERROR(('BS Rates'!AC44),\"\")","v":0},{"$f":"IFERROR(('BS Rates'!AD44),\"\")","v":0}]
[null,"2009-04-08",{"$f":"ROUND(IFERROR(('BS Rates'!C45),\"\"),6)","v":1.2488999999999999},{"$f":"ROUND(IFERROR(('BS Rates'!D45),\"\"),6)","v":6.8255999999999997},{"$f":"ROUND(IFERROR(('BS Rates'!E45),\"\"),6)","v":2482.6},{"$f":"ROUND(IFERROR(('BS Rates'!F45),\"\"),6)","v":0.7571},{"$f":"ROUND(IFERROR(('BS Rates'!G45),\"\"),6)","v":7.8},{"$f":"ROUND(IFERROR(('BS Rates'!H45),\"\"),6)","v":97.266099999999994},{"$f":"ROUND(IFERROR(('BS Rates'!I45),\"\"),6)","v":1390.05},{"$f":"ROUND(IFERROR(('BS Rates'!J45),\"\"),6)","v":7.8388999999999998},{"$f":"ROUND(IFERROR(('BS Rates'!K45),\"\"),6)","v":3.6450999999999998},{"$f":"ROUND(IFERROR(('BS Rates'!L45),\"\"),6)","v":14.3954},{"$f":"ROUND(IFERROR(('BS Rates'!M45),\"\"),6)","v":48.304699999999997},{"$f":"ROUND(IFERROR(('BS Rates'!N45),\"\"),6)","v":1.5202},{"$f":"ROUND(IFERROR(('BS Rates'!O45),\"\"),6)","v":33.976100000000002},{"$f":"ROUND(IFERROR(('BS Rates'!P45),\"\"),6)","v":35.523000000000003},{"$f":"ROUND(IFERROR(('BS Rates'!Q45),\"\"),6)","v":1.6968000000000001},{"$f":"ROUND(IFERROR(('BS Rates'!R45),\"\"),6)","v":2.1429999999999998},{"$f":"IFERROR(('BS Rates'!S45),\"\")","v":1.4637},{"$f":"IFERROR(('BS Rates'!T46),\"\")","v":0.70140000000000002},{"$f":"IFERROR(('BS Rates'!U45),\"\")","v":0},{"$f":"IFERROR(('BS Rates'!V45),\"\")","v":0},{"$f":"IFERROR(('BS Rates'!W45),\"\")","v":0},{"$f":"IFERROR(('BS Rates'!X45),\"\")","v":0},{"$f":"IFERROR(('BS Rates'!Y45),\"\")","v":0},{"$f":"IFERROR(('BS Rates'!Z45),\"\")","v":1.149},{"$f":"IFERROR(('BS Rates'!AA45),\"\")","v":234.881},{"$f":"IFERROR(('BS Rates'!AB45),\"\")","v":0},{"$f":"IFERROR(('BS Rates'!AC45),\"\")","v":0},{"$f":"IFERROR(('BS Rates'!AD45),\"\")","v":0}]
[null,"2009-03-08",{"$f":"ROUND(IFERROR(('BS Rates'!C46),\"\"),6)","v":1.2514000000000001},{"$f":"ROUND(IFERROR(('BS Rates'!D46),\"\"),6)","v":6.8274999999999997},{"$f":"ROUND(IFERROR(('BS Rates'!E46),\"\"),6)","v":2549.08},{"$f":"ROUND(IFERROR(('BS Rates'!F46),\"\"),6)","v":0.78459999999999996},{"$f":"ROUND(IFERROR(('BS Rates'!G46),\"\"),6)","v":7.8},{"$f":"ROUND(IFERROR(('BS Rates'!H46),\"\"),6)","v":97.937299999999993},{"$f":"ROUND(IFERROR(('BS Rates'!I46),\"\"),6)","v":1512.4},{"$f":"ROUND(IFERROR(('BS Rates'!J46),\"\"),6)","v":7.8426999999999998},{"$f":"ROUND(IFERROR(('BS Rates'!K46),\"\"),6)","v":3.6688000000000001},{"$f":"ROUND(IFERROR(('BS Rates'!L46),\"\"),6)","v":14.9321},{"$f":"ROUND(IFERROR(('BS Rates'!M46),\"\"),6)","v":48.142200000000003},{"$f":"ROUND(IFERROR(('BS Rates'!N46),\"\"),6)","v":1.5341},{"$f":"ROUND(IFERROR(('BS Rates'!O46),\"\"),6)","v":34.780299999999997},{"$f":"ROUND(IFERROR(('BS Rates'!P46),\"\"),6)","v":36.045999999999999},{"$f":"ROUND(IFERROR(('BS Rates'!Q46),\"\"),6)","v":1.6880999999999999},{"$f":"ROUND(IFERROR(('BS Rates'!R46),\"\"),6)","v":2.1429999999999998},{"$f":"IFERROR(('BS Rates'!S46),\"\")","v":1.5553999999999999},{"$f":"IFERROR(('BS Rates'!T47),\"\")","v":0.69920000000000004},{"$f":"IFERROR(('BS Rates'!U46),\"\")","v":0},{"$f":"IFERROR(('BS Rates'!V46),\"\")","v":0},{"$f":"IFERROR(('BS Rates'!W46),\"\")","v":0},{"$f":"IFERROR(('BS Rates'!X46),\"\")","v":0},{"$f":"IFERROR(('BS Rates'!Y46),\"\")","v":0},{"$f":"IFERROR(('BS Rates'!Z46),\"\")","v":1.1684000000000001},{"$f":"IFERROR(('BS Rates'!AA46),\"\")","v":236.52500000000001},{"$f":"IFERROR(('BS Rates'!AB46),\"\")","v":0},{"$f":"IFERROR(('BS Rates'!AC46),\"\")","v":0},{"$f":"IFERROR(('BS Rates'!AD46),\"\")","v":0}]
[null,"2009-02-08",{"$f":"ROUND(IFERROR(('BS Rates'!C47),\"\"),6)","v":1.2175},{"$f":"ROUND(IFERROR(('BS Rates'!D47),\"\"),6)","v":6.8296999999999999},{"$f":"ROUND(IFERROR(('BS Rates'!E47),\"\"),6)","v":2302.84},{"$f":"ROUND(IFERROR(('BS Rates'!F47),\"\"),6)","v":0.7641},{"$f":"ROUND(IFERROR(('BS Rates'!G47),\"\"),6)","v":7.8},{"$f":"ROUND(IFERROR(('BS Rates'!H47),\"\"),6)","v":90.006200000000007},{"$f":"ROUND(IFERROR(('BS Rates'!I47),\"\"),6)","v":1377.03},{"$f":"ROUND(IFERROR(('BS Rates'!J47),\"\"),6)","v":7.8708},{"$f":"ROUND(IFERROR(('BS Rates'!K47),\"\"),6)","v":3.6002000000000001},{"$f":"ROUND(IFERROR(('BS Rates'!L47),\"\"),6)","v":14.066599999999999},{"$f":"ROUND(IFERROR(('BS Rates'!M47),\"\"),6)","v":46.488900000000001},{"$f":"ROUND(IFERROR(('BS Rates'!N47),\"\"),6)","v":1.5041},{"$f":"ROUND(IFERROR(('BS Rates'!O47),\"\"),6)","v":33.6282},{"$f":"ROUND(IFERROR(('BS Rates'!P47),\"\"),6)","v":34.926000000000002},{"$f":"ROUND(IFERROR(('BS Rates'!Q47),\"\"),6)","v":1.6229},{"$f":"ROUND(IFERROR(('BS Rates'!R47),\"\"),6)","v":2.1423999999999999},{"$f":"IFERROR(('BS Rates'!S47),\"\")","v":1.5558000000000001},{"$f":"IFERROR(('BS Rates'!T48),\"\")","v":0.69099999999999995},{"$f":"IFERROR(('BS Rates'!U47),\"\")","v":0},{"$f":"IFERROR(('BS Rates'!V47),\"\")","v":0},{"$f":"IFERROR(('BS Rates'!W47),\"\")","v":0},{"$f":"IFERROR(('BS Rates'!X47),\"\")","v":0},{"$f":"IFERROR(('BS Rates'!Y47),\"\")","v":0},{"$f":"IFERROR(('BS Rates'!Z47),\"\")","v":1.1571},{"$f":"IFERROR(('BS Rates'!AA47),\"\")","v":230.941},{"$f":"IFERROR(('BS Rates'!AB47),\"\")","v":0},{"$f":"IFERROR(('BS Rates'!AC47),\"\")","v":0},{"$f":"IFERROR(('BS Rates'!AD47),\"\")","v":0}]
[null,"2009-01-08",{"$f":"ROUND(IFERROR(('BS Rates'!C48),\"\"),6)","v":1.222},{"$f":"ROUND(IFERROR(('BS Rates'!D48),\"\"),6)","v":6.8173000000000004},{"$f":"ROUND(IFERROR(('BS Rates'!E48),\"\"),6)","v":2205.16},{"$f":"ROUND(IFERROR(('BS Rates'!F48),\"\"),6)","v":0.70940000000000003},{"$f":"ROUND(IFERROR(('BS Rates'!G48),\"\"),6)","v":7.8},{"$f":"ROUND(IFERROR(('BS Rates'!H48),\"\"),6)","v":90.358199999999997},{"$f":"ROUND(IFERROR(('BS Rates'!I48),\"\"),6)","v":1258.6500000000001},{"$f":"ROUND(IFERROR(('BS Rates'!J48),\"\"),6)","v":7.8996000000000004},{"$f":"ROUND(IFERROR(('BS Rates'!K48),\"\"),6)","v":3.4765000000000001},{"$f":"ROUND(IFERROR(('BS Rates'!L48),\"\"),6)","v":13.7804},{"$f":"ROUND(IFERROR(('BS Rates'!M48),\"\"),6)","v":47.2483},{"$f":"ROUND(IFERROR(('BS Rates'!N48),\"\"),6)","v":1.4419},{"$f":"ROUND(IFERROR(('BS Rates'!O48),\"\"),6)","v":32.7864},{"$f":"ROUND(IFERROR(('BS Rates'!P48),\"\"),6)","v":34.926000000000002},{"$f":"ROUND(IFERROR(('BS Rates'!Q48),\"\"),6)","v":1.52},{"$f":"ROUND(IFERROR(('BS Rates'!R48),\"\"),6)","v":2.1404999999999998},{"$f":"IFERROR(('BS Rates'!S48),\"\")","v":1.4487000000000001},{"$f":"IFERROR(('BS Rates'!T49),\"\")","v":0.65069999999999995},{"$f":"IFERROR(('BS Rates'!U48),\"\")","v":0},{"$f":"IFERROR(('BS Rates'!V48),\"\")","v":0},{"$f":"IFERROR(('BS Rates'!W48),\"\")","v":0},{"$f":"IFERROR(('BS Rates'!X48),\"\")","v":0},{"$f":"IFERROR(('BS Rates'!Y48),\"\")","v":0},{"$f":"IFERROR(('BS Rates'!Z48),\"\")","v":1.0561},{"$f":"IFERROR(('BS Rates'!AA48),\"\")","v":189.38200000000001},{"$f":"IFERROR(('BS Rates'!AB48),\"\")","v":0},{"$f":"IFERROR(('BS Rates'!AC48),\"\")","v":0},{"$f":"IFERROR(('BS Rates'!AD48),\"\")","v":0}]
[{"$f":"A36-1","v":2008},"2008-12-04",{"$f":"ROUND(IFERROR(('BS Rates'!C49),\"\"),6)","v":1.2347999999999999},{"$f":"ROUND(IFERROR(('BS Rates'!D49),\"\"),6)","v":6.8156999999999996},{"$f":"ROUND(IFERROR(('BS Rates'!E49),\"\"),6)","v":2289.9699999999998},{"$f":"ROUND(IFERROR(('BS Rates'!F49),\"\"),6)","v":0.77449999999999997},{"$f":"ROUND(IFERROR(('BS Rates'!G49),\"\"),6)","v":7.8},{"$f":"ROUND(IFERROR(('BS Rates'!H49),\"\"),6)","v":96.245400000000004},{"$f":"ROUND(IFERROR(('BS Rates'!I49),\"\"),6)","v":1502.63},{"$f":"ROUND(IFERROR(('BS Rates'!J49),\"\"),6)","v":7.8308999999999997},{"$f":"ROUND(IFERROR(('BS Rates'!K49),\"\"),6)","v":3.6093000000000002},{"$f":"ROUND(IFERROR(('BS Rates'!L49),\"\"),6)","v":13.5023},{"$f":"ROUND(IFERROR(('BS Rates'!M49),\"\"),6)","v":49.332900000000002},{"$f":"ROUND(IFERROR(('BS Rates'!N49),\"\"),6)","v":1.5129999999999999},{"$f":"ROUND(IFERROR(('BS Rates'!O49),\"\"),6)","v":33.328499999999998},{"$f":"ROUND(IFERROR(('BS Rates'!P49),\"\"),6)","v":35.222999999999999},{"$f":"ROUND(IFERROR(('BS Rates'!Q49),\"\"),6)","v":1.5733999999999999},{"$f":"ROUND(IFERROR(('BS Rates'!R49),\"\"),6)","v":2.1431},{"$f":"IFERROR(('BS Rates'!S49),\"\")","v":1.5290999999999999},{"$f":"IFERROR(('BS Rates'!T50),\"\")","v":0.60709999999999997},{"$f":"IFERROR(('BS Rates'!U49),\"\")","v":0},{"$f":"IFERROR(('BS Rates'!V49),\"\")","v":0},{"$f":"IFERROR(('BS Rates'!W49),\"\")","v":0},{"$f":"IFERROR(('BS Rates'!X49),\"\")","v":0},{"$f":"IFERROR(('BS Rates'!Y49),\"\")","v":0},{"$f":"IFERROR(('BS Rates'!Z49),\"\")","v":1.2138},{"$f":"IFERROR(('BS Rates'!AA49),\"\")","v":204.61},{"$f":"IFERROR(('BS Rates'!AB49),\"\")","v":0},{"$f":"IFERROR(('BS Rates'!AC49),\"\")","v":0},{"$f":"IFERROR(('BS Rates'!AD49),\"\")","v":0}]
[null,"2008-11-05",{"$f":"ROUND(IFERROR(('BS Rates'!C50),\"\"),6)","v":1.2082999999999999},{"$f":"ROUND(IFERROR(('BS Rates'!D50),\"\"),6)","v":6.8253000000000004},{"$f":"ROUND(IFERROR(('BS Rates'!E50),\"\"),6)","v":2330.8200000000002},{"$f":"ROUND(IFERROR(('BS Rates'!F50),\"\"),6)","v":0.76600000000000001},{"$f":"ROUND(IFERROR(('BS Rates'!G50),\"\"),6)","v":7.8},{"$f":"ROUND(IFERROR(('BS Rates'!H50),\"\"),6)","v":98.191599999999994},{"$f":"ROUND(IFERROR(('BS Rates'!I50),\"\"),6)","v":1267.75},{"$f":"ROUND(IFERROR(('BS Rates'!J50),\"\"),6)","v":7.7477},{"$f":"ROUND(IFERROR(('BS Rates'!K50),\"\"),6)","v":3.5221},{"$f":"ROUND(IFERROR(('BS Rates'!L50),\"\"),6)","v":12.896000000000001},{"$f":"ROUND(IFERROR(('BS Rates'!M50),\"\"),6)","v":48.423900000000003},{"$f":"ROUND(IFERROR(('BS Rates'!N50),\"\"),6)","v":1.4718},{"$f":"ROUND(IFERROR(('BS Rates'!O50),\"\"),6)","v":32.750599999999999},{"$f":"ROUND(IFERROR(('BS Rates'!P50),\"\"),6)","v":34.985999999999997},{"$f":"ROUND(IFERROR(('BS Rates'!Q50),\"\"),6)","v":1.5139},{"$f":"ROUND(IFERROR(('BS Rates'!R50),\"\"),6)","v":2.1414},{"$f":"IFERROR(('BS Rates'!S50),\"\")","v":1.4766999999999999},{"$f":"IFERROR(('BS Rates'!T51),\"\")","v":0.5504},{"$f":"IFERROR(('BS Rates'!U50),\"\")","v":0},{"$f":"IFERROR(('BS Rates'!V50),\"\")","v":0},{"$f":"IFERROR(('BS Rates'!W50),\"\")","v":0},{"$f":"IFERROR(('BS Rates'!X50),\"\")","v":0},{"$f":"IFERROR(('BS Rates'!Y50),\"\")","v":0},{"$f":"IFERROR(('BS Rates'!Z50),\"\")","v":1.1321000000000001},{"$f":"IFERROR(('BS Rates'!AA50),\"\")","v":198.36199999999999},{"$f":"IFERROR(('BS Rates'!AB50),\"\")","v":0},{"$f":"IFERROR(('BS Rates'!AC50),\"\")","v":0},{"$f":"IFERROR(('BS Rates'!AD50),\"\")","v":0}]
[null,"2008-10-06",{"$f":"ROUND(IFERROR(('BS Rates'!C51),\"\"),6)","v":1.0378000000000001},{"$f":"ROUND(IFERROR(('BS Rates'!D51),\"\"),6)","v":6.8350999999999997},{"$f":"ROUND(IFERROR(('BS Rates'!E51),\"\"),6)","v":2134.36},{"$f":"ROUND(IFERROR(('BS Rates'!F51),\"\"),6)","v":0.69210000000000005},{"$f":"ROUND(IFERROR(('BS Rates'!G51),\"\"),6)","v":7.8},{"$f":"ROUND(IFERROR(('BS Rates'!H51),\"\"),6)","v":105.86499999999999},{"$f":"ROUND(IFERROR(('BS Rates'!I51),\"\"),6)","v":1180.92},{"$f":"ROUND(IFERROR(('BS Rates'!J51),\"\"),6)","v":7.9151999999999996},{"$f":"ROUND(IFERROR(('BS Rates'!K51),\"\"),6)","v":3.4354},{"$f":"ROUND(IFERROR(('BS Rates'!L51),\"\"),6)","v":10.866400000000001},{"$f":"ROUND(IFERROR(('BS Rates'!M51),\"\"),6)","v":46.735900000000001},{"$f":"ROUND(IFERROR(('BS Rates'!N51),\"\"),6)","v":1.4300999999999999},{"$f":"ROUND(IFERROR(('BS Rates'!O51),\"\"),6)","v":32.140500000000003},{"$f":"ROUND(IFERROR(('BS Rates'!P51),\"\"),6)","v":34.024000000000001},{"$f":"ROUND(IFERROR(('BS Rates'!Q51),\"\"),6)","v":1.2572000000000001},{"$f":"ROUND(IFERROR(('BS Rates'!R51),\"\"),6)","v":2.1429999999999998},{"$f":"IFERROR(('BS Rates'!S51),\"\")","v":1.2185999999999999},{"$f":"IFERROR(('BS Rates'!T52),\"\")","v":0.54930000000000001},{"$f":"IFERROR(('BS Rates'!U51),\"\")","v":0},{"$f":"IFERROR(('BS Rates'!V51),\"\")","v":0},{"$f":"IFERROR(('BS Rates'!W51),\"\")","v":0},{"$f":"IFERROR(('BS Rates'!X51),\"\")","v":0},{"$f":"IFERROR(('BS Rates'!Y51),\"\")","v":0},{"$f":"IFERROR(('BS Rates'!Z51),\"\")","v":1.0971},{"$f":"IFERROR(('BS Rates'!AA51),\"\")","v":168.435},{"$f":"IFERROR(('BS Rates'!AB51),\"\")","v":0},{"$f":"IFERROR(('BS Rates'!AC51),\"\")","v":0},{"$f":"IFERROR(('BS Rates'!AD51),\"\")","v":0}]
[null,"2008-09-07",{"$f":"ROUND(IFERROR(('BS Rates'!C52),\"\"),6)","v":1.0468},{"$f":"ROUND(IFERROR(('BS Rates'!D52),\"\"),6)","v":6.8207000000000004},{"$f":"ROUND(IFERROR(('BS Rates'!E52),\"\"),6)","v":1875.92},{"$f":"ROUND(IFERROR(('BS Rates'!F52),\"\"),6)","v":0.67789999999999995},{"$f":"ROUND(IFERROR(('BS Rates'!G52),\"\"),6)","v":7.8},{"$f":"ROUND(IFERROR(('BS Rates'!H52),\"\"),6)","v":109.31399999999999},{"$f":"ROUND(IFERROR(('BS Rates'!I52),\"\"),6)","v":1080.03},{"$f":"ROUND(IFERROR(('BS Rates'!J52),\"\"),6)","v":7.9173999999999998},{"$f":"ROUND(IFERROR(('BS Rates'!K52),\"\"),6)","v":3.3788},{"$f":"ROUND(IFERROR(('BS Rates'!L52),\"\"),6)","v":10.164300000000001},{"$f":"ROUND(IFERROR(('BS Rates'!M52),\"\"),6)","v":45.4664},{"$f":"ROUND(IFERROR(('BS Rates'!N52),\"\"),6)","v":1.4153},{"$f":"ROUND(IFERROR(('BS Rates'!O52),\"\"),6)","v":31.488900000000001},{"$f":"ROUND(IFERROR(('BS Rates'!P52),\"\"),6)","v":34.17},{"$f":"ROUND(IFERROR(('BS Rates'!Q52),\"\"),6)","v":1.1859999999999999},{"$f":"ROUND(IFERROR(('BS Rates'!R52),\"\"),6)","v":2.1425000000000001},{"$f":"IFERROR(('BS Rates'!S52),\"\")","v":1.1661999999999999},{"$f":"IFERROR(('BS Rates'!T53),\"\")","v":0.505},{"$f":"IFERROR(('BS Rates'!U52),\"\")","v":0},{"$f":"IFERROR(('BS Rates'!V52),\"\")","v":0},{"$f":"IFERROR(('BS Rates'!W52),\"\")","v":0},{"$f":"IFERROR(('BS Rates'!X52),\"\")","v":0},{"$f":"IFERROR(('BS Rates'!Y52),\"\")","v":0},{"$f":"IFERROR(('BS Rates'!Z52),\"\")","v":1.1019000000000001},{"$f":"IFERROR(('BS Rates'!AA52),\"\")","v":162.5},{"$f":"IFERROR(('BS Rates'!AB52),\"\")","v":0},{"$f":"IFERROR(('BS Rates'!AC52),\"\")","v":0},{"$f":"IFERROR(('BS Rates'!AD52),\"\")","v":0}]
[null,"2008-08-08",{"$f":"ROUND(IFERROR(('BS Rates'!C53),\"\"),6)","v":1.0235000000000001},{"$f":"ROUND(IFERROR(('BS Rates'!D53),\"\"),6)","v":6.82},{"$f":"ROUND(IFERROR(('BS Rates'!E53),\"\"),6)","v":1779.25},{"$f":"ROUND(IFERROR(('BS Rates'!F53),\"\"),6)","v":0.64170000000000005},{"$f":"ROUND(IFERROR(('BS Rates'!G53),\"\"),6)","v":7.8},{"$f":"ROUND(IFERROR(('BS Rates'!H53),\"\"),6)","v":108.03700000000001},{"$f":"ROUND(IFERROR(('BS Rates'!I53),\"\"),6)","v":1009.9},{"$f":"ROUND(IFERROR(('BS Rates'!J53),\"\"),6)","v":7.9435000000000002},{"$f":"ROUND(IFERROR(('BS Rates'!K53),\"\"),6)","v":3.2591999999999999},{"$f":"IFERROR(('BS Rates'!L53),\"\")","v":10.048299999999999},{"$f":"ROUND(IFERROR(('BS Rates'!M53),\"\"),6)","v":44.025599999999997},{"$f":"ROUND(IFERROR(('BS Rates'!N53),\"\"),6)","v":1.3680000000000001},{"$f":"ROUND(IFERROR(('BS Rates'!O53),\"\"),6)","v":30.532499999999999},{"$f":"ROUND(IFERROR(('BS Rates'!P53),\"\"),6)","v":33.534999999999997},{"$f":"ROUND(IFERROR(('BS Rates'!Q53),\"\"),6)","v":1.1808000000000001},{"$f":"ROUND(IFERROR(('BS Rates'!R53),\"\"),6)","v":2.1431},{"$f":"IFERROR(('BS Rates'!S53),\"\")","v":1.0555000000000001},{"$f":"IFERROR(('BS Rates'!T54),\"\")","v":0.50139999999999996},{"$f":"IFERROR(('BS Rates'!U53),\"\")","v":0},{"$f":"IFERROR(('BS Rates'!V53),\"\")","v":0},{"$f":"IFERROR(('BS Rates'!W53),\"\")","v":0},{"$f":"IFERROR(('BS Rates'!X53),\"\")","v":0},{"$f":"IFERROR(('BS Rates'!Y53),\"\")","v":0},{"$f":"IFERROR(('BS Rates'!Z53),\"\")","v":1.0468},{"$f":"IFERROR(('BS Rates'!AA53),\"\")","v":148.42099999999999},{"$f":"IFERROR(('BS Rates'!AB53),\"\")","v":0},{"$f":"IFERROR(('BS Rates'!AC53),\"\")","v":0},{"$f":"IFERROR(('BS Rates'!AD53),\"\")","v":0}]
[null,"2008-07-08",{"$f":"ROUND(IFERROR(('BS Rates'!C54),\"\"),6)","v":1.0101},{"$f":"ROUND(IFERROR(('BS Rates'!D54),\"\"),6)","v":6.8517999999999999},{"$f":"ROUND(IFERROR(('BS Rates'!E54),\"\"),6)","v":1839.9},{"$f":"ROUND(IFERROR(('BS Rates'!F54),\"\"),6)","v":0.63300000000000001},{"$f":"ROUND(IFERROR(('BS Rates'!G54),\"\"),6)","v":7.8},{"$f":"ROUND(IFERROR(('BS Rates'!H54),\"\"),6)","v":106.069},{"$f":"ROUND(IFERROR(('BS Rates'!I54),\"\"),6)","v":1039.0999999999999},{"$f":"ROUND(IFERROR(('BS Rates'!J54),\"\"),6)","v":7.9192999999999998},{"$f":"ROUND(IFERROR(('BS Rates'!K54),\"\"),6)","v":3.2538},{"$f":"IFERROR(('BS Rates'!L54),\"\")","v":10.311},{"$f":"ROUND(IFERROR(('BS Rates'!M54),\"\"),6)","v":44.670999999999999},{"$f":"ROUND(IFERROR(('BS Rates'!N54),\"\"),6)","v":1.3625},{"$f":"ROUND(IFERROR(('BS Rates'!O54),\"\"),6)","v":30.4054},{"$f":"ROUND(IFERROR(('BS Rates'!P54),\"\"),6)","v":33.524000000000001},{"$f":"ROUND(IFERROR(('BS Rates'!Q54),\"\"),6)","v":1.2219},{"$f":"ROUND(IFERROR(('BS Rates'!R54),\"\"),6)","v":2.1423000000000001},{"$f":"IFERROR(('BS Rates'!S54),\"\")","v":1.0410999999999999},{"$f":"IFERROR(('BS Rates'!T55),\"\")","v":0.50609999999999999},{"$f":"IFERROR(('BS Rates'!U54),\"\")","v":0},{"$f":"IFERROR(('BS Rates'!V54),\"\")","v":0},{"$f":"IFERROR(('BS Rates'!W54),\"\")","v":0},{"$f":"IFERROR(('BS Rates'!X54),\"\")","v":0},{"$f":"IFERROR(('BS Rates'!Y54),\"\")","v":0},{"$f":"IFERROR(('BS Rates'!Z54),\"\")","v":1.0189999999999999},{"$f":"IFERROR(('BS Rates'!AA54),\"\")","v":150.75},{"$f":"IFERROR(('BS Rates'!AB54),\"\")","v":0},{"$f":"IFERROR(('BS Rates'!AC54),\"\")","v":0},{"$f":"IFERROR(('BS Rates'!AD54),\"\")","v":0}]
[null,"2008-06-08",{"$f":"ROUND(IFERROR(('BS Rates'!C55),\"\"),6)","v":0.9889},{"$f":"ROUND(IFERROR(('BS Rates'!D55),\"\"),6)","v":6.9286000000000003},{"$f":"ROUND(IFERROR(('BS Rates'!E55),\"\"),6)","v":1737.59},{"$f":"ROUND(IFERROR(('BS Rates'!F55),\"\"),6)","v":0.64159999999999995},{"$f":"ROUND(IFERROR(('BS Rates'!G55),\"\"),6)","v":7.8},{"$f":"ROUND(IFERROR(('BS Rates'!H55),\"\"),6)","v":105.087},{"$f":"ROUND(IFERROR(('BS Rates'!I55),\"\"),6)","v":1031.1400000000001},{"$f":"ROUND(IFERROR(('BS Rates'!J55),\"\"),6)","v":7.9040999999999997},{"$f":"ROUND(IFERROR(('BS Rates'!K55),\"\"),6)","v":3.2484000000000002},{"$f":"IFERROR(('BS Rates'!L55),\"\")","v":10.335699999999999},{"$f":"ROUND(IFERROR(('BS Rates'!M55),\"\"),6)","v":43.789499999999997},{"$f":"ROUND(IFERROR(('BS Rates'!N55),\"\"),6)","v":1.3655999999999999},{"$f":"ROUND(IFERROR(('BS Rates'!O55),\"\"),6)","v":30.472799999999999},{"$f":"ROUND(IFERROR(('BS Rates'!P55),\"\"),6)","v":32.572600000000001},{"$f":"ROUND(IFERROR(('BS Rates'!Q55),\"\"),6)","v":1.2163999999999999},{"$f":"ROUND(IFERROR(('BS Rates'!R55),\"\"),6)","v":2.1423000000000001},{"$f":"IFERROR(('BS Rates'!S55),\"\")","v":1.0468999999999999},{"$f":"IFERROR(('BS Rates'!T56),\"\")","v":0.50460000000000005},{"$f":"IFERROR(('BS Rates'!U55),\"\")","v":0},{"$f":"IFERROR(('BS Rates'!V55),\"\")","v":0},{"$f":"IFERROR(('BS Rates'!W55),\"\")","v":0},{"$f":"IFERROR(('BS Rates'!X55),\"\")","v":0},{"$f":"IFERROR(('BS Rates'!Y55),\"\")","v":0},{"$f":"IFERROR(('BS Rates'!Z55),\"\")","v":1.0469999999999999},{"$f":"IFERROR(('BS Rates'!AA55),\"\")","v":155.364},{"$f":"IFERROR(('BS Rates'!AB55),\"\")","v":0},{"$f":"IFERROR(('BS Rates'!AC55),\"\")","v":0},{"$f":"IFERROR(('BS Rates'!AD55),\"\")","v":0}]
[null,"2008-05-08",{"$f":"ROUND(IFERROR(('BS Rates'!C56),\"\"),6)","v":1.0130999999999999},{"$f":"ROUND(IFERROR(('BS Rates'!D56),\"\"),6)","v":6.9756999999999998},{"$f":"ROUND(IFERROR(('BS Rates'!E56),\"\"),6)","v":1760.45},{"$f":"ROUND(IFERROR(('BS Rates'!F56),\"\"),6)","v":0.64070000000000005},{"$f":"ROUND(IFERROR(('BS Rates'!G56),\"\"),6)","v":7.8},{"$f":"ROUND(IFERROR(('BS Rates'!H56),\"\"),6)","v":104.035},{"$f":"ROUND(IFERROR(('BS Rates'!I56),\"\"),6)","v":1000.6},{"$f":"ROUND(IFERROR(('BS Rates'!J56),\"\"),6)","v":7.9017999999999997},{"$f":"ROUND(IFERROR(('BS Rates'!K56),\"\"),6)","v":3.1528},{"$f":"IFERROR(('BS Rates'!L56),\"\")","v":10.4962},{"$f":"ROUND(IFERROR(('BS Rates'!M56),\"\"),6)","v":42.029699999999998},{"$f":"ROUND(IFERROR(('BS Rates'!N56),\"\"),6)","v":1.3605},{"$f":"ROUND(IFERROR(('BS Rates'!O56),\"\"),6)","v":30.413},{"$f":"ROUND(IFERROR(('BS Rates'!P56),\"\"),6)","v":31.712605},{"$f":"ROUND(IFERROR(('BS Rates'!Q56),\"\"),6)","v":1.2857000000000001},{"$f":"ROUND(IFERROR(('BS Rates'!R56),\"\"),6)","v":2.1423999999999999},{"$f":"IFERROR(('BS Rates'!S56),\"\")","v":1.0697000000000001},{"$f":"IFERROR(('BS Rates'!T57),\"\")","v":0.50149999999999995},{"$f":"IFERROR(('BS Rates'!U56),\"\")","v":0},{"$f":"IFERROR(('BS Rates'!V56),\"\")","v":0},{"$f":"IFERROR(('BS Rates'!W56),\"\")","v":0},{"$f":"IFERROR(('BS Rates'!X56),\"\")","v":0},{"$f":"IFERROR(('BS Rates'!Y56),\"\")","v":0},{"$f":"IFERROR(('BS Rates'!Z56),\"\")","v":1.0358000000000001},{"$f":"IFERROR(('BS Rates'!AA56),\"\")","v":162.505},{"$f":"IFERROR(('BS Rates'!AB56),\"\")","v":0},{"$f":"IFERROR(('BS Rates'!AC56),\"\")","v":0},{"$f":"IFERROR(('BS Rates'!AD56),\"\")","v":0}]
[null,"2008-04-08",{"$f":"ROUND(IFERROR(('BS Rates'!C57),\"\"),6)","v":1.02},{"$f":"ROUND(IFERROR(('BS Rates'!D57),\"\"),6)","v":7},{"$f":"ROUND(IFERROR(('BS Rates'!E57),\"\"),6)","v":1783.7},{"$f":"ROUND(IFERROR(('BS Rates'!F57),\"\"),6)","v":0.63},{"$f":"ROUND(IFERROR(('BS Rates'!G57),\"\"),6)","v":7.8},{"$f":"ROUND(IFERROR(('BS Rates'!H57),\"\"),6)","v":99.19},{"$f":"ROUND(IFERROR(('BS Rates'!I57),\"\"),6)","v":991.05},{"$f":"ROUND(IFERROR(('BS Rates'!J57),\"\"),6)","v":7.92},{"$f":"ROUND(IFERROR(('BS Rates'!K57),\"\"),6)","v":3.19},{"$f":"IFERROR(('BS Rates'!L57),\"\")","v":10.714499999999999},{"$f":"ROUND(IFERROR(('BS Rates'!M57),\"\"),6)","v":41.78},{"$f":"ROUND(IFERROR(('BS Rates'!N57),\"\"),6)","v":1.38},{"$f":"ROUND(IFERROR(('BS Rates'!O57),\"\"),6)","v":30.41},{"$f":"ROUND(IFERROR(('BS Rates'!P57),\"\"),6)","v":31.62},{"$f":"IFERROR(('BS Rates'!Q57),\"\")","v":0},{"$f":"ROUND(IFERROR(('BS Rates'!R57),\"\"),6)","v":2.14},{"$f":"IFERROR(('BS Rates'!S57),\"\")","v":1.0908},{"$f":"IFERROR(('BS Rates'!T58),\"\")","v":0.504},{"$f":"IFERROR(('BS Rates'!U57),\"\")","v":0},{"$f":"IFERROR(('BS Rates'!V57),\"\")","v":0},{"$f":"IFERROR(('BS Rates'!W57),\"\")","v":0},{"$f":"IFERROR(('BS Rates'!X57),\"\")","v":0},{"$f":"IFERROR(('BS Rates'!Y57),\"\")","v":0},{"$f":"IFERROR(('BS Rates'!Z57),\"\")","v":0.99550000000000005},{"$f":"IFERROR(('BS Rates'!AA57),\"\")","v":164.26300000000001},{"$f":"IFERROR(('BS Rates'!AB57),\"\")","v":0},{"$f":"IFERROR(('BS Rates'!AC57),\"\")","v":0},{"$f":"IFERROR(('BS Rates'!AD57),\"\")","v":0}]
[null,"2008-03-08",{"$f":"ROUND(IFERROR(('BS Rates'!C58),\"\"),6)","v":0.98},{"$f":"ROUND(IFERROR(('BS Rates'!D58),\"\"),6)","v":7.1},{"$f":"ROUND(IFERROR(('BS Rates'!E58),\"\"),6)","v":1828.78},{"$f":"ROUND(IFERROR(('BS Rates'!F58),\"\"),6)","v":0.66},{"$f":"ROUND(IFERROR(('BS Rates'!G58),\"\"),6)","v":7.8},{"$f":"ROUND(IFERROR(('BS Rates'!H58),\"\"),6)","v":106.17},{"$f":"ROUND(IFERROR(('BS Rates'!I58),\"\"),6)","v":932.97},{"$f":"ROUND(IFERROR(('BS Rates'!J58),\"\"),6)","v":7.89},{"$f":"ROUND(IFERROR(('BS Rates'!K58),\"\"),6)","v":3.2},{"$f":"IFERROR(('BS Rates'!L58),\"\")","v":10.6965},{"$f":"ROUND(IFERROR(('BS Rates'!M58),\"\"),6)","v":40.25},{"$f":"ROUND(IFERROR(('BS Rates'!N58),\"\"),6)","v":1.4},{"$f":"ROUND(IFERROR(('BS Rates'!O58),\"\"),6)","v":30.88},{"$f":"ROUND(IFERROR(('BS Rates'!P58),\"\"),6)","v":32.020000000000003},{"$f":"IFERROR(('BS Rates'!Q58),\"\")","v":0},{"$f":"ROUND(IFERROR(('BS Rates'!R58),\"\"),6)","v":2.14},{"$f":"IFERROR(('BS Rates'!S58),\"\")","v":1.0606},{"$f":"IFERROR(('BS Rates'!T59),\"\")","v":0.50260000000000005},{"$f":"IFERROR(('BS Rates'!U58),\"\")","v":0},{"$f":"IFERROR(('BS Rates'!V58),\"\")","v":0},{"$f":"IFERROR(('BS Rates'!W58),\"\")","v":0},{"$f":"IFERROR(('BS Rates'!X58),\"\")","v":0},{"$f":"IFERROR(('BS Rates'!Y58),\"\")","v":0},{"$f":"IFERROR(('BS Rates'!Z58),\"\")","v":1.0605},{"$f":"IFERROR(('BS Rates'!AA58),\"\")","v":171.571},{"$f":"IFERROR(('BS Rates'!AB58),\"\")","v":0},{"$f":"IFERROR(('BS Rates'!AC58),\"\")","v":0},{"$f":"IFERROR(('BS Rates'!AD58),\"\")","v":0}]
[null,"2008-02-08",{"$f":"ROUND(IFERROR(('BS Rates'!C59),\"\"),6)","v":1},{"$f":"ROUND(IFERROR(('BS Rates'!D59),\"\"),6)","v":7.2},{"$f":"ROUND(IFERROR(('BS Rates'!E59),\"\"),6)","v":1982},{"$f":"ROUND(IFERROR(('BS Rates'!F59),\"\"),6)","v":0.68},{"$f":"ROUND(IFERROR(('BS Rates'!G59),\"\"),6)","v":7.8},{"$f":"ROUND(IFERROR(('BS Rates'!H59),\"\"),6)","v":106.98},{"$f":"ROUND(IFERROR(('BS Rates'!I59),\"\"),6)","v":940.69},{"$f":"ROUND(IFERROR(('BS Rates'!J59),\"\"),6)","v":8.18},{"$f":"ROUND(IFERROR(('BS Rates'!K59),\"\"),6)","v":3.24},{"$f":"IFERROR(('BS Rates'!L59),\"\")","v":10.8483},{"$f":"ROUND(IFERROR(('BS Rates'!M59),\"\"),6)","v":40.61},{"$f":"ROUND(IFERROR(('BS Rates'!N59),\"\"),6)","v":1.42},{"$f":"ROUND(IFERROR(('BS Rates'!O59),\"\"),6)","v":32.26},{"$f":"ROUND(IFERROR(('BS Rates'!P59),\"\"),6)","v":33.03},{"$f":"IFERROR(('BS Rates'!Q59),\"\")","v":0},{"$f":"ROUND(IFERROR(('BS Rates'!R59),\"\"),6)","v":2.15},{"$f":"IFERROR(('BS Rates'!S59),\"\")","v":1.1254},{"$f":"IFERROR(('BS Rates'!T60),\"\")","v":0.50090000000000001},{"$f":"IFERROR(('BS Rates'!U59),\"\")","v":0},{"$f":"IFERROR(('BS Rates'!V59),\"\")","v":0},{"$f":"IFERROR(('BS Rates'!W59),\"\")","v":0},{"$f":"IFERROR(('BS Rates'!X59),\"\")","v":0},{"$f":"IFERROR(('BS Rates'!Y59),\"\")","v":0},{"$f":"IFERROR(('BS Rates'!Z59),\"\")","v":1.0923},{"$f":"IFERROR(('BS Rates'!AA59),\"\")","v":174.65600000000001},{"$f":"IFERROR(('BS Rates'!AB59),\"\")","v":0},{"$f":"IFERROR(('BS Rates'!AC59),\"\")","v":0},{"$f":"IFERROR(('BS Rates'!AD59),\"\")","v":0}]
[null,"2008-01-08",{"$f":"ROUND(IFERROR(('BS Rates'!C60),\"\"),6)","v":0.98},{"$f":"ROUND(IFERROR(('BS Rates'!D60),\"\"),6)","v":7.29},{"$f":"ROUND(IFERROR(('BS Rates'!E60),\"\"),6)","v":1976.2},{"$f":"ROUND(IFERROR(('BS Rates'!F60),\"\"),6)","v":0.68},{"$f":"ROUND(IFERROR(('BS Rates'!G60),\"\"),6)","v":7.8},{"$f":"ROUND(IFERROR(('BS Rates'!H60),\"\"),6)","v":112.25},{"$f":"ROUND(IFERROR(('BS Rates'!I60),\"\"),6)","v":934.49},{"$f":"ROUND(IFERROR(('BS Rates'!J60),\"\"),6)","v":7.89},{"$f":"ROUND(IFERROR(('BS Rates'!K60),\"\"),6)","v":3.31},{"$f":"IFERROR(('BS Rates'!L60),\"\")","v":10.923500000000001},{"$f":"ROUND(IFERROR(('BS Rates'!M60),\"\"),6)","v":41.11},{"$f":"ROUND(IFERROR(('BS Rates'!N60),\"\"),6)","v":1.45},{"$f":"ROUND(IFERROR(('BS Rates'!O60),\"\"),6)","v":32.5},{"$f":"ROUND(IFERROR(('BS Rates'!P60),\"\"),6)","v":33.75},{"$f":"IFERROR(('BS Rates'!Q60),\"\")","v":0},{"$f":"ROUND(IFERROR(('BS Rates'!R60),\"\"),6)","v":2.1457999999999999},{"$f":"IFERROR(('BS Rates'!S60),\"\")","v":1.1418999999999999},{"$f":"IFERROR(('BS Rates'!#REF!),\"\")","v":""},{"$f":"IFERROR(('BS Rates'!U60),\"\")","v":0},{"$f":"IFERROR(('BS Rates'!V60),\"\")","v":0},{"$f":"IFERROR(('BS Rates'!W60),\"\")","v":0},{"$f":"IFERROR(('BS Rates'!X60),\"\")","v":0},{"$f":"IFERROR(('BS Rates'!Y60),\"\")","v":0},{"$f":"IFERROR(('BS Rates'!Z60),\"\")","v":1.1267},{"$f":"IFERROR(('BS Rates'!AA60),\"\")","v":172.91800000000001},{"$f":"IFERROR(('BS Rates'!AB60),\"\")","v":0},{"$f":"IFERROR(('BS Rates'!AC60),\"\")","v":0},{"$f":"IFERROR(('BS Rates'!AD60),\"\")","v":0}]
[{"$f":"A48-1","v":2007},"2007-12-07",{"$f":"ROUND(IFERROR(('BS Rates'!C61),\"\"),6)","v":0.99},{"$f":"ROUND(IFERROR(('BS Rates'!D61),\"\"),6)","v":7.37},{"$f":"ROUND(IFERROR(('BS Rates'!E61),\"\"),6)","v":2045.51},{"$f":"ROUND(IFERROR(('BS Rates'!F61),\"\"),6)","v":0.68},{"$f":"ROUND(IFERROR(('BS Rates'!G61),\"\"),6)","v":7.8},{"$f":"ROUND(IFERROR(('BS Rates'!H61),\"\"),6)","v":109.96},{"$f":"ROUND(IFERROR(('BS Rates'!I61),\"\"),6)","v":929.35},{"$f":"ROUND(IFERROR(('BS Rates'!J61),\"\"),6)","v":7.87},{"$f":"ROUND(IFERROR(('BS Rates'!K61),\"\"),6)","v":3.37},{"$f":"IFERROR(('BS Rates'!L61),\"\")","v":0},{"$f":"ROUND(IFERROR(('BS Rates'!M61),\"\"),6)","v":42.66},{"$f":"ROUND(IFERROR(('BS Rates'!N61),\"\"),6)","v":1.45},{"$f":"ROUND(IFERROR(('BS Rates'!O61),\"\"),6)","v":32.299999999999997},{"$f":"ROUND(IFERROR(('BS Rates'!P61),\"\"),6)","v":33.85},{"$f":"IFERROR(('BS Rates'!Q61),\"\")","v":0},{"$f":"ROUND(IFERROR(('BS Rates'!R61),\"\"),6)","v":2.1453899999999999},{"$f":"IFERROR(('BS Rates'!S61),\"\")","v":0},{"$f":"IFERROR(('BS Rates'!T61),\"\")","v":0},{"$f":"IFERROR(('BS Rates'!U61),\"\")","v":0},{"$f":"IFERROR(('BS Rates'!V61),\"\")","v":0},{"$f":"IFERROR(('BS Rates'!W61),\"\")","v":0},{"$f":"IFERROR(('BS Rates'!X61),\"\")","v":0},{"$f":"IFERROR(('BS Rates'!Y61),\"\")","v":0},{"$f":"IFERROR(('BS Rates'!Z61),\"\")","v":0},{"$f":"IFERROR(('BS Rates'!AA61),\"\")","v":0},{"$f":"IFERROR(('BS Rates'!AB61),\"\")","v":0},{"$f":"IFERROR(('BS Rates'!AC61),\"\")","v":0},{"$f":"IFERROR(('BS Rates'!AD61),\"\")","v":0}]
[null,"2007-11-08",{"$f":"ROUND(IFERROR(('BS Rates'!C62),\"\"),6)","v":0.95},{"$f":"ROUND(IFERROR(('BS Rates'!D62),\"\"),6)","v":7.46},{"$f":"ROUND(IFERROR(('BS Rates'!E62),\"\"),6)","v":1976.88},{"$f":"ROUND(IFERROR(('BS Rates'!F62),\"\"),6)","v":0.69},{"$f":"ROUND(IFERROR(('BS Rates'!G62),\"\"),6)","v":7.8},{"$f":"ROUND(IFERROR(('BS Rates'!H62),\"\"),6)","v":114.65},{"$f":"ROUND(IFERROR(('BS Rates'!I62),\"\"),6)","v":908.27},{"$f":"ROUND(IFERROR(('BS Rates'!J62),\"\"),6)","v":7.85},{"$f":"ROUND(IFERROR(('BS Rates'!K62),\"\"),6)","v":3.34},{"$f":"IFERROR(('BS Rates'!L62),\"\")","v":0},{"$f":"ROUND(IFERROR(('BS Rates'!M62),\"\"),6)","v":43.71},{"$f":"ROUND(IFERROR(('BS Rates'!N62),\"\"),6)","v":1.45},{"$f":"ROUND(IFERROR(('BS Rates'!O62),\"\"),6)","v":32.409999999999997},{"$f":"ROUND(IFERROR(('BS Rates'!P62),\"\"),6)","v":34},{"$f":"IFERROR(('BS Rates'!Q62),\"\")","v":0},{"$f":"ROUND(IFERROR(('BS Rates'!R62),\"\"),6)","v":2.14547},{"$f":"IFERROR(('BS Rates'!S62),\"\")","v":0},{"$f":"IFERROR(('BS Rates'!T62),\"\")","v":0},{"$f":"IFERROR(('BS Rates'!U62),\"\")","v":0},{"$f":"IFERROR(('BS Rates'!V62),\"\")","v":0},{"$f":"IFERROR(('BS Rates'!W62),\"\")","v":0},{"$f":"IFERROR(('BS Rates'!X62),\"\")","v":0},{"$f":"IFERROR(('BS Rates'!Y62),\"\")","v":0},{"$f":"IFERROR(('BS Rates'!Z62),\"\")","v":0},{"$f":"IFERROR(('BS Rates'!AA62),\"\")","v":0},{"$f":"IFERROR(('BS Rates'!AB62),\"\")","v":0},{"$f":"IFERROR(('BS Rates'!AC62),\"\")","v":0},{"$f":"IFERROR(('BS Rates'!AD62),\"\")","v":0}]
[null,"2007-10-10",{"$f":"ROUND(IFERROR(('BS Rates'!C63),\"\"),6)","v":1.06},{"$f":"ROUND(IFERROR(('BS Rates'!D63),\"\"),6)","v":7.5},{"$f":"ROUND(IFERROR(('BS Rates'!E63),\"\"),6)","v":1994.44},{"$f":"ROUND(IFERROR(('BS Rates'!F63),\"\"),6)","v":0.71},{"$f":"ROUND(IFERROR(('BS Rates'!G63),\"\"),6)","v":7.8},{"$f":"ROUND(IFERROR(('BS Rates'!H63),\"\"),6)","v":115.53},{"$f":"ROUND(IFERROR(('BS Rates'!I63),\"\"),6)","v":918.46},{"$f":"ROUND(IFERROR(('BS Rates'!J63),\"\"),6)","v":7.89},{"$f":"ROUND(IFERROR(('BS Rates'!K63),\"\"),6)","v":3.42},{"$f":"IFERROR(('BS Rates'!L63),\"\")","v":0},{"$f":"ROUND(IFERROR(('BS Rates'!M63),\"\"),6)","v":44.92},{"$f":"ROUND(IFERROR(('BS Rates'!N63),\"\"),6)","v":1.49},{"$f":"ROUND(IFERROR(('BS Rates'!O63),\"\"),6)","v":32.799999999999997},{"$f":"ROUND(IFERROR(('BS Rates'!P63),\"\"),6)","v":34.270000000000003},{"$f":"IFERROR(('BS Rates'!Q63),\"\")","v":0},{"$f":"ROUND(IFERROR(('BS Rates'!R63),\"\"),6)","v":2.1457099999999998},{"$f":"IFERROR(('BS Rates'!S63),\"\")","v":0},{"$f":"IFERROR(('BS Rates'!T63),\"\")","v":0},{"$f":"IFERROR(('BS Rates'!U63),\"\")","v":0},{"$f":"IFERROR(('BS Rates'!V63),\"\")","v":0},{"$f":"IFERROR(('BS Rates'!W63),\"\")","v":0},{"$f":"IFERROR(('BS Rates'!X63),\"\")","v":0},{"$f":"IFERROR(('BS Rates'!Y63),\"\")","v":0},{"$f":"IFERROR(('BS Rates'!Z63),\"\")","v":0},{"$f":"IFERROR(('BS Rates'!AA63),\"\")","v":0},{"$f":"IFERROR(('BS Rates'!AB63),\"\")","v":0},{"$f":"IFERROR(('BS Rates'!AC63),\"\")","v":0},{"$f":"IFERROR(('BS Rates'!AD63),\"\")","v":0}]
[null,"2007-09-11",{"$f":"ROUND(IFERROR(('BS Rates'!C64),\"\"),6)","v":1.06},{"$f":"ROUND(IFERROR(('BS Rates'!D64),\"\"),6)","v":7.54},{"$f":"ROUND(IFERROR(('BS Rates'!E64),\"\"),6)","v":2148.31},{"$f":"ROUND(IFERROR(('BS Rates'!F64),\"\"),6)","v":0.73},{"$f":"ROUND(IFERROR(('BS Rates'!G64),\"\"),6)","v":7.8},{"$f":"ROUND(IFERROR(('BS Rates'!H64),\"\"),6)","v":115.72},{"$f":"ROUND(IFERROR(('BS Rates'!I64),\"\"),6)","v":939.76},{"$f":"ROUND(IFERROR(('BS Rates'!J64),\"\"),6)","v":7.89},{"$f":"ROUND(IFERROR(('BS Rates'!K64),\"\"),6)","v":3.5},{"$f":"IFERROR(('BS Rates'!L64),\"\")","v":0},{"$f":"ROUND(IFERROR(('BS Rates'!M64),\"\"),6)","v":46.67},{"$f":"ROUND(IFERROR(('BS Rates'!N64),\"\"),6)","v":1.52},{"$f":"ROUND(IFERROR(('BS Rates'!O64),\"\"),6)","v":33.049999999999997},{"$f":"ROUND(IFERROR(('BS Rates'!P64),\"\"),6)","v":34.33},{"$f":"IFERROR(('BS Rates'!Q64),\"\")","v":0},{"$f":"ROUND(IFERROR(('BS Rates'!R64),\"\"),6)","v":2.14533},{"$f":"IFERROR(('BS Rates'!S64),\"\")","v":0},{"$f":"IFERROR(('BS Rates'!T64),\"\")","v":0},{"$f":"IFERROR(('BS Rates'!U64),\"\")","v":0},{"$f":"IFERROR(('BS Rates'!V64),\"\")","v":0},{"$f":"IFERROR(('BS Rates'!W64),\"\")","v":0},{"$f":"IFERROR(('BS Rates'!X64),\"\")","v":0},{"$f":"IFERROR(('BS Rates'!Y64),\"\")","v":0},{"$f":"IFERROR(('BS Rates'!Z64),\"\")","v":0},{"$f":"IFERROR(('BS Rates'!AA64),\"\")","v":0},{"$f":"IFERROR(('BS Rates'!AB64),\"\")","v":0},{"$f":"IFERROR(('BS Rates'!AC64),\"\")","v":0},{"$f":"IFERROR(('BS Rates'!AD64),\"\")","v":0}]
[null,"2007-08-13",{"$f":"ROUND(IFERROR(('BS Rates'!C65),\"\"),6)","v":1.07},{"$f":"ROUND(IFERROR(('BS Rates'!D65),\"\"),6)","v":7.56},{"$f":"ROUND(IFERROR(('BS Rates'!E65),\"\"),6)","v":1956},{"$f":"ROUND(IFERROR(('BS Rates'!F65),\"\"),6)","v":0.73},{"$f":"ROUND(IFERROR(('BS Rates'!G65),\"\"),6)","v":7.8},{"$f":"ROUND(IFERROR(('BS Rates'!H65),\"\"),6)","v":118.49},{"$f":"ROUND(IFERROR(('BS Rates'!I65),\"\"),6)","v":922},{"$f":"ROUND(IFERROR(('BS Rates'!J65),\"\"),6)","v":7.91},{"$f":"ROUND(IFERROR(('BS Rates'!K65),\"\"),6)","v":3.45},{"$f":"IFERROR(('BS Rates'!L65),\"\")","v":0},{"$f":"ROUND(IFERROR(('BS Rates'!M65),\"\"),6)","v":45.38},{"$f":"ROUND(IFERROR(('BS Rates'!N65),\"\"),6)","v":1.51},{"$f":"ROUND(IFERROR(('BS Rates'!O65),\"\"),6)","v":32.799999999999997},{"$f":"ROUND(IFERROR(('BS Rates'!P65),\"\"),6)","v":33.81},{"$f":"IFERROR(('BS Rates'!Q65),\"\")","v":0},{"$f":"ROUND(IFERROR(('BS Rates'!R65),\"\"),6)","v":2.1456900000000001},{"$f":"IFERROR(('BS Rates'!S65),\"\")","v":0},{"$f":"IFERROR(('BS Rates'!T65),\"\")","v":0},{"$f":"IFERROR(('BS Rates'!U65),\"\")","v":0},{"$f":"IFERROR(('BS Rates'!V65),\"\")","v":0},{"$f":"IFERROR(('BS Rates'!W65),\"\")","v":0},{"$f":"IFERROR(('BS Rates'!X65),\"\")","v":0},{"$f":"IFERROR(('BS Rates'!Y65),\"\")","v":0},{"$f":"IFERROR(('BS Rates'!Z65),\"\")","v":0},{"$f":"IFERROR(('BS Rates'!AA65),\"\")","v":0},{"$f":"IFERROR(('BS Rates'!AB65),\"\")","v":0},{"$f":"IFERROR(('BS Rates'!AC65),\"\")","v":0},{"$f":"IFERROR(('BS Rates'!AD65),\"\")","v":0}]
[null,"2007-07-15",{"$f":"ROUND(IFERROR(('BS Rates'!C66),\"\"),6)","v":1.07},{"$f":"ROUND(IFERROR(('BS Rates'!D66),\"\"),6)","v":7.61},{"$f":"ROUND(IFERROR(('BS Rates'!E66),\"\"),6)","v":1950.63},{"$f":"ROUND(IFERROR(('BS Rates'!F66),\"\"),6)","v":0.74},{"$f":"ROUND(IFERROR(('BS Rates'!G66),\"\"),6)","v":7.82},{"$f":"ROUND(IFERROR(('BS Rates'!H66),\"\"),6)","v":122.99},{"$f":"ROUND(IFERROR(('BS Rates'!I66),\"\"),6)","v":925.84},{"$f":"ROUND(IFERROR(('BS Rates'!J66),\"\"),6)","v":7.86},{"$f":"ROUND(IFERROR(('BS Rates'!K66),\"\"),6)","v":3.47},{"$f":"IFERROR(('BS Rates'!L66),\"\")","v":0},{"$f":"ROUND(IFERROR(('BS Rates'!M66),\"\"),6)","v":46.24},{"$f":"ROUND(IFERROR(('BS Rates'!N66),\"\"),6)","v":1.54},{"$f":"ROUND(IFERROR(('BS Rates'!O66),\"\"),6)","v":32.83},{"$f":"ROUND(IFERROR(('BS Rates'!P66),\"\"),6)","v":31.49},{"$f":"IFERROR(('BS Rates'!Q66),\"\")","v":0},{"$f":"ROUND(IFERROR(('BS Rates'!R66),\"\"),6)","v":2.14541},{"$f":"IFERROR(('BS Rates'!S66),\"\")","v":0},{"$f":"IFERROR(('BS Rates'!T66),\"\")","v":0},{"$f":"IFERROR(('BS Rates'!U66),\"\")","v":0},{"$f":"IFERROR(('BS Rates'!V66),\"\")","v":0},{"$f":"IFERROR(('BS Rates'!W66),\"\")","v":0},{"$f":"IFERROR(('BS Rates'!X66),\"\")","v":0},{"$f":"IFERROR(('BS Rates'!Y66),\"\")","v":0},{"$f":"IFERROR(('BS Rates'!Z66),\"\")","v":0},{"$f":"IFERROR(('BS Rates'!AA66),\"\")","v":0},{"$f":"IFERROR(('BS Rates'!AB66),\"\")","v":0},{"$f":"IFERROR(('BS Rates'!AC66),\"\")","v":0},{"$f":"IFERROR(('BS Rates'!AD66),\"\")","v":0}]
[null,"2007-06-16",{"$f":"ROUND(IFERROR(('BS Rates'!C67),\"\"),6)","v":1.07},{"$f":"ROUND(IFERROR(('BS Rates'!D67),\"\"),6)","v":7.65},{"$f":"ROUND(IFERROR(('BS Rates'!E67),\"\"),6)","v":1917.87},{"$f":"ROUND(IFERROR(('BS Rates'!F67),\"\"),6)","v":0.74},{"$f":"ROUND(IFERROR(('BS Rates'!G67),\"\"),6)","v":7.8},{"$f":"ROUND(IFERROR(('BS Rates'!H67),\"\"),6)","v":121.57},{"$f":"ROUND(IFERROR(('BS Rates'!I67),\"\"),6)","v":929.71},{"$f":"ROUND(IFERROR(('BS Rates'!J67),\"\"),6)","v":7.75},{"$f":"ROUND(IFERROR(('BS Rates'!K67),\"\"),6)","v":3.4},{"$f":"IFERROR(('BS Rates'!L67),\"\")","v":0},{"$f":"ROUND(IFERROR(('BS Rates'!M67),\"\"),6)","v":46.2},{"$f":"ROUND(IFERROR(('BS Rates'!N67),\"\"),6)","v":1.53},{"$f":"ROUND(IFERROR(('BS Rates'!O67),\"\"),6)","v":33.020000000000003},{"$f":"ROUND(IFERROR(('BS Rates'!P67),\"\"),6)","v":32.58},{"$f":"IFERROR(('BS Rates'!Q67),\"\")","v":0},{"$f":"ROUND(IFERROR(('BS Rates'!R67),\"\"),6)","v":2.1446000000000001},{"$f":"IFERROR(('BS Rates'!S67),\"\")","v":0},{"$f":"IFERROR(('BS Rates'!T67),\"\")","v":0},{"$f":"IFERROR(('BS Rates'!U67),\"\")","v":0},{"$f":"IFERROR(('BS Rates'!V67),\"\")","v":0},{"$f":"IFERROR(('BS Rates'!W67),\"\")","v":0},{"$f":"IFERROR(('BS Rates'!X67),\"\")","v":0},{"$f":"IFERROR(('BS Rates'!Y67),\"\")","v":0},{"$f":"IFERROR(('BS Rates'!Z67),\"\")","v":0},{"$f":"IFERROR(('BS Rates'!AA67),\"\")","v":0},{"$f":"IFERROR(('BS Rates'!AB67),\"\")","v":0},{"$f":"IFERROR(('BS Rates'!AC67),\"\")","v":0},{"$f":"IFERROR(('BS Rates'!AD67),\"\")","v":0}]
[null,"2007-05-18",{"$f":"ROUND(IFERROR(('BS Rates'!C68),\"\"),6)","v":1.1200000000000001},{"$f":"ROUND(IFERROR(('BS Rates'!D68),\"\"),6)","v":7.65},{"$f":"ROUND(IFERROR(('BS Rates'!E68),\"\"),6)","v":2018.3},{"$f":"ROUND(IFERROR(('BS Rates'!F68),\"\"),6)","v":0.73},{"$f":"ROUND(IFERROR(('BS Rates'!G68),\"\"),6)","v":7.8},{"$f":"ROUND(IFERROR(('BS Rates'!H68),\"\"),6)","v":119.57},{"$f":"ROUND(IFERROR(('BS Rates'!I68),\"\"),6)","v":927.64},{"$f":"ROUND(IFERROR(('BS Rates'!J68),\"\"),6)","v":7.75},{"$f":"ROUND(IFERROR(('BS Rates'!K68),\"\"),6)","v":3.42},{"$f":"IFERROR(('BS Rates'!L68),\"\")","v":0},{"$f":"ROUND(IFERROR(('BS Rates'!M68),\"\"),6)","v":47.26},{"$f":"ROUND(IFERROR(('BS Rates'!N68),\"\"),6)","v":1.52},{"$f":"ROUND(IFERROR(('BS Rates'!O68),\"\"),6)","v":33.25},{"$f":"ROUND(IFERROR(('BS Rates'!P68),\"\"),6)","v":32.549999999999997},{"$f":"IFERROR(('BS Rates'!Q68),\"\")","v":0},{"$f":"ROUND(IFERROR(('BS Rates'!R68),\"\"),6)","v":2.1446000000000001},{"$f":"IFERROR(('BS Rates'!S68),\"\")","v":0},{"$f":"IFERROR(('BS Rates'!T68),\"\")","v":0},{"$f":"IFERROR(('BS Rates'!U68),\"\")","v":0},{"$f":"IFERROR(('BS Rates'!V68),\"\")","v":0},{"$f":"IFERROR(('BS Rates'!W68),\"\")","v":0},{"$f":"IFERROR(('BS Rates'!X68),\"\")","v":0},{"$f":"IFERROR(('BS Rates'!Y68),\"\")","v":0},{"$f":"IFERROR(('BS Rates'!Z68),\"\")","v":0},{"$f":"IFERROR(('BS Rates'!AA68),\"\")","v":0},{"$f":"IFERROR(('BS Rates'!AB68),\"\")","v":0},{"$f":"IFERROR(('BS Rates'!AC68),\"\")","v":0},{"$f":"IFERROR(('BS Rates'!AD68),\"\")","v":0}]
[null,"2007-04-19",{"$f":"ROUND(IFERROR(('BS Rates'!C69),\"\"),6)","v":1.1599999999999999},{"$f":"ROUND(IFERROR(('BS Rates'!D69),\"\"),6)","v":8.0399999999999991},{"$f":"ROUND(IFERROR(('BS Rates'!E69),\"\"),6)","v":2140.17},{"$f":"ROUND(IFERROR(('BS Rates'!F69),\"\"),6)","v":0.75},{"$f":"ROUND(IFERROR(('BS Rates'!G69),\"\"),6)","v":7.8},{"$f":"ROUND(IFERROR(('BS Rates'!H69),\"\"),6)","v":117.36},{"$f":"ROUND(IFERROR(('BS Rates'!I69),\"\"),6)","v":928.51},{"$f":"ROUND(IFERROR(('BS Rates'!J69),\"\"),6)","v":8},{"$f":"ROUND(IFERROR(('BS Rates'!K69),\"\"),6)","v":3.45},{"$f":"IFERROR(('BS Rates'!L69),\"\")","v":0},{"$f":"ROUND(IFERROR(('BS Rates'!M69),\"\"),6)","v":48.04},{"$f":"ROUND(IFERROR(('BS Rates'!N69),\"\"),6)","v":1.52},{"$f":"ROUND(IFERROR(('BS Rates'!O69),\"\"),6)","v":33.07},{"$f":"ROUND(IFERROR(('BS Rates'!P69),\"\"),6)","v":31.95},{"$f":"IFERROR(('BS Rates'!Q69),\"\")","v":0},{"$f":"ROUND(IFERROR(('BS Rates'!R69),\"\"),6)","v":2.1446000000000001},{"$f":"IFERROR(('BS Rates'!S69),\"\")","v":0},{"$f":"IFERROR(('BS Rates'!T69),\"\")","v":0},{"$f":"IFERROR(('BS Rates'!U69),\"\")","v":0},{"$f":"IFERROR(('BS Rates'!V69),\"\")","v":0},{"$f":"IFERROR(('BS Rates'!W69),\"\")","v":0},{"$f":"IFERROR(('BS Rates'!X69),\"\")","v":0},{"$f":"IFERROR(('BS Rates'!Y69),\"\")","v":0},{"$f":"IFERROR(('BS Rates'!Z69),\"\")","v":0},{"$f":"IFERROR(('BS Rates'!AA69),\"\")","v":0},{"$f":"IFERROR(('BS Rates'!AB69),\"\")","v":0},{"$f":"IFERROR(('BS Rates'!AC69),\"\")","v":0},{"$f":"IFERROR(('BS Rates'!AD69),\"\")","v":0}]
[null,"2007-03-21",{"$f":"ROUND(IFERROR(('BS Rates'!C70),\"\"),6)","v":1.1599999999999999},{"$f":"ROUND(IFERROR(('BS Rates'!D70),\"\"),6)","v":8.0399999999999991},{"$f":"ROUND(IFERROR(('BS Rates'!E70),\"\"),6)","v":2136.56},{"$f":"ROUND(IFERROR(('BS Rates'!F70),\"\"),6)","v":0.76},{"$f":"ROUND(IFERROR(('BS Rates'!G70),\"\"),6)","v":7.8},{"$f":"ROUND(IFERROR(('BS Rates'!H70),\"\"),6)","v":119.76},{"$f":"ROUND(IFERROR(('BS Rates'!I70),\"\"),6)","v":930.58},{"$f":"ROUND(IFERROR(('BS Rates'!J70),\"\"),6)","v":8},{"$f":"ROUND(IFERROR(('BS Rates'!K70),\"\"),6)","v":3.49},{"$f":"IFERROR(('BS Rates'!L70),\"\")","v":0},{"$f":"ROUND(IFERROR(('BS Rates'!M70),\"\"),6)","v":48.21},{"$f":"ROUND(IFERROR(('BS Rates'!N70),\"\"),6)","v":1.53},{"$f":"ROUND(IFERROR(('BS Rates'!O70),\"\"),6)","v":33},{"$f":"ROUND(IFERROR(('BS Rates'!P70),\"\"),6)","v":33.869999999999997},{"$f":"IFERROR(('BS Rates'!Q70),\"\")","v":0},{"$f":"ROUND(IFERROR(('BS Rates'!R70),\"\"),6)","v":2.1446000000000001},{"$f":"IFERROR(('BS Rates'!S70),\"\")","v":0},{"$f":"IFERROR(('BS Rates'!T70),\"\")","v":0},{"$f":"IFERROR(('BS Rates'!U70),\"\")","v":0},{"$f":"IFERROR(('BS Rates'!V70),\"\")","v":0},{"$f":"IFERROR(('BS Rates'!W70),\"\")","v":0},{"$f":"IFERROR(('BS Rates'!X70),\"\")","v":0},{"$f":"IFERROR(('BS Rates'!Y70),\"\")","v":0},{"$f":"IFERROR(('BS Rates'!Z70),\"\")","v":0},{"$f":"IFERROR(('BS Rates'!AA70),\"\")","v":0},{"$f":"IFERROR(('BS Rates'!AB70),\"\")","v":0},{"$f":"IFERROR(('BS Rates'!AC70),\"\")","v":0},{"$f":"IFERROR(('BS Rates'!AD70),\"\")","v":0}]
[null,"2007-02-20",{"$f":"ROUND(IFERROR(('BS Rates'!C71),\"\"),6)","v":1.18},{"$f":"ROUND(IFERROR(('BS Rates'!D71),\"\"),6)","v":8.0399999999999991},{"$f":"ROUND(IFERROR(('BS Rates'!E71),\"\"),6)","v":2225.4699999999998},{"$f":"ROUND(IFERROR(('BS Rates'!F71),\"\"),6)","v":0.77},{"$f":"ROUND(IFERROR(('BS Rates'!G71),\"\"),6)","v":7.8},{"$f":"ROUND(IFERROR(('BS Rates'!H71),\"\"),6)","v":121.75},{"$f":"ROUND(IFERROR(('BS Rates'!I71),\"\"),6)","v":930.58},{"$f":"ROUND(IFERROR(('BS Rates'!J71),\"\"),6)","v":8},{"$f":"ROUND(IFERROR(('BS Rates'!K71),\"\"),6)","v":3.5},{"$f":"IFERROR(('BS Rates'!L71),\"\")","v":0},{"$f":"ROUND(IFERROR(('BS Rates'!M71),\"\"),6)","v":48.87},{"$f":"ROUND(IFERROR(('BS Rates'!N71),\"\"),6)","v":1.54},{"$f":"ROUND(IFERROR(('BS Rates'!O71),\"\"),6)","v":32.99},{"$f":"ROUND(IFERROR(('BS Rates'!P71),\"\"),6)","v":34.18},{"$f":"IFERROR(('BS Rates'!Q71),\"\")","v":0},{"$f":"ROUND(IFERROR(('BS Rates'!R71),\"\"),6)","v":2.1446000000000001},{"$f":"IFERROR(('BS Rates'!S71),\"\")","v":0},{"$f":"IFERROR(('BS Rates'!T71),\"\")","v":0},{"$f":"IFERROR(('BS Rates'!U71),\"\")","v":0},{"$f":"IFERROR(('BS Rates'!V71),\"\")","v":0},{"$f":"IFERROR(('BS Rates'!W71),\"\")","v":0},{"$f":"IFERROR(('BS Rates'!X71),\"\")","v":0},{"$f":"IFERROR(('BS Rates'!Y71),\"\")","v":0},{"$f":"IFERROR(('BS Rates'!Z71),\"\")","v":0},{"$f":"IFERROR(('BS Rates'!AA71),\"\")","v":0},{"$f":"IFERROR(('BS Rates'!AB71),\"\")","v":0},{"$f":"IFERROR(('BS Rates'!AC71),\"\")","v":0},{"$f":"IFERROR(('BS Rates'!AD71),\"\")","v":0}]
[null,"2007-01-22",{"$f":"ROUND(IFERROR(('BS Rates'!C72),\"\"),6)","v":1.1599999999999999},{"$f":"ROUND(IFERROR(('BS Rates'!D72),\"\"),6)","v":8.0399999999999991},{"$f":"ROUND(IFERROR(('BS Rates'!E72),\"\"),6)","v":2152.84},{"$f":"ROUND(IFERROR(('BS Rates'!F72),\"\"),6)","v":0.76},{"$f":"ROUND(IFERROR(('BS Rates'!G72),\"\"),6)","v":7.8},{"$f":"ROUND(IFERROR(('BS Rates'!H72),\"\"),6)","v":118.79},{"$f":"ROUND(IFERROR(('BS Rates'!I72),\"\"),6)","v":917.01},{"$f":"ROUND(IFERROR(('BS Rates'!J72),\"\"),6)","v":8},{"$f":"ROUND(IFERROR(('BS Rates'!K72),\"\"),6)","v":3.53},{"$f":"IFERROR(('BS Rates'!L72),\"\")","v":0},{"$f":"ROUND(IFERROR(('BS Rates'!M72),\"\"),6)","v":48.98},{"$f":"ROUND(IFERROR(('BS Rates'!N72),\"\"),6)","v":1.54},{"$f":"ROUND(IFERROR(('BS Rates'!O72),\"\"),6)","v":32.659999999999997},{"$f":"ROUND(IFERROR(('BS Rates'!P72),\"\"),6)","v":35.47},{"$f":"IFERROR(('BS Rates'!Q72),\"\")","v":0},{"$f":"ROUND(IFERROR(('BS Rates'!R72),\"\"),6)","v":2.1446000000000001},{"$f":"IFERROR(('BS Rates'!S72),\"\")","v":0},{"$f":"IFERROR(('BS Rates'!T72),\"\")","v":0},{"$f":"IFERROR(('BS Rates'!U72),\"\")","v":0},{"$f":"IFERROR(('BS Rates'!V72),\"\")","v":0},{"$f":"IFERROR(('BS Rates'!W72),\"\")","v":0},{"$f":"IFERROR(('BS Rates'!X72),\"\")","v":0},{"$f":"IFERROR(('BS Rates'!Y72),\"\")","v":0},{"$f":"IFERROR(('BS Rates'!Z72),\"\")","v":0},{"$f":"IFERROR(('BS Rates'!AA72),\"\")","v":0},{"$f":"IFERROR(('BS Rates'!AB72),\"\")","v":0},{"$f":"IFERROR(('BS Rates'!AC72),\"\")","v":0},{"$f":"IFERROR(('BS Rates'!AD72),\"\")","v":0}]
[{"$f":"A60-1","v":2006},"2006-12-06",{"$f":"ROUND(IFERROR(('BS Rates'!C73),\"\"),6)","v":1.1299999999999999},{"$f":"ROUND(IFERROR(('BS Rates'!D73),\"\"),6)","v":8.0399999999999991},{"$f":"ROUND(IFERROR(('BS Rates'!E73),\"\"),6)","v":2328.8200000000002},{"$f":"ROUND(IFERROR(('BS Rates'!F73),\"\"),6)","v":0.76},{"$f":"ROUND(IFERROR(('BS Rates'!G73),\"\"),6)","v":7.8},{"$f":"ROUND(IFERROR(('BS Rates'!H73),\"\"),6)","v":116.07},{"$f":"ROUND(IFERROR(('BS Rates'!I73),\"\"),6)","v":944.2},{"$f":"ROUND(IFERROR(('BS Rates'!J73),\"\"),6)","v":8},{"$f":"ROUND(IFERROR(('BS Rates'!K73),\"\"),6)","v":3.64},{"$f":"IFERROR(('BS Rates'!L73),\"\")","v":0},{"$f":"ROUND(IFERROR(('BS Rates'!M73),\"\"),6)","v":49.85},{"$f":"ROUND(IFERROR(('BS Rates'!N73),\"\"),6)","v":1.55},{"$f":"ROUND(IFERROR(('BS Rates'!O73),\"\"),6)","v":32.53},{"$f":"ROUND(IFERROR(('BS Rates'!P73),\"\"),6)","v":36.15},{"$f":"IFERROR(('BS Rates'!Q73),\"\")","v":0},{"$f":"ROUND(IFERROR(('BS Rates'!R73),\"\"),6)","v":2.1446000000000001},{"$f":"IFERROR(('BS Rates'!S73),\"\")","v":0},{"$f":"IFERROR(('BS Rates'!T73),\"\")","v":0},{"$f":"IFERROR(('BS Rates'!U73),\"\")","v":0},{"$f":"IFERROR(('BS Rates'!V73),\"\")","v":0},{"$f":"IFERROR(('BS Rates'!W73),\"\")","v":0},{"$f":"IFERROR(('BS Rates'!X73),\"\")","v":0},{"$f":"IFERROR(('BS Rates'!Y73),\"\")","v":0},{"$f":"IFERROR(('BS Rates'!Z73),\"\")","v":0},{"$f":"IFERROR(('BS Rates'!AA73),\"\")","v":0},{"$f":"IFERROR(('BS Rates'!AB73),\"\")","v":0},{"$f":"IFERROR(('BS Rates'!AC73),\"\")","v":0},{"$f":"IFERROR(('BS Rates'!AD73),\"\")","v":0}]
[null,"2006-11-06",{"$f":"ROUND(IFERROR(('BS Rates'!C74),\"\"),6)","v":1.1200000000000001},{"$f":"ROUND(IFERROR(('BS Rates'!D74),\"\"),6)","v":8.0399999999999991},{"$f":"ROUND(IFERROR(('BS Rates'!E74),\"\"),6)","v":2415.42},{"$f":"ROUND(IFERROR(('BS Rates'!F74),\"\"),6)","v":0.79},{"$f":"ROUND(IFERROR(('BS Rates'!G74),\"\"),6)","v":7.8},{"$f":"ROUND(IFERROR(('BS Rates'!H74),\"\"),6)","v":117.45},{"$f":"ROUND(IFERROR(('BS Rates'!I74),\"\"),6)","v":957.12},{"$f":"ROUND(IFERROR(('BS Rates'!J74),\"\"),6)","v":8},{"$f":"ROUND(IFERROR(('BS Rates'!K74),\"\"),6)","v":3.65},{"$f":"IFERROR(('BS Rates'!L74),\"\")","v":0},{"$f":"ROUND(IFERROR(('BS Rates'!M74),\"\"),6)","v":49.96},{"$f":"ROUND(IFERROR(('BS Rates'!N74),\"\"),6)","v":1.56},{"$f":"ROUND(IFERROR(('BS Rates'!O74),\"\"),6)","v":33.25},{"$f":"ROUND(IFERROR(('BS Rates'!P74),\"\"),6)","v":36.79},{"$f":"IFERROR(('BS Rates'!Q74),\"\")","v":0},{"$f":"ROUND(IFERROR(('BS Rates'!R74),\"\"),6)","v":2.1446000000000001},{"$f":"IFERROR(('BS Rates'!S74),\"\")","v":0},{"$f":"IFERROR(('BS Rates'!T74),\"\")","v":0},{"$f":"IFERROR(('BS Rates'!U74),\"\")","v":0},{"$f":"IFERROR(('BS Rates'!V74),\"\")","v":0},{"$f":"IFERROR(('BS Rates'!W74),\"\")","v":0},{"$f":"IFERROR(('BS Rates'!X74),\"\")","v":0},{"$f":"IFERROR(('BS Rates'!Y74),\"\")","v":0},{"$f":"IFERROR(('BS Rates'!Z74),\"\")","v":0},{"$f":"IFERROR(('BS Rates'!AA74),\"\")","v":0},{"$f":"IFERROR(('BS Rates'!AB74),\"\")","v":0},{"$f":"IFERROR(('BS Rates'!AC74),\"\")","v":0},{"$f":"IFERROR(('BS Rates'!AD74),\"\")","v":0}]
[null,"2006-10-06",{"$f":"ROUND(IFERROR(('BS Rates'!C75),\"\"),6)","v":1.1100000000000001},{"$f":"ROUND(IFERROR(('BS Rates'!D75),\"\"),6)","v":8.0399999999999991},{"$f":"ROUND(IFERROR(('BS Rates'!E75),\"\"),6)","v":2450.25},{"$f":"ROUND(IFERROR(('BS Rates'!F75),\"\"),6)","v":0.79},{"$f":"ROUND(IFERROR(('BS Rates'!G75),\"\"),6)","v":7.8},{"$f":"ROUND(IFERROR(('BS Rates'!H75),\"\"),6)","v":117.63},{"$f":"ROUND(IFERROR(('BS Rates'!I75),\"\"),6)","v":957.49},{"$f":"ROUND(IFERROR(('BS Rates'!J75),\"\"),6)","v":8},{"$f":"ROUND(IFERROR(('BS Rates'!K75),\"\"),6)","v":3.69},{"$f":"IFERROR(('BS Rates'!L75),\"\")","v":0},{"$f":"ROUND(IFERROR(('BS Rates'!M75),\"\"),6)","v":50.35},{"$f":"ROUND(IFERROR(('BS Rates'!N75),\"\"),6)","v":1.59},{"$f":"ROUND(IFERROR(('BS Rates'!O75),\"\"),6)","v":33},{"$f":"ROUND(IFERROR(('BS Rates'!P75),\"\"),6)","v":37.57},{"$f":"IFERROR(('BS Rates'!Q75),\"\")","v":0},{"$f":"ROUND(IFERROR(('BS Rates'!R75),\"\"),6)","v":2.1446000000000001},{"$f":"IFERROR(('BS Rates'!S75),\"\")","v":0},{"$f":"IFERROR(('BS Rates'!T75),\"\")","v":0},{"$f":"IFERROR(('BS Rates'!U75),\"\")","v":0},{"$f":"IFERROR(('BS Rates'!V75),\"\")","v":0},{"$f":"IFERROR(('BS Rates'!W75),\"\")","v":0},{"$f":"IFERROR(('BS Rates'!X75),\"\")","v":0},{"$f":"IFERROR(('BS Rates'!Y75),\"\")","v":0},{"$f":"IFERROR(('BS Rates'!Z75),\"\")","v":0},{"$f":"IFERROR(('BS Rates'!AA75),\"\")","v":0},{"$f":"IFERROR(('BS Rates'!AB75),\"\")","v":0},{"$f":"IFERROR(('BS Rates'!AC75),\"\")","v":0},{"$f":"IFERROR(('BS Rates'!AD75),\"\")","v":0}]
[null,"2006-09-06",{"$f":"ROUND(IFERROR(('BS Rates'!C76),\"\"),6)","v":1.1100000000000001},{"$f":"ROUND(IFERROR(('BS Rates'!D76),\"\"),6)","v":8.0399999999999991},{"$f":"ROUND(IFERROR(('BS Rates'!E76),\"\"),6)","v":2461.2600000000002},{"$f":"ROUND(IFERROR(('BS Rates'!F76),\"\"),6)","v":0.78},{"$f":"ROUND(IFERROR(('BS Rates'!G76),\"\"),6)","v":7.8},{"$f":"ROUND(IFERROR(('BS Rates'!H76),\"\"),6)","v":116.94},{"$f":"ROUND(IFERROR(('BS Rates'!I76),\"\"),6)","v":977.14},{"$f":"ROUND(IFERROR(('BS Rates'!J76),\"\"),6)","v":8},{"$f":"ROUND(IFERROR(('BS Rates'!K76),\"\"),6)","v":3.68},{"$f":"IFERROR(('BS Rates'!L76),\"\")","v":0},{"$f":"ROUND(IFERROR(('BS Rates'!M76),\"\"),6)","v":51.09},{"$f":"ROUND(IFERROR(('BS Rates'!N76),\"\"),6)","v":1.57},{"$f":"ROUND(IFERROR(('BS Rates'!O76),\"\"),6)","v":32.92},{"$f":"ROUND(IFERROR(('BS Rates'!P76),\"\"),6)","v":37.590000000000003},{"$f":"IFERROR(('BS Rates'!Q76),\"\")","v":0},{"$f":"ROUND(IFERROR(('BS Rates'!R76),\"\"),6)","v":2.1446000000000001},{"$f":"IFERROR(('BS Rates'!S76),\"\")","v":0},{"$f":"IFERROR(('BS Rates'!T76),\"\")","v":0},{"$f":"IFERROR(('BS Rates'!U76),\"\")","v":0},{"$f":"IFERROR(('BS Rates'!V76),\"\")","v":0},{"$f":"IFERROR(('BS Rates'!W76),\"\")","v":0},{"$f":"IFERROR(('BS Rates'!X76),\"\")","v":0},{"$f":"IFERROR(('BS Rates'!Y76),\"\")","v":0},{"$f":"IFERROR(('BS Rates'!Z76),\"\")","v":0},{"$f":"IFERROR(('BS Rates'!AA76),\"\")","v":0},{"$f":"IFERROR(('BS Rates'!AB76),\"\")","v":0},{"$f":"IFERROR(('BS Rates'!AC76),\"\")","v":0},{"$f":"IFERROR(('BS Rates'!AD76),\"\")","v":0}]
[null,"2006-08-06",{"$f":"ROUND(IFERROR(('BS Rates'!C77),\"\"),6)","v":1.1299999999999999},{"$f":"ROUND(IFERROR(('BS Rates'!D77),\"\"),6)","v":8.0399999999999991},{"$f":"ROUND(IFERROR(('BS Rates'!E77),\"\"),6)","v":2533.8000000000002},{"$f":"ROUND(IFERROR(('BS Rates'!F77),\"\"),6)","v":0.78},{"$f":"ROUND(IFERROR(('BS Rates'!G77),\"\"),6)","v":7.8},{"$f":"ROUND(IFERROR(('BS Rates'!H77),\"\"),6)","v":114.66},{"$f":"ROUND(IFERROR(('BS Rates'!I77),\"\"),6)","v":962.93},{"$f":"ROUND(IFERROR(('BS Rates'!J77),\"\"),6)","v":8},{"$f":"ROUND(IFERROR(('BS Rates'!K77),\"\"),6)","v":3.67},{"$f":"IFERROR(('BS Rates'!L77),\"\")","v":0},{"$f":"ROUND(IFERROR(('BS Rates'!M77),\"\"),6)","v":51.67},{"$f":"ROUND(IFERROR(('BS Rates'!N77),\"\"),6)","v":1.58},{"$f":"ROUND(IFERROR(('BS Rates'!O77),\"\"),6)","v":32.83},{"$f":"ROUND(IFERROR(('BS Rates'!P77),\"\"),6)","v":37.909999999999997},{"$f":"IFERROR(('BS Rates'!Q77),\"\")","v":0},{"$f":"ROUND(IFERROR(('BS Rates'!R77),\"\"),6)","v":2.1446000000000001},{"$f":"IFERROR(('BS Rates'!S77),\"\")","v":0},{"$f":"IFERROR(('BS Rates'!T77),\"\")","v":0},{"$f":"IFERROR(('BS Rates'!U77),\"\")","v":0},{"$f":"IFERROR(('BS Rates'!V77),\"\")","v":0},{"$f":"IFERROR(('BS Rates'!W77),\"\")","v":0},{"$f":"IFERROR(('BS Rates'!X77),\"\")","v":0},{"$f":"IFERROR(('BS Rates'!Y77),\"\")","v":0},{"$f":"IFERROR(('BS Rates'!Z77),\"\")","v":0},{"$f":"IFERROR(('BS Rates'!AA77),\"\")","v":0},{"$f":"IFERROR(('BS Rates'!AB77),\"\")","v":0},{"$f":"IFERROR(('BS Rates'!AC77),\"\")","v":0},{"$f":"IFERROR(('BS Rates'!AD77),\"\")","v":0}]
[null,"2006-07-06",{"$f":"ROUND(IFERROR(('BS Rates'!C78),\"\"),6)","v":1.1200000000000001},{"$f":"ROUND(IFERROR(('BS Rates'!D78),\"\"),6)","v":8.0399999999999991},{"$f":"ROUND(IFERROR(('BS Rates'!E78),\"\"),6)","v":2746.6},{"$f":"ROUND(IFERROR(('BS Rates'!F78),\"\"),6)","v":0.8},{"$f":"ROUND(IFERROR(('BS Rates'!G78),\"\"),6)","v":7.8},{"$f":"ROUND(IFERROR(('BS Rates'!H78),\"\"),6)","v":116.32},{"$f":"ROUND(IFERROR(('BS Rates'!I78),\"\"),6)","v":970.69},{"$f":"ROUND(IFERROR(('BS Rates'!J78),\"\"),6)","v":8},{"$f":"ROUND(IFERROR(('BS Rates'!K78),\"\"),6)","v":3.68},{"$f":"IFERROR(('BS Rates'!L78),\"\")","v":0},{"$f":"ROUND(IFERROR(('BS Rates'!M78),\"\"),6)","v":53.7},{"$f":"ROUND(IFERROR(('BS Rates'!N78),\"\"),6)","v":1.6},{"$f":"ROUND(IFERROR(('BS Rates'!O78),\"\"),6)","v":32.619999999999997},{"$f":"ROUND(IFERROR(('BS Rates'!P78),\"\"),6)","v":38.47},{"$f":"IFERROR(('BS Rates'!Q78),\"\")","v":0},{"$f":"ROUND(IFERROR(('BS Rates'!R78),\"\"),6)","v":2.1446000000000001},{"$f":"IFERROR(('BS Rates'!S78),\"\")","v":0},{"$f":"IFERROR(('BS Rates'!T78),\"\")","v":0},{"$f":"IFERROR(('BS Rates'!U78),\"\")","v":0},{"$f":"IFERROR(('BS Rates'!V78),\"\")","v":0},{"$f":"IFERROR(('BS Rates'!W78),\"\")","v":0},{"$f":"IFERROR(('BS Rates'!X78),\"\")","v":0},{"$f":"IFERROR(('BS Rates'!Y78),\"\")","v":0},{"$f":"IFERROR(('BS Rates'!Z78),\"\")","v":0},{"$f":"IFERROR(('BS Rates'!AA78),\"\")","v":0},{"$f":"IFERROR(('BS Rates'!AB78),\"\")","v":0},{"$f":"IFERROR(('BS Rates'!AC78),\"\")","v":0},{"$f":"IFERROR(('BS Rates'!AD78),\"\")","v":0}]
[null,"2006-06-06",{"$f":"ROUND(IFERROR(('BS Rates'!C79),\"\"),6)","v":1.1000000000000001},{"$f":"ROUND(IFERROR(('BS Rates'!D79),\"\"),6)","v":8.0399999999999991},{"$f":"ROUND(IFERROR(('BS Rates'!E79),\"\"),6)","v":2546.5},{"$f":"ROUND(IFERROR(('BS Rates'!F79),\"\"),6)","v":0.78},{"$f":"ROUND(IFERROR(('BS Rates'!G79),\"\"),6)","v":7.8},{"$f":"ROUND(IFERROR(('BS Rates'!H79),\"\"),6)","v":112.17},{"$f":"ROUND(IFERROR(('BS Rates'!I79),\"\"),6)","v":955.84},{"$f":"ROUND(IFERROR(('BS Rates'!J79),\"\"),6)","v":8},{"$f":"ROUND(IFERROR(('BS Rates'!K79),\"\"),6)","v":3.62},{"$f":"IFERROR(('BS Rates'!L79),\"\")","v":0},{"$f":"ROUND(IFERROR(('BS Rates'!M79),\"\"),6)","v":52.65},{"$f":"ROUND(IFERROR(('BS Rates'!N79),\"\"),6)","v":1.58},{"$f":"ROUND(IFERROR(('BS Rates'!O79),\"\"),6)","v":32.090000000000003},{"$f":"ROUND(IFERROR(('BS Rates'!P79),\"\"),6)","v":38.22},{"$f":"IFERROR(('BS Rates'!Q79),\"\")","v":0},{"$f":"ROUND(IFERROR(('BS Rates'!R79),\"\"),6)","v":2.1446000000000001},{"$f":"IFERROR(('BS Rates'!S79),\"\")","v":0},{"$f":"IFERROR(('BS Rates'!T79),\"\")","v":0},{"$f":"IFERROR(('BS Rates'!U79),\"\")","v":0},{"$f":"IFERROR(('BS Rates'!V79),\"\")","v":0},{"$f":"IFERROR(('BS Rates'!W79),\"\")","v":0},{"$f":"IFERROR(('BS Rates'!X79),\"\")","v":0},{"$f":"IFERROR(('BS Rates'!Y79),\"\")","v":0},{"$f":"IFERROR(('BS Rates'!Z79),\"\")","v":0},{"$f":"IFERROR(('BS Rates'!AA79),\"\")","v":0},{"$f":"IFERROR(('BS Rates'!AB79),\"\")","v":0},{"$f":"IFERROR(('BS Rates'!AC79),\"\")","v":0},{"$f":"IFERROR(('BS Rates'!AD79),\"\")","v":0}]
[null,"2006-05-06",{"$f":"ROUND(IFERROR(('BS Rates'!C80),\"\"),6)","v":1.1200000000000001},{"$f":"ROUND(IFERROR(('BS Rates'!D80),\"\"),6)","v":8.0399999999999991},{"$f":"ROUND(IFERROR(('BS Rates'!E80),\"\"),6)","v":2425.84},{"$f":"ROUND(IFERROR(('BS Rates'!F80),\"\"),6)","v":0.8},{"$f":"ROUND(IFERROR(('BS Rates'!G80),\"\"),6)","v":7.8},{"$f":"ROUND(IFERROR(('BS Rates'!H80),\"\"),6)","v":114.16},{"$f":"ROUND(IFERROR(('BS Rates'!I80),\"\"),6)","v":950.57},{"$f":"ROUND(IFERROR(('BS Rates'!J80),\"\"),6)","v":8},{"$f":"ROUND(IFERROR(('BS Rates'!K80),\"\"),6)","v":3.63},{"$f":"IFERROR(('BS Rates'!L80),\"\")","v":0},{"$f":"ROUND(IFERROR(('BS Rates'!M80),\"\"),6)","v":51.85},{"$f":"ROUND(IFERROR(('BS Rates'!N80),\"\"),6)","v":1.58},{"$f":"ROUND(IFERROR(('BS Rates'!O80),\"\"),6)","v":31.92},{"$f":"ROUND(IFERROR(('BS Rates'!P80),\"\"),6)","v":37.53},{"$f":"IFERROR(('BS Rates'!Q80),\"\")","v":0},{"$f":"ROUND(IFERROR(('BS Rates'!R80),\"\"),6)","v":2.1446000000000001},{"$f":"IFERROR(('BS Rates'!S80),\"\")","v":0},{"$f":"IFERROR(('BS Rates'!T80),\"\")","v":0},{"$f":"IFERROR(('BS Rates'!U80),\"\")","v":0},{"$f":"IFERROR(('BS Rates'!V80),\"\")","v":0},{"$f":"IFERROR(('BS Rates'!W80),\"\")","v":0},{"$f":"IFERROR(('BS Rates'!X80),\"\")","v":0},{"$f":"IFERROR(('BS Rates'!Y80),\"\")","v":0},{"$f":"IFERROR(('BS Rates'!Z80),\"\")","v":0},{"$f":"IFERROR(('BS Rates'!AA80),\"\")","v":0},{"$f":"IFERROR(('BS Rates'!AB80),\"\")","v":0},{"$f":"IFERROR(('BS Rates'!AC80),\"\")","v":0},{"$f":"IFERROR(('BS Rates'!AD80),\"\")","v":0}]
[null,"2006-04-06",{"$f":"ROUND(IFERROR(('BS Rates'!C81),\"\"),6)","v":1.17},{"$f":"ROUND(IFERROR(('BS Rates'!D81),\"\"),6)","v":8.0399999999999991},{"$f":"ROUND(IFERROR(('BS Rates'!E81),\"\"),6)","v":2338.59},{"$f":"ROUND(IFERROR(('BS Rates'!F81),\"\"),6)","v":0.83},{"$f":"ROUND(IFERROR(('BS Rates'!G81),\"\"),6)","v":7.8},{"$f":"ROUND(IFERROR(('BS Rates'!H81),\"\"),6)","v":117.59},{"$f":"ROUND(IFERROR(('BS Rates'!I81),\"\"),6)","v":985.51},{"$f":"ROUND(IFERROR(('BS Rates'!J81),\"\"),6)","v":8},{"$f":"ROUND(IFERROR(('BS Rates'!K81),\"\"),6)","v":3.69},{"$f":"IFERROR(('BS Rates'!L81),\"\")","v":0},{"$f":"ROUND(IFERROR(('BS Rates'!M81),\"\"),6)","v":51.35},{"$f":"ROUND(IFERROR(('BS Rates'!N81),\"\"),6)","v":1.62},{"$f":"ROUND(IFERROR(('BS Rates'!O81),\"\"),6)","v":32.57},{"$f":"ROUND(IFERROR(('BS Rates'!P81),\"\"),6)","v":38.89},{"$f":"IFERROR(('BS Rates'!Q81),\"\")","v":0},{"$f":"ROUND(IFERROR(('BS Rates'!R81),\"\"),6)","v":2.1446000000000001},{"$f":"IFERROR(('BS Rates'!S81),\"\")","v":0},{"$f":"IFERROR(('BS Rates'!T81),\"\")","v":0},{"$f":"IFERROR(('BS Rates'!U81),\"\")","v":0},{"$f":"IFERROR(('BS Rates'!V81),\"\")","v":0},{"$f":"IFERROR(('BS Rates'!W81),\"\")","v":0},{"$f":"IFERROR(('BS Rates'!X81),\"\")","v":0},{"$f":"IFERROR(('BS Rates'!Y81),\"\")","v":0},{"$f":"IFERROR(('BS Rates'!Z81),\"\")","v":0},{"$f":"IFERROR(('BS Rates'!AA81),\"\")","v":0},{"$f":"IFERROR(('BS Rates'!AB81),\"\")","v":0},{"$f":"IFERROR(('BS Rates'!AC81),\"\")","v":0},{"$f":"IFERROR(('BS Rates'!AD81),\"\")","v":0}]
[null,"2006-03-06",{"$f":"ROUND(IFERROR(('BS Rates'!C82),\"\"),6)","v":1.1499999999999999},{"$f":"ROUND(IFERROR(('BS Rates'!D82),\"\"),6)","v":8.0399999999999991},{"$f":"ROUND(IFERROR(('BS Rates'!E82),\"\"),6)","v":2247.21},{"$f":"ROUND(IFERROR(('BS Rates'!F82),\"\"),6)","v":0.84},{"$f":"ROUND(IFERROR(('BS Rates'!G82),\"\"),6)","v":7.8},{"$f":"ROUND(IFERROR(('BS Rates'!H82),\"\"),6)","v":116.31},{"$f":"ROUND(IFERROR(('BS Rates'!I82),\"\"),6)","v":982.32},{"$f":"ROUND(IFERROR(('BS Rates'!J82),\"\"),6)","v":8},{"$f":"ROUND(IFERROR(('BS Rates'!K82),\"\"),6)","v":3.73},{"$f":"IFERROR(('BS Rates'!L82),\"\")","v":0},{"$f":"ROUND(IFERROR(('BS Rates'!M82),\"\"),6)","v":51.98},{"$f":"ROUND(IFERROR(('BS Rates'!N82),\"\"),6)","v":1.62},{"$f":"ROUND(IFERROR(('BS Rates'!O82),\"\"),6)","v":32.49},{"$f":"ROUND(IFERROR(('BS Rates'!P82),\"\"),6)","v":39.340000000000003},{"$f":"IFERROR(('BS Rates'!Q82),\"\")","v":0},{"$f":"ROUND(IFERROR(('BS Rates'!R82),\"\"),6)","v":2.1446000000000001},{"$f":"IFERROR(('BS Rates'!S82),\"\")","v":0},{"$f":"IFERROR(('BS Rates'!T82),\"\")","v":0},{"$f":"IFERROR(('BS Rates'!U82),\"\")","v":0},{"$f":"IFERROR(('BS Rates'!V82),\"\")","v":0},{"$f":"IFERROR(('BS Rates'!W82),\"\")","v":0},{"$f":"IFERROR(('BS Rates'!X82),\"\")","v":0},{"$f":"IFERROR(('BS Rates'!Y82),\"\")","v":0},{"$f":"IFERROR(('BS Rates'!Z82),\"\")","v":0},{"$f":"IFERROR(('BS Rates'!AA82),\"\")","v":0},{"$f":"IFERROR(('BS Rates'!AB82),\"\")","v":0},{"$f":"IFERROR(('BS Rates'!AC82),\"\")","v":0},{"$f":"IFERROR(('BS Rates'!AD82),\"\")","v":0}]
[null,"2006-02-06",{"$f":"ROUND(IFERROR(('BS Rates'!C83),\"\"),6)","v":1.1499999999999999},{"$f":"ROUND(IFERROR(('BS Rates'!D83),\"\"),6)","v":8.0399999999999991},{"$f":"ROUND(IFERROR(('BS Rates'!E83),\"\"),6)","v":2268.2600000000002},{"$f":"ROUND(IFERROR(('BS Rates'!F83),\"\"),6)","v":0.83},{"$f":"ROUND(IFERROR(('BS Rates'!G83),\"\"),6)","v":7.8},{"$f":"ROUND(IFERROR(('BS Rates'!H83),\"\"),6)","v":117.45},{"$f":"ROUND(IFERROR(('BS Rates'!I83),\"\"),6)","v":984.45},{"$f":"ROUND(IFERROR(('BS Rates'!J83),\"\"),6)","v":7.8},{"$f":"ROUND(IFERROR(('BS Rates'!K83),\"\"),6)","v":3.75},{"$f":"IFERROR(('BS Rates'!L83),\"\")","v":0},{"$f":"ROUND(IFERROR(('BS Rates'!M83),\"\"),6)","v":52.33},{"$f":"ROUND(IFERROR(('BS Rates'!N83),\"\"),6)","v":1.63},{"$f":"ROUND(IFERROR(('BS Rates'!O83),\"\"),6)","v":32.03},{"$f":"ROUND(IFERROR(('BS Rates'!P83),\"\"),6)","v":39.15},{"$f":"IFERROR(('BS Rates'!Q83),\"\")","v":0},{"$f":"ROUND(IFERROR(('BS Rates'!R83),\"\"),6)","v":2.1446000000000001},{"$f":"IFERROR(('BS Rates'!S83),\"\")","v":0},{"$f":"IFERROR(('BS Rates'!T83),\"\")","v":0},{"$f":"IFERROR(('BS Rates'!U83),\"\")","v":0},{"$f":"IFERROR(('BS Rates'!V83),\"\")","v":0},{"$f":"IFERROR(('BS Rates'!W83),\"\")","v":0},{"$f":"IFERROR(('BS Rates'!X83),\"\")","v":0},{"$f":"IFERROR(('BS Rates'!Y83),\"\")","v":0},{"$f":"IFERROR(('BS Rates'!Z83),\"\")","v":0},{"$f":"IFERROR(('BS Rates'!AA83),\"\")","v":0},{"$f":"IFERROR(('BS Rates'!AB83),\"\")","v":0},{"$f":"IFERROR(('BS Rates'!AC83),\"\")","v":0},{"$f":"IFERROR(('BS Rates'!AD83),\"\")","v":0}]
[null,"2006-01-06",{"$f":"ROUND(IFERROR(('BS Rates'!C84),\"\"),6)","v":1.17},{"$f":"IFERROR(('BS Rates'!D84),\"\")","v":0},{"$f":"ROUND(IFERROR(('BS Rates'!E84),\"\"),6)","v":2286.3000000000002},{"$f":"ROUND(IFERROR(('BS Rates'!F84),\"\"),6)","v":0.84},{"$f":"ROUND(IFERROR(('BS Rates'!G84),\"\"),6)","v":7.8},{"$f":"ROUND(IFERROR(('BS Rates'!H84),\"\"),6)","v":117.36},{"$f":"ROUND(IFERROR(('BS Rates'!I84),\"\"),6)","v":1020.72},{"$f":"ROUND(IFERROR(('BS Rates'!J84),\"\"),6)","v":7.8},{"$f":"ROUND(IFERROR(('BS Rates'!K84),\"\"),6)","v":3.79},{"$f":"IFERROR(('BS Rates'!L84),\"\")","v":0},{"$f":"ROUND(IFERROR(('BS Rates'!M84),\"\"),6)","v":53.1},{"$f":"ROUND(IFERROR(('BS Rates'!N84),\"\"),6)","v":1.67},{"$f":"ROUND(IFERROR(('BS Rates'!O84),\"\"),6)","v":32.950000000000003},{"$f":"ROUND(IFERROR(('BS Rates'!P84),\"\"),6)","v":41.04},{"$f":"IFERROR(('BS Rates'!Q84),\"\")","v":0},{"$f":"ROUND(IFERROR(('BS Rates'!R84),\"\"),6)","v":2.1446000000000001},{"$f":"IFERROR(('BS Rates'!S84),\"\")","v":0},{"$f":"IFERROR(('BS Rates'!T84),\"\")","v":0},{"$f":"IFERROR(('BS Rates'!U84),\"\")","v":0},{"$f":"IFERROR(('BS Rates'!V84),\"\")","v":0},{"$f":"IFERROR(('BS Rates'!W84),\"\")","v":0},{"$f":"IFERROR(('BS Rates'!X84),\"\")","v":0},{"$f":"IFERROR(('BS Rates'!Y84),\"\")","v":0},{"$f":"IFERROR(('BS Rates'!Z84),\"\")","v":0},{"$f":"IFERROR(('BS Rates'!AA84),\"\")","v":0},{"$f":"IFERROR(('BS Rates'!AB84),\"\")","v":0},{"$f":"IFERROR(('BS Rates'!AC84),\"\")","v":0},{"$f":"IFERROR(('BS Rates'!AD84),\"\")","v":0}]
[{"$f":"A72-1","v":2005},"2005-12-05",{"$f":"ROUND(IFERROR(('BS Rates'!C85),\"\"),6)","v":1.17},{"$f":"IFERROR(('BS Rates'!D85),\"\")","v":0},{"$f":"ROUND(IFERROR(('BS Rates'!E85),\"\"),6)","v":2274.6999999999998},{"$f":"ROUND(IFERROR(('BS Rates'!F85),\"\"),6)","v":0.85},{"$f":"ROUND(IFERROR(('BS Rates'!G85),\"\"),6)","v":7.8},{"$f":"ROUND(IFERROR(('BS Rates'!H85),\"\"),6)","v":119.72},{"$f":"ROUND(IFERROR(('BS Rates'!I85),\"\"),6)","v":1051.19},{"$f":"ROUND(IFERROR(('BS Rates'!J85),\"\"),6)","v":7.8},{"$f":"ROUND(IFERROR(('BS Rates'!K85),\"\"),6)","v":3.78},{"$f":"IFERROR(('BS Rates'!L85),\"\")","v":0},{"$f":"ROUND(IFERROR(('BS Rates'!M85),\"\"),6)","v":53.98},{"$f":"ROUND(IFERROR(('BS Rates'!N85),\"\"),6)","v":1.7},{"$f":"ROUND(IFERROR(('BS Rates'!O85),\"\"),6)","v":33.57},{"$f":"ROUND(IFERROR(('BS Rates'!P85),\"\"),6)","v":41.31},{"$f":"IFERROR(('BS Rates'!Q85),\"\")","v":0},{"$f":"ROUND(IFERROR(('BS Rates'!R85),\"\"),6)","v":2.1446000000000001},{"$f":"IFERROR(('BS Rates'!S85),\"\")","v":0},{"$f":"IFERROR(('BS Rates'!T85),\"\")","v":0},{"$f":"IFERROR(('BS Rates'!U85),\"\")","v":0},{"$f":"IFERROR(('BS Rates'!V85),\"\")","v":0},{"$f":"IFERROR(('BS Rates'!W85),\"\")","v":0},{"$f":"IFERROR(('BS Rates'!X85),\"\")","v":0},{"$f":"IFERROR(('BS Rates'!Y85),\"\")","v":0},{"$f":"IFERROR(('BS Rates'!Z85),\"\")","v":0},{"$f":"IFERROR(('BS Rates'!AA85),\"\")","v":0},{"$f":"IFERROR(('BS Rates'!AB85),\"\")","v":0},{"$f":"IFERROR(('BS Rates'!AC85),\"\")","v":0},{"$f":"IFERROR(('BS Rates'!AD85),\"\")","v":0}]
[null,"2005-11-05",{"$f":"ROUND(IFERROR(('BS Rates'!C86),\"\"),6)","v":1.18},null,{"$f":"ROUND(IFERROR(('BS Rates'!E86),\"\"),6)","v":2292},{"$f":"ROUND(IFERROR(('BS Rates'!F86),\"\"),6)","v":0.83},{"$f":"ROUND(IFERROR(('BS Rates'!G86),\"\"),6)","v":7.8},{"$f":"ROUND(IFERROR(('BS Rates'!H86),\"\"),6)","v":115.68},{"$f":"ROUND(IFERROR(('BS Rates'!I86),\"\"),6)","v":1044.5},{"$f":"ROUND(IFERROR(('BS Rates'!J86),\"\"),6)","v":7.8},{"$f":"ROUND(IFERROR(('BS Rates'!K86),\"\"),6)","v":3.78},{"$f":"IFERROR(('BS Rates'!L86),\"\")","v":0},{"$f":"ROUND(IFERROR(('BS Rates'!M86),\"\"),6)","v":55.03},{"$f":"ROUND(IFERROR(('BS Rates'!N86),\"\"),6)","v":1.7},{"$f":"ROUND(IFERROR(('BS Rates'!O86),\"\"),6)","v":33.64},{"$f":"ROUND(IFERROR(('BS Rates'!P86),\"\"),6)","v":40.85},{"$f":"IFERROR(('BS Rates'!Q86),\"\")","v":0},{"$f":"ROUND(IFERROR(('BS Rates'!R86),\"\"),6)","v":2.1446000000000001},{"$f":"IFERROR(('BS Rates'!S86),\"\")","v":0},{"$f":"IFERROR(('BS Rates'!T86),\"\")","v":0},{"$f":"IFERROR(('BS Rates'!U86),\"\")","v":0},{"$f":"IFERROR(('BS Rates'!V86),\"\")","v":0},{"$f":"IFERROR(('BS Rates'!W86),\"\")","v":0},{"$f":"IFERROR(('BS Rates'!X86),\"\")","v":0},{"$f":"IFERROR(('BS Rates'!Y86),\"\")","v":0},{"$f":"IFERROR(('BS Rates'!Z86),\"\")","v":0},{"$f":"IFERROR(('BS Rates'!AA86),\"\")","v":0},{"$f":"IFERROR(('BS Rates'!AB86),\"\")","v":0},{"$f":"IFERROR(('BS Rates'!AC86),\"\")","v":0},{"$f":"IFERROR(('BS Rates'!AD86),\"\")","v":0}]
[null,"2005-10-05",{"$f":"ROUND(IFERROR(('BS Rates'!C87),\"\"),6)","v":1.17},null,{"$f":"ROUND(IFERROR(('BS Rates'!E87),\"\"),6)","v":2292},{"$f":"ROUND(IFERROR(('BS Rates'!F87),\"\"),6)","v":0.83},{"$f":"ROUND(IFERROR(('BS Rates'!G87),\"\"),6)","v":7.8},{"$f":"ROUND(IFERROR(('BS Rates'!H87),\"\"),6)","v":113.01},{"$f":"ROUND(IFERROR(('BS Rates'!I87),\"\"),6)","v":1051.3},{"$f":"ROUND(IFERROR(('BS Rates'!J87),\"\"),6)","v":8.34},{"$f":"ROUND(IFERROR(('BS Rates'!K87),\"\"),6)","v":3.77},{"$f":"IFERROR(('BS Rates'!L87),\"\")","v":0},{"$f":"ROUND(IFERROR(('BS Rates'!M87),\"\"),6)","v":56.15},{"$f":"ROUND(IFERROR(('BS Rates'!N87),\"\"),6)","v":1.69},{"$f":"ROUND(IFERROR(('BS Rates'!O87),\"\"),6)","v":33.270000000000003},{"$f":"ROUND(IFERROR(('BS Rates'!P87),\"\"),6)","v":41.08},{"$f":"IFERROR(('BS Rates'!Q87),\"\")","v":0},{"$f":"ROUND(IFERROR(('BS Rates'!R87),\"\"),6)","v":2.1446000000000001},{"$f":"IFERROR(('BS Rates'!S87),\"\")","v":0},{"$f":"IFERROR(('BS Rates'!T87),\"\")","v":0},{"$f":"IFERROR(('BS Rates'!U87),\"\")","v":0},{"$f":"IFERROR(('BS Rates'!V87),\"\")","v":0},{"$f":"IFERROR(('BS Rates'!W87),\"\")","v":0},{"$f":"IFERROR(('BS Rates'!X87),\"\")","v":0},{"$f":"IFERROR(('BS Rates'!Y87),\"\")","v":0},{"$f":"IFERROR(('BS Rates'!Z87),\"\")","v":0},{"$f":"IFERROR(('BS Rates'!AA87),\"\")","v":0},{"$f":"IFERROR(('BS Rates'!AB87),\"\")","v":0},{"$f":"IFERROR(('BS Rates'!AC87),\"\")","v":0},{"$f":"IFERROR(('BS Rates'!AD87),\"\")","v":0}]
[null,"2005-09-05",{"$f":"ROUND(IFERROR(('BS Rates'!C88),\"\"),6)","v":1.19},null,{"$f":"ROUND(IFERROR(('BS Rates'!E88),\"\"),6)","v":2306.1999999999998},{"$f":"ROUND(IFERROR(('BS Rates'!F88),\"\"),6)","v":0.82},{"$f":"ROUND(IFERROR(('BS Rates'!G88),\"\"),6)","v":7.8},{"$f":"ROUND(IFERROR(('BS Rates'!H88),\"\"),6)","v":111.3},{"$f":"ROUND(IFERROR(('BS Rates'!I88),\"\"),6)","v":1032.8},{"$f":"ROUND(IFERROR(('BS Rates'!J88),\"\"),6)","v":8.32},{"$f":"ROUND(IFERROR(('BS Rates'!K88),\"\"),6)","v":3.77},{"$f":"IFERROR(('BS Rates'!L88),\"\")","v":0},{"$f":"ROUND(IFERROR(('BS Rates'!M88),\"\"),6)","v":56.26},{"$f":"ROUND(IFERROR(('BS Rates'!N88),\"\"),6)","v":1.68},{"$f":"ROUND(IFERROR(('BS Rates'!O88),\"\"),6)","v":32.700000000000003},{"$f":"ROUND(IFERROR(('BS Rates'!P88),\"\"),6)","v":41.17},{"$f":"IFERROR(('BS Rates'!Q88),\"\")","v":0},{"$f":"ROUND(IFERROR(('BS Rates'!R88),\"\"),6)","v":2.1446000000000001},{"$f":"IFERROR(('BS Rates'!S88),\"\")","v":0},{"$f":"IFERROR(('BS Rates'!T88),\"\")","v":0},{"$f":"IFERROR(('BS Rates'!U88),\"\")","v":0},{"$f":"IFERROR(('BS Rates'!V88),\"\")","v":0},{"$f":"IFERROR(('BS Rates'!W88),\"\")","v":0},{"$f":"IFERROR(('BS Rates'!X88),\"\")","v":0},{"$f":"IFERROR(('BS Rates'!Y88),\"\")","v":0},{"$f":"IFERROR(('BS Rates'!Z88),\"\")","v":0},{"$f":"IFERROR(('BS Rates'!AA88),\"\")","v":0},{"$f":"IFERROR(('BS Rates'!AB88),\"\")","v":0},{"$f":"IFERROR(('BS Rates'!AC88),\"\")","v":0},{"$f":"IFERROR(('BS Rates'!AD88),\"\")","v":0}]
[null,"2005-08-05",{"$f":"ROUND(IFERROR(('BS Rates'!C89),\"\"),6)","v":1.22},null,{"$f":"ROUND(IFERROR(('BS Rates'!E89),\"\"),6)","v":2310},{"$f":"ROUND(IFERROR(('BS Rates'!F89),\"\"),6)","v":0.82},{"$f":"ROUND(IFERROR(('BS Rates'!G89),\"\"),6)","v":7.77},{"$f":"ROUND(IFERROR(('BS Rates'!H89),\"\"),6)","v":112.48},{"$f":"ROUND(IFERROR(('BS Rates'!I89),\"\"),6)","v":1023.5},{"$f":"ROUND(IFERROR(('BS Rates'!J89),\"\"),6)","v":8.33},{"$f":"ROUND(IFERROR(('BS Rates'!K89),\"\"),6)","v":3.75},{"$f":"IFERROR(('BS Rates'!L89),\"\")","v":0},{"$f":"ROUND(IFERROR(('BS Rates'!M89),\"\"),6)","v":56.23},{"$f":"ROUND(IFERROR(('BS Rates'!N89),\"\"),6)","v":1.66},{"$f":"ROUND(IFERROR(('BS Rates'!O89),\"\"),6)","v":31.95},{"$f":"ROUND(IFERROR(('BS Rates'!P89),\"\"),6)","v":41.68},{"$f":"IFERROR(('BS Rates'!Q89),\"\")","v":0},{"$f":"ROUND(IFERROR(('BS Rates'!R89),\"\"),6)","v":2.1446000000000001},{"$f":"IFERROR(('BS Rates'!S89),\"\")","v":0},{"$f":"IFERROR(('BS Rates'!T89),\"\")","v":0},{"$f":"IFERROR(('BS Rates'!U89),\"\")","v":0},{"$f":"IFERROR(('BS Rates'!V89),\"\")","v":0},{"$f":"IFERROR(('BS Rates'!W89),\"\")","v":0},{"$f":"IFERROR(('BS Rates'!X89),\"\")","v":0},{"$f":"IFERROR(('BS Rates'!Y89),\"\")","v":0},{"$f":"IFERROR(('BS Rates'!Z89),\"\")","v":0},{"$f":"IFERROR(('BS Rates'!AA89),\"\")","v":0},{"$f":"IFERROR(('BS Rates'!AB89),\"\")","v":0},{"$f":"IFERROR(('BS Rates'!AC89),\"\")","v":0},{"$f":"IFERROR(('BS Rates'!AD89),\"\")","v":0}]
[null,"2005-07-05",{"$f":"ROUND(IFERROR(('BS Rates'!C90),\"\"),6)","v":1.23},null,{"$f":"ROUND(IFERROR(('BS Rates'!E90),\"\"),6)","v":2322.1999999999998},{"$f":"ROUND(IFERROR(('BS Rates'!F90),\"\"),6)","v":0.82},{"$f":"ROUND(IFERROR(('BS Rates'!G90),\"\"),6)","v":7.78},{"$f":"ROUND(IFERROR(('BS Rates'!H90),\"\"),6)","v":109.32},{"$f":"ROUND(IFERROR(('BS Rates'!I90),\"\"),6)","v":1008.9},{"$f":"ROUND(IFERROR(('BS Rates'!J90),\"\"),6)","v":8.01},{"$f":"ROUND(IFERROR(('BS Rates'!K90),\"\"),6)","v":3.8},{"$f":"IFERROR(('BS Rates'!L90),\"\")","v":0},{"$f":"ROUND(IFERROR(('BS Rates'!M90),\"\"),6)","v":55.71},{"$f":"ROUND(IFERROR(('BS Rates'!N90),\"\"),6)","v":1.68},{"$f":"ROUND(IFERROR(('BS Rates'!O90),\"\"),6)","v":31.32},{"$f":"ROUND(IFERROR(('BS Rates'!P90),\"\"),6)","v":41.08},{"$f":"IFERROR(('BS Rates'!Q90),\"\")","v":0},{"$f":"ROUND(IFERROR(('BS Rates'!R90),\"\"),6)","v":2.1446000000000001},{"$f":"IFERROR(('BS Rates'!S90),\"\")","v":0},{"$f":"IFERROR(('BS Rates'!T90),\"\")","v":0},{"$f":"IFERROR(('BS Rates'!U90),\"\")","v":0},{"$f":"IFERROR(('BS Rates'!V90),\"\")","v":0},{"$f":"IFERROR(('BS Rates'!W90),\"\")","v":0},{"$f":"IFERROR(('BS Rates'!X90),\"\")","v":0},{"$f":"IFERROR(('BS Rates'!Y90),\"\")","v":0},{"$f":"IFERROR(('BS Rates'!Z90),\"\")","v":0},{"$f":"IFERROR(('BS Rates'!AA90),\"\")","v":0},{"$f":"IFERROR(('BS Rates'!AB90),\"\")","v":0},{"$f":"IFERROR(('BS Rates'!AC90),\"\")","v":0},{"$f":"IFERROR(('BS Rates'!AD90),\"\")","v":0}]
[null,"2005-06-05",{"$f":"ROUND(IFERROR(('BS Rates'!C91),\"\"),6)","v":1.27},null,{"$f":"ROUND(IFERROR(('BS Rates'!E91),\"\"),6)","v":2340},{"$f":"ROUND(IFERROR(('BS Rates'!F91),\"\"),6)","v":0.8},{"$f":"ROUND(IFERROR(('BS Rates'!G91),\"\"),6)","v":7.79},{"$f":"ROUND(IFERROR(('BS Rates'!H91),\"\"),6)","v":108.12},{"$f":"ROUND(IFERROR(('BS Rates'!I91),\"\"),6)","v":1008},{"$f":"ROUND(IFERROR(('BS Rates'!J91),\"\"),6)","v":8.01},{"$f":"ROUND(IFERROR(('BS Rates'!K91),\"\"),6)","v":3.8},{"$f":"IFERROR(('BS Rates'!L91),\"\")","v":0},{"$f":"ROUND(IFERROR(('BS Rates'!M91),\"\"),6)","v":54.56},{"$f":"ROUND(IFERROR(('BS Rates'!N91),\"\"),6)","v":1.66},{"$f":"ROUND(IFERROR(('BS Rates'!O91),\"\"),6)","v":31.45},{"$f":"ROUND(IFERROR(('BS Rates'!P91),\"\"),6)","v":40},{"$f":"IFERROR(('BS Rates'!Q91),\"\")","v":0},{"$f":"ROUND(IFERROR(('BS Rates'!R91),\"\"),6)","v":2.1446000000000001},{"$f":"IFERROR(('BS Rates'!S91),\"\")","v":0},{"$f":"IFERROR(('BS Rates'!T91),\"\")","v":0},{"$f":"IFERROR(('BS Rates'!U91),\"\")","v":0},{"$f":"IFERROR(('BS Rates'!V91),\"\")","v":0},{"$f":"IFERROR(('BS Rates'!W91),\"\")","v":0},{"$f":"IFERROR(('BS Rates'!X91),\"\")","v":0},{"$f":"IFERROR(('BS Rates'!Y91),\"\")","v":0},{"$f":"IFERROR(('BS Rates'!Z91),\"\")","v":0},{"$f":"IFERROR(('BS Rates'!AA91),\"\")","v":0},{"$f":"IFERROR(('BS Rates'!AB91),\"\")","v":0},{"$f":"IFERROR(('BS Rates'!AC91),\"\")","v":0},{"$f":"IFERROR(('BS Rates'!AD91),\"\")","v":0}]
[null,"2005-05-05",{"$f":"ROUND(IFERROR(('BS Rates'!C92),\"\"),6)","v":1.24},null,{"$f":"ROUND(IFERROR(('BS Rates'!E92),\"\"),6)","v":2341.6999999999998},{"$f":"ROUND(IFERROR(('BS Rates'!F92),\"\"),6)","v":0.76},{"$f":"ROUND(IFERROR(('BS Rates'!G92),\"\"),6)","v":7.8},{"$f":"ROUND(IFERROR(('BS Rates'!H92),\"\"),6)","v":106.7},{"$f":"ROUND(IFERROR(('BS Rates'!I92),\"\"),6)","v":1005},{"$f":"ROUND(IFERROR(('BS Rates'!J92),\"\"),6)","v":8.01},{"$f":"ROUND(IFERROR(('BS Rates'!K92),\"\"),6)","v":3.8},{"$f":"IFERROR(('BS Rates'!L92),\"\")","v":0},{"$f":"ROUND(IFERROR(('BS Rates'!M92),\"\"),6)","v":54.3},{"$f":"ROUND(IFERROR(('BS Rates'!N92),\"\"),6)","v":1.65},{"$f":"ROUND(IFERROR(('BS Rates'!O92),\"\"),6)","v":31.38},{"$f":"ROUND(IFERROR(('BS Rates'!P92),\"\"),6)","v":39.36},{"$f":"IFERROR(('BS Rates'!Q92),\"\")","v":0},{"$f":"ROUND(IFERROR(('BS Rates'!R92),\"\"),6)","v":2.1446000000000001},{"$f":"IFERROR(('BS Rates'!S92),\"\")","v":0},{"$f":"IFERROR(('BS Rates'!T92),\"\")","v":0},{"$f":"IFERROR(('BS Rates'!U92),\"\")","v":0},{"$f":"IFERROR(('BS Rates'!V92),\"\")","v":0},{"$f":"IFERROR(('BS Rates'!W92),\"\")","v":0},{"$f":"IFERROR(('BS Rates'!X92),\"\")","v":0},{"$f":"IFERROR(('BS Rates'!Y92),\"\")","v":0},{"$f":"IFERROR(('BS Rates'!Z92),\"\")","v":0},{"$f":"IFERROR(('BS Rates'!AA92),\"\")","v":0},{"$f":"IFERROR(('BS Rates'!AB92),\"\")","v":0},{"$f":"IFERROR(('BS Rates'!AC92),\"\")","v":0},{"$f":"IFERROR(('BS Rates'!AD92),\"\")","v":0}]
[null,"2005-04-05",{"$f":"ROUND(IFERROR(('BS Rates'!C93),\"\"),6)","v":1.2},null,{"$f":"ROUND(IFERROR(('BS Rates'!E93),\"\"),6)","v":2368.5},{"$f":"ROUND(IFERROR(('BS Rates'!F93),\"\"),6)","v":0.75},{"$f":"ROUND(IFERROR(('BS Rates'!G93),\"\"),6)","v":7.8},{"$f":"ROUND(IFERROR(('BS Rates'!H93),\"\"),6)","v":104.71},{"$f":"ROUND(IFERROR(('BS Rates'!I93),\"\"),6)","v":1004},{"$f":"ROUND(IFERROR(('BS Rates'!J93),\"\"),6)","v":8.01},{"$f":"ROUND(IFERROR(('BS Rates'!K93),\"\"),6)","v":3.8},{"$f":"IFERROR(('BS Rates'!L93),\"\")","v":0},{"$f":"ROUND(IFERROR(('BS Rates'!M93),\"\"),6)","v":54.2},{"$f":"ROUND(IFERROR(('BS Rates'!N93),\"\"),6)","v":1.62},{"$f":"ROUND(IFERROR(('BS Rates'!O93),\"\"),6)","v":31.13},{"$f":"ROUND(IFERROR(('BS Rates'!P93),\"\"),6)","v":38.51},{"$f":"IFERROR(('BS Rates'!Q93),\"\")","v":0},{"$f":"ROUND(IFERROR(('BS Rates'!R93),\"\"),6)","v":2.1446000000000001},{"$f":"IFERROR(('BS Rates'!S93),\"\")","v":0},{"$f":"IFERROR(('BS Rates'!T93),\"\")","v":0},{"$f":"IFERROR(('BS Rates'!U93),\"\")","v":0},{"$f":"IFERROR(('BS Rates'!V93),\"\")","v":0},{"$f":"IFERROR(('BS Rates'!W93),\"\")","v":0},{"$f":"IFERROR(('BS Rates'!X93),\"\")","v":0},{"$f":"IFERROR(('BS Rates'!Y93),\"\")","v":0},{"$f":"IFERROR(('BS Rates'!Z93),\"\")","v":0},{"$f":"IFERROR(('BS Rates'!AA93),\"\")","v":0},{"$f":"IFERROR(('BS Rates'!AB93),\"\")","v":0},{"$f":"IFERROR(('BS Rates'!AC93),\"\")","v":0},{"$f":"IFERROR(('BS Rates'!AD93),\"\")","v":0}]
[null,"2005-03-05",{"$f":"ROUND(IFERROR(('BS Rates'!C94),\"\"),6)","v":1.23},null,{"$f":"ROUND(IFERROR(('BS Rates'!E94),\"\"),6)","v":2317.6999999999998},{"$f":"ROUND(IFERROR(('BS Rates'!F94),\"\"),6)","v":0.77},{"$f":"ROUND(IFERROR(('BS Rates'!G94),\"\"),6)","v":7.8},{"$f":"ROUND(IFERROR(('BS Rates'!H94),\"\"),6)","v":105.65},{"$f":"ROUND(IFERROR(('BS Rates'!I94),\"\"),6)","v":1024},{"$f":"ROUND(IFERROR(('BS Rates'!J94),\"\"),6)","v":8.01},{"$f":"ROUND(IFERROR(('BS Rates'!K94),\"\"),6)","v":3.8},{"$f":"IFERROR(('BS Rates'!L94),\"\")","v":0},{"$f":"ROUND(IFERROR(('BS Rates'!M94),\"\"),6)","v":54.57},{"$f":"ROUND(IFERROR(('BS Rates'!N94),\"\"),6)","v":1.64},{"$f":"ROUND(IFERROR(('BS Rates'!O94),\"\"),6)","v":31.46},{"$f":"ROUND(IFERROR(('BS Rates'!P94),\"\"),6)","v":38.549999999999997},{"$f":"IFERROR(('BS Rates'!Q94),\"\")","v":0},{"$f":"ROUND(IFERROR(('BS Rates'!R94),\"\"),6)","v":1.9152},{"$f":"IFERROR(('BS Rates'!S94),\"\")","v":0},{"$f":"IFERROR(('BS Rates'!T94),\"\")","v":0},{"$f":"IFERROR(('BS Rates'!U94),\"\")","v":0},{"$f":"IFERROR(('BS Rates'!V94),\"\")","v":0},{"$f":"IFERROR(('BS Rates'!W94),\"\")","v":0},{"$f":"IFERROR(('BS Rates'!X94),\"\")","v":0},{"$f":"IFERROR(('BS Rates'!Y94),\"\")","v":0},{"$f":"IFERROR(('BS Rates'!Z94),\"\")","v":0},{"$f":"IFERROR(('BS Rates'!AA94),\"\")","v":0},{"$f":"IFERROR(('BS Rates'!AB94),\"\")","v":0},{"$f":"IFERROR(('BS Rates'!AC94),\"\")","v":0},{"$f":"IFERROR(('BS Rates'!AD94),\"\")","v":0}]
[null,"2005-02-05",{"$f":"ROUND(IFERROR(('BS Rates'!C95),\"\"),6)","v":1.23},null,{"$f":"ROUND(IFERROR(('BS Rates'!E95),\"\"),6)","v":2372.5},{"$f":"ROUND(IFERROR(('BS Rates'!F95),\"\"),6)","v":0.77},{"$f":"ROUND(IFERROR(('BS Rates'!G95),\"\"),6)","v":7.8},{"$f":"ROUND(IFERROR(('BS Rates'!H95),\"\"),6)","v":102.76},{"$f":"ROUND(IFERROR(('BS Rates'!I95),\"\"),6)","v":1033.0999999999999},{"$f":"ROUND(IFERROR(('BS Rates'!J95),\"\"),6)","v":8.01},{"$f":"ROUND(IFERROR(('BS Rates'!K95),\"\"),6)","v":3.8},{"$f":"IFERROR(('BS Rates'!L95),\"\")","v":0},{"$f":"ROUND(IFERROR(('BS Rates'!M95),\"\"),6)","v":55.35},{"$f":"ROUND(IFERROR(('BS Rates'!N95),\"\"),6)","v":1.64},{"$f":"ROUND(IFERROR(('BS Rates'!O95),\"\"),6)","v":31.6},{"$f":"ROUND(IFERROR(('BS Rates'!P95),\"\"),6)","v":38.520000000000003},{"$f":"IFERROR(('BS Rates'!Q95),\"\")","v":0},{"$f":"ROUND(IFERROR(('BS Rates'!R95),\"\"),6)","v":1.9152},{"$f":"IFERROR(('BS Rates'!S95),\"\")","v":0},{"$f":"IFERROR(('BS Rates'!T95),\"\")","v":0},{"$f":"IFERROR(('BS Rates'!U95),\"\")","v":0},{"$f":"IFERROR(('BS Rates'!V95),\"\")","v":0},{"$f":"IFERROR(('BS Rates'!W95),\"\")","v":0},{"$f":"IFERROR(('BS Rates'!X95),\"\")","v":0},{"$f":"IFERROR(('BS Rates'!Y95),\"\")","v":0},{"$f":"IFERROR(('BS Rates'!Z95),\"\")","v":0},{"$f":"IFERROR(('BS Rates'!AA95),\"\")","v":0},{"$f":"IFERROR(('BS Rates'!AB95),\"\")","v":0},{"$f":"IFERROR(('BS Rates'!AC95),\"\")","v":0},{"$f":"IFERROR(('BS Rates'!AD95),\"\")","v":0}]
[null,"2005-01-05",{"$f":"ROUND(IFERROR(('BS Rates'!C96),\"\"),6)","v":1.2},null,{"$f":"ROUND(IFERROR(('BS Rates'!E96),\"\"),6)","v":2355},{"$f":"ROUND(IFERROR(('BS Rates'!F96),\"\"),6)","v":0.73},{"$f":"ROUND(IFERROR(('BS Rates'!G96),\"\"),6)","v":7.78},{"$f":"ROUND(IFERROR(('BS Rates'!H96),\"\"),6)","v":103.1},{"$f":"ROUND(IFERROR(('BS Rates'!I96),\"\"),6)","v":1047.5},{"$f":"ROUND(IFERROR(('BS Rates'!J96),\"\"),6)","v":8.23},{"$f":"ROUND(IFERROR(('BS Rates'!K96),\"\"),6)","v":3.8},{"$f":"IFERROR(('BS Rates'!L96),\"\")","v":0},{"$f":"ROUND(IFERROR(('BS Rates'!M96),\"\"),6)","v":56.21},{"$f":"ROUND(IFERROR(('BS Rates'!N96),\"\"),6)","v":1.64},{"$f":"ROUND(IFERROR(('BS Rates'!O96),\"\"),6)","v":31.84},{"$f":"ROUND(IFERROR(('BS Rates'!P96),\"\"),6)","v":39.03},{"$f":"IFERROR(('BS Rates'!Q96),\"\")","v":0},{"$f":"ROUND(IFERROR(('BS Rates'!R96),\"\"),6)","v":1.9152},{"$f":"IFERROR(('BS Rates'!S96),\"\")","v":0},{"$f":"IFERROR(('BS Rates'!T96),\"\")","v":0},{"$f":"IFERROR(('BS Rates'!U96),\"\")","v":0},{"$f":"IFERROR(('BS Rates'!V96),\"\")","v":0},{"$f":"IFERROR(('BS Rates'!W96),\"\")","v":0},{"$f":"IFERROR(('BS Rates'!X96),\"\")","v":0},{"$f":"IFERROR(('BS Rates'!Y96),\"\")","v":0},{"$f":"IFERROR(('BS Rates'!Z96),\"\")","v":0},{"$f":"IFERROR(('BS Rates'!AA96),\"\")","v":0},{"$f":"IFERROR(('BS Rates'!AB96),\"\")","v":0},{"$f":"IFERROR(('BS Rates'!AC96),\"\")","v":0},{"$f":"IFERROR(('BS Rates'!AD96),\"\")","v":0}]
[{"$f":"A84-1","v":2004},"2004-12-04",{"$f":"ROUND(IFERROR(('BS Rates'!C97),\"\"),6)","v":1.19},{"$f":"IFERROR(('BS Rates'!D97),\"\")","v":0},{"$f":"ROUND(IFERROR(('BS Rates'!E97),\"\"),6)","v":2475.1},{"$f":"ROUND(IFERROR(('BS Rates'!F97),\"\"),6)","v":0.75},{"$f":"ROUND(IFERROR(('BS Rates'!G97),\"\"),6)","v":7.8},{"$f":"ROUND(IFERROR(('BS Rates'!H97),\"\"),6)","v":102.59},{"$f":"ROUND(IFERROR(('BS Rates'!I97),\"\"),6)","v":1048},{"$f":"ROUND(IFERROR(('BS Rates'!J97),\"\"),6)","v":8.01},{"$f":"ROUND(IFERROR(('BS Rates'!K97),\"\"),6)","v":3.8},{"$f":"IFERROR(('BS Rates'!L97),\"\")","v":0},{"$f":"ROUND(IFERROR(('BS Rates'!M97),\"\"),6)","v":56.18},{"$f":"ROUND(IFERROR(('BS Rates'!N97),\"\"),6)","v":1.64},{"$f":"ROUND(IFERROR(('BS Rates'!O97),\"\"),6)","v":32.200000000000003},{"$f":"ROUND(IFERROR(('BS Rates'!P97),\"\"),6)","v":39.39},{"$f":"IFERROR(('BS Rates'!Q97),\"\")","v":0},{"$f":"ROUND(IFERROR(('BS Rates'!R97),\"\"),6)","v":1.9152},{"$f":"IFERROR(('BS Rates'!S97),\"\")","v":0},{"$f":"IFERROR(('BS Rates'!T97),\"\")","v":0},{"$f":"IFERROR(('BS Rates'!U97),\"\")","v":0},{"$f":"IFERROR(('BS Rates'!V97),\"\")","v":0},{"$f":"IFERROR(('BS Rates'!W97),\"\")","v":0},{"$f":"IFERROR(('BS Rates'!X97),\"\")","v":0},{"$f":"IFERROR(('BS Rates'!Y97),\"\")","v":0},{"$f":"IFERROR(('BS Rates'!Z97),\"\")","v":0},{"$f":"IFERROR(('BS Rates'!AA97),\"\")","v":0},{"$f":"IFERROR(('BS Rates'!AB97),\"\")","v":0},{"$f":"IFERROR(('BS Rates'!AC97),\"\")","v":0},{"$f":"IFERROR(('BS Rates'!AD97),\"\")","v":0}]
[null,"2004-11-04",{"$f":"ROUND(IFERROR(('BS Rates'!C98),\"\"),6)","v":1.22},null,{"$f":"ROUND(IFERROR(('BS Rates'!E98),\"\"),6)","v":2564},{"$f":"ROUND(IFERROR(('BS Rates'!F98),\"\"),6)","v":0.78},{"$f":"ROUND(IFERROR(('BS Rates'!G98),\"\"),6)","v":7.78},{"$f":"ROUND(IFERROR(('BS Rates'!H98),\"\"),6)","v":105.93},{"$f":"ROUND(IFERROR(('BS Rates'!I98),\"\"),6)","v":1119},{"$f":"ROUND(IFERROR(('BS Rates'!J98),\"\"),6)","v":7.8},{"$f":"ROUND(IFERROR(('BS Rates'!K98),\"\"),6)","v":3.8},{"$f":"IFERROR(('BS Rates'!L98),\"\")","v":0},{"$f":"ROUND(IFERROR(('BS Rates'!M98),\"\"),6)","v":56.32},{"$f":"ROUND(IFERROR(('BS Rates'!N98),\"\"),6)","v":1.66},{"$f":"ROUND(IFERROR(('BS Rates'!O98),\"\"),6)","v":33.44},{"$f":"ROUND(IFERROR(('BS Rates'!P98),\"\"),6)","v":40.99},{"$f":"IFERROR(('BS Rates'!Q98),\"\")","v":0},{"$f":"ROUND(IFERROR(('BS Rates'!R98),\"\"),6)","v":1.9152},{"$f":"IFERROR(('BS Rates'!S98),\"\")","v":0},{"$f":"IFERROR(('BS Rates'!T98),\"\")","v":0},{"$f":"IFERROR(('BS Rates'!U98),\"\")","v":0},{"$f":"IFERROR(('BS Rates'!V98),\"\")","v":0},{"$f":"IFERROR(('BS Rates'!W98),\"\")","v":0},{"$f":"IFERROR(('BS Rates'!X98),\"\")","v":0},{"$f":"IFERROR(('BS Rates'!Y98),\"\")","v":0},{"$f":"IFERROR(('BS Rates'!Z98),\"\")","v":0},{"$f":"IFERROR(('BS Rates'!AA98),\"\")","v":0},{"$f":"IFERROR(('BS Rates'!AB98),\"\")","v":0},{"$f":"IFERROR(('BS Rates'!AC98),\"\")","v":0},{"$f":"IFERROR(('BS Rates'!AD98),\"\")","v":0}]
[null,"2004-10-04",{"$f":"ROUND(IFERROR(('BS Rates'!C99),\"\"),6)","v":1.27},null,{"$f":"ROUND(IFERROR(('BS Rates'!E99),\"\"),6)","v":2595},{"$f":"ROUND(IFERROR(('BS Rates'!F99),\"\"),6)","v":0.81},{"$f":"ROUND(IFERROR(('BS Rates'!G99),\"\"),6)","v":7.8},{"$f":"ROUND(IFERROR(('BS Rates'!H99),\"\"),6)","v":110.58},{"$f":"ROUND(IFERROR(('BS Rates'!I99),\"\"),6)","v":1151.8},{"$f":"ROUND(IFERROR(('BS Rates'!J99),\"\"),6)","v":7.8},{"$f":"ROUND(IFERROR(('BS Rates'!K99),\"\"),6)","v":3.8},{"$f":"IFERROR(('BS Rates'!L99),\"\")","v":0},{"$f":"ROUND(IFERROR(('BS Rates'!M99),\"\"),6)","v":56.2},{"$f":"ROUND(IFERROR(('BS Rates'!N99),\"\"),6)","v":1.69},{"$f":"ROUND(IFERROR(('BS Rates'!O99),\"\"),6)","v":33.78},{"$f":"ROUND(IFERROR(('BS Rates'!P99),\"\"),6)","v":41.42},{"$f":"IFERROR(('BS Rates'!Q99),\"\")","v":0},{"$f":"ROUND(IFERROR(('BS Rates'!R99),\"\"),6)","v":1.9152},{"$f":"IFERROR(('BS Rates'!S99),\"\")","v":0},{"$f":"IFERROR(('BS Rates'!T99),\"\")","v":0},{"$f":"IFERROR(('BS Rates'!U99),\"\")","v":0},{"$f":"IFERROR(('BS Rates'!V99),\"\")","v":0},{"$f":"IFERROR(('BS Rates'!W99),\"\")","v":0},{"$f":"IFERROR(('BS Rates'!X99),\"\")","v":0},{"$f":"IFERROR(('BS Rates'!Y99),\"\")","v":0},{"$f":"IFERROR(('BS Rates'!Z99),\"\")","v":0},{"$f":"IFERROR(('BS Rates'!AA99),\"\")","v":0},{"$f":"IFERROR(('BS Rates'!AB99),\"\")","v":0},{"$f":"IFERROR(('BS Rates'!AC99),\"\")","v":0},{"$f":"IFERROR(('BS Rates'!AD99),\"\")","v":0}]
[null,"2004-09-04",{"$f":"ROUND(IFERROR(('BS Rates'!C100),\"\"),6)","v":1.32},null,{"$f":"ROUND(IFERROR(('BS Rates'!E100),\"\"),6)","v":2541},{"$f":"ROUND(IFERROR(('BS Rates'!F100),\"\"),6)","v":0.83},{"$f":"ROUND(IFERROR(('BS Rates'!G100),\"\"),6)","v":7.8},{"$f":"ROUND(IFERROR(('BS Rates'!H100),\"\"),6)","v":109.86},{"$f":"ROUND(IFERROR(('BS Rates'!I100),\"\"),6)","v":1151.7},{"$f":"ROUND(IFERROR(('BS Rates'!J100),\"\"),6)","v":7.8},{"$f":"ROUND(IFERROR(('BS Rates'!K100),\"\"),6)","v":3.8},{"$f":"IFERROR(('BS Rates'!L100),\"\")","v":0},{"$f":"ROUND(IFERROR(('BS Rates'!M100),\"\"),6)","v":56.1},{"$f":"ROUND(IFERROR(('BS Rates'!N100),\"\"),6)","v":1.71},{"$f":"ROUND(IFERROR(('BS Rates'!O100),\"\"),6)","v":33.85},{"$f":"ROUND(IFERROR(('BS Rates'!P100),\"\"),6)","v":41.6},{"$f":"IFERROR(('BS Rates'!Q100),\"\")","v":0},{"$f":"ROUND(IFERROR(('BS Rates'!R100),\"\"),6)","v":1.9152},{"$f":"IFERROR(('BS Rates'!S100),\"\")","v":0},{"$f":"IFERROR(('BS Rates'!T100),\"\")","v":0},{"$f":"IFERROR(('BS Rates'!U100),\"\")","v":0},{"$f":"IFERROR(('BS Rates'!V100),\"\")","v":0},{"$f":"IFERROR(('BS Rates'!W100),\"\")","v":0},{"$f":"IFERROR(('BS Rates'!X100),\"\")","v":0},{"$f":"IFERROR(('BS Rates'!Y100),\"\")","v":0},{"$f":"IFERROR(('BS Rates'!Z100),\"\")","v":0},{"$f":"IFERROR(('BS Rates'!AA100),\"\")","v":0},{"$f":"IFERROR(('BS Rates'!AB100),\"\")","v":0},{"$f":"IFERROR(('BS Rates'!AC100),\"\")","v":0},{"$f":"IFERROR(('BS Rates'!AD100),\"\")","v":0}]
[null,"2004-08-04",{"$f":"ROUND(IFERROR(('BS Rates'!C101),\"\"),6)","v":1.32},null,{"$f":"ROUND(IFERROR(('BS Rates'!E101),\"\"),6)","v":2608.1},{"$f":"ROUND(IFERROR(('BS Rates'!F101),\"\"),6)","v":0.83},{"$f":"ROUND(IFERROR(('BS Rates'!G101),\"\"),6)","v":7.8},{"$f":"ROUND(IFERROR(('BS Rates'!H101),\"\"),6)","v":111.31},{"$f":"ROUND(IFERROR(('BS Rates'!I101),\"\"),6)","v":1170},{"$f":"ROUND(IFERROR(('BS Rates'!J101),\"\"),6)","v":7.8},{"$f":"ROUND(IFERROR(('BS Rates'!K101),\"\"),6)","v":3.8},{"$f":"IFERROR(('BS Rates'!L101),\"\")","v":0},{"$f":"ROUND(IFERROR(('BS Rates'!M101),\"\"),6)","v":55.9},{"$f":"ROUND(IFERROR(('BS Rates'!N101),\"\"),6)","v":1.72},{"$f":"ROUND(IFERROR(('BS Rates'!O101),\"\"),6)","v":33.94},{"$f":"ROUND(IFERROR(('BS Rates'!P101),\"\"),6)","v":41.32},{"$f":"IFERROR(('BS Rates'!Q101),\"\")","v":0},{"$f":"ROUND(IFERROR(('BS Rates'!R101),\"\"),6)","v":1.9152},{"$f":"IFERROR(('BS Rates'!S101),\"\")","v":0},{"$f":"IFERROR(('BS Rates'!T101),\"\")","v":0},{"$f":"IFERROR(('BS Rates'!U101),\"\")","v":0},{"$f":"IFERROR(('BS Rates'!V101),\"\")","v":0},{"$f":"IFERROR(('BS Rates'!W101),\"\")","v":0},{"$f":"IFERROR(('BS Rates'!X101),\"\")","v":0},{"$f":"IFERROR(('BS Rates'!Y101),\"\")","v":0},{"$f":"IFERROR(('BS Rates'!Z101),\"\")","v":0},{"$f":"IFERROR(('BS Rates'!AA101),\"\")","v":0},{"$f":"IFERROR(('BS Rates'!AB101),\"\")","v":0},{"$f":"IFERROR(('BS Rates'!AC101),\"\")","v":0},{"$f":"IFERROR(('BS Rates'!AD101),\"\")","v":0}]
[null,"2004-07-04",{"$f":"ROUND(IFERROR(('BS Rates'!C102),\"\"),6)","v":1.34},null,{"$f":"ROUND(IFERROR(('BS Rates'!E102),\"\"),6)","v":2698},{"$f":"ROUND(IFERROR(('BS Rates'!F102),\"\"),6)","v":0.82},{"$f":"ROUND(IFERROR(('BS Rates'!G102),\"\"),6)","v":7.8},{"$f":"ROUND(IFERROR(('BS Rates'!H102),\"\"),6)","v":108.82},{"$f":"ROUND(IFERROR(('BS Rates'!I102),\"\"),6)","v":1155},{"$f":"ROUND(IFERROR(('BS Rates'!J102),\"\"),6)","v":7.8},{"$f":"ROUND(IFERROR(('BS Rates'!K102),\"\"),6)","v":3.8},{"$f":"IFERROR(('BS Rates'!L102),\"\")","v":0},{"$f":"ROUND(IFERROR(('BS Rates'!M102),\"\"),6)","v":56.08},{"$f":"ROUND(IFERROR(('BS Rates'!N102),\"\"),6)","v":1.72},{"$f":"ROUND(IFERROR(('BS Rates'!O102),\"\"),6)","v":33.6},{"$f":"ROUND(IFERROR(('BS Rates'!P102),\"\"),6)","v":40.89},{"$f":"IFERROR(('BS Rates'!Q102),\"\")","v":0},{"$f":"ROUND(IFERROR(('BS Rates'!R102),\"\"),6)","v":1.9152},{"$f":"IFERROR(('BS Rates'!S102),\"\")","v":0},{"$f":"IFERROR(('BS Rates'!T102),\"\")","v":0},{"$f":"IFERROR(('BS Rates'!U102),\"\")","v":0},{"$f":"IFERROR(('BS Rates'!V102),\"\")","v":0},{"$f":"IFERROR(('BS Rates'!W102),\"\")","v":0},{"$f":"IFERROR(('BS Rates'!X102),\"\")","v":0},{"$f":"IFERROR(('BS Rates'!Y102),\"\")","v":0},{"$f":"IFERROR(('BS Rates'!Z102),\"\")","v":0},{"$f":"IFERROR(('BS Rates'!AA102),\"\")","v":0},{"$f":"IFERROR(('BS Rates'!AB102),\"\")","v":0},{"$f":"IFERROR(('BS Rates'!AC102),\"\")","v":0},{"$f":"IFERROR(('BS Rates'!AD102),\"\")","v":0}]
[null,"2004-06-04",{"$f":"ROUND(IFERROR(('BS Rates'!C103),\"\"),6)","v":1.36},null,{"$f":"ROUND(IFERROR(('BS Rates'!E103),\"\"),6)","v":2723.2},{"$f":"ROUND(IFERROR(('BS Rates'!F103),\"\"),6)","v":0.82},{"$f":"ROUND(IFERROR(('BS Rates'!G103),\"\"),6)","v":7.8},{"$f":"ROUND(IFERROR(('BS Rates'!H103),\"\"),6)","v":110.19},{"$f":"ROUND(IFERROR(('BS Rates'!I103),\"\"),6)","v":1164},{"$f":"ROUND(IFERROR(('BS Rates'!J103),\"\"),6)","v":7.8},{"$f":"ROUND(IFERROR(('BS Rates'!K103),\"\"),6)","v":3.8},{"$f":"IFERROR(('BS Rates'!L103),\"\")","v":0},{"$f":"ROUND(IFERROR(('BS Rates'!M103),\"\"),6)","v":55.86},{"$f":"ROUND(IFERROR(('BS Rates'!N103),\"\"),6)","v":1.7},{"$f":"ROUND(IFERROR(('BS Rates'!O103),\"\"),6)","v":33.28},{"$f":"ROUND(IFERROR(('BS Rates'!P103),\"\"),6)","v":40.54},{"$f":"IFERROR(('BS Rates'!Q103),\"\")","v":0},{"$f":"ROUND(IFERROR(('BS Rates'!R103),\"\"),6)","v":1.9152},{"$f":"IFERROR(('BS Rates'!S103),\"\")","v":0},{"$f":"IFERROR(('BS Rates'!T103),\"\")","v":0},{"$f":"IFERROR(('BS Rates'!U103),\"\")","v":0},{"$f":"IFERROR(('BS Rates'!V103),\"\")","v":0},{"$f":"IFERROR(('BS Rates'!W103),\"\")","v":0},{"$f":"IFERROR(('BS Rates'!X103),\"\")","v":0},{"$f":"IFERROR(('BS Rates'!Y103),\"\")","v":0},{"$f":"IFERROR(('BS Rates'!Z103),\"\")","v":0},{"$f":"IFERROR(('BS Rates'!AA103),\"\")","v":0},{"$f":"IFERROR(('BS Rates'!AB103),\"\")","v":0},{"$f":"IFERROR(('BS Rates'!AC103),\"\")","v":0},{"$f":"IFERROR(('BS Rates'!AD103),\"\")","v":0}]
[null,"2004-05-04",{"$f":"ROUND(IFERROR(('BS Rates'!C104),\"\"),6)","v":1.37},null,{"$f":"ROUND(IFERROR(('BS Rates'!E104),\"\"),6)","v":2648},{"$f":"ROUND(IFERROR(('BS Rates'!F104),\"\"),6)","v":0.84},{"$f":"ROUND(IFERROR(('BS Rates'!G104),\"\"),6)","v":7.8},{"$f":"ROUND(IFERROR(('BS Rates'!H104),\"\"),6)","v":110},{"$f":"ROUND(IFERROR(('BS Rates'!I104),\"\"),6)","v":1173},{"$f":"ROUND(IFERROR(('BS Rates'!J104),\"\"),6)","v":7.8},{"$f":"ROUND(IFERROR(('BS Rates'!K104),\"\"),6)","v":3.8},{"$f":"IFERROR(('BS Rates'!L104),\"\")","v":0},{"$f":"ROUND(IFERROR(('BS Rates'!M104),\"\"),6)","v":56.05},{"$f":"ROUND(IFERROR(('BS Rates'!N104),\"\"),6)","v":1.7},{"$f":"ROUND(IFERROR(('BS Rates'!O104),\"\"),6)","v":33.22},{"$f":"ROUND(IFERROR(('BS Rates'!P104),\"\"),6)","v":40},{"$f":"IFERROR(('BS Rates'!Q104),\"\")","v":0},{"$f":"ROUND(IFERROR(('BS Rates'!R104),\"\"),6)","v":1.9152},{"$f":"IFERROR(('BS Rates'!S104),\"\")","v":0},{"$f":"IFERROR(('BS Rates'!T104),\"\")","v":0},{"$f":"IFERROR(('BS Rates'!U104),\"\")","v":0},{"$f":"IFERROR(('BS Rates'!V104),\"\")","v":0},{"$f":"IFERROR(('BS Rates'!W104),\"\")","v":0},{"$f":"IFERROR(('BS Rates'!X104),\"\")","v":0},{"$f":"IFERROR(('BS Rates'!Y104),\"\")","v":0},{"$f":"IFERROR(('BS Rates'!Z104),\"\")","v":0},{"$f":"IFERROR(('BS Rates'!AA104),\"\")","v":0},{"$f":"IFERROR(('BS Rates'!AB104),\"\")","v":0},{"$f":"IFERROR(('BS Rates'!AC104),\"\")","v":0},{"$f":"IFERROR(('BS Rates'!AD104),\"\")","v":0}]
[null,"2004-04-04",{"$f":"ROUND(IFERROR(('BS Rates'!C105),\"\"),6)","v":1.31},null,{"$f":"ROUND(IFERROR(('BS Rates'!E105),\"\"),6)","v":2677.5},{"$f":"ROUND(IFERROR(('BS Rates'!F105),\"\"),6)","v":0.82},{"$f":"ROUND(IFERROR(('BS Rates'!G105),\"\"),6)","v":7.8},{"$f":"ROUND(IFERROR(('BS Rates'!H105),\"\"),6)","v":104},{"$f":"ROUND(IFERROR(('BS Rates'!I105),\"\"),6)","v":1146},{"$f":"ROUND(IFERROR(('BS Rates'!J105),\"\"),6)","v":7.8},{"$f":"ROUND(IFERROR(('BS Rates'!K105),\"\"),6)","v":3.8},{"$f":"IFERROR(('BS Rates'!L105),\"\")","v":0},{"$f":"ROUND(IFERROR(('BS Rates'!M105),\"\"),6)","v":56.1},{"$f":"ROUND(IFERROR(('BS Rates'!N105),\"\"),6)","v":1.67},{"$f":"ROUND(IFERROR(('BS Rates'!O105),\"\"),6)","v":32.9},{"$f":"ROUND(IFERROR(('BS Rates'!P105),\"\"),6)","v":39},{"$f":"IFERROR(('BS Rates'!Q105),\"\")","v":0},{"$f":"ROUND(IFERROR(('BS Rates'!R105),\"\"),6)","v":1.9152},{"$f":"IFERROR(('BS Rates'!S105),\"\")","v":0},{"$f":"IFERROR(('BS Rates'!T105),\"\")","v":0},{"$f":"IFERROR(('BS Rates'!U105),\"\")","v":0},{"$f":"IFERROR(('BS Rates'!V105),\"\")","v":0},{"$f":"IFERROR(('BS Rates'!W105),\"\")","v":0},{"$f":"IFERROR(('BS Rates'!X105),\"\")","v":0},{"$f":"IFERROR(('BS Rates'!Y105),\"\")","v":0},{"$f":"IFERROR(('BS Rates'!Z105),\"\")","v":0},{"$f":"IFERROR(('BS Rates'!AA105),\"\")","v":0},{"$f":"IFERROR(('BS Rates'!AB105),\"\")","v":0},{"$f":"IFERROR(('BS Rates'!AC105),\"\")","v":0},{"$f":"IFERROR(('BS Rates'!AD105),\"\")","v":0}]
[null,"2004-03-04",{"$f":"ROUND(IFERROR(('BS Rates'!C106),\"\"),6)","v":1.35},null,{"$f":"ROUND(IFERROR(('BS Rates'!E106),\"\"),6)","v":2683.55},{"$f":"ROUND(IFERROR(('BS Rates'!F106),\"\"),6)","v":0.81},{"$f":"ROUND(IFERROR(('BS Rates'!G106),\"\"),6)","v":7.8},{"$f":"ROUND(IFERROR(('BS Rates'!H106),\"\"),6)","v":109},{"$f":"ROUND(IFERROR(('BS Rates'!I106),\"\"),6)","v":1175},{"$f":"ROUND(IFERROR(('BS Rates'!J106),\"\"),6)","v":7.8},{"$f":"ROUND(IFERROR(('BS Rates'!K106),\"\"),6)","v":3.8},{"$f":"IFERROR(('BS Rates'!L106),\"\")","v":0},{"$f":"ROUND(IFERROR(('BS Rates'!M106),\"\"),6)","v":56.25},{"$f":"ROUND(IFERROR(('BS Rates'!N106),\"\"),6)","v":1.7},{"$f":"ROUND(IFERROR(('BS Rates'!O106),\"\"),6)","v":33.200000000000003},{"$f":"ROUND(IFERROR(('BS Rates'!P106),\"\"),6)","v":39},{"$f":"IFERROR(('BS Rates'!Q106),\"\")","v":0},{"$f":"ROUND(IFERROR(('BS Rates'!R106),\"\"),6)","v":1.9152},{"$f":"IFERROR(('BS Rates'!S106),\"\")","v":0},{"$f":"IFERROR(('BS Rates'!T106),\"\")","v":0},{"$f":"IFERROR(('BS Rates'!U106),\"\")","v":0},{"$f":"IFERROR(('BS Rates'!V106),\"\")","v":0},{"$f":"IFERROR(('BS Rates'!W106),\"\")","v":0},{"$f":"IFERROR(('BS Rates'!X106),\"\")","v":0},{"$f":"IFERROR(('BS Rates'!Y106),\"\")","v":0},{"$f":"IFERROR(('BS Rates'!Z106),\"\")","v":0},{"$f":"IFERROR(('BS Rates'!AA106),\"\")","v":0},{"$f":"IFERROR(('BS Rates'!AB106),\"\")","v":0},{"$f":"IFERROR(('BS Rates'!AC106),\"\")","v":0},{"$f":"IFERROR(('BS Rates'!AD106),\"\")","v":0}]
[null,"2004-02-04",{"$f":"ROUND(IFERROR(('BS Rates'!C107),\"\"),6)","v":1.33},null,{"$f":"ROUND(IFERROR(('BS Rates'!E107),\"\"),6)","v":2748.9},{"$f":"ROUND(IFERROR(('BS Rates'!F107),\"\"),6)","v":0.81},{"$f":"ROUND(IFERROR(('BS Rates'!G107),\"\"),6)","v":7.8},{"$f":"ROUND(IFERROR(('BS Rates'!H107),\"\"),6)","v":106},{"$f":"ROUND(IFERROR(('BS Rates'!I107),\"\"),6)","v":1173},{"$f":"ROUND(IFERROR(('BS Rates'!J107),\"\"),6)","v":7.8},{"$f":"ROUND(IFERROR(('BS Rates'!K107),\"\"),6)","v":3.8},{"$f":"IFERROR(('BS Rates'!L107),\"\")","v":0},{"$f":"ROUND(IFERROR(('BS Rates'!M107),\"\"),6)","v":55.87},{"$f":"ROUND(IFERROR(('BS Rates'!N107),\"\"),6)","v":1.7},{"$f":"ROUND(IFERROR(('BS Rates'!O107),\"\"),6)","v":33.33},{"$f":"ROUND(IFERROR(('BS Rates'!P107),\"\"),6)","v":39},{"$f":"IFERROR(('BS Rates'!Q107),\"\")","v":0},{"$f":"ROUND(IFERROR(('BS Rates'!R107),\"\"),6)","v":1.5960000000000001},{"$f":"IFERROR(('BS Rates'!S107),\"\")","v":0},{"$f":"IFERROR(('BS Rates'!T107),\"\")","v":0},{"$f":"IFERROR(('BS Rates'!U107),\"\")","v":0},{"$f":"IFERROR(('BS Rates'!V107),\"\")","v":0},{"$f":"IFERROR(('BS Rates'!W107),\"\")","v":0},{"$f":"IFERROR(('BS Rates'!X107),\"\")","v":0},{"$f":"IFERROR(('BS Rates'!Y107),\"\")","v":0},{"$f":"IFERROR(('BS Rates'!Z107),\"\")","v":0},{"$f":"IFERROR(('BS Rates'!AA107),\"\")","v":0},{"$f":"IFERROR(('BS Rates'!AB107),\"\")","v":0},{"$f":"IFERROR(('BS Rates'!AC107),\"\")","v":0},{"$f":"IFERROR(('BS Rates'!AD107),\"\")","v":0}]
[null,"2004-01-04",{"$f":"ROUND(IFERROR(('BS Rates'!C108),\"\"),6)","v":1.28},null,{"$f":"IFERROR(('BS Rates'!E108),\"\")","v":0},{"$f":"ROUND(IFERROR(('BS Rates'!F108),\"\"),6)","v":0.79},{"$f":"ROUND(IFERROR(('BS Rates'!G108),\"\"),6)","v":7.8},{"$f":"ROUND(IFERROR(('BS Rates'!H108),\"\"),6)","v":107},{"$f":"ROUND(IFERROR(('BS Rates'!I108),\"\"),6)","v":1193},{"$f":"ROUND(IFERROR(('BS Rates'!J108),\"\"),6)","v":7.8},{"$f":"ROUND(IFERROR(('BS Rates'!K108),\"\"),6)","v":3.8},{"$f":"IFERROR(('BS Rates'!L108),\"\")","v":0},{"$f":"ROUND(IFERROR(('BS Rates'!M108),\"\"),6)","v":55.5},{"$f":"ROUND(IFERROR(('BS Rates'!N108),\"\"),6)","v":1.7},{"$f":"ROUND(IFERROR(('BS Rates'!O108),\"\"),6)","v":33.9},{"$f":"ROUND(IFERROR(('BS Rates'!P108),\"\"),6)","v":40},{"$f":"IFERROR(('BS Rates'!Q108),\"\")","v":0},{"$f":"IFERROR(('BS Rates'!R108),\"\")","v":0},{"$f":"IFERROR(('BS Rates'!S108),\"\")","v":0},{"$f":"IFERROR(('BS Rates'!T108),\"\")","v":0},{"$f":"IFERROR(('BS Rates'!U108),\"\")","v":0},{"$f":"IFERROR(('BS Rates'!V108),\"\")","v":0},{"$f":"IFERROR(('BS Rates'!W108),\"\")","v":0},{"$f":"IFERROR(('BS Rates'!X108),\"\")","v":0},{"$f":"IFERROR(('BS Rates'!Y108),\"\")","v":0},{"$f":"IFERROR(('BS Rates'!Z108),\"\")","v":0},{"$f":"IFERROR(('BS Rates'!AA108),\"\")","v":0},{"$f":"IFERROR(('BS Rates'!AB108),\"\")","v":0},{"$f":"IFERROR(('BS Rates'!AC108),\"\")","v":0},{"$f":"IFERROR(('BS Rates'!AD108),\"\")","v":0}]
[{"$f":"A96-1","v":2003},"2003-12-04",{"$f":"ROUND(IFERROR(('BS Rates'!C109),\"\"),6)","v":1.31},{"$f":"IFERROR(('BS Rates'!D109),\"\")","v":0},{"$f":"IFERROR(('BS Rates'!E109),\"\")","v":0},{"$f":"ROUND(IFERROR(('BS Rates'!F109),\"\"),6)","v":0.85},{"$f":"ROUND(IFERROR(('BS Rates'!G109),\"\"),6)","v":7.8},{"$f":"ROUND(IFERROR(('BS Rates'!H109),\"\"),6)","v":110},{"$f":"ROUND(IFERROR(('BS Rates'!I109),\"\"),6)","v":1202},{"$f":"ROUND(IFERROR(('BS Rates'!J109),\"\"),6)","v":7.8},{"$f":"ROUND(IFERROR(('BS Rates'!K109),\"\"),6)","v":3.8},{"$f":"IFERROR(('BS Rates'!L109),\"\")","v":0},{"$f":"ROUND(IFERROR(('BS Rates'!M109),\"\"),6)","v":55.53},{"$f":"ROUND(IFERROR(('BS Rates'!N109),\"\"),6)","v":1.72},{"$f":"ROUND(IFERROR(('BS Rates'!O109),\"\"),6)","v":34.1},{"$f":"ROUND(IFERROR(('BS Rates'!P109),\"\"),6)","v":40},{"$f":"IFERROR(('BS Rates'!Q109),\"\")","v":0},{"$f":"IFERROR(('BS Rates'!R109),\"\")","v":0},{"$f":"IFERROR(('BS Rates'!S109),\"\")","v":0},{"$f":"IFERROR(('BS Rates'!T109),\"\")","v":0},{"$f":"IFERROR(('BS Rates'!U109),\"\")","v":0},{"$f":"IFERROR(('BS Rates'!V109),\"\")","v":0},{"$f":"IFERROR(('BS Rates'!W109),\"\")","v":0},{"$f":"IFERROR(('BS Rates'!X109),\"\")","v":0},{"$f":"IFERROR(('BS Rates'!Y109),\"\")","v":0},{"$f":"IFERROR(('BS Rates'!Z109),\"\")","v":0},{"$f":"IFERROR(('BS Rates'!AA109),\"\")","v":0},{"$f":"IFERROR(('BS Rates'!AB109),\"\")","v":0},{"$f":"IFERROR(('BS Rates'!AC109),\"\")","v":0},{"$f":"IFERROR(('BS Rates'!AD109),\"\")","v":0}]
[null,"2003-11-04",{"$f":"ROUND(IFERROR(('BS Rates'!C110),\"\"),6)","v":1.32},null,null,{"$f":"ROUND(IFERROR(('BS Rates'!F110),\"\"),6)","v":0.86},{"$f":"ROUND(IFERROR(('BS Rates'!G110),\"\"),6)","v":7.8},{"$f":"ROUND(IFERROR(('BS Rates'!H110),\"\"),6)","v":109},{"$f":"ROUND(IFERROR(('BS Rates'!I110),\"\"),6)","v":1183},{"$f":"ROUND(IFERROR(('BS Rates'!J110),\"\"),6)","v":7.8},{"$f":"ROUND(IFERROR(('BS Rates'!K110),\"\"),6)","v":3.8},{"$f":"IFERROR(('BS Rates'!L110),\"\")","v":0},{"$f":"ROUND(IFERROR(('BS Rates'!M110),\"\"),6)","v":55.31},{"$f":"ROUND(IFERROR(('BS Rates'!N110),\"\"),6)","v":1.74},{"$f":"ROUND(IFERROR(('BS Rates'!O110),\"\"),6)","v":33.94},{"$f":"ROUND(IFERROR(('BS Rates'!P110),\"\"),6)","v":40},{"$f":"IFERROR(('BS Rates'!Q110),\"\")","v":0},{"$f":"IFERROR(('BS Rates'!R110),\"\")","v":0},{"$f":"IFERROR(('BS Rates'!S110),\"\")","v":0},{"$f":"IFERROR(('BS Rates'!T110),\"\")","v":0},{"$f":"IFERROR(('BS Rates'!U110),\"\")","v":0},{"$f":"IFERROR(('BS Rates'!V110),\"\")","v":0},{"$f":"IFERROR(('BS Rates'!W110),\"\")","v":0},{"$f":"IFERROR(('BS Rates'!X110),\"\")","v":0},{"$f":"IFERROR(('BS Rates'!Y110),\"\")","v":0},{"$f":"IFERROR(('BS Rates'!Z110),\"\")","v":0},{"$f":"IFERROR(('BS Rates'!AA110),\"\")","v":0},{"$f":"IFERROR(('BS Rates'!AB110),\"\")","v":0},{"$f":"IFERROR(('BS Rates'!AC110),\"\")","v":0},{"$f":"IFERROR(('BS Rates'!AD110),\"\")","v":0}]
[null,"2003-10-04",{"$f":"ROUND(IFERROR(('BS Rates'!C111),\"\"),6)","v":1.35},null,null,{"$f":"ROUND(IFERROR(('BS Rates'!F111),\"\"),6)","v":0.86},{"$f":"ROUND(IFERROR(('BS Rates'!G111),\"\"),6)","v":7.8},{"$f":"ROUND(IFERROR(('BS Rates'!H111),\"\"),6)","v":110},{"$f":"ROUND(IFERROR(('BS Rates'!I111),\"\"),6)","v":1150},{"$f":"ROUND(IFERROR(('BS Rates'!J111),\"\"),6)","v":7.8},{"$f":"ROUND(IFERROR(('BS Rates'!K111),\"\"),6)","v":3.8},{"$f":"IFERROR(('BS Rates'!L111),\"\")","v":0},{"$f":"ROUND(IFERROR(('BS Rates'!M111),\"\"),6)","v":54.8},{"$f":"ROUND(IFERROR(('BS Rates'!N111),\"\"),6)","v":1.73},{"$f":"ROUND(IFERROR(('BS Rates'!O111),\"\"),6)","v":33.68},{"$f":"ROUND(IFERROR(('BS Rates'!P111),\"\"),6)","v":40},{"$f":"IFERROR(('BS Rates'!Q111),\"\")","v":0},{"$f":"IFERROR(('BS Rates'!R111),\"\")","v":0},{"$f":"IFERROR(('BS Rates'!S111),\"\")","v":0},{"$f":"IFERROR(('BS Rates'!T111),\"\")","v":0},{"$f":"IFERROR(('BS Rates'!U111),\"\")","v":0},{"$f":"IFERROR(('BS Rates'!V111),\"\")","v":0},{"$f":"IFERROR(('BS Rates'!W111),\"\")","v":0},{"$f":"IFERROR(('BS Rates'!X111),\"\")","v":0},{"$f":"IFERROR(('BS Rates'!Y111),\"\")","v":0},{"$f":"IFERROR(('BS Rates'!Z111),\"\")","v":0},{"$f":"IFERROR(('BS Rates'!AA111),\"\")","v":0},{"$f":"IFERROR(('BS Rates'!AB111),\"\")","v":0},{"$f":"IFERROR(('BS Rates'!AC111),\"\")","v":0},{"$f":"IFERROR(('BS Rates'!AD111),\"\")","v":0}]
[null,"2003-09-04",{"$f":"ROUND(IFERROR(('BS Rates'!C112),\"\"),6)","v":1.4},null,null,{"$f":"ROUND(IFERROR(('BS Rates'!F112),\"\"),6)","v":0.91},{"$f":"ROUND(IFERROR(('BS Rates'!G112),\"\"),6)","v":7.8},{"$f":"ROUND(IFERROR(('BS Rates'!H112),\"\"),6)","v":116},{"$f":"ROUND(IFERROR(('BS Rates'!I112),\"\"),6)","v":1178},{"$f":"ROUND(IFERROR(('BS Rates'!J112),\"\"),6)","v":7.8},{"$f":"ROUND(IFERROR(('BS Rates'!K112),\"\"),6)","v":3.8},{"$f":"IFERROR(('BS Rates'!L112),\"\")","v":0},{"$f":"ROUND(IFERROR(('BS Rates'!M112),\"\"),6)","v":54.85},{"$f":"ROUND(IFERROR(('BS Rates'!N112),\"\"),6)","v":1.75},{"$f":"ROUND(IFERROR(('BS Rates'!O112),\"\"),6)","v":33.15},{"$f":"ROUND(IFERROR(('BS Rates'!P112),\"\"),6)","v":41},{"$f":"IFERROR(('BS Rates'!Q112),\"\")","v":0},{"$f":"IFERROR(('BS Rates'!R112),\"\")","v":0},{"$f":"IFERROR(('BS Rates'!S112),\"\")","v":0},{"$f":"IFERROR(('BS Rates'!T112),\"\")","v":0},{"$f":"IFERROR(('BS Rates'!U112),\"\")","v":0},{"$f":"IFERROR(('BS Rates'!V112),\"\")","v":0},{"$f":"IFERROR(('BS Rates'!W112),\"\")","v":0},{"$f":"IFERROR(('BS Rates'!X112),\"\")","v":0},{"$f":"IFERROR(('BS Rates'!Y112),\"\")","v":0},{"$f":"IFERROR(('BS Rates'!Z112),\"\")","v":0},{"$f":"IFERROR(('BS Rates'!AA112),\"\")","v":0},{"$f":"IFERROR(('BS Rates'!AB112),\"\")","v":0},{"$f":"IFERROR(('BS Rates'!AC112),\"\")","v":0},{"$f":"IFERROR(('BS Rates'!AD112),\"\")","v":0}]
[null,"2003-08-04",{"$f":"ROUND(IFERROR(('BS Rates'!C113),\"\"),6)","v":1.4},null,null,{"$f":"ROUND(IFERROR(('BS Rates'!F113),\"\"),6)","v":0.88},{"$f":"ROUND(IFERROR(('BS Rates'!G113),\"\"),6)","v":7.8},{"$f":"ROUND(IFERROR(('BS Rates'!H113),\"\"),6)","v":120},{"$f":"ROUND(IFERROR(('BS Rates'!I113),\"\"),6)","v":1180},{"$f":"ROUND(IFERROR(('BS Rates'!J113),\"\"),6)","v":7.8},{"$f":"ROUND(IFERROR(('BS Rates'!K113),\"\"),6)","v":3.8},{"$f":"IFERROR(('BS Rates'!L113),\"\")","v":0},{"$f":"ROUND(IFERROR(('BS Rates'!M113),\"\"),6)","v":54.62},{"$f":"ROUND(IFERROR(('BS Rates'!N113),\"\"),6)","v":1.76},{"$f":"ROUND(IFERROR(('BS Rates'!O113),\"\"),6)","v":34.31},{"$f":"ROUND(IFERROR(('BS Rates'!P113),\"\"),6)","v":42},{"$f":"IFERROR(('BS Rates'!Q113),\"\")","v":0},{"$f":"IFERROR(('BS Rates'!R113),\"\")","v":0},{"$f":"IFERROR(('BS Rates'!S113),\"\")","v":0},{"$f":"IFERROR(('BS Rates'!T113),\"\")","v":0},{"$f":"IFERROR(('BS Rates'!U113),\"\")","v":0},{"$f":"IFERROR(('BS Rates'!V113),\"\")","v":0},{"$f":"IFERROR(('BS Rates'!W113),\"\")","v":0},{"$f":"IFERROR(('BS Rates'!X113),\"\")","v":0},{"$f":"IFERROR(('BS Rates'!Y113),\"\")","v":0},{"$f":"IFERROR(('BS Rates'!Z113),\"\")","v":0},{"$f":"IFERROR(('BS Rates'!AA113),\"\")","v":0},{"$f":"IFERROR(('BS Rates'!AB113),\"\")","v":0},{"$f":"IFERROR(('BS Rates'!AC113),\"\")","v":0},{"$f":"IFERROR(('BS Rates'!AD113),\"\")","v":0}]
[null,"2003-07-04"]

{"sheet":"Inverse IS Rates","index":79,"n_rows":113,"n_cols":34,"rows_kept":113,"cut":false,"hidden":false,"merged":[[47,0,58,0],[11,0,22,0],[23,0,34,0],[35,0,46,0],[7,0,10,0],[107,0,118,0],[59,0,70,0],[71,0,82,0],[83,0,94,0],[95,0,106,0]]}
[]
[]
[]
[null,null,"Canadian","China","Colombian","European","HongKong","Japanese","Korean","Macau","Malaysian","Mexico","Philippines","Singapore","Taiwan","Thailand","Turkish","Venezuelan","Australian","British","Brunei ","Danish","Dutch","New Zealand","Swedish","Swiss ","Hungarian","Czech","Polish","Indonesian","Lao","Norway","Indian ","Chilean"]
[null,null,"Dollar","RMB","Peso","Euro","Dollar","Yen","Won","Pataca","Ringgit","Peso","Peso","Dollar","Dollar","Baht","New Lira","Bolivar","Dollar","Pound","Dollar","Krona","Guilder","Dollar","Krona","Franc","Forint","Koruna","Zloty","Rupiah","Kip","Krone","Rupee","Peso"]
[null,null,"CAD","CNY","COP","EUR","HKD","JPY","KRW","MOP","MYR","MXN","PHP","SGD","TWD","THB","TRY","VEF","AUD","GBP","BND","DKK","EUR","NZD","SEK","CHF","HUF","CZK","PLN","IDR","LAK","NOK","INR","CLP"]
[null,null,"I/S Rate","I/S Rate","I/S Rate","I/S Rate","I/S Rate","I/S Rate","I/S Rate","I/S Rate","I/S Rate","I/S Rate","I/S Rate","I/S Rate","I/S Rate","I/S Rate","I/S Rate","I/S Rate","I/S Rate","I/S Rate","I/S Rate","I/S Rate","I/S Rate","I/S Rate","I/S Rate","I/S Rate","I/S Rate","I/S Rate","I/S Rate","I/S Rate","I/S Rate","I/S Rate","I/S Rate","I/S Rate"]
[2012,"2012-04-01",1.0040770000000001,0.15798499999999999,5.5900000000000004E-4,1.3206549999999999,0.12876599999999999,1.2146000000000001E-2,8.8500000000000004E-4,0.122728,0.32647399999999999,7.7745999999999996E-2,2.3324000000000001E-2,0.79488700000000001,3.3838E-2,3.2085000000000002E-2,0.55893999999999999,0.232462,1.0328870000000001,1.5930420000000001,0.78456000000000004,0.17748800000000001,1.3206549999999999,0.81852499999999995,0.14969099999999999,1.097839,4.4689999999999999E-3,5.3416999999999999E-2,0.317992,1.0900000000000001E-4,1.2400000000000001E-4,0.174151,1.9198E-2,2.062E-3]
[null,"2012-03-01",1.0067349999999999,0.158023,5.6300000000000002E-4,1.321091,0.12882399999999999,1.213E-2,8.8599999999999996E-4,0.122845,0.32806600000000002,7.8456999999999999E-2,2.3262999999999999E-2,0.79483700000000002,3.3814999999999998E-2,3.2412000000000003E-2,0.55895899999999998,0.232458,1.055598,1.5820780000000001,0.78366800000000003,0.17766499999999999,1.321091,0.82143600000000006,0.14860899999999999,1.095278,4.5230000000000001E-3,5.3517000000000002E-2,0.31933099999999998,1.0900000000000001E-4,1.2400000000000001E-4,0.17541899999999999,1.9557999999999999E-2,2.0560000000000001E-3]
[null,"2012-02-01",{"$f":"ROUND(IFERROR((1/'IS Rates'!C10),\"\"),6)","v":1.001984},{"$f":"ROUND(IFERROR((1/'IS Rates'!D10),\"\"),6)","v":0.15858},{"$f":"ROUND(IFERROR((1/'IS Rates'!E10),\"\"),6)","v":5.5500000000000005E-4},{"$f":"ROUND(IFERROR((1/'IS Rates'!F10),\"\"),6)","v":1.321895},{"$f":"ROUND(IFERROR((1/'IS Rates'!G10),\"\"),6)","v":0.128945},{"$f":"ROUND(IFERROR((1/'IS Rates'!H10),\"\"),6)","v":1.2754E-2},{"$f":"ROUND(IFERROR((1/'IS Rates'!I10),\"\"),6)","v":8.8999999999999995E-4},{"$f":"ROUND(IFERROR((1/'IS Rates'!J10),\"\"),6)","v":0.12284299999999999},{"$f":"ROUND(IFERROR((1/'IS Rates'!K10),\"\"),6)","v":0.33030300000000001},{"$f":"ROUND(IFERROR((1/'IS Rates'!L10),\"\"),6)","v":7.8116000000000005E-2},{"$f":"ROUND(IFERROR((1/'IS Rates'!M10),\"\"),6)","v":2.3396E-2},{"$f":"ROUND(IFERROR((1/'IS Rates'!N10),\"\"),6)","v":0.79705999999999999},{"$f":"ROUND(IFERROR((1/'IS Rates'!O10),\"\"),6)","v":3.3776E-2},{"$f":"ROUND(IFERROR((1/'IS Rates'!P10),\"\"),6)","v":3.2395E-2},{"$f":"ROUND(IFERROR((1/'IS Rates'!Q10),\"\"),6)","v":0.56794},{"$f":"ROUND(IFERROR((1/'IS Rates'!R10),\"\"),6)","v":0.23246600000000001},{"$f":"ROUND(IFERROR((1/'IS Rates'!S10),\"\"),6)","v":1.071536},{"$f":"ROUND(IFERROR((1/'IS Rates'!T10),\"\"),6)","v":1.5796790000000001},{"$f":"ROUND(IFERROR((1/'IS Rates'!U10),\"\"),6)","v":0.78507700000000002},{"$f":"ROUND(IFERROR((1/'IS Rates'!V10),\"\"),6)","v":0.177813},{"$f":"ROUND(IFERROR((1/'IS Rates'!W10),\"\"),6)","v":1.321895},{"$f":"ROUND(IFERROR((1/'IS Rates'!X10),\"\"),6)","v":0.83316000000000001},{"$f":"ROUND(IFERROR((1/'IS Rates'!Y10),\"\"),6)","v":0.14984600000000001},{"$f":"ROUND(IFERROR((1/'IS Rates'!Z10),\"\"),6)","v":1.0947990000000001},{"$f":"ROUND(IFERROR((1/'IS Rates'!AA10),\"\"),6)","v":4.5370000000000002E-3},{"$f":"ROUND(IFERROR((1/'IS Rates'!AB10),\"\"),6)","v":5.2733000000000002E-2},{"$f":"ROUND(IFERROR((1/'IS Rates'!AC10),\"\"),6)","v":0.31540899999999999},{"$f":"ROUND(IFERROR((1/'IS Rates'!AD10),\"\"),6)","v":1.11E-4},{"$f":"ROUND(IFERROR((1/'IS Rates'!AE10),\"\"),6)","v":1.2300000000000001E-4},{"$f":"ROUND(IFERROR((1/'IS Rates'!AF10),\"\"),6)","v":0.17460100000000001},{"$f":"ROUND(IFERROR((1/'IS Rates'!AG10),\"\"),6)","v":2.0088000000000002E-2},{"$f":"ROUND(IFERROR((1/'IS Rates'!AH10),\"\"),6)","v":2.0730000000000002E-3}]
[null,"2012-01-01",{"$f":"ROUND(IFERROR((1/'IS Rates'!C11),\"\"),6)","v":0.98460099999999995},{"$f":"ROUND(IFERROR((1/'IS Rates'!D11),\"\"),6)","v":0.15809599999999999},{"$f":"ROUND(IFERROR((1/'IS Rates'!E11),\"\"),6)","v":5.3300000000000005E-4},{"$f":"ROUND(IFERROR((1/'IS Rates'!F11),\"\"),6)","v":1.2891079999999999},{"$f":"ROUND(IFERROR((1/'IS Rates'!G11),\"\"),6)","v":0.12879699999999999},{"$f":"ROUND(IFERROR((1/'IS Rates'!H11),\"\"),6)","v":1.2991000000000001E-2},{"$f":"ROUND(IFERROR((1/'IS Rates'!I11),\"\"),6)","v":8.7299999999999997E-4},{"$f":"ROUND(IFERROR((1/'IS Rates'!J11),\"\"),6)","v":0.122652},{"$f":"ROUND(IFERROR((1/'IS Rates'!K11),\"\"),6)","v":0.32010899999999998},{"$f":"ROUND(IFERROR((1/'IS Rates'!L11),\"\"),6)","v":7.4234999999999995E-2},{"$f":"ROUND(IFERROR((1/'IS Rates'!M11),\"\"),6)","v":2.2889E-2},{"$f":"ROUND(IFERROR((1/'IS Rates'!N11),\"\"),6)","v":0.78027500000000005},{"$f":"ROUND(IFERROR((1/'IS Rates'!O11),\"\"),6)","v":3.2930000000000001E-2},{"$f":"ROUND(IFERROR((1/'IS Rates'!P11),\"\"),6)","v":3.1531999999999998E-2},{"$f":"ROUND(IFERROR((1/'IS Rates'!Q11),\"\"),6)","v":0.54118100000000002},{"$f":"ROUND(IFERROR((1/'IS Rates'!R11),\"\"),6)","v":0.23241999999999999},{"$f":"ROUND(IFERROR((1/'IS Rates'!S11),\"\"),6)","v":1.0380229999999999},{"$f":"ROUND(IFERROR((1/'IS Rates'!T11),\"\"),6)","v":1.550171},{"$f":"ROUND(IFERROR((1/'IS Rates'!U11),\"\"),6)","v":0.76819099999999996},{"$f":"ROUND(IFERROR((1/'IS Rates'!V11),\"\"),6)","v":0.173398},{"$f":"ROUND(IFERROR((1/'IS Rates'!W11),\"\"),6)","v":1.2891079999999999},{"$f":"ROUND(IFERROR((1/'IS Rates'!X11),\"\"),6)","v":0.79732099999999995},{"$f":"ROUND(IFERROR((1/'IS Rates'!Y11),\"\"),6)","v":0.145619},{"$f":"ROUND(IFERROR((1/'IS Rates'!Z11),\"\"),6)","v":1.0643389999999999},{"$f":"ROUND(IFERROR((1/'IS Rates'!AA11),\"\"),6)","v":4.1749999999999999E-3},{"$f":"ROUND(IFERROR((1/'IS Rates'!AB11),\"\"),6)","v":5.0427E-2},{"$f":"ROUND(IFERROR((1/'IS Rates'!AC11),\"\"),6)","v":0.29356500000000002},{"$f":"ROUND(IFERROR((1/'IS Rates'!AD11),\"\"),6)","v":1.1E-4},{"$f":"ROUND(IFERROR((1/'IS Rates'!AE11),\"\"),6)","v":1.2300000000000001E-4},{"$f":"ROUND(IFERROR((1/'IS Rates'!AF11),\"\"),6)","v":0.16770299999999999},{"$f":"ROUND(IFERROR((1/'IS Rates'!AG11),\"\"),6)","v":1.9099999999999999E-2},{"$f":"ROUND(IFERROR((1/'IS Rates'!AH11),\"\"),6)","v":1.9719999999999998E-3}]
[2011,"2011-12-01",{"$f":"ROUND(IFERROR((1/'IS Rates'!C12),\"\"),6)","v":0.97658199999999995},{"$f":"ROUND(IFERROR((1/'IS Rates'!D12),\"\"),6)","v":0.156889},{"$f":"ROUND(IFERROR((1/'IS Rates'!E12),\"\"),6)","v":5.1099999999999995E-4},{"$f":"ROUND(IFERROR((1/'IS Rates'!F12),\"\"),6)","v":1.3189649999999999},{"$f":"ROUND(IFERROR((1/'IS Rates'!G12),\"\"),6)","v":0.128553},{"$f":"ROUND(IFERROR((1/'IS Rates'!H12),\"\"),6)","v":1.2841E-2},{"$f":"ROUND(IFERROR((1/'IS Rates'!I12),\"\"),6)","v":8.7000000000000001E-4},{"$f":"ROUND(IFERROR((1/'IS Rates'!J12),\"\"),6)","v":0.122374},{"$f":"ROUND(IFERROR((1/'IS Rates'!K12),\"\"),6)","v":0.31586999999999998},{"$f":"ROUND(IFERROR((1/'IS Rates'!L12),\"\"),6)","v":7.2648000000000004E-2},{"$f":"ROUND(IFERROR((1/'IS Rates'!M12),\"\"),6)","v":2.2853999999999999E-2},{"$f":"ROUND(IFERROR((1/'IS Rates'!N12),\"\"),6)","v":0.77204600000000001},{"$f":"ROUND(IFERROR((1/'IS Rates'!O12),\"\"),6)","v":3.2731000000000003E-2},{"$f":"ROUND(IFERROR((1/'IS Rates'!P12),\"\"),6)","v":3.1898999999999997E-2},{"$f":"ROUND(IFERROR((1/'IS Rates'!Q12),\"\"),6)","v":0.53499399999999997},{"$f":"ROUND(IFERROR((1/'IS Rates'!R12),\"\"),6)","v":0.232379},{"$f":"ROUND(IFERROR((1/'IS Rates'!S12),\"\"),6)","v":1.01234},{"$f":"ROUND(IFERROR((1/'IS Rates'!T12),\"\"),6)","v":1.56016},{"$f":"ROUND(IFERROR((1/'IS Rates'!U12),\"\"),6)","v":0.76067600000000002},{"$f":"ROUND(IFERROR((1/'IS Rates'!V12),\"\"),6)","v":0.1774},{"$f":"ROUND(IFERROR((1/'IS Rates'!W12),\"\"),6)","v":1.3189649999999999},{"$f":"ROUND(IFERROR((1/'IS Rates'!X12),\"\"),6)","v":0.770173},{"$f":"ROUND(IFERROR((1/'IS Rates'!Y12),\"\"),6)","v":0.14607500000000001},{"$f":"ROUND(IFERROR((1/'IS Rates'!Z12),\"\"),6)","v":1.0738829999999999},{"$f":"ROUND(IFERROR((1/'IS Rates'!AA12),\"\"),6)","v":4.3220000000000003E-3},{"$f":"ROUND(IFERROR((1/'IS Rates'!AB12),\"\"),6)","v":5.1684000000000001E-2},{"$f":"ROUND(IFERROR((1/'IS Rates'!AC12),\"\"),6)","v":0.29367199999999999},{"$f":"ROUND(IFERROR((1/'IS Rates'!AD12),\"\"),6)","v":1.1E-4},{"$f":"ROUND(IFERROR((1/'IS Rates'!AE12),\"\"),6)","v":1.2300000000000001E-4},{"$f":"ROUND(IFERROR((1/'IS Rates'!AF12),\"\"),6)","v":0.17003399999999999},{"$f":"ROUND(IFERROR((1/'IS Rates'!AG12),\"\"),6)","v":1.8713E-2},{"$f":"ROUND(IFERROR((1/'IS Rates'!AH12),\"\"),6)","v":1.9319999999999999E-3}]
[null,"2011-11-01",{"$f":"ROUND(IFERROR((1/'IS Rates'!C13),\"\"),6)","v":0.97599100000000005},{"$f":"ROUND(IFERROR((1/'IS Rates'!D13),\"\"),6)","v":0.15707099999999999},{"$f":"ROUND(IFERROR((1/'IS Rates'!E13),\"\"),6)","v":5.1400000000000003E-4},{"$f":"ROUND(IFERROR((1/'IS Rates'!F13),\"\"),6)","v":1.3584369999999999},{"$f":"ROUND(IFERROR((1/'IS Rates'!G13),\"\"),6)","v":0.12850200000000001},{"$f":"ROUND(IFERROR((1/'IS Rates'!H13),\"\"),6)","v":1.2897E-2},{"$f":"ROUND(IFERROR((1/'IS Rates'!I13),\"\"),6)","v":8.8099999999999995E-4},{"$f":"ROUND(IFERROR((1/'IS Rates'!J13),\"\"),6)","v":0.122476},{"$f":"ROUND(IFERROR((1/'IS Rates'!K13),\"\"),6)","v":0.31697999999999998},{"$f":"ROUND(IFERROR((1/'IS Rates'!L13),\"\"),6)","v":7.2956999999999994E-2},{"$f":"ROUND(IFERROR((1/'IS Rates'!M13),\"\"),6)","v":2.3056E-2},{"$f":"ROUND(IFERROR((1/'IS Rates'!N13),\"\"),6)","v":0.77629499999999996},{"$f":"ROUND(IFERROR((1/'IS Rates'!O13),\"\"),6)","v":3.2688000000000002E-2},{"$f":"ROUND(IFERROR((1/'IS Rates'!P13),\"\"),6)","v":3.2160000000000001E-2},{"$f":"ROUND(IFERROR((1/'IS Rates'!Q13),\"\"),6)","v":0.55207700000000004},{"$f":"ROUND(IFERROR((1/'IS Rates'!R13),\"\"),6)","v":0.23252200000000001},{"$f":"ROUND(IFERROR((1/'IS Rates'!S13),\"\"),6)","v":1.01102},{"$f":"ROUND(IFERROR((1/'IS Rates'!T13),\"\"),6)","v":1.5825039999999999},{"$f":"ROUND(IFERROR((1/'IS Rates'!U13),\"\"),6)","v":0.76495899999999994},{"$f":"ROUND(IFERROR((1/'IS Rates'!V13),\"\"),6)","v":0.182532},{"$f":"ROUND(IFERROR((1/'IS Rates'!W13),\"\"),6)","v":1.3584369999999999},{"$f":"ROUND(IFERROR((1/'IS Rates'!X13),\"\"),6)","v":0.77138499999999999},{"$f":"ROUND(IFERROR((1/'IS Rates'!Y13),\"\"),6)","v":0.14857300000000001},{"$f":"ROUND(IFERROR((1/'IS Rates'!Z13),\"\"),6)","v":1.1031439999999999},{"$f":"ROUND(IFERROR((1/'IS Rates'!AA13),\"\"),6)","v":4.3899999999999998E-3},{"$f":"ROUND(IFERROR((1/'IS Rates'!AB13),\"\"),6)","v":5.3263999999999999E-2},{"$f":"ROUND(IFERROR((1/'IS Rates'!AC13),\"\"),6)","v":0.30652699999999999},{"$f":"ROUND(IFERROR((1/'IS Rates'!AD13),\"\"),6)","v":1.11E-4},{"$f":"ROUND(IFERROR((1/'IS Rates'!AE13),\"\"),6)","v":1.22E-4},{"$f":"ROUND(IFERROR((1/'IS Rates'!AF13),\"\"),6)","v":0.1744},{"$f":"ROUND(IFERROR((1/'IS Rates'!AG13),\"\"),6)","v":1.9564999999999999E-2},{"$f":"ROUND(IFERROR((1/'IS Rates'!AH13),\"\"),6)","v":1.9689999999999998E-3}]
[null,"2011-10-01",{"$f":"ROUND(IFERROR((1/'IS Rates'!C14),\"\"),6)","v":0.97803300000000004},{"$f":"ROUND(IFERROR((1/'IS Rates'!D14),\"\"),6)","v":0.15647900000000001},{"$f":"ROUND(IFERROR((1/'IS Rates'!E14),\"\"),6)","v":5.1999999999999995E-4},{"$f":"ROUND(IFERROR((1/'IS Rates'!F14),\"\"),6)","v":1.3695250000000001},{"$f":"ROUND(IFERROR((1/'IS Rates'!G14),\"\"),6)","v":0.12853899999999999},{"$f":"ROUND(IFERROR((1/'IS Rates'!H14),\"\"),6)","v":1.3048000000000001E-2},{"$f":"ROUND(IFERROR((1/'IS Rates'!I14),\"\"),6)","v":8.6399999999999997E-4},{"$f":"ROUND(IFERROR((1/'IS Rates'!J14),\"\"),6)","v":0.122686},{"$f":"ROUND(IFERROR((1/'IS Rates'!K14),\"\"),6)","v":0.31752900000000001},{"$f":"ROUND(IFERROR((1/'IS Rates'!L14),\"\"),6)","v":7.4133000000000004E-2},{"$f":"ROUND(IFERROR((1/'IS Rates'!M14),\"\"),6)","v":2.3015000000000001E-2},{"$f":"ROUND(IFERROR((1/'IS Rates'!N14),\"\"),6)","v":0.78179399999999999},{"$f":"ROUND(IFERROR((1/'IS Rates'!O14),\"\"),6)","v":3.2800999999999997E-2},{"$f":"ROUND(IFERROR((1/'IS Rates'!P14),\"\"),6)","v":3.2231999999999997E-2},{"$f":"ROUND(IFERROR((1/'IS Rates'!Q14),\"\"),6)","v":0.545381},{"$f":"ROUND(IFERROR((1/'IS Rates'!R14),\"\"),6)","v":0.23241800000000001},{"$f":"ROUND(IFERROR((1/'IS Rates'!S14),\"\"),6)","v":1.0102640000000001},{"$f":"ROUND(IFERROR((1/'IS Rates'!T14),\"\"),6)","v":1.574902},{"$f":"ROUND(IFERROR((1/'IS Rates'!U14),\"\"),6)","v":0.77177799999999996},{"$f":"ROUND(IFERROR((1/'IS Rates'!V14),\"\"),6)","v":0.183976},{"$f":"ROUND(IFERROR((1/'IS Rates'!W14),\"\"),6)","v":1.3695250000000001},{"$f":"ROUND(IFERROR((1/'IS Rates'!X14),\"\"),6)","v":0.78804700000000005},{"$f":"ROUND(IFERROR((1/'IS Rates'!Y14),\"\"),6)","v":0.15002099999999999},{"$f":"ROUND(IFERROR((1/'IS Rates'!Z14),\"\"),6)","v":1.1138209999999999},{"$f":"ROUND(IFERROR((1/'IS Rates'!AA14),\"\"),6)","v":4.6150000000000002E-3},{"$f":"ROUND(IFERROR((1/'IS Rates'!AB14),\"\"),6)","v":5.5128999999999997E-2},{"$f":"ROUND(IFERROR((1/'IS Rates'!AC14),\"\"),6)","v":0.313614},{"$f":"ROUND(IFERROR((1/'IS Rates'!AD14),\"\"),6)","v":1.12E-4},{"$f":"ROUND(IFERROR((1/'IS Rates'!AE14),\"\"),6)","v":1.2400000000000001E-4},{"$f":"ROUND(IFERROR((1/'IS Rates'!AF14),\"\"),6)","v":0.176367},{"$f":"ROUND(IFERROR((1/'IS Rates'!AG14),\"\"),6)","v":2.002E-2},{"$f":"ROUND(IFERROR((1/'IS Rates'!AH14),\"\"),6)","v":1.9580000000000001E-3}]
[null,"2011-09-01",{"$f":"ROUND(IFERROR((1/'IS Rates'!C15),\"\"),6)","v":1.001803},{"$f":"ROUND(IFERROR((1/'IS Rates'!D15),\"\"),6)","v":0.15623300000000001},{"$f":"ROUND(IFERROR((1/'IS Rates'!E15),\"\"),6)","v":5.4100000000000003E-4},{"$f":"ROUND(IFERROR((1/'IS Rates'!F15),\"\"),6)","v":1.3798809999999999},{"$f":"ROUND(IFERROR((1/'IS Rates'!G15),\"\"),6)","v":0.12828200000000001},{"$f":"ROUND(IFERROR((1/'IS Rates'!H15),\"\"),6)","v":1.3011E-2},{"$f":"ROUND(IFERROR((1/'IS Rates'!I15),\"\"),6)","v":8.9899999999999995E-4},{"$f":"ROUND(IFERROR((1/'IS Rates'!J15),\"\"),6)","v":0.12231599999999999},{"$f":"ROUND(IFERROR((1/'IS Rates'!K15),\"\"),6)","v":0.32579000000000002},{"$f":"ROUND(IFERROR((1/'IS Rates'!L15),\"\"),6)","v":7.7062000000000005E-2},{"$f":"ROUND(IFERROR((1/'IS Rates'!M15),\"\"),6)","v":2.3222E-2},{"$f":"ROUND(IFERROR((1/'IS Rates'!N15),\"\"),6)","v":0.80267100000000002},{"$f":"ROUND(IFERROR((1/'IS Rates'!O15),\"\"),6)","v":3.3481999999999998E-2},{"$f":"ROUND(IFERROR((1/'IS Rates'!P15),\"\"),6)","v":3.2726999999999999E-2},{"$f":"ROUND(IFERROR((1/'IS Rates'!Q15),\"\"),6)","v":0.55812899999999999},{"$f":"ROUND(IFERROR((1/'IS Rates'!R15),\"\"),6)","v":0.23243800000000001},{"$f":"ROUND(IFERROR((1/'IS Rates'!S15),\"\"),6)","v":1.0278970000000001},{"$f":"ROUND(IFERROR((1/'IS Rates'!T15),\"\"),6)","v":1.5819030000000001},{"$f":"ROUND(IFERROR((1/'IS Rates'!U15),\"\"),6)","v":0.79223600000000005},{"$f":"ROUND(IFERROR((1/'IS Rates'!V15),\"\"),6)","v":0.18531900000000001},{"$f":"ROUND(IFERROR((1/'IS Rates'!W15),\"\"),6)","v":1.3798809999999999},{"$f":"ROUND(IFERROR((1/'IS Rates'!X15),\"\"),6)","v":0.81658699999999995},{"$f":"ROUND(IFERROR((1/'IS Rates'!Y15),\"\"),6)","v":0.15115700000000001},{"$f":"ROUND(IFERROR((1/'IS Rates'!Z15),\"\"),6)","v":1.154148},{"$f":"ROUND(IFERROR((1/'IS Rates'!AA15),\"\"),6)","v":4.8599999999999997E-3},{"$f":"ROUND(IFERROR((1/'IS Rates'!AB15),\"\"),6)","v":5.6231000000000003E-2},{"$f":"ROUND(IFERROR((1/'IS Rates'!AC15),\"\"),6)","v":0.31966699999999998},{"$f":"ROUND(IFERROR((1/'IS Rates'!AD15),\"\"),6)","v":1.1400000000000001E-4},{"$f":"ROUND(IFERROR((1/'IS Rates'!AE15),\"\"),6)","v":1.2300000000000001E-4},{"$f":"ROUND(IFERROR((1/'IS Rates'!AF15),\"\"),6)","v":0.17865600000000001},{"$f":"ROUND(IFERROR((1/'IS Rates'!AG15),\"\"),6)","v":2.0812000000000001E-2},{"$f":"ROUND(IFERROR((1/'IS Rates'!AH15),\"\"),6)","v":2.0669999999999998E-3}]
[null,"2011-08-01",{"$f":"ROUND(IFERROR((1/'IS Rates'!C16),\"\"),6)","v":1.018797},{"$f":"ROUND(IFERROR((1/'IS Rates'!D16),\"\"),6)","v":0.15604699999999999},{"$f":"ROUND(IFERROR((1/'IS Rates'!E16),\"\"),6)","v":5.53E-4},{"$f":"ROUND(IFERROR((1/'IS Rates'!F16),\"\"),6)","v":1.434185},{"$f":"ROUND(IFERROR((1/'IS Rates'!G16),\"\"),6)","v":0.12823799999999999},{"$f":"ROUND(IFERROR((1/'IS Rates'!H16),\"\"),6)","v":1.2971E-2},{"$f":"ROUND(IFERROR((1/'IS Rates'!I16),\"\"),6)","v":9.2900000000000003E-4},{"$f":"ROUND(IFERROR((1/'IS Rates'!J16),\"\"),6)","v":0.12263300000000001},{"$f":"ROUND(IFERROR((1/'IS Rates'!K16),\"\"),6)","v":0.33454800000000001},{"$f":"ROUND(IFERROR((1/'IS Rates'!L16),\"\"),6)","v":8.1785999999999998E-2},{"$f":"ROUND(IFERROR((1/'IS Rates'!M16),\"\"),6)","v":2.3519000000000002E-2},{"$f":"ROUND(IFERROR((1/'IS Rates'!N16),\"\"),6)","v":0.82675399999999999},{"$f":"ROUND(IFERROR((1/'IS Rates'!O16),\"\"),6)","v":3.4254E-2},{"$f":"ROUND(IFERROR((1/'IS Rates'!P16),\"\"),6)","v":3.3311E-2},{"$f":"ROUND(IFERROR((1/'IS Rates'!Q16),\"\"),6)","v":0.56895799999999996},{"$f":"ROUND(IFERROR((1/'IS Rates'!R16),\"\"),6)","v":0.232519},{"$f":"ROUND(IFERROR((1/'IS Rates'!S16),\"\"),6)","v":1.049593},{"$f":"ROUND(IFERROR((1/'IS Rates'!T16),\"\"),6)","v":1.6367419999999999},{"$f":"ROUND(IFERROR((1/'IS Rates'!U16),\"\"),6)","v":0.81628699999999998},{"$f":"ROUND(IFERROR((1/'IS Rates'!V16),\"\"),6)","v":0.19245200000000001},{"$f":"ROUND(IFERROR((1/'IS Rates'!W16),\"\"),6)","v":1.434185},{"$f":"ROUND(IFERROR((1/'IS Rates'!X16),\"\"),6)","v":0.83714900000000003},{"$f":"ROUND(IFERROR((1/'IS Rates'!Y16),\"\"),6)","v":0.15612899999999999},{"$f":"ROUND(IFERROR((1/'IS Rates'!Z16),\"\"),6)","v":1.2800819999999999},{"$f":"ROUND(IFERROR((1/'IS Rates'!AA16),\"\"),6)","v":5.2570000000000004E-3},{"$f":"ROUND(IFERROR((1/'IS Rates'!AB16),\"\"),6)","v":5.9032000000000001E-2},{"$f":"ROUND(IFERROR((1/'IS Rates'!AC16),\"\"),6)","v":0.34776600000000002},{"$f":"ROUND(IFERROR((1/'IS Rates'!AD16),\"\"),6)","v":1.17E-4},{"$f":"ROUND(IFERROR((1/'IS Rates'!AE16),\"\"),6)","v":1.2300000000000001E-4},{"$f":"ROUND(IFERROR((1/'IS Rates'!AF16),\"\"),6)","v":0.18356},{"$f":"ROUND(IFERROR((1/'IS Rates'!AG16),\"\"),6)","v":2.1898000000000001E-2},{"$f":"ROUND(IFERROR((1/'IS Rates'!AH16),\"\"),6)","v":2.1389999999999998E-3}]
[null,"2011-07-01",{"$f":"ROUND(IFERROR((1/'IS Rates'!C17),\"\"),6)","v":1.0452600000000001},{"$f":"ROUND(IFERROR((1/'IS Rates'!D17),\"\"),6)","v":0.15479399999999999},{"$f":"ROUND(IFERROR((1/'IS Rates'!E17),\"\"),6)","v":5.6300000000000002E-4},{"$f":"ROUND(IFERROR((1/'IS Rates'!F17),\"\"),6)","v":1.4300630000000001},{"$f":"ROUND(IFERROR((1/'IS Rates'!G17),\"\"),6)","v":0.12839100000000001},{"$f":"ROUND(IFERROR((1/'IS Rates'!H17),\"\"),6)","v":1.256E-2},{"$f":"ROUND(IFERROR((1/'IS Rates'!I17),\"\"),6)","v":9.4300000000000004E-4},{"$f":"ROUND(IFERROR((1/'IS Rates'!J17),\"\"),6)","v":0.12249},{"$f":"ROUND(IFERROR((1/'IS Rates'!K17),\"\"),6)","v":0.33310699999999999},{"$f":"ROUND(IFERROR((1/'IS Rates'!L17),\"\"),6)","v":8.5637000000000005E-2},{"$f":"ROUND(IFERROR((1/'IS Rates'!M17),\"\"),6)","v":2.3311999999999999E-2},{"$f":"ROUND(IFERROR((1/'IS Rates'!N17),\"\"),6)","v":0.82064099999999995},{"$f":"ROUND(IFERROR((1/'IS Rates'!O17),\"\"),6)","v":3.4674999999999997E-2},{"$f":"ROUND(IFERROR((1/'IS Rates'!P17),\"\"),6)","v":3.3092999999999997E-2},{"$f":"ROUND(IFERROR((1/'IS Rates'!Q17),\"\"),6)","v":0.60533099999999995},{"$f":"ROUND(IFERROR((1/'IS Rates'!R17),\"\"),6)","v":0.232433},{"$f":"ROUND(IFERROR((1/'IS Rates'!S17),\"\"),6)","v":1.0754189999999999},{"$f":"ROUND(IFERROR((1/'IS Rates'!T17),\"\"),6)","v":1.6124350000000001},{"$f":"ROUND(IFERROR((1/'IS Rates'!U17),\"\"),6)","v":0.80908100000000005},{"$f":"ROUND(IFERROR((1/'IS Rates'!V17),\"\"),6)","v":0.19179599999999999},{"$f":"ROUND(IFERROR((1/'IS Rates'!W17),\"\"),6)","v":1.4300630000000001},{"$f":"ROUND(IFERROR((1/'IS Rates'!X17),\"\"),6)","v":0.84315600000000002},{"$f":"ROUND(IFERROR((1/'IS Rates'!Y17),\"\"),6)","v":0.15651000000000001},{"$f":"ROUND(IFERROR((1/'IS Rates'!Z17),\"\"),6)","v":1.2093210000000001},{"$f":"ROUND(IFERROR((1/'IS Rates'!AA17),\"\"),6)","v":5.3470000000000002E-3},{"$f":"ROUND(IFERROR((1/'IS Rates'!AB17),\"\"),6)","v":5.8730999999999998E-2},{"$f":"ROUND(IFERROR((1/'IS Rates'!AC17),\"\"),6)","v":0.35849599999999998},{"$f":"ROUND(IFERROR((1/'IS Rates'!AD17),\"\"),6)","v":1.17E-4},{"$f":"ROUND(IFERROR((1/'IS Rates'!AE17),\"\"),6)","v":1.2300000000000001E-4},{"$f":"ROUND(IFERROR((1/'IS Rates'!AF17),\"\"),6)","v":0.183508},{"$f":"ROUND(IFERROR((1/'IS Rates'!AG17),\"\"),6)","v":2.2242000000000001E-2},{"$f":"ROUND(IFERROR((1/'IS Rates'!AH17),\"\"),6)","v":2.1549999999999998E-3}]
[null,"2011-06-01",{"$f":"ROUND(IFERROR((1/'IS Rates'!C18),\"\"),6)","v":1.021503},{"$f":"ROUND(IFERROR((1/'IS Rates'!D18),\"\"),6)","v":0.154254},{"$f":"ROUND(IFERROR((1/'IS Rates'!E18),\"\"),6)","v":5.5500000000000005E-4},{"$f":"ROUND(IFERROR((1/'IS Rates'!F18),\"\"),6)","v":1.438042},{"$f":"ROUND(IFERROR((1/'IS Rates'!G18),\"\"),6)","v":0.128439},{"$f":"ROUND(IFERROR((1/'IS Rates'!H18),\"\"),6)","v":1.2427000000000001E-2},{"$f":"ROUND(IFERROR((1/'IS Rates'!I18),\"\"),6)","v":9.2199999999999997E-4},{"$f":"ROUND(IFERROR((1/'IS Rates'!J18),\"\"),6)","v":0.12257},{"$f":"ROUND(IFERROR((1/'IS Rates'!K18),\"\"),6)","v":0.32916299999999998},{"$f":"ROUND(IFERROR((1/'IS Rates'!L18),\"\"),6)","v":8.4568000000000004E-2},{"$f":"ROUND(IFERROR((1/'IS Rates'!M18),\"\"),6)","v":2.3014E-2},{"$f":"ROUND(IFERROR((1/'IS Rates'!N18),\"\"),6)","v":0.80886499999999995},{"$f":"ROUND(IFERROR((1/'IS Rates'!O18),\"\"),6)","v":3.4694999999999997E-2},{"$f":"ROUND(IFERROR((1/'IS Rates'!P18),\"\"),6)","v":3.2622999999999999E-2},{"$f":"ROUND(IFERROR((1/'IS Rates'!Q18),\"\"),6)","v":0.62492999999999999},{"$f":"ROUND(IFERROR((1/'IS Rates'!R18),\"\"),6)","v":0.23247899999999999},{"$f":"ROUND(IFERROR((1/'IS Rates'!S18),\"\"),6)","v":1.059928},{"$f":"ROUND(IFERROR((1/'IS Rates'!T18),\"\"),6)","v":1.622692},{"$f":"ROUND(IFERROR((1/'IS Rates'!U18),\"\"),6)","v":0.80033299999999996},{"$f":"ROUND(IFERROR((1/'IS Rates'!V18),\"\"),6)","v":0.192804},{"$f":"ROUND(IFERROR((1/'IS Rates'!W18),\"\"),6)","v":1.438042},{"$f":"ROUND(IFERROR((1/'IS Rates'!X18),\"\"),6)","v":0.81445800000000002},{"$f":"ROUND(IFERROR((1/'IS Rates'!Y18),\"\"),6)","v":0.15800900000000001},{"$f":"ROUND(IFERROR((1/'IS Rates'!Z18),\"\"),6)","v":1.1888339999999999},{"$f":"ROUND(IFERROR((1/'IS Rates'!AA18),\"\"),6)","v":5.3889999999999997E-3},{"$f":"ROUND(IFERROR((1/'IS Rates'!AB18),\"\"),6)","v":5.9194999999999998E-2},{"$f":"ROUND(IFERROR((1/'IS Rates'!AC18),\"\"),6)","v":0.36240600000000001},{"$f":"ROUND(IFERROR((1/'IS Rates'!AD18),\"\"),6)","v":1.16E-4},{"$f":"ROUND(IFERROR((1/'IS Rates'!AE18),\"\"),6)","v":1.2300000000000001E-4},{"$f":"ROUND(IFERROR((1/'IS Rates'!AF18),\"\"),6)","v":0.183445},{"$f":"ROUND(IFERROR((1/'IS Rates'!AG18),\"\"),6)","v":2.1954999999999999E-2},{"$f":"ROUND(IFERROR((1/'IS Rates'!AH18),\"\"),6)","v":2.1280000000000001E-3}]
[null,"2011-05-01",{"$f":"ROUND(IFERROR((1/'IS Rates'!C19),\"\"),6)","v":1.0339659999999999},{"$f":"ROUND(IFERROR((1/'IS Rates'!D19),\"\"),6)","v":0.15378500000000001},{"$f":"ROUND(IFERROR((1/'IS Rates'!E19),\"\"),6)","v":5.4900000000000001E-4},{"$f":"ROUND(IFERROR((1/'IS Rates'!F19),\"\"),6)","v":1.433589},{"$f":"ROUND(IFERROR((1/'IS Rates'!G19),\"\"),6)","v":0.12862599999999999},{"$f":"ROUND(IFERROR((1/'IS Rates'!H19),\"\"),6)","v":1.2326999999999999E-2},{"$f":"ROUND(IFERROR((1/'IS Rates'!I19),\"\"),6)","v":9.2100000000000005E-4},{"$f":"ROUND(IFERROR((1/'IS Rates'!J19),\"\"),6)","v":0.122531},{"$f":"ROUND(IFERROR((1/'IS Rates'!K19),\"\"),6)","v":0.33149600000000001},{"$f":"ROUND(IFERROR((1/'IS Rates'!L19),\"\"),6)","v":8.5793999999999995E-2},{"$f":"ROUND(IFERROR((1/'IS Rates'!M19),\"\"),6)","v":2.3147999999999998E-2},{"$f":"ROUND(IFERROR((1/'IS Rates'!N19),\"\"),6)","v":0.80773499999999998},{"$f":"ROUND(IFERROR((1/'IS Rates'!O19),\"\"),6)","v":3.4798999999999997E-2},{"$f":"ROUND(IFERROR((1/'IS Rates'!P19),\"\"),6)","v":3.2912999999999998E-2},{"$f":"ROUND(IFERROR((1/'IS Rates'!Q19),\"\"),6)","v":0.63519899999999996},{"$f":"ROUND(IFERROR((1/'IS Rates'!R19),\"\"),6)","v":0.23239799999999999},{"$f":"ROUND(IFERROR((1/'IS Rates'!S19),\"\"),6)","v":1.0691759999999999},{"$f":"ROUND(IFERROR((1/'IS Rates'!T19),\"\"),6)","v":1.6354299999999999},{"$f":"ROUND(IFERROR((1/'IS Rates'!U19),\"\"),6)","v":0.79643200000000003},{"$f":"ROUND(IFERROR((1/'IS Rates'!V19),\"\"),6)","v":0.192246},{"$f":"ROUND(IFERROR((1/'IS Rates'!W19),\"\"),6)","v":1.433589},{"$f":"ROUND(IFERROR((1/'IS Rates'!X19),\"\"),6)","v":0.79659100000000005},{"$f":"ROUND(IFERROR((1/'IS Rates'!Y19),\"\"),6)","v":0.15981899999999999},{"$f":"ROUND(IFERROR((1/'IS Rates'!Z19),\"\"),6)","v":1.1436679999999999},{"$f":"ROUND(IFERROR((1/'IS Rates'!AA19),\"\"),6)","v":5.3629999999999997E-3},{"$f":"ROUND(IFERROR((1/'IS Rates'!AB19),\"\"),6)","v":5.8784999999999997E-2},{"$f":"ROUND(IFERROR((1/'IS Rates'!AC19),\"\"),6)","v":0.363564},{"$f":"ROUND(IFERROR((1/'IS Rates'!AD19),\"\"),6)","v":1.16E-4},{"$f":"ROUND(IFERROR((1/'IS Rates'!AE19),\"\"),6)","v":1.2300000000000001E-4},{"$f":"ROUND(IFERROR((1/'IS Rates'!AF19),\"\"),6)","v":0.18262400000000001},{"$f":"ROUND(IFERROR((1/'IS Rates'!AG19),\"\"),6)","v":2.2075999999999998E-2},{"$f":"ROUND(IFERROR((1/'IS Rates'!AH19),\"\"),6)","v":2.1380000000000001E-3}]
[null,"2011-04-01",{"$f":"ROUND(IFERROR((1/'IS Rates'!C20),\"\"),6)","v":1.042862},{"$f":"ROUND(IFERROR((1/'IS Rates'!D20),\"\"),6)","v":0.152945},{"$f":"ROUND(IFERROR((1/'IS Rates'!E20),\"\"),6)","v":5.4699999999999996E-4},{"$f":"ROUND(IFERROR((1/'IS Rates'!F20),\"\"),6)","v":1.441961},{"$f":"ROUND(IFERROR((1/'IS Rates'!G20),\"\"),6)","v":0.12862699999999999},{"$f":"ROUND(IFERROR((1/'IS Rates'!H20),\"\"),6)","v":1.1993E-2},{"$f":"ROUND(IFERROR((1/'IS Rates'!I20),\"\"),6)","v":9.2100000000000005E-4},{"$f":"ROUND(IFERROR((1/'IS Rates'!J20),\"\"),6)","v":0.12275800000000001},{"$f":"ROUND(IFERROR((1/'IS Rates'!K20),\"\"),6)","v":0.33123599999999997},{"$f":"ROUND(IFERROR((1/'IS Rates'!L20),\"\"),6)","v":8.5222999999999993E-2},{"$f":"ROUND(IFERROR((1/'IS Rates'!M20),\"\"),6)","v":2.3108E-2},{"$f":"ROUND(IFERROR((1/'IS Rates'!N20),\"\"),6)","v":0.800705},{"$f":"ROUND(IFERROR((1/'IS Rates'!O20),\"\"),6)","v":3.4417000000000003E-2},{"$f":"ROUND(IFERROR((1/'IS Rates'!P20),\"\"),6)","v":3.3118000000000002E-2},{"$f":"ROUND(IFERROR((1/'IS Rates'!Q20),\"\"),6)","v":0.65651300000000001},{"$f":"ROUND(IFERROR((1/'IS Rates'!R20),\"\"),6)","v":0.23227200000000001},{"$f":"ROUND(IFERROR((1/'IS Rates'!S20),\"\"),6)","v":1.055186},{"$f":"ROUND(IFERROR((1/'IS Rates'!T20),\"\"),6)","v":1.633453},{"$f":"ROUND(IFERROR((1/'IS Rates'!U20),\"\"),6)","v":0.789578},{"$f":"ROUND(IFERROR((1/'IS Rates'!V20),\"\"),6)","v":0.193353},{"$f":"ROUND(IFERROR((1/'IS Rates'!W20),\"\"),6)","v":1.443314},{"$f":"ROUND(IFERROR((1/'IS Rates'!X20),\"\"),6)","v":0.78653499999999998},{"$f":"ROUND(IFERROR((1/'IS Rates'!Y20),\"\"),6)","v":0.16084399999999999},{"$f":"ROUND(IFERROR((1/'IS Rates'!Z20),\"\"),6)","v":1.110001},{"$f":"ROUND(IFERROR((1/'IS Rates'!AA20),\"\"),6)","v":5.4289999999999998E-3},{"$f":"ROUND(IFERROR((1/'IS Rates'!AB20),\"\"),6)","v":5.9270000000000003E-2},{"$f":"ROUND(IFERROR((1/'IS Rates'!AC20),\"\"),6)","v":0.36276599999999998},{"$f":"ROUND(IFERROR((1/'IS Rates'!AD20),\"\"),6)","v":1.15E-4},{"$f":"ROUND(IFERROR((1/'IS Rates'!AE20),\"\"),6)","v":1.2300000000000001E-4},{"$f":"ROUND(IFERROR((1/'IS Rates'!AF20),\"\"),6)","v":0.18451899999999999},{"$f":"ROUND(IFERROR((1/'IS Rates'!AG20),\"\"),6)","v":2.2218999999999999E-2},{"$f":"ROUND(IFERROR((1/'IS Rates'!AH20),\"\"),6)","v":2.1080000000000001E-3}]
[null,"2011-03-01",{"$f":"ROUND(IFERROR((1/'IS Rates'!C21),\"\"),6)","v":1.0232270000000001},{"$f":"ROUND(IFERROR((1/'IS Rates'!D21),\"\"),6)","v":0.15206},{"$f":"ROUND(IFERROR((1/'IS Rates'!E21),\"\"),6)","v":5.2700000000000002E-4},{"$f":"ROUND(IFERROR((1/'IS Rates'!F21),\"\"),6)","v":1.399972},{"$f":"ROUND(IFERROR((1/'IS Rates'!G21),\"\"),6)","v":0.12831500000000001},{"$f":"ROUND(IFERROR((1/'IS Rates'!H21),\"\"),6)","v":1.2248E-2},{"$f":"ROUND(IFERROR((1/'IS Rates'!I21),\"\"),6)","v":8.9099999999999997E-4},{"$f":"ROUND(IFERROR((1/'IS Rates'!J21),\"\"),6)","v":0.122514},{"$f":"ROUND(IFERROR((1/'IS Rates'!K21),\"\"),6)","v":0.32897100000000001},{"$f":"ROUND(IFERROR((1/'IS Rates'!L21),\"\"),6)","v":8.3198999999999995E-2},{"$f":"ROUND(IFERROR((1/'IS Rates'!M21),\"\"),6)","v":2.2960000000000001E-2},{"$f":"ROUND(IFERROR((1/'IS Rates'!N21),\"\"),6)","v":0.78822700000000001},{"$f":"ROUND(IFERROR((1/'IS Rates'!O21),\"\"),6)","v":3.3884999999999998E-2},{"$f":"ROUND(IFERROR((1/'IS Rates'!P21),\"\"),6)","v":3.2776E-2},{"$f":"ROUND(IFERROR((1/'IS Rates'!Q21),\"\"),6)","v":0.63182799999999995},{"$f":"ROUND(IFERROR((1/'IS Rates'!R21),\"\"),6)","v":0.232429},{"$f":"ROUND(IFERROR((1/'IS Rates'!S21),\"\"),6)","v":1.0102439999999999},{"$f":"ROUND(IFERROR((1/'IS Rates'!T21),\"\"),6)","v":1.6160570000000001},{"$f":"ROUND(IFERROR((1/'IS Rates'!U21),\"\"),6)","v":0.77815599999999996},{"$f":"ROUND(IFERROR((1/'IS Rates'!V21),\"\"),6)","v":0.18770500000000001},{"$f":"ROUND(IFERROR((1/'IS Rates'!W21),\"\"),6)","v":1.399972},{"$f":"ROUND(IFERROR((1/'IS Rates'!X21),\"\"),6)","v":0.74077899999999997},{"$f":"ROUND(IFERROR((1/'IS Rates'!Y21),\"\"),6)","v":0.15742200000000001},{"$f":"ROUND(IFERROR((1/'IS Rates'!Z21),\"\"),6)","v":1.0872869999999999},{"$f":"ROUND(IFERROR((1/'IS Rates'!AA21),\"\"),6)","v":5.1549999999999999E-3},{"$f":"ROUND(IFERROR((1/'IS Rates'!AB21),\"\"),6)","v":5.7341000000000003E-2},{"$f":"ROUND(IFERROR((1/'IS Rates'!AC21),\"\"),6)","v":0.34857399999999999},{"$f":"ROUND(IFERROR((1/'IS Rates'!AD21),\"\"),6)","v":1.1400000000000001E-4},{"$f":"ROUND(IFERROR((1/'IS Rates'!AE21),\"\"),6)","v":1.2300000000000001E-4},{"$f":"ROUND(IFERROR((1/'IS Rates'!AF21),\"\"),6)","v":0.178642},{"$f":"ROUND(IFERROR((1/'IS Rates'!AG21),\"\"),6)","v":2.1877000000000001E-2},{"$f":"ROUND(IFERROR((1/'IS Rates'!AH21),\"\"),6)","v":2.068E-3}]
[null,"2011-02-01",{"$f":"ROUND(IFERROR((1/'IS Rates'!C22),\"\"),6)","v":1.0118590000000001},{"$f":"ROUND(IFERROR((1/'IS Rates'!D22),\"\"),6)","v":0.151812},{"$f":"ROUND(IFERROR((1/'IS Rates'!E22),\"\"),6)","v":5.2400000000000005E-4},{"$f":"ROUND(IFERROR((1/'IS Rates'!F22),\"\"),6)","v":1.3644799999999999},{"$f":"ROUND(IFERROR((1/'IS Rates'!G22),\"\"),6)","v":0.12836600000000001},{"$f":"ROUND(IFERROR((1/'IS Rates'!H22),\"\"),6)","v":1.2102999999999999E-2},{"$f":"ROUND(IFERROR((1/'IS Rates'!I22),\"\"),6)","v":8.9300000000000002E-4},{"$f":"ROUND(IFERROR((1/'IS Rates'!J22),\"\"),6)","v":0.122471},{"$f":"ROUND(IFERROR((1/'IS Rates'!K22),\"\"),6)","v":0.32782499999999998},{"$f":"ROUND(IFERROR((1/'IS Rates'!L22),\"\"),6)","v":8.2815E-2},{"$f":"ROUND(IFERROR((1/'IS Rates'!M22),\"\"),6)","v":2.2835999999999999E-2},{"$f":"ROUND(IFERROR((1/'IS Rates'!N22),\"\"),6)","v":0.78308500000000003},{"$f":"ROUND(IFERROR((1/'IS Rates'!O22),\"\"),6)","v":3.4137000000000001E-2},{"$f":"ROUND(IFERROR((1/'IS Rates'!P22),\"\"),6)","v":3.2407999999999999E-2},{"$f":"ROUND(IFERROR((1/'IS Rates'!Q22),\"\"),6)","v":0.62866200000000005},{"$f":"ROUND(IFERROR((1/'IS Rates'!R22),\"\"),6)","v":0.23250699999999999},{"$f":"ROUND(IFERROR((1/'IS Rates'!S22),\"\"),6)","v":1.0081659999999999},{"$f":"ROUND(IFERROR((1/'IS Rates'!T22),\"\"),6)","v":1.6114999999999999},{"$f":"ROUND(IFERROR((1/'IS Rates'!U22),\"\"),6)","v":0.77239199999999997},{"$f":"ROUND(IFERROR((1/'IS Rates'!V22),\"\"),6)","v":0.183007},{"$f":"ROUND(IFERROR((1/'IS Rates'!W22),\"\"),6)","v":1.3644799999999999},{"$f":"ROUND(IFERROR((1/'IS Rates'!X22),\"\"),6)","v":0.76199799999999995},{"$f":"ROUND(IFERROR((1/'IS Rates'!Y22),\"\"),6)","v":0.155088},{"$f":"ROUND(IFERROR((1/'IS Rates'!Z22),\"\"),6)","v":1.0516909999999999},{"$f":"ROUND(IFERROR((1/'IS Rates'!AA22),\"\"),6)","v":5.0270000000000002E-3},{"$f":"ROUND(IFERROR((1/'IS Rates'!AB22),\"\"),6)","v":5.6161000000000003E-2},{"$f":"ROUND(IFERROR((1/'IS Rates'!AC22),\"\"),6)","v":0.34708},{"$f":"ROUND(IFERROR((1/'IS Rates'!AD22),\"\"),6)","v":1.11E-4},{"$f":"ROUND(IFERROR((1/'IS Rates'!AE22),\"\"),6)","v":1.22E-4},{"$f":"ROUND(IFERROR((1/'IS Rates'!AF22),\"\"),6)","v":0.17410100000000001},{"$f":"ROUND(IFERROR((1/'IS Rates'!AG22),\"\"),6)","v":2.179E-2},{"$f":"ROUND(IFERROR((1/'IS Rates'!AH22),\"\"),6)","v":2.0760000000000002E-3}]
[null,"2011-01-11",{"$f":"ROUND(IFERROR((1/'IS Rates'!C23),\"\"),6)","v":1.005571},{"$f":"ROUND(IFERROR((1/'IS Rates'!D23),\"\"),6)","v":0.15141099999999999},{"$f":"ROUND(IFERROR((1/'IS Rates'!E23),\"\"),6)","v":5.2800000000000004E-4},{"$f":"ROUND(IFERROR((1/'IS Rates'!F23),\"\"),6)","v":1.3348640000000001},{"$f":"ROUND(IFERROR((1/'IS Rates'!G23),\"\"),6)","v":0.12853100000000001},{"$f":"ROUND(IFERROR((1/'IS Rates'!H23),\"\"),6)","v":1.2116999999999999E-2},{"$f":"ROUND(IFERROR((1/'IS Rates'!I23),\"\"),6)","v":8.9099999999999997E-4},{"$f":"ROUND(IFERROR((1/'IS Rates'!J23),\"\"),6)","v":0.122471},{"$f":"ROUND(IFERROR((1/'IS Rates'!K23),\"\"),6)","v":0.32517200000000002},{"$f":"ROUND(IFERROR((1/'IS Rates'!L23),\"\"),6)","v":8.2212999999999994E-2},{"$f":"ROUND(IFERROR((1/'IS Rates'!M23),\"\"),6)","v":2.2537000000000001E-2},{"$f":"ROUND(IFERROR((1/'IS Rates'!N23),\"\"),6)","v":0.77680800000000005},{"$f":"ROUND(IFERROR((1/'IS Rates'!O23),\"\"),6)","v":3.4243999999999997E-2},{"$f":"ROUND(IFERROR((1/'IS Rates'!P23),\"\"),6)","v":3.2554E-2},{"$f":"ROUND(IFERROR((1/'IS Rates'!Q23),\"\"),6)","v":0.63831700000000002},{"$f":"ROUND(IFERROR((1/'IS Rates'!R23),\"\"),6)","v":0.23250399999999999},{"$f":"ROUND(IFERROR((1/'IS Rates'!S23),\"\"),6)","v":0.99720799999999998},{"$f":"ROUND(IFERROR((1/'IS Rates'!T23),\"\"),6)","v":1.57525},{"$f":"ROUND(IFERROR((1/'IS Rates'!U23),\"\"),6)","v":0.76675899999999997},{"$f":"ROUND(IFERROR((1/'IS Rates'!V23),\"\"),6)","v":0.17914099999999999},{"$f":"ROUND(IFERROR((1/'IS Rates'!W23),\"\"),6)","v":1.3348640000000001},{"$f":"ROUND(IFERROR((1/'IS Rates'!X23),\"\"),6)","v":0.76619499999999996},{"$f":"ROUND(IFERROR((1/'IS Rates'!Y23),\"\"),6)","v":0.149482},{"$f":"ROUND(IFERROR((1/'IS Rates'!Z23),\"\"),6)","v":1.0465180000000001},{"$f":"ROUND(IFERROR((1/'IS Rates'!AA23),\"\"),6)","v":4.8329999999999996E-3},{"$f":"ROUND(IFERROR((1/'IS Rates'!AB23),\"\"),6)","v":5.4426000000000002E-2},{"$f":"ROUND(IFERROR((1/'IS Rates'!AC23),\"\"),6)","v":0.34187099999999998},{"$f":"ROUND(IFERROR((1/'IS Rates'!AD23),\"\"),6)","v":1.0900000000000001E-4},{"$f":"ROUND(IFERROR((1/'IS Rates'!AE23),\"\"),6)","v":1.22E-4},{"$f":"ROUND(IFERROR((1/'IS Rates'!AF23),\"\"),6)","v":0.17047799999999999},{"$f":"ROUND(IFERROR((1/'IS Rates'!AG23),\"\"),6)","v":2.1701999999999999E-2}]
[2010,{"$f":"B25+30","v":"2010-12-07"},{"$f":"ROUND(IFERROR((1/'IS Rates'!C24),\"\"),6)","v":0.99063800000000002},{"$f":"ROUND(IFERROR((1/'IS Rates'!D24),\"\"),6)","v":0.15012700000000001},{"$f":"ROUND(IFERROR((1/'IS Rates'!E24),\"\"),6)","v":5.1599999999999997E-4},{"$f":"ROUND(IFERROR((1/'IS Rates'!F24),\"\"),6)","v":1.321283},{"$f":"ROUND(IFERROR((1/'IS Rates'!G24),\"\"),6)","v":0.12862699999999999},{"$f":"ROUND(IFERROR((1/'IS Rates'!H24),\"\"),6)","v":1.1991E-2},{"$f":"ROUND(IFERROR((1/'IS Rates'!I24),\"\"),6)","v":8.7000000000000001E-4},{"$f":"ROUND(IFERROR((1/'IS Rates'!J24),\"\"),6)","v":0.12270399999999999},{"$f":"ROUND(IFERROR((1/'IS Rates'!K24),\"\"),6)","v":0.318712},{"$f":"ROUND(IFERROR((1/'IS Rates'!L24),\"\"),6)","v":8.0588999999999994E-2},{"$f":"ROUND(IFERROR((1/'IS Rates'!M24),\"\"),6)","v":2.2696000000000001E-2},{"$f":"ROUND(IFERROR((1/'IS Rates'!N24),\"\"),6)","v":0.76471900000000004},{"$f":"ROUND(IFERROR((1/'IS Rates'!O24),\"\"),6)","v":3.3245999999999998E-2},{"$f":"ROUND(IFERROR((1/'IS Rates'!P24),\"\"),6)","v":3.3047E-2},{"$f":"ROUND(IFERROR((1/'IS Rates'!Q24),\"\"),6)","v":0.65678000000000003},{"$f":"ROUND(IFERROR((1/'IS Rates'!R24),\"\"),6)","v":0.23253299999999999},{"$f":"ROUND(IFERROR((1/'IS Rates'!S24),\"\"),6)","v":0.99096200000000001},{"$f":"ROUND(IFERROR((1/'IS Rates'!T24),\"\"),6)","v":1.560452},{"$f":"ROUND(IFERROR((1/'IS Rates'!U24),\"\"),6)","v":0.75472799999999995},{"$f":"ROUND(IFERROR((1/'IS Rates'!V24),\"\"),6)","v":0.177289},{"$f":"ROUND(IFERROR((1/'IS Rates'!W24),\"\"),6)","v":1.321283},{"$f":"ROUND(IFERROR((1/'IS Rates'!X24),\"\"),6)","v":0.749614},{"$f":"ROUND(IFERROR((1/'IS Rates'!Y24),\"\"),6)","v":0.14569699999999999},{"$f":"ROUND(IFERROR((1/'IS Rates'!Z24),\"\"),6)","v":1.0290820000000001},{"$f":"ROUND(IFERROR((1/'IS Rates'!AA24),\"\"),6)","v":4.7549999999999997E-3},{"$f":"ROUND(IFERROR((1/'IS Rates'!AB24),\"\"),6)","v":5.2436000000000003E-2},{"$f":"ROUND(IFERROR((1/'IS Rates'!AC24),\"\"),6)","v":0.33035399999999998},{"$f":"ROUND(IFERROR((1/'IS Rates'!AD24),\"\"),6)","v":1.1E-4},{"$f":"ROUND(IFERROR((1/'IS Rates'!AE24),\"\"),6)","v":1.2300000000000001E-4},{"$f":"ROUND(IFERROR((1/'IS Rates'!AF24),\"\"),6)","v":0.16675599999999999},{"$f":"ROUND(IFERROR((1/'IS Rates'!AG24),\"\"),6)","v":2.1802999999999999E-2}]
[null,"2010-11-07",{"$f":"ROUND(IFERROR((1/'IS Rates'!C25),\"\"),6)","v":0.98758599999999996},{"$f":"ROUND(IFERROR((1/'IS Rates'!D25),\"\"),6)","v":0.150091},{"$f":"ROUND(IFERROR((1/'IS Rates'!E25),\"\"),6)","v":5.3200000000000003E-4},{"$f":"ROUND(IFERROR((1/'IS Rates'!F25),\"\"),6)","v":1.369},{"$f":"ROUND(IFERROR((1/'IS Rates'!G25),\"\"),6)","v":0.12894800000000001},{"$f":"ROUND(IFERROR((1/'IS Rates'!H25),\"\"),6)","v":1.2126E-2},{"$f":"ROUND(IFERROR((1/'IS Rates'!I25),\"\"),6)","v":8.8500000000000004E-4},{"$f":"ROUND(IFERROR((1/'IS Rates'!J25),\"\"),6)","v":0.12293800000000001},{"$f":"ROUND(IFERROR((1/'IS Rates'!K25),\"\"),6)","v":0.32098199999999999},{"$f":"ROUND(IFERROR((1/'IS Rates'!L25),\"\"),6)","v":8.1069000000000002E-2},{"$f":"ROUND(IFERROR((1/'IS Rates'!M25),\"\"),6)","v":2.2919999999999999E-2},{"$f":"ROUND(IFERROR((1/'IS Rates'!N25),\"\"),6)","v":0.770428},{"$f":"ROUND(IFERROR((1/'IS Rates'!O25),\"\"),6)","v":3.2871999999999998E-2},{"$f":"ROUND(IFERROR((1/'IS Rates'!P25),\"\"),6)","v":3.3306000000000002E-2},{"$f":"ROUND(IFERROR((1/'IS Rates'!Q25),\"\"),6)","v":0.69350500000000004},{"$f":"ROUND(IFERROR((1/'IS Rates'!R25),\"\"),6)","v":0.23256399999999999},{"$f":"ROUND(IFERROR((1/'IS Rates'!S25),\"\"),6)","v":0.98942300000000005},{"$f":"ROUND(IFERROR((1/'IS Rates'!T25),\"\"),6)","v":1.5981080000000001},{"$f":"ROUND(IFERROR((1/'IS Rates'!U25),\"\"),6)","v":0.76184099999999999},{"$f":"ROUND(IFERROR((1/'IS Rates'!V25),\"\"),6)","v":0.183582},{"$f":"ROUND(IFERROR((1/'IS Rates'!W25),\"\"),6)","v":1.369},{"$f":"ROUND(IFERROR((1/'IS Rates'!X25),\"\"),6)","v":0.77291699999999997},{"$f":"ROUND(IFERROR((1/'IS Rates'!Y25),\"\"),6)","v":0.14669099999999999},{"$f":"ROUND(IFERROR((1/'IS Rates'!Z25),\"\"),6)","v":1.016229},{"$f":"ROUND(IFERROR((1/'IS Rates'!AA25),\"\"),6)","v":4.9620000000000003E-3},{"$f":"ROUND(IFERROR((1/'IS Rates'!AB25),\"\"),6)","v":5.5458E-2},{"$f":"ROUND(IFERROR((1/'IS Rates'!AC25),\"\"),6)","v":0.34606700000000001},{"$f":"ROUND(IFERROR((1/'IS Rates'!AD25),\"\"),6)","v":1.11E-4},{"$f":"ROUND(IFERROR((1/'IS Rates'!AE25),\"\"),6)","v":1.2300000000000001E-4},{"$f":"ROUND(IFERROR((1/'IS Rates'!AF25),\"\"),6)","v":0.167957}]
[null,"2010-10-08",{"$f":"ROUND(IFERROR((1/'IS Rates'!C26),\"\"),6)","v":0.98180699999999999},{"$f":"ROUND(IFERROR((1/'IS Rates'!D26),\"\"),6)","v":0.14976100000000001},{"$f":"ROUND(IFERROR((1/'IS Rates'!E26),\"\"),6)","v":5.4799999999999998E-4},{"$f":"ROUND(IFERROR((1/'IS Rates'!F26),\"\"),6)","v":1.389024},{"$f":"ROUND(IFERROR((1/'IS Rates'!G26),\"\"),6)","v":0.12887299999999999},{"$f":"ROUND(IFERROR((1/'IS Rates'!H26),\"\"),6)","v":1.2199E-2},{"$f":"ROUND(IFERROR((1/'IS Rates'!I26),\"\"),6)","v":8.8800000000000001E-4},{"$f":"ROUND(IFERROR((1/'IS Rates'!J26),\"\"),6)","v":0.12302100000000001},{"$f":"ROUND(IFERROR((1/'IS Rates'!K26),\"\"),6)","v":0.32193699999999997},{"$f":"ROUND(IFERROR((1/'IS Rates'!L26),\"\"),6)","v":8.0307000000000003E-2},{"$f":"ROUND(IFERROR((1/'IS Rates'!M26),\"\"),6)","v":2.2970999999999998E-2},{"$f":"ROUND(IFERROR((1/'IS Rates'!N26),\"\"),6)","v":0.76663000000000003},{"$f":"ROUND(IFERROR((1/'IS Rates'!O26),\"\"),6)","v":3.2375000000000001E-2},{"$f":"ROUND(IFERROR((1/'IS Rates'!P26),\"\"),6)","v":3.3210000000000003E-2},{"$f":"ROUND(IFERROR((1/'IS Rates'!Q26),\"\"),6)","v":0.701179},{"$f":"ROUND(IFERROR((1/'IS Rates'!R26),\"\"),6)","v":0.23253699999999999},{"$f":"ROUND(IFERROR((1/'IS Rates'!S26),\"\"),6)","v":0.98107500000000003},{"$f":"ROUND(IFERROR((1/'IS Rates'!T26),\"\"),6)","v":1.5848359999999999},{"$f":"ROUND(IFERROR((1/'IS Rates'!U26),\"\"),6)","v":0.75638399999999995},{"$f":"ROUND(IFERROR((1/'IS Rates'!V26),\"\"),6)","v":0.18626000000000001},{"$f":"ROUND(IFERROR((1/'IS Rates'!W26),\"\"),6)","v":1.389024},{"$f":"ROUND(IFERROR((1/'IS Rates'!X26),\"\"),6)","v":0.74998500000000001},{"$f":"ROUND(IFERROR((1/'IS Rates'!Y26),\"\"),6)","v":0.14983099999999999},{"$f":"ROUND(IFERROR((1/'IS Rates'!Z26),\"\"),6)","v":1.0151250000000001},{"$f":"ROUND(IFERROR((1/'IS Rates'!AA26),\"\"),6)","v":5.0540000000000003E-3},{"$f":"ROUND(IFERROR((1/'IS Rates'!AB26),\"\"),6)","v":5.6555000000000001E-2},{"$f":"ROUND(IFERROR((1/'IS Rates'!AC26),\"\"),6)","v":0.350885},{"$f":"ROUND(IFERROR((1/'IS Rates'!AD26),\"\"),6)","v":1.11E-4},{"$f":"ROUND(IFERROR((1/'IS Rates'!AE26),\"\"),6)","v":1.2300000000000001E-4},{"$f":"ROUND(IFERROR((1/'IS Rates'!AF26),\"\"),6)","v":0.17150199999999999}]
[null,"2010-09-08",{"$f":"ROUND(IFERROR((1/'IS Rates'!C27),\"\"),6)","v":0.96598799999999996},{"$f":"ROUND(IFERROR((1/'IS Rates'!D27),\"\"),6)","v":0.14796999999999999},{"$f":"ROUND(IFERROR((1/'IS Rates'!E27),\"\"),6)","v":5.4699999999999996E-4},{"$f":"ROUND(IFERROR((1/'IS Rates'!F27),\"\"),6)","v":1.3023039999999999},{"$f":"ROUND(IFERROR((1/'IS Rates'!G27),\"\"),6)","v":0.12875600000000001},{"$f":"ROUND(IFERROR((1/'IS Rates'!H27),\"\"),6)","v":1.1834000000000001E-2},{"$f":"ROUND(IFERROR((1/'IS Rates'!I27),\"\"),6)","v":8.5700000000000001E-4},{"$f":"ROUND(IFERROR((1/'IS Rates'!J27),\"\"),6)","v":0.122636},{"$f":"ROUND(IFERROR((1/'IS Rates'!K27),\"\"),6)","v":0.32082899999999998},{"$f":"ROUND(IFERROR((1/'IS Rates'!L27),\"\"),6)","v":7.7896000000000007E-2},{"$f":"ROUND(IFERROR((1/'IS Rates'!M27),\"\"),6)","v":2.2527999999999999E-2},{"$f":"ROUND(IFERROR((1/'IS Rates'!N27),\"\"),6)","v":0.74814499999999995},{"$f":"ROUND(IFERROR((1/'IS Rates'!O27),\"\"),6)","v":3.1503999999999997E-2},{"$f":"ROUND(IFERROR((1/'IS Rates'!P27),\"\"),6)","v":3.2280999999999997E-2},{"$f":"ROUND(IFERROR((1/'IS Rates'!Q27),\"\"),6)","v":0.66797600000000001},{"$f":"ROUND(IFERROR((1/'IS Rates'!R27),\"\"),6)","v":0.23255999999999999},{"$f":"ROUND(IFERROR((1/'IS Rates'!S27),\"\"),6)","v":0.93340999999999996},{"$f":"ROUND(IFERROR((1/'IS Rates'!T27),\"\"),6)","v":1.555016},{"$f":"ROUND(IFERROR((1/'IS Rates'!U27),\"\"),6)","v":0.73834},{"$f":"ROUND(IFERROR((1/'IS Rates'!V27),\"\"),6)","v":0.17487800000000001},{"$f":"ROUND(IFERROR((1/'IS Rates'!W27),\"\"),6)","v":1.3023039999999999},{"$f":"ROUND(IFERROR((1/'IS Rates'!X27),\"\"),6)","v":0.72586899999999999},{"$f":"ROUND(IFERROR((1/'IS Rates'!Y27),\"\"),6)","v":0.14097999999999999},{"$f":"ROUND(IFERROR((1/'IS Rates'!Z27),\"\"),6)","v":0.99524299999999999},{"$f":"ROUND(IFERROR((1/'IS Rates'!AA27),\"\"),6)","v":4.607E-3},{"$f":"ROUND(IFERROR((1/'IS Rates'!AB27),\"\"),6)","v":5.2741999999999997E-2},{"$f":"ROUND(IFERROR((1/'IS Rates'!AC27),\"\"),6)","v":0.32884000000000002},{"$f":"ROUND(IFERROR((1/'IS Rates'!AD27),\"\"),6)","v":1.1E-4},{"$f":"ROUND(IFERROR((1/'IS Rates'!AE27),\"\"),6)","v":1.21E-4},{"$f":"ROUND(IFERROR((1/'IS Rates'!AF27),\"\"),6)","v":0.16447300000000001}]
[null,"2010-08-09",{"$f":"ROUND(IFERROR((1/'IS Rates'!C28),\"\"),6)","v":0.949577},{"$f":"ROUND(IFERROR((1/'IS Rates'!D28),\"\"),6)","v":0.147145},{"$f":"ROUND(IFERROR((1/'IS Rates'!E28),\"\"),6)","v":5.4000000000000001E-4},{"$f":"ROUND(IFERROR((1/'IS Rates'!F28),\"\"),6)","v":1.2908219999999999},{"$f":"ROUND(IFERROR((1/'IS Rates'!G28),\"\"),6)","v":0.12868199999999999},{"$f":"ROUND(IFERROR((1/'IS Rates'!H28),\"\"),6)","v":1.1684999999999999E-2},{"$f":"ROUND(IFERROR((1/'IS Rates'!I28),\"\"),6)","v":8.4599999999999996E-4},{"$f":"ROUND(IFERROR((1/'IS Rates'!J28),\"\"),6)","v":0.122711},{"$f":"ROUND(IFERROR((1/'IS Rates'!K28),\"\"),6)","v":0.31602999999999998},{"$f":"ROUND(IFERROR((1/'IS Rates'!L28),\"\"),6)","v":7.8372999999999998E-2},{"$f":"ROUND(IFERROR((1/'IS Rates'!M28),\"\"),6)","v":2.2071E-2},{"$f":"ROUND(IFERROR((1/'IS Rates'!N28),\"\"),6)","v":0.73745799999999995},{"$f":"ROUND(IFERROR((1/'IS Rates'!O28),\"\"),6)","v":3.1319E-2},{"$f":"ROUND(IFERROR((1/'IS Rates'!P28),\"\"),6)","v":3.1362000000000001E-2},{"$f":"ROUND(IFERROR((1/'IS Rates'!Q28),\"\"),6)","v":0.66178300000000001},{"$f":"ROUND(IFERROR((1/'IS Rates'!R28),\"\"),6)","v":0.23256099999999999},{"$f":"ROUND(IFERROR((1/'IS Rates'!S28),\"\"),6)","v":0.90049500000000005},{"$f":"ROUND(IFERROR((1/'IS Rates'!T28),\"\"),6)","v":1.566171},{"$f":"ROUND(IFERROR((1/'IS Rates'!U28),\"\"),6)","v":0.72733599999999998},{"$f":"ROUND(IFERROR((1/'IS Rates'!V28),\"\"),6)","v":0.17327999999999999},{"$f":"ROUND(IFERROR((1/'IS Rates'!W28),\"\"),6)","v":1.2908219999999999},{"$f":"ROUND(IFERROR((1/'IS Rates'!X28),\"\"),6)","v":0.71527700000000005},{"$f":"ROUND(IFERROR((1/'IS Rates'!Y28),\"\"),6)","v":0.13688900000000001},{"$f":"ROUND(IFERROR((1/'IS Rates'!Z28),\"\"),6)","v":0.96133500000000005},{"$f":"ROUND(IFERROR((1/'IS Rates'!AA28),\"\"),6)","v":4.5859999999999998E-3},{"$f":"ROUND(IFERROR((1/'IS Rates'!AB28),\"\"),6)","v":5.1976000000000001E-2},{"$f":"ROUND(IFERROR((1/'IS Rates'!AC28),\"\"),6)","v":0.322822},{"$f":"ROUND(IFERROR((1/'IS Rates'!AD28),\"\"),6)","v":1.11E-4},{"$f":"ROUND(IFERROR((1/'IS Rates'!AE28),\"\"),6)","v":1.2E-4}]
[null,"2010-07-10",{"$f":"ROUND(IFERROR((1/'IS Rates'!C29),\"\"),6)","v":0.95630599999999999},{"$f":"ROUND(IFERROR((1/'IS Rates'!D29),\"\"),6)","v":0.14735899999999999},{"$f":"ROUND(IFERROR((1/'IS Rates'!E29),\"\"),6)","v":5.2499999999999997E-4},{"$f":"IFERROR((1/'IS Rates'!F29),\"\")","v":1.2742911755336095},{"$f":"IFERROR((1/'IS Rates'!G29),\"\")","v":0.12856874699470552},{"$f":"IFERROR((1/'IS Rates'!H29),\"\")","v":1.1405975864498832E-2},{"$f":"IFERROR((1/'IS Rates'!I29),\"\")","v":8.2496747565727216E-4},{"$f":"IFERROR((1/'IS Rates'!J29),\"\")","v":0.12242074786834874},{"$f":"IFERROR((1/'IS Rates'!K29),\"\")","v":0.31073174217965888},{"$f":"ROUND(IFERROR((1/'IS Rates'!L29),\"\"),6)","v":7.7826000000000006E-2},{"$f":"ROUND(IFERROR((1/'IS Rates'!M29),\"\"),6)","v":2.1481E-2},{"$f":"ROUND(IFERROR((1/'IS Rates'!N29),\"\"),6)","v":0.724858},{"$f":"ROUND(IFERROR((1/'IS Rates'!O29),\"\"),6)","v":3.1118E-2},{"$f":"ROUND(IFERROR((1/'IS Rates'!P29),\"\"),6)","v":3.0802E-2},{"$f":"ROUND(IFERROR((1/'IS Rates'!Q29),\"\"),6)","v":0.64716499999999999},{"$f":"ROUND(IFERROR((1/'IS Rates'!R29),\"\"),6)","v":0.23255600000000001},{"$f":"ROUND(IFERROR((1/'IS Rates'!S29),\"\"),6)","v":0.87216700000000003},{"$f":"ROUND(IFERROR((1/'IS Rates'!T29),\"\"),6)","v":1.5248550000000001},{"$f":"ROUND(IFERROR((1/'IS Rates'!U29),\"\"),6)","v":0.71549700000000005},{"$f":"ROUND(IFERROR((1/'IS Rates'!V29),\"\"),6)","v":0.170982},{"$f":"ROUND(IFERROR((1/'IS Rates'!W29),\"\"),6)","v":1.2742910000000001},{"$f":"ROUND(IFERROR((1/'IS Rates'!X29),\"\"),6)","v":0.71002600000000005},{"$f":"ROUND(IFERROR((1/'IS Rates'!Y29),\"\"),6)","v":0.13406599999999999},{"$f":"ROUND(IFERROR((1/'IS Rates'!Z29),\"\"),6)","v":0.94678099999999998},{"$f":"ROUND(IFERROR((1/'IS Rates'!AA29),\"\"),6)","v":4.4869999999999997E-3},{"$f":"ROUND(IFERROR((1/'IS Rates'!AB29),\"\"),6)","v":5.0161999999999998E-2},{"$f":"ROUND(IFERROR((1/'IS Rates'!AC29),\"\"),6)","v":0.31055199999999999},{"$f":"ROUND(IFERROR((1/'IS Rates'!AD29),\"\"),6)","v":1.11E-4},{"$f":"ROUND(IFERROR((1/'IS Rates'!AE29),\"\"),6)","v":1.1900000000000001E-4}]
[null,"2010-06-10",{"$f":"ROUND(IFERROR((1/'IS Rates'!C30),\"\"),6)","v":0.96306599999999998},{"$f":"ROUND(IFERROR((1/'IS Rates'!D30),\"\"),6)","v":0.14639199999999999},{"$f":"ROUND(IFERROR((1/'IS Rates'!E30),\"\"),6)","v":5.1199999999999998E-4},{"$f":"IFERROR((1/'IS Rates'!F30),\"\")","v":1.2210310386090013},{"$f":"IFERROR((1/'IS Rates'!G30),\"\")","v":0.12838948233360722},{"$f":"IFERROR((1/'IS Rates'!H30),\"\")","v":1.0989449359353566E-2},{"$f":"IFERROR((1/'IS Rates'!I30),\"\")","v":8.2138154733498651E-4},{"$f":"IFERROR((1/'IS Rates'!J30),\"\")","v":0.12191211843030834},{"$f":"IFERROR((1/'IS Rates'!K30),\"\")","v":0.30556090287135579},{"$f":"ROUND(IFERROR((1/'IS Rates'!L30),\"\"),6)","v":7.8535999999999995E-2},{"$f":"ROUND(IFERROR((1/'IS Rates'!M30),\"\"),6)","v":2.1520000000000001E-2},{"$f":"ROUND(IFERROR((1/'IS Rates'!N30),\"\"),6)","v":0.71484700000000001},{"$f":"ROUND(IFERROR((1/'IS Rates'!O30),\"\"),6)","v":3.0987000000000001E-2},{"$f":"ROUND(IFERROR((1/'IS Rates'!P30),\"\"),6)","v":3.0665999999999999E-2},{"$f":"ROUND(IFERROR((1/'IS Rates'!Q30),\"\"),6)","v":0.63322800000000001},{"$f":"ROUND(IFERROR((1/'IS Rates'!R30),\"\"),6)","v":0.23255999999999999},{"$f":"ROUND(IFERROR((1/'IS Rates'!S30),\"\"),6)","v":0.85267499999999996},{"$f":"ROUND(IFERROR((1/'IS Rates'!T30),\"\"),6)","v":1.4721690000000001},{"$f":"ROUND(IFERROR((1/'IS Rates'!U30),\"\"),6)","v":0.70420099999999997},{"$f":"ROUND(IFERROR((1/'IS Rates'!V30),\"\"),6)","v":0.16409899999999999},{"$f":"ROUND(IFERROR((1/'IS Rates'!W30),\"\"),6)","v":1.221031},{"$f":"ROUND(IFERROR((1/'IS Rates'!X30),\"\"),6)","v":0.69130000000000003},{"$f":"ROUND(IFERROR((1/'IS Rates'!Y30),\"\"),6)","v":0.127441},{"$f":"ROUND(IFERROR((1/'IS Rates'!Z30),\"\"),6)","v":0.88454100000000002},{"$f":"ROUND(IFERROR((1/'IS Rates'!AA30),\"\"),6)","v":4.333E-3},{"$f":"ROUND(IFERROR((1/'IS Rates'!AB30),\"\"),6)","v":4.7319E-2},{"$f":"ROUND(IFERROR((1/'IS Rates'!AC30),\"\"),6)","v":0.29739300000000002},{"$f":"ROUND(IFERROR((1/'IS Rates'!AD30),\"\"),6)","v":1.0900000000000001E-4},{"$f":"IFERROR((1/'IS Rates'!AE30),\"\")","v":""}]
[null,"2010-05-10",{"$f":"ROUND(IFERROR((1/'IS Rates'!C31),\"\"),6)","v":0.96275100000000002},{"$f":"ROUND(IFERROR((1/'IS Rates'!D31),\"\"),6)","v":0.14627499999999999},{"$f":"ROUND(IFERROR((1/'IS Rates'!E31),\"\"),6)","v":4.9799999999999996E-4},{"$f":"IFERROR((1/'IS Rates'!F31),\"\")","v":1.2647021626406982},{"$f":"IFERROR((1/'IS Rates'!G31),\"\")","v":0.12844456204257682},{"$f":"IFERROR((1/'IS Rates'!H31),\"\")","v":1.084918643578296E-2},{"$f":"IFERROR((1/'IS Rates'!I31),\"\")","v":8.6128034456450363E-4},{"$f":"IFERROR((1/'IS Rates'!J31),\"\")","v":0.12228302405918499},{"$f":"IFERROR((1/'IS Rates'!K31),\"\")","v":0.30674940720677057},{"$f":"ROUND(IFERROR((1/'IS Rates'!L31),\"\"),6)","v":7.8719999999999998E-2},{"$f":"ROUND(IFERROR((1/'IS Rates'!M31),\"\"),6)","v":2.1901E-2},{"$f":"ROUND(IFERROR((1/'IS Rates'!N31),\"\"),6)","v":0.71845300000000001},{"$f":"ROUND(IFERROR((1/'IS Rates'!O31),\"\"),6)","v":3.1434999999999998E-2},{"$f":"ROUND(IFERROR((1/'IS Rates'!P31),\"\"),6)","v":3.0734999999999998E-2},{"$f":"ROUND(IFERROR((1/'IS Rates'!Q31),\"\"),6)","v":0.64717800000000003},{"$f":"ROUND(IFERROR((1/'IS Rates'!R31),\"\"),6)","v":0.23250100000000001},{"$f":"ROUND(IFERROR((1/'IS Rates'!S31),\"\"),6)","v":0.87614000000000003},{"$f":"ROUND(IFERROR((1/'IS Rates'!T31),\"\"),6)","v":1.471865},{"$f":"ROUND(IFERROR((1/'IS Rates'!U31),\"\"),6)","v":0.70899900000000005},{"$f":"ROUND(IFERROR((1/'IS Rates'!V31),\"\"),6)","v":0.169931},{"$f":"ROUND(IFERROR((1/'IS Rates'!W31),\"\"),6)","v":1.264702},{"$f":"ROUND(IFERROR((1/'IS Rates'!X31),\"\"),6)","v":0.70180399999999998},{"$f":"ROUND(IFERROR((1/'IS Rates'!Y31),\"\"),6)","v":0.13058700000000001},{"$f":"ROUND(IFERROR((1/'IS Rates'!Z31),\"\"),6)","v":0.89032100000000003},{"$f":"ROUND(IFERROR((1/'IS Rates'!AA31),\"\"),6)","v":4.5729999999999998E-3},{"$f":"ROUND(IFERROR((1/'IS Rates'!AB31),\"\"),6)","v":4.9277000000000001E-2},{"$f":"ROUND(IFERROR((1/'IS Rates'!AC31),\"\"),6)","v":0.31173600000000001},{"$f":"ROUND(IFERROR((1/'IS Rates'!AD31),\"\"),6)","v":1.0900000000000001E-4},{"$f":"IFERROR((1/'IS Rates'!AE31),\"\")","v":""}]
[null,"2010-04-10",{"$f":"ROUND(IFERROR((1/'IS Rates'!C32),\"\"),6)","v":0.99425300000000005},{"$f":"ROUND(IFERROR((1/'IS Rates'!D32),\"\"),6)","v":0.14635200000000001},{"$f":"ROUND(IFERROR((1/'IS Rates'!E32),\"\"),6)","v":5.1199999999999998E-4},{"$f":"IFERROR((1/'IS Rates'!F32),\"\")","v":1.3440679560758593},{"$f":"IFERROR((1/'IS Rates'!G32),\"\")","v":0.12881219696930662},{"$f":"IFERROR((1/'IS Rates'!H32),\"\")","v":1.0699768039728667E-2},{"$f":"IFERROR((1/'IS Rates'!I32),\"\")","v":8.9214820365959185E-4},{"$f":"IFERROR((1/'IS Rates'!J32),\"\")","v":0.12277666801311747},{"$f":"IFERROR((1/'IS Rates'!K32),\"\")","v":0.31040091382029028},{"$f":"ROUND(IFERROR((1/'IS Rates'!L32),\"\"),6)","v":8.1628000000000006E-2},{"$f":"ROUND(IFERROR((1/'IS Rates'!M32),\"\"),6)","v":2.2325999999999999E-2},{"$f":"ROUND(IFERROR((1/'IS Rates'!N32),\"\"),6)","v":0.72255899999999995},{"$f":"ROUND(IFERROR((1/'IS Rates'!O32),\"\"),6)","v":3.1733999999999998E-2},{"$f":"ROUND(IFERROR((1/'IS Rates'!P32),\"\"),6)","v":3.0841E-2},{"$f":"ROUND(IFERROR((1/'IS Rates'!Q32),\"\"),6)","v":0.66896299999999997},{"$f":"ROUND(IFERROR((1/'IS Rates'!R32),\"\"),6)","v":0.23255799999999999},{"$f":"ROUND(IFERROR((1/'IS Rates'!S32),\"\"),6)","v":0.92547999999999997},{"$f":"ROUND(IFERROR((1/'IS Rates'!T32),\"\"),6)","v":1.532097},{"$f":"ROUND(IFERROR((1/'IS Rates'!U32),\"\"),6)","v":0.71435199999999999},{"$f":"ROUND(IFERROR((1/'IS Rates'!V32),\"\"),6)","v":0.18052499999999999},{"$f":"ROUND(IFERROR((1/'IS Rates'!W32),\"\"),6)","v":1.344068},{"$f":"ROUND(IFERROR((1/'IS Rates'!X32),\"\"),6)","v":0.71101499999999995},{"$f":"ROUND(IFERROR((1/'IS Rates'!Y32),\"\"),6)","v":0.13891400000000001},{"$f":"ROUND(IFERROR((1/'IS Rates'!Z32),\"\"),6)","v":0.93733},{"$f":"ROUND(IFERROR((1/'IS Rates'!AA32),\"\"),6)","v":5.0619999999999997E-3},{"$f":"ROUND(IFERROR((1/'IS Rates'!AB32),\"\"),6)","v":5.3071E-2},{"$f":"ROUND(IFERROR((1/'IS Rates'!AC32),\"\"),6)","v":0.34672399999999998},{"$f":"ROUND(IFERROR((1/'IS Rates'!AD32),\"\"),6)","v":1.1E-4}]
[null,"2010-03-10",{"$f":"ROUND(IFERROR((1/'IS Rates'!C33),\"\"),6)","v":0.97564799999999996},{"$f":"ROUND(IFERROR((1/'IS Rates'!D33),\"\"),6)","v":0.146287},{"$f":"ROUND(IFERROR((1/'IS Rates'!E33),\"\"),6)","v":5.1800000000000001E-4},{"$f":"IFERROR((1/'IS Rates'!F33),\"\")","v":1.3577363819040895},{"$f":"IFERROR((1/'IS Rates'!G33),\"\")","v":0.12820512820512822},{"$f":"IFERROR((1/'IS Rates'!H33),\"\")","v":1.1035520249738239E-2},{"$f":"IFERROR((1/'IS Rates'!I33),\"\")","v":8.7664922923684789E-4},{"$f":"IFERROR((1/'IS Rates'!J33),\"\")","v":0.12283050618451599},{"$f":"IFERROR((1/'IS Rates'!K33),\"\")","v":0.29943167867387699},{"$f":"ROUND(IFERROR((1/'IS Rates'!L33),\"\"),6)","v":7.9403000000000001E-2},{"$f":"ROUND(IFERROR((1/'IS Rates'!M33),\"\"),6)","v":2.1801999999999998E-2},{"$f":"ROUND(IFERROR((1/'IS Rates'!N33),\"\"),6)","v":0.71417299999999995},{"$f":"ROUND(IFERROR((1/'IS Rates'!O33),\"\"),6)","v":3.1400999999999998E-2},{"$f":"ROUND(IFERROR((1/'IS Rates'!P33),\"\"),6)","v":3.0627000000000001E-2},{"$f":"ROUND(IFERROR((1/'IS Rates'!Q33),\"\"),6)","v":0.650478},{"$f":"ROUND(IFERROR((1/'IS Rates'!R33),\"\"),6)","v":0.23378299999999999},{"$f":"ROUND(IFERROR((1/'IS Rates'!S33),\"\"),6)","v":0.91071400000000002},{"$f":"ROUND(IFERROR((1/'IS Rates'!T33),\"\"),6)","v":1.505457},{"$f":"ROUND(IFERROR((1/'IS Rates'!U33),\"\"),6)","v":0.70571600000000001},{"$f":"ROUND(IFERROR((1/'IS Rates'!V33),\"\"),6)","v":0.182422},{"$f":"ROUND(IFERROR((1/'IS Rates'!W33),\"\"),6)","v":1.3577360000000001},{"$f":"ROUND(IFERROR((1/'IS Rates'!X33),\"\"),6)","v":0.70237499999999997},{"$f":"ROUND(IFERROR((1/'IS Rates'!Y33),\"\"),6)","v":0.139651},{"$f":"ROUND(IFERROR((1/'IS Rates'!Z33),\"\"),6)","v":0.93734799999999996},{"$f":"ROUND(IFERROR((1/'IS Rates'!AA33),\"\"),6)","v":5.11E-3},{"$f":"ROUND(IFERROR((1/'IS Rates'!AB33),\"\"),6)","v":5.3097999999999999E-2},{"$f":"ROUND(IFERROR((1/'IS Rates'!AC33),\"\"),6)","v":0.34825899999999999},{"$f":"IFERROR((1/'IS Rates'!AD33),\"\")","v":""}]
[null,"2010-02-07",{"$f":"ROUND(IFERROR((1/'IS Rates'!C34),\"\"),6)","v":0.94633299999999998},{"$f":"ROUND(IFERROR((1/'IS Rates'!D34),\"\"),6)","v":0.14624699999999999},{"$f":"ROUND(IFERROR((1/'IS Rates'!E34),\"\"),6)","v":5.0699999999999996E-4},{"$f":"IFERROR((1/'IS Rates'!F34),\"\")","v":1.3684570646595964},{"$f":"IFERROR((1/'IS Rates'!G34),\"\")","v":0.12820512820512822},{"$f":"IFERROR((1/'IS Rates'!H34),\"\")","v":1.1077819800871757E-2},{"$f":"IFERROR((1/'IS Rates'!I34),\"\")","v":8.6188293254426686E-4},{"$f":"IFERROR((1/'IS Rates'!J34),\"\")","v":0.12272272640808987},{"$f":"IFERROR((1/'IS Rates'!K34),\"\")","v":0.29187961717069411},{"$f":"ROUND(IFERROR((1/'IS Rates'!L34),\"\"),6)","v":7.7092999999999995E-2},{"$f":"ROUND(IFERROR((1/'IS Rates'!M34),\"\"),6)","v":2.1524999999999999E-2},{"$f":"ROUND(IFERROR((1/'IS Rates'!N34),\"\"),6)","v":0.70762899999999995},{"$f":"ROUND(IFERROR((1/'IS Rates'!O34),\"\"),6)","v":3.1130999999999999E-2},{"$f":"ROUND(IFERROR((1/'IS Rates'!P34),\"\"),6)","v":3.0041999999999999E-2},{"$f":"ROUND(IFERROR((1/'IS Rates'!Q34),\"\"),6)","v":0.65864400000000001},{"$f":"ROUND(IFERROR((1/'IS Rates'!R34),\"\"),6)","v":0.23267199999999999},{"$f":"IFERROR((1/'IS Rates'!S34),\"\")","v":""},{"$f":"IFERROR((1/'IS Rates'!T34),\"\")","v":""},{"$f":"IFERROR((1/'IS Rates'!U34),\"\")","v":""},{"$f":"IFERROR((1/'IS Rates'!V34),\"\")","v":""},{"$f":"IFERROR((1/'IS Rates'!W34),\"\")","v":""},{"$f":"IFERROR((1/'IS Rates'!X34),\"\")","v":""},{"$f":"IFERROR((1/'IS Rates'!Y34),\"\")","v":""},{"$f":"IFERROR((1/'IS Rates'!Z34),\"\")","v":""},{"$f":"IFERROR((1/'IS Rates'!AA34),\"\")","v":""},{"$f":"IFERROR((1/'IS Rates'!AB34),\"\")","v":""},{"$f":"IFERROR((1/'IS Rates'!AC34),\"\")","v":""},{"$f":"IFERROR((1/'IS Rates'!AD34),\"\")","v":""}]
[null,"2010-01-08",{"$f":"ROUND(IFERROR((1/'IS Rates'!C35),\"\"),6)","v":0.95914999999999995},{"$f":"ROUND(IFERROR((1/'IS Rates'!D35),\"\"),6)","v":0.146316},{"$f":"ROUND(IFERROR((1/'IS Rates'!E35),\"\"),6)","v":4.9700000000000005E-4},{"$f":"IFERROR((1/'IS Rates'!F35),\"\")","v":1.4305742324969244},{"$f":"IFERROR((1/'IS Rates'!G35),\"\")","v":0.12820512820512822},{"$f":"IFERROR((1/'IS Rates'!H35),\"\")","v":1.0930806247524173E-2},{"$f":"IFERROR((1/'IS Rates'!I35),\"\")","v":8.7266678136998848E-4},{"$f":"IFERROR((1/'IS Rates'!J35),\"\")","v":0.12296583763098937},{"$f":"IFERROR((1/'IS Rates'!K35),\"\")","v":0.2946575637123317},{"$f":"ROUND(IFERROR((1/'IS Rates'!L35),\"\"),6)","v":7.7821000000000001E-2},{"$f":"ROUND(IFERROR((1/'IS Rates'!M35),\"\"),6)","v":2.1659999999999999E-2},{"$f":"ROUND(IFERROR((1/'IS Rates'!N35),\"\"),6)","v":0.71557899999999997},{"$f":"ROUND(IFERROR((1/'IS Rates'!O35),\"\"),6)","v":3.1341000000000001E-2},{"$f":"ROUND(IFERROR((1/'IS Rates'!P35),\"\"),6)","v":3.0141999999999999E-2},{"$f":"ROUND(IFERROR((1/'IS Rates'!Q35),\"\"),6)","v":0.67676899999999995},{"$f":"ROUND(IFERROR((1/'IS Rates'!R35),\"\"),6)","v":0.30728800000000001},{"$f":"IFERROR((1/'IS Rates'!S35),\"\")","v":""},{"$f":"IFERROR((1/'IS Rates'!T35),\"\")","v":""},{"$f":"IFERROR((1/'IS Rates'!U35),\"\")","v":""},{"$f":"IFERROR((1/'IS Rates'!V35),\"\")","v":""},{"$f":"IFERROR((1/'IS Rates'!W35),\"\")","v":""},{"$f":"IFERROR((1/'IS Rates'!X35),\"\")","v":""},{"$f":"IFERROR((1/'IS Rates'!Y35),\"\")","v":""},{"$f":"IFERROR((1/'IS Rates'!Z35),\"\")","v":""},{"$f":"IFERROR((1/'IS Rates'!AA35),\"\")","v":""},{"$f":"IFERROR((1/'IS Rates'!AB35),\"\")","v":""},{"$f":"IFERROR((1/'IS Rates'!AC35),\"\")","v":""},{"$f":"IFERROR((1/'IS Rates'!AD35),\"\")","v":""}]
[{"$f":"A24-1","v":2009},"2009-12-09",{"$f":"ROUND(IFERROR((1/'IS Rates'!C36),\"\"),6)","v":0.94678099999999998},{"$f":"ROUND(IFERROR((1/'IS Rates'!D36),\"\"),6)","v":0.14628099999999999},{"$f":"ROUND(IFERROR((1/'IS Rates'!E36),\"\"),6)","v":4.8999999999999998E-4},{"$f":"IFERROR((1/'IS Rates'!F36),\"\")","v":1.4598113923681062},{"$f":"IFERROR((1/'IS Rates'!G36),\"\")","v":0.12820512820512822},{"$f":"IFERROR((1/'IS Rates'!H36),\"\")","v":1.1135727254859491E-2},{"$f":"IFERROR((1/'IS Rates'!I36),\"\")","v":8.5372755421133696E-4},{"$f":"IFERROR((1/'IS Rates'!J36),\"\")","v":0.12287804967959549},{"$f":"IFERROR((1/'IS Rates'!K36),\"\")","v":0.29189836099070304},{"$f":"ROUND(IFERROR((1/'IS Rates'!L36),\"\"),6)","v":7.7803999999999998E-2},{"$f":"ROUND(IFERROR((1/'IS Rates'!M36),\"\"),6)","v":2.1479999999999999E-2},{"$f":"ROUND(IFERROR((1/'IS Rates'!N36),\"\"),6)","v":0.71608099999999997},{"$f":"ROUND(IFERROR((1/'IS Rates'!O36),\"\"),6)","v":3.0977000000000001E-2},{"$f":"ROUND(IFERROR((1/'IS Rates'!P36),\"\"),6)","v":2.9964999999999999E-2},{"$f":"ROUND(IFERROR((1/'IS Rates'!Q36),\"\"),6)","v":0.66175200000000001},{"$f":"ROUND(IFERROR((1/'IS Rates'!R36),\"\"),6)","v":0.46476200000000001},{"$f":"IFERROR((1/'IS Rates'!S36),\"\")","v":""},{"$f":"IFERROR((1/'IS Rates'!T36),\"\")","v":""},{"$f":"IFERROR((1/'IS Rates'!U36),\"\")","v":""},{"$f":"IFERROR((1/'IS Rates'!V36),\"\")","v":""},{"$f":"IFERROR((1/'IS Rates'!W36),\"\")","v":""},{"$f":"IFERROR((1/'IS Rates'!X36),\"\")","v":""},{"$f":"IFERROR((1/'IS Rates'!Y36),\"\")","v":""},{"$f":"IFERROR((1/'IS Rates'!Z36),\"\")","v":""},{"$f":"IFERROR((1/'IS Rates'!AA36),\"\")","v":""},{"$f":"IFERROR((1/'IS Rates'!AB36),\"\")","v":""},{"$f":"IFERROR((1/'IS Rates'!AC36),\"\")","v":""},{"$f":"IFERROR((1/'IS Rates'!AD36),\"\")","v":""}]
[null,"2009-11-08",{"$f":"ROUND(IFERROR((1/'IS Rates'!C37),\"\"),6)","v":0.94076000000000004},{"$f":"ROUND(IFERROR((1/'IS Rates'!D37),\"\"),6)","v":0.14629400000000001},{"$f":"ROUND(IFERROR((1/'IS Rates'!E37),\"\"),6)","v":5.0299999999999997E-4},{"$f":"IFERROR((1/'IS Rates'!F37),\"\")","v":1.489447266119543},{"$f":"IFERROR((1/'IS Rates'!G37),\"\")","v":0.12820512820512822},{"$f":"IFERROR((1/'IS Rates'!H37),\"\")","v":1.1203398483709643E-2},{"$f":"IFERROR((1/'IS Rates'!I37),\"\")","v":8.5675829750919892E-4},{"$f":"IFERROR((1/'IS Rates'!J37),\"\")","v":0.12323086686753297},{"$f":"IFERROR((1/'IS Rates'!K37),\"\")","v":0.29457857588933273},{"$f":"ROUND(IFERROR((1/'IS Rates'!L37),\"\"),6)","v":7.6103000000000004E-2},{"$f":"ROUND(IFERROR((1/'IS Rates'!M37),\"\"),6)","v":2.1187000000000001E-2},{"$f":"ROUND(IFERROR((1/'IS Rates'!N37),\"\"),6)","v":0.71937300000000004},{"$f":"ROUND(IFERROR((1/'IS Rates'!O37),\"\"),6)","v":3.0890000000000001E-2},{"$f":"ROUND(IFERROR((1/'IS Rates'!P37),\"\"),6)","v":2.9921E-2},{"$f":"ROUND(IFERROR((1/'IS Rates'!Q37),\"\"),6)","v":0.66901699999999997},{"$f":"ROUND(IFERROR((1/'IS Rates'!R37),\"\"),6)","v":0.46475699999999998},{"$f":"IFERROR((1/'IS Rates'!S37),\"\")","v":""},{"$f":"IFERROR((1/'IS Rates'!T37),\"\")","v":""},{"$f":"IFERROR((1/'IS Rates'!U37),\"\")","v":""},{"$f":"IFERROR((1/'IS Rates'!V37),\"\")","v":""},{"$f":"IFERROR((1/'IS Rates'!W37),\"\")","v":""},{"$f":"IFERROR((1/'IS Rates'!X37),\"\")","v":""},{"$f":"IFERROR((1/'IS Rates'!Y37),\"\")","v":""},{"$f":"IFERROR((1/'IS Rates'!Z37),\"\")","v":""},{"$f":"IFERROR((1/'IS Rates'!AA37),\"\")","v":""},{"$f":"IFERROR((1/'IS Rates'!AB37),\"\")","v":""},{"$f":"IFERROR((1/'IS Rates'!AC37),\"\")","v":""},{"$f":"IFERROR((1/'IS Rates'!AD37),\"\")","v":""}]
[null,"2009-10-09",{"$f":"ROUND(IFERROR((1/'IS Rates'!C38),\"\"),6)","v":0.94865900000000003},{"$f":"ROUND(IFERROR((1/'IS Rates'!D38),\"\"),6)","v":0.14627799999999999},{"$f":"ROUND(IFERROR((1/'IS Rates'!E38),\"\"),6)","v":5.2099999999999998E-4},{"$f":"IFERROR((1/'IS Rates'!F38),\"\")","v":1.48053832373451},{"$f":"IFERROR((1/'IS Rates'!G38),\"\")","v":0.12820512820512822},{"$f":"IFERROR((1/'IS Rates'!H38),\"\")","v":1.106700540556812E-2},{"$f":"IFERROR((1/'IS Rates'!I38),\"\")","v":8.4928984039661225E-4},{"$f":"IFERROR((1/'IS Rates'!J38),\"\")","v":0.12318517441788845},{"$f":"IFERROR((1/'IS Rates'!K38),\"\")","v":0.29268092803268658},{"$f":"ROUND(IFERROR((1/'IS Rates'!L38),\"\"),6)","v":7.5325000000000003E-2},{"$f":"ROUND(IFERROR((1/'IS Rates'!M38),\"\"),6)","v":2.1297E-2},{"$f":"ROUND(IFERROR((1/'IS Rates'!N38),\"\"),6)","v":0.71467899999999995},{"$f":"ROUND(IFERROR((1/'IS Rates'!O38),\"\"),6)","v":3.0949999999999998E-2},{"$f":"ROUND(IFERROR((1/'IS Rates'!P38),\"\"),6)","v":2.9807E-2},{"$f":"ROUND(IFERROR((1/'IS Rates'!Q38),\"\"),6)","v":0.67878099999999997},{"$f":"ROUND(IFERROR((1/'IS Rates'!R38),\"\"),6)","v":0.46468599999999999},{"$f":"IFERROR((1/'IS Rates'!S38),\"\")","v":""},{"$f":"IFERROR((1/'IS Rates'!T38),\"\")","v":""},{"$f":"IFERROR((1/'IS Rates'!U38),\"\")","v":""},{"$f":"IFERROR((1/'IS Rates'!V38),\"\")","v":""},{"$f":"IFERROR((1/'IS Rates'!W38),\"\")","v":""},{"$f":"IFERROR((1/'IS Rates'!X38),\"\")","v":""},{"$f":"IFERROR((1/'IS Rates'!Y38),\"\")","v":""},{"$f":"IFERROR((1/'IS Rates'!Z38),\"\")","v":""},{"$f":"IFERROR((1/'IS Rates'!AA38),\"\")","v":""},{"$f":"IFERROR((1/'IS Rates'!AB38),\"\")","v":""},{"$f":"IFERROR((1/'IS Rates'!AC38),\"\")","v":""},{"$f":"IFERROR((1/'IS Rates'!AD38),\"\")","v":""}]
[null,"2009-09-08",{"$f":"ROUND(IFERROR((1/'IS Rates'!C39),\"\"),6)","v":0.923489},{"$f":"ROUND(IFERROR((1/'IS Rates'!D39),\"\"),6)","v":0.14621899999999999},{"$f":"ROUND(IFERROR((1/'IS Rates'!E39),\"\"),6)","v":4.9899999999999999E-4},{"$f":"IFERROR((1/'IS Rates'!F39),\"\")","v":1.4546089283896024},{"$f":"IFERROR((1/'IS Rates'!G39),\"\")","v":0.12820512820512822},{"$f":"IFERROR((1/'IS Rates'!H39),\"\")","v":1.0930232761492702E-2},{"$f":"IFERROR((1/'IS Rates'!I39),\"\")","v":8.1961860736520591E-4},{"$f":"IFERROR((1/'IS Rates'!J39),\"\")","v":0.12315877629439874},{"$f":"IFERROR((1/'IS Rates'!K39),\"\")","v":0.28504646257339944},{"$f":"ROUND(IFERROR((1/'IS Rates'!L39),\"\"),6)","v":7.4569999999999997E-2},{"$f":"ROUND(IFERROR((1/'IS Rates'!M39),\"\"),6)","v":2.0736000000000001E-2},{"$f":"ROUND(IFERROR((1/'IS Rates'!N39),\"\"),6)","v":0.701986},{"$f":"ROUND(IFERROR((1/'IS Rates'!O39),\"\"),6)","v":3.0651000000000001E-2},{"$f":"ROUND(IFERROR((1/'IS Rates'!P39),\"\"),6)","v":2.9440000000000001E-2},{"$f":"ROUND(IFERROR((1/'IS Rates'!Q39),\"\"),6)","v":0.67010199999999998},{"$f":"ROUND(IFERROR((1/'IS Rates'!R39),\"\"),6)","v":0.46469700000000003},{"$f":"IFERROR((1/'IS Rates'!S39),\"\")","v":""},{"$f":"IFERROR((1/'IS Rates'!T39),\"\")","v":""},{"$f":"IFERROR((1/'IS Rates'!U39),\"\")","v":""},{"$f":"IFERROR((1/'IS Rates'!V39),\"\")","v":""},{"$f":"IFERROR((1/'IS Rates'!W39),\"\")","v":""},{"$f":"IFERROR((1/'IS Rates'!X39),\"\")","v":""},{"$f":"IFERROR((1/'IS Rates'!Y39),\"\")","v":""},{"$f":"IFERROR((1/'IS Rates'!Z39),\"\")","v":""},{"$f":"IFERROR((1/'IS Rates'!AA39),\"\")","v":""},{"$f":"IFERROR((1/'IS Rates'!AB39),\"\")","v":""},{"$f":"IFERROR((1/'IS Rates'!AC39),\"\")","v":""},{"$f":"IFERROR((1/'IS Rates'!AD39),\"\")","v":""}]
[null,"2009-08-08",{"$f":"ROUND(IFERROR((1/'IS Rates'!C40),\"\"),6)","v":0.91998000000000002},{"$f":"ROUND(IFERROR((1/'IS Rates'!D40),\"\"),6)","v":0.14615400000000001},{"$f":"ROUND(IFERROR((1/'IS Rates'!E40),\"\"),6)","v":4.8999999999999998E-4},{"$f":"IFERROR((1/'IS Rates'!F40),\"\")","v":1.4253135689851768},{"$f":"IFERROR((1/'IS Rates'!G40),\"\")","v":0.12820512820512822},{"$f":"IFERROR((1/'IS Rates'!H40),\"\")","v":1.0525300928878859E-2},{"$f":"IFERROR((1/'IS Rates'!I40),\"\")","v":8.0567925887756425E-4},{"$f":"IFERROR((1/'IS Rates'!J40),\"\")","v":0.1231800152743219},{"$f":"IFERROR((1/'IS Rates'!K40),\"\")","v":0.28343144785286506},{"$f":"ROUND(IFERROR((1/'IS Rates'!L40),\"\"),6)","v":7.6772000000000007E-2},{"$f":"ROUND(IFERROR((1/'IS Rates'!M40),\"\"),6)","v":2.0686E-2},{"$f":"ROUND(IFERROR((1/'IS Rates'!N40),\"\"),6)","v":0.69344799999999995},{"$f":"ROUND(IFERROR((1/'IS Rates'!O40),\"\"),6)","v":3.0398000000000001E-2},{"$f":"ROUND(IFERROR((1/'IS Rates'!P40),\"\"),6)","v":2.9277000000000001E-2},{"$f":"ROUND(IFERROR((1/'IS Rates'!Q40),\"\"),6)","v":0.66085099999999997},{"$f":"ROUND(IFERROR((1/'IS Rates'!R40),\"\"),6)","v":0.46480500000000002},{"$f":"IFERROR((1/'IS Rates'!S40),\"\")","v":""},{"$f":"IFERROR((1/'IS Rates'!T40),\"\")","v":""},{"$f":"IFERROR((1/'IS Rates'!U40),\"\")","v":""},{"$f":"IFERROR((1/'IS Rates'!V40),\"\")","v":""},{"$f":"IFERROR((1/'IS Rates'!W40),\"\")","v":""},{"$f":"IFERROR((1/'IS Rates'!X40),\"\")","v":""},{"$f":"IFERROR((1/'IS Rates'!Y40),\"\")","v":""},{"$f":"IFERROR((1/'IS Rates'!Z40),\"\")","v":""},{"$f":"IFERROR((1/'IS Rates'!AA40),\"\")","v":""},{"$f":"IFERROR((1/'IS Rates'!AB40),\"\")","v":""},{"$f":"IFERROR((1/'IS Rates'!AC40),\"\")","v":""},{"$f":"IFERROR((1/'IS Rates'!AD40),\"\")","v":""}]
[null,"2009-07-09",{"$f":"ROUND(IFERROR((1/'IS Rates'!C41),\"\"),6)","v":0.88551999999999997},{"$f":"ROUND(IFERROR((1/'IS Rates'!D41),\"\"),6)","v":0.14615400000000001},{"$f":"ROUND(IFERROR((1/'IS Rates'!E41),\"\"),6)","v":4.8000000000000001E-4},{"$f":"IFERROR((1/'IS Rates'!F41),\"\")","v":1.4069248842804283},{"$f":"IFERROR((1/'IS Rates'!G41),\"\")","v":0.12820512820512822},{"$f":"IFERROR((1/'IS Rates'!H41),\"\")","v":1.0583141690275891E-2},{"$f":"IFERROR((1/'IS Rates'!I41),\"\")","v":7.8867282846231907E-4},{"$f":"IFERROR((1/'IS Rates'!J41),\"\")","v":0.12305178265117528},{"$f":"IFERROR((1/'IS Rates'!K41),\"\")","v":0.28113104642598102},{"$f":"ROUND(IFERROR((1/'IS Rates'!L41),\"\"),6)","v":7.4740000000000001E-2},{"$f":"ROUND(IFERROR((1/'IS Rates'!M41),\"\"),6)","v":2.0718E-2},{"$f":"ROUND(IFERROR((1/'IS Rates'!N41),\"\"),6)","v":0.68927499999999997},{"$f":"ROUND(IFERROR((1/'IS Rates'!O41),\"\"),6)","v":3.0352000000000001E-2},{"$f":"ROUND(IFERROR((1/'IS Rates'!P41),\"\"),6)","v":2.9252E-2},{"$f":"ROUND(IFERROR((1/'IS Rates'!Q41),\"\"),6)","v":0.65505500000000005},{"$f":"ROUND(IFERROR((1/'IS Rates'!R41),\"\"),6)","v":0.464667},{"$f":"IFERROR((1/'IS Rates'!S41),\"\")","v":""},{"$f":"IFERROR((1/'IS Rates'!T41),\"\")","v":""},{"$f":"IFERROR((1/'IS Rates'!U41),\"\")","v":""},{"$f":"IFERROR((1/'IS Rates'!V41),\"\")","v":""},{"$f":"IFERROR((1/'IS Rates'!W41),\"\")","v":""},{"$f":"IFERROR((1/'IS Rates'!X41),\"\")","v":""},{"$f":"IFERROR((1/'IS Rates'!Y41),\"\")","v":""},{"$f":"IFERROR((1/'IS Rates'!Z41),\"\")","v":""},{"$f":"IFERROR((1/'IS Rates'!AA41),\"\")","v":""},{"$f":"IFERROR((1/'IS Rates'!AB41),\"\")","v":""},{"$f":"IFERROR((1/'IS Rates'!AC41),\"\")","v":""},{"$f":"IFERROR((1/'IS Rates'!AD41),\"\")","v":""}]
[null,"2009-06-09",{"$f":"ROUND(IFERROR((1/'IS Rates'!C42),\"\"),6)","v":0.88908600000000004},{"$f":"ROUND(IFERROR((1/'IS Rates'!D42),\"\"),6)","v":0.14611299999999999},{"$f":"ROUND(IFERROR((1/'IS Rates'!E42),\"\"),6)","v":4.73E-4},{"$f":"IFERROR((1/'IS Rates'!F42),\"\")","v":1.4011489421325487},{"$f":"IFERROR((1/'IS Rates'!G42),\"\")","v":0.12820512820512822},{"$f":"IFERROR((1/'IS Rates'!H42),\"\")","v":1.033718662301893E-2},{"$f":"IFERROR((1/'IS Rates'!I42),\"\")","v":7.9060695686685616E-4},{"$f":"IFERROR((1/'IS Rates'!J42),\"\")","v":0.12310116453701651},{"$f":"IFERROR((1/'IS Rates'!K42),\"\")","v":0.28373462867649146},{"$f":"ROUND(IFERROR((1/'IS Rates'!L42),\"\"),6)","v":7.4904999999999999E-2},{"$f":"ROUND(IFERROR((1/'IS Rates'!M42),\"\"),6)","v":2.0861000000000001E-2},{"$f":"ROUND(IFERROR((1/'IS Rates'!N42),\"\"),6)","v":0.68825999999999998},{"$f":"ROUND(IFERROR((1/'IS Rates'!O42),\"\"),6)","v":3.0467999999999999E-2},{"$f":"ROUND(IFERROR((1/'IS Rates'!P42),\"\"),6)","v":2.9173999999999999E-2},{"$f":"ROUND(IFERROR((1/'IS Rates'!Q42),\"\"),6)","v":0.64575300000000002},{"$f":"ROUND(IFERROR((1/'IS Rates'!R42),\"\"),6)","v":0.46468799999999999},{"$f":"IFERROR((1/'IS Rates'!S42),\"\")","v":""},{"$f":"IFERROR((1/'IS Rates'!T42),\"\")","v":""},{"$f":"IFERROR((1/'IS Rates'!U42),\"\")","v":""},{"$f":"IFERROR((1/'IS Rates'!V42),\"\")","v":""},{"$f":"IFERROR((1/'IS Rates'!W42),\"\")","v":""},{"$f":"IFERROR((1/'IS Rates'!X42),\"\")","v":""},{"$f":"IFERROR((1/'IS Rates'!Y42),\"\")","v":""},{"$f":"IFERROR((1/'IS Rates'!Z42),\"\")","v":""},{"$f":"IFERROR((1/'IS Rates'!AA42),\"\")","v":""},{"$f":"IFERROR((1/'IS Rates'!AB42),\"\")","v":""},{"$f":"IFERROR((1/'IS Rates'!AC42),\"\")","v":""},{"$f":"IFERROR((1/'IS Rates'!AD42),\"\")","v":""}]
[null,"2009-05-08",{"$f":"ROUND(IFERROR((1/'IS Rates'!C43),\"\"),6)","v":0.86345300000000003},{"$f":"ROUND(IFERROR((1/'IS Rates'!D43),\"\"),6)","v":0.146341},{"$f":"ROUND(IFERROR((1/'IS Rates'!E43),\"\"),6)","v":4.4200000000000001E-4},{"$f":"IFERROR((1/'IS Rates'!F43),\"\")","v":1.3596193065941535},{"$f":"IFERROR((1/'IS Rates'!G43),\"\")","v":0.12820512820512822},{"$f":"IFERROR((1/'IS Rates'!H43),\"\")","v":1.0329821916969097E-2},{"$f":"IFERROR((1/'IS Rates'!I43),\"\")","v":7.9331427728974134E-4},{"$f":"IFERROR((1/'IS Rates'!J43),\"\")","v":0.12295646357537722},{"$f":"IFERROR((1/'IS Rates'!K43),\"\")","v":0.28227377168568252},{"$f":"ROUND(IFERROR((1/'IS Rates'!L43),\"\"),6)","v":7.5296000000000002E-2},{"$f":"ROUND(IFERROR((1/'IS Rates'!M43),\"\"),6)","v":2.1017000000000001E-2},{"$f":"ROUND(IFERROR((1/'IS Rates'!N43),\"\"),6)","v":0.683195},{"$f":"ROUND(IFERROR((1/'IS Rates'!O43),\"\"),6)","v":3.0349999999999999E-2},{"$f":"ROUND(IFERROR((1/'IS Rates'!P43),\"\"),6)","v":2.8799000000000002E-2},{"$f":"ROUND(IFERROR((1/'IS Rates'!Q43),\"\"),6)","v":0.64009400000000005},{"$f":"ROUND(IFERROR((1/'IS Rates'!R43),\"\"),6)","v":0.46468199999999998},{"$f":"IFERROR((1/'IS Rates'!S43),\"\")","v":""},{"$f":"IFERROR((1/'IS Rates'!T43),\"\")","v":""},{"$f":"IFERROR((1/'IS Rates'!U43),\"\")","v":""},{"$f":"IFERROR((1/'IS Rates'!V43),\"\")","v":""},{"$f":"IFERROR((1/'IS Rates'!W43),\"\")","v":""},{"$f":"IFERROR((1/'IS Rates'!X43),\"\")","v":""},{"$f":"IFERROR((1/'IS Rates'!Y43),\"\")","v":""},{"$f":"IFERROR((1/'IS Rates'!Z43),\"\")","v":""},{"$f":"IFERROR((1/'IS Rates'!AA43),\"\")","v":""},{"$f":"IFERROR((1/'IS Rates'!AB43),\"\")","v":""},{"$f":"IFERROR((1/'IS Rates'!AC43),\"\")","v":""},{"$f":"IFERROR((1/'IS Rates'!AD43),\"\")","v":""}]
[null,"2009-04-08",{"$f":"ROUND(IFERROR((1/'IS Rates'!C44),\"\"),6)","v":0.81469000000000003},{"$f":"ROUND(IFERROR((1/'IS Rates'!D44),\"\"),6)","v":0.14615},{"$f":"ROUND(IFERROR((1/'IS Rates'!E44),\"\"),6)","v":4.1300000000000001E-4},{"$f":"IFERROR((1/'IS Rates'!F44),\"\")","v":1.3203237433818773},{"$f":"IFERROR((1/'IS Rates'!G44),\"\")","v":0.12820512820512822},{"$f":"IFERROR((1/'IS Rates'!H44),\"\")","v":1.0099713461029397E-2},{"$f":"IFERROR((1/'IS Rates'!I44),\"\")","v":7.4581856634325016E-4},{"$f":"IFERROR((1/'IS Rates'!J44),\"\")","v":0.12262445769333585},{"$f":"IFERROR((1/'IS Rates'!K44),\"\")","v":0.27656473412449284},{"$f":"ROUND(IFERROR((1/'IS Rates'!L44),\"\"),6)","v":7.4494000000000005E-2},{"$f":"ROUND(IFERROR((1/'IS Rates'!M44),\"\"),6)","v":2.0740000000000001E-2},{"$f":"ROUND(IFERROR((1/'IS Rates'!N44),\"\"),6)","v":0.66401100000000002},{"$f":"ROUND(IFERROR((1/'IS Rates'!O44),\"\"),6)","v":2.9648999999999998E-2},{"$f":"ROUND(IFERROR((1/'IS Rates'!P44),\"\"),6)","v":2.8094000000000001E-2},{"$f":"ROUND(IFERROR((1/'IS Rates'!Q44),\"\"),6)","v":0.62152700000000005},{"$f":"ROUND(IFERROR((1/'IS Rates'!R44),\"\"),6)","v":0.46467799999999998},{"$f":"IFERROR((1/'IS Rates'!S44),\"\")","v":""},{"$f":"IFERROR((1/'IS Rates'!T44),\"\")","v":""},{"$f":"IFERROR((1/'IS Rates'!U44),\"\")","v":""},{"$f":"IFERROR((1/'IS Rates'!V44),\"\")","v":""},{"$f":"IFERROR((1/'IS Rates'!W44),\"\")","v":""},{"$f":"IFERROR((1/'IS Rates'!X44),\"\")","v":""},{"$f":"IFERROR((1/'IS Rates'!Y44),\"\")","v":""},{"$f":"IFERROR((1/'IS Rates'!Z44),\"\")","v":""},{"$f":"IFERROR((1/'IS Rates'!AA44),\"\")","v":""},{"$f":"IFERROR((1/'IS Rates'!AB44),\"\")","v":""},{"$f":"IFERROR((1/'IS Rates'!AC44),\"\")","v":""},{"$f":"IFERROR((1/'IS Rates'!AD44),\"\")","v":""}]
[null,"2009-03-08",{"$f":"ROUND(IFERROR((1/'IS Rates'!C45),\"\"),6)","v":0.79103900000000005},{"$f":"ROUND(IFERROR((1/'IS Rates'!D45),\"\"),6)","v":0.146067},{"$f":"ROUND(IFERROR((1/'IS Rates'!E45),\"\"),6)","v":4.0000000000000002E-4},{"$f":"IFERROR((1/'IS Rates'!F45),\"\")","v":1.3022020236219447},{"$f":"IFERROR((1/'IS Rates'!G45),\"\")","v":0.12820512820512822},{"$f":"IFERROR((1/'IS Rates'!H45),\"\")","v":1.0236648799619852E-2},{"$f":"IFERROR((1/'IS Rates'!I45),\"\")","v":6.8488474704685913E-4},{"$f":"IFERROR((1/'IS Rates'!J45),\"\")","v":0.12288257955110993},{"$f":"IFERROR((1/'IS Rates'!K45),\"\")","v":0.27116437984706326},{"$f":"ROUND(IFERROR((1/'IS Rates'!L45),\"\"),6)","v":6.7964999999999998E-2},{"$f":"ROUND(IFERROR((1/'IS Rates'!M45),\"\"),6)","v":2.0598999999999999E-2},{"$f":"ROUND(IFERROR((1/'IS Rates'!N45),\"\"),6)","v":0.65286100000000002},{"$f":"ROUND(IFERROR((1/'IS Rates'!O45),\"\"),6)","v":2.9082E-2},{"$f":"ROUND(IFERROR((1/'IS Rates'!P45),\"\"),6)","v":2.784E-2},{"$f":"ROUND(IFERROR((1/'IS Rates'!Q45),\"\"),6)","v":0.583403},{"$f":"ROUND(IFERROR((1/'IS Rates'!R45),\"\"),6)","v":0.46467799999999998},{"$f":"IFERROR((1/'IS Rates'!S45),\"\")","v":""},{"$f":"IFERROR((1/'IS Rates'!T45),\"\")","v":""},{"$f":"IFERROR((1/'IS Rates'!U45),\"\")","v":""},{"$f":"IFERROR((1/'IS Rates'!V45),\"\")","v":""},{"$f":"IFERROR((1/'IS Rates'!W45),\"\")","v":""},{"$f":"IFERROR((1/'IS Rates'!X45),\"\")","v":""},{"$f":"IFERROR((1/'IS Rates'!Y45),\"\")","v":""},{"$f":"IFERROR((1/'IS Rates'!Z45),\"\")","v":""},{"$f":"IFERROR((1/'IS Rates'!AA45),\"\")","v":""},{"$f":"IFERROR((1/'IS Rates'!AB45),\"\")","v":""},{"$f":"IFERROR((1/'IS Rates'!AC45),\"\")","v":""},{"$f":"IFERROR((1/'IS Rates'!AD45),\"\")","v":""}]
[null,"2009-02-08",{"$f":"ROUND(IFERROR((1/'IS Rates'!C46),\"\"),6)","v":0.80574999999999997},{"$f":"ROUND(IFERROR((1/'IS Rates'!D46),\"\"),6)","v":0.146063},{"$f":"ROUND(IFERROR((1/'IS Rates'!E46),\"\"),6)","v":3.9599999999999998E-4},{"$f":"IFERROR((1/'IS Rates'!F46),\"\")","v":1.2816733527293234},{"$f":"IFERROR((1/'IS Rates'!G46),\"\")","v":0.12820512820512822},{"$f":"IFERROR((1/'IS Rates'!H46),\"\")","v":1.0855527368575658E-2},{"$f":"IFERROR((1/'IS Rates'!I46),\"\")","v":6.9925470007717739E-4},{"$f":"IFERROR((1/'IS Rates'!J46),\"\")","v":0.12304845155828559},{"$f":"IFERROR((1/'IS Rates'!K46),\"\")","v":0.2754638811759002},{"$f":"ROUND(IFERROR((1/'IS Rates'!L46),\"\"),6)","v":6.8707000000000004E-2},{"$f":"ROUND(IFERROR((1/'IS Rates'!M46),\"\"),6)","v":2.103E-2},{"$f":"ROUND(IFERROR((1/'IS Rates'!N46),\"\"),6)","v":0.66003599999999996},{"$f":"ROUND(IFERROR((1/'IS Rates'!O46),\"\"),6)","v":2.9236999999999999E-2},{"$f":"ROUND(IFERROR((1/'IS Rates'!P46),\"\"),6)","v":2.8202999999999999E-2},{"$f":"ROUND(IFERROR((1/'IS Rates'!Q46),\"\"),6)","v":0.60208700000000004},{"$f":"ROUND(IFERROR((1/'IS Rates'!R46),\"\"),6)","v":0.46467999999999998},{"$f":"IFERROR((1/'IS Rates'!S46),\"\")","v":""},{"$f":"IFERROR((1/'IS Rates'!T46),\"\")","v":""},{"$f":"IFERROR((1/'IS Rates'!U46),\"\")","v":""},{"$f":"IFERROR((1/'IS Rates'!V46),\"\")","v":""},{"$f":"IFERROR((1/'IS Rates'!W46),\"\")","v":""},{"$f":"IFERROR((1/'IS Rates'!X46),\"\")","v":""},{"$f":"IFERROR((1/'IS Rates'!Y46),\"\")","v":""},{"$f":"IFERROR((1/'IS Rates'!Z46),\"\")","v":""},{"$f":"IFERROR((1/'IS Rates'!AA46),\"\")","v":""},{"$f":"IFERROR((1/'IS Rates'!AB46),\"\")","v":""},{"$f":"IFERROR((1/'IS Rates'!AC46),\"\")","v":""},{"$f":"IFERROR((1/'IS Rates'!AD46),\"\")","v":""}]
[null,"2009-01-08",{"$f":"ROUND(IFERROR((1/'IS Rates'!C47),\"\"),6)","v":0.81790200000000002},{"$f":"ROUND(IFERROR((1/'IS Rates'!D47),\"\"),6)","v":0.14604900000000001},{"$f":"ROUND(IFERROR((1/'IS Rates'!E47),\"\"),6)","v":4.3899999999999999E-4},{"$f":"IFERROR((1/'IS Rates'!F47),\"\")","v":1.3362195675993478},{"$f":"IFERROR((1/'IS Rates'!G47),\"\")","v":0.12820512820512822},{"$f":"IFERROR((1/'IS Rates'!H47),\"\")","v":1.1058304023298521E-2},{"$f":"IFERROR((1/'IS Rates'!I47),\"\")","v":7.387317569915587E-4},{"$f":"IFERROR((1/'IS Rates'!J47),\"\")","v":0.12269200992823745},{"$f":"IFERROR((1/'IS Rates'!K47),\"\")","v":0.27988077079164275},{"$f":"ROUND(IFERROR((1/'IS Rates'!L47),\"\"),6)","v":7.2123999999999994E-2},{"$f":"ROUND(IFERROR((1/'IS Rates'!M47),\"\"),6)","v":2.111E-2},{"$f":"ROUND(IFERROR((1/'IS Rates'!N47),\"\"),6)","v":0.67355900000000002},{"$f":"ROUND(IFERROR((1/'IS Rates'!O47),\"\"),6)","v":2.9998E-2},{"$f":"ROUND(IFERROR((1/'IS Rates'!P47),\"\"),6)","v":2.853E-2},{"$f":"ROUND(IFERROR((1/'IS Rates'!Q47),\"\"),6)","v":0.62581399999999998},{"$f":"ROUND(IFERROR((1/'IS Rates'!R47),\"\"),6)","v":0.464505},{"$f":"IFERROR((1/'IS Rates'!S47),\"\")","v":""},{"$f":"IFERROR((1/'IS Rates'!T47),\"\")","v":""},{"$f":"IFERROR((1/'IS Rates'!U47),\"\")","v":""},{"$f":"IFERROR((1/'IS Rates'!V47),\"\")","v":""},{"$f":"IFERROR((1/'IS Rates'!W47),\"\")","v":""},{"$f":"IFERROR((1/'IS Rates'!X47),\"\")","v":""},{"$f":"IFERROR((1/'IS Rates'!Y47),\"\")","v":""},{"$f":"IFERROR((1/'IS Rates'!Z47),\"\")","v":""},{"$f":"IFERROR((1/'IS Rates'!AA47),\"\")","v":""},{"$f":"IFERROR((1/'IS Rates'!AB47),\"\")","v":""},{"$f":"IFERROR((1/'IS Rates'!AC47),\"\")","v":""},{"$f":"IFERROR((1/'IS Rates'!AD47),\"\")","v":""}]
[{"$f":"A36-1","v":2008},"2008-12-04",{"$f":"ROUND(IFERROR((1/'IS Rates'!C48),\"\"),6)","v":0.80904200000000004},{"$f":"ROUND(IFERROR((1/'IS Rates'!D48),\"\"),6)","v":0.14561199999999999},{"$f":"ROUND(IFERROR((1/'IS Rates'!E48),\"\"),6)","v":4.3800000000000002E-4},{"$f":"IFERROR((1/'IS Rates'!F48),\"\")","v":1.3440318266736557},{"$f":"IFERROR((1/'IS Rates'!G48),\"\")","v":0.12820512820512822},{"$f":"IFERROR((1/'IS Rates'!H48),\"\")","v":1.0950237521602081E-2},{"$f":"IFERROR((1/'IS Rates'!I48),\"\")","v":7.2696710501474551E-4},{"$f":"IFERROR((1/'IS Rates'!J48),\"\")","v":0.12290236390406734},{"$f":"IFERROR((1/'IS Rates'!K48),\"\")","v":0.28089019721300745},{"$f":"ROUND(IFERROR((1/'IS Rates'!L48),\"\"),6)","v":7.4315000000000006E-2},{"$f":"ROUND(IFERROR((1/'IS Rates'!M48),\"\"),6)","v":2.0785000000000001E-2},{"$f":"ROUND(IFERROR((1/'IS Rates'!N48),\"\"),6)","v":0.67509200000000003},{"$f":"ROUND(IFERROR((1/'IS Rates'!O48),\"\"),6)","v":3.0158999999999998E-2},{"$f":"ROUND(IFERROR((1/'IS Rates'!P48),\"\"),6)","v":2.8444000000000001E-2},{"$f":"ROUND(IFERROR((1/'IS Rates'!Q48),\"\"),6)","v":0.645374},{"$f":"ROUND(IFERROR((1/'IS Rates'!R48),\"\"),6)","v":0.46445500000000001},{"$f":"IFERROR((1/'IS Rates'!S48),\"\")","v":""},{"$f":"IFERROR((1/'IS Rates'!T48),\"\")","v":""},{"$f":"IFERROR((1/'IS Rates'!U48),\"\")","v":""},{"$f":"IFERROR((1/'IS Rates'!V48),\"\")","v":""},{"$f":"IFERROR((1/'IS Rates'!W48),\"\")","v":""},{"$f":"IFERROR((1/'IS Rates'!X48),\"\")","v":""},{"$f":"IFERROR((1/'IS Rates'!Y48),\"\")","v":""},{"$f":"IFERROR((1/'IS Rates'!Z48),\"\")","v":""},{"$f":"IFERROR((1/'IS Rates'!AA48),\"\")","v":""},{"$f":"IFERROR((1/'IS Rates'!AB48),\"\")","v":""},{"$f":"IFERROR((1/'IS Rates'!AC48),\"\")","v":""},{"$f":"IFERROR((1/'IS Rates'!AD48),\"\")","v":""}]
[null,"2008-11-05",{"$f":"ROUND(IFERROR((1/'IS Rates'!C49),\"\"),6)","v":0.81970600000000005},{"$f":"ROUND(IFERROR((1/'IS Rates'!D49),\"\"),6)","v":0.14615800000000001},{"$f":"ROUND(IFERROR((1/'IS Rates'!E49),\"\"),6)","v":4.2299999999999998E-4},{"$f":"IFERROR((1/'IS Rates'!F49),\"\")","v":1.2684882157444757},{"$f":"IFERROR((1/'IS Rates'!G49),\"\")","v":0.12820512820512822},{"$f":"IFERROR((1/'IS Rates'!H49),\"\")","v":1.0276396002153111E-2},{"$f":"IFERROR((1/'IS Rates'!I49),\"\")","v":7.2248030784192335E-4},{"$f":"IFERROR((1/'IS Rates'!J49),\"\")","v":0.12254721744288076},{"$f":"IFERROR((1/'IS Rates'!K49),\"\")","v":0.2781896530140458},{"$f":"ROUND(IFERROR((1/'IS Rates'!L49),\"\"),6)","v":7.6301999999999995E-2},{"$f":"ROUND(IFERROR((1/'IS Rates'!M49),\"\"),6)","v":2.0271999999999998E-2},{"$f":"ROUND(IFERROR((1/'IS Rates'!N49),\"\"),6)","v":0.66398400000000002},{"$f":"ROUND(IFERROR((1/'IS Rates'!O49),\"\"),6)","v":3.0217999999999998E-2},{"$f":"ROUND(IFERROR((1/'IS Rates'!P49),\"\"),6)","v":2.8431000000000001E-2},{"$f":"ROUND(IFERROR((1/'IS Rates'!Q49),\"\"),6)","v":0.62453899999999996},{"$f":"ROUND(IFERROR((1/'IS Rates'!R49),\"\"),6)","v":0.46448299999999998},{"$f":"IFERROR((1/'IS Rates'!S49),\"\")","v":""},{"$f":"IFERROR((1/'IS Rates'!T49),\"\")","v":""},{"$f":"IFERROR((1/'IS Rates'!U49),\"\")","v":""},{"$f":"IFERROR((1/'IS Rates'!V49),\"\")","v":""},{"$f":"IFERROR((1/'IS Rates'!W49),\"\")","v":""},{"$f":"IFERROR((1/'IS Rates'!X49),\"\")","v":""},{"$f":"IFERROR((1/'IS Rates'!Y49),\"\")","v":""},{"$f":"IFERROR((1/'IS Rates'!Z49),\"\")","v":""},{"$f":"IFERROR((1/'IS Rates'!AA49),\"\")","v":""},{"$f":"IFERROR((1/'IS Rates'!AB49),\"\")","v":""},{"$f":"IFERROR((1/'IS Rates'!AC49),\"\")","v":""},{"$f":"IFERROR((1/'IS Rates'!AD49),\"\")","v":""}]
[null,"2008-10-06",{"$f":"ROUND(IFERROR((1/'IS Rates'!C50),\"\"),6)","v":0.85275500000000004},{"$f":"ROUND(IFERROR((1/'IS Rates'!D50),\"\"),6)","v":0.145978},{"$f":"ROUND(IFERROR((1/'IS Rates'!E50),\"\"),6)","v":4.3399999999999998E-4},{"$f":"IFERROR((1/'IS Rates'!F50),\"\")","v":1.3344186605105486},{"$f":"IFERROR((1/'IS Rates'!G50),\"\")","v":0.12820512820512822},{"$f":"IFERROR((1/'IS Rates'!H50),\"\")","v":9.9509121503622618E-3},{"$f":"IFERROR((1/'IS Rates'!I50),\"\")","v":7.5515453761865008E-4},{"$f":"IFERROR((1/'IS Rates'!J50),\"\")","v":0.12199242914984697},{"$f":"IFERROR((1/'IS Rates'!K50),\"\")","v":0.28349894396643371},{"$f":"ROUND(IFERROR((1/'IS Rates'!L50),\"\"),6)","v":7.9253000000000004E-2},{"$f":"ROUND(IFERROR((1/'IS Rates'!M50),\"\"),6)","v":2.0794E-2},{"$f":"ROUND(IFERROR((1/'IS Rates'!N50),\"\"),6)","v":0.67722199999999999},{"$f":"ROUND(IFERROR((1/'IS Rates'!O50),\"\"),6)","v":3.0596000000000002E-2},{"$f":"ROUND(IFERROR((1/'IS Rates'!P50),\"\"),6)","v":2.8941000000000001E-2},{"$f":"ROUND(IFERROR((1/'IS Rates'!Q50),\"\"),6)","v":0.67972200000000005},{"$f":"ROUND(IFERROR((1/'IS Rates'!R50),\"\"),6)","v":0.46435399999999999},{"$f":"IFERROR((1/'IS Rates'!S50),\"\")","v":""},{"$f":"IFERROR((1/'IS Rates'!T50),\"\")","v":""},{"$f":"IFERROR((1/'IS Rates'!U50),\"\")","v":""},{"$f":"IFERROR((1/'IS Rates'!V50),\"\")","v":""},{"$f":"IFERROR((1/'IS Rates'!W50),\"\")","v":""},{"$f":"IFERROR((1/'IS Rates'!X50),\"\")","v":""},{"$f":"IFERROR((1/'IS Rates'!Y50),\"\")","v":""},{"$f":"IFERROR((1/'IS Rates'!Z50),\"\")","v":""},{"$f":"IFERROR((1/'IS Rates'!AA50),\"\")","v":""},{"$f":"IFERROR((1/'IS Rates'!AB50),\"\")","v":""},{"$f":"IFERROR((1/'IS Rates'!AC50),\"\")","v":""},{"$f":"IFERROR((1/'IS Rates'!AD50),\"\")","v":""}]
[null,"2008-09-07",{"$f":"ROUND(IFERROR((1/'IS Rates'!C51),\"\"),6)","v":0.94625300000000001},{"$f":"ROUND(IFERROR((1/'IS Rates'!D51),\"\"),6)","v":0.145986},{"$f":"ROUND(IFERROR((1/'IS Rates'!E51),\"\"),6)","v":4.7800000000000002E-4},{"$f":"IFERROR((1/'IS Rates'!F51),\"\")","v":1.4390559792775939},{"$f":"IFERROR((1/'IS Rates'!G51),\"\")","v":0.12820512820512822},{"$f":"IFERROR((1/'IS Rates'!H51),\"\")","v":9.3488061060418241E-3},{"$f":"IFERROR((1/'IS Rates'!I51),\"\")","v":8.8333838308442335E-4},{"$f":"IFERROR((1/'IS Rates'!J51),\"\")","v":0.12234615888116886},{"$f":"IFERROR((1/'IS Rates'!K51),\"\")","v":0.28978535598682059},{"$f":"ROUND(IFERROR((1/'IS Rates'!L51),\"\"),6)","v":9.4208E-2},{"$f":"ROUND(IFERROR((1/'IS Rates'!M51),\"\"),6)","v":2.1361999999999999E-2},{"$f":"ROUND(IFERROR((1/'IS Rates'!N51),\"\"),6)","v":0.69938400000000001},{"$f":"ROUND(IFERROR((1/'IS Rates'!O51),\"\"),6)","v":3.1252000000000002E-2},{"$f":"ROUND(IFERROR((1/'IS Rates'!P51),\"\"),6)","v":2.9062000000000001E-2},{"$f":"ROUND(IFERROR((1/'IS Rates'!Q51),\"\"),6)","v":0.806172},{"$f":"ROUND(IFERROR((1/'IS Rates'!R51),\"\"),6)","v":0.46442099999999997},{"$f":"IFERROR((1/'IS Rates'!S51),\"\")","v":""},{"$f":"IFERROR((1/'IS Rates'!T51),\"\")","v":""},{"$f":"IFERROR((1/'IS Rates'!U51),\"\")","v":""},{"$f":"IFERROR((1/'IS Rates'!V51),\"\")","v":""},{"$f":"IFERROR((1/'IS Rates'!W51),\"\")","v":""},{"$f":"IFERROR((1/'IS Rates'!X51),\"\")","v":""},{"$f":"IFERROR((1/'IS Rates'!Y51),\"\")","v":""},{"$f":"IFERROR((1/'IS Rates'!Z51),\"\")","v":""},{"$f":"IFERROR((1/'IS Rates'!AA51),\"\")","v":""},{"$f":"IFERROR((1/'IS Rates'!AB51),\"\")","v":""},{"$f":"IFERROR((1/'IS Rates'!AC51),\"\")","v":""},{"$f":"IFERROR((1/'IS Rates'!AD51),\"\")","v":""}]
[null,"2008-08-08",{"$f":"ROUND(IFERROR((1/'IS Rates'!C52),\"\"),6)","v":0.95125800000000005},{"$f":"ROUND(IFERROR((1/'IS Rates'!D52),\"\"),6)","v":0.14572299999999999},{"$f":"ROUND(IFERROR((1/'IS Rates'!E52),\"\"),6)","v":5.3600000000000002E-4},{"$f":"IFERROR((1/'IS Rates'!F52),\"\")","v":1.5007804058110217},{"$f":"IFERROR((1/'IS Rates'!G52),\"\")","v":0.12820512820512822},{"$f":"IFERROR((1/'IS Rates'!H52),\"\")","v":9.1419059667209018E-3},{"$f":"IFERROR((1/'IS Rates'!I52),\"\")","v":9.5749198074135096E-4},{"$f":"IFERROR((1/'IS Rates'!J52),\"\")","v":0.12214247675628667},{"$f":"IFERROR((1/'IS Rates'!K52),\"\")","v":0.30075911600880623},{"$f":"ROUND(IFERROR((1/'IS Rates'!L52),\"\"),6)","v":9.8987000000000006E-2},{"$f":"ROUND(IFERROR((1/'IS Rates'!M52),\"\"),6)","v":2.2221000000000001E-2},{"$f":"ROUND(IFERROR((1/'IS Rates'!N52),\"\"),6)","v":0.71322600000000003},{"$f":"ROUND(IFERROR((1/'IS Rates'!O52),\"\"),6)","v":3.2055E-2},{"$f":"ROUND(IFERROR((1/'IS Rates'!P52),\"\"),6)","v":2.9433999999999998E-2},{"$f":"ROUND(IFERROR((1/'IS Rates'!Q52),\"\"),6)","v":0.84657499999999997},{"$f":"ROUND(IFERROR((1/'IS Rates'!R52),\"\"),6)","v":0.46463900000000002},{"$f":"IFERROR((1/'IS Rates'!S52),\"\")","v":""},{"$f":"IFERROR((1/'IS Rates'!T52),\"\")","v":""},{"$f":"IFERROR((1/'IS Rates'!U52),\"\")","v":""},{"$f":"IFERROR((1/'IS Rates'!V52),\"\")","v":""},{"$f":"IFERROR((1/'IS Rates'!W52),\"\")","v":""},{"$f":"IFERROR((1/'IS Rates'!X52),\"\")","v":""},{"$f":"IFERROR((1/'IS Rates'!Y52),\"\")","v":""},{"$f":"IFERROR((1/'IS Rates'!Z52),\"\")","v":""},{"$f":"IFERROR((1/'IS Rates'!AA52),\"\")","v":""},{"$f":"IFERROR((1/'IS Rates'!AB52),\"\")","v":""},{"$f":"IFERROR((1/'IS Rates'!AC52),\"\")","v":""},{"$f":"IFERROR((1/'IS Rates'!AD52),\"\")","v":""}]
[null,"2008-07-08",{"$f":"ROUND(IFERROR((1/'IS Rates'!C53),\"\"),6)","v":0.98706899999999997},{"$f":"ROUND(IFERROR((1/'IS Rates'!D53),\"\"),6)","v":0.146039},{"$f":"IFERROR((1/'IS Rates'!E53),\"\")","v":5.5459088476529248E-4},{"$f":"IFERROR((1/'IS Rates'!F53),\"\")","v":1.5779590677417827},{"$f":"IFERROR((1/'IS Rates'!G53),\"\")","v":0.12820512820512822},{"$f":"IFERROR((1/'IS Rates'!H53),\"\")","v":9.3638421042725618E-3},{"$f":"IFERROR((1/'IS Rates'!I53),\"\")","v":9.79270114925476E-4},{"$f":"IFERROR((1/'IS Rates'!J53),\"\")","v":0.12231637865236705},{"$f":"IFERROR((1/'IS Rates'!K53),\"\")","v":0.30701592798634397},{"$f":"IFERROR((1/'IS Rates'!L53),\"\")","v":""},{"$f":"ROUND(IFERROR((1/'IS Rates'!M53),\"\"),6)","v":2.2232999999999999E-2},{"$f":"ROUND(IFERROR((1/'IS Rates'!N53),\"\"),6)","v":0.73591600000000001},{"$f":"ROUND(IFERROR((1/'IS Rates'!O53),\"\"),6)","v":3.2883000000000003E-2},{"$f":"ROUND(IFERROR((1/'IS Rates'!P53),\"\"),6)","v":2.9742999999999999E-2},{"$f":"ROUND(IFERROR((1/'IS Rates'!Q53),\"\"),6)","v":0.82160500000000003},{"$f":"ROUND(IFERROR((1/'IS Rates'!R53),\"\"),6)","v":0.46464100000000003},{"$f":"IFERROR((1/'IS Rates'!S53),\"\")","v":""},{"$f":"IFERROR((1/'IS Rates'!T53),\"\")","v":""},{"$f":"IFERROR((1/'IS Rates'!U53),\"\")","v":""},{"$f":"IFERROR((1/'IS Rates'!V53),\"\")","v":""},{"$f":"IFERROR((1/'IS Rates'!W53),\"\")","v":""},{"$f":"IFERROR((1/'IS Rates'!X53),\"\")","v":""},{"$f":"IFERROR((1/'IS Rates'!Y53),\"\")","v":""},{"$f":"IFERROR((1/'IS Rates'!Z53),\"\")","v":""},{"$f":"IFERROR((1/'IS Rates'!AA53),\"\")","v":""},{"$f":"IFERROR((1/'IS Rates'!AB53),\"\")","v":""},{"$f":"IFERROR((1/'IS Rates'!AC53),\"\")","v":""},{"$f":"IFERROR((1/'IS Rates'!AD53),\"\")","v":""}]
[null,"2008-06-08",{"$f":"ROUND(IFERROR((1/'IS Rates'!C54),\"\"),6)","v":0.98458100000000004},{"$f":"ROUND(IFERROR((1/'IS Rates'!D54),\"\"),6)","v":0.14469000000000001},{"$f":"IFERROR((1/'IS Rates'!E54),\"\")","v":5.723773015241211E-4},{"$f":"IFERROR((1/'IS Rates'!F54),\"\")","v":1.5569291130174843},{"$f":"IFERROR((1/'IS Rates'!G54),\"\")","v":0.12820512820512822},{"$f":"IFERROR((1/'IS Rates'!H54),\"\")","v":9.3652662690361915E-3},{"$f":"IFERROR((1/'IS Rates'!I54),\"\")","v":9.6751753383650689E-4},{"$f":"IFERROR((1/'IS Rates'!J54),\"\")","v":0.12252889844069725},{"$f":"IFERROR((1/'IS Rates'!K54),\"\")","v":0.30652938237394745},{"$f":"IFERROR((1/'IS Rates'!L54),\"\")","v":""},{"$f":"ROUND(IFERROR((1/'IS Rates'!M54),\"\"),6)","v":2.2497E-2},{"$f":"ROUND(IFERROR((1/'IS Rates'!N54),\"\"),6)","v":0.73091399999999995},{"$f":"ROUND(IFERROR((1/'IS Rates'!O54),\"\"),6)","v":3.2911999999999997E-2},{"$f":"ROUND(IFERROR((1/'IS Rates'!P54),\"\"),6)","v":3.0013999999999999E-2},{"$f":"ROUND(IFERROR((1/'IS Rates'!Q54),\"\"),6)","v":0.80793099999999995},{"$f":"ROUND(IFERROR((1/'IS Rates'!R54),\"\"),6)","v":0.46465200000000001},{"$f":"IFERROR((1/'IS Rates'!S54),\"\")","v":""},{"$f":"IFERROR((1/'IS Rates'!T54),\"\")","v":""},{"$f":"IFERROR((1/'IS Rates'!U54),\"\")","v":""},{"$f":"IFERROR((1/'IS Rates'!V54),\"\")","v":""},{"$f":"IFERROR((1/'IS Rates'!W54),\"\")","v":""},{"$f":"IFERROR((1/'IS Rates'!X54),\"\")","v":""},{"$f":"IFERROR((1/'IS Rates'!Y54),\"\")","v":""},{"$f":"IFERROR((1/'IS Rates'!Z54),\"\")","v":""},{"$f":"IFERROR((1/'IS Rates'!AA54),\"\")","v":""},{"$f":"IFERROR((1/'IS Rates'!AB54),\"\")","v":""},{"$f":"IFERROR((1/'IS Rates'!AC54),\"\")","v":""},{"$f":"IFERROR((1/'IS Rates'!AD54),\"\")","v":""}]
[null,"2008-05-08",{"$f":"ROUND(IFERROR((1/'IS Rates'!C55),\"\"),6)","v":0.99810399999999999},{"$f":"ROUND(IFERROR((1/'IS Rates'!D55),\"\"),6)","v":0.14314499999999999},{"$f":"IFERROR((1/'IS Rates'!E55),\"\")","v":5.5611497632646349E-4},{"$f":"IFERROR((1/'IS Rates'!F55),\"\")","v":1.5559358954411078},{"$f":"IFERROR((1/'IS Rates'!G55),\"\")","v":0.12820512820512822},{"$f":"IFERROR((1/'IS Rates'!H55),\"\")","v":9.6013703075702971E-3},{"$f":"IFERROR((1/'IS Rates'!I55),\"\")","v":9.6461158419414465E-4},{"$f":"IFERROR((1/'IS Rates'!J55),\"\")","v":0.12269035408436188},{"$f":"IFERROR((1/'IS Rates'!K55),\"\")","v":0.31090660365626166},{"$f":"IFERROR((1/'IS Rates'!L55),\"\")","v":""},{"$f":"ROUND(IFERROR((1/'IS Rates'!M55),\"\"),6)","v":2.3283999999999999E-2},{"$f":"ROUND(IFERROR((1/'IS Rates'!N55),\"\"),6)","v":0.73238599999999998},{"$f":"ROUND(IFERROR((1/'IS Rates'!O55),\"\"),6)","v":3.2660000000000002E-2},{"$f":"ROUND(IFERROR((1/'IS Rates'!P55),\"\"),6)","v":3.1031E-2},{"$f":"ROUND(IFERROR((1/'IS Rates'!Q55),\"\"),6)","v":0.79789399999999999},{"$f":"ROUND(IFERROR((1/'IS Rates'!R55),\"\"),6)","v":0.46466200000000002},{"$f":"IFERROR((1/'IS Rates'!S55),\"\")","v":""},{"$f":"IFERROR((1/'IS Rates'!T55),\"\")","v":""},{"$f":"IFERROR((1/'IS Rates'!U55),\"\")","v":""},{"$f":"IFERROR((1/'IS Rates'!V55),\"\")","v":""},{"$f":"IFERROR((1/'IS Rates'!W55),\"\")","v":""},{"$f":"IFERROR((1/'IS Rates'!X55),\"\")","v":""},{"$f":"IFERROR((1/'IS Rates'!Y55),\"\")","v":""},{"$f":"IFERROR((1/'IS Rates'!Z55),\"\")","v":""},{"$f":"IFERROR((1/'IS Rates'!AA55),\"\")","v":""},{"$f":"IFERROR((1/'IS Rates'!AB55),\"\")","v":""},{"$f":"IFERROR((1/'IS Rates'!AC55),\"\")","v":""},{"$f":"IFERROR((1/'IS Rates'!AD55),\"\")","v":""}]
[null,"2008-04-08",{"$f":"ROUND(IFERROR((1/'IS Rates'!C56),\"\"),6)","v":0.985989},{"$f":"ROUND(IFERROR((1/'IS Rates'!D56),\"\"),6)","v":0.14261199999999999},{"$f":"IFERROR((1/'IS Rates'!E56),\"\")","v":5.5112127359144183E-4},{"$f":"IFERROR((1/'IS Rates'!F56),\"\")","v":1.5760441292356187},{"$f":"IFERROR((1/'IS Rates'!G56),\"\")","v":0.12820512820512822},{"$f":"IFERROR((1/'IS Rates'!H56),\"\")","v":9.7595576812305931E-3},{"$f":"IFERROR((1/'IS Rates'!I56),\"\")","v":1.0103128696482212E-3},{"$f":"IFERROR((1/'IS Rates'!J56),\"\")","v":0.12270104259075891},{"$f":"IFERROR((1/'IS Rates'!K56),\"\")","v":0.31592083023994189},{"$f":"IFERROR((1/'IS Rates'!L56),\"\")","v":""},{"$f":"ROUND(IFERROR((1/'IS Rates'!M56),\"\"),6)","v":2.3880999999999999E-2},{"$f":"ROUND(IFERROR((1/'IS Rates'!N56),\"\"),6)","v":0.73252600000000001},{"$f":"ROUND(IFERROR((1/'IS Rates'!O56),\"\"),6)","v":3.2925000000000003E-2},{"$f":"ROUND(IFERROR((1/'IS Rates'!P56),\"\"),6)","v":3.1503999999999997E-2},{"$f":"ROUND(IFERROR((1/'IS Rates'!Q56),\"\"),6)","v":0.76684200000000002},{"$f":"ROUND(IFERROR((1/'IS Rates'!R56),\"\"),6)","v":0.464673},{"$f":"IFERROR((1/'IS Rates'!S56),\"\")","v":""},{"$f":"IFERROR((1/'IS Rates'!T56),\"\")","v":""},{"$f":"IFERROR((1/'IS Rates'!U56),\"\")","v":""},{"$f":"IFERROR((1/'IS Rates'!V56),\"\")","v":""},{"$f":"IFERROR((1/'IS Rates'!W56),\"\")","v":""},{"$f":"IFERROR((1/'IS Rates'!X56),\"\")","v":""},{"$f":"IFERROR((1/'IS Rates'!Y56),\"\")","v":""},{"$f":"IFERROR((1/'IS Rates'!Z56),\"\")","v":""},{"$f":"IFERROR((1/'IS Rates'!AA56),\"\")","v":""},{"$f":"IFERROR((1/'IS Rates'!AB56),\"\")","v":""},{"$f":"IFERROR((1/'IS Rates'!AC56),\"\")","v":""},{"$f":"IFERROR((1/'IS Rates'!AD56),\"\")","v":""}]
[null,"2008-03-08",{"$f":"ROUND(IFERROR((1/'IS Rates'!C57),\"\"),6)","v":1},{"$f":"ROUND(IFERROR((1/'IS Rates'!D57),\"\"),6)","v":0.141044},{"$f":"IFERROR((1/'IS Rates'!E57),\"\")","v":5.3561863952865559E-4},{"$f":"IFERROR((1/'IS Rates'!F57),\"\")","v":1.5384615384615383},{"$f":"IFERROR((1/'IS Rates'!G57),\"\")","v":0.12820512820512822},{"$f":"IFERROR((1/'IS Rates'!H57),\"\")","v":9.9029510794216673E-3},{"$f":"IFERROR((1/'IS Rates'!I57),\"\")","v":1.019523882346944E-3},{"$f":"IFERROR((1/'IS Rates'!J57),\"\")","v":0.12285012285012284},{"$f":"IFERROR((1/'IS Rates'!K57),\"\")","v":0.31446540880503143},{"$f":"IFERROR((1/'IS Rates'!L57),\"\")","v":""},{"$f":"ROUND(IFERROR((1/'IS Rates'!M57),\"\"),6)","v":2.4184000000000001E-2},{"$f":"ROUND(IFERROR((1/'IS Rates'!N57),\"\"),6)","v":0.71942399999999995},{"$f":"ROUND(IFERROR((1/'IS Rates'!O57),\"\"),6)","v":3.2648000000000003E-2},{"$f":"ROUND(IFERROR((1/'IS Rates'!P57),\"\"),6)","v":3.1666E-2},{"$f":"IFERROR((1/'IS Rates'!Q57),\"\")","v":""},{"$f":"ROUND(IFERROR((1/'IS Rates'!R57),\"\"),6)","v":0.46511599999999997},{"$f":"IFERROR((1/'IS Rates'!S57),\"\")","v":""},{"$f":"IFERROR((1/'IS Rates'!T57),\"\")","v":""},{"$f":"IFERROR((1/'IS Rates'!U57),\"\")","v":""},{"$f":"IFERROR((1/'IS Rates'!V57),\"\")","v":""},{"$f":"IFERROR((1/'IS Rates'!W57),\"\")","v":""},{"$f":"IFERROR((1/'IS Rates'!X57),\"\")","v":""},{"$f":"IFERROR((1/'IS Rates'!Y57),\"\")","v":""},{"$f":"IFERROR((1/'IS Rates'!Z57),\"\")","v":""},{"$f":"IFERROR((1/'IS Rates'!AA57),\"\")","v":""},{"$f":"IFERROR((1/'IS Rates'!AB57),\"\")","v":""},{"$f":"IFERROR((1/'IS Rates'!AC57),\"\")","v":""},{"$f":"IFERROR((1/'IS Rates'!AD57),\"\")","v":""}]
[null,"2008-02-08",{"$f":"ROUND(IFERROR((1/'IS Rates'!C58),\"\"),6)","v":1},{"$f":"ROUND(IFERROR((1/'IS Rates'!D58),\"\"),6)","v":0.13927600000000001},{"$f":"IFERROR((1/'IS Rates'!E58),\"\")","v":5.1722086882761541E-4},{"$f":"IFERROR((1/'IS Rates'!F58),\"\")","v":1.4705882352941175},{"$f":"IFERROR((1/'IS Rates'!G58),\"\")","v":0.12820512820512822},{"$f":"IFERROR((1/'IS Rates'!H58),\"\")","v":9.3231400335633038E-3},{"$f":"IFERROR((1/'IS Rates'!I58),\"\")","v":1.0576526457180932E-3},{"$f":"IFERROR((1/'IS Rates'!J58),\"\")","v":0.12239902080783353},{"$f":"IFERROR((1/'IS Rates'!K58),\"\")","v":0.30959752321981426},{"$f":"IFERROR((1/'IS Rates'!L58),\"\")","v":""},{"$f":"ROUND(IFERROR((1/'IS Rates'!M58),\"\"),6)","v":2.4545999999999998E-2},{"$f":"ROUND(IFERROR((1/'IS Rates'!N58),\"\"),6)","v":0.70921999999999996},{"$f":"ROUND(IFERROR((1/'IS Rates'!O58),\"\"),6)","v":3.1536000000000002E-2},{"$f":"ROUND(IFERROR((1/'IS Rates'!P58),\"\"),6)","v":3.0544000000000002E-2},{"$f":"IFERROR((1/'IS Rates'!Q58),\"\")","v":""},{"$f":"ROUND(IFERROR((1/'IS Rates'!R58),\"\"),6)","v":0.46511599999999997},{"$f":"IFERROR((1/'IS Rates'!S58),\"\")","v":""},{"$f":"IFERROR((1/'IS Rates'!T58),\"\")","v":""},{"$f":"IFERROR((1/'IS Rates'!U58),\"\")","v":""},{"$f":"IFERROR((1/'IS Rates'!V58),\"\")","v":""},{"$f":"IFERROR((1/'IS Rates'!W58),\"\")","v":""},{"$f":"IFERROR((1/'IS Rates'!X58),\"\")","v":""},{"$f":"IFERROR((1/'IS Rates'!Y58),\"\")","v":""},{"$f":"IFERROR((1/'IS Rates'!Z58),\"\")","v":""},{"$f":"IFERROR((1/'IS Rates'!AA58),\"\")","v":""},{"$f":"IFERROR((1/'IS Rates'!AB58),\"\")","v":""},{"$f":"IFERROR((1/'IS Rates'!AC58),\"\")","v":""},{"$f":"IFERROR((1/'IS Rates'!AD58),\"\")","v":""}]
[null,"2008-01-08",{"$f":"ROUND(IFERROR((1/'IS Rates'!C59),\"\"),6)","v":0.99009899999999995},{"$f":"ROUND(IFERROR((1/'IS Rates'!D59),\"\"),6)","v":0.137741},{"$f":"IFERROR((1/'IS Rates'!E59),\"\")","v":4.9691416304747515E-4},{"$f":"IFERROR((1/'IS Rates'!F59),\"\")","v":1.4705882352941175},{"$f":"IFERROR((1/'IS Rates'!G59),\"\")","v":0.12820512820512822},{"$f":"IFERROR((1/'IS Rates'!H59),\"\")","v":9.2464170134073046E-3},{"$f":"IFERROR((1/'IS Rates'!I59),\"\")","v":1.0591761727728173E-3},{"$f":"IFERROR((1/'IS Rates'!J59),\"\")","v":0.12224938875305624},{"$f":"IFERROR((1/'IS Rates'!K59),\"\")","v":0.3048780487804878},{"$f":"IFERROR((1/'IS Rates'!L59),\"\")","v":""},{"$f":"ROUND(IFERROR((1/'IS Rates'!M59),\"\"),6)","v":2.4396000000000001E-2},{"$f":"ROUND(IFERROR((1/'IS Rates'!N59),\"\"),6)","v":0.69930099999999995},{"$f":"ROUND(IFERROR((1/'IS Rates'!O59),\"\"),6)","v":3.0873999999999999E-2},{"$f":"ROUND(IFERROR((1/'IS Rates'!P59),\"\"),6)","v":3.0020999999999999E-2},{"$f":"IFERROR((1/'IS Rates'!Q59),\"\")","v":""},{"$f":"ROUND(IFERROR((1/'IS Rates'!R59),\"\"),6)","v":0.46511599999999997},1.1418999999999999,{"$f":"IFERROR((1/'IS Rates'!T59),\"\")","v":""},{"$f":"IFERROR((1/'IS Rates'!U59),\"\")","v":""},{"$f":"IFERROR((1/'IS Rates'!V59),\"\")","v":""},{"$f":"IFERROR((1/'IS Rates'!W59),\"\")","v":""},{"$f":"IFERROR((1/'IS Rates'!X59),\"\")","v":""},{"$f":"IFERROR((1/'IS Rates'!Y59),\"\")","v":""},{"$f":"IFERROR((1/'IS Rates'!Z59),\"\")","v":""},{"$f":"IFERROR((1/'IS Rates'!AA59),\"\")","v":""},{"$f":"IFERROR((1/'IS Rates'!AB59),\"\")","v":""},{"$f":"IFERROR((1/'IS Rates'!AC59),\"\")","v":""},{"$f":"IFERROR((1/'IS Rates'!AD59),\"\")","v":""}]
[{"$f":"A48-1","v":2007},"2007-12-07",{"$f":"ROUND(IFERROR((1/'IS Rates'!C60),\"\"),6)","v":1.020408},{"$f":"ROUND(IFERROR((1/'IS Rates'!D60),\"\"),6)","v":0.13550100000000001},{"$f":"IFERROR((1/'IS Rates'!E60),\"\")","v":4.8896647156904452E-4},{"$f":"IFERROR((1/'IS Rates'!F60),\"\")","v":1.4492753623188408},{"$f":"IFERROR((1/'IS Rates'!G60),\"\")","v":0.12820512820512822},{"$f":"IFERROR((1/'IS Rates'!H60),\"\")","v":8.8944231966556972E-3},{"$f":"IFERROR((1/'IS Rates'!I60),\"\")","v":1.0726736390453205E-3},{"$f":"IFERROR((1/'IS Rates'!J60),\"\")","v":0.12239902080783353},{"$f":"IFERROR((1/'IS Rates'!K60),\"\")","v":0.29850746268656714},{"$f":"IFERROR((1/'IS Rates'!L60),\"\")","v":""},{"$f":"ROUND(IFERROR((1/'IS Rates'!M60),\"\"),6)","v":2.3975E-2},{"$f":"ROUND(IFERROR((1/'IS Rates'!N60),\"\"),6)","v":0.68965500000000002},{"$f":"ROUND(IFERROR((1/'IS Rates'!O60),\"\"),6)","v":3.0845000000000001E-2},{"$f":"ROUND(IFERROR((1/'IS Rates'!P60),\"\"),6)","v":2.963E-2},{"$f":"IFERROR((1/'IS Rates'!Q60),\"\")","v":""},{"$f":"ROUND(IFERROR((1/'IS Rates'!R60),\"\"),6)","v":0.46535399999999999},{"$f":"IFERROR((1/'IS Rates'!S60),\"\")","v":""},{"$f":"IFERROR((1/'IS Rates'!T60),\"\")","v":""},{"$f":"IFERROR((1/'IS Rates'!U60),\"\")","v":""},{"$f":"IFERROR((1/'IS Rates'!V60),\"\")","v":""},{"$f":"IFERROR((1/'IS Rates'!W60),\"\")","v":""},{"$f":"IFERROR((1/'IS Rates'!X60),\"\")","v":""},{"$f":"IFERROR((1/'IS Rates'!Y60),\"\")","v":""},{"$f":"IFERROR((1/'IS Rates'!Z60),\"\")","v":""},{"$f":"IFERROR((1/'IS Rates'!AA60),\"\")","v":""},{"$f":"IFERROR((1/'IS Rates'!AB60),\"\")","v":""},{"$f":"IFERROR((1/'IS Rates'!AC60),\"\")","v":""},{"$f":"IFERROR((1/'IS Rates'!AD60),\"\")","v":""}]
[null,"2007-11-08",{"$f":"ROUND(IFERROR((1/'IS Rates'!C61),\"\"),6)","v":1.0416669999999999},{"$f":"ROUND(IFERROR((1/'IS Rates'!D61),\"\"),6)","v":0.13458999999999999},{"$f":"IFERROR((1/'IS Rates'!E61),\"\")","v":4.8374378993909663E-4},{"$f":"IFERROR((1/'IS Rates'!F61),\"\")","v":1.4705882352941175},{"$f":"IFERROR((1/'IS Rates'!G61),\"\")","v":0.12820512820512822},{"$f":"IFERROR((1/'IS Rates'!H61),\"\")","v":8.988764044943821E-3},{"$f":"IFERROR((1/'IS Rates'!I61),\"\")","v":1.0898707413300782E-3},{"$f":"IFERROR((1/'IS Rates'!J61),\"\")","v":0.12285012285012284},{"$f":"IFERROR((1/'IS Rates'!K61),\"\")","v":0.29761904761904762},{"$f":"IFERROR((1/'IS Rates'!L61),\"\")","v":""},{"$f":"ROUND(IFERROR((1/'IS Rates'!M61),\"\"),6)","v":2.3116000000000001E-2},{"$f":"ROUND(IFERROR((1/'IS Rates'!N61),\"\"),6)","v":0.68965500000000002},{"$f":"ROUND(IFERROR((1/'IS Rates'!O61),\"\"),6)","v":3.0911999999999999E-2},{"$f":"ROUND(IFERROR((1/'IS Rates'!P61),\"\"),6)","v":2.9541999999999999E-2},{"$f":"IFERROR((1/'IS Rates'!Q61),\"\")","v":""},{"$f":"ROUND(IFERROR((1/'IS Rates'!R61),\"\"),6)","v":0.46538499999999999},{"$f":"IFERROR((1/'IS Rates'!S61),\"\")","v":""},{"$f":"IFERROR((1/'IS Rates'!T61),\"\")","v":""},{"$f":"IFERROR((1/'IS Rates'!U61),\"\")","v":""},{"$f":"IFERROR((1/'IS Rates'!V61),\"\")","v":""},{"$f":"IFERROR((1/'IS Rates'!W61),\"\")","v":""},{"$f":"IFERROR((1/'IS Rates'!X61),\"\")","v":""},{"$f":"IFERROR((1/'IS Rates'!Y61),\"\")","v":""},{"$f":"IFERROR((1/'IS Rates'!Z61),\"\")","v":""},{"$f":"IFERROR((1/'IS Rates'!AA61),\"\")","v":""},{"$f":"IFERROR((1/'IS Rates'!AB61),\"\")","v":""},{"$f":"IFERROR((1/'IS Rates'!AC61),\"\")","v":""},{"$f":"IFERROR((1/'IS Rates'!AD61),\"\")","v":""}]
[null,"2007-10-10",{"$f":"ROUND(IFERROR((1/'IS Rates'!C62),\"\"),6)","v":1.020408},{"$f":"ROUND(IFERROR((1/'IS Rates'!D62),\"\"),6)","v":0.133156},{"$f":"IFERROR((1/'IS Rates'!E62),\"\")","v":4.937101329067678E-4},{"$f":"IFERROR((1/'IS Rates'!F62),\"\")","v":1.4285714285714286},{"$f":"IFERROR((1/'IS Rates'!G62),\"\")","v":0.12820512820512822},{"$f":"IFERROR((1/'IS Rates'!H62),\"\")","v":8.6303616121515495E-3},{"$f":"IFERROR((1/'IS Rates'!I62),\"\")","v":1.0911789096940334E-3},{"$f":"IFERROR((1/'IS Rates'!J62),\"\")","v":0.12300123001230011},{"$f":"IFERROR((1/'IS Rates'!K62),\"\")","v":0.29498525073746312},{"$f":"IFERROR((1/'IS Rates'!L62),\"\")","v":""},{"$f":"ROUND(IFERROR((1/'IS Rates'!M62),\"\"),6)","v":2.2547999999999999E-2},{"$f":"ROUND(IFERROR((1/'IS Rates'!N62),\"\"),6)","v":0.68027199999999999},{"$f":"ROUND(IFERROR((1/'IS Rates'!O62),\"\"),6)","v":3.0693999999999999E-2},{"$f":"ROUND(IFERROR((1/'IS Rates'!P62),\"\"),6)","v":2.9412000000000001E-2},{"$f":"IFERROR((1/'IS Rates'!Q62),\"\")","v":""},{"$f":"ROUND(IFERROR((1/'IS Rates'!R62),\"\"),6)","v":0.46535700000000002},{"$f":"IFERROR((1/'IS Rates'!S62),\"\")","v":""},{"$f":"IFERROR((1/'IS Rates'!T62),\"\")","v":""},{"$f":"IFERROR((1/'IS Rates'!U62),\"\")","v":""},{"$f":"IFERROR((1/'IS Rates'!V62),\"\")","v":""},{"$f":"IFERROR((1/'IS Rates'!W62),\"\")","v":""},{"$f":"IFERROR((1/'IS Rates'!X62),\"\")","v":""},{"$f":"IFERROR((1/'IS Rates'!Y62),\"\")","v":""},{"$f":"IFERROR((1/'IS Rates'!Z62),\"\")","v":""},{"$f":"IFERROR((1/'IS Rates'!AA62),\"\")","v":""},{"$f":"IFERROR((1/'IS Rates'!AB62),\"\")","v":""},{"$f":"IFERROR((1/'IS Rates'!AC62),\"\")","v":""},{"$f":"IFERROR((1/'IS Rates'!AD62),\"\")","v":""}]
[null,"2007-09-11",{"$f":"ROUND(IFERROR((1/'IS Rates'!C63),\"\"),6)","v":0.97087400000000001},{"$f":"ROUND(IFERROR((1/'IS Rates'!D63),\"\"),6)","v":0.13262599999999999},{"$f":"IFERROR((1/'IS Rates'!E63),\"\")","v":4.6440778718977556E-4},{"$f":"IFERROR((1/'IS Rates'!F63),\"\")","v":1.3888888888888888},{"$f":"IFERROR((1/'IS Rates'!G63),\"\")","v":0.12820512820512822},{"$f":"IFERROR((1/'IS Rates'!H63),\"\")","v":8.689607229753215E-3},{"$f":"IFERROR((1/'IS Rates'!I63),\"\")","v":1.0735027320644532E-3},{"$f":"IFERROR((1/'IS Rates'!J63),\"\")","v":0.12239902080783353},{"$f":"IFERROR((1/'IS Rates'!K63),\"\")","v":0.28653295128939826},{"$f":"IFERROR((1/'IS Rates'!L63),\"\")","v":""},{"$f":"ROUND(IFERROR((1/'IS Rates'!M63),\"\"),6)","v":2.1617000000000001E-2},{"$f":"ROUND(IFERROR((1/'IS Rates'!N63),\"\"),6)","v":0.65789500000000001},{"$f":"ROUND(IFERROR((1/'IS Rates'!O63),\"\"),6)","v":3.0266000000000001E-2},{"$f":"ROUND(IFERROR((1/'IS Rates'!P63),\"\"),6)","v":2.9180000000000001E-2},{"$f":"IFERROR((1/'IS Rates'!Q63),\"\")","v":""},{"$f":"ROUND(IFERROR((1/'IS Rates'!R63),\"\"),6)","v":0.46537000000000001},{"$f":"IFERROR((1/'IS Rates'!S63),\"\")","v":""},{"$f":"IFERROR((1/'IS Rates'!T63),\"\")","v":""},{"$f":"IFERROR((1/'IS Rates'!U63),\"\")","v":""},{"$f":"IFERROR((1/'IS Rates'!V63),\"\")","v":""},{"$f":"IFERROR((1/'IS Rates'!W63),\"\")","v":""},{"$f":"IFERROR((1/'IS Rates'!X63),\"\")","v":""},{"$f":"IFERROR((1/'IS Rates'!Y63),\"\")","v":""},{"$f":"IFERROR((1/'IS Rates'!Z63),\"\")","v":""},{"$f":"IFERROR((1/'IS Rates'!AA63),\"\")","v":""},{"$f":"IFERROR((1/'IS Rates'!AB63),\"\")","v":""},{"$f":"IFERROR((1/'IS Rates'!AC63),\"\")","v":""},{"$f":"IFERROR((1/'IS Rates'!AD63),\"\")","v":""}]
[null,"2007-08-13",{"$f":"ROUND(IFERROR((1/'IS Rates'!C64),\"\"),6)","v":0.94339600000000001},{"$f":"ROUND(IFERROR((1/'IS Rates'!D64),\"\"),6)","v":0.13192599999999999},{"$f":"IFERROR((1/'IS Rates'!E64),\"\")","v":4.8054743964324158E-4},{"$f":"IFERROR((1/'IS Rates'!F64),\"\")","v":1.3698630136986301},{"$f":"IFERROR((1/'IS Rates'!G64),\"\")","v":0.12820512820512822},{"$f":"IFERROR((1/'IS Rates'!H64),\"\")","v":8.5550517580631358E-3},{"$f":"IFERROR((1/'IS Rates'!I64),\"\")","v":1.0674523115679808E-3},{"$f":"IFERROR((1/'IS Rates'!J64),\"\")","v":0.12224938875305624},{"$f":"IFERROR((1/'IS Rates'!K64),\"\")","v":0.28735632183908044},{"$f":"IFERROR((1/'IS Rates'!L64),\"\")","v":""},{"$f":"ROUND(IFERROR((1/'IS Rates'!M64),\"\"),6)","v":2.1625999999999999E-2},{"$f":"ROUND(IFERROR((1/'IS Rates'!N64),\"\"),6)","v":0.65789500000000001},{"$f":"ROUND(IFERROR((1/'IS Rates'!O64),\"\"),6)","v":3.0339999999999999E-2},{"$f":"ROUND(IFERROR((1/'IS Rates'!P64),\"\"),6)","v":2.9128999999999999E-2},{"$f":"IFERROR((1/'IS Rates'!Q64),\"\")","v":""},{"$f":"ROUND(IFERROR((1/'IS Rates'!R64),\"\"),6)","v":0.46539799999999998},{"$f":"IFERROR((1/'IS Rates'!S64),\"\")","v":""},{"$f":"IFERROR((1/'IS Rates'!T64),\"\")","v":""},{"$f":"IFERROR((1/'IS Rates'!U64),\"\")","v":""},{"$f":"IFERROR((1/'IS Rates'!V64),\"\")","v":""},{"$f":"IFERROR((1/'IS Rates'!W64),\"\")","v":""},{"$f":"IFERROR((1/'IS Rates'!X64),\"\")","v":""},{"$f":"IFERROR((1/'IS Rates'!Y64),\"\")","v":""},{"$f":"IFERROR((1/'IS Rates'!Z64),\"\")","v":""},{"$f":"IFERROR((1/'IS Rates'!AA64),\"\")","v":""},{"$f":"IFERROR((1/'IS Rates'!AB64),\"\")","v":""},{"$f":"IFERROR((1/'IS Rates'!AC64),\"\")","v":""},{"$f":"IFERROR((1/'IS Rates'!AD64),\"\")","v":""}]
[null,"2007-07-15",{"$f":"ROUND(IFERROR((1/'IS Rates'!C65),\"\"),6)","v":0.95238100000000003},{"$f":"ROUND(IFERROR((1/'IS Rates'!D65),\"\"),6)","v":0.13175200000000001},{"$f":"IFERROR((1/'IS Rates'!E65),\"\")","v":5.0421523940139565E-4},{"$f":"IFERROR((1/'IS Rates'!F65),\"\")","v":1.3698630136986301},{"$f":"IFERROR((1/'IS Rates'!G65),\"\")","v":0.12820512820512822},{"$f":"IFERROR((1/'IS Rates'!H65),\"\")","v":8.216251745953496E-3},{"$f":"IFERROR((1/'IS Rates'!I65),\"\")","v":1.0844928369248121E-3},{"$f":"IFERROR((1/'IS Rates'!J65),\"\")","v":0.12254901960784313},{"$f":"IFERROR((1/'IS Rates'!K65),\"\")","v":0.28985507246376813},{"$f":"IFERROR((1/'IS Rates'!L65),\"\")","v":""},{"$f":"ROUND(IFERROR((1/'IS Rates'!M65),\"\"),6)","v":2.1881999999999999E-2},{"$f":"ROUND(IFERROR((1/'IS Rates'!N65),\"\"),6)","v":0.65789500000000001},{"$f":"ROUND(IFERROR((1/'IS Rates'!O65),\"\"),6)","v":2.9568000000000001E-2},{"$f":"ROUND(IFERROR((1/'IS Rates'!P65),\"\"),6)","v":2.9700000000000001E-2},{"$f":"IFERROR((1/'IS Rates'!Q65),\"\")","v":""},{"$f":"ROUND(IFERROR((1/'IS Rates'!R65),\"\"),6)","v":0.46540199999999998},{"$f":"IFERROR((1/'IS Rates'!S65),\"\")","v":""},{"$f":"IFERROR((1/'IS Rates'!T65),\"\")","v":""},{"$f":"IFERROR((1/'IS Rates'!U65),\"\")","v":""},{"$f":"IFERROR((1/'IS Rates'!V65),\"\")","v":""},{"$f":"IFERROR((1/'IS Rates'!W65),\"\")","v":""},{"$f":"IFERROR((1/'IS Rates'!X65),\"\")","v":""},{"$f":"IFERROR((1/'IS Rates'!Y65),\"\")","v":""},{"$f":"IFERROR((1/'IS Rates'!Z65),\"\")","v":""},{"$f":"IFERROR((1/'IS Rates'!AA65),\"\")","v":""},{"$f":"IFERROR((1/'IS Rates'!AB65),\"\")","v":""},{"$f":"IFERROR((1/'IS Rates'!AC65),\"\")","v":""},{"$f":"IFERROR((1/'IS Rates'!AD65),\"\")","v":""}]
[null,"2007-06-16",{"$f":"ROUND(IFERROR((1/'IS Rates'!C66),\"\"),6)","v":0.93457900000000005},{"$f":"ROUND(IFERROR((1/'IS Rates'!D66),\"\"),6)","v":0.13089000000000001},{"$f":"IFERROR((1/'IS Rates'!E66),\"\")","v":5.1297308943172842E-4},{"$f":"IFERROR((1/'IS Rates'!F66),\"\")","v":1.3333333333333333},{"$f":"IFERROR((1/'IS Rates'!G66),\"\")","v":0.12804097311139565},{"$f":"IFERROR((1/'IS Rates'!H66),\"\")","v":8.1539465101108932E-3},{"$f":"IFERROR((1/'IS Rates'!I66),\"\")","v":1.0743561920519128E-3},{"$f":"IFERROR((1/'IS Rates'!J66),\"\")","v":0.12269938650306748},{"$f":"IFERROR((1/'IS Rates'!K66),\"\")","v":0.28985507246376813},{"$f":"IFERROR((1/'IS Rates'!L66),\"\")","v":""},{"$f":"ROUND(IFERROR((1/'IS Rates'!M66),\"\"),6)","v":2.1583999999999999E-2},{"$f":"ROUND(IFERROR((1/'IS Rates'!N66),\"\"),6)","v":0.64935100000000001},{"$f":"ROUND(IFERROR((1/'IS Rates'!O66),\"\"),6)","v":3.0284999999999999E-2},{"$f":"ROUND(IFERROR((1/'IS Rates'!P66),\"\"),6)","v":3.0497E-2},{"$f":"IFERROR((1/'IS Rates'!Q66),\"\")","v":""},{"$f":"ROUND(IFERROR((1/'IS Rates'!R66),\"\"),6)","v":0.46534599999999998},{"$f":"IFERROR((1/'IS Rates'!S66),\"\")","v":""},{"$f":"IFERROR((1/'IS Rates'!T66),\"\")","v":""},{"$f":"IFERROR((1/'IS Rates'!U66),\"\")","v":""},{"$f":"IFERROR((1/'IS Rates'!V66),\"\")","v":""},{"$f":"IFERROR((1/'IS Rates'!W66),\"\")","v":""},{"$f":"IFERROR((1/'IS Rates'!X66),\"\")","v":""},{"$f":"IFERROR((1/'IS Rates'!Y66),\"\")","v":""},{"$f":"IFERROR((1/'IS Rates'!Z66),\"\")","v":""},{"$f":"IFERROR((1/'IS Rates'!AA66),\"\")","v":""},{"$f":"IFERROR((1/'IS Rates'!AB66),\"\")","v":""},{"$f":"IFERROR((1/'IS Rates'!AC66),\"\")","v":""},{"$f":"IFERROR((1/'IS Rates'!AD66),\"\")","v":""}]
[null,"2007-05-18",{"$f":"ROUND(IFERROR((1/'IS Rates'!C67),\"\"),6)","v":0.89285700000000001},{"$f":"ROUND(IFERROR((1/'IS Rates'!D67),\"\"),6)","v":0.130719},{"$f":"IFERROR((1/'IS Rates'!E67),\"\")","v":4.9546648169251353E-4},{"$f":"IFERROR((1/'IS Rates'!F67),\"\")","v":1.3698630136986301},{"$f":"IFERROR((1/'IS Rates'!G67),\"\")","v":0.12820512820512822},{"$f":"IFERROR((1/'IS Rates'!H67),\"\")","v":8.3633018315631014E-3},{"$f":"IFERROR((1/'IS Rates'!I67),\"\")","v":1.0780043982579449E-3},{"$f":"IFERROR((1/'IS Rates'!J67),\"\")","v":0.12903225806451613},{"$f":"IFERROR((1/'IS Rates'!K67),\"\")","v":0.29239766081871343},{"$f":"IFERROR((1/'IS Rates'!L67),\"\")","v":""},{"$f":"ROUND(IFERROR((1/'IS Rates'!M67),\"\"),6)","v":2.1160000000000002E-2},{"$f":"ROUND(IFERROR((1/'IS Rates'!N67),\"\"),6)","v":0.65789500000000001},{"$f":"ROUND(IFERROR((1/'IS Rates'!O67),\"\"),6)","v":3.0075000000000001E-2},{"$f":"ROUND(IFERROR((1/'IS Rates'!P67),\"\"),6)","v":3.0721999999999999E-2},{"$f":"IFERROR((1/'IS Rates'!Q67),\"\")","v":""},{"$f":"ROUND(IFERROR((1/'IS Rates'!R67),\"\"),6)","v":0.46628700000000001},{"$f":"IFERROR((1/'IS Rates'!S67),\"\")","v":""},{"$f":"IFERROR((1/'IS Rates'!T67),\"\")","v":""},{"$f":"IFERROR((1/'IS Rates'!U67),\"\")","v":""},{"$f":"IFERROR((1/'IS Rates'!V67),\"\")","v":""},{"$f":"IFERROR((1/'IS Rates'!W67),\"\")","v":""},{"$f":"IFERROR((1/'IS Rates'!X67),\"\")","v":""},{"$f":"IFERROR((1/'IS Rates'!Y67),\"\")","v":""},{"$f":"IFERROR((1/'IS Rates'!Z67),\"\")","v":""},{"$f":"IFERROR((1/'IS Rates'!AA67),\"\")","v":""},{"$f":"IFERROR((1/'IS Rates'!AB67),\"\")","v":""},{"$f":"IFERROR((1/'IS Rates'!AC67),\"\")","v":""},{"$f":"IFERROR((1/'IS Rates'!AD67),\"\")","v":""}]
[null,"2007-04-19",{"$f":"ROUND(IFERROR((1/'IS Rates'!C68),\"\"),6)","v":0.86206899999999997},{"$f":"ROUND(IFERROR((1/'IS Rates'!D68),\"\"),6)","v":0.130719},{"$f":"IFERROR((1/'IS Rates'!E68),\"\")","v":4.6725260142885846E-4},{"$f":"IFERROR((1/'IS Rates'!F68),\"\")","v":1.3333333333333333},{"$f":"IFERROR((1/'IS Rates'!G68),\"\")","v":0.12820512820512822},{"$f":"IFERROR((1/'IS Rates'!H68),\"\")","v":8.5207907293796872E-3},{"$f":"IFERROR((1/'IS Rates'!I68),\"\")","v":1.0769943242399114E-3},{"$f":"IFERROR((1/'IS Rates'!J68),\"\")","v":0.12903225806451613},{"$f":"IFERROR((1/'IS Rates'!K68),\"\")","v":0.28985507246376813},{"$f":"IFERROR((1/'IS Rates'!L68),\"\")","v":""},{"$f":"ROUND(IFERROR((1/'IS Rates'!M68),\"\"),6)","v":2.0816000000000001E-2},{"$f":"ROUND(IFERROR((1/'IS Rates'!N68),\"\"),6)","v":0.65789500000000001},{"$f":"ROUND(IFERROR((1/'IS Rates'!O68),\"\"),6)","v":3.0238999999999999E-2},{"$f":"ROUND(IFERROR((1/'IS Rates'!P68),\"\"),6)","v":3.1299E-2},{"$f":"IFERROR((1/'IS Rates'!Q68),\"\")","v":""},{"$f":"ROUND(IFERROR((1/'IS Rates'!R68),\"\"),6)","v":0.46628700000000001},{"$f":"IFERROR((1/'IS Rates'!S68),\"\")","v":""},{"$f":"IFERROR((1/'IS Rates'!T68),\"\")","v":""},{"$f":"IFERROR((1/'IS Rates'!U68),\"\")","v":""},{"$f":"IFERROR((1/'IS Rates'!V68),\"\")","v":""},{"$f":"IFERROR((1/'IS Rates'!W68),\"\")","v":""},{"$f":"IFERROR((1/'IS Rates'!X68),\"\")","v":""},{"$f":"IFERROR((1/'IS Rates'!Y68),\"\")","v":""},{"$f":"IFERROR((1/'IS Rates'!Z68),\"\")","v":""},{"$f":"IFERROR((1/'IS Rates'!AA68),\"\")","v":""},{"$f":"IFERROR((1/'IS Rates'!AB68),\"\")","v":""},{"$f":"IFERROR((1/'IS Rates'!AC68),\"\")","v":""},{"$f":"IFERROR((1/'IS Rates'!AD68),\"\")","v":""}]
[null,"2007-03-21",{"$f":"ROUND(IFERROR((1/'IS Rates'!C69),\"\"),6)","v":0.86206899999999997},{"$f":"ROUND(IFERROR((1/'IS Rates'!D69),\"\"),6)","v":0.124378},{"$f":"IFERROR((1/'IS Rates'!E69),\"\")","v":4.6804208634440412E-4},{"$f":"IFERROR((1/'IS Rates'!F69),\"\")","v":1.3157894736842106},{"$f":"IFERROR((1/'IS Rates'!G69),\"\")","v":0.12820512820512822},{"$f":"IFERROR((1/'IS Rates'!H69),\"\")","v":8.3500334001335996E-3},{"$f":"IFERROR((1/'IS Rates'!I69),\"\")","v":1.0783996549121105E-3},{"$f":"IFERROR((1/'IS Rates'!J69),\"\")","v":0.125},{"$f":"IFERROR((1/'IS Rates'!K69),\"\")","v":0.28653295128939826},{"$f":"IFERROR((1/'IS Rates'!L69),\"\")","v":""},{"$f":"ROUND(IFERROR((1/'IS Rates'!M69),\"\"),6)","v":2.0743000000000001E-2},{"$f":"ROUND(IFERROR((1/'IS Rates'!N69),\"\"),6)","v":0.65359500000000004},{"$f":"ROUND(IFERROR((1/'IS Rates'!O69),\"\"),6)","v":3.0303E-2},{"$f":"ROUND(IFERROR((1/'IS Rates'!P69),\"\"),6)","v":2.9524999999999999E-2},{"$f":"IFERROR((1/'IS Rates'!Q69),\"\")","v":""},{"$f":"ROUND(IFERROR((1/'IS Rates'!R69),\"\"),6)","v":0.46628700000000001},{"$f":"IFERROR((1/'IS Rates'!S69),\"\")","v":""},{"$f":"IFERROR((1/'IS Rates'!T69),\"\")","v":""},{"$f":"IFERROR((1/'IS Rates'!U69),\"\")","v":""},{"$f":"IFERROR((1/'IS Rates'!V69),\"\")","v":""},{"$f":"IFERROR((1/'IS Rates'!W69),\"\")","v":""},{"$f":"IFERROR((1/'IS Rates'!X69),\"\")","v":""},{"$f":"IFERROR((1/'IS Rates'!Y69),\"\")","v":""},{"$f":"IFERROR((1/'IS Rates'!Z69),\"\")","v":""},{"$f":"IFERROR((1/'IS Rates'!AA69),\"\")","v":""},{"$f":"IFERROR((1/'IS Rates'!AB69),\"\")","v":""},{"$f":"IFERROR((1/'IS Rates'!AC69),\"\")","v":""},{"$f":"IFERROR((1/'IS Rates'!AD69),\"\")","v":""}]
[null,"2007-02-20",{"$f":"ROUND(IFERROR((1/'IS Rates'!C70),\"\"),6)","v":0.84745800000000004},{"$f":"ROUND(IFERROR((1/'IS Rates'!D70),\"\"),6)","v":0.124378},{"$f":"IFERROR((1/'IS Rates'!E70),\"\")","v":4.4934328478928053E-4},{"$f":"IFERROR((1/'IS Rates'!F70),\"\")","v":1.2987012987012987},{"$f":"IFERROR((1/'IS Rates'!G70),\"\")","v":0.12820512820512822},{"$f":"IFERROR((1/'IS Rates'!H70),\"\")","v":8.2135523613963042E-3},{"$f":"IFERROR((1/'IS Rates'!I70),\"\")","v":1.0783996549121105E-3},{"$f":"IFERROR((1/'IS Rates'!J70),\"\")","v":0.125},{"$f":"IFERROR((1/'IS Rates'!K70),\"\")","v":0.2857142857142857},{"$f":"IFERROR((1/'IS Rates'!L70),\"\")","v":""},{"$f":"ROUND(IFERROR((1/'IS Rates'!M70),\"\"),6)","v":2.0462000000000001E-2},{"$f":"ROUND(IFERROR((1/'IS Rates'!N70),\"\"),6)","v":0.64935100000000001},{"$f":"ROUND(IFERROR((1/'IS Rates'!O70),\"\"),6)","v":3.0311999999999999E-2},{"$f":"ROUND(IFERROR((1/'IS Rates'!P70),\"\"),6)","v":2.9256999999999998E-2},{"$f":"IFERROR((1/'IS Rates'!Q70),\"\")","v":""},{"$f":"ROUND(IFERROR((1/'IS Rates'!R70),\"\"),6)","v":0.46628700000000001},{"$f":"IFERROR((1/'IS Rates'!S70),\"\")","v":""},{"$f":"IFERROR((1/'IS Rates'!T70),\"\")","v":""},{"$f":"IFERROR((1/'IS Rates'!U70),\"\")","v":""},{"$f":"IFERROR((1/'IS Rates'!V70),\"\")","v":""},{"$f":"IFERROR((1/'IS Rates'!W70),\"\")","v":""},{"$f":"IFERROR((1/'IS Rates'!X70),\"\")","v":""},{"$f":"IFERROR((1/'IS Rates'!Y70),\"\")","v":""},{"$f":"IFERROR((1/'IS Rates'!Z70),\"\")","v":""},{"$f":"IFERROR((1/'IS Rates'!AA70),\"\")","v":""},{"$f":"IFERROR((1/'IS Rates'!AB70),\"\")","v":""},{"$f":"IFERROR((1/'IS Rates'!AC70),\"\")","v":""},{"$f":"IFERROR((1/'IS Rates'!AD70),\"\")","v":""}]
[null,"2007-01-22",{"$f":"ROUND(IFERROR((1/'IS Rates'!C71),\"\"),6)","v":0.86206899999999997},{"$f":"ROUND(IFERROR((1/'IS Rates'!D71),\"\"),6)","v":0.124378},{"$f":"IFERROR((1/'IS Rates'!E71),\"\")","v":4.6450270340573377E-4},{"$f":"IFERROR((1/'IS Rates'!F71),\"\")","v":1.3157894736842106},{"$f":"IFERROR((1/'IS Rates'!G71),\"\")","v":0.12820512820512822},{"$f":"IFERROR((1/'IS Rates'!H71),\"\")","v":8.4182170216348176E-3},{"$f":"IFERROR((1/'IS Rates'!I71),\"\")","v":1.0905006488478861E-3},{"$f":"IFERROR((1/'IS Rates'!J71),\"\")","v":0.125},{"$f":"IFERROR((1/'IS Rates'!K71),\"\")","v":0.28328611898016998},{"$f":"IFERROR((1/'IS Rates'!L71),\"\")","v":""},{"$f":"ROUND(IFERROR((1/'IS Rates'!M71),\"\"),6)","v":2.0416E-2},{"$f":"ROUND(IFERROR((1/'IS Rates'!N71),\"\"),6)","v":0.64935100000000001},{"$f":"ROUND(IFERROR((1/'IS Rates'!O71),\"\"),6)","v":3.0617999999999999E-2},{"$f":"ROUND(IFERROR((1/'IS Rates'!P71),\"\"),6)","v":2.8192999999999999E-2},{"$f":"IFERROR((1/'IS Rates'!Q71),\"\")","v":""},{"$f":"ROUND(IFERROR((1/'IS Rates'!R71),\"\"),6)","v":0.46628700000000001},{"$f":"IFERROR((1/'IS Rates'!S71),\"\")","v":""},{"$f":"IFERROR((1/'IS Rates'!T71),\"\")","v":""},{"$f":"IFERROR((1/'IS Rates'!U71),\"\")","v":""},{"$f":"IFERROR((1/'IS Rates'!V71),\"\")","v":""},{"$f":"IFERROR((1/'IS Rates'!W71),\"\")","v":""},{"$f":"IFERROR((1/'IS Rates'!X71),\"\")","v":""},{"$f":"IFERROR((1/'IS Rates'!Y71),\"\")","v":""},{"$f":"IFERROR((1/'IS Rates'!Z71),\"\")","v":""},{"$f":"IFERROR((1/'IS Rates'!AA71),\"\")","v":""},{"$f":"IFERROR((1/'IS Rates'!AB71),\"\")","v":""},{"$f":"IFERROR((1/'IS Rates'!AC71),\"\")","v":""},{"$f":"IFERROR((1/'IS Rates'!AD71),\"\")","v":""}]
[{"$f":"A60-1","v":2006},"2006-12-06",{"$f":"ROUND(IFERROR((1/'IS Rates'!C72),\"\"),6)","v":0.88495599999999996},{"$f":"ROUND(IFERROR((1/'IS Rates'!D72),\"\"),6)","v":0.124378},{"$f":"IFERROR((1/'IS Rates'!E72),\"\")","v":4.2940201475425322E-4},{"$f":"IFERROR((1/'IS Rates'!F72),\"\")","v":1.3157894736842106},{"$f":"IFERROR((1/'IS Rates'!G72),\"\")","v":0.12820512820512822},{"$f":"IFERROR((1/'IS Rates'!H72),\"\")","v":8.6154906521926436E-3},{"$f":"IFERROR((1/'IS Rates'!I72),\"\")","v":1.0590976488032196E-3},{"$f":"IFERROR((1/'IS Rates'!J72),\"\")","v":0.125},{"$f":"IFERROR((1/'IS Rates'!K72),\"\")","v":0.27472527472527469},{"$f":"IFERROR((1/'IS Rates'!L72),\"\")","v":""},{"$f":"ROUND(IFERROR((1/'IS Rates'!M72),\"\"),6)","v":2.0060000000000001E-2},{"$f":"ROUND(IFERROR((1/'IS Rates'!N72),\"\"),6)","v":0.64516099999999998},{"$f":"ROUND(IFERROR((1/'IS Rates'!O72),\"\"),6)","v":3.0741000000000001E-2},{"$f":"ROUND(IFERROR((1/'IS Rates'!P72),\"\"),6)","v":2.7663E-2},{"$f":"IFERROR((1/'IS Rates'!Q72),\"\")","v":""},{"$f":"ROUND(IFERROR((1/'IS Rates'!R72),\"\"),6)","v":0.46628700000000001},{"$f":"IFERROR((1/'IS Rates'!S72),\"\")","v":""},{"$f":"IFERROR((1/'IS Rates'!T72),\"\")","v":""},{"$f":"IFERROR((1/'IS Rates'!U72),\"\")","v":""},{"$f":"IFERROR((1/'IS Rates'!V72),\"\")","v":""},{"$f":"IFERROR((1/'IS Rates'!W72),\"\")","v":""},{"$f":"IFERROR((1/'IS Rates'!X72),\"\")","v":""},{"$f":"IFERROR((1/'IS Rates'!Y72),\"\")","v":""},{"$f":"IFERROR((1/'IS Rates'!Z72),\"\")","v":""},{"$f":"IFERROR((1/'IS Rates'!AA72),\"\")","v":""},{"$f":"IFERROR((1/'IS Rates'!AB72),\"\")","v":""},{"$f":"IFERROR((1/'IS Rates'!AC72),\"\")","v":""},{"$f":"IFERROR((1/'IS Rates'!AD72),\"\")","v":""}]
[null,"2006-11-06",{"$f":"ROUND(IFERROR((1/'IS Rates'!C73),\"\"),6)","v":0.89285700000000001},{"$f":"ROUND(IFERROR((1/'IS Rates'!D73),\"\"),6)","v":0.124378},{"$f":"IFERROR((1/'IS Rates'!E73),\"\")","v":4.1400667378758147E-4},{"$f":"IFERROR((1/'IS Rates'!F73),\"\")","v":1.2658227848101264},{"$f":"IFERROR((1/'IS Rates'!G73),\"\")","v":0.12820512820512822},{"$f":"IFERROR((1/'IS Rates'!H73),\"\")","v":8.5142613878246062E-3},{"$f":"IFERROR((1/'IS Rates'!I73),\"\")","v":1.0448010698762957E-3},{"$f":"IFERROR((1/'IS Rates'!J73),\"\")","v":0.125},{"$f":"IFERROR((1/'IS Rates'!K73),\"\")","v":0.27397260273972601},{"$f":"IFERROR((1/'IS Rates'!L73),\"\")","v":""},{"$f":"ROUND(IFERROR((1/'IS Rates'!M73),\"\"),6)","v":2.0015999999999999E-2},{"$f":"ROUND(IFERROR((1/'IS Rates'!N73),\"\"),6)","v":0.64102599999999998},{"$f":"ROUND(IFERROR((1/'IS Rates'!O73),\"\"),6)","v":3.0075000000000001E-2},{"$f":"ROUND(IFERROR((1/'IS Rates'!P73),\"\"),6)","v":2.7181E-2},{"$f":"IFERROR((1/'IS Rates'!Q73),\"\")","v":""},{"$f":"ROUND(IFERROR((1/'IS Rates'!R73),\"\"),6)","v":0.46628700000000001},{"$f":"IFERROR((1/'IS Rates'!S73),\"\")","v":""},{"$f":"IFERROR((1/'IS Rates'!T73),\"\")","v":""},{"$f":"IFERROR((1/'IS Rates'!U73),\"\")","v":""},{"$f":"IFERROR((1/'IS Rates'!V73),\"\")","v":""},{"$f":"IFERROR((1/'IS Rates'!W73),\"\")","v":""},{"$f":"IFERROR((1/'IS Rates'!X73),\"\")","v":""},{"$f":"IFERROR((1/'IS Rates'!Y73),\"\")","v":""},{"$f":"IFERROR((1/'IS Rates'!Z73),\"\")","v":""},{"$f":"IFERROR((1/'IS Rates'!AA73),\"\")","v":""},{"$f":"IFERROR((1/'IS Rates'!AB73),\"\")","v":""},{"$f":"IFERROR((1/'IS Rates'!AC73),\"\")","v":""},{"$f":"IFERROR((1/'IS Rates'!AD73),\"\")","v":""}]
[null,"2006-10-06",{"$f":"ROUND(IFERROR((1/'IS Rates'!C74),\"\"),6)","v":0.90090099999999995},{"$f":"ROUND(IFERROR((1/'IS Rates'!D74),\"\"),6)","v":0.124378},{"$f":"IFERROR((1/'IS Rates'!E74),\"\")","v":4.0812162024283236E-4},{"$f":"IFERROR((1/'IS Rates'!F74),\"\")","v":1.2658227848101264},{"$f":"IFERROR((1/'IS Rates'!G74),\"\")","v":0.12820512820512822},{"$f":"IFERROR((1/'IS Rates'!H74),\"\")","v":8.5012326787384171E-3},{"$f":"IFERROR((1/'IS Rates'!I74),\"\")","v":1.0443973305204232E-3},{"$f":"IFERROR((1/'IS Rates'!J74),\"\")","v":0.125},{"$f":"IFERROR((1/'IS Rates'!K74),\"\")","v":0.2710027100271003},{"$f":"IFERROR((1/'IS Rates'!L74),\"\")","v":""},{"$f":"ROUND(IFERROR((1/'IS Rates'!M74),\"\"),6)","v":1.9861E-2},{"$f":"ROUND(IFERROR((1/'IS Rates'!N74),\"\"),6)","v":0.62893100000000002},{"$f":"ROUND(IFERROR((1/'IS Rates'!O74),\"\"),6)","v":3.0303E-2},{"$f":"ROUND(IFERROR((1/'IS Rates'!P74),\"\"),6)","v":2.6616999999999998E-2},{"$f":"IFERROR((1/'IS Rates'!Q74),\"\")","v":""},{"$f":"ROUND(IFERROR((1/'IS Rates'!R74),\"\"),6)","v":0.46628700000000001},{"$f":"IFERROR((1/'IS Rates'!S74),\"\")","v":""},{"$f":"IFERROR((1/'IS Rates'!T74),\"\")","v":""},{"$f":"IFERROR((1/'IS Rates'!U74),\"\")","v":""},{"$f":"IFERROR((1/'IS Rates'!V74),\"\")","v":""},{"$f":"IFERROR((1/'IS Rates'!W74),\"\")","v":""},{"$f":"IFERROR((1/'IS Rates'!X74),\"\")","v":""},{"$f":"IFERROR((1/'IS Rates'!Y74),\"\")","v":""},{"$f":"IFERROR((1/'IS Rates'!Z74),\"\")","v":""},{"$f":"IFERROR((1/'IS Rates'!AA74),\"\")","v":""},{"$f":"IFERROR((1/'IS Rates'!AB74),\"\")","v":""},{"$f":"IFERROR((1/'IS Rates'!AC74),\"\")","v":""},{"$f":"IFERROR((1/'IS Rates'!AD74),\"\")","v":""}]
[null,"2006-09-06",{"$f":"ROUND(IFERROR((1/'IS Rates'!C75),\"\"),6)","v":0.90090099999999995},{"$f":"ROUND(IFERROR((1/'IS Rates'!D75),\"\"),6)","v":0.124378},{"$f":"IFERROR((1/'IS Rates'!E75),\"\")","v":4.0629596223072732E-4},{"$f":"IFERROR((1/'IS Rates'!F75),\"\")","v":1.2820512820512819},{"$f":"IFERROR((1/'IS Rates'!G75),\"\")","v":0.12820512820512822},{"$f":"IFERROR((1/'IS Rates'!H75),\"\")","v":8.5513938772019838E-3},{"$f":"IFERROR((1/'IS Rates'!I75),\"\")","v":1.0233948052479685E-3},{"$f":"IFERROR((1/'IS Rates'!J75),\"\")","v":0.125},{"$f":"IFERROR((1/'IS Rates'!K75),\"\")","v":0.27173913043478259},{"$f":"IFERROR((1/'IS Rates'!L75),\"\")","v":""},{"$f":"ROUND(IFERROR((1/'IS Rates'!M75),\"\"),6)","v":1.9573E-2},{"$f":"ROUND(IFERROR((1/'IS Rates'!N75),\"\"),6)","v":0.63694300000000004},{"$f":"ROUND(IFERROR((1/'IS Rates'!O75),\"\"),6)","v":3.0377000000000001E-2},{"$f":"ROUND(IFERROR((1/'IS Rates'!P75),\"\"),6)","v":2.6603000000000002E-2},{"$f":"IFERROR((1/'IS Rates'!Q75),\"\")","v":""},{"$f":"ROUND(IFERROR((1/'IS Rates'!R75),\"\"),6)","v":0.46628700000000001},{"$f":"IFERROR((1/'IS Rates'!S75),\"\")","v":""},{"$f":"IFERROR((1/'IS Rates'!T75),\"\")","v":""},{"$f":"IFERROR((1/'IS Rates'!U75),\"\")","v":""},{"$f":"IFERROR((1/'IS Rates'!V75),\"\")","v":""},{"$f":"IFERROR((1/'IS Rates'!W75),\"\")","v":""},{"$f":"IFERROR((1/'IS Rates'!X75),\"\")","v":""},{"$f":"IFERROR((1/'IS Rates'!Y75),\"\")","v":""},{"$f":"IFERROR((1/'IS Rates'!Z75),\"\")","v":""},{"$f":"IFERROR((1/'IS Rates'!AA75),\"\")","v":""},{"$f":"IFERROR((1/'IS Rates'!AB75),\"\")","v":""},{"$f":"IFERROR((1/'IS Rates'!AC75),\"\")","v":""},{"$f":"IFERROR((1/'IS Rates'!AD75),\"\")","v":""}]
[null,"2006-08-06",{"$f":"ROUND(IFERROR((1/'IS Rates'!C76),\"\"),6)","v":0.88495599999999996},{"$f":"ROUND(IFERROR((1/'IS Rates'!D76),\"\"),6)","v":0.124378},{"$f":"IFERROR((1/'IS Rates'!E76),\"\")","v":3.946641408161654E-4},{"$f":"IFERROR((1/'IS Rates'!F76),\"\")","v":1.2820512820512819},{"$f":"IFERROR((1/'IS Rates'!G76),\"\")","v":0.12820512820512822},{"$f":"IFERROR((1/'IS Rates'!H76),\"\")","v":8.7214372928658638E-3},{"$f":"IFERROR((1/'IS Rates'!I76),\"\")","v":1.0384970870156709E-3},{"$f":"IFERROR((1/'IS Rates'!J76),\"\")","v":0.125},{"$f":"IFERROR((1/'IS Rates'!K76),\"\")","v":0.27247956403269757},{"$f":"IFERROR((1/'IS Rates'!L76),\"\")","v":""},{"$f":"ROUND(IFERROR((1/'IS Rates'!M76),\"\"),6)","v":1.9354E-2},{"$f":"ROUND(IFERROR((1/'IS Rates'!N76),\"\"),6)","v":0.632911},{"$f":"ROUND(IFERROR((1/'IS Rates'!O76),\"\"),6)","v":3.0460000000000001E-2},{"$f":"ROUND(IFERROR((1/'IS Rates'!P76),\"\"),6)","v":2.6377999999999999E-2},{"$f":"IFERROR((1/'IS Rates'!Q76),\"\")","v":""},{"$f":"ROUND(IFERROR((1/'IS Rates'!R76),\"\"),6)","v":0.46628700000000001},{"$f":"IFERROR((1/'IS Rates'!S76),\"\")","v":""},{"$f":"IFERROR((1/'IS Rates'!T76),\"\")","v":""},{"$f":"IFERROR((1/'IS Rates'!U76),\"\")","v":""},{"$f":"IFERROR((1/'IS Rates'!V76),\"\")","v":""},{"$f":"IFERROR((1/'IS Rates'!W76),\"\")","v":""},{"$f":"IFERROR((1/'IS Rates'!X76),\"\")","v":""},{"$f":"IFERROR((1/'IS Rates'!Y76),\"\")","v":""},{"$f":"IFERROR((1/'IS Rates'!Z76),\"\")","v":""},{"$f":"IFERROR((1/'IS Rates'!AA76),\"\")","v":""},{"$f":"IFERROR((1/'IS Rates'!AB76),\"\")","v":""},{"$f":"IFERROR((1/'IS Rates'!AC76),\"\")","v":""},{"$f":"IFERROR((1/'IS Rates'!AD76),\"\")","v":""}]
[null,"2006-07-06",{"$f":"ROUND(IFERROR((1/'IS Rates'!C77),\"\"),6)","v":0.89285700000000001},{"$f":"ROUND(IFERROR((1/'IS Rates'!D77),\"\"),6)","v":0.124378},{"$f":"IFERROR((1/'IS Rates'!E77),\"\")","v":3.6408650695405232E-4},{"$f":"IFERROR((1/'IS Rates'!F77),\"\")","v":1.25},{"$f":"IFERROR((1/'IS Rates'!G77),\"\")","v":0.12820512820512822},{"$f":"IFERROR((1/'IS Rates'!H77),\"\")","v":""},{"$f":"IFERROR((1/'IS Rates'!I77),\"\")","v":1.0301950159165129E-3},{"$f":"IFERROR((1/'IS Rates'!J77),\"\")","v":0.125},{"$f":"IFERROR((1/'IS Rates'!K77),\"\")","v":0.27173913043478259},{"$f":"IFERROR((1/'IS Rates'!L77),\"\")","v":""},{"$f":"ROUND(IFERROR((1/'IS Rates'!M77),\"\"),6)","v":1.8622E-2},{"$f":"ROUND(IFERROR((1/'IS Rates'!N77),\"\"),6)","v":0.625},{"$f":"ROUND(IFERROR((1/'IS Rates'!O77),\"\"),6)","v":3.0655999999999999E-2},{"$f":"ROUND(IFERROR((1/'IS Rates'!P77),\"\"),6)","v":2.5994E-2},{"$f":"IFERROR((1/'IS Rates'!Q77),\"\")","v":""},{"$f":"ROUND(IFERROR((1/'IS Rates'!R77),\"\"),6)","v":0.46628700000000001},{"$f":"IFERROR((1/'IS Rates'!S77),\"\")","v":""},{"$f":"IFERROR((1/'IS Rates'!T77),\"\")","v":""},{"$f":"IFERROR((1/'IS Rates'!U77),\"\")","v":""},{"$f":"IFERROR((1/'IS Rates'!V77),\"\")","v":""},{"$f":"IFERROR((1/'IS Rates'!W77),\"\")","v":""},{"$f":"IFERROR((1/'IS Rates'!X77),\"\")","v":""},{"$f":"IFERROR((1/'IS Rates'!Y77),\"\")","v":""},{"$f":"IFERROR((1/'IS Rates'!Z77),\"\")","v":""},{"$f":"IFERROR((1/'IS Rates'!AA77),\"\")","v":""},{"$f":"IFERROR((1/'IS Rates'!AB77),\"\")","v":""},{"$f":"IFERROR((1/'IS Rates'!AC77),\"\")","v":""},{"$f":"IFERROR((1/'IS Rates'!AD77),\"\")","v":""}]
[null,"2006-06-06",{"$f":"ROUND(IFERROR((1/'IS Rates'!C78),\"\"),6)","v":0.90909099999999998},{"$f":"ROUND(IFERROR((1/'IS Rates'!D78),\"\"),6)","v":0.124378},{"$f":"IFERROR((1/'IS Rates'!E78),\"\")","v":3.9269585705870805E-4},{"$f":"IFERROR((1/'IS Rates'!F78),\"\")","v":1.2820512820512819},{"$f":"IFERROR((1/'IS Rates'!G78),\"\")","v":0.12820512820512822},{"$f":"IFERROR((1/'IS Rates'!H78),\"\")","v":8.9150396719265401E-3},{"$f":"IFERROR((1/'IS Rates'!I78),\"\")","v":1.0462002008704385E-3},{"$f":"IFERROR((1/'IS Rates'!J78),\"\")","v":0.125},{"$f":"IFERROR((1/'IS Rates'!K78),\"\")","v":0.27624309392265195},{"$f":"IFERROR((1/'IS Rates'!L78),\"\")","v":""},{"$f":"ROUND(IFERROR((1/'IS Rates'!M78),\"\"),6)","v":1.8992999999999999E-2},{"$f":"ROUND(IFERROR((1/'IS Rates'!N78),\"\"),6)","v":0.632911},{"$f":"ROUND(IFERROR((1/'IS Rates'!O78),\"\"),6)","v":3.1161999999999999E-2},{"$f":"ROUND(IFERROR((1/'IS Rates'!P78),\"\"),6)","v":2.6164E-2},{"$f":"IFERROR((1/'IS Rates'!Q78),\"\")","v":""},{"$f":"ROUND(IFERROR((1/'IS Rates'!R78),\"\"),6)","v":0.46628700000000001},{"$f":"IFERROR((1/'IS Rates'!S78),\"\")","v":""},{"$f":"IFERROR((1/'IS Rates'!T78),\"\")","v":""},{"$f":"IFERROR((1/'IS Rates'!U78),\"\")","v":""},{"$f":"IFERROR((1/'IS Rates'!V78),\"\")","v":""},{"$f":"IFERROR((1/'IS Rates'!W78),\"\")","v":""},{"$f":"IFERROR((1/'IS Rates'!X78),\"\")","v":""},{"$f":"IFERROR((1/'IS Rates'!Y78),\"\")","v":""},{"$f":"IFERROR((1/'IS Rates'!Z78),\"\")","v":""},{"$f":"IFERROR((1/'IS Rates'!AA78),\"\")","v":""},{"$f":"IFERROR((1/'IS Rates'!AB78),\"\")","v":""},{"$f":"IFERROR((1/'IS Rates'!AC78),\"\")","v":""},{"$f":"IFERROR((1/'IS Rates'!AD78),\"\")","v":""}]
[null,"2006-05-06",{"$f":"ROUND(IFERROR((1/'IS Rates'!C79),\"\"),6)","v":0.89285700000000001},{"$f":"ROUND(IFERROR((1/'IS Rates'!D79),\"\"),6)","v":0.124378},{"$f":"IFERROR((1/'IS Rates'!E79),\"\")","v":4.1222834152293634E-4},{"$f":"IFERROR((1/'IS Rates'!F79),\"\")","v":1.25},{"$f":"IFERROR((1/'IS Rates'!G79),\"\")","v":0.12820512820512822},{"$f":"IFERROR((1/'IS Rates'!H79),\"\")","v":8.7596355991590748E-3},{"$f":"IFERROR((1/'IS Rates'!I79),\"\")","v":1.0520003787201362E-3},{"$f":"IFERROR((1/'IS Rates'!J79),\"\")","v":0.125},{"$f":"IFERROR((1/'IS Rates'!K79),\"\")","v":0.27548209366391185},{"$f":"IFERROR((1/'IS Rates'!L79),\"\")","v":""},{"$f":"ROUND(IFERROR((1/'IS Rates'!M79),\"\"),6)","v":1.9286000000000001E-2},{"$f":"ROUND(IFERROR((1/'IS Rates'!N79),\"\"),6)","v":0.632911},{"$f":"ROUND(IFERROR((1/'IS Rates'!O79),\"\"),6)","v":3.1328000000000002E-2},{"$f":"ROUND(IFERROR((1/'IS Rates'!P79),\"\"),6)","v":2.6644999999999999E-2},{"$f":"IFERROR((1/'IS Rates'!Q79),\"\")","v":""},{"$f":"ROUND(IFERROR((1/'IS Rates'!R79),\"\"),6)","v":0.46628700000000001},{"$f":"IFERROR((1/'IS Rates'!S79),\"\")","v":""},{"$f":"IFERROR((1/'IS Rates'!T79),\"\")","v":""},{"$f":"IFERROR((1/'IS Rates'!U79),\"\")","v":""},{"$f":"IFERROR((1/'IS Rates'!V79),\"\")","v":""},{"$f":"IFERROR((1/'IS Rates'!W79),\"\")","v":""},{"$f":"IFERROR((1/'IS Rates'!X79),\"\")","v":""},{"$f":"IFERROR((1/'IS Rates'!Y79),\"\")","v":""},{"$f":"IFERROR((1/'IS Rates'!Z79),\"\")","v":""},{"$f":"IFERROR((1/'IS Rates'!AA79),\"\")","v":""},{"$f":"IFERROR((1/'IS Rates'!AB79),\"\")","v":""},{"$f":"IFERROR((1/'IS Rates'!AC79),\"\")","v":""},{"$f":"IFERROR((1/'IS Rates'!AD79),\"\")","v":""}]
[null,"2006-04-06",{"$f":"ROUND(IFERROR((1/'IS Rates'!C80),\"\"),6)","v":0.85470100000000004},{"$f":"ROUND(IFERROR((1/'IS Rates'!D80),\"\"),6)","v":0.124378},{"$f":"IFERROR((1/'IS Rates'!E80),\"\")","v":4.276080886346046E-4},{"$f":"IFERROR((1/'IS Rates'!F80),\"\")","v":1.2048192771084338},{"$f":"IFERROR((1/'IS Rates'!G80),\"\")","v":0.12820512820512822},{"$f":"IFERROR((1/'IS Rates'!H80),\"\")","v":8.504124500382685E-3},{"$f":"IFERROR((1/'IS Rates'!I80),\"\")","v":1.0147030471532505E-3},{"$f":"IFERROR((1/'IS Rates'!J80),\"\")","v":0.125},{"$f":"IFERROR((1/'IS Rates'!K80),\"\")","v":0.2710027100271003},{"$f":"IFERROR((1/'IS Rates'!L80),\"\")","v":""},{"$f":"ROUND(IFERROR((1/'IS Rates'!M80),\"\"),6)","v":1.9474000000000002E-2},{"$f":"ROUND(IFERROR((1/'IS Rates'!N80),\"\"),6)","v":0.61728400000000005},{"$f":"ROUND(IFERROR((1/'IS Rates'!O80),\"\"),6)","v":3.0703000000000001E-2},{"$f":"ROUND(IFERROR((1/'IS Rates'!P80),\"\"),6)","v":2.5714000000000001E-2},{"$f":"IFERROR((1/'IS Rates'!Q80),\"\")","v":""},{"$f":"ROUND(IFERROR((1/'IS Rates'!R80),\"\"),6)","v":0.46628700000000001},{"$f":"IFERROR((1/'IS Rates'!S80),\"\")","v":""},{"$f":"IFERROR((1/'IS Rates'!T80),\"\")","v":""},{"$f":"IFERROR((1/'IS Rates'!U80),\"\")","v":""},{"$f":"IFERROR((1/'IS Rates'!V80),\"\")","v":""},{"$f":"IFERROR((1/'IS Rates'!W80),\"\")","v":""},{"$f":"IFERROR((1/'IS Rates'!X80),\"\")","v":""},{"$f":"IFERROR((1/'IS Rates'!Y80),\"\")","v":""},{"$f":"IFERROR((1/'IS Rates'!Z80),\"\")","v":""},{"$f":"IFERROR((1/'IS Rates'!AA80),\"\")","v":""},{"$f":"IFERROR((1/'IS Rates'!AB80),\"\")","v":""},{"$f":"IFERROR((1/'IS Rates'!AC80),\"\")","v":""},{"$f":"IFERROR((1/'IS Rates'!AD80),\"\")","v":""}]
[null,"2006-03-06",{"$f":"ROUND(IFERROR((1/'IS Rates'!C81),\"\"),6)","v":0.86956500000000003},{"$f":"ROUND(IFERROR((1/'IS Rates'!D81),\"\"),6)","v":0.124378},{"$f":"IFERROR((1/'IS Rates'!E81),\"\")","v":4.4499623978177383E-4},{"$f":"IFERROR((1/'IS Rates'!F81),\"\")","v":1.1441647597254005},{"$f":"IFERROR((1/'IS Rates'!G81),\"\")","v":0.12820512820512822},{"$f":"IFERROR((1/'IS Rates'!H81),\"\")","v":8.5977130083397819E-3},{"$f":"IFERROR((1/'IS Rates'!I81),\"\")","v":1.0179982083231532E-3},{"$f":"IFERROR((1/'IS Rates'!J81),\"\")","v":0.125},{"$f":"IFERROR((1/'IS Rates'!K81),\"\")","v":0.26809651474530832},{"$f":"IFERROR((1/'IS Rates'!L81),\"\")","v":""},{"$f":"ROUND(IFERROR((1/'IS Rates'!M81),\"\"),6)","v":1.9238000000000002E-2},{"$f":"ROUND(IFERROR((1/'IS Rates'!N81),\"\"),6)","v":0.61728400000000005},{"$f":"ROUND(IFERROR((1/'IS Rates'!O81),\"\"),6)","v":3.0779000000000001E-2},{"$f":"ROUND(IFERROR((1/'IS Rates'!P81),\"\"),6)","v":2.5419000000000001E-2},{"$f":"IFERROR((1/'IS Rates'!Q81),\"\")","v":""},{"$f":"ROUND(IFERROR((1/'IS Rates'!R81),\"\"),6)","v":0.46628700000000001},{"$f":"IFERROR((1/'IS Rates'!S81),\"\")","v":""},{"$f":"IFERROR((1/'IS Rates'!T81),\"\")","v":""},{"$f":"IFERROR((1/'IS Rates'!U81),\"\")","v":""},{"$f":"IFERROR((1/'IS Rates'!V81),\"\")","v":""},{"$f":"IFERROR((1/'IS Rates'!W81),\"\")","v":""},{"$f":"IFERROR((1/'IS Rates'!X81),\"\")","v":""},{"$f":"IFERROR((1/'IS Rates'!Y81),\"\")","v":""},{"$f":"IFERROR((1/'IS Rates'!Z81),\"\")","v":""},{"$f":"IFERROR((1/'IS Rates'!AA81),\"\")","v":""},{"$f":"IFERROR((1/'IS Rates'!AB81),\"\")","v":""},{"$f":"IFERROR((1/'IS Rates'!AC81),\"\")","v":""},{"$f":"IFERROR((1/'IS Rates'!AD81),\"\")","v":""}]
[null,"2006-02-06",{"$f":"ROUND(IFERROR((1/'IS Rates'!C82),\"\"),6)","v":0.86956500000000003},{"$f":"ROUND(IFERROR((1/'IS Rates'!D82),\"\"),6)","v":0.124378},{"$f":"IFERROR((1/'IS Rates'!E82),\"\")","v":4.4086656732473346E-4},{"$f":"IFERROR((1/'IS Rates'!F82),\"\")","v":1.2048192771084338},{"$f":"IFERROR((1/'IS Rates'!G82),\"\")","v":0.12820512820512822},{"$f":"IFERROR((1/'IS Rates'!H82),\"\")","v":8.5142613878246062E-3},{"$f":"IFERROR((1/'IS Rates'!I82),\"\")","v":1.0157956219208695E-3},{"$f":"IFERROR((1/'IS Rates'!J82),\"\")","v":0.125},{"$f":"IFERROR((1/'IS Rates'!K82),\"\")","v":0.26666666666666666},{"$f":"IFERROR((1/'IS Rates'!L82),\"\")","v":""},{"$f":"ROUND(IFERROR((1/'IS Rates'!M82),\"\"),6)","v":1.9109000000000001E-2},{"$f":"ROUND(IFERROR((1/'IS Rates'!N82),\"\"),6)","v":0.61349699999999996},{"$f":"ROUND(IFERROR((1/'IS Rates'!O82),\"\"),6)","v":3.1220999999999999E-2},{"$f":"ROUND(IFERROR((1/'IS Rates'!P82),\"\"),6)","v":2.5543E-2},{"$f":"IFERROR((1/'IS Rates'!Q82),\"\")","v":""},{"$f":"ROUND(IFERROR((1/'IS Rates'!R82),\"\"),6)","v":0.46628700000000001},{"$f":"IFERROR((1/'IS Rates'!S82),\"\")","v":""},{"$f":"IFERROR((1/'IS Rates'!T82),\"\")","v":""},{"$f":"IFERROR((1/'IS Rates'!U82),\"\")","v":""},{"$f":"IFERROR((1/'IS Rates'!V82),\"\")","v":""},{"$f":"IFERROR((1/'IS Rates'!W82),\"\")","v":""},{"$f":"IFERROR((1/'IS Rates'!X82),\"\")","v":""},{"$f":"IFERROR((1/'IS Rates'!Y82),\"\")","v":""},{"$f":"IFERROR((1/'IS Rates'!Z82),\"\")","v":""},{"$f":"IFERROR((1/'IS Rates'!AA82),\"\")","v":""},{"$f":"IFERROR((1/'IS Rates'!AB82),\"\")","v":""},{"$f":"IFERROR((1/'IS Rates'!AC82),\"\")","v":""},{"$f":"IFERROR((1/'IS Rates'!AD82),\"\")","v":""}]
[null,"2006-01-06",{"$f":"ROUND(IFERROR((1/'IS Rates'!C83),\"\"),6)","v":0.85470100000000004},{"$f":"ROUND(IFERROR((1/'IS Rates'!D83),\"\"),6)","v":0.124378},{"$f":"IFERROR((1/'IS Rates'!E83),\"\")","v":4.3738791934566765E-4},{"$f":"IFERROR((1/'IS Rates'!F83),\"\")","v":1.1904761904761905},{"$f":"IFERROR((1/'IS Rates'!G83),\"\")","v":0.12820512820512822},{"$f":"IFERROR((1/'IS Rates'!H83),\"\")","v":8.5207907293796872E-3},{"$f":"IFERROR((1/'IS Rates'!I83),\"\")","v":9.7409871516379479E-4},{"$f":"IFERROR((1/'IS Rates'!J83),\"\")","v":0.12820512820512822},{"$f":"IFERROR((1/'IS Rates'!K83),\"\")","v":0.26385224274406333},{"$f":"IFERROR((1/'IS Rates'!L83),\"\")","v":""},{"$f":"ROUND(IFERROR((1/'IS Rates'!M83),\"\"),6)","v":1.8832000000000002E-2},{"$f":"ROUND(IFERROR((1/'IS Rates'!N83),\"\"),6)","v":0.59880199999999995},{"$f":"ROUND(IFERROR((1/'IS Rates'!O83),\"\"),6)","v":3.0349000000000001E-2},{"$f":"ROUND(IFERROR((1/'IS Rates'!P83),\"\"),6)","v":2.4365999999999999E-2},{"$f":"IFERROR((1/'IS Rates'!Q83),\"\")","v":""},{"$f":"ROUND(IFERROR((1/'IS Rates'!R83),\"\"),6)","v":0.46628700000000001},{"$f":"IFERROR((1/'IS Rates'!S83),\"\")","v":""},{"$f":"IFERROR((1/'IS Rates'!T83),\"\")","v":""},{"$f":"IFERROR((1/'IS Rates'!U83),\"\")","v":""},{"$f":"IFERROR((1/'IS Rates'!V83),\"\")","v":""},{"$f":"IFERROR((1/'IS Rates'!W83),\"\")","v":""},{"$f":"IFERROR((1/'IS Rates'!X83),\"\")","v":""},{"$f":"IFERROR((1/'IS Rates'!Y83),\"\")","v":""},{"$f":"IFERROR((1/'IS Rates'!Z83),\"\")","v":""},{"$f":"IFERROR((1/'IS Rates'!AA83),\"\")","v":""},{"$f":"IFERROR((1/'IS Rates'!AB83),\"\")","v":""},{"$f":"IFERROR((1/'IS Rates'!AC83),\"\")","v":""},{"$f":"IFERROR((1/'IS Rates'!AD83),\"\")","v":""}]
[{"$f":"A72-1","v":2005},"2005-12-05",{"$f":"ROUND(IFERROR((1/'IS Rates'!C84),\"\"),6)","v":0.85470100000000004},{"$f":"IFERROR((1/'IS Rates'!D84),\"\")","v":""},{"$f":"IFERROR((1/'IS Rates'!E84),\"\")","v":4.3961841121906191E-4},{"$f":"IFERROR((1/'IS Rates'!F84),\"\")","v":1.1764705882352942},{"$f":"IFERROR((1/'IS Rates'!G84),\"\")","v":0.12820512820512822},{"$f":"IFERROR((1/'IS Rates'!H84),\"\")","v":8.35282325425994E-3},{"$f":"IFERROR((1/'IS Rates'!I84),\"\")","v":9.5130280919719548E-4},{"$f":"IFERROR((1/'IS Rates'!J84),\"\")","v":0.12820512820512822},{"$f":"IFERROR((1/'IS Rates'!K84),\"\")","v":0.26455026455026459},{"$f":"IFERROR((1/'IS Rates'!L84),\"\")","v":""},{"$f":"ROUND(IFERROR((1/'IS Rates'!M84),\"\"),6)","v":1.8525E-2},{"$f":"ROUND(IFERROR((1/'IS Rates'!N84),\"\"),6)","v":0.58823499999999995},{"$f":"ROUND(IFERROR((1/'IS Rates'!O84),\"\"),6)","v":2.9789E-2},{"$f":"ROUND(IFERROR((1/'IS Rates'!P84),\"\"),6)","v":2.4206999999999999E-2},{"$f":"IFERROR((1/'IS Rates'!Q84),\"\")","v":""},{"$f":"ROUND(IFERROR((1/'IS Rates'!R84),\"\"),6)","v":0.46628700000000001},{"$f":"IFERROR((1/'IS Rates'!S84),\"\")","v":""},{"$f":"IFERROR((1/'IS Rates'!T84),\"\")","v":""},{"$f":"IFERROR((1/'IS Rates'!U84),\"\")","v":""},{"$f":"IFERROR((1/'IS Rates'!V84),\"\")","v":""},{"$f":"IFERROR((1/'IS Rates'!W84),\"\")","v":""},{"$f":"IFERROR((1/'IS Rates'!X84),\"\")","v":""},{"$f":"IFERROR((1/'IS Rates'!Y84),\"\")","v":""},{"$f":"IFERROR((1/'IS Rates'!Z84),\"\")","v":""},{"$f":"IFERROR((1/'IS Rates'!AA84),\"\")","v":""},{"$f":"IFERROR((1/'IS Rates'!AB84),\"\")","v":""},{"$f":"IFERROR((1/'IS Rates'!AC84),\"\")","v":""},{"$f":"IFERROR((1/'IS Rates'!AD84),\"\")","v":""}]
[null,"2005-11-05",{"$f":"ROUND(IFERROR((1/'IS Rates'!C85),\"\"),6)","v":0.84745800000000004},null,{"$f":"IFERROR((1/'IS Rates'!E85),\"\")","v":4.3630017452006982E-4},{"$f":"IFERROR((1/'IS Rates'!F85),\"\")","v":1.2048192771084338},{"$f":"IFERROR((1/'IS Rates'!G85),\"\")","v":0.12820512820512822},{"$f":"IFERROR((1/'IS Rates'!H85),\"\")","v":8.6445366528354068E-3},{"$f":"IFERROR((1/'IS Rates'!I85),\"\")","v":9.5739588319770225E-4},{"$f":"IFERROR((1/'IS Rates'!J85),\"\")","v":0.12820512820512822},{"$f":"IFERROR((1/'IS Rates'!K85),\"\")","v":0.26455026455026459},{"$f":"IFERROR((1/'IS Rates'!L85),\"\")","v":""},{"$f":"ROUND(IFERROR((1/'IS Rates'!M85),\"\"),6)","v":1.8172000000000001E-2},{"$f":"ROUND(IFERROR((1/'IS Rates'!N85),\"\"),6)","v":0.58823499999999995},{"$f":"ROUND(IFERROR((1/'IS Rates'!O85),\"\"),6)","v":2.9727E-2},{"$f":"ROUND(IFERROR((1/'IS Rates'!P85),\"\"),6)","v":2.4479999999999998E-2},{"$f":"IFERROR((1/'IS Rates'!Q85),\"\")","v":""},{"$f":"ROUND(IFERROR((1/'IS Rates'!R85),\"\"),6)","v":0.46628700000000001},{"$f":"IFERROR((1/'IS Rates'!S85),\"\")","v":""},{"$f":"IFERROR((1/'IS Rates'!T85),\"\")","v":""},{"$f":"IFERROR((1/'IS Rates'!U85),\"\")","v":""},{"$f":"IFERROR((1/'IS Rates'!V85),\"\")","v":""},{"$f":"IFERROR((1/'IS Rates'!W85),\"\")","v":""},{"$f":"IFERROR((1/'IS Rates'!X85),\"\")","v":""},{"$f":"IFERROR((1/'IS Rates'!Y85),\"\")","v":""},{"$f":"IFERROR((1/'IS Rates'!Z85),\"\")","v":""},{"$f":"IFERROR((1/'IS Rates'!AA85),\"\")","v":""},{"$f":"IFERROR((1/'IS Rates'!AB85),\"\")","v":""},{"$f":"IFERROR((1/'IS Rates'!AC85),\"\")","v":""},{"$f":"IFERROR((1/'IS Rates'!AD85),\"\")","v":""}]
[null,"2005-10-05",{"$f":"ROUND(IFERROR((1/'IS Rates'!C86),\"\"),6)","v":0.85470100000000004},null,{"$f":"IFERROR((1/'IS Rates'!E86),\"\")","v":4.3630017452006982E-4},{"$f":"IFERROR((1/'IS Rates'!F86),\"\")","v":1.2048192771084338},{"$f":"IFERROR((1/'IS Rates'!G86),\"\")","v":0.12820512820512822},{"$f":"IFERROR((1/'IS Rates'!H86),\"\")","v":8.8487744447394035E-3},{"$f":"IFERROR((1/'IS Rates'!I86),\"\")","v":9.5120327213925619E-4},{"$f":"IFERROR((1/'IS Rates'!J86),\"\")","v":0.12820512820512822},{"$f":"IFERROR((1/'IS Rates'!K86),\"\")","v":0.26525198938992045},{"$f":"IFERROR((1/'IS Rates'!L86),\"\")","v":""},{"$f":"ROUND(IFERROR((1/'IS Rates'!M86),\"\"),6)","v":1.7808999999999998E-2},{"$f":"ROUND(IFERROR((1/'IS Rates'!N86),\"\"),6)","v":0.59171600000000002},{"$f":"ROUND(IFERROR((1/'IS Rates'!O86),\"\"),6)","v":3.0057E-2},{"$f":"ROUND(IFERROR((1/'IS Rates'!P86),\"\"),6)","v":2.4343E-2},{"$f":"IFERROR((1/'IS Rates'!Q86),\"\")","v":""},{"$f":"ROUND(IFERROR((1/'IS Rates'!R86),\"\"),6)","v":0.46628700000000001},{"$f":"IFERROR((1/'IS Rates'!S86),\"\")","v":""},{"$f":"IFERROR((1/'IS Rates'!T86),\"\")","v":""},{"$f":"IFERROR((1/'IS Rates'!U86),\"\")","v":""},{"$f":"IFERROR((1/'IS Rates'!V86),\"\")","v":""},{"$f":"IFERROR((1/'IS Rates'!W86),\"\")","v":""},{"$f":"IFERROR((1/'IS Rates'!X86),\"\")","v":""},{"$f":"IFERROR((1/'IS Rates'!Y86),\"\")","v":""},{"$f":"IFERROR((1/'IS Rates'!Z86),\"\")","v":""},{"$f":"IFERROR((1/'IS Rates'!AA86),\"\")","v":""},{"$f":"IFERROR((1/'IS Rates'!AB86),\"\")","v":""},{"$f":"IFERROR((1/'IS Rates'!AC86),\"\")","v":""},{"$f":"IFERROR((1/'IS Rates'!AD86),\"\")","v":""}]
[null,"2005-09-05",{"$f":"ROUND(IFERROR((1/'IS Rates'!C87),\"\"),6)","v":0.84033599999999997},null,{"$f":"IFERROR((1/'IS Rates'!E87),\"\")","v":4.3361373688318447E-4},{"$f":"IFERROR((1/'IS Rates'!F87),\"\")","v":1.2195121951219512},{"$f":"IFERROR((1/'IS Rates'!G87),\"\")","v":0.12820512820512822},{"$f":"IFERROR((1/'IS Rates'!H87),\"\")","v":8.9847259658580418E-3},{"$f":"IFERROR((1/'IS Rates'!I87),\"\")","v":9.6824167312161119E-4},{"$f":"IFERROR((1/'IS Rates'!J87),\"\")","v":0.12019230769230768},{"$f":"IFERROR((1/'IS Rates'!K87),\"\")","v":0.26525198938992045},{"$f":"IFERROR((1/'IS Rates'!L87),\"\")","v":""},{"$f":"ROUND(IFERROR((1/'IS Rates'!M87),\"\"),6)","v":1.7774999999999999E-2},{"$f":"ROUND(IFERROR((1/'IS Rates'!N87),\"\"),6)","v":0.59523800000000004},{"$f":"ROUND(IFERROR((1/'IS Rates'!O87),\"\"),6)","v":3.0581000000000001E-2},{"$f":"ROUND(IFERROR((1/'IS Rates'!P87),\"\"),6)","v":2.4289999999999999E-2},{"$f":"IFERROR((1/'IS Rates'!Q87),\"\")","v":""},{"$f":"ROUND(IFERROR((1/'IS Rates'!R87),\"\"),6)","v":0.46628700000000001},{"$f":"IFERROR((1/'IS Rates'!S87),\"\")","v":""},{"$f":"IFERROR((1/'IS Rates'!T87),\"\")","v":""},{"$f":"IFERROR((1/'IS Rates'!U87),\"\")","v":""},{"$f":"IFERROR((1/'IS Rates'!V87),\"\")","v":""},{"$f":"IFERROR((1/'IS Rates'!W87),\"\")","v":""},{"$f":"IFERROR((1/'IS Rates'!X87),\"\")","v":""},{"$f":"IFERROR((1/'IS Rates'!Y87),\"\")","v":""},{"$f":"IFERROR((1/'IS Rates'!Z87),\"\")","v":""},{"$f":"IFERROR((1/'IS Rates'!AA87),\"\")","v":""},{"$f":"IFERROR((1/'IS Rates'!AB87),\"\")","v":""},{"$f":"IFERROR((1/'IS Rates'!AC87),\"\")","v":""},{"$f":"IFERROR((1/'IS Rates'!AD87),\"\")","v":""}]
[null,"2005-08-05",{"$f":"ROUND(IFERROR((1/'IS Rates'!C88),\"\"),6)","v":0.81967199999999996},null,{"$f":"IFERROR((1/'IS Rates'!E88),\"\")","v":4.329004329004329E-4},{"$f":"IFERROR((1/'IS Rates'!F88),\"\")","v":1.2195121951219512},{"$f":"IFERROR((1/'IS Rates'!G88),\"\")","v":0.12820512820512822},{"$f":"IFERROR((1/'IS Rates'!H88),\"\")","v":8.892050506846879E-3},{"$f":"IFERROR((1/'IS Rates'!I88),\"\")","v":9.7703957010258913E-4},{"$f":"IFERROR((1/'IS Rates'!J88),\"\")","v":0.12004801920768307},{"$f":"IFERROR((1/'IS Rates'!K88),\"\")","v":0.26666666666666666},{"$f":"IFERROR((1/'IS Rates'!L88),\"\")","v":""},{"$f":"ROUND(IFERROR((1/'IS Rates'!M88),\"\"),6)","v":1.7784000000000001E-2},{"$f":"ROUND(IFERROR((1/'IS Rates'!N88),\"\"),6)","v":0.60241},{"$f":"ROUND(IFERROR((1/'IS Rates'!O88),\"\"),6)","v":3.1299E-2},{"$f":"ROUND(IFERROR((1/'IS Rates'!P88),\"\"),6)","v":2.3991999999999999E-2},{"$f":"IFERROR((1/'IS Rates'!Q88),\"\")","v":""},{"$f":"ROUND(IFERROR((1/'IS Rates'!R88),\"\"),6)","v":0.46628700000000001},{"$f":"IFERROR((1/'IS Rates'!S88),\"\")","v":""},{"$f":"IFERROR((1/'IS Rates'!T88),\"\")","v":""},{"$f":"IFERROR((1/'IS Rates'!U88),\"\")","v":""},{"$f":"IFERROR((1/'IS Rates'!V88),\"\")","v":""},{"$f":"IFERROR((1/'IS Rates'!W88),\"\")","v":""},{"$f":"IFERROR((1/'IS Rates'!X88),\"\")","v":""},{"$f":"IFERROR((1/'IS Rates'!Y88),\"\")","v":""},{"$f":"IFERROR((1/'IS Rates'!Z88),\"\")","v":""},{"$f":"IFERROR((1/'IS Rates'!AA88),\"\")","v":""},{"$f":"IFERROR((1/'IS Rates'!AB88),\"\")","v":""},{"$f":"IFERROR((1/'IS Rates'!AC88),\"\")","v":""},{"$f":"IFERROR((1/'IS Rates'!AD88),\"\")","v":""}]
[null,"2005-07-05",{"$f":"ROUND(IFERROR((1/'IS Rates'!C89),\"\"),6)","v":0.81300799999999995},null,{"$f":"IFERROR((1/'IS Rates'!E89),\"\")","v":4.3062613039359233E-4},{"$f":"IFERROR((1/'IS Rates'!F89),\"\")","v":1.2195121951219512},{"$f":"IFERROR((1/'IS Rates'!G89),\"\")","v":0.12853470437017994},{"$f":"IFERROR((1/'IS Rates'!H89),\"\")","v":9.1474570069520686E-3},{"$f":"IFERROR((1/'IS Rates'!I89),\"\")","v":9.911785112498761E-4},{"$f":"IFERROR((1/'IS Rates'!J89),\"\")","v":0.12484394506866417},{"$f":"IFERROR((1/'IS Rates'!K89),\"\")","v":0.26315789473684209},{"$f":"IFERROR((1/'IS Rates'!L89),\"\")","v":""},{"$f":"ROUND(IFERROR((1/'IS Rates'!M89),\"\"),6)","v":1.7950000000000001E-2},{"$f":"ROUND(IFERROR((1/'IS Rates'!N89),\"\"),6)","v":0.59523800000000004},{"$f":"ROUND(IFERROR((1/'IS Rates'!O89),\"\"),6)","v":3.1927999999999998E-2},{"$f":"ROUND(IFERROR((1/'IS Rates'!P89),\"\"),6)","v":2.4343E-2},{"$f":"IFERROR((1/'IS Rates'!Q89),\"\")","v":""},{"$f":"ROUND(IFERROR((1/'IS Rates'!R89),\"\"),6)","v":0.46628700000000001},{"$f":"IFERROR((1/'IS Rates'!S89),\"\")","v":""},{"$f":"IFERROR((1/'IS Rates'!T89),\"\")","v":""},{"$f":"IFERROR((1/'IS Rates'!U89),\"\")","v":""},{"$f":"IFERROR((1/'IS Rates'!V89),\"\")","v":""},{"$f":"IFERROR((1/'IS Rates'!W89),\"\")","v":""},{"$f":"IFERROR((1/'IS Rates'!X89),\"\")","v":""},{"$f":"IFERROR((1/'IS Rates'!Y89),\"\")","v":""},{"$f":"IFERROR((1/'IS Rates'!Z89),\"\")","v":""},{"$f":"IFERROR((1/'IS Rates'!AA89),\"\")","v":""},{"$f":"IFERROR((1/'IS Rates'!AB89),\"\")","v":""},{"$f":"IFERROR((1/'IS Rates'!AC89),\"\")","v":""},{"$f":"IFERROR((1/'IS Rates'!AD89),\"\")","v":""}]
[null,"2005-06-05",{"$f":"ROUND(IFERROR((1/'IS Rates'!C90),\"\"),6)","v":0.8},null,{"$f":"IFERROR((1/'IS Rates'!E90),\"\")","v":4.2791732637254481E-4},{"$f":"IFERROR((1/'IS Rates'!F90),\"\")","v":1.2345679012345678},{"$f":"IFERROR((1/'IS Rates'!G90),\"\")","v":0.12853470437017994},{"$f":"IFERROR((1/'IS Rates'!H90),\"\")","v":9.2378752886836026E-3},{"$f":"IFERROR((1/'IS Rates'!I90),\"\")","v":9.9251642614685276E-4},{"$f":"IFERROR((1/'IS Rates'!J90),\"\")","v":0.12468827930174564},{"$f":"IFERROR((1/'IS Rates'!K90),\"\")","v":0.26315789473684209},{"$f":"IFERROR((1/'IS Rates'!L90),\"\")","v":""},{"$f":"ROUND(IFERROR((1/'IS Rates'!M90),\"\"),6)","v":1.8252000000000001E-2},{"$f":"ROUND(IFERROR((1/'IS Rates'!N90),\"\"),6)","v":0.59880199999999995},{"$f":"ROUND(IFERROR((1/'IS Rates'!O90),\"\"),6)","v":3.1927999999999998E-2},{"$f":"ROUND(IFERROR((1/'IS Rates'!P90),\"\"),6)","v":2.4624E-2},{"$f":"IFERROR((1/'IS Rates'!Q90),\"\")","v":""},{"$f":"ROUND(IFERROR((1/'IS Rates'!R90),\"\"),6)","v":0.46628700000000001},{"$f":"IFERROR((1/'IS Rates'!S90),\"\")","v":""},{"$f":"IFERROR((1/'IS Rates'!T90),\"\")","v":""},{"$f":"IFERROR((1/'IS Rates'!U90),\"\")","v":""},{"$f":"IFERROR((1/'IS Rates'!V90),\"\")","v":""},{"$f":"IFERROR((1/'IS Rates'!W90),\"\")","v":""},{"$f":"IFERROR((1/'IS Rates'!X90),\"\")","v":""},{"$f":"IFERROR((1/'IS Rates'!Y90),\"\")","v":""},{"$f":"IFERROR((1/'IS Rates'!Z90),\"\")","v":""},{"$f":"IFERROR((1/'IS Rates'!AA90),\"\")","v":""},{"$f":"IFERROR((1/'IS Rates'!AB90),\"\")","v":""},{"$f":"IFERROR((1/'IS Rates'!AC90),\"\")","v":""},{"$f":"IFERROR((1/'IS Rates'!AD90),\"\")","v":""}]
[null,"2005-05-05",{"$f":"ROUND(IFERROR((1/'IS Rates'!C91),\"\"),6)","v":0.8},null,{"$f":"IFERROR((1/'IS Rates'!E91),\"\")","v":4.2718612499466016E-4},{"$f":"IFERROR((1/'IS Rates'!F91),\"\")","v":1.2820512820512819},{"$f":"IFERROR((1/'IS Rates'!G91),\"\")","v":0.12820512820512822},{"$f":"IFERROR((1/'IS Rates'!H91),\"\")","v":9.4295143800094301E-3},{"$f":"IFERROR((1/'IS Rates'!I91),\"\")","v":9.9815341618006686E-4},{"$f":"IFERROR((1/'IS Rates'!J91),\"\")","v":0.12484394506866417},{"$f":"IFERROR((1/'IS Rates'!K91),\"\")","v":0.26315789473684209},{"$f":"IFERROR((1/'IS Rates'!L91),\"\")","v":""},{"$f":"ROUND(IFERROR((1/'IS Rates'!M91),\"\"),6)","v":1.8436999999999999E-2},{"$f":"ROUND(IFERROR((1/'IS Rates'!N91),\"\"),6)","v":0.60606099999999996},{"$f":"ROUND(IFERROR((1/'IS Rates'!O91),\"\"),6)","v":3.1968999999999997E-2},{"$f":"ROUND(IFERROR((1/'IS Rates'!P91),\"\"),6)","v":2.5259E-2},{"$f":"IFERROR((1/'IS Rates'!Q91),\"\")","v":""},{"$f":"ROUND(IFERROR((1/'IS Rates'!R91),\"\"),6)","v":0.46628700000000001},{"$f":"IFERROR((1/'IS Rates'!S91),\"\")","v":""},{"$f":"IFERROR((1/'IS Rates'!T91),\"\")","v":""},{"$f":"IFERROR((1/'IS Rates'!U91),\"\")","v":""},{"$f":"IFERROR((1/'IS Rates'!V91),\"\")","v":""},{"$f":"IFERROR((1/'IS Rates'!W91),\"\")","v":""},{"$f":"IFERROR((1/'IS Rates'!X91),\"\")","v":""},{"$f":"IFERROR((1/'IS Rates'!Y91),\"\")","v":""},{"$f":"IFERROR((1/'IS Rates'!Z91),\"\")","v":""},{"$f":"IFERROR((1/'IS Rates'!AA91),\"\")","v":""},{"$f":"IFERROR((1/'IS Rates'!AB91),\"\")","v":""},{"$f":"IFERROR((1/'IS Rates'!AC91),\"\")","v":""},{"$f":"IFERROR((1/'IS Rates'!AD91),\"\")","v":""}]
[null,"2005-04-05",{"$f":"ROUND(IFERROR((1/'IS Rates'!C92),\"\"),6)","v":0.81967199999999996},null,{"$f":"IFERROR((1/'IS Rates'!E92),\"\")","v":4.228615889447066E-4},{"$f":"IFERROR((1/'IS Rates'!F92),\"\")","v":1.2987012987012987},{"$f":"IFERROR((1/'IS Rates'!G92),\"\")","v":0.12820512820512822},{"$f":"IFERROR((1/'IS Rates'!H92),\"\")","v":9.3196644920782862E-3},{"$f":"IFERROR((1/'IS Rates'!I92),\"\")","v":9.855906644852259E-4},{"$f":"IFERROR((1/'IS Rates'!J92),\"\")","v":0.12484394506866417},{"$f":"IFERROR((1/'IS Rates'!K92),\"\")","v":0.26315789473684209},{"$f":"IFERROR((1/'IS Rates'!L92),\"\")","v":""},{"$f":"ROUND(IFERROR((1/'IS Rates'!M92),\"\"),6)","v":1.8376E-2},{"$f":"ROUND(IFERROR((1/'IS Rates'!N92),\"\"),6)","v":0.60606099999999996},{"$f":"ROUND(IFERROR((1/'IS Rates'!O92),\"\"),6)","v":3.1736E-2},{"$f":"ROUND(IFERROR((1/'IS Rates'!P92),\"\"),6)","v":2.5444999999999999E-2},{"$f":"IFERROR((1/'IS Rates'!Q92),\"\")","v":""},{"$f":"ROUND(IFERROR((1/'IS Rates'!R92),\"\"),6)","v":0.46628700000000001},{"$f":"IFERROR((1/'IS Rates'!S92),\"\")","v":""},{"$f":"IFERROR((1/'IS Rates'!T92),\"\")","v":""},{"$f":"IFERROR((1/'IS Rates'!U92),\"\")","v":""},{"$f":"IFERROR((1/'IS Rates'!V92),\"\")","v":""},{"$f":"IFERROR((1/'IS Rates'!W92),\"\")","v":""},{"$f":"IFERROR((1/'IS Rates'!X92),\"\")","v":""},{"$f":"IFERROR((1/'IS Rates'!Y92),\"\")","v":""},{"$f":"IFERROR((1/'IS Rates'!Z92),\"\")","v":""},{"$f":"IFERROR((1/'IS Rates'!AA92),\"\")","v":""},{"$f":"IFERROR((1/'IS Rates'!AB92),\"\")","v":""},{"$f":"IFERROR((1/'IS Rates'!AC92),\"\")","v":""},{"$f":"IFERROR((1/'IS Rates'!AD92),\"\")","v":""}]
[null,"2005-03-05",{"$f":"ROUND(IFERROR((1/'IS Rates'!C93),\"\"),6)","v":0.81967199999999996},null,{"$f":"IFERROR((1/'IS Rates'!E93),\"\")","v":4.2804371182385146E-4},{"$f":"IFERROR((1/'IS Rates'!F93),\"\")","v":1.3333333333333333},{"$f":"IFERROR((1/'IS Rates'!G93),\"\")","v":0.12820512820512822},{"$f":"IFERROR((1/'IS Rates'!H93),\"\")","v":9.5547487101089248E-3},{"$f":"IFERROR((1/'IS Rates'!I93),\"\")","v":9.9531208010271628E-4},{"$f":"IFERROR((1/'IS Rates'!J93),\"\")","v":0.12484394506866417},{"$f":"IFERROR((1/'IS Rates'!K93),\"\")","v":0.26315789473684209},{"$f":"IFERROR((1/'IS Rates'!L93),\"\")","v":""},{"$f":"ROUND(IFERROR((1/'IS Rates'!M93),\"\"),6)","v":1.8359E-2},{"$f":"ROUND(IFERROR((1/'IS Rates'!N93),\"\"),6)","v":0.61728400000000005},{"$f":"ROUND(IFERROR((1/'IS Rates'!O93),\"\"),6)","v":3.2330999999999999E-2},{"$f":"ROUND(IFERROR((1/'IS Rates'!P93),\"\"),6)","v":2.6054999999999998E-2},{"$f":"IFERROR((1/'IS Rates'!Q93),\"\")","v":""},{"$f":"ROUND(IFERROR((1/'IS Rates'!R93),\"\"),6)","v":0.48713000000000001},{"$f":"IFERROR((1/'IS Rates'!S93),\"\")","v":""},{"$f":"IFERROR((1/'IS Rates'!T93),\"\")","v":""},{"$f":"IFERROR((1/'IS Rates'!U93),\"\")","v":""},{"$f":"IFERROR((1/'IS Rates'!V93),\"\")","v":""},{"$f":"IFERROR((1/'IS Rates'!W93),\"\")","v":""},{"$f":"IFERROR((1/'IS Rates'!X93),\"\")","v":""},{"$f":"IFERROR((1/'IS Rates'!Y93),\"\")","v":""},{"$f":"IFERROR((1/'IS Rates'!Z93),\"\")","v":""},{"$f":"IFERROR((1/'IS Rates'!AA93),\"\")","v":""},{"$f":"IFERROR((1/'IS Rates'!AB93),\"\")","v":""},{"$f":"IFERROR((1/'IS Rates'!AC93),\"\")","v":""},{"$f":"IFERROR((1/'IS Rates'!AD93),\"\")","v":""}]
[null,"2005-02-05",{"$f":"ROUND(IFERROR((1/'IS Rates'!C94),\"\"),6)","v":0.80645199999999995},null,{"$f":"IFERROR((1/'IS Rates'!E94),\"\")","v":4.246212378558326E-4},{"$f":"IFERROR((1/'IS Rates'!F94),\"\")","v":1.2987012987012987},{"$f":"IFERROR((1/'IS Rates'!G94),\"\")","v":0.12820512820512822},{"$f":"IFERROR((1/'IS Rates'!H94),\"\")","v":9.5757923968208362E-3},{"$f":"IFERROR((1/'IS Rates'!I94),\"\")","v":9.7021441738624227E-4},{"$f":"IFERROR((1/'IS Rates'!J94),\"\")","v":0.12484394506866417},{"$f":"IFERROR((1/'IS Rates'!K94),\"\")","v":0.26315789473684209},{"$f":"IFERROR((1/'IS Rates'!L94),\"\")","v":""},{"$f":"ROUND(IFERROR((1/'IS Rates'!M94),\"\"),6)","v":1.8185E-2},{"$f":"ROUND(IFERROR((1/'IS Rates'!N94),\"\"),6)","v":0.60975599999999996},{"$f":"ROUND(IFERROR((1/'IS Rates'!O94),\"\"),6)","v":3.1545999999999998E-2},{"$f":"ROUND(IFERROR((1/'IS Rates'!P94),\"\"),6)","v":2.5947000000000001E-2},{"$f":"IFERROR((1/'IS Rates'!Q94),\"\")","v":""},{"$f":"ROUND(IFERROR((1/'IS Rates'!R94),\"\"),6)","v":0.52213900000000002},{"$f":"IFERROR((1/'IS Rates'!S94),\"\")","v":""},{"$f":"IFERROR((1/'IS Rates'!T94),\"\")","v":""},{"$f":"IFERROR((1/'IS Rates'!U94),\"\")","v":""},{"$f":"IFERROR((1/'IS Rates'!V94),\"\")","v":""},{"$f":"IFERROR((1/'IS Rates'!W94),\"\")","v":""},{"$f":"IFERROR((1/'IS Rates'!X94),\"\")","v":""},{"$f":"IFERROR((1/'IS Rates'!Y94),\"\")","v":""},{"$f":"IFERROR((1/'IS Rates'!Z94),\"\")","v":""},{"$f":"IFERROR((1/'IS Rates'!AA94),\"\")","v":""},{"$f":"IFERROR((1/'IS Rates'!AB94),\"\")","v":""},{"$f":"IFERROR((1/'IS Rates'!AC94),\"\")","v":""},{"$f":"IFERROR((1/'IS Rates'!AD94),\"\")","v":""}]
[null,"2005-01-05",{"$f":"ROUND(IFERROR((1/'IS Rates'!C95),\"\"),6)","v":0.81967199999999996},null,{"$f":"IFERROR((1/'IS Rates'!E95),\"\")","v":4.2129742755790737E-4},{"$f":"IFERROR((1/'IS Rates'!F95),\"\")","v":1.3333333333333333},{"$f":"IFERROR((1/'IS Rates'!G95),\"\")","v":0.12836970474967907},{"$f":"IFERROR((1/'IS Rates'!H95),\"\")","v":9.6721152916142764E-3},{"$f":"IFERROR((1/'IS Rates'!I95),\"\")","v":9.5709349846386503E-4},{"$f":"IFERROR((1/'IS Rates'!J95),\"\")","v":0.12406947890818858},{"$f":"IFERROR((1/'IS Rates'!K95),\"\")","v":0.26315789473684209},{"$f":"IFERROR((1/'IS Rates'!L95),\"\")","v":""},{"$f":"ROUND(IFERROR((1/'IS Rates'!M95),\"\"),6)","v":1.7857000000000001E-2},{"$f":"ROUND(IFERROR((1/'IS Rates'!N95),\"\"),6)","v":0.60975599999999996},{"$f":"ROUND(IFERROR((1/'IS Rates'!O95),\"\"),6)","v":3.1260000000000003E-2},{"$f":"ROUND(IFERROR((1/'IS Rates'!P95),\"\"),6)","v":2.5694000000000002E-2},{"$f":"IFERROR((1/'IS Rates'!Q95),\"\")","v":""},{"$f":"ROUND(IFERROR((1/'IS Rates'!R95),\"\"),6)","v":0.52213900000000002},{"$f":"IFERROR((1/'IS Rates'!S95),\"\")","v":""},{"$f":"IFERROR((1/'IS Rates'!T95),\"\")","v":""},{"$f":"IFERROR((1/'IS Rates'!U95),\"\")","v":""},{"$f":"IFERROR((1/'IS Rates'!V95),\"\")","v":""},{"$f":"IFERROR((1/'IS Rates'!W95),\"\")","v":""},{"$f":"IFERROR((1/'IS Rates'!X95),\"\")","v":""},{"$f":"IFERROR((1/'IS Rates'!Y95),\"\")","v":""},{"$f":"IFERROR((1/'IS Rates'!Z95),\"\")","v":""},{"$f":"IFERROR((1/'IS Rates'!AA95),\"\")","v":""},{"$f":"IFERROR((1/'IS Rates'!AB95),\"\")","v":""},{"$f":"IFERROR((1/'IS Rates'!AC95),\"\")","v":""},{"$f":"IFERROR((1/'IS Rates'!AD95),\"\")","v":""}]
[{"$f":"A84-1","v":2004},"2004-12-04",{"$f":"ROUND(IFERROR((1/'IS Rates'!C96),\"\"),6)","v":0.81967199999999996},{"$f":"IFERROR((1/'IS Rates'!D96),\"\")","v":""},{"$f":"IFERROR((1/'IS Rates'!E96),\"\")","v":4.1543766357858005E-4},{"$f":"IFERROR((1/'IS Rates'!F96),\"\")","v":1.3333333333333333},{"$f":"IFERROR((1/'IS Rates'!G96),\"\")","v":0.12853470437017994},{"$f":"IFERROR((1/'IS Rates'!H96),\"\")","v":9.6329833349388296E-3},{"$f":"IFERROR((1/'IS Rates'!I96),\"\")","v":9.5087766008025395E-4},{"$f":"IFERROR((1/'IS Rates'!J96),\"\")","v":0.12391573729863692},{"$f":"IFERROR((1/'IS Rates'!K96),\"\")","v":0.26315789473684209},{"$f":"IFERROR((1/'IS Rates'!L96),\"\")","v":""},{"$f":"ROUND(IFERROR((1/'IS Rates'!M96),\"\"),6)","v":1.7802999999999999E-2},{"$f":"ROUND(IFERROR((1/'IS Rates'!N96),\"\"),6)","v":0.60975599999999996},{"$f":"ROUND(IFERROR((1/'IS Rates'!O96),\"\"),6)","v":3.1056E-2},{"$f":"ROUND(IFERROR((1/'IS Rates'!P96),\"\"),6)","v":2.5503999999999999E-2},{"$f":"IFERROR((1/'IS Rates'!Q96),\"\")","v":""},{"$f":"ROUND(IFERROR((1/'IS Rates'!R96),\"\"),6)","v":0.52213900000000002},{"$f":"IFERROR((1/'IS Rates'!S96),\"\")","v":""},{"$f":"IFERROR((1/'IS Rates'!T96),\"\")","v":""},{"$f":"IFERROR((1/'IS Rates'!U96),\"\")","v":""},{"$f":"IFERROR((1/'IS Rates'!V96),\"\")","v":""},{"$f":"IFERROR((1/'IS Rates'!W96),\"\")","v":""},{"$f":"IFERROR((1/'IS Rates'!X96),\"\")","v":""},{"$f":"IFERROR((1/'IS Rates'!Y96),\"\")","v":""},{"$f":"IFERROR((1/'IS Rates'!Z96),\"\")","v":""},{"$f":"IFERROR((1/'IS Rates'!AA96),\"\")","v":""},{"$f":"IFERROR((1/'IS Rates'!AB96),\"\")","v":""},{"$f":"IFERROR((1/'IS Rates'!AC96),\"\")","v":""},{"$f":"IFERROR((1/'IS Rates'!AD96),\"\")","v":""}]
[null,"2004-11-04",{"$f":"ROUND(IFERROR((1/'IS Rates'!C97),\"\"),6)","v":0.83333299999999999},null,{"$f":"IFERROR((1/'IS Rates'!E97),\"\")","v":3.9598157893694786E-4},{"$f":"IFERROR((1/'IS Rates'!F97),\"\")","v":1.2987012987012987},{"$f":"IFERROR((1/'IS Rates'!G97),\"\")","v":0.12853470437017994},{"$f":"IFERROR((1/'IS Rates'!H97),\"\")","v":9.5565749235474E-3},{"$f":"IFERROR((1/'IS Rates'!I97),\"\")","v":9.2064924184534925E-4},{"$f":"IFERROR((1/'IS Rates'!J97),\"\")","v":0.12484394506866417},{"$f":"IFERROR((1/'IS Rates'!K97),\"\")","v":0.26315789473684209},{"$f":"IFERROR((1/'IS Rates'!L97),\"\")","v":""},{"$f":"ROUND(IFERROR((1/'IS Rates'!M97),\"\"),6)","v":1.7774999999999999E-2},{"$f":"ROUND(IFERROR((1/'IS Rates'!N97),\"\"),6)","v":0.60606099999999996},{"$f":"ROUND(IFERROR((1/'IS Rates'!O97),\"\"),6)","v":3.0533999999999999E-2},{"$f":"ROUND(IFERROR((1/'IS Rates'!P97),\"\"),6)","v":2.4839E-2},{"$f":"IFERROR((1/'IS Rates'!Q97),\"\")","v":""},{"$f":"ROUND(IFERROR((1/'IS Rates'!R97),\"\"),6)","v":0.52213900000000002},{"$f":"IFERROR((1/'IS Rates'!S97),\"\")","v":""},{"$f":"IFERROR((1/'IS Rates'!T97),\"\")","v":""},{"$f":"IFERROR((1/'IS Rates'!U97),\"\")","v":""},{"$f":"IFERROR((1/'IS Rates'!V97),\"\")","v":""},{"$f":"IFERROR((1/'IS Rates'!W97),\"\")","v":""},{"$f":"IFERROR((1/'IS Rates'!X97),\"\")","v":""},{"$f":"IFERROR((1/'IS Rates'!Y97),\"\")","v":""},{"$f":"IFERROR((1/'IS Rates'!Z97),\"\")","v":""},{"$f":"IFERROR((1/'IS Rates'!AA97),\"\")","v":""},{"$f":"IFERROR((1/'IS Rates'!AB97),\"\")","v":""},{"$f":"IFERROR((1/'IS Rates'!AC97),\"\")","v":""},{"$f":"IFERROR((1/'IS Rates'!AD97),\"\")","v":""}]
[null,"2004-10-04",{"$f":"ROUND(IFERROR((1/'IS Rates'!C98),\"\"),6)","v":0.8},null,{"$f":"IFERROR((1/'IS Rates'!E98),\"\")","v":3.8791414684102117E-4},{"$f":"IFERROR((1/'IS Rates'!F98),\"\")","v":1.25},{"$f":"IFERROR((1/'IS Rates'!G98),\"\")","v":0.12836970474967907},{"$f":"IFERROR((1/'IS Rates'!H98),\"\")","v":9.1886428374529077E-3},{"$f":"IFERROR((1/'IS Rates'!I98),\"\")","v":8.755647392568207E-4},{"$f":"IFERROR((1/'IS Rates'!J98),\"\")","v":0.12820512820512822},{"$f":"IFERROR((1/'IS Rates'!K98),\"\")","v":0.26315789473684209},{"$f":"IFERROR((1/'IS Rates'!L98),\"\")","v":""},{"$f":"ROUND(IFERROR((1/'IS Rates'!M98),\"\"),6)","v":1.7753000000000001E-2},{"$f":"ROUND(IFERROR((1/'IS Rates'!N98),\"\"),6)","v":0.59523800000000004},{"$f":"ROUND(IFERROR((1/'IS Rates'!O98),\"\"),6)","v":2.9647E-2},{"$f":"ROUND(IFERROR((1/'IS Rates'!P98),\"\"),6)","v":2.4219000000000001E-2},{"$f":"IFERROR((1/'IS Rates'!Q98),\"\")","v":""},{"$f":"ROUND(IFERROR((1/'IS Rates'!R98),\"\"),6)","v":0.52174600000000004},{"$f":"IFERROR((1/'IS Rates'!S98),\"\")","v":""},{"$f":"IFERROR((1/'IS Rates'!T98),\"\")","v":""},{"$f":"IFERROR((1/'IS Rates'!U98),\"\")","v":""},{"$f":"IFERROR((1/'IS Rates'!V98),\"\")","v":""},{"$f":"IFERROR((1/'IS Rates'!W98),\"\")","v":""},{"$f":"IFERROR((1/'IS Rates'!X98),\"\")","v":""},{"$f":"IFERROR((1/'IS Rates'!Y98),\"\")","v":""},{"$f":"IFERROR((1/'IS Rates'!Z98),\"\")","v":""},{"$f":"IFERROR((1/'IS Rates'!AA98),\"\")","v":""},{"$f":"IFERROR((1/'IS Rates'!AB98),\"\")","v":""},{"$f":"IFERROR((1/'IS Rates'!AC98),\"\")","v":""},{"$f":"IFERROR((1/'IS Rates'!AD98),\"\")","v":""}]
[null,"2004-09-04",{"$f":"ROUND(IFERROR((1/'IS Rates'!C99),\"\"),6)","v":0.77519400000000005},null,{"$f":"IFERROR((1/'IS Rates'!E99),\"\")","v":3.9183417577681127E-4},{"$f":"IFERROR((1/'IS Rates'!F99),\"\")","v":1.2195121951219512},{"$f":"IFERROR((1/'IS Rates'!G99),\"\")","v":0.12820512820512822},{"$f":"IFERROR((1/'IS Rates'!H99),\"\")","v":9.0843023255813959E-3},{"$f":"IFERROR((1/'IS Rates'!I99),\"\")","v":8.7096633715106904E-4},{"$f":"IFERROR((1/'IS Rates'!J99),\"\")","v":0.12820512820512822},{"$f":"IFERROR((1/'IS Rates'!K99),\"\")","v":0.26315789473684209},{"$f":"IFERROR((1/'IS Rates'!L99),\"\")","v":""},{"$f":"ROUND(IFERROR((1/'IS Rates'!M99),\"\"),6)","v":1.78E-2},{"$f":"ROUND(IFERROR((1/'IS Rates'!N99),\"\"),6)","v":0.58823499999999995},{"$f":"ROUND(IFERROR((1/'IS Rates'!O99),\"\"),6)","v":2.9576999999999999E-2},{"$f":"ROUND(IFERROR((1/'IS Rates'!P99),\"\"),6)","v":2.4131E-2},{"$f":"IFERROR((1/'IS Rates'!Q99),\"\")","v":""},{"$f":"ROUND(IFERROR((1/'IS Rates'!R99),\"\"),6)","v":0.52200199999999997},{"$f":"IFERROR((1/'IS Rates'!S99),\"\")","v":""},{"$f":"IFERROR((1/'IS Rates'!T99),\"\")","v":""},{"$f":"IFERROR((1/'IS Rates'!U99),\"\")","v":""},{"$f":"IFERROR((1/'IS Rates'!V99),\"\")","v":""},{"$f":"IFERROR((1/'IS Rates'!W99),\"\")","v":""},{"$f":"IFERROR((1/'IS Rates'!X99),\"\")","v":""},{"$f":"IFERROR((1/'IS Rates'!Y99),\"\")","v":""},{"$f":"IFERROR((1/'IS Rates'!Z99),\"\")","v":""},{"$f":"IFERROR((1/'IS Rates'!AA99),\"\")","v":""},{"$f":"IFERROR((1/'IS Rates'!AB99),\"\")","v":""},{"$f":"IFERROR((1/'IS Rates'!AC99),\"\")","v":""},{"$f":"IFERROR((1/'IS Rates'!AD99),\"\")","v":""}]
[null,"2004-08-04",{"$f":"ROUND(IFERROR((1/'IS Rates'!C100),\"\"),6)","v":0.76335900000000001},null,{"$f":"IFERROR((1/'IS Rates'!E100),\"\")","v":3.8553622305583722E-4},{"$f":"IFERROR((1/'IS Rates'!F100),\"\")","v":1.2195121951219512},{"$f":"IFERROR((1/'IS Rates'!G100),\"\")","v":0.12820512820512822},{"$f":"IFERROR((1/'IS Rates'!H100),\"\")","v":9.0670051681929452E-3},{"$f":"IFERROR((1/'IS Rates'!I100),\"\")","v":8.6411005305635723E-4},{"$f":"IFERROR((1/'IS Rates'!J100),\"\")","v":0.12820512820512822},{"$f":"IFERROR((1/'IS Rates'!K100),\"\")","v":0.26315789473684209},{"$f":"IFERROR((1/'IS Rates'!L100),\"\")","v":""},{"$f":"ROUND(IFERROR((1/'IS Rates'!M100),\"\"),6)","v":1.7923999999999999E-2},{"$f":"ROUND(IFERROR((1/'IS Rates'!N100),\"\"),6)","v":0.58479499999999995},{"$f":"ROUND(IFERROR((1/'IS Rates'!O100),\"\"),6)","v":2.9437999999999999E-2},{"$f":"ROUND(IFERROR((1/'IS Rates'!P100),\"\"),6)","v":2.4108000000000001E-2},{"$f":"IFERROR((1/'IS Rates'!Q100),\"\")","v":""},{"$f":"ROUND(IFERROR((1/'IS Rates'!R100),\"\"),6)","v":0.52213900000000002},{"$f":"IFERROR((1/'IS Rates'!S100),\"\")","v":""},{"$f":"IFERROR((1/'IS Rates'!T100),\"\")","v":""},{"$f":"IFERROR((1/'IS Rates'!U100),\"\")","v":""},{"$f":"IFERROR((1/'IS Rates'!V100),\"\")","v":""},{"$f":"IFERROR((1/'IS Rates'!W100),\"\")","v":""},{"$f":"IFERROR((1/'IS Rates'!X100),\"\")","v":""},{"$f":"IFERROR((1/'IS Rates'!Y100),\"\")","v":""},{"$f":"IFERROR((1/'IS Rates'!Z100),\"\")","v":""},{"$f":"IFERROR((1/'IS Rates'!AA100),\"\")","v":""},{"$f":"IFERROR((1/'IS Rates'!AB100),\"\")","v":""},{"$f":"IFERROR((1/'IS Rates'!AC100),\"\")","v":""},{"$f":"IFERROR((1/'IS Rates'!AD100),\"\")","v":""}]
[null,"2004-07-04",{"$f":"ROUND(IFERROR((1/'IS Rates'!C101),\"\"),6)","v":0.75757600000000003},null,{"$f":"IFERROR((1/'IS Rates'!E101),\"\")","v":3.7704689332212246E-4},{"$f":"IFERROR((1/'IS Rates'!F101),\"\")","v":1.2195121951219512},{"$f":"IFERROR((1/'IS Rates'!G101),\"\")","v":0.12820512820512822},{"$f":"IFERROR((1/'IS Rates'!H101),\"\")","v":9.1474570069520686E-3},{"$f":"IFERROR((1/'IS Rates'!I101),\"\")","v":8.6321495778878855E-4},{"$f":"IFERROR((1/'IS Rates'!J101),\"\")","v":0.12820512820512822},{"$f":"IFERROR((1/'IS Rates'!K101),\"\")","v":0.26315789473684209},{"$f":"IFERROR((1/'IS Rates'!L101),\"\")","v":""},{"$f":"ROUND(IFERROR((1/'IS Rates'!M101),\"\"),6)","v":1.7885999999999999E-2},{"$f":"ROUND(IFERROR((1/'IS Rates'!N101),\"\"),6)","v":0.58479499999999995},{"$f":"ROUND(IFERROR((1/'IS Rates'!O101),\"\"),6)","v":2.9621000000000001E-2},{"$f":"ROUND(IFERROR((1/'IS Rates'!P101),\"\"),6)","v":2.4431999999999999E-2},{"$f":"IFERROR((1/'IS Rates'!Q101),\"\")","v":""},{"$f":"ROUND(IFERROR((1/'IS Rates'!R101),\"\"),6)","v":0.52213900000000002},{"$f":"IFERROR((1/'IS Rates'!S101),\"\")","v":""},{"$f":"IFERROR((1/'IS Rates'!T101),\"\")","v":""},{"$f":"IFERROR((1/'IS Rates'!U101),\"\")","v":""},{"$f":"IFERROR((1/'IS Rates'!V101),\"\")","v":""},{"$f":"IFERROR((1/'IS Rates'!W101),\"\")","v":""},{"$f":"IFERROR((1/'IS Rates'!X101),\"\")","v":""},{"$f":"IFERROR((1/'IS Rates'!Y101),\"\")","v":""},{"$f":"IFERROR((1/'IS Rates'!Z101),\"\")","v":""},{"$f":"IFERROR((1/'IS Rates'!AA101),\"\")","v":""},{"$f":"IFERROR((1/'IS Rates'!AB101),\"\")","v":""},{"$f":"IFERROR((1/'IS Rates'!AC101),\"\")","v":""},{"$f":"IFERROR((1/'IS Rates'!AD101),\"\")","v":""}]
[null,"2004-06-04",{"$f":"ROUND(IFERROR((1/'IS Rates'!C102),\"\"),6)","v":0.735294},null,{"$f":"IFERROR((1/'IS Rates'!E102),\"\")","v":3.6794736880836561E-4},{"$f":"IFERROR((1/'IS Rates'!F102),\"\")","v":1.2048192771084338},{"$f":"IFERROR((1/'IS Rates'!G102),\"\")","v":0.12820512820512822},{"$f":"IFERROR((1/'IS Rates'!H102),\"\")","v":9.1349228099022566E-3},{"$f":"IFERROR((1/'IS Rates'!I102),\"\")","v":8.6322986084734639E-4},{"$f":"IFERROR((1/'IS Rates'!J102),\"\")","v":0.12820512820512822},{"$f":"IFERROR((1/'IS Rates'!K102),\"\")","v":0.26315789473684209},{"$f":"IFERROR((1/'IS Rates'!L102),\"\")","v":""},{"$f":"ROUND(IFERROR((1/'IS Rates'!M102),\"\"),6)","v":1.7860000000000001E-2},{"$f":"ROUND(IFERROR((1/'IS Rates'!N102),\"\"),6)","v":0.58479499999999995},{"$f":"ROUND(IFERROR((1/'IS Rates'!O102),\"\"),6)","v":2.9832999999999998E-2},{"$f":"ROUND(IFERROR((1/'IS Rates'!P102),\"\"),6)","v":2.4510000000000001E-2},{"$f":"IFERROR((1/'IS Rates'!Q102),\"\")","v":""},{"$f":"ROUND(IFERROR((1/'IS Rates'!R102),\"\"),6)","v":0.52213900000000002},{"$f":"IFERROR((1/'IS Rates'!S102),\"\")","v":""},{"$f":"IFERROR((1/'IS Rates'!T102),\"\")","v":""},{"$f":"IFERROR((1/'IS Rates'!U102),\"\")","v":""},{"$f":"IFERROR((1/'IS Rates'!V102),\"\")","v":""},{"$f":"IFERROR((1/'IS Rates'!W102),\"\")","v":""},{"$f":"IFERROR((1/'IS Rates'!X102),\"\")","v":""},{"$f":"IFERROR((1/'IS Rates'!Y102),\"\")","v":""},{"$f":"IFERROR((1/'IS Rates'!Z102),\"\")","v":""},{"$f":"IFERROR((1/'IS Rates'!AA102),\"\")","v":""},{"$f":"IFERROR((1/'IS Rates'!AB102),\"\")","v":""},{"$f":"IFERROR((1/'IS Rates'!AC102),\"\")","v":""},{"$f":"IFERROR((1/'IS Rates'!AD102),\"\")","v":""}]
[null,"2004-05-04",{"$f":"ROUND(IFERROR((1/'IS Rates'!C103),\"\"),6)","v":0.724638},null,{"$f":"IFERROR((1/'IS Rates'!E103),\"\")","v":3.6702904667875418E-4},{"$f":"IFERROR((1/'IS Rates'!F103),\"\")","v":1.2048192771084338},{"$f":"IFERROR((1/'IS Rates'!G103),\"\")","v":0.12820512820512822},{"$f":"IFERROR((1/'IS Rates'!H103),\"\")","v":8.92299455697332E-3},{"$f":"IFERROR((1/'IS Rates'!I103),\"\")","v":8.49365099588058E-4},{"$f":"IFERROR((1/'IS Rates'!J103),\"\")","v":0.12820512820512822},{"$f":"IFERROR((1/'IS Rates'!K103),\"\")","v":0.26315789473684209},{"$f":"IFERROR((1/'IS Rates'!L103),\"\")","v":""},{"$f":"ROUND(IFERROR((1/'IS Rates'!M103),\"\"),6)","v":1.7923999999999999E-2},{"$f":"ROUND(IFERROR((1/'IS Rates'!N103),\"\"),6)","v":0.58479499999999995},{"$f":"ROUND(IFERROR((1/'IS Rates'!O103),\"\"),6)","v":2.9967000000000001E-2},{"$f":"ROUND(IFERROR((1/'IS Rates'!P103),\"\"),6)","v":2.4746000000000001E-2},{"$f":"IFERROR((1/'IS Rates'!Q103),\"\")","v":""},{"$f":"ROUND(IFERROR((1/'IS Rates'!R103),\"\"),6)","v":0.52213900000000002},{"$f":"IFERROR((1/'IS Rates'!S103),\"\")","v":""},{"$f":"IFERROR((1/'IS Rates'!T103),\"\")","v":""},{"$f":"IFERROR((1/'IS Rates'!U103),\"\")","v":""},{"$f":"IFERROR((1/'IS Rates'!V103),\"\")","v":""},{"$f":"IFERROR((1/'IS Rates'!W103),\"\")","v":""},{"$f":"IFERROR((1/'IS Rates'!X103),\"\")","v":""},{"$f":"IFERROR((1/'IS Rates'!Y103),\"\")","v":""},{"$f":"IFERROR((1/'IS Rates'!Z103),\"\")","v":""},{"$f":"IFERROR((1/'IS Rates'!AA103),\"\")","v":""},{"$f":"IFERROR((1/'IS Rates'!AB103),\"\")","v":""},{"$f":"IFERROR((1/'IS Rates'!AC103),\"\")","v":""},{"$f":"IFERROR((1/'IS Rates'!AD103),\"\")","v":""}]
[null,"2004-04-04",{"$f":"ROUND(IFERROR((1/'IS Rates'!C104),\"\"),6)","v":0.74626899999999996},null,{"$f":"IFERROR((1/'IS Rates'!E104),\"\")","v":3.7827491507728159E-4},{"$f":"IFERROR((1/'IS Rates'!F104),\"\")","v":1.2048192771084338},{"$f":"IFERROR((1/'IS Rates'!G104),\"\")","v":0.12820512820512822},{"$f":"IFERROR((1/'IS Rates'!H104),\"\")","v":9.2945441026117664E-3},{"$f":"IFERROR((1/'IS Rates'!I104),\"\")","v":8.6750583397673345E-4},{"$f":"IFERROR((1/'IS Rates'!J104),\"\")","v":0.12820512820512822},{"$f":"IFERROR((1/'IS Rates'!K104),\"\")","v":0.26315789473684209},{"$f":"IFERROR((1/'IS Rates'!L104),\"\")","v":""},{"$f":"ROUND(IFERROR((1/'IS Rates'!M104),\"\"),6)","v":1.7878999999999999E-2},{"$f":"ROUND(IFERROR((1/'IS Rates'!N104),\"\"),6)","v":0.59171600000000002},{"$f":"ROUND(IFERROR((1/'IS Rates'!O104),\"\"),6)","v":3.0460000000000001E-2},{"$f":"ROUND(IFERROR((1/'IS Rates'!P104),\"\"),6)","v":2.5374000000000001E-2},{"$f":"IFERROR((1/'IS Rates'!Q104),\"\")","v":""},{"$f":"ROUND(IFERROR((1/'IS Rates'!R104),\"\"),6)","v":0.52213900000000002},{"$f":"IFERROR((1/'IS Rates'!S104),\"\")","v":""},{"$f":"IFERROR((1/'IS Rates'!T104),\"\")","v":""},{"$f":"IFERROR((1/'IS Rates'!U104),\"\")","v":""},{"$f":"IFERROR((1/'IS Rates'!V104),\"\")","v":""},{"$f":"IFERROR((1/'IS Rates'!W104),\"\")","v":""},{"$f":"IFERROR((1/'IS Rates'!X104),\"\")","v":""},{"$f":"IFERROR((1/'IS Rates'!Y104),\"\")","v":""},{"$f":"IFERROR((1/'IS Rates'!Z104),\"\")","v":""},{"$f":"IFERROR((1/'IS Rates'!AA104),\"\")","v":""},{"$f":"IFERROR((1/'IS Rates'!AB104),\"\")","v":""},{"$f":"IFERROR((1/'IS Rates'!AC104),\"\")","v":""},{"$f":"IFERROR((1/'IS Rates'!AD104),\"\")","v":""}]
[null,"2004-03-04",{"$f":"ROUND(IFERROR((1/'IS Rates'!C105),\"\"),6)","v":0.75187999999999999},null,{"$f":"IFERROR((1/'IS Rates'!E105),\"\")","v":3.7370883597171768E-4},{"$f":"IFERROR((1/'IS Rates'!F105),\"\")","v":1.2345679012345678},{"$f":"IFERROR((1/'IS Rates'!G105),\"\")","v":0.12820512820512822},{"$f":"IFERROR((1/'IS Rates'!H105),\"\")","v":9.2106475085198501E-3},{"$f":"IFERROR((1/'IS Rates'!I105),\"\")","v":8.5791988744091086E-4},{"$f":"IFERROR((1/'IS Rates'!J105),\"\")","v":0.12820512820512822},{"$f":"IFERROR((1/'IS Rates'!K105),\"\")","v":0.26315789473684209},{"$f":"IFERROR((1/'IS Rates'!L105),\"\")","v":""},{"$f":"ROUND(IFERROR((1/'IS Rates'!M105),\"\"),6)","v":1.7770999999999999E-2},{"$f":"ROUND(IFERROR((1/'IS Rates'!N105),\"\"),6)","v":0.58823499999999995},{"$f":"ROUND(IFERROR((1/'IS Rates'!O105),\"\"),6)","v":3.0130000000000001E-2},{"$f":"ROUND(IFERROR((1/'IS Rates'!P105),\"\"),6)","v":2.5444999999999999E-2},{"$f":"IFERROR((1/'IS Rates'!Q105),\"\")","v":""},{"$f":"ROUND(IFERROR((1/'IS Rates'!R105),\"\"),6)","v":0.52213900000000002},{"$f":"IFERROR((1/'IS Rates'!S105),\"\")","v":""},{"$f":"IFERROR((1/'IS Rates'!T105),\"\")","v":""},{"$f":"IFERROR((1/'IS Rates'!U105),\"\")","v":""},{"$f":"IFERROR((1/'IS Rates'!V105),\"\")","v":""},{"$f":"IFERROR((1/'IS Rates'!W105),\"\")","v":""},{"$f":"IFERROR((1/'IS Rates'!X105),\"\")","v":""},{"$f":"IFERROR((1/'IS Rates'!Y105),\"\")","v":""},{"$f":"IFERROR((1/'IS Rates'!Z105),\"\")","v":""},{"$f":"IFERROR((1/'IS Rates'!AA105),\"\")","v":""},{"$f":"IFERROR((1/'IS Rates'!AB105),\"\")","v":""},{"$f":"IFERROR((1/'IS Rates'!AC105),\"\")","v":""},{"$f":"IFERROR((1/'IS Rates'!AD105),\"\")","v":""}]
[null,"2004-02-04",{"$f":"ROUND(IFERROR((1/'IS Rates'!C106),\"\"),6)","v":0.75187999999999999},null,{"$f":"IFERROR((1/'IS Rates'!E106),\"\")","v":3.6762273084869386E-4},{"$f":"IFERROR((1/'IS Rates'!F106),\"\")","v":1.2658227848101264},{"$f":"IFERROR((1/'IS Rates'!G106),\"\")","v":0.12820512820512822},{"$f":"IFERROR((1/'IS Rates'!H106),\"\")","v":9.3896713615023476E-3},{"$f":"IFERROR((1/'IS Rates'!I106),\"\")","v":8.5678790215482146E-4},{"$f":"IFERROR((1/'IS Rates'!J106),\"\")","v":0.12820512820512822},{"$f":"IFERROR((1/'IS Rates'!K106),\"\")","v":0.26315789473684209},{"$f":"IFERROR((1/'IS Rates'!L106),\"\")","v":""},{"$f":"ROUND(IFERROR((1/'IS Rates'!M106),\"\"),6)","v":1.7835E-2},{"$f":"ROUND(IFERROR((1/'IS Rates'!N106),\"\"),6)","v":0.59523800000000004},{"$f":"ROUND(IFERROR((1/'IS Rates'!O106),\"\"),6)","v":3.0157E-2},{"$f":"ROUND(IFERROR((1/'IS Rates'!P106),\"\"),6)","v":2.5641000000000001E-2},{"$f":"IFERROR((1/'IS Rates'!Q106),\"\")","v":""},{"$f":"ROUND(IFERROR((1/'IS Rates'!R106),\"\"),6)","v":0.54962},{"$f":"IFERROR((1/'IS Rates'!S106),\"\")","v":""},{"$f":"IFERROR((1/'IS Rates'!T106),\"\")","v":""},{"$f":"IFERROR((1/'IS Rates'!U106),\"\")","v":""},{"$f":"IFERROR((1/'IS Rates'!V106),\"\")","v":""},{"$f":"IFERROR((1/'IS Rates'!W106),\"\")","v":""},{"$f":"IFERROR((1/'IS Rates'!X106),\"\")","v":""},{"$f":"IFERROR((1/'IS Rates'!Y106),\"\")","v":""},{"$f":"IFERROR((1/'IS Rates'!Z106),\"\")","v":""},{"$f":"IFERROR((1/'IS Rates'!AA106),\"\")","v":""},{"$f":"IFERROR((1/'IS Rates'!AB106),\"\")","v":""},{"$f":"IFERROR((1/'IS Rates'!AC106),\"\")","v":""},{"$f":"IFERROR((1/'IS Rates'!AD106),\"\")","v":""}]
[null,"2004-01-04",{"$f":"ROUND(IFERROR((1/'IS Rates'!C107),\"\"),6)","v":0.769231},null,{"$f":"IFERROR((1/'IS Rates'!E107),\"\")","v":3.6355043353389197E-4},{"$f":"IFERROR((1/'IS Rates'!F107),\"\")","v":1.2658227848101264},{"$f":"IFERROR((1/'IS Rates'!G107),\"\")","v":0.12820512820512822},{"$f":"IFERROR((1/'IS Rates'!H107),\"\")","v":9.4002632073698061E-3},{"$f":"IFERROR((1/'IS Rates'!I107),\"\")","v":8.4537999830923991E-4},{"$f":"IFERROR((1/'IS Rates'!J107),\"\")","v":0.12820512820512822},{"$f":"IFERROR((1/'IS Rates'!K107),\"\")","v":0.26315789473684209},{"$f":"IFERROR((1/'IS Rates'!L107),\"\")","v":""},{"$f":"ROUND(IFERROR((1/'IS Rates'!M107),\"\"),6)","v":1.8027999999999999E-2},{"$f":"ROUND(IFERROR((1/'IS Rates'!N107),\"\"),6)","v":0.58823499999999995},{"$f":"ROUND(IFERROR((1/'IS Rates'!O107),\"\"),6)","v":2.9762E-2},{"$f":"ROUND(IFERROR((1/'IS Rates'!P107),\"\"),6)","v":2.5607999999999999E-2},{"$f":"IFERROR((1/'IS Rates'!Q107),\"\")","v":""},{"$f":"ROUND(IFERROR((1/'IS Rates'!R107),\"\"),6)","v":0.62656599999999996},{"$f":"IFERROR((1/'IS Rates'!S107),\"\")","v":""},{"$f":"IFERROR((1/'IS Rates'!T107),\"\")","v":""},{"$f":"IFERROR((1/'IS Rates'!U107),\"\")","v":""},{"$f":"IFERROR((1/'IS Rates'!V107),\"\")","v":""},{"$f":"IFERROR((1/'IS Rates'!W107),\"\")","v":""},{"$f":"IFERROR((1/'IS Rates'!X107),\"\")","v":""},{"$f":"IFERROR((1/'IS Rates'!Y107),\"\")","v":""},{"$f":"IFERROR((1/'IS Rates'!Z107),\"\")","v":""},{"$f":"IFERROR((1/'IS Rates'!AA107),\"\")","v":""},{"$f":"IFERROR((1/'IS Rates'!AB107),\"\")","v":""},{"$f":"IFERROR((1/'IS Rates'!AC107),\"\")","v":""},{"$f":"IFERROR((1/'IS Rates'!AD107),\"\")","v":""}]
[{"$f":"A96-1","v":2003},"2003-12-04",{"$f":"ROUND(IFERROR((1/'IS Rates'!C108),\"\"),6)","v":0.76335900000000001},{"$f":"IFERROR((1/'IS Rates'!D108),\"\")","v":""},{"$f":"IFERROR((1/'IS Rates'!E108),\"\")","v":""},{"$f":"IFERROR((1/'IS Rates'!F108),\"\")","v":1.2345679011999999},{"$f":"IFERROR((1/'IS Rates'!G108),\"\")","v":0.12820512820512822},{"$f":"IFERROR((1/'IS Rates'!H108),\"\")","v":9.284189E-3},{"$f":"IFERROR((1/'IS Rates'!I108),\"\")","v":8.3926409999999997E-4},{"$f":"IFERROR((1/'IS Rates'!J108),\"\")","v":0.12820512820512822},{"$f":"IFERROR((1/'IS Rates'!K108),\"\")","v":0.26315789473684209},{"$f":"IFERROR((1/'IS Rates'!L108),\"\")","v":""},{"$f":"ROUND(IFERROR((1/'IS Rates'!M108),\"\"),6)","v":1.8054000000000001E-2},{"$f":"ROUND(IFERROR((1/'IS Rates'!N108),\"\"),6)","v":0.58479499999999995},{"$f":"ROUND(IFERROR((1/'IS Rates'!O108),\"\"),6)","v":2.9145999999999998E-2},{"$f":"ROUND(IFERROR((1/'IS Rates'!P108),\"\"),6)","v":2.5000000000000001E-2},{"$f":"IFERROR((1/'IS Rates'!Q108),\"\")","v":""},{"$f":"IFERROR((1/'IS Rates'!R108),\"\")","v":""},{"$f":"IFERROR((1/'IS Rates'!S108),\"\")","v":""},{"$f":"IFERROR((1/'IS Rates'!T108),\"\")","v":""},{"$f":"IFERROR((1/'IS Rates'!U108),\"\")","v":""},{"$f":"IFERROR((1/'IS Rates'!V108),\"\")","v":""},{"$f":"IFERROR((1/'IS Rates'!W108),\"\")","v":""},{"$f":"IFERROR((1/'IS Rates'!X108),\"\")","v":""},{"$f":"IFERROR((1/'IS Rates'!Y108),\"\")","v":""},{"$f":"IFERROR((1/'IS Rates'!Z108),\"\")","v":""},{"$f":"IFERROR((1/'IS Rates'!AA108),\"\")","v":""},{"$f":"IFERROR((1/'IS Rates'!AB108),\"\")","v":""},{"$f":"IFERROR((1/'IS Rates'!AC108),\"\")","v":""},{"$f":"IFERROR((1/'IS Rates'!AD108),\"\")","v":""}]
[null,"2003-11-04",{"$f":"ROUND(IFERROR((1/'IS Rates'!C109),\"\"),6)","v":0.76335900000000001},null,null,{"$f":"IFERROR((1/'IS Rates'!F109),\"\")","v":1.1627906977},{"$f":"IFERROR((1/'IS Rates'!G109),\"\")","v":0.12820512820512822},{"$f":"IFERROR((1/'IS Rates'!H109),\"\")","v":9.1508053000000002E-3},{"$f":"IFERROR((1/'IS Rates'!I109),\"\")","v":8.4392460000000001E-4},{"$f":"IFERROR((1/'IS Rates'!J109),\"\")","v":0.12820512820512822},{"$f":"IFERROR((1/'IS Rates'!K109),\"\")","v":0.26315789473684209},{"$f":"IFERROR((1/'IS Rates'!L109),\"\")","v":""},{"$f":"ROUND(IFERROR((1/'IS Rates'!M109),\"\"),6)","v":1.8067E-2},{"$f":"ROUND(IFERROR((1/'IS Rates'!N109),\"\"),6)","v":0.57803499999999997},{"$f":"ROUND(IFERROR((1/'IS Rates'!O109),\"\"),6)","v":2.9189E-2},{"$f":"ROUND(IFERROR((1/'IS Rates'!P109),\"\"),6)","v":2.5000000000000001E-2},{"$f":"IFERROR((1/'IS Rates'!Q109),\"\")","v":""},{"$f":"IFERROR((1/'IS Rates'!R109),\"\")","v":""},{"$f":"IFERROR((1/'IS Rates'!S109),\"\")","v":""},{"$f":"IFERROR((1/'IS Rates'!T109),\"\")","v":""},{"$f":"IFERROR((1/'IS Rates'!U109),\"\")","v":""},{"$f":"IFERROR((1/'IS Rates'!V109),\"\")","v":""},{"$f":"IFERROR((1/'IS Rates'!W109),\"\")","v":""},{"$f":"IFERROR((1/'IS Rates'!X109),\"\")","v":""},{"$f":"IFERROR((1/'IS Rates'!Y109),\"\")","v":""},{"$f":"IFERROR((1/'IS Rates'!Z109),\"\")","v":""},{"$f":"IFERROR((1/'IS Rates'!AA109),\"\")","v":""},{"$f":"IFERROR((1/'IS Rates'!AB109),\"\")","v":""},{"$f":"IFERROR((1/'IS Rates'!AC109),\"\")","v":""},{"$f":"IFERROR((1/'IS Rates'!AD109),\"\")","v":""}]
[null,"2003-10-04",{"$f":"ROUND(IFERROR((1/'IS Rates'!C110),\"\"),6)","v":0.75187999999999999},null,null,{"$f":"IFERROR((1/'IS Rates'!F110),\"\")","v":1.1627906977},{"$f":"IFERROR((1/'IS Rates'!G110),\"\")","v":0.12820512820512822},{"$f":"IFERROR((1/'IS Rates'!H110),\"\")","v":9.1265857000000002E-3},{"$f":"IFERROR((1/'IS Rates'!I110),\"\")","v":8.5670720000000002E-4},{"$f":"IFERROR((1/'IS Rates'!J110),\"\")","v":0.12820512820512822},{"$f":"IFERROR((1/'IS Rates'!K110),\"\")","v":0.26315789473684209},{"$f":"IFERROR((1/'IS Rates'!L110),\"\")","v":""},{"$f":"ROUND(IFERROR((1/'IS Rates'!M110),\"\"),6)","v":1.8204999999999999E-2},{"$f":"ROUND(IFERROR((1/'IS Rates'!N110),\"\"),6)","v":0.57803499999999997},{"$f":"ROUND(IFERROR((1/'IS Rates'!O110),\"\"),6)","v":2.9464000000000001E-2},{"$f":"ROUND(IFERROR((1/'IS Rates'!P110),\"\"),6)","v":2.5163999999999999E-2},{"$f":"IFERROR((1/'IS Rates'!Q110),\"\")","v":""},{"$f":"IFERROR((1/'IS Rates'!R110),\"\")","v":""},{"$f":"IFERROR((1/'IS Rates'!S110),\"\")","v":""},{"$f":"IFERROR((1/'IS Rates'!T110),\"\")","v":""},{"$f":"IFERROR((1/'IS Rates'!U110),\"\")","v":""},{"$f":"IFERROR((1/'IS Rates'!V110),\"\")","v":""},{"$f":"IFERROR((1/'IS Rates'!W110),\"\")","v":""},{"$f":"IFERROR((1/'IS Rates'!X110),\"\")","v":""},{"$f":"IFERROR((1/'IS Rates'!Y110),\"\")","v":""},{"$f":"IFERROR((1/'IS Rates'!Z110),\"\")","v":""},{"$f":"IFERROR((1/'IS Rates'!AA110),\"\")","v":""},{"$f":"IFERROR((1/'IS Rates'!AB110),\"\")","v":""},{"$f":"IFERROR((1/'IS Rates'!AC110),\"\")","v":""},{"$f":"IFERROR((1/'IS Rates'!AD110),\"\")","v":""}]
[null,"2003-09-04",{"$f":"ROUND(IFERROR((1/'IS Rates'!C111),\"\"),6)","v":0.72992699999999999},null,null,{"$f":"IFERROR((1/'IS Rates'!F111),\"\")","v":1.1235955056},{"$f":"IFERROR((1/'IS Rates'!G111),\"\")","v":0.12820512820512822},{"$f":"IFERROR((1/'IS Rates'!H111),\"\")","v":8.7009484000000002E-3},{"$f":"IFERROR((1/'IS Rates'!I111),\"\")","v":8.5857550000000016E-4},{"$f":"IFERROR((1/'IS Rates'!J111),\"\")","v":0.12820512820512822},{"$f":"IFERROR((1/'IS Rates'!K111),\"\")","v":0.26315789473684209},{"$f":"IFERROR((1/'IS Rates'!L111),\"\")","v":""},{"$f":"ROUND(IFERROR((1/'IS Rates'!M111),\"\"),6)","v":1.8201999999999999E-2},{"$f":"ROUND(IFERROR((1/'IS Rates'!N111),\"\"),6)","v":0.57142899999999996},{"$f":"ROUND(IFERROR((1/'IS Rates'!O111),\"\"),6)","v":2.9586000000000001E-2},{"$f":"ROUND(IFERROR((1/'IS Rates'!P111),\"\"),6)","v":2.4722000000000001E-2},{"$f":"IFERROR((1/'IS Rates'!Q111),\"\")","v":""},{"$f":"IFERROR((1/'IS Rates'!R111),\"\")","v":""},{"$f":"IFERROR((1/'IS Rates'!S111),\"\")","v":""},{"$f":"IFERROR((1/'IS Rates'!T111),\"\")","v":""},{"$f":"IFERROR((1/'IS Rates'!U111),\"\")","v":""},{"$f":"IFERROR((1/'IS Rates'!V111),\"\")","v":""},{"$f":"IFERROR((1/'IS Rates'!W111),\"\")","v":""},{"$f":"IFERROR((1/'IS Rates'!X111),\"\")","v":""},{"$f":"IFERROR((1/'IS Rates'!Y111),\"\")","v":""},{"$f":"IFERROR((1/'IS Rates'!Z111),\"\")","v":""},{"$f":"IFERROR((1/'IS Rates'!AA111),\"\")","v":""},{"$f":"IFERROR((1/'IS Rates'!AB111),\"\")","v":""},{"$f":"IFERROR((1/'IS Rates'!AC111),\"\")","v":""},{"$f":"IFERROR((1/'IS Rates'!AD111),\"\")","v":""}]
[null,"2003-08-04",{"$f":"ROUND(IFERROR((1/'IS Rates'!C112),\"\"),6)","v":0.71428599999999998},null,null,{"$f":"IFERROR((1/'IS Rates'!F112),\"\")","v":1.1111111111},{"$f":"IFERROR((1/'IS Rates'!G112),\"\")","v":0.12820512820512822},{"$f":"IFERROR((1/'IS Rates'!H112),\"\")","v":8.4132592999999999E-3},{"$f":"IFERROR((1/'IS Rates'!I112),\"\")","v":8.484139000000001E-4},{"$f":"IFERROR((1/'IS Rates'!J112),\"\")","v":0.12820512820512822},{"$f":"IFERROR((1/'IS Rates'!K112),\"\")","v":0.26315789473684209},{"$f":"IFERROR((1/'IS Rates'!L112),\"\")","v":""},{"$f":"ROUND(IFERROR((1/'IS Rates'!M112),\"\"),6)","v":1.8207999999999998E-2},{"$f":"ROUND(IFERROR((1/'IS Rates'!N112),\"\"),6)","v":0.57142899999999996},{"$f":"ROUND(IFERROR((1/'IS Rates'!O112),\"\"),6)","v":2.9446E-2},{"$f":"ROUND(IFERROR((1/'IS Rates'!P112),\"\"),6)","v":2.3997999999999998E-2},{"$f":"IFERROR((1/'IS Rates'!Q112),\"\")","v":""},{"$f":"IFERROR((1/'IS Rates'!R112),\"\")","v":""},{"$f":"IFERROR((1/'IS Rates'!S112),\"\")","v":""},{"$f":"IFERROR((1/'IS Rates'!T112),\"\")","v":""},{"$f":"IFERROR((1/'IS Rates'!U112),\"\")","v":""},{"$f":"IFERROR((1/'IS Rates'!V112),\"\")","v":""},{"$f":"IFERROR((1/'IS Rates'!W112),\"\")","v":""},{"$f":"IFERROR((1/'IS Rates'!X112),\"\")","v":""},{"$f":"IFERROR((1/'IS Rates'!Y112),\"\")","v":""},{"$f":"IFERROR((1/'IS Rates'!Z112),\"\")","v":""},{"$f":"IFERROR((1/'IS Rates'!AA112),\"\")","v":""},{"$f":"IFERROR((1/'IS Rates'!AB112),\"\")","v":""},{"$f":"IFERROR((1/'IS Rates'!AC112),\"\")","v":""},{"$f":"IFERROR((1/'IS Rates'!AD112),\"\")","v":""}]
[null,"2003-07-04",{"$f":"ROUND(IFERROR((1/'IS Rates'!C113),\"\"),6)","v":0.71428599999999998},null,null,{"$f":"IFERROR((1/'IS Rates'!F113),\"\")","v":1.1363636364},{"$f":"IFERROR((1/'IS Rates'!G113),\"\")","v":0.12820512820512822},{"$f":"IFERROR((1/'IS Rates'!H113),\"\")","v":8.3913736999999995E-3},{"$f":"IFERROR((1/'IS Rates'!I113),\"\")","v":8.4805410000000003E-4},{"$f":"IFERROR((1/'IS Rates'!J113),\"\")","v":0.12820512820512822},{"$f":"IFERROR((1/'IS Rates'!K113),\"\")","v":0.26315789473684209},{"$f":"IFERROR((1/'IS Rates'!L113),\"\")","v":""},{"$f":"ROUND(IFERROR((1/'IS Rates'!M113),\"\"),6)","v":1.8522E-2},{"$f":"ROUND(IFERROR((1/'IS Rates'!N113),\"\"),6)","v":0.56818199999999996},{"$f":"ROUND(IFERROR((1/'IS Rates'!O113),\"\"),6)","v":2.9429E-2},{"$f":"ROUND(IFERROR((1/'IS Rates'!P113),\"\"),6)","v":2.3810000000000001E-2},{"$f":"IFERROR((1/'IS Rates'!Q113),\"\")","v":""},{"$f":"IFERROR((1/'IS Rates'!R113),\"\")","v":""},{"$f":"IFERROR((1/'IS Rates'!S113),\"\")","v":""},{"$f":"IFERROR((1/'IS Rates'!T113),\"\")","v":""},{"$f":"IFERROR((1/'IS Rates'!U113),\"\")","v":""},{"$f":"IFERROR((1/'IS Rates'!V113),\"\")","v":""},{"$f":"IFERROR((1/'IS Rates'!W113),\"\")","v":""},{"$f":"IFERROR((1/'IS Rates'!X113),\"\")","v":""},{"$f":"IFERROR((1/'IS Rates'!Y113),\"\")","v":""},{"$f":"IFERROR((1/'IS Rates'!Z113),\"\")","v":""},{"$f":"IFERROR((1/'IS Rates'!AA113),\"\")","v":""},{"$f":"IFERROR((1/'IS Rates'!AB113),\"\")","v":""},{"$f":"IFERROR((1/'IS Rates'!AC113),\"\")","v":""},{"$f":"IFERROR((1/'IS Rates'!AD113),\"\")","v":""}]

{"sheet":"Inverse BS Rates","index":80,"n_rows":113,"n_cols":34,"rows_kept":113,"cut":false,"hidden":false,"merged":[[47,0,58,0],[11,0,22,0],[23,0,34,0],[35,0,46,0],[7,0,10,0],[107,0,118,0],[59,0,70,0],[71,0,82,0],[83,0,94,0],[95,0,106,0]]}
[]
[]
[]
[null,null,"Canadian","China","Colombian","European","HongKong","Japanese","Korean","Macau","Malaysian","Mexico","Philippines","Singapore","Taiwan","Thailand","Turkish","Venezuelan","Australian","British","Brunei ","Danish","Dutch","New Zealand","Swedish","Swiss ","Hungarian","Czech","Polish","Indonesian","Lao","Norway","Indian","Chilean"]
[null,null,"Dollar","RMB","Peso","Euro","Dollar","Yen","Won","Pataca","Ringgit","Peso","Peso","Dollar","Dollar","Baht","New Lira","Bolivar","Dollar","Pound","Dollar","Krona","Guilder","Dollar","Krona","Franc","Forint","Koruna","Zloty","Rupiah","Kip","Krone","Rupee","Peso"]
[null,null,"CAD","CNY","COP","EUR","HKD","JPY","KRW","MOP","MYR","MXN","PHP","SGD","TWD","THB","TRY","VEF","AUD","GBP","BND","DKK","EUR","NZD","SEK","CHF","HUF","CZK","PLN","IDR","LAK","NOK","INR","CLP"]
[null,null,"B/S Rate","B/S Rate","B/S Rate","B/S Rate","B/S Rate","B/S Rate","B/S Rate","B/S Rate","B/S Rate","B/S Rate","B/S Rate","B/S Rate","B/S Rate","B/S Rate","B/S Rate","B/S Rate","B/S Rate","B/S Rate","B/S Rate","B/S Rate","B/S Rate","B/S Rate","B/S Rate","B/S Rate","B/S Rate","B/S Rate","B/S Rate","B/S Rate","B/S Rate","B/S Rate","B/S Rate","B/S Rate"]
[2012,"2012-04-01",1.0008509999999999,0.157667,5.53E-4,1.333742,0.128742,1.2061000000000001E-2,8.83E-4,0.122781,0.32625500000000002,7.7964000000000006E-2,2.3237000000000001E-2,0.79477399999999998,3.3689999999999998E-2,3.1954000000000003E-2,0.56038100000000002,0.232574,1.03434,1.600922,0.78428299999999995,0.17927199999999999,1.333742,0.817882,0.15112300000000001,1.107542,4.5250000000000004E-3,5.3772E-2,0.32138600000000001,1.0900000000000001E-4,1.2400000000000001E-4,0.175344,1.9162999999999999E-2,2.055E-3]
[null,"2012-03-01",1.001071,0.15800600000000001,5.62E-4,1.3300879999999999,0.12878800000000001,1.2122000000000001E-2,8.7799999999999998E-4,0.12273100000000001,0.32574999999999998,7.8118000000000007E-2,2.3196999999999999E-2,0.79439499999999996,3.3789E-2,3.2348000000000002E-2,0.56051300000000004,0.232434,1.0360549999999999,1.5903309999999999,0.78376000000000001,0.17882700000000001,1.3300879999999999,0.81591999999999998,0.150058,1.1034600000000001,4.5189999999999996E-3,5.3756999999999999E-2,0.31926500000000002,1.0900000000000001E-4,1.2400000000000001E-4,0.17402300000000001,1.9123999999999999E-2,2.0430000000000001E-3]
[null,"2012-02-01",{"$f":"ROUND(IFERROR((1/'BS Rates'!C10),\"\"),6)","v":1.0032099999999999},{"$f":"ROUND(IFERROR((1/'BS Rates'!D10),\"\"),6)","v":0.15861700000000001},{"$f":"ROUND(IFERROR((1/'BS Rates'!E10),\"\"),6)","v":5.62E-4},{"$f":"ROUND(IFERROR((1/'BS Rates'!F10),\"\"),6)","v":1.3430029999999999},{"$f":"ROUND(IFERROR((1/'BS Rates'!G10),\"\"),6)","v":0.12894600000000001},{"$f":"ROUND(IFERROR((1/'BS Rates'!H10),\"\"),6)","v":1.2425E-2},{"$f":"ROUND(IFERROR((1/'BS Rates'!I10),\"\"),6)","v":8.8699999999999998E-4},{"$f":"ROUND(IFERROR((1/'BS Rates'!J10),\"\"),6)","v":0.122933},{"$f":"ROUND(IFERROR((1/'BS Rates'!K10),\"\"),6)","v":0.33168599999999998},{"$f":"ROUND(IFERROR((1/'BS Rates'!L10),\"\"),6)","v":7.7683000000000002E-2},{"$f":"ROUND(IFERROR((1/'BS Rates'!M10),\"\"),6)","v":2.3272999999999999E-2},{"$f":"ROUND(IFERROR((1/'BS Rates'!N10),\"\"),6)","v":0.79776599999999998},{"$f":"ROUND(IFERROR((1/'BS Rates'!O10),\"\"),6)","v":3.3767999999999999E-2},{"$f":"ROUND(IFERROR((1/'BS Rates'!P10),\"\"),6)","v":3.3057999999999997E-2},{"$f":"ROUND(IFERROR((1/'BS Rates'!Q10),\"\"),6)","v":0.56782699999999997},{"$f":"ROUND(IFERROR((1/'BS Rates'!R10),\"\"),6)","v":0.232488},{"$f":"ROUND(IFERROR((1/'BS Rates'!S10),\"\"),6)","v":1.076195},{"$f":"ROUND(IFERROR((1/'BS Rates'!T10),\"\"),6)","v":1.584786},{"$f":"ROUND(IFERROR((1/'BS Rates'!U10),\"\"),6)","v":0.783945},{"$f":"ROUND(IFERROR((1/'BS Rates'!V10),\"\"),6)","v":0.180642},{"$f":"ROUND(IFERROR((1/'BS Rates'!W10),\"\"),6)","v":1.3430029999999999},{"$f":"ROUND(IFERROR((1/'BS Rates'!X10),\"\"),6)","v":0.83871499999999999},{"$f":"ROUND(IFERROR((1/'BS Rates'!Y10),\"\"),6)","v":0.152061},{"$f":"ROUND(IFERROR((1/'BS Rates'!Z10),\"\"),6)","v":1.11433},{"$f":"ROUND(IFERROR((1/'BS Rates'!AA10),\"\"),6)","v":4.6169999999999996E-3},{"$f":"ROUND(IFERROR((1/'BS Rates'!AB10),\"\"),6)","v":5.3790999999999999E-2},{"$f":"ROUND(IFERROR((1/'BS Rates'!AC10),\"\"),6)","v":0.32325799999999999},{"$f":"ROUND(IFERROR((1/'BS Rates'!AD10),\"\"),6)","v":1.1E-4},{"$f":"ROUND(IFERROR((1/'BS Rates'!AE10),\"\"),6)","v":1.2400000000000001E-4},{"$f":"ROUND(IFERROR((1/'BS Rates'!AF10),\"\"),6)","v":0.17914099999999999},{"$f":"ROUND(IFERROR((1/'BS Rates'!AG10),\"\"),6)","v":2.0213999999999999E-2},{"$f":"ROUND(IFERROR((1/'BS Rates'!AH10),\"\"),6)","v":2.0920000000000001E-3}]
[null,"2012-01-01",{"$f":"ROUND(IFERROR((1/'BS Rates'!C11),\"\"),6)","v":0.99591700000000005},{"$f":"ROUND(IFERROR((1/'BS Rates'!D11),\"\"),6)","v":0.158632},{"$f":"ROUND(IFERROR((1/'BS Rates'!E11),\"\"),6)","v":5.4500000000000002E-4},{"$f":"ROUND(IFERROR((1/'BS Rates'!F11),\"\"),6)","v":1.315097},{"$f":"ROUND(IFERROR((1/'BS Rates'!G11),\"\"),6)","v":0.128916},{"$f":"ROUND(IFERROR((1/'BS Rates'!H11),\"\"),6)","v":1.3055000000000001E-2},{"$f":"ROUND(IFERROR((1/'BS Rates'!I11),\"\"),6)","v":8.8699999999999998E-4},{"$f":"ROUND(IFERROR((1/'BS Rates'!J11),\"\"),6)","v":0.123264},{"$f":"ROUND(IFERROR((1/'BS Rates'!K11),\"\"),6)","v":0.32737500000000003},{"$f":"ROUND(IFERROR((1/'BS Rates'!L11),\"\"),6)","v":7.7025999999999997E-2},{"$f":"ROUND(IFERROR((1/'BS Rates'!M11),\"\"),6)","v":2.3226E-2},{"$f":"ROUND(IFERROR((1/'BS Rates'!N11),\"\"),6)","v":0.79560799999999998},{"$f":"ROUND(IFERROR((1/'BS Rates'!O11),\"\"),6)","v":3.3487999999999997E-2},{"$f":"ROUND(IFERROR((1/'BS Rates'!P11),\"\"),6)","v":3.2216000000000002E-2},{"$f":"ROUND(IFERROR((1/'BS Rates'!Q11),\"\"),6)","v":0.55969100000000005},{"$f":"ROUND(IFERROR((1/'BS Rates'!R11),\"\"),6)","v":0.232574},{"$f":"ROUND(IFERROR((1/'BS Rates'!S11),\"\"),6)","v":1.0580890000000001},{"$f":"ROUND(IFERROR((1/'BS Rates'!T11),\"\"),6)","v":1.569366},{"$f":"ROUND(IFERROR((1/'BS Rates'!U11),\"\"),6)","v":0.78622499999999995},{"$f":"ROUND(IFERROR((1/'BS Rates'!V11),\"\"),6)","v":0.17683499999999999},{"$f":"ROUND(IFERROR((1/'BS Rates'!W11),\"\"),6)","v":1.315097},{"$f":"ROUND(IFERROR((1/'BS Rates'!X11),\"\"),6)","v":0.81967199999999996},{"$f":"ROUND(IFERROR((1/'BS Rates'!Y11),\"\"),6)","v":0.147673},{"$f":"ROUND(IFERROR((1/'BS Rates'!Z11),\"\"),6)","v":1.0908690000000001},{"$f":"ROUND(IFERROR((1/'BS Rates'!AA11),\"\"),6)","v":4.4520000000000002E-3},{"$f":"ROUND(IFERROR((1/'BS Rates'!AB11),\"\"),6)","v":5.2109000000000003E-2},{"$f":"ROUND(IFERROR((1/'BS Rates'!AC11),\"\"),6)","v":0.30948300000000001},{"$f":"ROUND(IFERROR((1/'BS Rates'!AD11),\"\"),6)","v":1.11E-4},{"$f":"ROUND(IFERROR((1/'BS Rates'!AE11),\"\"),6)","v":1.2300000000000001E-4},{"$f":"ROUND(IFERROR((1/'BS Rates'!AF11),\"\"),6)","v":0.171482},{"$f":"ROUND(IFERROR((1/'BS Rates'!AG11),\"\"),6)","v":1.9875E-2}]
[2011,"2011-12-01",{"$f":"ROUND(IFERROR((1/'BS Rates'!C12),\"\"),6)","v":0.97713499999999998},{"$f":"ROUND(IFERROR((1/'BS Rates'!D12),\"\"),6)","v":0.15694900000000001},{"$f":"ROUND(IFERROR((1/'BS Rates'!E12),\"\"),6)","v":5.1199999999999998E-4},{"$f":"ROUND(IFERROR((1/'BS Rates'!F12),\"\"),6)","v":1.292157},{"$f":"ROUND(IFERROR((1/'BS Rates'!G12),\"\"),6)","v":0.128639},{"$f":"ROUND(IFERROR((1/'BS Rates'!H12),\"\"),6)","v":1.2855E-2},{"$f":"ROUND(IFERROR((1/'BS Rates'!I12),\"\"),6)","v":8.6399999999999997E-4},{"$f":"ROUND(IFERROR((1/'BS Rates'!J12),\"\"),6)","v":0.12263499999999999},{"$f":"ROUND(IFERROR((1/'BS Rates'!K12),\"\"),6)","v":0.314832},{"$f":"ROUND(IFERROR((1/'BS Rates'!L12),\"\"),6)","v":7.1447999999999998E-2},{"$f":"ROUND(IFERROR((1/'BS Rates'!M12),\"\"),6)","v":2.2724000000000001E-2},{"$f":"ROUND(IFERROR((1/'BS Rates'!N12),\"\"),6)","v":0.76816700000000004},{"$f":"ROUND(IFERROR((1/'BS Rates'!O12),\"\"),6)","v":3.2850999999999998E-2},{"$f":"ROUND(IFERROR((1/'BS Rates'!P12),\"\"),6)","v":3.1543000000000002E-2},{"$f":"ROUND(IFERROR((1/'BS Rates'!Q12),\"\"),6)","v":0.52118600000000004},{"$f":"ROUND(IFERROR((1/'BS Rates'!R12),\"\"),6)","v":0.23236899999999999},{"$f":"ROUND(IFERROR((1/'BS Rates'!S12),\"\"),6)","v":1.00898},{"$f":"ROUND(IFERROR((1/'BS Rates'!T12),\"\"),6)","v":1.5424960000000001},{"$f":"ROUND(IFERROR((1/'BS Rates'!U12),\"\"),6)","v":0.75964799999999999},{"$f":"ROUND(IFERROR((1/'BS Rates'!V12),\"\"),6)","v":0.17379500000000001},{"$f":"ROUND(IFERROR((1/'BS Rates'!W12),\"\"),6)","v":1.292157},{"$f":"ROUND(IFERROR((1/'BS Rates'!X12),\"\"),6)","v":0.76863999999999999},{"$f":"ROUND(IFERROR((1/'BS Rates'!Y12),\"\"),6)","v":0.14452300000000001},{"$f":"ROUND(IFERROR((1/'BS Rates'!Z12),\"\"),6)","v":1.0601080000000001},{"$f":"ROUND(IFERROR((1/'BS Rates'!AA12),\"\"),6)","v":4.1590000000000004E-3},{"$f":"ROUND(IFERROR((1/'BS Rates'!AB12),\"\"),6)","v":5.0039E-2},{"$f":"ROUND(IFERROR((1/'BS Rates'!AC12),\"\"),6)","v":0.29281699999999999},{"$f":"ROUND(IFERROR((1/'BS Rates'!AD12),\"\"),6)","v":1.1E-4},{"$f":"ROUND(IFERROR((1/'BS Rates'!AE12),\"\"),6)","v":1.2400000000000001E-4},{"$f":"ROUND(IFERROR((1/'BS Rates'!AF12),\"\"),6)","v":0.16605},{"$f":"ROUND(IFERROR((1/'BS Rates'!AG12),\"\"),6)","v":1.8291999999999999E-2},{"$f":"ROUND(IFERROR((1/'BS Rates'!AH12),\"\"),6)","v":1.918E-3}]
[null,"2011-11-01",{"$f":"ROUND(IFERROR((1/'BS Rates'!C13),\"\"),6)","v":0.968804},{"$f":"ROUND(IFERROR((1/'BS Rates'!D13),\"\"),6)","v":0.156806},{"$f":"ROUND(IFERROR((1/'BS Rates'!E13),\"\"),6)","v":4.9899999999999999E-4},{"$f":"ROUND(IFERROR((1/'BS Rates'!F13),\"\"),6)","v":1.3335109999999999},{"$f":"ROUND(IFERROR((1/'BS Rates'!G13),\"\"),6)","v":0.12831699999999999},{"$f":"ROUND(IFERROR((1/'BS Rates'!H13),\"\"),6)-0.000001","v":1.2827000000000002E-2},{"$f":"ROUND(IFERROR((1/'BS Rates'!I13),\"\"),6)","v":8.6600000000000002E-4},{"$f":"ROUND(IFERROR((1/'BS Rates'!J13),\"\"),6)","v":0.12225999999999999},{"$f":"ROUND(IFERROR((1/'BS Rates'!K13),\"\"),6)","v":0.31106099999999998},{"$f":"ROUND(IFERROR((1/'BS Rates'!L13),\"\"),6)","v":7.1439000000000002E-2},{"$f":"ROUND(IFERROR((1/'BS Rates'!M13),\"\"),6)","v":2.2828999999999999E-2},{"$f":"ROUND(IFERROR((1/'BS Rates'!N13),\"\"),6)","v":0.77005999999999997},{"$f":"ROUND(IFERROR((1/'BS Rates'!O13),\"\"),6)","v":3.2850999999999998E-2},{"$f":"ROUND(IFERROR((1/'BS Rates'!P13),\"\"),6)","v":3.2039999999999999E-2},{"$f":"ROUND(IFERROR((1/'BS Rates'!Q13),\"\"),6)","v":0.53885099999999997},{"$f":"ROUND(IFERROR((1/'BS Rates'!R13),\"\"),6)","v":0.232574},{"$f":"ROUND(IFERROR((1/'BS Rates'!S13),\"\"),6)","v":0.99671100000000001},{"$f":"ROUND(IFERROR((1/'BS Rates'!T13),\"\"),6)","v":1.5556939999999999},{"$f":"ROUND(IFERROR((1/'BS Rates'!U13),\"\"),6)","v":0.75654399999999999},{"$f":"ROUND(IFERROR((1/'BS Rates'!V13),\"\"),6)","v":0.17927899999999999},{"$f":"ROUND(IFERROR((1/'BS Rates'!W13),\"\"),6)","v":1.3335109999999999},{"$f":"ROUND(IFERROR((1/'BS Rates'!X13),\"\"),6)","v":0.75838000000000005},{"$f":"ROUND(IFERROR((1/'BS Rates'!Y13),\"\"),6)","v":0.144317},{"$f":"ROUND(IFERROR((1/'BS Rates'!Z13),\"\"),6)","v":1.085423},{"$f":"ROUND(IFERROR((1/'BS Rates'!AA13),\"\"),6)","v":4.3080000000000002E-3},{"$f":"ROUND(IFERROR((1/'BS Rates'!AB13),\"\"),6)","v":5.1979999999999998E-2},{"$f":"ROUND(IFERROR((1/'BS Rates'!AC13),\"\"),6)","v":0.29430800000000001},{"$f":"ROUND(IFERROR((1/'BS Rates'!AD13),\"\"),6)","v":1.0900000000000001E-4},{"$f":"ROUND(IFERROR((1/'BS Rates'!AE13),\"\"),6)","v":1.21E-4},{"$f":"ROUND(IFERROR((1/'BS Rates'!AF13),\"\"),6)","v":0.17005100000000001},{"$f":"ROUND(IFERROR((1/'BS Rates'!AG13),\"\"),6)","v":1.9134000000000002E-2},{"$f":"ROUND(IFERROR((1/'BS Rates'!AH13),\"\"),6)","v":1.9059999999999999E-3}]
[null,"2011-10-01",{"$f":"ROUND(IFERROR((1/'BS Rates'!C14),\"\"),6)","v":1.00776},{"$f":"ROUND(IFERROR((1/'BS Rates'!D14),\"\"),6)","v":0.15684999999999999},{"$f":"ROUND(IFERROR((1/'BS Rates'!E14),\"\"),6)","v":5.3300000000000005E-4},{"$f":"ROUND(IFERROR((1/'BS Rates'!F14),\"\"),6)","v":1.4142269999999999},{"$f":"ROUND(IFERROR((1/'BS Rates'!G14),\"\"),6)","v":0.128773},{"$f":"ROUND(IFERROR((1/'BS Rates'!H14),\"\"),6)-0.000001","v":1.3185000000000001E-2},{"$f":"ROUND(IFERROR((1/'BS Rates'!I14),\"\"),6)","v":9.0499999999999999E-4},{"$f":"ROUND(IFERROR((1/'BS Rates'!J14),\"\"),6)","v":0.12273000000000001},{"$f":"ROUND(IFERROR((1/'BS Rates'!K14),\"\"),6)","v":0.32585999999999998},{"$f":"ROUND(IFERROR((1/'BS Rates'!L14),\"\"),6)","v":7.6761999999999997E-2},{"$f":"ROUND(IFERROR((1/'BS Rates'!M14),\"\"),6)","v":2.3380000000000001E-2},{"$f":"ROUND(IFERROR((1/'BS Rates'!N14),\"\"),6)","v":0.80476400000000003},{"$f":"ROUND(IFERROR((1/'BS Rates'!O14),\"\"),6)","v":3.3169999999999998E-2},{"$f":"ROUND(IFERROR((1/'BS Rates'!P14),\"\"),6)","v":3.2568E-2},{"$f":"ROUND(IFERROR((1/'BS Rates'!Q14),\"\"),6)","v":0.57240999999999997},{"$f":"ROUND(IFERROR((1/'BS Rates'!R14),\"\"),6)","v":0.23238500000000001},{"$f":"ROUND(IFERROR((1/'BS Rates'!S14),\"\"),6)","v":1.0696330000000001},{"$f":"ROUND(IFERROR((1/'BS Rates'!T14),\"\"),6)","v":1.612123},{"$f":"ROUND(IFERROR((1/'BS Rates'!U14),\"\"),6)","v":0.79358799999999996},{"$f":"ROUND(IFERROR((1/'BS Rates'!V14),\"\"),6)","v":0.19025500000000001},{"$f":"ROUND(IFERROR((1/'BS Rates'!W14),\"\"),6)","v":1.4142269999999999},{"$f":"ROUND(IFERROR((1/'BS Rates'!X14),\"\"),6)","v":0.82047899999999996},{"$f":"ROUND(IFERROR((1/'BS Rates'!Y14),\"\"),6)","v":0.156664},{"$f":"ROUND(IFERROR((1/'BS Rates'!Z14),\"\"),6)","v":1.1575409999999999},{"$f":"ROUND(IFERROR((1/'BS Rates'!AA14),\"\"),6)","v":4.6600000000000001E-3},{"$f":"ROUND(IFERROR((1/'BS Rates'!AB14),\"\"),6)","v":5.7204999999999999E-2},{"$f":"ROUND(IFERROR((1/'BS Rates'!AC14),\"\"),6)","v":0.32647700000000002},{"$f":"ROUND(IFERROR((1/'BS Rates'!AD14),\"\"),6)","v":1.13E-4},{"$f":"ROUND(IFERROR((1/'BS Rates'!AE14),\"\"),6)","v":1.2300000000000001E-4},{"$f":"ROUND(IFERROR((1/'BS Rates'!AF14),\"\"),6)","v":0.18376300000000001},{"$f":"ROUND(IFERROR((1/'BS Rates'!AG14),\"\"),6)","v":2.0219999999999998E-2},{"$f":"ROUND(IFERROR((1/'BS Rates'!AH14),\"\"),6)","v":2.0400000000000001E-3}]
[null,"2011-09-01",{"$f":"ROUND(IFERROR((1/'BS Rates'!C15),\"\"),6)","v":0.96814800000000001},{"$f":"ROUND(IFERROR((1/'BS Rates'!D15),\"\"),6)","v":0.15620600000000001},{"$f":"ROUND(IFERROR((1/'BS Rates'!E15),\"\"),6)","v":5.1599999999999997E-4},{"$f":"ROUND(IFERROR((1/'BS Rates'!F15),\"\"),6)","v":1.3596189999999999},{"$f":"ROUND(IFERROR((1/'BS Rates'!G15),\"\"),6)","v":0.12831400000000001},{"$f":"ROUND(IFERROR((1/'BS Rates'!H15),\"\"),6)-0.000001","v":1.3049000000000002E-2},{"$f":"ROUND(IFERROR((1/'BS Rates'!I15),\"\"),6)","v":8.4900000000000004E-4},{"$f":"ROUND(IFERROR((1/'BS Rates'!J15),\"\"),6)","v":0.122312},{"$f":"ROUND(IFERROR((1/'BS Rates'!K15),\"\"),6)","v":0.31362699999999999},{"$f":"ROUND(IFERROR((1/'BS Rates'!L15),\"\"),6)","v":7.3827000000000004E-2},{"$f":"ROUND(IFERROR((1/'BS Rates'!M15),\"\"),6)","v":2.2873000000000001E-2},{"$f":"ROUND(IFERROR((1/'BS Rates'!N15),\"\"),6)","v":0.77160499999999999},{"$f":"ROUND(IFERROR((1/'BS Rates'!O15),\"\"),6)","v":3.2742E-2},{"$f":"ROUND(IFERROR((1/'BS Rates'!P15),\"\"),6)","v":3.2099000000000003E-2},{"$f":"ROUND(IFERROR((1/'BS Rates'!Q15),\"\"),6)","v":0.53954899999999995},{"$f":"ROUND(IFERROR((1/'BS Rates'!R15),\"\"),6)","v":0.232407},{"$f":"ROUND(IFERROR((1/'BS Rates'!S15),\"\"),6)","v":0.97914400000000001},{"$f":"ROUND(IFERROR((1/'BS Rates'!T15),\"\"),6)","v":1.5625},{"$f":"ROUND(IFERROR((1/'BS Rates'!U15),\"\"),6)","v":0.76202099999999995},{"$f":"ROUND(IFERROR((1/'BS Rates'!V15),\"\"),6)","v":0.18281500000000001},{"$f":"ROUND(IFERROR((1/'BS Rates'!W15),\"\"),6)","v":1.3596189999999999},{"$f":"ROUND(IFERROR((1/'BS Rates'!X15),\"\"),6)","v":0.77609600000000001},{"$f":"ROUND(IFERROR((1/'BS Rates'!Y15),\"\"),6)","v":0.14722099999999999},{"$f":"ROUND(IFERROR((1/'BS Rates'!Z15),\"\"),6)","v":1.1144540000000001},{"$f":"ROUND(IFERROR((1/'BS Rates'!AA15),\"\"),6)","v":4.646E-3},{"$f":"ROUND(IFERROR((1/'BS Rates'!AB15),\"\"),6)","v":5.5268999999999999E-2},{"$f":"ROUND(IFERROR((1/'BS Rates'!AC15),\"\"),6)","v":0.30742700000000001},{"$f":"ROUND(IFERROR((1/'BS Rates'!AD15),\"\"),6)","v":1.12E-4},{"$f":"ROUND(IFERROR((1/'BS Rates'!AE15),\"\"),6)","v":1.2300000000000001E-4},{"$f":"ROUND(IFERROR((1/'BS Rates'!AF15),\"\"),6)","v":0.17296500000000001},{"$f":"ROUND(IFERROR((1/'BS Rates'!AG15),\"\"),6)","v":2.0105000000000001E-2},{"$f":"ROUND(IFERROR((1/'BS Rates'!AH15),\"\"),6)","v":1.944E-3}]
[null,"2011-08-01",{"$f":"ROUND(IFERROR((1/'BS Rates'!C16),\"\"),6)","v":1.022286},{"$f":"ROUND(IFERROR((1/'BS Rates'!D16),\"\"),6)","v":0.15673699999999999},{"$f":"ROUND(IFERROR((1/'BS Rates'!E16),\"\"),6)","v":5.5699999999999999E-4},{"$f":"ROUND(IFERROR((1/'BS Rates'!F16),\"\"),6)","v":1.4467589999999999},{"$f":"ROUND(IFERROR((1/'BS Rates'!G16),\"\"),6)","v":0.128301},{"$f":"ROUND(IFERROR((1/'BS Rates'!H16),\"\"),6)","v":1.3023E-2},{"$f":"ROUND(IFERROR((1/'BS Rates'!I16),\"\"),6)","v":9.3099999999999997E-4},{"$f":"ROUND(IFERROR((1/'BS Rates'!J16),\"\"),6)","v":0.122456},{"$f":"ROUND(IFERROR((1/'BS Rates'!K16),\"\"),6)","v":0.33499699999999999},{"$f":"ROUND(IFERROR((1/'BS Rates'!L16),\"\"),6)","v":8.0102999999999994E-2},{"$f":"ROUND(IFERROR((1/'BS Rates'!M16),\"\"),6)","v":2.3472E-2},{"$f":"ROUND(IFERROR((1/'BS Rates'!N16),\"\"),6)","v":0.82904999999999995},{"$f":"ROUND(IFERROR((1/'BS Rates'!O16),\"\"),6)","v":3.4248000000000001E-2},{"$f":"ROUND(IFERROR((1/'BS Rates'!P16),\"\"),6)","v":3.3147000000000003E-2},{"$f":"ROUND(IFERROR((1/'BS Rates'!Q16),\"\"),6)","v":0.57636900000000002},{"$f":"ROUND(IFERROR((1/'BS Rates'!R16),\"\"),6)","v":0.232407},{"$f":"ROUND(IFERROR((1/'BS Rates'!S16),\"\"),6)","v":1.0665530000000001},{"$f":"ROUND(IFERROR((1/'BS Rates'!T16),\"\"),6)","v":1.6347879999999999},{"$f":"ROUND(IFERROR((1/'BS Rates'!U16),\"\"),6)","v":0.81645999999999996},{"$f":"ROUND(IFERROR((1/'BS Rates'!V16),\"\"),6)","v":0.19414500000000001},{"$f":"ROUND(IFERROR((1/'BS Rates'!W16),\"\"),6)","v":1.4467589999999999},{"$f":"ROUND(IFERROR((1/'BS Rates'!X16),\"\"),6)","v":0.85077400000000003},{"$f":"ROUND(IFERROR((1/'BS Rates'!Y16),\"\"),6)","v":0.157833},{"$f":"ROUND(IFERROR((1/'BS Rates'!Z16),\"\"),6)","v":1.222046},{"$f":"ROUND(IFERROR((1/'BS Rates'!AA16),\"\"),6)","v":5.3090000000000004E-3},{"$f":"ROUND(IFERROR((1/'BS Rates'!AB16),\"\"),6)","v":6.0009E-2},{"$f":"ROUND(IFERROR((1/'BS Rates'!AC16),\"\"),6)","v":0.34825},{"$f":"ROUND(IFERROR((1/'BS Rates'!AD16),\"\"),6)","v":1.17E-4},{"$f":"ROUND(IFERROR((1/'BS Rates'!AE16),\"\"),6)","v":1.2400000000000001E-4},{"$f":"ROUND(IFERROR((1/'BS Rates'!AF16),\"\"),6)","v":0.18645600000000001},{"$f":"ROUND(IFERROR((1/'BS Rates'!AG16),\"\"),6)","v":2.1683999999999998E-2},{"$f":"ROUND(IFERROR((1/'BS Rates'!AH16),\"\"),6)","v":2.1410000000000001E-3}]
[null,"2011-07-01",{"$f":"ROUND(IFERROR((1/'BS Rates'!C17),\"\"),6)","v":1.0536300000000001},{"$f":"ROUND(IFERROR((1/'BS Rates'!D17),\"\"),6)","v":0.155282},{"$f":"ROUND(IFERROR((1/'BS Rates'!E17),\"\"),6)","v":5.6099999999999998E-4},{"$f":"ROUND(IFERROR((1/'BS Rates'!F17),\"\"),6)","v":1.433281},{"$f":"ROUND(IFERROR((1/'BS Rates'!G17),\"\"),6)","v":0.128327},{"$f":"ROUND(IFERROR((1/'BS Rates'!H17),\"\"),6)","v":1.2848999999999999E-2},{"$f":"ROUND(IFERROR((1/'BS Rates'!I17),\"\"),6)","v":9.4899999999999997E-4},{"$f":"ROUND(IFERROR((1/'BS Rates'!J17),\"\"),6)","v":0.122251},{"$f":"ROUND(IFERROR((1/'BS Rates'!K17),\"\"),6)","v":0.33904099999999998},{"$f":"ROUND(IFERROR((1/'BS Rates'!L17),\"\"),6)","v":8.5677000000000003E-2},{"$f":"ROUND(IFERROR((1/'BS Rates'!M17),\"\"),6)","v":2.3681000000000001E-2},{"$f":"ROUND(IFERROR((1/'BS Rates'!N17),\"\"),6)","v":0.83111699999999999},{"$f":"ROUND(IFERROR((1/'BS Rates'!O17),\"\"),6)","v":3.4745999999999999E-2},{"$f":"ROUND(IFERROR((1/'BS Rates'!P17),\"\"),6)","v":3.3450000000000001E-2},{"$f":"ROUND(IFERROR((1/'BS Rates'!Q17),\"\"),6)","v":0.593754},{"$f":"ROUND(IFERROR((1/'BS Rates'!R17),\"\"),6)","v":0.23238500000000001},{"$f":"ROUND(IFERROR((1/'BS Rates'!S17),\"\"),6)","v":1.102779},{"$f":"ROUND(IFERROR((1/'BS Rates'!T17),\"\"),6)","v":1.633186},{"$f":"ROUND(IFERROR((1/'BS Rates'!U17),\"\"),6)","v":0.81799599999999995},{"$f":"ROUND(IFERROR((1/'BS Rates'!V17),\"\"),6)","v":0.19233700000000001},{"$f":"ROUND(IFERROR((1/'BS Rates'!W17),\"\"),6)","v":1.433281},{"$f":"ROUND(IFERROR((1/'BS Rates'!X17),\"\"),6)","v":0.87168800000000002},{"$f":"ROUND(IFERROR((1/'BS Rates'!Y17),\"\"),6)","v":0.15753700000000001},{"$f":"ROUND(IFERROR((1/'BS Rates'!Z17),\"\"),6)","v":1.2470380000000001},{"$f":"ROUND(IFERROR((1/'BS Rates'!AA17),\"\"),6)","v":5.3330000000000001E-3},{"$f":"ROUND(IFERROR((1/'BS Rates'!AB17),\"\"),6)","v":5.9110000000000003E-2},{"$f":"ROUND(IFERROR((1/'BS Rates'!AC17),\"\"),6)","v":0.35662100000000002},{"$f":"ROUND(IFERROR((1/'BS Rates'!AD17),\"\"),6)","v":1.17E-4},{"$f":"ROUND(IFERROR((1/'BS Rates'!AE17),\"\"),6)","v":1.2300000000000001E-4},{"$f":"ROUND(IFERROR((1/'BS Rates'!AF17),\"\"),6)","v":0.184887},{"$f":"ROUND(IFERROR((1/'BS Rates'!AG17),\"\"),6)","v":2.2543000000000001E-2},{"$f":"ROUND(IFERROR((1/'BS Rates'!AH17),\"\"),6)","v":2.1849999999999999E-3}]
[null,"2011-06-01",{"$f":"ROUND(IFERROR((1/'BS Rates'!C18),\"\"),6)","v":1.0237510000000001},{"$f":"ROUND(IFERROR((1/'BS Rates'!D18),\"\"),6)","v":0.15470300000000001},{"$f":"ROUND(IFERROR((1/'BS Rates'!E18),\"\"),6)","v":5.6099999999999998E-4},{"$f":"ROUND(IFERROR((1/'BS Rates'!F18),\"\"),6)","v":1.4390559999999999},{"$f":"ROUND(IFERROR((1/'BS Rates'!G18),\"\"),6)","v":0.12847700000000001},{"$f":"ROUND(IFERROR((1/'BS Rates'!H18),\"\"),6)","v":1.2347E-2},{"$f":"ROUND(IFERROR((1/'BS Rates'!I18),\"\"),6)","v":9.2699999999999998E-4},{"$f":"ROUND(IFERROR((1/'BS Rates'!J18),\"\"),6)","v":0.122597},{"$f":"ROUND(IFERROR((1/'BS Rates'!K18),\"\"),6)","v":0.32859100000000002},{"$f":"ROUND(IFERROR((1/'BS Rates'!L18),\"\"),6)","v":8.4716E-2},{"$f":"ROUND(IFERROR((1/'BS Rates'!M18),\"\"),6)","v":2.2967000000000001E-2},{"$f":"ROUND(IFERROR((1/'BS Rates'!N18),\"\"),6)","v":0.80886499999999995},{"$f":"ROUND(IFERROR((1/'BS Rates'!O18),\"\"),6)","v":3.4577999999999998E-2},{"$f":"ROUND(IFERROR((1/'BS Rates'!P18),\"\"),6)","v":3.2375000000000001E-2},{"$f":"ROUND(IFERROR((1/'BS Rates'!Q18),\"\"),6)","v":0.61595299999999997},{"$f":"ROUND(IFERROR((1/'BS Rates'!R18),\"\"),6)","v":0.23277500000000001},{"$f":"ROUND(IFERROR((1/'BS Rates'!S18),\"\"),6)","v":1.059547},{"$f":"ROUND(IFERROR((1/'BS Rates'!T18),\"\"),6)","v":1.6017939999999999},{"$f":"ROUND(IFERROR((1/'BS Rates'!U18),\"\"),6)","v":0.810504},{"$f":"ROUND(IFERROR((1/'BS Rates'!V18),\"\"),6)","v":0.19289000000000001},{"$f":"ROUND(IFERROR((1/'BS Rates'!W18),\"\"),6)","v":1.4390559999999999},{"$f":"ROUND(IFERROR((1/'BS Rates'!X18),\"\"),6)","v":0.81726100000000002},{"$f":"ROUND(IFERROR((1/'BS Rates'!Y18),\"\"),6)","v":0.15779299999999999},{"$f":"ROUND(IFERROR((1/'BS Rates'!Z18),\"\"),6)","v":1.2003360000000001},{"$f":"ROUND(IFERROR((1/'BS Rates'!AA18),\"\"),6)","v":5.4460000000000003E-3},{"$f":"ROUND(IFERROR((1/'BS Rates'!AB18),\"\"),6)","v":5.9466999999999999E-2},{"$f":"ROUND(IFERROR((1/'BS Rates'!AC18),\"\"),6)","v":0.36196499999999998},{"$f":"ROUND(IFERROR((1/'BS Rates'!AD18),\"\"),6)","v":1.16E-4},{"$f":"ROUND(IFERROR((1/'BS Rates'!AE18),\"\"),6)","v":1.2400000000000001E-4},{"$f":"ROUND(IFERROR((1/'BS Rates'!AF18),\"\"),6)","v":0.18472},{"$f":"ROUND(IFERROR((1/'BS Rates'!AG18),\"\"),6)","v":2.2017999999999999E-2},{"$f":"ROUND(IFERROR((1/'BS Rates'!AH18),\"\"),6)","v":2.1280000000000001E-3}]
[null,"2011-05-01",{"$f":"ROUND(IFERROR((1/'BS Rates'!C19),\"\"),6)","v":1.0236460000000001},{"$f":"ROUND(IFERROR((1/'BS Rates'!D19),\"\"),6)","v":0.15392900000000001},{"$f":"ROUND(IFERROR((1/'BS Rates'!E19),\"\"),6)","v":5.3899999999999998E-4},{"$f":"ROUND(IFERROR((1/'BS Rates'!F19),\"\"),6)","v":1.4281630000000001},{"$f":"ROUND(IFERROR((1/'BS Rates'!G19),\"\"),6)","v":0.12853300000000001},{"$f":"ROUND(IFERROR((1/'BS Rates'!H19),\"\"),6)","v":1.2367E-2},{"$f":"ROUND(IFERROR((1/'BS Rates'!I19),\"\"),6)","v":9.2400000000000002E-4},{"$f":"ROUND(IFERROR((1/'BS Rates'!J19),\"\"),6)","v":0.123016},{"$f":"ROUND(IFERROR((1/'BS Rates'!K19),\"\"),6)","v":0.33069900000000002},{"$f":"ROUND(IFERROR((1/'BS Rates'!L19),\"\"),6)","v":8.6067000000000005E-2},{"$f":"ROUND(IFERROR((1/'BS Rates'!M19),\"\"),6)","v":2.3009999999999999E-2},{"$f":"ROUND(IFERROR((1/'BS Rates'!N19),\"\"),6)","v":0.80984800000000001},{"$f":"ROUND(IFERROR((1/'BS Rates'!O19),\"\"),6)","v":3.4692000000000001E-2},{"$f":"ROUND(IFERROR((1/'BS Rates'!P19),\"\"),6)","v":3.2840000000000001E-2},{"$f":"ROUND(IFERROR((1/'BS Rates'!Q19),\"\"),6)","v":0.62285900000000005},{"$f":"ROUND(IFERROR((1/'BS Rates'!R19),\"\"),6)","v":0.232574},{"$f":"ROUND(IFERROR((1/'BS Rates'!S19),\"\"),6)","v":1.0691759999999999},{"$f":"ROUND(IFERROR((1/'BS Rates'!T19),\"\"),6)","v":1.6471750000000001},{"$f":"ROUND(IFERROR((1/'BS Rates'!U19),\"\"),6)","v":0.79987200000000003},{"$f":"ROUND(IFERROR((1/'BS Rates'!V19),\"\"),6)","v":0.191523},{"$f":"ROUND(IFERROR((1/'BS Rates'!W19),\"\"),6)","v":1.4281630000000001},{"$f":"ROUND(IFERROR((1/'BS Rates'!X19),\"\"),6)","v":0.81772800000000001},{"$f":"ROUND(IFERROR((1/'BS Rates'!Y19),\"\"),6)","v":0.16048799999999999},{"$f":"ROUND(IFERROR((1/'BS Rates'!Z19),\"\"),6)","v":1.1742600000000001},{"$f":"ROUND(IFERROR((1/'BS Rates'!AA19),\"\"),6)","v":5.3220000000000003E-3},{"$f":"ROUND(IFERROR((1/'BS Rates'!AB19),\"\"),6)","v":5.815E-2},{"$f":"ROUND(IFERROR((1/'BS Rates'!AC19),\"\"),6)","v":0.35918299999999997},{"$f":"ROUND(IFERROR((1/'BS Rates'!AD19),\"\"),6)","v":1.16E-4},{"$f":"ROUND(IFERROR((1/'BS Rates'!AE19),\"\"),6)","v":1.22E-4},{"$f":"ROUND(IFERROR((1/'BS Rates'!AF19),\"\"),6)","v":0.18393200000000001},{"$f":"ROUND(IFERROR((1/'BS Rates'!AG19),\"\"),6)","v":2.2076999999999999E-2},{"$f":"ROUND(IFERROR((1/'BS Rates'!AH19),\"\"),6)","v":2.1410000000000001E-3}]
[null,"2011-04-01",{"$f":"ROUND(IFERROR((1/'BS Rates'!C20),\"\"),6)","v":1.0534079999999999},{"$f":"ROUND(IFERROR((1/'BS Rates'!D20),\"\"),6)","v":0.15353700000000001},{"$f":"ROUND(IFERROR((1/'BS Rates'!E20),\"\"),6)","v":5.6099999999999998E-4},{"$f":"ROUND(IFERROR((1/'BS Rates'!F20),\"\"),6)","v":1.48214},{"$f":"ROUND(IFERROR((1/'BS Rates'!G20),\"\"),6)","v":0.12870500000000001},{"$f":"ROUND(IFERROR((1/'BS Rates'!H20),\"\"),6)","v":1.2234E-2},{"$f":"ROUND(IFERROR((1/'BS Rates'!I20),\"\"),6)","v":9.3300000000000002E-4},{"$f":"ROUND(IFERROR((1/'BS Rates'!J20),\"\"),6)","v":0.12313},{"$f":"ROUND(IFERROR((1/'BS Rates'!K20),\"\"),6)","v":0.33812300000000001},{"$f":"ROUND(IFERROR((1/'BS Rates'!L20),\"\"),6)","v":8.6641999999999997E-2},{"$f":"ROUND(IFERROR((1/'BS Rates'!M20),\"\"),6)","v":2.3153E-2},{"$f":"ROUND(IFERROR((1/'BS Rates'!N20),\"\"),6)","v":0.81420000000000003},{"$f":"ROUND(IFERROR((1/'BS Rates'!O20),\"\"),6)","v":3.4693000000000002E-2},{"$f":"ROUND(IFERROR((1/'BS Rates'!P20),\"\"),6)","v":3.3673000000000002E-2},{"$f":"ROUND(IFERROR((1/'BS Rates'!Q20),\"\"),6)","v":0.65802499999999997},{"$f":"ROUND(IFERROR((1/'BS Rates'!R20),\"\"),6)","v":0.23236399999999999},{"$f":"ROUND(IFERROR((1/'BS Rates'!S20),\"\"),6)","v":1.0905130000000001},{"$f":"ROUND(IFERROR((1/'BS Rates'!T20),\"\"),6)","v":1.6666669999999999},{"$f":"ROUND(IFERROR((1/'BS Rates'!U20),\"\"),6)","v":0.80295499999999997},{"$f":"ROUND(IFERROR((1/'BS Rates'!V20),\"\"),6)","v":0.198736},{"$f":"ROUND(IFERROR((1/'BS Rates'!W20),\"\"),6)","v":1.4839},{"$f":"ROUND(IFERROR((1/'BS Rates'!X20),\"\"),6)","v":0.80295499999999997},{"$f":"ROUND(IFERROR((1/'BS Rates'!Y20),\"\"),6)","v":0.16579099999999999},{"$f":"ROUND(IFERROR((1/'BS Rates'!Z20),\"\"),6)","v":1.1457379999999999},{"$f":"ROUND(IFERROR((1/'BS Rates'!AA20),\"\"),6)","v":5.6039999999999996E-3},{"$f":"ROUND(IFERROR((1/'BS Rates'!AB20),\"\"),6)","v":6.1423999999999999E-2},{"$f":"ROUND(IFERROR((1/'BS Rates'!AC20),\"\"),6)","v":0.37644899999999998},{"$f":"ROUND(IFERROR((1/'BS Rates'!AD20),\"\"),6)","v":1.17E-4},{"$f":"ROUND(IFERROR((1/'BS Rates'!AE20),\"\"),6)","v":1.2400000000000001E-4},{"$f":"ROUND(IFERROR((1/'BS Rates'!AF20),\"\"),6)","v":0.18984300000000001},{"$f":"ROUND(IFERROR((1/'BS Rates'!AG20),\"\"),6)","v":2.2328000000000001E-2},{"$f":"ROUND(IFERROR((1/'BS Rates'!AH20),\"\"),6)","v":2.1619999999999999E-3}]
[null,"2011-03-01",{"$f":"ROUND(IFERROR((1/'BS Rates'!C21),\"\"),6)","v":1.028278},{"$f":"ROUND(IFERROR((1/'BS Rates'!D21),\"\"),6)","v":0.15220500000000001},{"$f":"ROUND(IFERROR((1/'BS Rates'!E21),\"\"),6)","v":5.2800000000000004E-4},{"$f":"ROUND(IFERROR((1/'BS Rates'!F21),\"\"),6)","v":1.4098409999999999},{"$f":"ROUND(IFERROR((1/'BS Rates'!G21),\"\"),6)","v":0.12839100000000001},{"$f":"ROUND(IFERROR((1/'BS Rates'!H21),\"\"),6)","v":1.2067E-2},{"$f":"ROUND(IFERROR((1/'BS Rates'!I21),\"\"),6)","v":9.0399999999999996E-4},{"$f":"ROUND(IFERROR((1/'BS Rates'!J21),\"\"),6)","v":0.122366},{"$f":"ROUND(IFERROR((1/'BS Rates'!K21),\"\"),6)","v":0.33019599999999999},{"$f":"ROUND(IFERROR((1/'BS Rates'!L21),\"\"),6)","v":8.3708000000000005E-2},{"$f":"ROUND(IFERROR((1/'BS Rates'!M21),\"\"),6)","v":2.3009000000000002E-2},{"$f":"ROUND(IFERROR((1/'BS Rates'!N21),\"\"),6)","v":0.79220500000000005},{"$f":"ROUND(IFERROR((1/'BS Rates'!O21),\"\"),6)","v":3.3918999999999998E-2},{"$f":"ROUND(IFERROR((1/'BS Rates'!P21),\"\"),6)","v":3.2856999999999997E-2},{"$f":"ROUND(IFERROR((1/'BS Rates'!Q21),\"\"),6)","v":0.64259100000000002},{"$f":"ROUND(IFERROR((1/'BS Rates'!R21),\"\"),6)","v":0.23225599999999999},{"$f":"ROUND(IFERROR((1/'BS Rates'!S21),\"\"),6)","v":1.0309280000000001},{"$f":"ROUND(IFERROR((1/'BS Rates'!T21),\"\"),6)","v":1.603078},{"$f":"ROUND(IFERROR((1/'BS Rates'!U21),\"\"),6)","v":0.78057900000000002},{"$f":"ROUND(IFERROR((1/'BS Rates'!V21),\"\"),6)","v":0.18901100000000001},{"$f":"ROUND(IFERROR((1/'BS Rates'!W21),\"\"),6)","v":1.4098409999999999},{"$f":"ROUND(IFERROR((1/'BS Rates'!X21),\"\"),6)","v":0.75947399999999998},{"$f":"ROUND(IFERROR((1/'BS Rates'!Y21),\"\"),6)","v":0.15765399999999999},{"$f":"ROUND(IFERROR((1/'BS Rates'!Z21),\"\"),6)","v":1.0849519999999999},{"$f":"ROUND(IFERROR((1/'BS Rates'!AA21),\"\"),6)","v":5.2680000000000001E-3},{"$f":"ROUND(IFERROR((1/'BS Rates'!AB21),\"\"),6)","v":5.7356999999999998E-2},{"$f":"ROUND(IFERROR((1/'BS Rates'!AC21),\"\"),6)","v":0.35226200000000002},{"$f":"ROUND(IFERROR((1/'BS Rates'!AD21),\"\"),6)","v":1.1400000000000001E-4},{"$f":"ROUND(IFERROR((1/'BS Rates'!AE21),\"\"),6)","v":1.2300000000000001E-4},{"$f":"ROUND(IFERROR((1/'BS Rates'!AF21),\"\"),6)","v":0.17876},{"$f":"ROUND(IFERROR((1/'BS Rates'!AG21),\"\"),6)","v":2.2027000000000001E-2},{"$f":"ROUND(IFERROR((1/'BS Rates'!AH21),\"\"),6)","v":2.065E-3}]
[null,"2011-02-01",{"$f":"ROUND(IFERROR((1/'BS Rates'!C22),\"\"),6)","v":1.022286},{"$f":"ROUND(IFERROR((1/'BS Rates'!D22),\"\"),6)","v":0.15188599999999999},{"$f":"ROUND(IFERROR((1/'BS Rates'!E22),\"\"),6)","v":5.22E-4},{"$f":"ROUND(IFERROR((1/'BS Rates'!F22),\"\"),6)","v":1.3747590000000001},{"$f":"ROUND(IFERROR((1/'BS Rates'!G22),\"\"),6)","v":0.12828899999999999},{"$f":"ROUND(IFERROR((1/'BS Rates'!H22),\"\"),6)","v":1.2234999999999999E-2},{"$f":"ROUND(IFERROR((1/'BS Rates'!I22),\"\"),6)","v":8.8699999999999998E-4},{"$f":"ROUND(IFERROR((1/'BS Rates'!J22),\"\"),6)","v":0.12242599999999999},{"$f":"ROUND(IFERROR((1/'BS Rates'!K22),\"\"),6)","v":0.32741799999999999},{"$f":"ROUND(IFERROR((1/'BS Rates'!L22),\"\"),6)","v":8.2357E-2},{"$f":"ROUND(IFERROR((1/'BS Rates'!M22),\"\"),6)","v":2.2823E-2},{"$f":"ROUND(IFERROR((1/'BS Rates'!N22),\"\"),6)","v":0.78523799999999999},{"$f":"ROUND(IFERROR((1/'BS Rates'!O22),\"\"),6)","v":3.354E-2},{"$f":"ROUND(IFERROR((1/'BS Rates'!P22),\"\"),6)","v":3.2513E-2},{"$f":"ROUND(IFERROR((1/'BS Rates'!Q22),\"\"),6)","v":0.62539100000000003},{"$f":"ROUND(IFERROR((1/'BS Rates'!R22),\"\"),6)","v":0.23236399999999999},{"$f":"ROUND(IFERROR((1/'BS Rates'!S22),\"\"),6)","v":1.0169840000000001},{"$f":"ROUND(IFERROR((1/'BS Rates'!T22),\"\"),6)","v":1.611084},{"$f":"ROUND(IFERROR((1/'BS Rates'!U22),\"\"),6)","v":0.77423399999999998},{"$f":"ROUND(IFERROR((1/'BS Rates'!V22),\"\"),6)","v":0.18443000000000001},{"$f":"ROUND(IFERROR((1/'BS Rates'!W22),\"\"),6)","v":1.3747590000000001},{"$f":"ROUND(IFERROR((1/'BS Rates'!X22),\"\"),6)","v":0.75108900000000001},{"$f":"ROUND(IFERROR((1/'BS Rates'!Y22),\"\"),6)","v":0.155581},{"$f":"ROUND(IFERROR((1/'BS Rates'!Z22),\"\"),6)","v":1.0765420000000001},{"$f":"ROUND(IFERROR((1/'BS Rates'!AA22),\"\"),6)","v":5.0299999999999997E-3},{"$f":"ROUND(IFERROR((1/'BS Rates'!AB22),\"\"),6)","v":5.6133000000000002E-2},{"$f":"ROUND(IFERROR((1/'BS Rates'!AC22),\"\"),6)","v":0.34525600000000001},{"$f":"ROUND(IFERROR((1/'BS Rates'!AD22),\"\"),6)","v":1.13E-4},{"$f":"ROUND(IFERROR((1/'BS Rates'!AE22),\"\"),6)","v":1.2300000000000001E-4},{"$f":"ROUND(IFERROR((1/'BS Rates'!AF22),\"\"),6)","v":0.177041},{"$f":"ROUND(IFERROR((1/'BS Rates'!AG22),\"\"),6)","v":2.1708000000000002E-2},{"$f":"ROUND(IFERROR((1/'BS Rates'!AH22),\"\"),6)","v":2.1050000000000001E-3}]
[null,"2011-01-11",{"$f":"ROUND(IFERROR((1/'BS Rates'!C23),\"\"),6)","v":0.99830300000000005},{"$f":"ROUND(IFERROR((1/'BS Rates'!D23),\"\"),6)","v":0.15190000000000001},{"$f":"ROUND(IFERROR((1/'BS Rates'!E23),\"\"),6)","v":5.3700000000000004E-4},{"$f":"ROUND(IFERROR((1/'BS Rates'!F23),\"\"),6)","v":1.3603590000000001},{"$f":"ROUND(IFERROR((1/'BS Rates'!G23),\"\"),6)","v":0.12834699999999999},{"$f":"ROUND(IFERROR((1/'BS Rates'!H23),\"\"),6)","v":1.2172000000000001E-2},{"$f":"ROUND(IFERROR((1/'BS Rates'!I23),\"\"),6)","v":8.9599999999999999E-4},{"$f":"ROUND(IFERROR((1/'BS Rates'!J23),\"\"),6)","v":0.12144199999999999},{"$f":"ROUND(IFERROR((1/'BS Rates'!K23),\"\"),6)","v":0.32723600000000003},{"$f":"ROUND(IFERROR((1/'BS Rates'!L23),\"\"),6)","v":8.1808000000000006E-2},{"$f":"ROUND(IFERROR((1/'BS Rates'!M23),\"\"),6)","v":2.266E-2},{"$f":"ROUND(IFERROR((1/'BS Rates'!N23),\"\"),6)","v":0.77796799999999999},{"$f":"ROUND(IFERROR((1/'BS Rates'!O23),\"\"),6)","v":3.4369999999999998E-2},{"$f":"ROUND(IFERROR((1/'BS Rates'!P23),\"\"),6)","v":3.1966000000000001E-2},{"$f":"ROUND(IFERROR((1/'BS Rates'!Q23),\"\"),6)","v":0.61785599999999996},{"$f":"ROUND(IFERROR((1/'BS Rates'!R23),\"\"),6)","v":0.23277500000000001},{"$f":"ROUND(IFERROR((1/'BS Rates'!S23),\"\"),6)","v":0.99324599999999996},{"$f":"ROUND(IFERROR((1/'BS Rates'!T23),\"\"),6)","v":1.584786},{"$f":"ROUND(IFERROR((1/'BS Rates'!U23),\"\"),6)","v":0.77972699999999995},{"$f":"ROUND(IFERROR((1/'BS Rates'!V23),\"\"),6)","v":0.18262500000000001},{"$f":"ROUND(IFERROR((1/'BS Rates'!W23),\"\"),6)","v":1.3603590000000001},{"$f":"ROUND(IFERROR((1/'BS Rates'!X23),\"\"),6)","v":0.77285700000000002},{"$f":"ROUND(IFERROR((1/'BS Rates'!Y23),\"\"),6)","v":0.15304100000000001},{"$f":"ROUND(IFERROR((1/'BS Rates'!Z23),\"\"),6)","v":1.0608949999999999},{"$f":"ROUND(IFERROR((1/'BS Rates'!AA23),\"\"),6)","v":4.973E-3},{"$f":"ROUND(IFERROR((1/'BS Rates'!AB23),\"\"),6)","v":5.6009999999999997E-2},{"$f":"ROUND(IFERROR((1/'BS Rates'!AC23),\"\"),6)","v":0.34495799999999999},{"$f":"ROUND(IFERROR((1/'BS Rates'!AD23),\"\"),6)","v":1.0900000000000001E-4},{"$f":"ROUND(IFERROR((1/'BS Rates'!AE23),\"\"),6)","v":1.2300000000000001E-4},{"$f":"ROUND(IFERROR((1/'BS Rates'!AF23),\"\"),6)","v":0.17152100000000001},{"$f":"ROUND(IFERROR((1/'BS Rates'!AG23),\"\"),6)","v":2.1371999999999999E-2}]
[2010,{"$f":"B25+30","v":"2010-12-07"},{"$f":"ROUND(IFERROR((1/'BS Rates'!C24),\"\"),6)","v":0.99980000000000002},{"$f":"ROUND(IFERROR((1/'BS Rates'!D24),\"\"),6)","v":0.15124499999999999},{"$f":"ROUND(IFERROR((1/'BS Rates'!E24),\"\"),6)","v":4.9899999999999999E-4},{"$f":"ROUND(IFERROR((1/'BS Rates'!F24),\"\"),6)","v":1.325205},{"$f":"ROUND(IFERROR((1/'BS Rates'!G24),\"\"),6)","v":0.12848200000000001},{"$f":"ROUND(IFERROR((1/'BS Rates'!H24),\"\"),6)","v":1.2262E-2},{"$f":"ROUND(IFERROR((1/'BS Rates'!I24),\"\"),6)","v":8.8199999999999997E-4},{"$f":"ROUND(IFERROR((1/'BS Rates'!J24),\"\"),6)","v":0.12248299999999999},{"$f":"ROUND(IFERROR((1/'BS Rates'!K24),\"\"),6)","v":0.32413900000000001},{"$f":"ROUND(IFERROR((1/'BS Rates'!L24),\"\"),6)","v":8.0713999999999994E-2},{"$f":"ROUND(IFERROR((1/'BS Rates'!M24),\"\"),6)","v":2.2780000000000002E-2},{"$f":"ROUND(IFERROR((1/'BS Rates'!N24),\"\"),6)","v":0.77441300000000002},{"$f":"ROUND(IFERROR((1/'BS Rates'!O24),\"\"),6)","v":3.4014000000000003E-2},{"$f":"ROUND(IFERROR((1/'BS Rates'!P24),\"\"),6)","v":3.3007000000000002E-2},{"$f":"ROUND(IFERROR((1/'BS Rates'!Q24),\"\"),6)","v":0.64300400000000002},{"$f":"ROUND(IFERROR((1/'BS Rates'!R24),\"\"),6)","v":0.232569},{"$f":"ROUND(IFERROR((1/'BS Rates'!S24),\"\"),6)","v":1.016157},{"$f":"ROUND(IFERROR((1/'BS Rates'!T24),\"\"),6)","v":1.5467900000000001},{"$f":"ROUND(IFERROR((1/'BS Rates'!U24),\"\"),6)","v":0.76376699999999997},{"$f":"ROUND(IFERROR((1/'BS Rates'!V24),\"\"),6)","v":0.17790400000000001},{"$f":"ROUND(IFERROR((1/'BS Rates'!W24),\"\"),6)","v":1.325205},{"$f":"ROUND(IFERROR((1/'BS Rates'!X24),\"\"),6)","v":0.76869900000000002},{"$f":"ROUND(IFERROR((1/'BS Rates'!Y24),\"\"),6)","v":0.14741699999999999},{"$f":"ROUND(IFERROR((1/'BS Rates'!Z24),\"\"),6)","v":1.0629249999999999},{"$f":"ROUND(IFERROR((1/'BS Rates'!AA24),\"\"),6)","v":4.7369999999999999E-3},{"$f":"ROUND(IFERROR((1/'BS Rates'!AB24),\"\"),6)","v":5.2484999999999997E-2},{"$f":"ROUND(IFERROR((1/'BS Rates'!AC24),\"\"),6)","v":0.33407900000000001},{"$f":"ROUND(IFERROR((1/'BS Rates'!AD24),\"\"),6)","v":1.1E-4},{"$f":"ROUND(IFERROR((1/'BS Rates'!AE24),\"\"),6)","v":1.2300000000000001E-4},{"$f":"ROUND(IFERROR((1/'BS Rates'!AF24),\"\"),6)","v":0.16944600000000001},{"$f":"ROUND(IFERROR((1/'BS Rates'!AG24),\"\"),6)","v":2.1954000000000001E-2}]
[null,"2010-11-07",{"$f":"ROUND(IFERROR((1/'BS Rates'!C25),\"\"),6)","v":0.97991200000000001},{"$f":"ROUND(IFERROR((1/'BS Rates'!D25),\"\"),6)","v":0.149894},{"$f":"ROUND(IFERROR((1/'BS Rates'!E25),\"\"),6)","v":5.22E-4},{"$f":"ROUND(IFERROR((1/'BS Rates'!F25),\"\"),6)","v":1.3190869999999999},{"$f":"ROUND(IFERROR((1/'BS Rates'!G25),\"\"),6)","v":0.12879499999999999},{"$f":"ROUND(IFERROR((1/'BS Rates'!H25),\"\"),6)","v":1.1882999999999999E-2},{"$f":"ROUND(IFERROR((1/'BS Rates'!I25),\"\"),6)","v":8.6200000000000003E-4},{"$f":"ROUND(IFERROR((1/'BS Rates'!J25),\"\"),6)","v":0.122805},{"$f":"ROUND(IFERROR((1/'BS Rates'!K25),\"\"),6)","v":0.31701699999999999},{"$f":"ROUND(IFERROR((1/'BS Rates'!L25),\"\"),6)","v":7.9968999999999998E-2},{"$f":"ROUND(IFERROR((1/'BS Rates'!M25),\"\"),6)","v":2.2530999999999999E-2},{"$f":"ROUND(IFERROR((1/'BS Rates'!N25),\"\"),6)","v":0.75792000000000004},{"$f":"ROUND(IFERROR((1/'BS Rates'!O25),\"\"),6)","v":3.2752000000000003E-2},{"$f":"ROUND(IFERROR((1/'BS Rates'!P25),\"\"),6)","v":3.2937000000000001E-2},{"$f":"ROUND(IFERROR((1/'BS Rates'!Q25),\"\"),6)","v":0.66706699999999997},{"$f":"ROUND(IFERROR((1/'BS Rates'!R25),\"\"),6)","v":0.23249900000000001},{"$f":"ROUND(IFERROR((1/'BS Rates'!S25),\"\"),6)","v":0.96348400000000001},{"$f":"ROUND(IFERROR((1/'BS Rates'!T25),\"\"),6)","v":1.5583610000000001},{"$f":"ROUND(IFERROR((1/'BS Rates'!U25),\"\"),6)","v":0.74671399999999999},{"$f":"ROUND(IFERROR((1/'BS Rates'!V25),\"\"),6)","v":0.17657200000000001},{"$f":"ROUND(IFERROR((1/'BS Rates'!W25),\"\"),6)","v":1.3190869999999999},{"$f":"ROUND(IFERROR((1/'BS Rates'!X25),\"\"),6)","v":0.74805500000000003},{"$f":"ROUND(IFERROR((1/'BS Rates'!Y25),\"\"),6)","v":0.142788},{"$f":"ROUND(IFERROR((1/'BS Rates'!Z25),\"\"),6)","v":0.99830300000000005},{"$f":"ROUND(IFERROR((1/'BS Rates'!AA25),\"\"),6)","v":4.6649999999999999E-3},{"$f":"ROUND(IFERROR((1/'BS Rates'!AB25),\"\"),6)","v":5.2997000000000002E-2},{"$f":"ROUND(IFERROR((1/'BS Rates'!AC25),\"\"),6)","v":0.32376100000000002},{"$f":"ROUND(IFERROR((1/'BS Rates'!AD25),\"\"),6)","v":1.1E-4},{"$f":"ROUND(IFERROR((1/'BS Rates'!AE25),\"\"),6)","v":1.22E-4},{"$f":"ROUND(IFERROR((1/'BS Rates'!AF25),\"\"),6)","v":0.16200600000000001}]
[null,"2010-10-08",{"$f":"ROUND(IFERROR((1/'BS Rates'!C26),\"\"),6)","v":0.97646699999999997},{"$f":"ROUND(IFERROR((1/'BS Rates'!D26),\"\"),6)","v":0.14932100000000001},{"$f":"ROUND(IFERROR((1/'BS Rates'!E26),\"\"),6)","v":5.4199999999999995E-4},{"$f":"ROUND(IFERROR((1/'BS Rates'!F26),\"\"),6)","v":1.3873470000000001},{"$f":"ROUND(IFERROR((1/'BS Rates'!G26),\"\"),6)","v":0.12890599999999999},{"$f":"ROUND(IFERROR((1/'BS Rates'!H26),\"\"),6)","v":1.2311000000000001E-2},{"$f":"ROUND(IFERROR((1/'BS Rates'!I26),\"\"),6)","v":8.8800000000000001E-4},{"$f":"ROUND(IFERROR((1/'BS Rates'!J26),\"\"),6)","v":0.122889},{"$f":"ROUND(IFERROR((1/'BS Rates'!K26),\"\"),6)","v":0.32139899999999999},{"$f":"ROUND(IFERROR((1/'BS Rates'!L26),\"\"),6)","v":8.0562999999999996E-2},{"$f":"ROUND(IFERROR((1/'BS Rates'!M26),\"\"),6)","v":2.3161000000000001E-2},{"$f":"ROUND(IFERROR((1/'BS Rates'!N26),\"\"),6)","v":0.77029700000000001},{"$f":"ROUND(IFERROR((1/'BS Rates'!O26),\"\"),6)","v":3.2584000000000002E-2},{"$f":"ROUND(IFERROR((1/'BS Rates'!P26),\"\"),6)","v":3.3208000000000001E-2},{"$f":"ROUND(IFERROR((1/'BS Rates'!Q26),\"\"),6)","v":0.69705799999999996},{"$f":"ROUND(IFERROR((1/'BS Rates'!R26),\"\"),6)","v":0.23261200000000001},{"$f":"ROUND(IFERROR((1/'BS Rates'!S26),\"\"),6)","v":0.98328400000000005},{"$f":"ROUND(IFERROR((1/'BS Rates'!T26),\"\"),6)","v":1.5875539999999999},{"$f":"ROUND(IFERROR((1/'BS Rates'!U26),\"\"),6)","v":0.759301},{"$f":"ROUND(IFERROR((1/'BS Rates'!V26),\"\"),6)","v":0.18598799999999999},{"$f":"ROUND(IFERROR((1/'BS Rates'!W26),\"\"),6)","v":1.3873470000000001},{"$f":"ROUND(IFERROR((1/'BS Rates'!X26),\"\"),6)","v":0.75131499999999996},{"$f":"ROUND(IFERROR((1/'BS Rates'!Y26),\"\"),6)","v":0.14851600000000001},{"$f":"ROUND(IFERROR((1/'BS Rates'!Z26),\"\"),6)","v":1.0173970000000001},{"$f":"ROUND(IFERROR((1/'BS Rates'!AA26),\"\"),6)","v":5.0899999999999999E-3},{"$f":"ROUND(IFERROR((1/'BS Rates'!AB26),\"\"),6)","v":5.6229000000000001E-2},{"$f":"ROUND(IFERROR((1/'BS Rates'!AC26),\"\"),6)","v":0.34930800000000001},{"$f":"ROUND(IFERROR((1/'BS Rates'!AD26),\"\"),6)","v":1.12E-4},{"$f":"ROUND(IFERROR((1/'BS Rates'!AE26),\"\"),6)","v":1.2400000000000001E-4},{"$f":"ROUND(IFERROR((1/'BS Rates'!AF26),\"\"),6)","v":0.169929}]
[null,"2010-09-08",{"$f":"ROUND(IFERROR((1/'BS Rates'!C27),\"\"),6)","v":0.97143999999999997},{"$f":"ROUND(IFERROR((1/'BS Rates'!D27),\"\"),6)","v":0.14929600000000001},{"$f":"ROUND(IFERROR((1/'BS Rates'!E27),\"\"),6)","v":5.5099999999999995E-4},{"$f":"ROUND(IFERROR((1/'BS Rates'!F27),\"\"),6)","v":1.3609150000000001},{"$f":"ROUND(IFERROR((1/'BS Rates'!G27),\"\"),6)","v":0.12889600000000001},{"$f":"ROUND(IFERROR((1/'BS Rates'!H27),\"\"),6)","v":1.1951E-2},{"$f":"ROUND(IFERROR((1/'BS Rates'!I27),\"\"),6)","v":8.7500000000000002E-4},{"$f":"ROUND(IFERROR((1/'BS Rates'!J27),\"\"),6)","v":0.122947},{"$f":"ROUND(IFERROR((1/'BS Rates'!K27),\"\"),6)","v":0.32376100000000002},{"$f":"ROUND(IFERROR((1/'BS Rates'!L27),\"\"),6)","v":8.0075999999999994E-2},{"$f":"ROUND(IFERROR((1/'BS Rates'!M27),\"\"),6)","v":2.2731999999999999E-2},{"$f":"ROUND(IFERROR((1/'BS Rates'!N27),\"\"),6)","v":0.75947399999999998},{"$f":"ROUND(IFERROR((1/'BS Rates'!O27),\"\"),6)","v":3.1866999999999999E-2},{"$f":"ROUND(IFERROR((1/'BS Rates'!P27),\"\"),6)","v":3.2724999999999997E-2},{"$f":"ROUND(IFERROR((1/'BS Rates'!Q27),\"\"),6)","v":0.68601199999999996},{"$f":"ROUND(IFERROR((1/'BS Rates'!R27),\"\"),6)","v":0.23255799999999999},{"$f":"ROUND(IFERROR((1/'BS Rates'!S27),\"\"),6)","v":0.96983799999999998},{"$f":"ROUND(IFERROR((1/'BS Rates'!T27),\"\"),6)","v":1.5805279999999999},{"$f":"ROUND(IFERROR((1/'BS Rates'!U27),\"\"),6)","v":0.74889499999999998},{"$f":"ROUND(IFERROR((1/'BS Rates'!V27),\"\"),6)","v":0.18262200000000001},{"$f":"ROUND(IFERROR((1/'BS Rates'!W27),\"\"),6)","v":1.3609150000000001},{"$f":"ROUND(IFERROR((1/'BS Rates'!X27),\"\"),6)","v":0.73811599999999999},{"$f":"ROUND(IFERROR((1/'BS Rates'!Y27),\"\"),6)","v":0.148476},{"$f":"ROUND(IFERROR((1/'BS Rates'!Z27),\"\"),6)","v":1.024275},{"$f":"ROUND(IFERROR((1/'BS Rates'!AA27),\"\"),6)","v":4.9119999999999997E-3},{"$f":"ROUND(IFERROR((1/'BS Rates'!AB27),\"\"),6)","v":5.5273999999999997E-2},{"$f":"ROUND(IFERROR((1/'BS Rates'!AC27),\"\"),6)","v":0.342302},{"$f":"ROUND(IFERROR((1/'BS Rates'!AD27),\"\"),6)","v":1.1E-4},{"$f":"ROUND(IFERROR((1/'BS Rates'!AE27),\"\"),6)","v":1.22E-4},{"$f":"ROUND(IFERROR((1/'BS Rates'!AF27),\"\"),6)","v":0.170853}]
[null,"2010-08-09",{"$f":"ROUND(IFERROR((1/'BS Rates'!C28),\"\"),6)","v":0.96210300000000004},{"$f":"ROUND(IFERROR((1/'BS Rates'!D28),\"\"),6)","v":0.14677799999999999},{"$f":"ROUND(IFERROR((1/'BS Rates'!E28),\"\"),6)","v":5.3899999999999998E-4},{"$f":"ROUND(IFERROR((1/'BS Rates'!F28),\"\"),6)","v":1.270003},{"$f":"ROUND(IFERROR((1/'BS Rates'!G28),\"\"),6)","v":0.12853999999999999},{"$f":"ROUND(IFERROR((1/'BS Rates'!H28),\"\"),6)","v":1.1786E-2},{"$f":"ROUND(IFERROR((1/'BS Rates'!I28),\"\"),6)","v":8.3699999999999996E-4},{"$f":"ROUND(IFERROR((1/'BS Rates'!J28),\"\"),6)","v":0.12245399999999999},{"$f":"ROUND(IFERROR((1/'BS Rates'!K28),\"\"),6)","v":0.31792500000000001},{"$f":"ROUND(IFERROR((1/'BS Rates'!L28),\"\"),6)","v":7.6519000000000004E-2},{"$f":"ROUND(IFERROR((1/'BS Rates'!M28),\"\"),6)","v":2.2074E-2},{"$f":"ROUND(IFERROR((1/'BS Rates'!N28),\"\"),6)","v":0.73817100000000002},{"$f":"ROUND(IFERROR((1/'BS Rates'!O28),\"\"),6)","v":3.1192000000000001E-2},{"$f":"ROUND(IFERROR((1/'BS Rates'!P28),\"\"),6)","v":3.1800000000000002E-2},{"$f":"ROUND(IFERROR((1/'BS Rates'!Q28),\"\"),6)","v":0.65728900000000001},{"$f":"ROUND(IFERROR((1/'BS Rates'!R28),\"\"),6)","v":0.232574},{"$f":"ROUND(IFERROR((1/'BS Rates'!S28),\"\"),6)","v":0.89605699999999999},{"$f":"ROUND(IFERROR((1/'BS Rates'!T28),\"\"),6)","v":1.5511090000000001},{"$f":"ROUND(IFERROR((1/'BS Rates'!U28),\"\"),6)","v":0.72743100000000005},{"$f":"ROUND(IFERROR((1/'BS Rates'!V28),\"\"),6)","v":0.170541},{"$f":"ROUND(IFERROR((1/'BS Rates'!W28),\"\"),6)","v":1.270003},{"$f":"ROUND(IFERROR((1/'BS Rates'!X28),\"\"),6)","v":0.70921999999999996},{"$f":"ROUND(IFERROR((1/'BS Rates'!Y28),\"\"),6)","v":0.13522500000000001},{"$f":"ROUND(IFERROR((1/'BS Rates'!Z28),\"\"),6)","v":0.97323599999999999},{"$f":"ROUND(IFERROR((1/'BS Rates'!AA28),\"\"),6)","v":4.4640000000000001E-3},{"$f":"ROUND(IFERROR((1/'BS Rates'!AB28),\"\"),6)","v":5.1152000000000003E-2},{"$f":"ROUND(IFERROR((1/'BS Rates'!AC28),\"\"),6)","v":0.318857},{"$f":"ROUND(IFERROR((1/'BS Rates'!AD28),\"\"),6)","v":1.11E-4},{"$f":"ROUND(IFERROR((1/'BS Rates'!AE28),\"\"),6)","v":1.1900000000000001E-4}]
[null,"2010-07-10",{"$f":"ROUND(IFERROR((1/'BS Rates'!C29),\"\"),6)","v":0.96665100000000004},{"$f":"ROUND(IFERROR((1/'BS Rates'!D29),\"\"),6)","v":0.147341},{"$f":"ROUND(IFERROR((1/'BS Rates'!E29),\"\"),6)","v":5.3899999999999998E-4},{"$f":"ROUND(IFERROR((1/'BS Rates'!F29),\"\"),6)","v":1.3063359999999999},{"$f":"ROUND(IFERROR((1/'BS Rates'!G29),\"\"),6)","v":0.12875300000000001},{"$f":"ROUND(IFERROR((1/'BS Rates'!H29),\"\"),6)","v":1.1488E-2},{"$f":"ROUND(IFERROR((1/'BS Rates'!I29),\"\"),6)","v":8.43E-4},{"$f":"ROUND(IFERROR((1/'BS Rates'!J29),\"\"),6)","v":0.12260500000000001},{"$f":"ROUND(IFERROR((1/'BS Rates'!K29),\"\"),6)","v":0.313195},{"$f":"ROUND(IFERROR((1/'BS Rates'!L29),\"\"),6)","v":7.8769000000000006E-2},{"$f":"ROUND(IFERROR((1/'BS Rates'!M29),\"\"),6)","v":2.1769E-2},{"$f":"ROUND(IFERROR((1/'BS Rates'!N29),\"\"),6)","v":0.73335300000000003},{"$f":"ROUND(IFERROR((1/'BS Rates'!O29),\"\"),6)","v":3.1974000000000002E-2},{"$f":"ROUND(IFERROR((1/'BS Rates'!P29),\"\"),6)","v":3.0856999999999999E-2},{"$f":"ROUND(IFERROR((1/'BS Rates'!Q29),\"\"),6)","v":0.66124400000000005},{"$f":"ROUND(IFERROR((1/'BS Rates'!R29),\"\"),6)","v":0.23239099999999999},{"$f":"ROUND(IFERROR((1/'BS Rates'!S29),\"\"),6)","v":0.90090099999999995},{"$f":"ROUND(IFERROR((1/'BS Rates'!T29),\"\"),6)","v":1.562012},{"$f":"ROUND(IFERROR((1/'BS Rates'!U29),\"\"),6)","v":0.724638},{"$f":"ROUND(IFERROR((1/'BS Rates'!V29),\"\"),6)","v":0.175316},{"$f":"ROUND(IFERROR((1/'BS Rates'!W29),\"\"),6)","v":1.3063359999999999},{"$f":"ROUND(IFERROR((1/'BS Rates'!X29),\"\"),6)","v":0.72505799999999998},{"$f":"ROUND(IFERROR((1/'BS Rates'!Y29),\"\"),6)","v":0.13789100000000001},{"$f":"ROUND(IFERROR((1/'BS Rates'!Z29),\"\"),6)","v":0.96079899999999996},{"$f":"ROUND(IFERROR((1/'BS Rates'!AA29),\"\"),6)","v":4.5770000000000003E-3},{"$f":"ROUND(IFERROR((1/'BS Rates'!AB29),\"\"),6)","v":5.2708999999999999E-2},{"$f":"ROUND(IFERROR((1/'BS Rates'!AC29),\"\"),6)","v":0.32616800000000001},{"$f":"ROUND(IFERROR((1/'BS Rates'!AD29),\"\"),6)","v":1.11E-4},{"$f":"ROUND(IFERROR((1/'BS Rates'!AE29),\"\"),6)","v":1.2E-4}]
[null,"2010-06-10",{"$f":"ROUND(IFERROR((1/'BS Rates'!C30),\"\"),6)","v":0.95383399999999996},{"$f":"ROUND(IFERROR((1/'BS Rates'!D30),\"\"),6)","v":0.146873},{"$f":"ROUND(IFERROR((1/'BS Rates'!E30),\"\"),6)","v":5.2099999999999998E-4},{"$f":"ROUND(IFERROR((1/'BS Rates'!F30),\"\"),6)","v":1.2205539999999999},{"$f":"ROUND(IFERROR((1/'BS Rates'!G30),\"\"),6)","v":0.12845699999999999},{"$f":"ROUND(IFERROR((1/'BS Rates'!H30),\"\"),6)","v":1.1279000000000001E-2},{"$f":"ROUND(IFERROR((1/'BS Rates'!I30),\"\"),6)","v":8.2100000000000001E-4},{"$f":"ROUND(IFERROR((1/'BS Rates'!J30),\"\"),6)","v":0.122184},{"$f":"ROUND(IFERROR((1/'BS Rates'!K30),\"\"),6)","v":0.30749399999999999},{"$f":"ROUND(IFERROR((1/'BS Rates'!L30),\"\"),6)","v":7.7909000000000006E-2},{"$f":"ROUND(IFERROR((1/'BS Rates'!M30),\"\"),6)","v":2.1496999999999999E-2},{"$f":"ROUND(IFERROR((1/'BS Rates'!N30),\"\"),6)","v":0.71494999999999997},{"$f":"ROUND(IFERROR((1/'BS Rates'!O30),\"\"),6)","v":3.1186999999999999E-2},{"$f":"ROUND(IFERROR((1/'BS Rates'!P30),\"\"),6)","v":3.0688E-2},{"$f":"ROUND(IFERROR((1/'BS Rates'!Q30),\"\"),6)","v":0.63123300000000004},{"$f":"ROUND(IFERROR((1/'BS Rates'!R30),\"\"),6)","v":0.23263900000000001},{"$f":"ROUND(IFERROR((1/'BS Rates'!S30),\"\"),6)","v":0.85631100000000004},{"$f":"ROUND(IFERROR((1/'BS Rates'!T30),\"\"),6)","v":1.506705},{"$f":"ROUND(IFERROR((1/'BS Rates'!U30),\"\"),6)","v":0.70363100000000001},{"$f":"ROUND(IFERROR((1/'BS Rates'!V30),\"\"),6)","v":0.16387499999999999},{"$f":"ROUND(IFERROR((1/'BS Rates'!W30),\"\"),6)","v":1.2205539999999999},{"$f":"ROUND(IFERROR((1/'BS Rates'!X30),\"\"),6)","v":0.69594299999999998},{"$f":"ROUND(IFERROR((1/'BS Rates'!Y30),\"\"),6)","v":0.12809999999999999},{"$f":"ROUND(IFERROR((1/'BS Rates'!Z30),\"\"),6)","v":0.921489},{"$f":"ROUND(IFERROR((1/'BS Rates'!AA30),\"\"),6)","v":4.2490000000000002E-3},{"$f":"ROUND(IFERROR((1/'BS Rates'!AB30),\"\"),6)","v":4.7316999999999998E-2},{"$f":"ROUND(IFERROR((1/'BS Rates'!AC30),\"\"),6)","v":0.293462},{"$f":"ROUND(IFERROR((1/'BS Rates'!AD30),\"\"),6)","v":1.0900000000000001E-4},{"$f":"IFERROR((1/'BS Rates'!AE30),\"\")","v":""}]
[null,"2010-05-10",{"$f":"ROUND(IFERROR((1/'BS Rates'!C31),\"\"),6)","v":0.94777699999999998},{"$f":"ROUND(IFERROR((1/'BS Rates'!D31),\"\"),6)","v":0.14619199999999999},{"$f":"ROUND(IFERROR((1/'BS Rates'!E31),\"\"),6)","v":5.0600000000000005E-4},{"$f":"ROUND(IFERROR((1/'BS Rates'!F31),\"\"),6)","v":1.2298610000000001},{"$f":"ROUND(IFERROR((1/'BS Rates'!G31),\"\"),6)","v":0.12840299999999999},{"$f":"ROUND(IFERROR((1/'BS Rates'!H31),\"\"),6)","v":1.1042E-2},{"$f":"ROUND(IFERROR((1/'BS Rates'!I31),\"\"),6)","v":8.12E-4},{"$f":"ROUND(IFERROR((1/'BS Rates'!J31),\"\"),6)","v":0.12152},{"$f":"ROUND(IFERROR((1/'BS Rates'!K31),\"\"),6)","v":0.302398},{"$f":"ROUND(IFERROR((1/'BS Rates'!L31),\"\"),6)","v":7.7406000000000003E-2},{"$f":"ROUND(IFERROR((1/'BS Rates'!M31),\"\"),6)","v":2.1426000000000001E-2},{"$f":"ROUND(IFERROR((1/'BS Rates'!N31),\"\"),6)","v":0.71225099999999997},{"$f":"ROUND(IFERROR((1/'BS Rates'!O31),\"\"),6)","v":3.1201E-2},{"$f":"ROUND(IFERROR((1/'BS Rates'!P31),\"\"),6)","v":3.0595000000000001E-2},{"$f":"ROUND(IFERROR((1/'BS Rates'!Q31),\"\"),6)","v":0.63808100000000001},{"$f":"ROUND(IFERROR((1/'BS Rates'!R31),\"\"),6)","v":0.232574},{"$f":"ROUND(IFERROR((1/'BS Rates'!S31),\"\"),6)","v":0.84674000000000005},{"$f":"ROUND(IFERROR((1/'BS Rates'!T31),\"\"),6)","v":1.451379},{"$f":"ROUND(IFERROR((1/'BS Rates'!U31),\"\"),6)","v":0.70008400000000004},{"$f":"ROUND(IFERROR((1/'BS Rates'!V31),\"\"),6)","v":0.165297},{"$f":"ROUND(IFERROR((1/'BS Rates'!W31),\"\"),6)","v":1.2298610000000001},{"$f":"ROUND(IFERROR((1/'BS Rates'!X31),\"\"),6)","v":0.67549300000000001},{"$f":"ROUND(IFERROR((1/'BS Rates'!Y31),\"\"),6)","v":0.12667700000000001},{"$f":"ROUND(IFERROR((1/'BS Rates'!Z31),\"\"),6)","v":0.86229199999999995},{"$f":"ROUND(IFERROR((1/'BS Rates'!AA31),\"\"),6)","v":4.4479999999999997E-3},{"$f":"ROUND(IFERROR((1/'BS Rates'!AB31),\"\"),6)","v":4.7953000000000003E-2},{"$f":"ROUND(IFERROR((1/'BS Rates'!AC31),\"\"),6)","v":0.30030000000000001},{"$f":"ROUND(IFERROR((1/'BS Rates'!AD31),\"\"),6)","v":1.08E-4}]
[null,"2010-04-10",{"$f":"ROUND(IFERROR((1/'BS Rates'!C32),\"\"),6)","v":0.99403600000000003},{"$f":"ROUND(IFERROR((1/'BS Rates'!D32),\"\"),6)","v":0.146289},{"$f":"ROUND(IFERROR((1/'BS Rates'!E32),\"\"),6)","v":5.04E-4},{"$f":"ROUND(IFERROR((1/'BS Rates'!F32),\"\"),6)","v":1.3236270000000001},{"$f":"ROUND(IFERROR((1/'BS Rates'!G32),\"\"),6)","v":0.12876599999999999},{"$f":"ROUND(IFERROR((1/'BS Rates'!H32),\"\"),6)","v":1.0631E-2},{"$f":"ROUND(IFERROR((1/'BS Rates'!I32),\"\"),6)","v":8.9599999999999999E-4},{"$f":"ROUND(IFERROR((1/'BS Rates'!J32),\"\"),6)","v":0.12268999999999999},{"$f":"ROUND(IFERROR((1/'BS Rates'!K32),\"\"),6)","v":0.31271500000000002},{"$f":"ROUND(IFERROR((1/'BS Rates'!L32),\"\"),6)","v":8.1444000000000003E-2},{"$f":"ROUND(IFERROR((1/'BS Rates'!M32),\"\"),6)","v":2.2346000000000001E-2},{"$f":"ROUND(IFERROR((1/'BS Rates'!N32),\"\"),6)","v":0.72987400000000002},{"$f":"ROUND(IFERROR((1/'BS Rates'!O32),\"\"),6)","v":3.1888E-2},{"$f":"ROUND(IFERROR((1/'BS Rates'!P32),\"\"),6)","v":3.0821999999999999E-2},{"$f":"ROUND(IFERROR((1/'BS Rates'!Q32),\"\"),6)","v":0.67195300000000002},{"$f":"ROUND(IFERROR((1/'BS Rates'!R32),\"\"),6)","v":0.232547},{"$f":"ROUND(IFERROR((1/'BS Rates'!S32),\"\"),6)","v":0.92686999999999997},{"$f":"ROUND(IFERROR((1/'BS Rates'!T32),\"\"),6)","v":1.52532},{"$f":"ROUND(IFERROR((1/'BS Rates'!U32),\"\"),6)","v":0.72061699999999995},{"$f":"ROUND(IFERROR((1/'BS Rates'!V32),\"\"),6)","v":0.177838},{"$f":"ROUND(IFERROR((1/'BS Rates'!W32),\"\"),6)","v":1.3236270000000001},{"$f":"ROUND(IFERROR((1/'BS Rates'!X32),\"\"),6)","v":0.72134500000000001},{"$f":"ROUND(IFERROR((1/'BS Rates'!Y32),\"\"),6)","v":0.13749900000000001},{"$f":"ROUND(IFERROR((1/'BS Rates'!Z32),\"\"),6)","v":0.92284999999999995},{"$f":"ROUND(IFERROR((1/'BS Rates'!AA32),\"\"),6)","v":4.9430000000000003E-3},{"$f":"ROUND(IFERROR((1/'BS Rates'!AB32),\"\"),6)","v":5.1858000000000001E-2},{"$f":"ROUND(IFERROR((1/'BS Rates'!AC32),\"\"),6)","v":0.33812300000000001},{"$f":"ROUND(IFERROR((1/'BS Rates'!AD32),\"\"),6)","v":1.11E-4}]
[null,"2010-03-10",{"$f":"ROUND(IFERROR((1/'BS Rates'!C33),\"\"),6)","v":0.98116199999999998},{"$f":"ROUND(IFERROR((1/'BS Rates'!D33),\"\"),6)","v":0.146282},{"$f":"ROUND(IFERROR((1/'BS Rates'!E33),\"\"),6)","v":5.1199999999999998E-4},{"$f":"ROUND(IFERROR((1/'BS Rates'!F33),\"\"),6)","v":1.3453520000000001},{"$f":"ROUND(IFERROR((1/'BS Rates'!G33),\"\"),6)","v":0.12820500000000001},{"$f":"ROUND(IFERROR((1/'BS Rates'!H33),\"\"),6)","v":1.0788000000000001E-2},{"$f":"ROUND(IFERROR((1/'BS Rates'!I33),\"\"),6)","v":8.83E-4},{"$f":"ROUND(IFERROR((1/'BS Rates'!J33),\"\"),6)","v":0.122823},{"$f":"ROUND(IFERROR((1/'BS Rates'!K33),\"\"),6)","v":0.30577300000000002},{"$f":"ROUND(IFERROR((1/'BS Rates'!L33),\"\"),6)","v":8.0547999999999995E-2},{"$f":"ROUND(IFERROR((1/'BS Rates'!M33),\"\"),6)","v":2.2023000000000001E-2},{"$f":"ROUND(IFERROR((1/'BS Rates'!N33),\"\"),6)","v":0.71469400000000005},{"$f":"ROUND(IFERROR((1/'BS Rates'!O33),\"\"),6)","v":3.1446000000000002E-2},{"$f":"ROUND(IFERROR((1/'BS Rates'!P33),\"\"),6)","v":3.0744E-2},{"$f":"ROUND(IFERROR((1/'BS Rates'!Q33),\"\"),6)","v":0.65355200000000002},{"$f":"ROUND(IFERROR((1/'BS Rates'!R33),\"\"),6)","v":0.232574},{"$f":"ROUND(IFERROR((1/'BS Rates'!S33),\"\"),6)","v":0.91920199999999996},{"$f":"ROUND(IFERROR((1/'BS Rates'!T33),\"\"),6)","v":1.506705},{"$f":"ROUND(IFERROR((1/'BS Rates'!U33),\"\"),6)","v":0.70611500000000005},{"$f":"ROUND(IFERROR((1/'BS Rates'!V33),\"\"),6)","v":0.180704},{"$f":"ROUND(IFERROR((1/'BS Rates'!W33),\"\"),6)","v":1.3453520000000001},{"$f":"ROUND(IFERROR((1/'BS Rates'!X33),\"\"),6)","v":0.71058100000000002},{"$f":"ROUND(IFERROR((1/'BS Rates'!Y33),\"\"),6)","v":0.13771600000000001},{"$f":"ROUND(IFERROR((1/'BS Rates'!Z33),\"\"),6)","v":0.93967299999999998},{"$f":"ROUND(IFERROR((1/'BS Rates'!AA33),\"\"),6)","v":5.0520000000000001E-3},{"$f":"ROUND(IFERROR((1/'BS Rates'!AB33),\"\"),6)","v":5.2843000000000001E-2},{"$f":"ROUND(IFERROR((1/'BS Rates'!AC33),\"\"),6)","v":0.34706599999999999},{"$f":"IFERROR((1/'BS Rates'!AD33),\"\")","v":""}]
[null,"2010-02-07",{"$f":"ROUND(IFERROR((1/'BS Rates'!C34),\"\"),6)","v":0.94303999999999999},{"$f":"ROUND(IFERROR((1/'BS Rates'!D34),\"\"),6)","v":0.14626500000000001},{"$f":"ROUND(IFERROR((1/'BS Rates'!E34),\"\"),6)","v":5.0799999999999999E-4},{"$f":"ROUND(IFERROR((1/'BS Rates'!F34),\"\"),6)","v":1.3498920000000001},{"$f":"ROUND(IFERROR((1/'BS Rates'!G34),\"\"),6)","v":0.12820500000000001},{"$f":"ROUND(IFERROR((1/'BS Rates'!H34),\"\"),6)","v":1.1204E-2},{"$f":"ROUND(IFERROR((1/'BS Rates'!I34),\"\"),6)","v":8.5899999999999995E-4},{"$f":"ROUND(IFERROR((1/'BS Rates'!J34),\"\"),6)","v":0.12275999999999999},{"$f":"ROUND(IFERROR((1/'BS Rates'!K34),\"\"),6)","v":0.29348800000000003},{"$f":"ROUND(IFERROR((1/'BS Rates'!L34),\"\"),6)","v":7.7869999999999995E-2},{"$f":"ROUND(IFERROR((1/'BS Rates'!M34),\"\"),6)","v":2.1544000000000001E-2},{"$f":"ROUND(IFERROR((1/'BS Rates'!N34),\"\"),6)","v":0.70871700000000004},{"$f":"ROUND(IFERROR((1/'BS Rates'!O34),\"\"),6)","v":3.1153E-2},{"$f":"ROUND(IFERROR((1/'BS Rates'!P34),\"\"),6)","v":3.0096999999999999E-2},{"$f":"ROUND(IFERROR((1/'BS Rates'!Q34),\"\"),6)","v":0.64383199999999996},{"$f":"ROUND(IFERROR((1/'BS Rates'!R34),\"\"),6)","v":0.23271500000000001},{"$f":"ROUND(IFERROR((1/'BS Rates'!S34),\"\"),6)","v":0.89493500000000004},{"$f":"ROUND(IFERROR((1/'BS Rates'!T34),\"\"),6)","v":1.5232289999999999},{"$f":"IFERROR((1/'BS Rates'!U34),\"\")","v":""},{"$f":"IFERROR((1/'BS Rates'!V34),\"\")","v":""},{"$f":"IFERROR((1/'BS Rates'!W34),\"\")","v":""},null,{"$f":"IFERROR((1/'BS Rates'!Y34),\"\")","v":""},{"$f":"IFERROR((1/'BS Rates'!Z34),\"\")","v":0.93118539901294339},{"$f":"IFERROR((1/'BS Rates'!AA34),\"\")","v":5.0671395996959717E-3},{"$f":"IFERROR((1/'BS Rates'!AB34),\"\")","v":""},{"$f":"IFERROR((1/'BS Rates'!AC34),\"\")","v":""},{"$f":"IFERROR((1/'BS Rates'!AD34),\"\")","v":""}]
[null,"2010-01-08",{"$f":"ROUND(IFERROR((1/'BS Rates'!C35),\"\"),6)","v":0.941797},{"$f":"ROUND(IFERROR((1/'BS Rates'!D35),\"\"),6)","v":0.14626500000000001},{"$f":"ROUND(IFERROR((1/'BS Rates'!E35),\"\"),6)","v":4.8999999999999998E-4},{"$f":"IFERROR((1/'BS Rates'!F35),\"\")","v":1.4001680201624196},{"$f":"IFERROR((1/'BS Rates'!G35),\"\")","v":0.12820512820512822},{"$f":"IFERROR((1/'BS Rates'!H35),\"\")","v":1.1094284779195997E-2},{"$f":"IFERROR((1/'BS Rates'!I35),\"\")","v":8.6640097036908676E-4},{"$f":"IFERROR((1/'BS Rates'!J35),\"\")","v":0.12269487012747997},{"$f":"IFERROR((1/'BS Rates'!K35),\"\")","v":0.29269720474169469},{"$f":"ROUND(IFERROR((1/'BS Rates'!L35),\"\"),6)","v":7.7129000000000003E-2},{"$f":"ROUND(IFERROR((1/'BS Rates'!M35),\"\"),6)","v":2.1458999999999999E-2},{"$f":"ROUND(IFERROR((1/'BS Rates'!N35),\"\"),6)","v":0.71240300000000001},{"$f":"ROUND(IFERROR((1/'BS Rates'!O35),\"\"),6)","v":3.1251000000000001E-2},{"$f":"ROUND(IFERROR((1/'BS Rates'!P35),\"\"),6)","v":3.0032E-2},{"$f":"ROUND(IFERROR((1/'BS Rates'!Q35),\"\"),6)","v":0.66844899999999996},{"$f":"ROUND(IFERROR((1/'BS Rates'!R35),\"\"),6)","v":0.232574},{"$f":"ROUND(IFERROR((1/'BS Rates'!S35),\"\"),6)","v":0.88323600000000002},{"$f":"IFERROR((1/'BS Rates'!T35),\"\")","v":1.5982100047946299},{"$f":"IFERROR((1/'BS Rates'!U35),\"\")","v":""},{"$f":"IFERROR((1/'BS Rates'!V35),\"\")","v":""},{"$f":"IFERROR((1/'BS Rates'!W35),\"\")","v":""},{"$f":"IFERROR((1/'BS Rates'!X35),\"\")","v":""},{"$f":"IFERROR((1/'BS Rates'!Y35),\"\")","v":""},{"$f":"IFERROR((1/'BS Rates'!Z35),\"\")","v":0.94224064826156606},{"$f":"IFERROR((1/'BS Rates'!AA35),\"\")","v":5.105036118130536E-3},{"$f":"IFERROR((1/'BS Rates'!AB35),\"\")","v":""},{"$f":"IFERROR((1/'BS Rates'!AC35),\"\")","v":""},{"$f":"IFERROR((1/'BS Rates'!AD35),\"\")","v":""}]
[{"$f":"A24-1","v":2009},"2009-12-09",{"$f":"ROUND(IFERROR((1/'BS Rates'!C36),\"\"),6)","v":0.95292500000000002},{"$f":"ROUND(IFERROR((1/'BS Rates'!D36),\"\"),6)","v":0.146259},{"$f":"IFERROR((1/'BS Rates'!E36),\"\")","v":4.8434828516489637E-4},{"$f":"IFERROR((1/'BS Rates'!F36),\"\")","v":1.4332807797047442},{"$f":"IFERROR((1/'BS Rates'!G36),\"\")","v":0.12820512820512822},{"$f":"IFERROR((1/'BS Rates'!H36),\"\")","v":1.08412718546489E-2},{"$f":"IFERROR((1/'BS Rates'!I36),\"\")","v":8.5780213935853563E-4},{"$f":"IFERROR((1/'BS Rates'!J36),\"\")","v":0.12279129164159677},{"$f":"IFERROR((1/'BS Rates'!K36),\"\")","v":0.29161320424588827},{"$f":"ROUND(IFERROR((1/'BS Rates'!L36),\"\"),6)","v":7.6693999999999998E-2},{"$f":"ROUND(IFERROR((1/'BS Rates'!M36),\"\"),6)","v":2.1541000000000001E-2},{"$f":"ROUND(IFERROR((1/'BS Rates'!N36),\"\"),6)","v":0.71154099999999998},{"$f":"ROUND(IFERROR((1/'BS Rates'!O36),\"\"),6)","v":3.1019000000000001E-2},{"$f":"ROUND(IFERROR((1/'BS Rates'!P36),\"\"),6)","v":2.9836000000000001E-2},{"$f":"ROUND(IFERROR((1/'BS Rates'!Q36),\"\"),6)","v":0.66093900000000005},{"$f":"ROUND(IFERROR((1/'BS Rates'!R36),\"\"),6)","v":0.46474900000000002},{"$f":"ROUND(IFERROR((1/'BS Rates'!S36),\"\"),6)","v":0.89293699999999998},{"$f":"IFERROR((1/'BS Rates'!T36),\"\")","v":1.5926102882624622},{"$f":"IFERROR((1/'BS Rates'!U36),\"\")","v":""},{"$f":"IFERROR((1/'BS Rates'!V36),\"\")","v":""},{"$f":"IFERROR((1/'BS Rates'!W36),\"\")","v":""},{"$f":"IFERROR((1/'BS Rates'!X36),\"\")","v":""},{"$f":"IFERROR((1/'BS Rates'!Y36),\"\")","v":""},{"$f":"IFERROR((1/'BS Rates'!Z36),\"\")","v":0.96339113680154143},{"$f":"IFERROR((1/'BS Rates'!AA36),\"\")","v":5.2573195030781606E-3},{"$f":"IFERROR((1/'BS Rates'!AB36),\"\")","v":""},{"$f":"IFERROR((1/'BS Rates'!AC36),\"\")","v":""},{"$f":"IFERROR((1/'BS Rates'!AD36),\"\")","v":""}]
[null,"2009-11-08",{"$f":"ROUND(IFERROR((1/'BS Rates'!C37),\"\"),6)","v":0.94162000000000001},{"$f":"ROUND(IFERROR((1/'BS Rates'!D37),\"\"),6)","v":0.14644499999999999},{"$f":"IFERROR((1/'BS Rates'!E37),\"\")","v":4.9825610363726954E-4},{"$f":"IFERROR((1/'BS Rates'!F37),\"\")","v":1.4985763524651581},{"$f":"IFERROR((1/'BS Rates'!G37),\"\")","v":0.12820512820512822},{"$f":"IFERROR((1/'BS Rates'!H37),\"\")","v":1.1539841881086544E-2},{"$f":"IFERROR((1/'BS Rates'!I37),\"\")","v":8.4560160326063987E-4},{"$f":"IFERROR((1/'BS Rates'!J37),\"\")","v":0.12367054167697254},{"$f":"IFERROR((1/'BS Rates'!K37),\"\")","v":0.29155368961194206},{"$f":"ROUND(IFERROR((1/'BS Rates'!L37),\"\"),6)","v":7.7148999999999995E-2},{"$f":"ROUND(IFERROR((1/'BS Rates'!M37),\"\"),6)","v":2.1128000000000001E-2},{"$f":"ROUND(IFERROR((1/'BS Rates'!N37),\"\"),6)","v":0.72020200000000001},{"$f":"ROUND(IFERROR((1/'BS Rates'!O37),\"\"),6)","v":3.092E-2},{"$f":"ROUND(IFERROR((1/'BS Rates'!P37),\"\"),6)","v":3.0110000000000001E-2},{"$f":"ROUND(IFERROR((1/'BS Rates'!Q37),\"\"),6)","v":0.65754900000000005},{"$f":"ROUND(IFERROR((1/'BS Rates'!R37),\"\"),6)","v":0.46522400000000003},{"$f":"ROUND(IFERROR((1/'BS Rates'!S37),\"\"),6)","v":0.90661800000000003},{"$f":"IFERROR((1/'BS Rates'!T37),\"\")","v":1.650437365901964},{"$f":"IFERROR((1/'BS Rates'!U37),\"\")","v":""},{"$f":"IFERROR((1/'BS Rates'!V37),\"\")","v":""},{"$f":"IFERROR((1/'BS Rates'!W37),\"\")","v":""},{"$f":"IFERROR((1/'BS Rates'!X37),\"\")","v":""},{"$f":"IFERROR((1/'BS Rates'!Y37),\"\")","v":""},{"$f":"IFERROR((1/'BS Rates'!Z37),\"\")","v":0.9942334460131238},{"$f":"IFERROR((1/'BS Rates'!AA37),\"\")","v":5.4779512462339083E-3},{"$f":"IFERROR((1/'BS Rates'!AB37),\"\")","v":""},{"$f":"IFERROR((1/'BS Rates'!AC37),\"\")","v":""},{"$f":"IFERROR((1/'BS Rates'!AD37),\"\")","v":""}]
[null,"2009-10-09",{"$f":"ROUND(IFERROR((1/'BS Rates'!C38),\"\"),6)","v":0.92962699999999998},{"$f":"ROUND(IFERROR((1/'BS Rates'!D38),\"\"),6)","v":0.14621000000000001},{"$f":"IFERROR((1/'BS Rates'!E38),\"\")","v":4.94762934340011E-4},{"$f":"IFERROR((1/'BS Rates'!F38),\"\")","v":1.475796930342385},{"$f":"IFERROR((1/'BS Rates'!G38),\"\")","v":0.12820512820512822},{"$f":"IFERROR((1/'BS Rates'!H38),\"\")","v":1.1004623042140003E-2},{"$f":"IFERROR((1/'BS Rates'!I38),\"\")","v":8.3789988772141506E-4},{"$f":"IFERROR((1/'BS Rates'!J38),\"\")","v":0.12324377618930243},{"$f":"IFERROR((1/'BS Rates'!K38),\"\")","v":0.29173230643561471},{"$f":"ROUND(IFERROR((1/'BS Rates'!L38),\"\"),6)","v":7.5539999999999996E-2},{"$f":"ROUND(IFERROR((1/'BS Rates'!M38),\"\"),6)","v":2.0912E-2},{"$f":"ROUND(IFERROR((1/'BS Rates'!N38),\"\"),6)","v":0.71382699999999999},{"$f":"ROUND(IFERROR((1/'BS Rates'!O38),\"\"),6)","v":3.0693999999999999E-2},{"$f":"ROUND(IFERROR((1/'BS Rates'!P38),\"\"),6)","v":2.9911E-2},{"$f":"ROUND(IFERROR((1/'BS Rates'!Q38),\"\"),6)","v":0.66711100000000001},{"$f":"ROUND(IFERROR((1/'BS Rates'!R38),\"\"),6)","v":0.464619},{"$f":"ROUND(IFERROR((1/'BS Rates'!S38),\"\"),6)","v":0.91066400000000003},{"$f":"IFERROR((1/'BS Rates'!T38),\"\")","v":1.6523463317911435},{"$f":"IFERROR((1/'BS Rates'!U38),\"\")","v":""},{"$f":"IFERROR((1/'BS Rates'!V38),\"\")","v":""},{"$f":"IFERROR((1/'BS Rates'!W38),\"\")","v":""},{"$f":"IFERROR((1/'BS Rates'!X38),\"\")","v":""},{"$f":"IFERROR((1/'BS Rates'!Y38),\"\")","v":""},{"$f":"IFERROR((1/'BS Rates'!Z38),\"\")","v":0.97962382445141072},{"$f":"IFERROR((1/'BS Rates'!AA38),\"\")","v":5.3965084590270095E-3},{"$f":"IFERROR((1/'BS Rates'!AB38),\"\")","v":""},{"$f":"IFERROR((1/'BS Rates'!AC38),\"\")","v":""},{"$f":"IFERROR((1/'BS Rates'!AD38),\"\")","v":""}]
[null,"2009-09-08",{"$f":"ROUND(IFERROR((1/'BS Rates'!C39),\"\"),6)","v":0.92072600000000004},{"$f":"ROUND(IFERROR((1/'BS Rates'!D39),\"\"),6)","v":0.14624999999999999},{"$f":"IFERROR((1/'BS Rates'!E39),\"\")","v":5.1585745826713159E-4},{"$f":"IFERROR((1/'BS Rates'!F39),\"\")","v":1.4590020426028596},{"$f":"IFERROR((1/'BS Rates'!G39),\"\")","v":0.12820512820512822},{"$f":"IFERROR((1/'BS Rates'!H39),\"\")","v":1.1113827824579342E-2},{"$f":"IFERROR((1/'BS Rates'!I39),\"\")","v":8.3989854025633712E-4},{"$f":"IFERROR((1/'BS Rates'!J39),\"\")","v":0.12310874195176601},{"$f":"IFERROR((1/'BS Rates'!K39),\"\")","v":0.28677946659019216},{"$f":"ROUND(IFERROR((1/'BS Rates'!L39),\"\"),6)","v":7.3760999999999993E-2},{"$f":"ROUND(IFERROR((1/'BS Rates'!M39),\"\"),6)","v":2.0965999999999999E-2},{"$f":"ROUND(IFERROR((1/'BS Rates'!N39),\"\"),6)","v":0.70501999999999998},{"$f":"ROUND(IFERROR((1/'BS Rates'!O39),\"\"),6)","v":3.0838000000000001E-2},{"$f":"ROUND(IFERROR((1/'BS Rates'!P39),\"\"),6)","v":2.9805999999999999E-2},{"$f":"ROUND(IFERROR((1/'BS Rates'!Q39),\"\"),6)","v":0.67037599999999997},{"$f":"ROUND(IFERROR((1/'BS Rates'!R39),\"\"),6)","v":0.46464100000000003},{"$f":"ROUND(IFERROR((1/'BS Rates'!S39),\"\"),6)","v":0.87267600000000001},{"$f":"IFERROR((1/'BS Rates'!T39),\"\")","v":1.591849729385546},{"$f":"IFERROR((1/'BS Rates'!U39),\"\")","v":""},{"$f":"IFERROR((1/'BS Rates'!V39),\"\")","v":""},{"$f":"IFERROR((1/'BS Rates'!W39),\"\")","v":""},{"$f":"IFERROR((1/'BS Rates'!X39),\"\")","v":""},{"$f":"IFERROR((1/'BS Rates'!Y39),\"\")","v":""},{"$f":"IFERROR((1/'BS Rates'!Z39),\"\")","v":0.96562379297025869},{"$f":"IFERROR((1/'BS Rates'!AA39),\"\")","v":5.397265745173495E-3},{"$f":"IFERROR((1/'BS Rates'!AB39),\"\")","v":""},{"$f":"IFERROR((1/'BS Rates'!AC39),\"\")","v":""},{"$f":"IFERROR((1/'BS Rates'!AD39),\"\")","v":""}]
[null,"2009-08-08",{"$f":"ROUND(IFERROR((1/'BS Rates'!C40),\"\"),6)","v":0.91575099999999998},{"$f":"ROUND(IFERROR((1/'BS Rates'!D40),\"\"),6)","v":0.146173},{"$f":"IFERROR((1/'BS Rates'!E40),\"\")","v":4.8125511333557919E-4},{"$f":"IFERROR((1/'BS Rates'!F40),\"\")","v":1.429796968830426},{"$f":"IFERROR((1/'BS Rates'!G40),\"\")","v":0.12820512820512822},{"$f":"IFERROR((1/'BS Rates'!H40),\"\")","v":1.0737851463300708E-2},{"$f":"IFERROR((1/'BS Rates'!I40),\"\")","v":7.8919746509774217E-4},{"$f":"IFERROR((1/'BS Rates'!J40),\"\")","v":0.12312389958014749},{"$f":"IFERROR((1/'BS Rates'!K40),\"\")","v":0.27881559136786932},{"$f":"ROUND(IFERROR((1/'BS Rates'!L40),\"\"),6)","v":7.5370999999999994E-2},{"$f":"ROUND(IFERROR((1/'BS Rates'!M40),\"\"),6)","v":2.0119999999999999E-2},{"$f":"ROUND(IFERROR((1/'BS Rates'!N40),\"\"),6)","v":0.69328900000000004},{"$f":"ROUND(IFERROR((1/'BS Rates'!O40),\"\"),6)","v":3.0325999999999999E-2},{"$f":"ROUND(IFERROR((1/'BS Rates'!P40),\"\"),6)","v":2.9401E-2},{"$f":"ROUND(IFERROR((1/'BS Rates'!Q40),\"\"),6)","v":0.66916900000000001},{"$f":"ROUND(IFERROR((1/'BS Rates'!R40),\"\"),6)","v":0.464619},{"$f":"ROUND(IFERROR((1/'BS Rates'!S40),\"\"),6)","v":0.84054799999999996},{"$f":"IFERROR((1/'BS Rates'!T40),\"\")","v":1.6265452179570592},{"$f":"IFERROR((1/'BS Rates'!U40),\"\")","v":""},{"$f":"IFERROR((1/'BS Rates'!V40),\"\")","v":""},{"$f":"IFERROR((1/'BS Rates'!W40),\"\")","v":""},{"$f":"IFERROR((1/'BS Rates'!X40),\"\")","v":""},{"$f":"IFERROR((1/'BS Rates'!Y40),\"\")","v":""},{"$f":"IFERROR((1/'BS Rates'!Z40),\"\")","v":0.94321826070552728},{"$f":"IFERROR((1/'BS Rates'!AA40),\"\")","v":5.2575406276452004E-3},{"$f":"IFERROR((1/'BS Rates'!AB40),\"\")","v":""},{"$f":"IFERROR((1/'BS Rates'!AC40),\"\")","v":""},{"$f":"IFERROR((1/'BS Rates'!AD40),\"\")","v":""}]
[null,"2009-07-09",{"$f":"ROUND(IFERROR((1/'BS Rates'!C41),\"\"),6)","v":0.92038699999999996},{"$f":"ROUND(IFERROR((1/'BS Rates'!D41),\"\"),6)","v":0.146143},{"$f":"IFERROR((1/'BS Rates'!E41),\"\")","v":4.8223680720654681E-4},{"$f":"IFERROR((1/'BS Rates'!F41),\"\")","v":1.4058765640376774},{"$f":"IFERROR((1/'BS Rates'!G41),\"\")","v":0.12820512820512822},{"$f":"IFERROR((1/'BS Rates'!H41),\"\")","v":1.0498224750194742E-2},{"$f":"IFERROR((1/'BS Rates'!I41),\"\")","v":8.0959860101361737E-4},{"$f":"IFERROR((1/'BS Rates'!J41),\"\")","v":0.12305420537746878},{"$f":"IFERROR((1/'BS Rates'!K41),\"\")","v":0.28294946522551073},{"$f":"ROUND(IFERROR((1/'BS Rates'!L41),\"\"),6)","v":7.5427999999999995E-2},{"$f":"ROUND(IFERROR((1/'BS Rates'!M41),\"\"),6)","v":2.0743999999999999E-2},{"$f":"ROUND(IFERROR((1/'BS Rates'!N41),\"\"),6)","v":0.692137},{"$f":"ROUND(IFERROR((1/'BS Rates'!O41),\"\"),6)","v":3.0429000000000001E-2},{"$f":"ROUND(IFERROR((1/'BS Rates'!P41),\"\"),6)","v":2.9377E-2},{"$f":"ROUND(IFERROR((1/'BS Rates'!Q41),\"\"),6)","v":0.67399100000000001},{"$f":"ROUND(IFERROR((1/'BS Rates'!R41),\"\"),6)","v":0.46466200000000002},{"$f":"ROUND(IFERROR((1/'BS Rates'!S41),\"\"),6)","v":0.821963},{"$f":"IFERROR((1/'BS Rates'!T41),\"\")","v":1.6447368421052633},{"$f":"IFERROR((1/'BS Rates'!U41),\"\")","v":""},{"$f":"IFERROR((1/'BS Rates'!V41),\"\")","v":""},{"$f":"IFERROR((1/'BS Rates'!W41),\"\")","v":""},{"$f":"IFERROR((1/'BS Rates'!X41),\"\")","v":""},{"$f":"IFERROR((1/'BS Rates'!Y41),\"\")","v":""},{"$f":"IFERROR((1/'BS Rates'!Z41),\"\")","v":0.91920213254894745},{"$f":"IFERROR((1/'BS Rates'!AA41),\"\")","v":5.2416121102206196E-3},{"$f":"IFERROR((1/'BS Rates'!AB41),\"\")","v":""},{"$f":"IFERROR((1/'BS Rates'!AC41),\"\")","v":""},{"$f":"IFERROR((1/'BS Rates'!AD41),\"\")","v":""}]
[null,"2009-06-09",{"$f":"ROUND(IFERROR((1/'BS Rates'!C42),\"\"),6)","v":0.86505200000000004},{"$f":"ROUND(IFERROR((1/'BS Rates'!D42),\"\"),6)","v":0.146096},{"$f":"IFERROR((1/'BS Rates'!E42),\"\")","v":4.5886083209823294E-4},{"$f":"IFERROR((1/'BS Rates'!F42),\"\")","v":1.4046916701783958},{"$f":"IFERROR((1/'BS Rates'!G42),\"\")","v":0.12820512820512822},{"$f":"IFERROR((1/'BS Rates'!H42),\"\")","v":1.0465746657763805E-2},{"$f":"IFERROR((1/'BS Rates'!I42),\"\")","v":7.7839790143925767E-4},{"$f":"IFERROR((1/'BS Rates'!J42),\"\")","v":0.12310722639418935},{"$f":"IFERROR((1/'BS Rates'!K42),\"\")","v":0.28247789610462981},{"$f":"ROUND(IFERROR((1/'BS Rates'!L42),\"\"),6)","v":7.5577000000000005E-2},{"$f":"ROUND(IFERROR((1/'BS Rates'!M42),\"\"),6)","v":2.0674000000000001E-2},{"$f":"ROUND(IFERROR((1/'BS Rates'!N42),\"\"),6)","v":0.687616},{"$f":"ROUND(IFERROR((1/'BS Rates'!O42),\"\"),6)","v":3.0328999999999998E-2},{"$f":"ROUND(IFERROR((1/'BS Rates'!P42),\"\"),6)","v":2.9391E-2},{"$f":"ROUND(IFERROR((1/'BS Rates'!Q42),\"\"),6)","v":0.64914000000000005},{"$f":"ROUND(IFERROR((1/'BS Rates'!R42),\"\"),6)","v":0.46477000000000002},{"$f":"ROUND(IFERROR((1/'BS Rates'!S42),\"\"),6)","v":0.80450500000000003},{"$f":"IFERROR((1/'BS Rates'!T42),\"\")","v":1.6515276630883566},{"$f":"IFERROR((1/'BS Rates'!U42),\"\")","v":""},{"$f":"IFERROR((1/'BS Rates'!V42),\"\")","v":""},{"$f":"IFERROR((1/'BS Rates'!W42),\"\")","v":""},{"$f":"IFERROR((1/'BS Rates'!X42),\"\")","v":""},{"$f":"IFERROR((1/'BS Rates'!Y42),\"\")","v":""},{"$f":"IFERROR((1/'BS Rates'!Z42),\"\")","v":0.92114959469417845},{"$f":"IFERROR((1/'BS Rates'!AA42),\"\")","v":5.0824887931122118E-3},{"$f":"IFERROR((1/'BS Rates'!AB42),\"\")","v":""},{"$f":"IFERROR((1/'BS Rates'!AC42),\"\")","v":""},{"$f":"IFERROR((1/'BS Rates'!AD42),\"\")","v":""}]
[null,"2009-05-08",{"$f":"ROUND(IFERROR((1/'BS Rates'!C43),\"\"),6)","v":0.89357500000000001},{"$f":"ROUND(IFERROR((1/'BS Rates'!D43),\"\"),6)","v":0.146235},{"$f":"IFERROR((1/'BS Rates'!E43),\"\")","v":4.4529545353341944E-4},{"$f":"IFERROR((1/'BS Rates'!F43),\"\")","v":1.3875398917718884},{"$f":"IFERROR((1/'BS Rates'!G43),\"\")","v":0.12820512820512822},{"$f":"IFERROR((1/'BS Rates'!H43),\"\")","v":1.0365594518673618E-2},{"$f":"IFERROR((1/'BS Rates'!I43),\"\")","v":7.9120183558825847E-4},{"$f":"IFERROR((1/'BS Rates'!J43),\"\")","v":0.12295585884667405},{"$f":"IFERROR((1/'BS Rates'!K43),\"\")","v":0.28415548988406453},{"$f":"ROUND(IFERROR((1/'BS Rates'!L43),\"\"),6)","v":7.5371999999999995E-2},{"$f":"ROUND(IFERROR((1/'BS Rates'!M43),\"\"),6)","v":2.1051E-2},{"$f":"ROUND(IFERROR((1/'BS Rates'!N43),\"\"),6)","v":0.68752100000000005},{"$f":"ROUND(IFERROR((1/'BS Rates'!O43),\"\"),6)","v":3.0598E-2},{"$f":"ROUND(IFERROR((1/'BS Rates'!P43),\"\"),6)","v":2.9087999999999999E-2},{"$f":"ROUND(IFERROR((1/'BS Rates'!Q43),\"\"),6)","v":0.63271100000000002},{"$f":"ROUND(IFERROR((1/'BS Rates'!R43),\"\"),6)","v":0.464727},{"$f":"ROUND(IFERROR((1/'BS Rates'!S43),\"\"),6)","v":0.80044800000000005},{"$f":"IFERROR((1/'BS Rates'!T43),\"\")","v":1.6183848519177861},{"$f":"IFERROR((1/'BS Rates'!U43),\"\")","v":""},{"$f":"IFERROR((1/'BS Rates'!V43),\"\")","v":""},{"$f":"IFERROR((1/'BS Rates'!W43),\"\")","v":""},{"$f":"IFERROR((1/'BS Rates'!X43),\"\")","v":""},{"$f":"IFERROR((1/'BS Rates'!Y43),\"\")","v":""},{"$f":"IFERROR((1/'BS Rates'!Z43),\"\")","v":0.93676814988290402},{"$f":"IFERROR((1/'BS Rates'!AA43),\"\")","v":4.9641834166488782E-3},{"$f":"IFERROR((1/'BS Rates'!AB43),\"\")","v":""},{"$f":"IFERROR((1/'BS Rates'!AC43),\"\")","v":""},{"$f":"IFERROR((1/'BS Rates'!AD43),\"\")","v":""}]
[null,"2009-04-08",{"$f":"ROUND(IFERROR((1/'BS Rates'!C44),\"\"),6)","v":0.82644600000000001},{"$f":"ROUND(IFERROR((1/'BS Rates'!D44),\"\"),6)","v":0.146731},{"$f":"IFERROR((1/'BS Rates'!E44),\"\")","v":4.3661830391253663E-4},{"$f":"IFERROR((1/'BS Rates'!F44),\"\")","v":1.3215276860050218},{"$f":"IFERROR((1/'BS Rates'!G44),\"\")","v":0.12820512820512822},{"$f":"IFERROR((1/'BS Rates'!H44),\"\")","v":1.0324339113242513E-2},{"$f":"IFERROR((1/'BS Rates'!I44),\"\")","v":7.4739532728441385E-4},{"$f":"IFERROR((1/'BS Rates'!J44),\"\")","v":0.12801146982769657},{"$f":"IFERROR((1/'BS Rates'!K44),\"\")","v":0.27867573291717757},{"$f":"ROUND(IFERROR((1/'BS Rates'!L44),\"\"),6)","v":7.2771000000000002E-2},{"$f":"ROUND(IFERROR((1/'BS Rates'!M44),\"\"),6)","v":2.0639000000000001E-2},{"$f":"ROUND(IFERROR((1/'BS Rates'!N44),\"\"),6)","v":0.67100599999999999},{"$f":"ROUND(IFERROR((1/'BS Rates'!O44),\"\"),6)","v":2.9767999999999999E-2},{"$f":"ROUND(IFERROR((1/'BS Rates'!P44),\"\"),6)","v":2.8330000000000001E-2},{"$f":"ROUND(IFERROR((1/'BS Rates'!Q44),\"\"),6)","v":0.62519499999999995},{"$f":"ROUND(IFERROR((1/'BS Rates'!R44),\"\"),6)","v":0.46678799999999998},{"$f":"ROUND(IFERROR((1/'BS Rates'!S44),\"\"),6)","v":0.71602500000000002},{"$f":"IFERROR((1/'BS Rates'!T44),\"\")","v":1.4714537963507945},{"$f":"IFERROR((1/'BS Rates'!U44),\"\")","v":""},{"$f":"IFERROR((1/'BS Rates'!V44),\"\")","v":""},{"$f":"IFERROR((1/'BS Rates'!W44),\"\")","v":""},{"$f":"IFERROR((1/'BS Rates'!X44),\"\")","v":""},{"$f":"IFERROR((1/'BS Rates'!Y44),\"\")","v":""},{"$f":"IFERROR((1/'BS Rates'!Z44),\"\")","v":0.87765490609092511},{"$f":"IFERROR((1/'BS Rates'!AA44),\"\")","v":4.5556426189478283E-3},{"$f":"IFERROR((1/'BS Rates'!AB44),\"\")","v":""},{"$f":"IFERROR((1/'BS Rates'!AC44),\"\")","v":""},{"$f":"IFERROR((1/'BS Rates'!AD44),\"\")","v":""}]
[null,"2009-03-08",{"$f":"ROUND(IFERROR((1/'BS Rates'!C45),\"\"),6)","v":0.800705},{"$f":"ROUND(IFERROR((1/'BS Rates'!D45),\"\"),6)","v":0.146507},{"$f":"IFERROR((1/'BS Rates'!E45),\"\")","v":4.0280351244662856E-4},{"$f":"IFERROR((1/'BS Rates'!F45),\"\")","v":1.320829480914014},{"$f":"IFERROR((1/'BS Rates'!G45),\"\")","v":0.12820512820512822},{"$f":"IFERROR((1/'BS Rates'!H45),\"\")","v":1.0281074290014713E-2},{"$f":"IFERROR((1/'BS Rates'!I45),\"\")","v":7.1939858278479189E-4},{"$f":"IFERROR((1/'BS Rates'!J45),\"\")","v":0.1275689191085484},{"$f":"IFERROR((1/'BS Rates'!K45),\"\")","v":0.27434089599736633},{"$f":"ROUND(IFERROR((1/'BS Rates'!L45),\"\"),6)","v":6.9467000000000001E-2},{"$f":"ROUND(IFERROR((1/'BS Rates'!M45),\"\"),6)","v":2.0702000000000002E-2},{"$f":"ROUND(IFERROR((1/'BS Rates'!N45),\"\"),6)","v":0.65780799999999995},{"$f":"ROUND(IFERROR((1/'BS Rates'!O45),\"\"),6)","v":2.9432E-2},{"$f":"ROUND(IFERROR((1/'BS Rates'!P45),\"\"),6)","v":2.8150999999999999E-2},{"$f":"ROUND(IFERROR((1/'BS Rates'!Q45),\"\"),6)","v":0.58934500000000001},{"$f":"ROUND(IFERROR((1/'BS Rates'!R45),\"\"),6)","v":0.466636},{"$f":"ROUND(IFERROR((1/'BS Rates'!S45),\"\"),6)","v":0.68320000000000003},{"$f":"IFERROR((1/'BS Rates'!T45),\"\")","v":1.4208581983518045},{"$f":"IFERROR((1/'BS Rates'!U45),\"\")","v":""},{"$f":"IFERROR((1/'BS Rates'!V45),\"\")","v":""},{"$f":"IFERROR((1/'BS Rates'!W45),\"\")","v":""},{"$f":"IFERROR((1/'BS Rates'!X45),\"\")","v":""},{"$f":"IFERROR((1/'BS Rates'!Y45),\"\")","v":""},{"$f":"IFERROR((1/'BS Rates'!Z45),\"\")","v":0.8703220191470844},{"$f":"IFERROR((1/'BS Rates'!AA45),\"\")","v":4.2574750618398251E-3},{"$f":"IFERROR((1/'BS Rates'!AB45),\"\")","v":""},{"$f":"IFERROR((1/'BS Rates'!AC45),\"\")","v":""},{"$f":"IFERROR((1/'BS Rates'!AD45),\"\")","v":""}]
[null,"2009-02-08",{"$f":"ROUND(IFERROR((1/'BS Rates'!C46),\"\"),6)","v":0.79910499999999995},{"$f":"ROUND(IFERROR((1/'BS Rates'!D46),\"\"),6)","v":0.14646600000000001},{"$f":"IFERROR((1/'BS Rates'!E46),\"\")","v":3.9229839785334317E-4},{"$f":"IFERROR((1/'BS Rates'!F46),\"\")","v":1.2745347947998982},{"$f":"IFERROR((1/'BS Rates'!G46),\"\")","v":0.12820512820512822},{"$f":"IFERROR((1/'BS Rates'!H46),\"\")","v":1.0210614342033119E-2},{"$f":"IFERROR((1/'BS Rates'!I46),\"\")","v":6.6120074054482937E-4},{"$f":"IFERROR((1/'BS Rates'!J46),\"\")","v":0.12750710852130007},{"$f":"IFERROR((1/'BS Rates'!K46),\"\")","v":0.27256868730920192},{"$f":"ROUND(IFERROR((1/'BS Rates'!L46),\"\"),6)","v":6.6970000000000002E-2},{"$f":"ROUND(IFERROR((1/'BS Rates'!M46),\"\"),6)","v":2.0771999999999999E-2},{"$f":"ROUND(IFERROR((1/'BS Rates'!N46),\"\"),6)","v":0.65184799999999998},{"$f":"ROUND(IFERROR((1/'BS Rates'!O46),\"\"),6)","v":2.8752E-2},{"$f":"ROUND(IFERROR((1/'BS Rates'!P46),\"\"),6)","v":2.7741999999999999E-2},{"$f":"ROUND(IFERROR((1/'BS Rates'!Q46),\"\"),6)","v":0.59238199999999996},{"$f":"ROUND(IFERROR((1/'BS Rates'!R46),\"\"),6)","v":0.466636},{"$f":"ROUND(IFERROR((1/'BS Rates'!S46),\"\"),6)","v":0.64292099999999996},{"$f":"IFERROR((1/'BS Rates'!T46),\"\")","v":1.42571998859424},{"$f":"IFERROR((1/'BS Rates'!U46),\"\")","v":""},{"$f":"IFERROR((1/'BS Rates'!V46),\"\")","v":""},{"$f":"IFERROR((1/'BS Rates'!W46),\"\")","v":""},{"$f":"IFERROR((1/'BS Rates'!X46),\"\")","v":""},{"$f":"IFERROR((1/'BS Rates'!Y46),\"\")","v":""},{"$f":"IFERROR((1/'BS Rates'!Z46),\"\")","v":0.85587127695994514},{"$f":"IFERROR((1/'BS Rates'!AA46),\"\")","v":4.2278828876440118E-3},{"$f":"IFERROR((1/'BS Rates'!AB46),\"\")","v":""},{"$f":"IFERROR((1/'BS Rates'!AC46),\"\")","v":""},{"$f":"IFERROR((1/'BS Rates'!AD46),\"\")","v":""}]
[null,"2009-01-08",{"$f":"ROUND(IFERROR((1/'BS Rates'!C47),\"\"),6)","v":0.82135499999999995},{"$f":"ROUND(IFERROR((1/'BS Rates'!D47),\"\"),6)","v":0.14641899999999999},{"$f":"IFERROR((1/'BS Rates'!E47),\"\")","v":4.3424640878219934E-4},{"$f":"IFERROR((1/'BS Rates'!F47),\"\")","v":1.3087292239235702},{"$f":"IFERROR((1/'BS Rates'!G47),\"\")","v":0.12820512820512822},{"$f":"IFERROR((1/'BS Rates'!H47),\"\")","v":1.1110345731738479E-2},{"$f":"IFERROR((1/'BS Rates'!I47),\"\")","v":7.2620059112728122E-4},{"$f":"IFERROR((1/'BS Rates'!J47),\"\")","v":0.12705188799105555},{"$f":"IFERROR((1/'BS Rates'!K47),\"\")","v":0.27776234653630355},{"$f":"ROUND(IFERROR((1/'BS Rates'!L47),\"\"),6)","v":7.109E-2},{"$f":"ROUND(IFERROR((1/'BS Rates'!M47),\"\"),6)","v":2.1510999999999999E-2},{"$f":"ROUND(IFERROR((1/'BS Rates'!N47),\"\"),6)","v":0.66484900000000002},{"$f":"ROUND(IFERROR((1/'BS Rates'!O47),\"\"),6)","v":2.9737E-2},{"$f":"ROUND(IFERROR((1/'BS Rates'!P47),\"\"),6)","v":2.8632000000000001E-2},{"$f":"ROUND(IFERROR((1/'BS Rates'!Q47),\"\"),6)","v":0.61618099999999998},{"$f":"ROUND(IFERROR((1/'BS Rates'!R47),\"\"),6)","v":0.46676600000000001},{"$f":"ROUND(IFERROR((1/'BS Rates'!S47),\"\"),6)","v":0.64275599999999999},{"$f":"IFERROR((1/'BS Rates'!T47),\"\")","v":1.4302059496567505},{"$f":"IFERROR((1/'BS Rates'!U47),\"\")","v":""},{"$f":"IFERROR((1/'BS Rates'!V47),\"\")","v":""},{"$f":"IFERROR((1/'BS Rates'!W47),\"\")","v":""},{"$f":"IFERROR((1/'BS Rates'!X47),\"\")","v":""},{"$f":"IFERROR((1/'BS Rates'!Y47),\"\")","v":""},{"$f":"IFERROR((1/'BS Rates'!Z47),\"\")","v":0.8642295393656555},{"$f":"IFERROR((1/'BS Rates'!AA47),\"\")","v":4.3301102879090333E-3},{"$f":"IFERROR((1/'BS Rates'!AB47),\"\")","v":""},{"$f":"IFERROR((1/'BS Rates'!AC47),\"\")","v":""},{"$f":"IFERROR((1/'BS Rates'!AD47),\"\")","v":""}]
[{"$f":"A36-1","v":2008},"2008-12-04",{"$f":"IFERROR((1/'BS Rates'!C48),\"\")","v":0.81833060556464809},{"$f":"ROUND(IFERROR((1/'BS Rates'!D48),\"\"),6)","v":0.14668600000000001},{"$f":"IFERROR((1/'BS Rates'!E48),\"\")","v":4.5348183351774933E-4},{"$f":"IFERROR((1/'BS Rates'!F48),\"\")","v":1.40964195094446},{"$f":"IFERROR((1/'BS Rates'!G48),\"\")","v":0.12820512820512822},{"$f":"IFERROR((1/'BS Rates'!H48),\"\")","v":1.1067064195612573E-2},{"$f":"IFERROR((1/'BS Rates'!I48),\"\")","v":7.9450204584276794E-4},{"$f":"IFERROR((1/'BS Rates'!J48),\"\")","v":0.12658868803483719},{"$f":"IFERROR((1/'BS Rates'!K48),\"\")","v":0.28764562059542642},{"$f":"ROUND(IFERROR((1/'BS Rates'!L48),\"\"),6)","v":7.2567000000000006E-2},{"$f":"ROUND(IFERROR((1/'BS Rates'!M48),\"\"),6)","v":2.1165E-2},{"$f":"ROUND(IFERROR((1/'BS Rates'!N48),\"\"),6)","v":0.69352899999999995},{"$f":"ROUND(IFERROR((1/'BS Rates'!O48),\"\"),6)","v":3.0499999999999999E-2},{"$f":"ROUND(IFERROR((1/'BS Rates'!P48),\"\"),6)","v":2.8632000000000001E-2},{"$f":"ROUND(IFERROR((1/'BS Rates'!Q48),\"\"),6)","v":0.65789500000000001},{"$f":"ROUND(IFERROR((1/'BS Rates'!R48),\"\"),6)","v":0.46718100000000001},{"$f":"ROUND(IFERROR((1/'BS Rates'!S48),\"\"),6)","v":0.69027400000000005},{"$f":"IFERROR((1/'BS Rates'!T48),\"\")","v":1.4471780028943562},{"$f":"IFERROR((1/'BS Rates'!U48),\"\")","v":""},{"$f":"IFERROR((1/'BS Rates'!V48),\"\")","v":""},{"$f":"IFERROR((1/'BS Rates'!W48),\"\")","v":""},{"$f":"IFERROR((1/'BS Rates'!X48),\"\")","v":""},{"$f":"IFERROR((1/'BS Rates'!Y48),\"\")","v":""},{"$f":"IFERROR((1/'BS Rates'!Z48),\"\")","v":0.94688003030016088},{"$f":"IFERROR((1/'BS Rates'!AA48),\"\")","v":5.2803328721842627E-3},{"$f":"IFERROR((1/'BS Rates'!AB48),\"\")","v":""},{"$f":"IFERROR((1/'BS Rates'!AC48),\"\")","v":""},{"$f":"IFERROR((1/'BS Rates'!AD48),\"\")","v":""}]
[null,"2008-11-05",{"$f":"IFERROR((1/'BS Rates'!C49),\"\")","v":0.80984774862325892},{"$f":"ROUND(IFERROR((1/'BS Rates'!D49),\"\"),6)","v":0.14671999999999999},{"$f":"IFERROR((1/'BS Rates'!E49),\"\")","v":4.3668694349707641E-4},{"$f":"IFERROR((1/'BS Rates'!F49),\"\")","v":1.2911555842479019},{"$f":"IFERROR((1/'BS Rates'!G49),\"\")","v":0.12820512820512822},{"$f":"IFERROR((1/'BS Rates'!H49),\"\")","v":1.0390106955761003E-2},{"$f":"IFERROR((1/'BS Rates'!I49),\"\")","v":6.654998236425467E-4},{"$f":"IFERROR((1/'BS Rates'!J49),\"\")","v":0.12769924274349054},{"$f":"IFERROR((1/'BS Rates'!K49),\"\")","v":0.27706203418945502},{"$f":"ROUND(IFERROR((1/'BS Rates'!L49),\"\"),6)","v":7.4061000000000002E-2},{"$f":"ROUND(IFERROR((1/'BS Rates'!M49),\"\"),6)","v":2.027E-2},{"$f":"ROUND(IFERROR((1/'BS Rates'!N49),\"\"),6)","v":0.66093900000000005},{"$f":"ROUND(IFERROR((1/'BS Rates'!O49),\"\"),6)","v":3.0003999999999999E-2},{"$f":"ROUND(IFERROR((1/'BS Rates'!P49),\"\"),6)","v":2.8391E-2},{"$f":"ROUND(IFERROR((1/'BS Rates'!Q49),\"\"),6)","v":0.63556599999999996},{"$f":"ROUND(IFERROR((1/'BS Rates'!R49),\"\"),6)","v":0.46661399999999997},{"$f":"ROUND(IFERROR((1/'BS Rates'!S49),\"\"),6)","v":0.65397899999999998},{"$f":"IFERROR((1/'BS Rates'!T49),\"\")","v":1.5368065160596283},{"$f":"IFERROR((1/'BS Rates'!U49),\"\")","v":""},{"$f":"IFERROR((1/'BS Rates'!V49),\"\")","v":""},{"$f":"IFERROR((1/'BS Rates'!W49),\"\")","v":""},{"$f":"IFERROR((1/'BS Rates'!X49),\"\")","v":""},{"$f":"IFERROR((1/'BS Rates'!Y49),\"\")","v":""},{"$f":"IFERROR((1/'BS Rates'!Z49),\"\")","v":0.82385895534684461},{"$f":"IFERROR((1/'BS Rates'!AA49),\"\")","v":4.8873466594985581E-3},{"$f":"IFERROR((1/'BS Rates'!AB49),\"\")","v":""},{"$f":"IFERROR((1/'BS Rates'!AC49),\"\")","v":""},{"$f":"IFERROR((1/'BS Rates'!AD49),\"\")","v":""}]
[null,"2008-10-06",{"$f":"IFERROR((1/'BS Rates'!C50),\"\")","v":0.82760903749068948},{"$f":"ROUND(IFERROR((1/'BS Rates'!D50),\"\"),6)","v":0.14651400000000001},{"$f":"IFERROR((1/'BS Rates'!E50),\"\")","v":4.2903355900498536E-4},{"$f":"IFERROR((1/'BS Rates'!F50),\"\")","v":1.3054830287206267},{"$f":"IFERROR((1/'BS Rates'!G50),\"\")","v":0.12820512820512822},{"$f":"IFERROR((1/'BS Rates'!H50),\"\")","v":1.0184170540046196E-2},{"$f":"IFERROR((1/'BS Rates'!I50),\"\")","v":7.8879905344113592E-4},{"$f":"IFERROR((1/'BS Rates'!J50),\"\")","v":0.12907056287672469},{"$f":"IFERROR((1/'BS Rates'!K50),\"\")","v":0.28392152409074134},{"$f":"ROUND(IFERROR((1/'BS Rates'!L50),\"\"),6)","v":7.7543000000000001E-2},{"$f":"ROUND(IFERROR((1/'BS Rates'!M50),\"\"),6)","v":2.0650999999999999E-2},{"$f":"ROUND(IFERROR((1/'BS Rates'!N50),\"\"),6)","v":0.67944000000000004},{"$f":"ROUND(IFERROR((1/'BS Rates'!O50),\"\"),6)","v":3.0533999999999999E-2},{"$f":"ROUND(IFERROR((1/'BS Rates'!P50),\"\"),6)","v":2.8583000000000001E-2},{"$f":"ROUND(IFERROR((1/'BS Rates'!Q50),\"\"),6)","v":0.66054599999999997},{"$f":"ROUND(IFERROR((1/'BS Rates'!R50),\"\"),6)","v":0.46698400000000001},{"$f":"ROUND(IFERROR((1/'BS Rates'!S50),\"\"),6)","v":0.67718599999999995},{"$f":"IFERROR((1/'BS Rates'!T50),\"\")","v":1.6471750947125681},{"$f":"IFERROR((1/'BS Rates'!U50),\"\")","v":""},{"$f":"IFERROR((1/'BS Rates'!V50),\"\")","v":""},{"$f":"IFERROR((1/'BS Rates'!W50),\"\")","v":""},{"$f":"IFERROR((1/'BS Rates'!X50),\"\")","v":""},{"$f":"IFERROR((1/'BS Rates'!Y50),\"\")","v":""},{"$f":"IFERROR((1/'BS Rates'!Z50),\"\")","v":0.88331419485911133},{"$f":"IFERROR((1/'BS Rates'!AA50),\"\")","v":5.0412881499480745E-3},{"$f":"IFERROR((1/'BS Rates'!AB50),\"\")","v":""},{"$f":"IFERROR((1/'BS Rates'!AC50),\"\")","v":""},{"$f":"IFERROR((1/'BS Rates'!AD50),\"\")","v":""}]
[null,"2008-09-07",{"$f":"IFERROR((1/'BS Rates'!C51),\"\")","v":0.96357679707072652},{"$f":"ROUND(IFERROR((1/'BS Rates'!D51),\"\"),6)","v":0.14630399999999999},{"$f":"IFERROR((1/'BS Rates'!E51),\"\")","v":4.6852452257351148E-4},{"$f":"IFERROR((1/'BS Rates'!F51),\"\")","v":1.4448779078167895},{"$f":"IFERROR((1/'BS Rates'!G51),\"\")","v":0.12820512820512822},{"$f":"IFERROR((1/'BS Rates'!H51),\"\")","v":9.4459925376658965E-3},{"$f":"IFERROR((1/'BS Rates'!I51),\"\")","v":8.4679741218710827E-4},{"$f":"IFERROR((1/'BS Rates'!J51),\"\")","v":0.12633919547200323},{"$f":"IFERROR((1/'BS Rates'!K51),\"\")","v":0.29108691855388019},{"$f":"ROUND(IFERROR((1/'BS Rates'!L51),\"\"),6)","v":9.2026999999999998E-2},{"$f":"ROUND(IFERROR((1/'BS Rates'!M51),\"\"),6)","v":2.1396999999999999E-2},{"$f":"ROUND(IFERROR((1/'BS Rates'!N51),\"\"),6)","v":0.69925199999999998},{"$f":"ROUND(IFERROR((1/'BS Rates'!O51),\"\"),6)","v":3.1112999999999998E-2},{"$f":"ROUND(IFERROR((1/'BS Rates'!P51),\"\"),6)","v":2.9391E-2},{"$f":"ROUND(IFERROR((1/'BS Rates'!Q51),\"\"),6)","v":0.79541799999999996},{"$f":"ROUND(IFERROR((1/'BS Rates'!R51),\"\"),6)","v":0.466636},{"$f":"ROUND(IFERROR((1/'BS Rates'!S51),\"\"),6)","v":0.82061399999999995},{"$f":"IFERROR((1/'BS Rates'!T51),\"\")","v":1.816860465116279},{"$f":"IFERROR((1/'BS Rates'!U51),\"\")","v":""},{"$f":"IFERROR((1/'BS Rates'!V51),\"\")","v":""},{"$f":"IFERROR((1/'BS Rates'!W51),\"\")","v":""},{"$f":"IFERROR((1/'BS Rates'!X51),\"\")","v":""},{"$f":"IFERROR((1/'BS Rates'!Y51),\"\")","v":""},{"$f":"IFERROR((1/'BS Rates'!Z51),\"\")","v":0.91149393856530858},{"$f":"IFERROR((1/'BS Rates'!AA51),\"\")","v":5.9370083414967195E-3},{"$f":"IFERROR((1/'BS Rates'!AB51),\"\")","v":""},{"$f":"IFERROR((1/'BS Rates'!AC51),\"\")","v":""},{"$f":"IFERROR((1/'BS Rates'!AD51),\"\")","v":""}]
[null,"2008-08-08",{"$f":"IFERROR((1/'BS Rates'!C52),\"\")","v":0.95529231944975168},{"$f":"ROUND(IFERROR((1/'BS Rates'!D52),\"\"),6)","v":0.14661299999999999},{"$f":"IFERROR((1/'BS Rates'!E52),\"\")","v":5.3307177278348757E-4},{"$f":"IFERROR((1/'BS Rates'!F52),\"\")","v":1.4751438265230861},{"$f":"IFERROR((1/'BS Rates'!G52),\"\")","v":0.12820512820512822},{"$f":"IFERROR((1/'BS Rates'!H52),\"\")","v":9.147959090326948E-3},{"$f":"IFERROR((1/'BS Rates'!I52),\"\")","v":9.2590020647574601E-4},{"$f":"IFERROR((1/'BS Rates'!J52),\"\")","v":0.12630408972642534},{"$f":"IFERROR((1/'BS Rates'!K52),\"\")","v":0.29596306380963655},{"$f":"ROUND(IFERROR((1/'BS Rates'!L52),\"\"),6)","v":9.8383999999999999E-2},{"$f":"ROUND(IFERROR((1/'BS Rates'!M52),\"\"),6)","v":2.1994E-2},{"$f":"ROUND(IFERROR((1/'BS Rates'!N52),\"\"),6)","v":0.70656399999999997},{"$f":"ROUND(IFERROR((1/'BS Rates'!O52),\"\"),6)","v":3.1757000000000001E-2},{"$f":"ROUND(IFERROR((1/'BS Rates'!P52),\"\"),6)","v":2.9264999999999999E-2},{"$f":"ROUND(IFERROR((1/'BS Rates'!Q52),\"\"),6)","v":0.84316999999999998},{"$f":"ROUND(IFERROR((1/'BS Rates'!R52),\"\"),6)","v":0.46674399999999999},{"$f":"ROUND(IFERROR((1/'BS Rates'!S52),\"\"),6)","v":0.85748599999999997},{"$f":"IFERROR((1/'BS Rates'!T52),\"\")","v":1.8204988166757692},{"$f":"IFERROR((1/'BS Rates'!U52),\"\")","v":""},{"$f":"IFERROR((1/'BS Rates'!V52),\"\")","v":""},{"$f":"IFERROR((1/'BS Rates'!W52),\"\")","v":""},{"$f":"IFERROR((1/'BS Rates'!X52),\"\")","v":""},{"$f":"IFERROR((1/'BS Rates'!Y52),\"\")","v":""},{"$f":"IFERROR((1/'BS Rates'!Z52),\"\")","v":0.90752336872674466},{"$f":"IFERROR((1/'BS Rates'!AA52),\"\")","v":6.1538461538461538E-3},{"$f":"IFERROR((1/'BS Rates'!AB52),\"\")","v":""},{"$f":"IFERROR((1/'BS Rates'!AC52),\"\")","v":""},{"$f":"IFERROR((1/'BS Rates'!AD52),\"\")","v":""}]
[null,"2008-07-08",{"$f":"IFERROR((1/'BS Rates'!C53),\"\")","v":0.97703957010258913},{"$f":"ROUND(IFERROR((1/'BS Rates'!D53),\"\"),6)","v":0.14662800000000001},{"$f":"IFERROR((1/'BS Rates'!E53),\"\")","v":5.6203456512575521E-4},{"$f":"IFERROR((1/'BS Rates'!F53),\"\")","v":1.5583606046439145},{"$f":"IFERROR((1/'BS Rates'!G53),\"\")","v":0.12820512820512822},{"$f":"IFERROR((1/'BS Rates'!H53),\"\")","v":9.2560881920082921E-3},{"$f":"IFERROR((1/'BS Rates'!I53),\"\")","v":9.901970492127933E-4},{"$f":"IFERROR((1/'BS Rates'!J53),\"\")","v":0.12588909171020329},{"$f":"IFERROR((1/'BS Rates'!K53),\"\")","v":0.30682376043200787},{"$f":"IFERROR((1/'BS Rates'!L53),\"\")","v":9.9519321676303465E-2},{"$f":"ROUND(IFERROR((1/'BS Rates'!M53),\"\"),6)","v":2.2714000000000002E-2},{"$f":"ROUND(IFERROR((1/'BS Rates'!N53),\"\"),6)","v":0.73099400000000003},{"$f":"ROUND(IFERROR((1/'BS Rates'!O53),\"\"),6)","v":3.2752000000000003E-2},{"$f":"ROUND(IFERROR((1/'BS Rates'!P53),\"\"),6)","v":2.9819999999999999E-2},{"$f":"ROUND(IFERROR((1/'BS Rates'!Q53),\"\"),6)","v":0.84688300000000005},{"$f":"ROUND(IFERROR((1/'BS Rates'!R53),\"\"),6)","v":0.46661399999999997},{"$f":"ROUND(IFERROR((1/'BS Rates'!S53),\"\"),6)","v":0.94741799999999998},{"$f":"IFERROR((1/'BS Rates'!T53),\"\")","v":1.9801980198019802},{"$f":"IFERROR((1/'BS Rates'!U53),\"\")","v":""},{"$f":"IFERROR((1/'BS Rates'!V53),\"\")","v":""},{"$f":"IFERROR((1/'BS Rates'!W53),\"\")","v":""},{"$f":"IFERROR((1/'BS Rates'!X53),\"\")","v":""},{"$f":"IFERROR((1/'BS Rates'!Y53),\"\")","v":""},{"$f":"IFERROR((1/'BS Rates'!Z53),\"\")","v":0.95529231944975168},{"$f":"IFERROR((1/'BS Rates'!AA53),\"\")","v":6.737591041698951E-3},{"$f":"IFERROR((1/'BS Rates'!AB53),\"\")","v":""},{"$f":"IFERROR((1/'BS Rates'!AC53),\"\")","v":""},{"$f":"IFERROR((1/'BS Rates'!AD53),\"\")","v":""}]
[null,"2008-06-08",{"$f":"IFERROR((1/'BS Rates'!C54),\"\")","v":0.99000099000098996},{"$f":"ROUND(IFERROR((1/'BS Rates'!D54),\"\"),6)","v":0.14594699999999999},{"$f":"IFERROR((1/'BS Rates'!E54),\"\")","v":5.4350779933692048E-4},{"$f":"IFERROR((1/'BS Rates'!F54),\"\")","v":1.5797788309636651},{"$f":"IFERROR((1/'BS Rates'!G54),\"\")","v":0.12820512820512822},{"$f":"IFERROR((1/'BS Rates'!H54),\"\")","v":9.4278252835418453E-3},{"$f":"IFERROR((1/'BS Rates'!I54),\"\")","v":9.6237128284092012E-4},{"$f":"IFERROR((1/'BS Rates'!J54),\"\")","v":0.12627378682459309},{"$f":"IFERROR((1/'BS Rates'!K54),\"\")","v":0.3073329645337759},{"$f":"IFERROR((1/'BS Rates'!L54),\"\")","v":9.6983803704781296E-2},{"$f":"ROUND(IFERROR((1/'BS Rates'!M54),\"\"),6)","v":2.2386E-2},{"$f":"ROUND(IFERROR((1/'BS Rates'!N54),\"\"),6)","v":0.73394499999999996},{"$f":"ROUND(IFERROR((1/'BS Rates'!O54),\"\"),6)","v":3.2889000000000002E-2},{"$f":"ROUND(IFERROR((1/'BS Rates'!P54),\"\"),6)","v":2.9829000000000001E-2},{"$f":"ROUND(IFERROR((1/'BS Rates'!Q54),\"\"),6)","v":0.81839799999999996},{"$f":"ROUND(IFERROR((1/'BS Rates'!R54),\"\"),6)","v":0.46678799999999998},{"$f":"ROUND(IFERROR((1/'BS Rates'!S54),\"\"),6)","v":0.96052300000000002},{"$f":"IFERROR((1/'BS Rates'!T54),\"\")","v":1.9944156362185881},{"$f":"IFERROR((1/'BS Rates'!U54),\"\")","v":""},{"$f":"IFERROR((1/'BS Rates'!V54),\"\")","v":""},{"$f":"IFERROR((1/'BS Rates'!W54),\"\")","v":""},{"$f":"IFERROR((1/'BS Rates'!X54),\"\")","v":""},{"$f":"IFERROR((1/'BS Rates'!Y54),\"\")","v":""},{"$f":"IFERROR((1/'BS Rates'!Z54),\"\")","v":0.9813542688910698},{"$f":"IFERROR((1/'BS Rates'!AA54),\"\")","v":6.6334991708126038E-3},{"$f":"IFERROR((1/'BS Rates'!AB54),\"\")","v":""},{"$f":"IFERROR((1/'BS Rates'!AC54),\"\")","v":""},{"$f":"IFERROR((1/'BS Rates'!AD54),\"\")","v":""}]
[null,"2008-05-08",{"$f":"IFERROR((1/'BS Rates'!C55),\"\")","v":1.0112245929821013},{"$f":"ROUND(IFERROR((1/'BS Rates'!D55),\"\"),6)","v":0.14432900000000001},{"$f":"IFERROR((1/'BS Rates'!E55),\"\")","v":5.7550975776794299E-4},{"$f":"IFERROR((1/'BS Rates'!F55),\"\")","v":1.5586034912718205},{"$f":"IFERROR((1/'BS Rates'!G55),\"\")","v":0.12820512820512822},{"$f":"IFERROR((1/'BS Rates'!H55),\"\")","v":9.5159249003206863E-3},{"$f":"IFERROR((1/'BS Rates'!I55),\"\")","v":9.6980041507457751E-4},{"$f":"IFERROR((1/'BS Rates'!J55),\"\")","v":0.12651661795776875},{"$f":"IFERROR((1/'BS Rates'!K55),\"\")","v":0.30784386159339983},{"$f":"IFERROR((1/'BS Rates'!L55),\"\")","v":9.6752034211519303E-2},{"$f":"ROUND(IFERROR((1/'BS Rates'!M55),\"\"),6)","v":2.2837E-2},{"$f":"ROUND(IFERROR((1/'BS Rates'!N55),\"\"),6)","v":0.73227900000000001},{"$f":"ROUND(IFERROR((1/'BS Rates'!O55),\"\"),6)","v":3.2815999999999998E-2},{"$f":"ROUND(IFERROR((1/'BS Rates'!P55),\"\"),6)","v":3.0700999999999999E-2},{"$f":"ROUND(IFERROR((1/'BS Rates'!Q55),\"\"),6)","v":0.822098},{"$f":"ROUND(IFERROR((1/'BS Rates'!R55),\"\"),6)","v":0.46678799999999998},{"$f":"ROUND(IFERROR((1/'BS Rates'!S55),\"\"),6)","v":0.95520099999999997},{"$f":"IFERROR((1/'BS Rates'!T55),\"\")","v":1.9758940920766648},{"$f":"IFERROR((1/'BS Rates'!U55),\"\")","v":""},{"$f":"IFERROR((1/'BS Rates'!V55),\"\")","v":""},{"$f":"IFERROR((1/'BS Rates'!W55),\"\")","v":""},{"$f":"IFERROR((1/'BS Rates'!X55),\"\")","v":""},{"$f":"IFERROR((1/'BS Rates'!Y55),\"\")","v":""},{"$f":"IFERROR((1/'BS Rates'!Z55),\"\")","v":0.95510983763132762},{"$f":"IFERROR((1/'BS Rates'!AA55),\"\")","v":6.4364975155119589E-3},{"$f":"IFERROR((1/'BS Rates'!AB55),\"\")","v":""},{"$f":"IFERROR((1/'BS Rates'!AC55),\"\")","v":""},{"$f":"IFERROR((1/'BS Rates'!AD55),\"\")","v":""}]
[null,"2008-04-08",{"$f":"IFERROR((1/'BS Rates'!C56),\"\")","v":0.98706939097818591},{"$f":"ROUND(IFERROR((1/'BS Rates'!D56),\"\"),6)","v":0.14335500000000001},{"$f":"IFERROR((1/'BS Rates'!E56),\"\")","v":5.6803658155585215E-4},{"$f":"IFERROR((1/'BS Rates'!F56),\"\")","v":1.5607928827844544},{"$f":"IFERROR((1/'BS Rates'!G56),\"\")","v":0.12820512820512822},{"$f":"IFERROR((1/'BS Rates'!H56),\"\")","v":9.6121497572932181E-3},{"$f":"IFERROR((1/'BS Rates'!I56),\"\")","v":9.9940035978412947E-4},{"$f":"IFERROR((1/'BS Rates'!J56),\"\")","v":0.12655344351919817},{"$f":"IFERROR((1/'BS Rates'!K56),\"\")","v":0.31717838112154273},{"$f":"IFERROR((1/'BS Rates'!L56),\"\")","v":9.5272574836607532E-2},{"$f":"ROUND(IFERROR((1/'BS Rates'!M56),\"\"),6)","v":2.3793000000000002E-2},{"$f":"ROUND(IFERROR((1/'BS Rates'!N56),\"\"),6)","v":0.73502400000000001},{"$f":"ROUND(IFERROR((1/'BS Rates'!O56),\"\"),6)","v":3.2881000000000001E-2},{"$f":"ROUND(IFERROR((1/'BS Rates'!P56),\"\"),6)","v":3.1532999999999999E-2},{"$f":"ROUND(IFERROR((1/'BS Rates'!Q56),\"\"),6)","v":0.77778599999999998},{"$f":"ROUND(IFERROR((1/'BS Rates'!R56),\"\"),6)","v":0.46676600000000001},{"$f":"ROUND(IFERROR((1/'BS Rates'!S56),\"\"),6)","v":0.93484199999999995},{"$f":"IFERROR((1/'BS Rates'!T56),\"\")","v":1.9817677368212443},{"$f":"IFERROR((1/'BS Rates'!U56),\"\")","v":""},{"$f":"IFERROR((1/'BS Rates'!V56),\"\")","v":""},{"$f":"IFERROR((1/'BS Rates'!W56),\"\")","v":""},{"$f":"IFERROR((1/'BS Rates'!X56),\"\")","v":""},{"$f":"IFERROR((1/'BS Rates'!Y56),\"\")","v":""},{"$f":"IFERROR((1/'BS Rates'!Z56),\"\")","v":0.9654373431164317},{"$f":"IFERROR((1/'BS Rates'!AA56),\"\")","v":6.1536568105596753E-3},{"$f":"IFERROR((1/'BS Rates'!AB56),\"\")","v":""},{"$f":"IFERROR((1/'BS Rates'!AC56),\"\")","v":""},{"$f":"IFERROR((1/'BS Rates'!AD56),\"\")","v":""}]
[null,"2008-03-08",{"$f":"IFERROR((1/'BS Rates'!C57),\"\")","v":0.98039215686274506},{"$f":"ROUND(IFERROR((1/'BS Rates'!D57),\"\"),6)","v":0.14285700000000001},{"$f":"IFERROR((1/'BS Rates'!E57),\"\")","v":5.6063239333968714E-4},{"$f":"IFERROR((1/'BS Rates'!F57),\"\")","v":1.5873015873015872},{"$f":"IFERROR((1/'BS Rates'!G57),\"\")","v":0.12820512820512822},{"$f":"IFERROR((1/'BS Rates'!H57),\"\")","v":1.0081661457808247E-2},{"$f":"IFERROR((1/'BS Rates'!I57),\"\")","v":1.009030825891731E-3},{"$f":"IFERROR((1/'BS Rates'!J57),\"\")","v":0.12626262626262627},{"$f":"IFERROR((1/'BS Rates'!K57),\"\")","v":0.31347962382445144},{"$f":"IFERROR((1/'BS Rates'!L57),\"\")","v":9.3331466703999263E-2},{"$f":"ROUND(IFERROR((1/'BS Rates'!M57),\"\"),6)","v":2.3935000000000001E-2},{"$f":"ROUND(IFERROR((1/'BS Rates'!N57),\"\"),6)","v":0.724638},{"$f":"ROUND(IFERROR((1/'BS Rates'!O57),\"\"),6)","v":3.2883999999999997E-2},{"$f":"ROUND(IFERROR((1/'BS Rates'!P57),\"\"),6)","v":3.1626000000000001E-2},{"$f":"IFERROR((1/'BS Rates'!Q57),\"\")","v":""},{"$f":"ROUND(IFERROR((1/'BS Rates'!R57),\"\"),6)","v":0.46728999999999998},{"$f":"ROUND(IFERROR((1/'BS Rates'!S57),\"\"),6)","v":0.91675799999999996},{"$f":"IFERROR((1/'BS Rates'!T57),\"\")","v":1.9940179461615157},{"$f":"IFERROR((1/'BS Rates'!U57),\"\")","v":""},{"$f":"IFERROR((1/'BS Rates'!V57),\"\")","v":""},{"$f":"IFERROR((1/'BS Rates'!W57),\"\")","v":""},{"$f":"IFERROR((1/'BS Rates'!X57),\"\")","v":""},{"$f":"IFERROR((1/'BS Rates'!Y57),\"\")","v":""},{"$f":"IFERROR((1/'BS Rates'!Z57),\"\")","v":1.0045203415369162},{"$f":"IFERROR((1/'BS Rates'!AA57),\"\")","v":6.087798226015597E-3},{"$f":"IFERROR((1/'BS Rates'!AB57),\"\")","v":""},{"$f":"IFERROR((1/'BS Rates'!AC57),\"\")","v":""},{"$f":"IFERROR((1/'BS Rates'!AD57),\"\")","v":""}]
[null,"2008-02-08",{"$f":"IFERROR((1/'BS Rates'!C58),\"\")","v":1.0204081632653061},{"$f":"ROUND(IFERROR((1/'BS Rates'!D58),\"\"),6)","v":0.140845},{"$f":"IFERROR((1/'BS Rates'!E58),\"\")","v":5.4681262918448363E-4},{"$f":"IFERROR((1/'BS Rates'!F58),\"\")","v":1.5151515151515151},{"$f":"IFERROR((1/'BS Rates'!G58),\"\")","v":0.12820512820512822},{"$f":"IFERROR((1/'BS Rates'!H58),\"\")","v":9.4188565508147304E-3},{"$f":"IFERROR((1/'BS Rates'!I58),\"\")","v":1.0718458256964319E-3},{"$f":"IFERROR((1/'BS Rates'!J58),\"\")","v":0.1267427122940431},{"$f":"IFERROR((1/'BS Rates'!K58),\"\")","v":0.3125},{"$f":"IFERROR((1/'BS Rates'!L58),\"\")","v":9.3488524283644181E-2},{"$f":"ROUND(IFERROR((1/'BS Rates'!M58),\"\"),6)","v":2.4844999999999999E-2},{"$f":"ROUND(IFERROR((1/'BS Rates'!N58),\"\"),6)","v":0.71428599999999998},{"$f":"ROUND(IFERROR((1/'BS Rates'!O58),\"\"),6)","v":3.2383000000000002E-2},{"$f":"ROUND(IFERROR((1/'BS Rates'!P58),\"\"),6)","v":3.1230000000000001E-2},{"$f":"IFERROR((1/'BS Rates'!Q58),\"\")","v":""},{"$f":"ROUND(IFERROR((1/'BS Rates'!R58),\"\"),6)","v":0.46728999999999998},{"$f":"ROUND(IFERROR((1/'BS Rates'!S58),\"\"),6)","v":0.94286300000000001},{"$f":"IFERROR((1/'BS Rates'!T58),\"\")","v":1.9841269841269842},{"$f":"IFERROR((1/'BS Rates'!U58),\"\")","v":""},{"$f":"IFERROR((1/'BS Rates'!V58),\"\")","v":""},{"$f":"IFERROR((1/'BS Rates'!W58),\"\")","v":""},{"$f":"IFERROR((1/'BS Rates'!X58),\"\")","v":""},{"$f":"IFERROR((1/'BS Rates'!Y58),\"\")","v":""},{"$f":"IFERROR((1/'BS Rates'!Z58),\"\")","v":0.94295143800094294},{"$f":"IFERROR((1/'BS Rates'!AA58),\"\")","v":5.8284908288696808E-3},{"$f":"IFERROR((1/'BS Rates'!AB58),\"\")","v":""},{"$f":"IFERROR((1/'BS Rates'!AC58),\"\")","v":""},{"$f":"IFERROR((1/'BS Rates'!AD58),\"\")","v":""}]
[null,"2008-01-08",{"$f":"IFERROR((1/'BS Rates'!C59),\"\")","v":1},{"$f":"ROUND(IFERROR((1/'BS Rates'!D59),\"\"),6)","v":0.13888900000000001},{"$f":"IFERROR((1/'BS Rates'!E59),\"\")","v":5.0454086781029264E-4},{"$f":"IFERROR((1/'BS Rates'!F59),\"\")","v":1.4705882352941175},{"$f":"IFERROR((1/'BS Rates'!G59),\"\")","v":0.12820512820512822},{"$f":"IFERROR((1/'BS Rates'!H59),\"\")","v":9.3475415965601043E-3},{"$f":"IFERROR((1/'BS Rates'!I59),\"\")","v":1.0630494636915456E-3},{"$f":"IFERROR((1/'BS Rates'!J59),\"\")","v":0.12224938875305624},{"$f":"IFERROR((1/'BS Rates'!K59),\"\")","v":0.30864197530864196},{"$f":"IFERROR((1/'BS Rates'!L59),\"\")","v":9.2180341620346051E-2},{"$f":"ROUND(IFERROR((1/'BS Rates'!M59),\"\"),6)","v":2.4624E-2},{"$f":"ROUND(IFERROR((1/'BS Rates'!N59),\"\"),6)","v":0.70422499999999999},{"$f":"ROUND(IFERROR((1/'BS Rates'!O59),\"\"),6)","v":3.0998000000000001E-2},{"$f":"ROUND(IFERROR((1/'BS Rates'!P59),\"\"),6)","v":3.0276000000000001E-2},{"$f":"IFERROR((1/'BS Rates'!Q59),\"\")","v":""},{"$f":"ROUND(IFERROR((1/'BS Rates'!R59),\"\"),6)","v":0.46511599999999997},{"$f":"ROUND(IFERROR((1/'BS Rates'!S59),\"\"),6)","v":0.88857299999999995},{"$f":"IFERROR((1/'BS Rates'!T59),\"\")","v":1.9896538002387583},{"$f":"IFERROR((1/'BS Rates'!U59),\"\")","v":""},{"$f":"IFERROR((1/'BS Rates'!V59),\"\")","v":""},{"$f":"IFERROR((1/'BS Rates'!W59),\"\")","v":""},{"$f":"IFERROR((1/'BS Rates'!X59),\"\")","v":""},{"$f":"IFERROR((1/'BS Rates'!Y59),\"\")","v":""},{"$f":"IFERROR((1/'BS Rates'!Z59),\"\")","v":0.91549940492538673},{"$f":"IFERROR((1/'BS Rates'!AA59),\"\")","v":5.7255404910223524E-3},{"$f":"IFERROR((1/'BS Rates'!AB59),\"\")","v":""},{"$f":"IFERROR((1/'BS Rates'!AC59),\"\")","v":""},{"$f":"IFERROR((1/'BS Rates'!AD59),\"\")","v":""}]
[{"$f":"A48-1","v":2007},"2007-12-07",{"$f":"IFERROR((1/'BS Rates'!C60),\"\")","v":1.0204081632653061},{"$f":"ROUND(IFERROR((1/'BS Rates'!D60),\"\"),6)","v":0.13717399999999999},{"$f":"IFERROR((1/'BS Rates'!E60),\"\")","v":5.0602165772695065E-4},{"$f":"IFERROR((1/'BS Rates'!F60),\"\")","v":1.4705882352941175},{"$f":"IFERROR((1/'BS Rates'!G60),\"\")","v":0.12820512820512822},{"$f":"IFERROR((1/'BS Rates'!H60),\"\")","v":8.9086859688195987E-3},{"$f":"IFERROR((1/'BS Rates'!I60),\"\")","v":1.0701024088005222E-3},{"$f":"IFERROR((1/'BS Rates'!J60),\"\")","v":0.1267427122940431},{"$f":"IFERROR((1/'BS Rates'!K60),\"\")","v":0.30211480362537763},{"$f":"IFERROR((1/'BS Rates'!L60),\"\")","v":9.1545749988556774E-2},{"$f":"ROUND(IFERROR((1/'BS Rates'!M60),\"\"),6)","v":2.4324999999999999E-2},{"$f":"ROUND(IFERROR((1/'BS Rates'!N60),\"\"),6)","v":0.68965500000000002},{"$f":"ROUND(IFERROR((1/'BS Rates'!O60),\"\"),6)","v":3.0769000000000001E-2},{"$f":"ROUND(IFERROR((1/'BS Rates'!P60),\"\"),6)","v":2.963E-2},{"$f":"IFERROR((1/'BS Rates'!Q60),\"\")","v":""},{"$f":"ROUND(IFERROR((1/'BS Rates'!R60),\"\"),6)","v":0.46602700000000002},{"$f":"IFERROR((1/'BS Rates'!S60),\"\")","v":0.87573342674489896},{"$f":"IFERROR((1/'BS Rates'!T60),\"\")","v":1.9964064683569573},{"$f":"IFERROR((1/'BS Rates'!U60),\"\")","v":""},{"$f":"IFERROR((1/'BS Rates'!V60),\"\")","v":""},{"$f":"IFERROR((1/'BS Rates'!W60),\"\")","v":""},{"$f":"IFERROR((1/'BS Rates'!X60),\"\")","v":""},{"$f":"IFERROR((1/'BS Rates'!Y60),\"\")","v":""},{"$f":"IFERROR((1/'BS Rates'!Z60),\"\")","v":0.88754770568918073},{"$f":"IFERROR((1/'BS Rates'!AA60),\"\")","v":5.7830879376351797E-3},{"$f":"IFERROR((1/'BS Rates'!AB60),\"\")","v":""},{"$f":"IFERROR((1/'BS Rates'!AC60),\"\")","v":""},{"$f":"IFERROR((1/'BS Rates'!AD60),\"\")","v":""}]
[null,"2007-11-08",{"$f":"IFERROR((1/'BS Rates'!C61),\"\")","v":1.0101010101010102},{"$f":"ROUND(IFERROR((1/'BS Rates'!D61),\"\"),6)","v":0.135685},{"$f":"IFERROR((1/'BS Rates'!E61),\"\")","v":4.8887563492723085E-4},{"$f":"IFERROR((1/'BS Rates'!F61),\"\")","v":1.4705882352941175},{"$f":"IFERROR((1/'BS Rates'!G61),\"\")","v":0.12820512820512822},{"$f":"IFERROR((1/'BS Rates'!H61),\"\")","v":9.0942160785740279E-3},{"$f":"IFERROR((1/'BS Rates'!I61),\"\")","v":1.0760208748049711E-3},{"$f":"IFERROR((1/'BS Rates'!J61),\"\")","v":0.12706480304955528},{"$f":"IFERROR((1/'BS Rates'!K61),\"\")","v":0.29673590504451036},{"$f":"IFERROR((1/'BS Rates'!L61),\"\")","v":""},{"$f":"ROUND(IFERROR((1/'BS Rates'!M61),\"\"),6)","v":2.3441E-2},{"$f":"ROUND(IFERROR((1/'BS Rates'!N61),\"\"),6)","v":0.68965500000000002},{"$f":"ROUND(IFERROR((1/'BS Rates'!O61),\"\"),6)","v":3.0960000000000001E-2},{"$f":"ROUND(IFERROR((1/'BS Rates'!P61),\"\"),6)","v":2.9541999999999999E-2},{"$f":"IFERROR((1/'BS Rates'!Q61),\"\")","v":""},{"$f":"ROUND(IFERROR((1/'BS Rates'!R61),\"\"),6)","v":0.46611599999999997},{"$f":"IFERROR((1/'BS Rates'!S61),\"\")","v":""},{"$f":"IFERROR((1/'BS Rates'!T61),\"\")","v":""},{"$f":"IFERROR((1/'BS Rates'!U61),\"\")","v":""},{"$f":"IFERROR((1/'BS Rates'!V61),\"\")","v":""},{"$f":"IFERROR((1/'BS Rates'!W61),\"\")","v":""},{"$f":"IFERROR((1/'BS Rates'!X61),\"\")","v":""},{"$f":"IFERROR((1/'BS Rates'!Y61),\"\")","v":""},{"$f":"IFERROR((1/'BS Rates'!Z61),\"\")","v":""},{"$f":"IFERROR((1/'BS Rates'!AA61),\"\")","v":""},{"$f":"IFERROR((1/'BS Rates'!AB61),\"\")","v":""},{"$f":"IFERROR((1/'BS Rates'!AC61),\"\")","v":""},{"$f":"IFERROR((1/'BS Rates'!AD61),\"\")","v":""}]
[null,"2007-10-10",{"$f":"IFERROR((1/'BS Rates'!C62),\"\")","v":1.0526315789473684},{"$f":"ROUND(IFERROR((1/'BS Rates'!D62),\"\"),6)","v":0.134048},{"$f":"IFERROR((1/'BS Rates'!E62),\"\")","v":5.0584759823560355E-4},{"$f":"IFERROR((1/'BS Rates'!F62),\"\")","v":1.4492753623188408},{"$f":"IFERROR((1/'BS Rates'!G62),\"\")","v":0.12820512820512822},{"$f":"IFERROR((1/'BS Rates'!H62),\"\")","v":8.7221979938944608E-3},{"$f":"IFERROR((1/'BS Rates'!I62),\"\")","v":1.1009941977605778E-3},{"$f":"IFERROR((1/'BS Rates'!J62),\"\")","v":0.12738853503184713},{"$f":"IFERROR((1/'BS Rates'!K62),\"\")","v":0.29940119760479045},{"$f":"IFERROR((1/'BS Rates'!L62),\"\")","v":""},{"$f":"ROUND(IFERROR((1/'BS Rates'!M62),\"\"),6)","v":2.2877999999999999E-2},{"$f":"ROUND(IFERROR((1/'BS Rates'!N62),\"\"),6)","v":0.68965500000000002},{"$f":"ROUND(IFERROR((1/'BS Rates'!O62),\"\"),6)","v":3.0855E-2},{"$f":"ROUND(IFERROR((1/'BS Rates'!P62),\"\"),6)","v":2.9412000000000001E-2},{"$f":"IFERROR((1/'BS Rates'!Q62),\"\")","v":""},{"$f":"ROUND(IFERROR((1/'BS Rates'!R62),\"\"),6)","v":0.46609800000000001},{"$f":"IFERROR((1/'BS Rates'!S62),\"\")","v":""},{"$f":"IFERROR((1/'BS Rates'!T62),\"\")","v":""},{"$f":"IFERROR((1/'BS Rates'!U62),\"\")","v":""},{"$f":"IFERROR((1/'BS Rates'!V62),\"\")","v":""},{"$f":"IFERROR((1/'BS Rates'!W62),\"\")","v":""},{"$f":"IFERROR((1/'BS Rates'!X62),\"\")","v":""},{"$f":"IFERROR((1/'BS Rates'!Y62),\"\")","v":""},{"$f":"IFERROR((1/'BS Rates'!Z62),\"\")","v":""},{"$f":"IFERROR((1/'BS Rates'!AA62),\"\")","v":""},{"$f":"IFERROR((1/'BS Rates'!AB62),\"\")","v":""},{"$f":"IFERROR((1/'BS Rates'!AC62),\"\")","v":""},{"$f":"IFERROR((1/'BS Rates'!AD62),\"\")","v":""}]
[null,"2007-09-11",{"$f":"IFERROR((1/'BS Rates'!C63),\"\")","v":0.94339622641509424},{"$f":"ROUND(IFERROR((1/'BS Rates'!D63),\"\"),6)","v":0.13333300000000001},{"$f":"IFERROR((1/'BS Rates'!E63),\"\")","v":5.0139387497242333E-4},{"$f":"IFERROR((1/'BS Rates'!F63),\"\")","v":1.4084507042253522},{"$f":"IFERROR((1/'BS Rates'!G63),\"\")","v":0.12820512820512822},{"$f":"IFERROR((1/'BS Rates'!H63),\"\")","v":8.6557604085518904E-3},{"$f":"IFERROR((1/'BS Rates'!I63),\"\")","v":1.0887790431809768E-3},{"$f":"IFERROR((1/'BS Rates'!J63),\"\")","v":0.1267427122940431},{"$f":"IFERROR((1/'BS Rates'!K63),\"\")","v":0.29239766081871343},{"$f":"IFERROR((1/'BS Rates'!L63),\"\")","v":""},{"$f":"ROUND(IFERROR((1/'BS Rates'!M63),\"\"),6)","v":2.2262000000000001E-2},{"$f":"ROUND(IFERROR((1/'BS Rates'!N63),\"\"),6)","v":0.67114099999999999},{"$f":"ROUND(IFERROR((1/'BS Rates'!O63),\"\"),6)","v":3.0488000000000001E-2},{"$f":"ROUND(IFERROR((1/'BS Rates'!P63),\"\"),6)","v":2.9180000000000001E-2},{"$f":"IFERROR((1/'BS Rates'!Q63),\"\")","v":""},{"$f":"ROUND(IFERROR((1/'BS Rates'!R63),\"\"),6)","v":0.46604600000000002},{"$f":"IFERROR((1/'BS Rates'!S63),\"\")","v":""},{"$f":"IFERROR((1/'BS Rates'!T63),\"\")","v":""},{"$f":"IFERROR((1/'BS Rates'!U63),\"\")","v":""},{"$f":"IFERROR((1/'BS Rates'!V63),\"\")","v":""},{"$f":"IFERROR((1/'BS Rates'!W63),\"\")","v":""},{"$f":"IFERROR((1/'BS Rates'!X63),\"\")","v":""},{"$f":"IFERROR((1/'BS Rates'!Y63),\"\")","v":""},{"$f":"IFERROR((1/'BS Rates'!Z63),\"\")","v":""},{"$f":"IFERROR((1/'BS Rates'!AA63),\"\")","v":""},{"$f":"IFERROR((1/'BS Rates'!AB63),\"\")","v":""},{"$f":"IFERROR((1/'BS Rates'!AC63),\"\")","v":""},{"$f":"IFERROR((1/'BS Rates'!AD63),\"\")","v":""}]
[null,"2007-08-13",{"$f":"IFERROR((1/'BS Rates'!C64),\"\")","v":0.94339622641509424},{"$f":"ROUND(IFERROR((1/'BS Rates'!D64),\"\"),6)","v":0.13262599999999999},{"$f":"IFERROR((1/'BS Rates'!E64),\"\")","v":4.6548216970548943E-4},{"$f":"IFERROR((1/'BS Rates'!F64),\"\")","v":1.3698630136986301},{"$f":"IFERROR((1/'BS Rates'!G64),\"\")","v":0.12820512820512822},{"$f":"IFERROR((1/'BS Rates'!H64),\"\")","v":8.6415485655029385E-3},{"$f":"IFERROR((1/'BS Rates'!I64),\"\")","v":1.0641014727164383E-3},{"$f":"IFERROR((1/'BS Rates'!J64),\"\")","v":0.1267427122940431},{"$f":"IFERROR((1/'BS Rates'!K64),\"\")","v":0.2857142857142857},{"$f":"IFERROR((1/'BS Rates'!L64),\"\")","v":""},{"$f":"ROUND(IFERROR((1/'BS Rates'!M64),\"\"),6)","v":2.1427000000000002E-2},{"$f":"ROUND(IFERROR((1/'BS Rates'!N64),\"\"),6)","v":0.65789500000000001},{"$f":"ROUND(IFERROR((1/'BS Rates'!O64),\"\"),6)","v":3.0256999999999999E-2},{"$f":"ROUND(IFERROR((1/'BS Rates'!P64),\"\"),6)","v":2.9128999999999999E-2},{"$f":"IFERROR((1/'BS Rates'!Q64),\"\")","v":""},{"$f":"ROUND(IFERROR((1/'BS Rates'!R64),\"\"),6)","v":0.46612900000000002},{"$f":"IFERROR((1/'BS Rates'!S64),\"\")","v":""},{"$f":"IFERROR((1/'BS Rates'!T64),\"\")","v":""},{"$f":"IFERROR((1/'BS Rates'!U64),\"\")","v":""},{"$f":"IFERROR((1/'BS Rates'!V64),\"\")","v":""},{"$f":"IFERROR((1/'BS Rates'!W64),\"\")","v":""},{"$f":"IFERROR((1/'BS Rates'!X64),\"\")","v":""},{"$f":"IFERROR((1/'BS Rates'!Y64),\"\")","v":""},{"$f":"IFERROR((1/'BS Rates'!Z64),\"\")","v":""},{"$f":"IFERROR((1/'BS Rates'!AA64),\"\")","v":""},{"$f":"IFERROR((1/'BS Rates'!AB64),\"\")","v":""},{"$f":"IFERROR((1/'BS Rates'!AC64),\"\")","v":""},{"$f":"IFERROR((1/'BS Rates'!AD64),\"\")","v":""}]
[null,"2007-07-15",{"$f":"IFERROR((1/'BS Rates'!C65),\"\")","v":0.93457943925233644},{"$f":"ROUND(IFERROR((1/'BS Rates'!D65),\"\"),6)","v":0.132275},{"$f":"IFERROR((1/'BS Rates'!E65),\"\")","v":5.1124744376278123E-4},{"$f":"IFERROR((1/'BS Rates'!F65),\"\")","v":1.3698630136986301},{"$f":"IFERROR((1/'BS Rates'!G65),\"\")","v":0.12820512820512822},{"$f":"IFERROR((1/'BS Rates'!H65),\"\")","v":8.4395307620896282E-3},{"$f":"IFERROR((1/'BS Rates'!I65),\"\")","v":1.0845986984815619E-3},{"$f":"IFERROR((1/'BS Rates'!J65),\"\")","v":0.12642225031605561},{"$f":"IFERROR((1/'BS Rates'!K65),\"\")","v":0.28985507246376813},{"$f":"IFERROR((1/'BS Rates'!L65),\"\")","v":""},{"$f":"ROUND(IFERROR((1/'BS Rates'!M65),\"\"),6)","v":2.2036E-2},{"$f":"ROUND(IFERROR((1/'BS Rates'!N65),\"\"),6)","v":0.66225199999999995},{"$f":"ROUND(IFERROR((1/'BS Rates'!O65),\"\"),6)","v":3.0488000000000001E-2},{"$f":"ROUND(IFERROR((1/'BS Rates'!P65),\"\"),6)","v":2.9576999999999999E-2},{"$f":"IFERROR((1/'BS Rates'!Q65),\"\")","v":""},{"$f":"ROUND(IFERROR((1/'BS Rates'!R65),\"\"),6)","v":0.46605099999999999},{"$f":"IFERROR((1/'BS Rates'!S65),\"\")","v":""},{"$f":"IFERROR((1/'BS Rates'!T65),\"\")","v":""},{"$f":"IFERROR((1/'BS Rates'!U65),\"\")","v":""},{"$f":"IFERROR((1/'BS Rates'!V65),\"\")","v":""},{"$f":"IFERROR((1/'BS Rates'!W65),\"\")","v":""},{"$f":"IFERROR((1/'BS Rates'!X65),\"\")","v":""},{"$f":"IFERROR((1/'BS Rates'!Y65),\"\")","v":""},{"$f":"IFERROR((1/'BS Rates'!Z65),\"\")","v":""},{"$f":"IFERROR((1/'BS Rates'!AA65),\"\")","v":""},{"$f":"IFERROR((1/'BS Rates'!AB65),\"\")","v":""},{"$f":"IFERROR((1/'BS Rates'!AC65),\"\")","v":""},{"$f":"IFERROR((1/'BS Rates'!AD65),\"\")","v":""}]
[null,"2007-06-16",{"$f":"IFERROR((1/'BS Rates'!C66),\"\")","v":0.93457943925233644},{"$f":"ROUND(IFERROR((1/'BS Rates'!D66),\"\"),6)","v":0.131406},{"$f":"IFERROR((1/'BS Rates'!E66),\"\")","v":5.1265488585738959E-4},{"$f":"IFERROR((1/'BS Rates'!F66),\"\")","v":1.3513513513513513},{"$f":"IFERROR((1/'BS Rates'!G66),\"\")","v":0.12787723785166241},{"$f":"IFERROR((1/'BS Rates'!H66),\"\")","v":8.1307423367753488E-3},{"$f":"IFERROR((1/'BS Rates'!I66),\"\")","v":1.0801002333016504E-3},{"$f":"IFERROR((1/'BS Rates'!J66),\"\")","v":0.1272264631043257},{"$f":"IFERROR((1/'BS Rates'!K66),\"\")","v":0.28818443804034583},{"$f":"IFERROR((1/'BS Rates'!L66),\"\")","v":""},{"$f":"ROUND(IFERROR((1/'BS Rates'!M66),\"\"),6)","v":2.1625999999999999E-2},{"$f":"ROUND(IFERROR((1/'BS Rates'!N66),\"\"),6)","v":0.64935100000000001},{"$f":"ROUND(IFERROR((1/'BS Rates'!O66),\"\"),6)","v":3.0460000000000001E-2},{"$f":"ROUND(IFERROR((1/'BS Rates'!P66),\"\"),6)","v":3.1756E-2},{"$f":"IFERROR((1/'BS Rates'!Q66),\"\")","v":""},{"$f":"ROUND(IFERROR((1/'BS Rates'!R66),\"\"),6)","v":0.466111},{"$f":"IFERROR((1/'BS Rates'!S66),\"\")","v":""},{"$f":"IFERROR((1/'BS Rates'!T66),\"\")","v":""},{"$f":"IFERROR((1/'BS Rates'!U66),\"\")","v":""},{"$f":"IFERROR((1/'BS Rates'!V66),\"\")","v":""},{"$f":"IFERROR((1/'BS Rates'!W66),\"\")","v":""},{"$f":"IFERROR((1/'BS Rates'!X66),\"\")","v":""},{"$f":"IFERROR((1/'BS Rates'!Y66),\"\")","v":""},{"$f":"IFERROR((1/'BS Rates'!Z66),\"\")","v":""},{"$f":"IFERROR((1/'BS Rates'!AA66),\"\")","v":""},{"$f":"IFERROR((1/'BS Rates'!AB66),\"\")","v":""},{"$f":"IFERROR((1/'BS Rates'!AC66),\"\")","v":""},{"$f":"IFERROR((1/'BS Rates'!AD66),\"\")","v":""}]
[null,"2007-05-18",{"$f":"IFERROR((1/'BS Rates'!C67),\"\")","v":0.93457943925233644},{"$f":"ROUND(IFERROR((1/'BS Rates'!D67),\"\"),6)","v":0.130719},{"$f":"IFERROR((1/'BS Rates'!E67),\"\")","v":5.2141177452069221E-4},{"$f":"IFERROR((1/'BS Rates'!F67),\"\")","v":1.3513513513513513},{"$f":"IFERROR((1/'BS Rates'!G67),\"\")","v":0.12820512820512822},{"$f":"IFERROR((1/'BS Rates'!H67),\"\")","v":8.2257135806531219E-3},{"$f":"IFERROR((1/'BS Rates'!I67),\"\")","v":1.0756042206709619E-3},{"$f":"IFERROR((1/'BS Rates'!J67),\"\")","v":0.12903225806451613},{"$f":"IFERROR((1/'BS Rates'!K67),\"\")","v":0.29411764705882354},{"$f":"IFERROR((1/'BS Rates'!L67),\"\")","v":""},{"$f":"ROUND(IFERROR((1/'BS Rates'!M67),\"\"),6)","v":2.1645000000000001E-2},{"$f":"ROUND(IFERROR((1/'BS Rates'!N67),\"\"),6)","v":0.65359500000000004},{"$f":"ROUND(IFERROR((1/'BS Rates'!O67),\"\"),6)","v":3.0284999999999999E-2},{"$f":"ROUND(IFERROR((1/'BS Rates'!P67),\"\"),6)","v":3.0693999999999999E-2},{"$f":"IFERROR((1/'BS Rates'!Q67),\"\")","v":""},{"$f":"ROUND(IFERROR((1/'BS Rates'!R67),\"\"),6)","v":0.46628700000000001},{"$f":"IFERROR((1/'BS Rates'!S67),\"\")","v":""},{"$f":"IFERROR((1/'BS Rates'!T67),\"\")","v":""},{"$f":"IFERROR((1/'BS Rates'!U67),\"\")","v":""},{"$f":"IFERROR((1/'BS Rates'!V67),\"\")","v":""},{"$f":"IFERROR((1/'BS Rates'!W67),\"\")","v":""},{"$f":"IFERROR((1/'BS Rates'!X67),\"\")","v":""},{"$f":"IFERROR((1/'BS Rates'!Y67),\"\")","v":""},{"$f":"IFERROR((1/'BS Rates'!Z67),\"\")","v":""},{"$f":"IFERROR((1/'BS Rates'!AA67),\"\")","v":""},{"$f":"IFERROR((1/'BS Rates'!AB67),\"\")","v":""},{"$f":"IFERROR((1/'BS Rates'!AC67),\"\")","v":""},{"$f":"IFERROR((1/'BS Rates'!AD67),\"\")","v":""}]
[null,"2007-04-19",{"$f":"IFERROR((1/'BS Rates'!C68),\"\")","v":0.89285714285714279},{"$f":"ROUND(IFERROR((1/'BS Rates'!D68),\"\"),6)","v":0.130719},{"$f":"IFERROR((1/'BS Rates'!E68),\"\")","v":4.9546648169251353E-4},{"$f":"IFERROR((1/'BS Rates'!F68),\"\")","v":1.3698630136986301},{"$f":"IFERROR((1/'BS Rates'!G68),\"\")","v":0.12820512820512822},{"$f":"IFERROR((1/'BS Rates'!H68),\"\")","v":8.3633018315631014E-3},{"$f":"IFERROR((1/'BS Rates'!I68),\"\")","v":1.0780043982579449E-3},{"$f":"IFERROR((1/'BS Rates'!J68),\"\")","v":0.12903225806451613},{"$f":"IFERROR((1/'BS Rates'!K68),\"\")","v":0.29239766081871343},{"$f":"IFERROR((1/'BS Rates'!L68),\"\")","v":""},{"$f":"ROUND(IFERROR((1/'BS Rates'!M68),\"\"),6)","v":2.1160000000000002E-2},{"$f":"ROUND(IFERROR((1/'BS Rates'!N68),\"\"),6)","v":0.65789500000000001},{"$f":"ROUND(IFERROR((1/'BS Rates'!O68),\"\"),6)","v":3.0075000000000001E-2},{"$f":"ROUND(IFERROR((1/'BS Rates'!P68),\"\"),6)","v":3.0721999999999999E-2},{"$f":"IFERROR((1/'BS Rates'!Q68),\"\")","v":""},{"$f":"ROUND(IFERROR((1/'BS Rates'!R68),\"\"),6)","v":0.46628700000000001},{"$f":"IFERROR((1/'BS Rates'!S68),\"\")","v":""},{"$f":"IFERROR((1/'BS Rates'!T68),\"\")","v":""},{"$f":"IFERROR((1/'BS Rates'!U68),\"\")","v":""},{"$f":"IFERROR((1/'BS Rates'!V68),\"\")","v":""},{"$f":"IFERROR((1/'BS Rates'!W68),\"\")","v":""},{"$f":"IFERROR((1/'BS Rates'!X68),\"\")","v":""},{"$f":"IFERROR((1/'BS Rates'!Y68),\"\")","v":""},{"$f":"IFERROR((1/'BS Rates'!Z68),\"\")","v":""},{"$f":"IFERROR((1/'BS Rates'!AA68),\"\")","v":""},{"$f":"IFERROR((1/'BS Rates'!AB68),\"\")","v":""},{"$f":"IFERROR((1/'BS Rates'!AC68),\"\")","v":""},{"$f":"IFERROR((1/'BS Rates'!AD68),\"\")","v":""}]
[null,"2007-03-21",{"$f":"IFERROR((1/'BS Rates'!C69),\"\")","v":0.86206896551724144},{"$f":"ROUND(IFERROR((1/'BS Rates'!D69),\"\"),6)","v":0.124378},{"$f":"IFERROR((1/'BS Rates'!E69),\"\")","v":4.6725260142885846E-4},{"$f":"IFERROR((1/'BS Rates'!F69),\"\")","v":1.3333333333333333},{"$f":"IFERROR((1/'BS Rates'!G69),\"\")","v":0.12820512820512822},{"$f":"IFERROR((1/'BS Rates'!H69),\"\")","v":8.5207907293796872E-3},{"$f":"IFERROR((1/'BS Rates'!I69),\"\")","v":1.0769943242399114E-3},{"$f":"IFERROR((1/'BS Rates'!J69),\"\")","v":0.125},{"$f":"IFERROR((1/'BS Rates'!K69),\"\")","v":0.28985507246376813},{"$f":"IFERROR((1/'BS Rates'!L69),\"\")","v":""},{"$f":"ROUND(IFERROR((1/'BS Rates'!M69),\"\"),6)","v":2.0816000000000001E-2},{"$f":"ROUND(IFERROR((1/'BS Rates'!N69),\"\"),6)","v":0.65789500000000001},{"$f":"ROUND(IFERROR((1/'BS Rates'!O69),\"\"),6)","v":3.0238999999999999E-2},{"$f":"ROUND(IFERROR((1/'BS Rates'!P69),\"\"),6)","v":3.1299E-2},{"$f":"IFERROR((1/'BS Rates'!Q69),\"\")","v":""},{"$f":"ROUND(IFERROR((1/'BS Rates'!R69),\"\"),6)","v":0.46628700000000001},{"$f":"IFERROR((1/'BS Rates'!S69),\"\")","v":""},{"$f":"IFERROR((1/'BS Rates'!T69),\"\")","v":""},{"$f":"IFERROR((1/'BS Rates'!U69),\"\")","v":""},{"$f":"IFERROR((1/'BS Rates'!V69),\"\")","v":""},{"$f":"IFERROR((1/'BS Rates'!W69),\"\")","v":""},{"$f":"IFERROR((1/'BS Rates'!X69),\"\")","v":""},{"$f":"IFERROR((1/'BS Rates'!Y69),\"\")","v":""},{"$f":"IFERROR((1/'BS Rates'!Z69),\"\")","v":""},{"$f":"IFERROR((1/'BS Rates'!AA69),\"\")","v":""},{"$f":"IFERROR((1/'BS Rates'!AB69),\"\")","v":""},{"$f":"IFERROR((1/'BS Rates'!AC69),\"\")","v":""},{"$f":"IFERROR((1/'BS Rates'!AD69),\"\")","v":""}]
[null,"2007-02-20",{"$f":"IFERROR((1/'BS Rates'!C70),\"\")","v":0.86206896551724144},{"$f":"ROUND(IFERROR((1/'BS Rates'!D70),\"\"),6)","v":0.124378},{"$f":"IFERROR((1/'BS Rates'!E70),\"\")","v":4.6804208634440412E-4},{"$f":"IFERROR((1/'BS Rates'!F70),\"\")","v":1.3157894736842106},{"$f":"IFERROR((1/'BS Rates'!G70),\"\")","v":0.12820512820512822},{"$f":"IFERROR((1/'BS Rates'!H70),\"\")","v":8.3500334001335996E-3},{"$f":"IFERROR((1/'BS Rates'!I70),\"\")","v":1.0745986374089277E-3},{"$f":"IFERROR((1/'BS Rates'!J70),\"\")","v":0.125},{"$f":"IFERROR((1/'BS Rates'!K70),\"\")","v":0.28653295128939826},{"$f":"IFERROR((1/'BS Rates'!L70),\"\")","v":""},{"$f":"ROUND(IFERROR((1/'BS Rates'!M70),\"\"),6)","v":2.0743000000000001E-2},{"$f":"ROUND(IFERROR((1/'BS Rates'!N70),\"\"),6)","v":0.65359500000000004},{"$f":"ROUND(IFERROR((1/'BS Rates'!O70),\"\"),6)","v":3.0303E-2},{"$f":"ROUND(IFERROR((1/'BS Rates'!P70),\"\"),6)","v":2.9524999999999999E-2},{"$f":"IFERROR((1/'BS Rates'!Q70),\"\")","v":""},{"$f":"ROUND(IFERROR((1/'BS Rates'!R70),\"\"),6)","v":0.46628700000000001},{"$f":"IFERROR((1/'BS Rates'!S70),\"\")","v":""},{"$f":"IFERROR((1/'BS Rates'!T70),\"\")","v":""},{"$f":"IFERROR((1/'BS Rates'!U70),\"\")","v":""},{"$f":"IFERROR((1/'BS Rates'!V70),\"\")","v":""},{"$f":"IFERROR((1/'BS Rates'!W70),\"\")","v":""},{"$f":"IFERROR((1/'BS Rates'!X70),\"\")","v":""},{"$f":"IFERROR((1/'BS Rates'!Y70),\"\")","v":""},{"$f":"IFERROR((1/'BS Rates'!Z70),\"\")","v":""},{"$f":"IFERROR((1/'BS Rates'!AA70),\"\")","v":""},{"$f":"IFERROR((1/'BS Rates'!AB70),\"\")","v":""},{"$f":"IFERROR((1/'BS Rates'!AC70),\"\")","v":""},{"$f":"IFERROR((1/'BS Rates'!AD70),\"\")","v":""}]
[null,"2007-01-22",{"$f":"IFERROR((1/'BS Rates'!C71),\"\")","v":0.84745762711864414},{"$f":"ROUND(IFERROR((1/'BS Rates'!D71),\"\"),6)","v":0.124378},{"$f":"IFERROR((1/'BS Rates'!E71),\"\")","v":4.4934328478928053E-4},{"$f":"IFERROR((1/'BS Rates'!F71),\"\")","v":1.2987012987012987},{"$f":"IFERROR((1/'BS Rates'!G71),\"\")","v":0.12820512820512822},{"$f":"IFERROR((1/'BS Rates'!H71),\"\")","v":8.2135523613963042E-3},{"$f":"IFERROR((1/'BS Rates'!I71),\"\")","v":1.0745986374089277E-3},{"$f":"IFERROR((1/'BS Rates'!J71),\"\")","v":0.125},{"$f":"IFERROR((1/'BS Rates'!K71),\"\")","v":0.2857142857142857},{"$f":"IFERROR((1/'BS Rates'!L71),\"\")","v":""},{"$f":"ROUND(IFERROR((1/'BS Rates'!M71),\"\"),6)","v":2.0462000000000001E-2},{"$f":"ROUND(IFERROR((1/'BS Rates'!N71),\"\"),6)","v":0.64935100000000001},{"$f":"ROUND(IFERROR((1/'BS Rates'!O71),\"\"),6)","v":3.0311999999999999E-2},{"$f":"ROUND(IFERROR((1/'BS Rates'!P71),\"\"),6)","v":2.9256999999999998E-2},{"$f":"IFERROR((1/'BS Rates'!Q71),\"\")","v":""},{"$f":"ROUND(IFERROR((1/'BS Rates'!R71),\"\"),6)","v":0.46628700000000001},{"$f":"IFERROR((1/'BS Rates'!S71),\"\")","v":""},{"$f":"IFERROR((1/'BS Rates'!T71),\"\")","v":""},{"$f":"IFERROR((1/'BS Rates'!U71),\"\")","v":""},{"$f":"IFERROR((1/'BS Rates'!V71),\"\")","v":""},{"$f":"IFERROR((1/'BS Rates'!W71),\"\")","v":""},{"$f":"IFERROR((1/'BS Rates'!X71),\"\")","v":""},{"$f":"IFERROR((1/'BS Rates'!Y71),\"\")","v":""},{"$f":"IFERROR((1/'BS Rates'!Z71),\"\")","v":""},{"$f":"IFERROR((1/'BS Rates'!AA71),\"\")","v":""},{"$f":"IFERROR((1/'BS Rates'!AB71),\"\")","v":""},{"$f":"IFERROR((1/'BS Rates'!AC71),\"\")","v":""},{"$f":"IFERROR((1/'BS Rates'!AD71),\"\")","v":""}]
[{"$f":"A60-1","v":2006},"2006-12-06",{"$f":"IFERROR((1/'BS Rates'!C72),\"\")","v":0.86206896551724144},{"$f":"ROUND(IFERROR((1/'BS Rates'!D72),\"\"),6)","v":0.124378},{"$f":"IFERROR((1/'BS Rates'!E72),\"\")","v":4.6450270340573377E-4},{"$f":"IFERROR((1/'BS Rates'!F72),\"\")","v":1.3157894736842106},{"$f":"IFERROR((1/'BS Rates'!G72),\"\")","v":0.12820512820512822},{"$f":"IFERROR((1/'BS Rates'!H72),\"\")","v":8.4182170216348176E-3},{"$f":"IFERROR((1/'BS Rates'!I72),\"\")","v":1.0905006488478861E-3},{"$f":"IFERROR((1/'BS Rates'!J72),\"\")","v":0.125},{"$f":"IFERROR((1/'BS Rates'!K72),\"\")","v":0.28328611898016998},{"$f":"IFERROR((1/'BS Rates'!L72),\"\")","v":""},{"$f":"ROUND(IFERROR((1/'BS Rates'!M72),\"\"),6)","v":2.0416E-2},{"$f":"ROUND(IFERROR((1/'BS Rates'!N72),\"\"),6)","v":0.64935100000000001},{"$f":"ROUND(IFERROR((1/'BS Rates'!O72),\"\"),6)","v":3.0617999999999999E-2},{"$f":"ROUND(IFERROR((1/'BS Rates'!P72),\"\"),6)","v":2.8192999999999999E-2},{"$f":"IFERROR((1/'BS Rates'!Q72),\"\")","v":""},{"$f":"ROUND(IFERROR((1/'BS Rates'!R72),\"\"),6)","v":0.46628700000000001},{"$f":"IFERROR((1/'BS Rates'!S72),\"\")","v":""},{"$f":"IFERROR((1/'BS Rates'!T72),\"\")","v":""},{"$f":"IFERROR((1/'BS Rates'!U72),\"\")","v":""},{"$f":"IFERROR((1/'BS Rates'!V72),\"\")","v":""},{"$f":"IFERROR((1/'BS Rates'!W72),\"\")","v":""},{"$f":"IFERROR((1/'BS Rates'!X72),\"\")","v":""},{"$f":"IFERROR((1/'BS Rates'!Y72),\"\")","v":""},{"$f":"IFERROR((1/'BS Rates'!Z72),\"\")","v":""},{"$f":"IFERROR((1/'BS Rates'!AA72),\"\")","v":""},{"$f":"IFERROR((1/'BS Rates'!AB72),\"\")","v":""},{"$f":"IFERROR((1/'BS Rates'!AC72),\"\")","v":""},{"$f":"IFERROR((1/'BS Rates'!AD72),\"\")","v":""}]
[null,"2006-11-06",{"$f":"IFERROR((1/'BS Rates'!C73),\"\")","v":0.88495575221238942},{"$f":"ROUND(IFERROR((1/'BS Rates'!D73),\"\"),6)","v":0.124378},{"$f":"IFERROR((1/'BS Rates'!E73),\"\")","v":4.2940201475425322E-4},{"$f":"IFERROR((1/'BS Rates'!F73),\"\")","v":1.3157894736842106},{"$f":"IFERROR((1/'BS Rates'!G73),\"\")","v":0.12820512820512822},{"$f":"IFERROR((1/'BS Rates'!H73),\"\")","v":8.6154906521926436E-3},{"$f":"IFERROR((1/'BS Rates'!I73),\"\")","v":1.0590976488032196E-3},{"$f":"IFERROR((1/'BS Rates'!J73),\"\")","v":0.125},{"$f":"IFERROR((1/'BS Rates'!K73),\"\")","v":0.27472527472527469},{"$f":"IFERROR((1/'BS Rates'!L73),\"\")","v":""},{"$f":"ROUND(IFERROR((1/'BS Rates'!M73),\"\"),6)","v":2.0060000000000001E-2},{"$f":"ROUND(IFERROR((1/'BS Rates'!N73),\"\"),6)","v":0.64516099999999998},{"$f":"ROUND(IFERROR((1/'BS Rates'!O73),\"\"),6)","v":3.0741000000000001E-2},{"$f":"ROUND(IFERROR((1/'BS Rates'!P73),\"\"),6)","v":2.7663E-2},{"$f":"IFERROR((1/'BS Rates'!Q73),\"\")","v":""},{"$f":"ROUND(IFERROR((1/'BS Rates'!R73),\"\"),6)","v":0.46628700000000001},{"$f":"IFERROR((1/'BS Rates'!S73),\"\")","v":""},{"$f":"IFERROR((1/'BS Rates'!T73),\"\")","v":""},{"$f":"IFERROR((1/'BS Rates'!U73),\"\")","v":""},{"$f":"IFERROR((1/'BS Rates'!V73),\"\")","v":""},{"$f":"IFERROR((1/'BS Rates'!W73),\"\")","v":""},{"$f":"IFERROR((1/'BS Rates'!X73),\"\")","v":""},{"$f":"IFERROR((1/'BS Rates'!Y73),\"\")","v":""},{"$f":"IFERROR((1/'BS Rates'!Z73),\"\")","v":""},{"$f":"IFERROR((1/'BS Rates'!AA73),\"\")","v":""},{"$f":"IFERROR((1/'BS Rates'!AB73),\"\")","v":""},{"$f":"IFERROR((1/'BS Rates'!AC73),\"\")","v":""},{"$f":"IFERROR((1/'BS Rates'!AD73),\"\")","v":""}]
[null,"2006-10-06",{"$f":"IFERROR((1/'BS Rates'!C74),\"\")","v":0.89285714285714279},{"$f":"ROUND(IFERROR((1/'BS Rates'!D74),\"\"),6)","v":0.124378},{"$f":"IFERROR((1/'BS Rates'!E74),\"\")","v":4.1400667378758147E-4},{"$f":"IFERROR((1/'BS Rates'!F74),\"\")","v":1.2658227848101264},{"$f":"IFERROR((1/'BS Rates'!G74),\"\")","v":0.12820512820512822},{"$f":"IFERROR((1/'BS Rates'!H74),\"\")","v":8.5142613878246062E-3},{"$f":"IFERROR((1/'BS Rates'!I74),\"\")","v":1.0448010698762957E-3},{"$f":"IFERROR((1/'BS Rates'!J74),\"\")","v":0.125},{"$f":"IFERROR((1/'BS Rates'!K74),\"\")","v":0.27397260273972601},{"$f":"IFERROR((1/'BS Rates'!L74),\"\")","v":""},{"$f":"ROUND(IFERROR((1/'BS Rates'!M74),\"\"),6)","v":2.0015999999999999E-2},{"$f":"ROUND(IFERROR((1/'BS Rates'!N74),\"\"),6)","v":0.64102599999999998},{"$f":"ROUND(IFERROR((1/'BS Rates'!O74),\"\"),6)","v":3.0075000000000001E-2},{"$f":"ROUND(IFERROR((1/'BS Rates'!P74),\"\"),6)","v":2.7181E-2},{"$f":"IFERROR((1/'BS Rates'!Q74),\"\")","v":""},{"$f":"ROUND(IFERROR((1/'BS Rates'!R74),\"\"),6)","v":0.46628700000000001},{"$f":"IFERROR((1/'BS Rates'!S74),\"\")","v":""},{"$f":"IFERROR((1/'BS Rates'!T74),\"\")","v":""},{"$f":"IFERROR((1/'BS Rates'!U74),\"\")","v":""},{"$f":"IFERROR((1/'BS Rates'!V74),\"\")","v":""},{"$f":"IFERROR((1/'BS Rates'!W74),\"\")","v":""},{"$f":"IFERROR((1/'BS Rates'!X74),\"\")","v":""},{"$f":"IFERROR((1/'BS Rates'!Y74),\"\")","v":""},{"$f":"IFERROR((1/'BS Rates'!Z74),\"\")","v":""},{"$f":"IFERROR((1/'BS Rates'!AA74),\"\")","v":""},{"$f":"IFERROR((1/'BS Rates'!AB74),\"\")","v":""},{"$f":"IFERROR((1/'BS Rates'!AC74),\"\")","v":""},{"$f":"IFERROR((1/'BS Rates'!AD74),\"\")","v":""}]
[null,"2006-09-06",{"$f":"IFERROR((1/'BS Rates'!C75),\"\")","v":0.9009009009009008},{"$f":"ROUND(IFERROR((1/'BS Rates'!D75),\"\"),6)","v":0.124378},{"$f":"IFERROR((1/'BS Rates'!E75),\"\")","v":4.0812162024283236E-4},{"$f":"IFERROR((1/'BS Rates'!F75),\"\")","v":1.2658227848101264},{"$f":"IFERROR((1/'BS Rates'!G75),\"\")","v":0.12820512820512822},{"$f":"IFERROR((1/'BS Rates'!H75),\"\")","v":8.5012326787384171E-3},{"$f":"IFERROR((1/'BS Rates'!I75),\"\")","v":1.0443973305204232E-3},{"$f":"IFERROR((1/'BS Rates'!J75),\"\")","v":0.125},{"$f":"IFERROR((1/'BS Rates'!K75),\"\")","v":0.2710027100271003},{"$f":"IFERROR((1/'BS Rates'!L75),\"\")","v":""},{"$f":"ROUND(IFERROR((1/'BS Rates'!M75),\"\"),6)","v":1.9861E-2},{"$f":"ROUND(IFERROR((1/'BS Rates'!N75),\"\"),6)","v":0.62893100000000002},{"$f":"ROUND(IFERROR((1/'BS Rates'!O75),\"\"),6)","v":3.0303E-2},{"$f":"ROUND(IFERROR((1/'BS Rates'!P75),\"\"),6)","v":2.6616999999999998E-2},{"$f":"IFERROR((1/'BS Rates'!Q75),\"\")","v":""},{"$f":"ROUND(IFERROR((1/'BS Rates'!R75),\"\"),6)","v":0.46628700000000001},{"$f":"IFERROR((1/'BS Rates'!S75),\"\")","v":""},{"$f":"IFERROR((1/'BS Rates'!T75),\"\")","v":""},{"$f":"IFERROR((1/'BS Rates'!U75),\"\")","v":""},{"$f":"IFERROR((1/'BS Rates'!V75),\"\")","v":""},{"$f":"IFERROR((1/'BS Rates'!W75),\"\")","v":""},{"$f":"IFERROR((1/'BS Rates'!X75),\"\")","v":""},{"$f":"IFERROR((1/'BS Rates'!Y75),\"\")","v":""},{"$f":"IFERROR((1/'BS Rates'!Z75),\"\")","v":""},{"$f":"IFERROR((1/'BS Rates'!AA75),\"\")","v":""},{"$f":"IFERROR((1/'BS Rates'!AB75),\"\")","v":""},{"$f":"IFERROR((1/'BS Rates'!AC75),\"\")","v":""},{"$f":"IFERROR((1/'BS Rates'!AD75),\"\")","v":""}]
[null,"2006-08-06",{"$f":"IFERROR((1/'BS Rates'!C76),\"\")","v":0.9009009009009008},{"$f":"ROUND(IFERROR((1/'BS Rates'!D76),\"\"),6)","v":0.124378},{"$f":"IFERROR((1/'BS Rates'!E76),\"\")","v":4.0629596223072732E-4},{"$f":"IFERROR((1/'BS Rates'!F76),\"\")","v":1.2820512820512819},{"$f":"IFERROR((1/'BS Rates'!G76),\"\")","v":0.12820512820512822},{"$f":"IFERROR((1/'BS Rates'!H76),\"\")","v":8.5513938772019838E-3},{"$f":"IFERROR((1/'BS Rates'!I76),\"\")","v":1.0233948052479685E-3},{"$f":"IFERROR((1/'BS Rates'!J76),\"\")","v":0.125},{"$f":"IFERROR((1/'BS Rates'!K76),\"\")","v":0.27173913043478259},{"$f":"IFERROR((1/'BS Rates'!L76),\"\")","v":""},{"$f":"ROUND(IFERROR((1/'BS Rates'!M76),\"\"),6)","v":1.9573E-2},{"$f":"ROUND(IFERROR((1/'BS Rates'!N76),\"\"),6)","v":0.63694300000000004},{"$f":"ROUND(IFERROR((1/'BS Rates'!O76),\"\"),6)","v":3.0377000000000001E-2},{"$f":"ROUND(IFERROR((1/'BS Rates'!P76),\"\"),6)","v":2.6603000000000002E-2},{"$f":"IFERROR((1/'BS Rates'!Q76),\"\")","v":""},{"$f":"ROUND(IFERROR((1/'BS Rates'!R76),\"\"),6)","v":0.46628700000000001},{"$f":"IFERROR((1/'BS Rates'!S76),\"\")","v":""},{"$f":"IFERROR((1/'BS Rates'!T76),\"\")","v":""},{"$f":"IFERROR((1/'BS Rates'!U76),\"\")","v":""},{"$f":"IFERROR((1/'BS Rates'!V76),\"\")","v":""},{"$f":"IFERROR((1/'BS Rates'!W76),\"\")","v":""},{"$f":"IFERROR((1/'BS Rates'!X76),\"\")","v":""},{"$f":"IFERROR((1/'BS Rates'!Y76),\"\")","v":""},{"$f":"IFERROR((1/'BS Rates'!Z76),\"\")","v":""},{"$f":"IFERROR((1/'BS Rates'!AA76),\"\")","v":""},{"$f":"IFERROR((1/'BS Rates'!AB76),\"\")","v":""},{"$f":"IFERROR((1/'BS Rates'!AC76),\"\")","v":""},{"$f":"IFERROR((1/'BS Rates'!AD76),\"\")","v":""}]
[null,"2006-07-06",{"$f":"IFERROR((1/'BS Rates'!C77),\"\")","v":0.88495575221238942},{"$f":"ROUND(IFERROR((1/'BS Rates'!D77),\"\"),6)","v":0.124378},{"$f":"IFERROR((1/'BS Rates'!E77),\"\")","v":3.946641408161654E-4},{"$f":"IFERROR((1/'BS Rates'!F77),\"\")","v":1.2820512820512819},{"$f":"IFERROR((1/'BS Rates'!G77),\"\")","v":0.12820512820512822},{"$f":"IFERROR((1/'BS Rates'!H77),\"\")","v":8.7214372928658638E-3},{"$f":"IFERROR((1/'BS Rates'!I77),\"\")","v":1.0384970870156709E-3},{"$f":"IFERROR((1/'BS Rates'!J77),\"\")","v":0.125},{"$f":"IFERROR((1/'BS Rates'!K77),\"\")","v":0.27247956403269757},{"$f":"IFERROR((1/'BS Rates'!L77),\"\")","v":""},{"$f":"ROUND(IFERROR((1/'BS Rates'!M77),\"\"),6)","v":1.9354E-2},{"$f":"ROUND(IFERROR((1/'BS Rates'!N77),\"\"),6)","v":0.632911},{"$f":"ROUND(IFERROR((1/'BS Rates'!O77),\"\"),6)","v":3.0460000000000001E-2},{"$f":"ROUND(IFERROR((1/'BS Rates'!P77),\"\"),6)","v":2.6377999999999999E-2},{"$f":"IFERROR((1/'BS Rates'!Q77),\"\")","v":""},{"$f":"ROUND(IFERROR((1/'BS Rates'!R77),\"\"),6)","v":0.46628700000000001},{"$f":"IFERROR((1/'BS Rates'!S77),\"\")","v":""},{"$f":"IFERROR((1/'BS Rates'!T77),\"\")","v":""},{"$f":"IFERROR((1/'BS Rates'!U77),\"\")","v":""},{"$f":"IFERROR((1/'BS Rates'!V77),\"\")","v":""},{"$f":"IFERROR((1/'BS Rates'!W77),\"\")","v":""},{"$f":"IFERROR((1/'BS Rates'!X77),\"\")","v":""},{"$f":"IFERROR((1/'BS Rates'!Y77),\"\")","v":""},{"$f":"IFERROR((1/'BS Rates'!Z77),\"\")","v":""},{"$f":"IFERROR((1/'BS Rates'!AA77),\"\")","v":""},{"$f":"IFERROR((1/'BS Rates'!AB77),\"\")","v":""},{"$f":"IFERROR((1/'BS Rates'!AC77),\"\")","v":""},{"$f":"IFERROR((1/'BS Rates'!AD77),\"\")","v":""}]
[null,"2006-06-06",{"$f":"IFERROR((1/'BS Rates'!C78),\"\")","v":0.89285714285714279},{"$f":"ROUND(IFERROR((1/'BS Rates'!D78),\"\"),6)","v":0.124378},{"$f":"IFERROR((1/'BS Rates'!E78),\"\")","v":3.6408650695405232E-4},{"$f":"IFERROR((1/'BS Rates'!F78),\"\")","v":1.25},{"$f":"IFERROR((1/'BS Rates'!G78),\"\")","v":0.12820512820512822},{"$f":"IFERROR((1/'BS Rates'!H78),\"\")","v":8.5969738651994511E-3},{"$f":"IFERROR((1/'BS Rates'!I78),\"\")","v":1.0301950159165129E-3},{"$f":"IFERROR((1/'BS Rates'!J78),\"\")","v":0.125},{"$f":"IFERROR((1/'BS Rates'!K78),\"\")","v":0.27173913043478259},{"$f":"IFERROR((1/'BS Rates'!L78),\"\")","v":""},{"$f":"ROUND(IFERROR((1/'BS Rates'!M78),\"\"),6)","v":1.8622E-2},{"$f":"ROUND(IFERROR((1/'BS Rates'!N78),\"\"),6)","v":0.625},{"$f":"ROUND(IFERROR((1/'BS Rates'!O78),\"\"),6)","v":3.0655999999999999E-2},{"$f":"ROUND(IFERROR((1/'BS Rates'!P78),\"\"),6)","v":2.5994E-2},{"$f":"IFERROR((1/'BS Rates'!Q78),\"\")","v":""},{"$f":"ROUND(IFERROR((1/'BS Rates'!R78),\"\"),6)","v":0.46628700000000001},{"$f":"IFERROR((1/'BS Rates'!S78),\"\")","v":""},{"$f":"IFERROR((1/'BS Rates'!T78),\"\")","v":""},{"$f":"IFERROR((1/'BS Rates'!U78),\"\")","v":""},{"$f":"IFERROR((1/'BS Rates'!V78),\"\")","v":""},{"$f":"IFERROR((1/'BS Rates'!W78),\"\")","v":""},{"$f":"IFERROR((1/'BS Rates'!X78),\"\")","v":""},{"$f":"IFERROR((1/'BS Rates'!Y78),\"\")","v":""},{"$f":"IFERROR((1/'BS Rates'!Z78),\"\")","v":""},{"$f":"IFERROR((1/'BS Rates'!AA78),\"\")","v":""},{"$f":"IFERROR((1/'BS Rates'!AB78),\"\")","v":""},{"$f":"IFERROR((1/'BS Rates'!AC78),\"\")","v":""},{"$f":"IFERROR((1/'BS Rates'!AD78),\"\")","v":""}]
[null,"2006-05-06",{"$f":"IFERROR((1/'BS Rates'!C79),\"\")","v":0.90909090909090906},{"$f":"ROUND(IFERROR((1/'BS Rates'!D79),\"\"),6)","v":0.124378},{"$f":"IFERROR((1/'BS Rates'!E79),\"\")","v":3.9269585705870805E-4},{"$f":"IFERROR((1/'BS Rates'!F79),\"\")","v":1.2820512820512819},{"$f":"IFERROR((1/'BS Rates'!G79),\"\")","v":0.12820512820512822},{"$f":"IFERROR((1/'BS Rates'!H79),\"\")","v":8.9150396719265401E-3},{"$f":"IFERROR((1/'BS Rates'!I79),\"\")","v":1.0462002008704385E-3},{"$f":"IFERROR((1/'BS Rates'!J79),\"\")","v":0.125},{"$f":"IFERROR((1/'BS Rates'!K79),\"\")","v":0.27624309392265195},{"$f":"IFERROR((1/'BS Rates'!L79),\"\")","v":""},{"$f":"ROUND(IFERROR((1/'BS Rates'!M79),\"\"),6)","v":1.8992999999999999E-2},{"$f":"ROUND(IFERROR((1/'BS Rates'!N79),\"\"),6)","v":0.632911},{"$f":"ROUND(IFERROR((1/'BS Rates'!O79),\"\"),6)","v":3.1161999999999999E-2},{"$f":"ROUND(IFERROR((1/'BS Rates'!P79),\"\"),6)","v":2.6164E-2},{"$f":"IFERROR((1/'BS Rates'!Q79),\"\")","v":""},{"$f":"ROUND(IFERROR((1/'BS Rates'!R79),\"\"),6)","v":0.46628700000000001},{"$f":"IFERROR((1/'BS Rates'!S79),\"\")","v":""},{"$f":"IFERROR((1/'BS Rates'!T79),\"\")","v":""},{"$f":"IFERROR((1/'BS Rates'!U79),\"\")","v":""},{"$f":"IFERROR((1/'BS Rates'!V79),\"\")","v":""},{"$f":"IFERROR((1/'BS Rates'!W79),\"\")","v":""},{"$f":"IFERROR((1/'BS Rates'!X79),\"\")","v":""},{"$f":"IFERROR((1/'BS Rates'!Y79),\"\")","v":""},{"$f":"IFERROR((1/'BS Rates'!Z79),\"\")","v":""},{"$f":"IFERROR((1/'BS Rates'!AA79),\"\")","v":""},{"$f":"IFERROR((1/'BS Rates'!AB79),\"\")","v":""},{"$f":"IFERROR((1/'BS Rates'!AC79),\"\")","v":""},{"$f":"IFERROR((1/'BS Rates'!AD79),\"\")","v":""}]
[null,"2006-04-06",{"$f":"IFERROR((1/'BS Rates'!C80),\"\")","v":0.89285714285714279},{"$f":"ROUND(IFERROR((1/'BS Rates'!D80),\"\"),6)","v":0.124378},{"$f":"IFERROR((1/'BS Rates'!E80),\"\")","v":4.1222834152293634E-4},{"$f":"IFERROR((1/'BS Rates'!F80),\"\")","v":1.25},{"$f":"IFERROR((1/'BS Rates'!G80),\"\")","v":0.12820512820512822},{"$f":"IFERROR((1/'BS Rates'!H80),\"\")","v":8.7596355991590748E-3},{"$f":"IFERROR((1/'BS Rates'!I80),\"\")","v":1.0520003787201362E-3},{"$f":"IFERROR((1/'BS Rates'!J80),\"\")","v":0.125},{"$f":"IFERROR((1/'BS Rates'!K80),\"\")","v":0.27548209366391185},{"$f":"IFERROR((1/'BS Rates'!L80),\"\")","v":""},{"$f":"ROUND(IFERROR((1/'BS Rates'!M80),\"\"),6)","v":1.9286000000000001E-2},{"$f":"ROUND(IFERROR((1/'BS Rates'!N80),\"\"),6)","v":0.632911},{"$f":"ROUND(IFERROR((1/'BS Rates'!O80),\"\"),6)","v":3.1328000000000002E-2},{"$f":"ROUND(IFERROR((1/'BS Rates'!P80),\"\"),6)","v":2.6644999999999999E-2},{"$f":"IFERROR((1/'BS Rates'!Q80),\"\")","v":""},{"$f":"ROUND(IFERROR((1/'BS Rates'!R80),\"\"),6)","v":0.46628700000000001},{"$f":"IFERROR((1/'BS Rates'!S80),\"\")","v":""},{"$f":"IFERROR((1/'BS Rates'!T80),\"\")","v":""},{"$f":"IFERROR((1/'BS Rates'!U80),\"\")","v":""},{"$f":"IFERROR((1/'BS Rates'!V80),\"\")","v":""},{"$f":"IFERROR((1/'BS Rates'!W80),\"\")","v":""},{"$f":"IFERROR((1/'BS Rates'!X80),\"\")","v":""},{"$f":"IFERROR((1/'BS Rates'!Y80),\"\")","v":""},{"$f":"IFERROR((1/'BS Rates'!Z80),\"\")","v":""},{"$f":"IFERROR((1/'BS Rates'!AA80),\"\")","v":""},{"$f":"IFERROR((1/'BS Rates'!AB80),\"\")","v":""},{"$f":"IFERROR((1/'BS Rates'!AC80),\"\")","v":""},{"$f":"IFERROR((1/'BS Rates'!AD80),\"\")","v":""}]
[null,"2006-03-06",{"$f":"IFERROR((1/'BS Rates'!C81),\"\")","v":0.85470085470085477},{"$f":"ROUND(IFERROR((1/'BS Rates'!D81),\"\"),6)","v":0.124378},{"$f":"IFERROR((1/'BS Rates'!E81),\"\")","v":4.276080886346046E-4},{"$f":"IFERROR((1/'BS Rates'!F81),\"\")","v":1.2048192771084338},{"$f":"IFERROR((1/'BS Rates'!G81),\"\")","v":0.12820512820512822},{"$f":"IFERROR((1/'BS Rates'!H81),\"\")","v":8.504124500382685E-3},{"$f":"IFERROR((1/'BS Rates'!I81),\"\")","v":1.0147030471532505E-3},{"$f":"IFERROR((1/'BS Rates'!J81),\"\")","v":0.125},{"$f":"IFERROR((1/'BS Rates'!K81),\"\")","v":0.2710027100271003},{"$f":"IFERROR((1/'BS Rates'!L81),\"\")","v":""},{"$f":"ROUND(IFERROR((1/'BS Rates'!M81),\"\"),6)","v":1.9474000000000002E-2},{"$f":"ROUND(IFERROR((1/'BS Rates'!N81),\"\"),6)","v":0.61728400000000005},{"$f":"ROUND(IFERROR((1/'BS Rates'!O81),\"\"),6)","v":3.0703000000000001E-2},{"$f":"ROUND(IFERROR((1/'BS Rates'!P81),\"\"),6)","v":2.5714000000000001E-2},{"$f":"IFERROR((1/'BS Rates'!Q81),\"\")","v":""},{"$f":"ROUND(IFERROR((1/'BS Rates'!R81),\"\"),6)","v":0.46628700000000001},{"$f":"IFERROR((1/'BS Rates'!S81),\"\")","v":""},{"$f":"IFERROR((1/'BS Rates'!T81),\"\")","v":""},{"$f":"IFERROR((1/'BS Rates'!U81),\"\")","v":""},{"$f":"IFERROR((1/'BS Rates'!V81),\"\")","v":""},{"$f":"IFERROR((1/'BS Rates'!W81),\"\")","v":""},{"$f":"IFERROR((1/'BS Rates'!X81),\"\")","v":""},{"$f":"IFERROR((1/'BS Rates'!Y81),\"\")","v":""},{"$f":"IFERROR((1/'BS Rates'!Z81),\"\")","v":""},{"$f":"IFERROR((1/'BS Rates'!AA81),\"\")","v":""},{"$f":"IFERROR((1/'BS Rates'!AB81),\"\")","v":""},{"$f":"IFERROR((1/'BS Rates'!AC81),\"\")","v":""},{"$f":"IFERROR((1/'BS Rates'!AD81),\"\")","v":""}]
[null,"2006-02-06",{"$f":"IFERROR((1/'BS Rates'!C82),\"\")","v":0.86956521739130443},{"$f":"ROUND(IFERROR((1/'BS Rates'!D82),\"\"),6)","v":0.124378},{"$f":"IFERROR((1/'BS Rates'!E82),\"\")","v":4.4499623978177383E-4},{"$f":"IFERROR((1/'BS Rates'!F82),\"\")","v":1.1904761904761905},{"$f":"IFERROR((1/'BS Rates'!G82),\"\")","v":0.12820512820512822},{"$f":"IFERROR((1/'BS Rates'!H82),\"\")","v":8.5977130083397819E-3},{"$f":"IFERROR((1/'BS Rates'!I82),\"\")","v":1.0179982083231532E-3},{"$f":"IFERROR((1/'BS Rates'!J82),\"\")","v":0.125},{"$f":"IFERROR((1/'BS Rates'!K82),\"\")","v":0.26809651474530832},{"$f":"IFERROR((1/'BS Rates'!L82),\"\")","v":""},{"$f":"ROUND(IFERROR((1/'BS Rates'!M82),\"\"),6)","v":1.9238000000000002E-2},{"$f":"ROUND(IFERROR((1/'BS Rates'!N82),\"\"),6)","v":0.61728400000000005},{"$f":"ROUND(IFERROR((1/'BS Rates'!O82),\"\"),6)","v":3.0779000000000001E-2},{"$f":"ROUND(IFERROR((1/'BS Rates'!P82),\"\"),6)","v":2.5419000000000001E-2},{"$f":"IFERROR((1/'BS Rates'!Q82),\"\")","v":""},{"$f":"ROUND(IFERROR((1/'BS Rates'!R82),\"\"),6)","v":0.46628700000000001},{"$f":"IFERROR((1/'BS Rates'!S82),\"\")","v":""},{"$f":"IFERROR((1/'BS Rates'!T82),\"\")","v":""},{"$f":"IFERROR((1/'BS Rates'!U82),\"\")","v":""},{"$f":"IFERROR((1/'BS Rates'!V82),\"\")","v":""},{"$f":"IFERROR((1/'BS Rates'!W82),\"\")","v":""},{"$f":"IFERROR((1/'BS Rates'!X82),\"\")","v":""},{"$f":"IFERROR((1/'BS Rates'!Y82),\"\")","v":""},{"$f":"IFERROR((1/'BS Rates'!Z82),\"\")","v":""},{"$f":"IFERROR((1/'BS Rates'!AA82),\"\")","v":""},{"$f":"IFERROR((1/'BS Rates'!AB82),\"\")","v":""},{"$f":"IFERROR((1/'BS Rates'!AC82),\"\")","v":""},{"$f":"IFERROR((1/'BS Rates'!AD82),\"\")","v":""}]
[null,"2006-01-06",{"$f":"IFERROR((1/'BS Rates'!C83),\"\")","v":0.86956521739130443},{"$f":"ROUND(IFERROR((1/'BS Rates'!D83),\"\"),6)","v":0.124378},{"$f":"IFERROR((1/'BS Rates'!E83),\"\")","v":4.4086656732473346E-4},{"$f":"IFERROR((1/'BS Rates'!F83),\"\")","v":1.2048192771084338},{"$f":"IFERROR((1/'BS Rates'!G83),\"\")","v":0.12820512820512822},{"$f":"IFERROR((1/'BS Rates'!H83),\"\")","v":8.5142613878246062E-3},{"$f":"IFERROR((1/'BS Rates'!I83),\"\")","v":1.0157956219208695E-3},{"$f":"IFERROR((1/'BS Rates'!J83),\"\")","v":0.12820512820512822},{"$f":"IFERROR((1/'BS Rates'!K83),\"\")","v":0.26666666666666666},{"$f":"IFERROR((1/'BS Rates'!L83),\"\")","v":""},{"$f":"ROUND(IFERROR((1/'BS Rates'!M83),\"\"),6)","v":1.9109000000000001E-2},{"$f":"ROUND(IFERROR((1/'BS Rates'!N83),\"\"),6)","v":0.61349699999999996},{"$f":"ROUND(IFERROR((1/'BS Rates'!O83),\"\"),6)","v":3.1220999999999999E-2},{"$f":"ROUND(IFERROR((1/'BS Rates'!P83),\"\"),6)","v":2.5543E-2},{"$f":"IFERROR((1/'BS Rates'!Q83),\"\")","v":""},{"$f":"ROUND(IFERROR((1/'BS Rates'!R83),\"\"),6)","v":0.46628700000000001},{"$f":"IFERROR((1/'BS Rates'!S83),\"\")","v":""},{"$f":"IFERROR((1/'BS Rates'!T83),\"\")","v":""},{"$f":"IFERROR((1/'BS Rates'!U83),\"\")","v":""},{"$f":"IFERROR((1/'BS Rates'!V83),\"\")","v":""},{"$f":"IFERROR((1/'BS Rates'!W83),\"\")","v":""},{"$f":"IFERROR((1/'BS Rates'!X83),\"\")","v":""},{"$f":"IFERROR((1/'BS Rates'!Y83),\"\")","v":""},{"$f":"IFERROR((1/'BS Rates'!Z83),\"\")","v":""},{"$f":"IFERROR((1/'BS Rates'!AA83),\"\")","v":""},{"$f":"IFERROR((1/'BS Rates'!AB83),\"\")","v":""},{"$f":"IFERROR((1/'BS Rates'!AC83),\"\")","v":""},{"$f":"IFERROR((1/'BS Rates'!AD83),\"\")","v":""}]
[{"$f":"A72-1","v":2005},"2005-12-05",{"$f":"IFERROR((1/'BS Rates'!C84),\"\")","v":0.85470085470085477},{"$f":"IFERROR((1/'BS Rates'!D84),\"\")","v":""},{"$f":"IFERROR((1/'BS Rates'!E84),\"\")","v":4.3738791934566765E-4},{"$f":"IFERROR((1/'BS Rates'!F84),\"\")","v":1.1904761904761905},{"$f":"IFERROR((1/'BS Rates'!G84),\"\")","v":0.12820512820512822},{"$f":"IFERROR((1/'BS Rates'!H84),\"\")","v":8.5207907293796872E-3},{"$f":"IFERROR((1/'BS Rates'!I84),\"\")","v":9.7970060349557167E-4},{"$f":"IFERROR((1/'BS Rates'!J84),\"\")","v":0.12820512820512822},{"$f":"IFERROR((1/'BS Rates'!K84),\"\")","v":0.26385224274406333},{"$f":"IFERROR((1/'BS Rates'!L84),\"\")","v":""},{"$f":"ROUND(IFERROR((1/'BS Rates'!M84),\"\"),6)","v":1.8832000000000002E-2},{"$f":"ROUND(IFERROR((1/'BS Rates'!N84),\"\"),6)","v":0.59880199999999995},{"$f":"ROUND(IFERROR((1/'BS Rates'!O84),\"\"),6)","v":3.0349000000000001E-2},{"$f":"ROUND(IFERROR((1/'BS Rates'!P84),\"\"),6)","v":2.4365999999999999E-2},{"$f":"IFERROR((1/'BS Rates'!Q84),\"\")","v":""},{"$f":"ROUND(IFERROR((1/'BS Rates'!R84),\"\"),6)","v":0.46628700000000001},{"$f":"IFERROR((1/'BS Rates'!S84),\"\")","v":""},{"$f":"IFERROR((1/'BS Rates'!T84),\"\")","v":""},{"$f":"IFERROR((1/'BS Rates'!U84),\"\")","v":""},{"$f":"IFERROR((1/'BS Rates'!V84),\"\")","v":""},{"$f":"IFERROR((1/'BS Rates'!W84),\"\")","v":""},{"$f":"IFERROR((1/'BS Rates'!X84),\"\")","v":""},{"$f":"IFERROR((1/'BS Rates'!Y84),\"\")","v":""},{"$f":"IFERROR((1/'BS Rates'!Z84),\"\")","v":""},{"$f":"IFERROR((1/'BS Rates'!AA84),\"\")","v":""},{"$f":"IFERROR((1/'BS Rates'!AB84),\"\")","v":""},{"$f":"IFERROR((1/'BS Rates'!AC84),\"\")","v":""},{"$f":"IFERROR((1/'BS Rates'!AD84),\"\")","v":""}]
[null,"2005-11-05",{"$f":"IFERROR((1/'BS Rates'!C85),\"\")","v":0.85470085470085477},null,{"$f":"IFERROR((1/'BS Rates'!E85),\"\")","v":4.3961841121906191E-4},{"$f":"IFERROR((1/'BS Rates'!F85),\"\")","v":1.1764705882352942},{"$f":"IFERROR((1/'BS Rates'!G85),\"\")","v":0.12820512820512822},{"$f":"IFERROR((1/'BS Rates'!H85),\"\")","v":8.35282325425994E-3},{"$f":"IFERROR((1/'BS Rates'!I85),\"\")","v":9.5130280919719548E-4},{"$f":"IFERROR((1/'BS Rates'!J85),\"\")","v":0.12820512820512822},{"$f":"IFERROR((1/'BS Rates'!K85),\"\")","v":0.26455026455026459},{"$f":"IFERROR((1/'BS Rates'!L85),\"\")","v":""},{"$f":"ROUND(IFERROR((1/'BS Rates'!M85),\"\"),6)","v":1.8525E-2},{"$f":"ROUND(IFERROR((1/'BS Rates'!N85),\"\"),6)","v":0.58823499999999995},{"$f":"ROUND(IFERROR((1/'BS Rates'!O85),\"\"),6)","v":2.9789E-2},{"$f":"ROUND(IFERROR((1/'BS Rates'!P85),\"\"),6)","v":2.4206999999999999E-2},{"$f":"IFERROR((1/'BS Rates'!Q85),\"\")","v":""},{"$f":"ROUND(IFERROR((1/'BS Rates'!R85),\"\"),6)","v":0.46628700000000001},{"$f":"IFERROR((1/'BS Rates'!S85),\"\")","v":""},{"$f":"IFERROR((1/'BS Rates'!T85),\"\")","v":""},{"$f":"IFERROR((1/'BS Rates'!U85),\"\")","v":""},{"$f":"IFERROR((1/'BS Rates'!V85),\"\")","v":""},{"$f":"IFERROR((1/'BS Rates'!W85),\"\")","v":""},{"$f":"IFERROR((1/'BS Rates'!X85),\"\")","v":""},{"$f":"IFERROR((1/'BS Rates'!Y85),\"\")","v":""},{"$f":"IFERROR((1/'BS Rates'!Z85),\"\")","v":""},{"$f":"IFERROR((1/'BS Rates'!AA85),\"\")","v":""},{"$f":"IFERROR((1/'BS Rates'!AB85),\"\")","v":""},{"$f":"IFERROR((1/'BS Rates'!AC85),\"\")","v":""},{"$f":"IFERROR((1/'BS Rates'!AD85),\"\")","v":""}]
[null,"2005-10-05",{"$f":"IFERROR((1/'BS Rates'!C86),\"\")","v":0.84745762711864414},null,{"$f":"IFERROR((1/'BS Rates'!E86),\"\")","v":4.3630017452006982E-4},{"$f":"IFERROR((1/'BS Rates'!F86),\"\")","v":1.2048192771084338},{"$f":"IFERROR((1/'BS Rates'!G86),\"\")","v":0.12820512820512822},{"$f":"IFERROR((1/'BS Rates'!H86),\"\")","v":8.6445366528354068E-3},{"$f":"IFERROR((1/'BS Rates'!I86),\"\")","v":9.5739588319770225E-4},{"$f":"IFERROR((1/'BS Rates'!J86),\"\")","v":0.12820512820512822},{"$f":"IFERROR((1/'BS Rates'!K86),\"\")","v":0.26455026455026459},{"$f":"IFERROR((1/'BS Rates'!L86),\"\")","v":""},{"$f":"ROUND(IFERROR((1/'BS Rates'!M86),\"\"),6)","v":1.8172000000000001E-2},{"$f":"ROUND(IFERROR((1/'BS Rates'!N86),\"\"),6)","v":0.58823499999999995},{"$f":"ROUND(IFERROR((1/'BS Rates'!O86),\"\"),6)","v":2.9727E-2},{"$f":"ROUND(IFERROR((1/'BS Rates'!P86),\"\"),6)","v":2.4479999999999998E-2},{"$f":"IFERROR((1/'BS Rates'!Q86),\"\")","v":""},{"$f":"ROUND(IFERROR((1/'BS Rates'!R86),\"\"),6)","v":0.46628700000000001},{"$f":"IFERROR((1/'BS Rates'!S86),\"\")","v":""},{"$f":"IFERROR((1/'BS Rates'!T86),\"\")","v":""},{"$f":"IFERROR((1/'BS Rates'!U86),\"\")","v":""},{"$f":"IFERROR((1/'BS Rates'!V86),\"\")","v":""},{"$f":"IFERROR((1/'BS Rates'!W86),\"\")","v":""},{"$f":"IFERROR((1/'BS Rates'!X86),\"\")","v":""},{"$f":"IFERROR((1/'BS Rates'!Y86),\"\")","v":""},{"$f":"IFERROR((1/'BS Rates'!Z86),\"\")","v":""},{"$f":"IFERROR((1/'BS Rates'!AA86),\"\")","v":""},{"$f":"IFERROR((1/'BS Rates'!AB86),\"\")","v":""},{"$f":"IFERROR((1/'BS Rates'!AC86),\"\")","v":""},{"$f":"IFERROR((1/'BS Rates'!AD86),\"\")","v":""}]
[null,"2005-09-05",{"$f":"IFERROR((1/'BS Rates'!C87),\"\")","v":0.85470085470085477},null,{"$f":"IFERROR((1/'BS Rates'!E87),\"\")","v":4.3630017452006982E-4},{"$f":"IFERROR((1/'BS Rates'!F87),\"\")","v":1.2048192771084338},{"$f":"IFERROR((1/'BS Rates'!G87),\"\")","v":0.12820512820512822},{"$f":"IFERROR((1/'BS Rates'!H87),\"\")","v":8.8487744447394035E-3},{"$f":"IFERROR((1/'BS Rates'!I87),\"\")","v":9.5120327213925619E-4},{"$f":"IFERROR((1/'BS Rates'!J87),\"\")","v":0.11990407673860912},{"$f":"IFERROR((1/'BS Rates'!K87),\"\")","v":0.26525198938992045},{"$f":"IFERROR((1/'BS Rates'!L87),\"\")","v":""},{"$f":"ROUND(IFERROR((1/'BS Rates'!M87),\"\"),6)","v":1.7808999999999998E-2},{"$f":"ROUND(IFERROR((1/'BS Rates'!N87),\"\"),6)","v":0.59171600000000002},{"$f":"ROUND(IFERROR((1/'BS Rates'!O87),\"\"),6)","v":3.0057E-2},{"$f":"ROUND(IFERROR((1/'BS Rates'!P87),\"\"),6)","v":2.4343E-2},{"$f":"IFERROR((1/'BS Rates'!Q87),\"\")","v":""},{"$f":"ROUND(IFERROR((1/'BS Rates'!R87),\"\"),6)","v":0.46628700000000001},{"$f":"IFERROR((1/'BS Rates'!S87),\"\")","v":""},{"$f":"IFERROR((1/'BS Rates'!T87),\"\")","v":""},{"$f":"IFERROR((1/'BS Rates'!U87),\"\")","v":""},{"$f":"IFERROR((1/'BS Rates'!V87),\"\")","v":""},{"$f":"IFERROR((1/'BS Rates'!W87),\"\")","v":""},{"$f":"IFERROR((1/'BS Rates'!X87),\"\")","v":""},{"$f":"IFERROR((1/'BS Rates'!Y87),\"\")","v":""},{"$f":"IFERROR((1/'BS Rates'!Z87),\"\")","v":""},{"$f":"IFERROR((1/'BS Rates'!AA87),\"\")","v":""},{"$f":"IFERROR((1/'BS Rates'!AB87),\"\")","v":""},{"$f":"IFERROR((1/'BS Rates'!AC87),\"\")","v":""},{"$f":"IFERROR((1/'BS Rates'!AD87),\"\")","v":""}]
[null,"2005-08-05",{"$f":"IFERROR((1/'BS Rates'!C88),\"\")","v":0.84033613445378152},null,{"$f":"IFERROR((1/'BS Rates'!E88),\"\")","v":4.3361373688318447E-4},{"$f":"IFERROR((1/'BS Rates'!F88),\"\")","v":1.2195121951219512},{"$f":"IFERROR((1/'BS Rates'!G88),\"\")","v":0.12820512820512822},{"$f":"IFERROR((1/'BS Rates'!H88),\"\")","v":8.9847259658580418E-3},{"$f":"IFERROR((1/'BS Rates'!I88),\"\")","v":9.6824167312161119E-4},{"$f":"IFERROR((1/'BS Rates'!J88),\"\")","v":0.12019230769230768},{"$f":"IFERROR((1/'BS Rates'!K88),\"\")","v":0.26525198938992045},{"$f":"IFERROR((1/'BS Rates'!L88),\"\")","v":""},{"$f":"ROUND(IFERROR((1/'BS Rates'!M88),\"\"),6)","v":1.7774999999999999E-2},{"$f":"ROUND(IFERROR((1/'BS Rates'!N88),\"\"),6)","v":0.59523800000000004},{"$f":"ROUND(IFERROR((1/'BS Rates'!O88),\"\"),6)","v":3.0581000000000001E-2},{"$f":"ROUND(IFERROR((1/'BS Rates'!P88),\"\"),6)","v":2.4289999999999999E-2},{"$f":"IFERROR((1/'BS Rates'!Q88),\"\")","v":""},{"$f":"ROUND(IFERROR((1/'BS Rates'!R88),\"\"),6)","v":0.46628700000000001},{"$f":"IFERROR((1/'BS Rates'!S88),\"\")","v":""},{"$f":"IFERROR((1/'BS Rates'!T88),\"\")","v":""},{"$f":"IFERROR((1/'BS Rates'!U88),\"\")","v":""},{"$f":"IFERROR((1/'BS Rates'!V88),\"\")","v":""},{"$f":"IFERROR((1/'BS Rates'!W88),\"\")","v":""},{"$f":"IFERROR((1/'BS Rates'!X88),\"\")","v":""},{"$f":"IFERROR((1/'BS Rates'!Y88),\"\")","v":""},{"$f":"IFERROR((1/'BS Rates'!Z88),\"\")","v":""},{"$f":"IFERROR((1/'BS Rates'!AA88),\"\")","v":""},{"$f":"IFERROR((1/'BS Rates'!AB88),\"\")","v":""},{"$f":"IFERROR((1/'BS Rates'!AC88),\"\")","v":""},{"$f":"IFERROR((1/'BS Rates'!AD88),\"\")","v":""}]
[null,"2005-07-05",{"$f":"IFERROR((1/'BS Rates'!C89),\"\")","v":0.81967213114754101},null,{"$f":"IFERROR((1/'BS Rates'!E89),\"\")","v":4.329004329004329E-4},{"$f":"IFERROR((1/'BS Rates'!F89),\"\")","v":1.2195121951219512},{"$f":"IFERROR((1/'BS Rates'!G89),\"\")","v":0.1287001287001287},{"$f":"IFERROR((1/'BS Rates'!H89),\"\")","v":8.8904694167852051E-3},{"$f":"IFERROR((1/'BS Rates'!I89),\"\")","v":9.7703957010258913E-4},{"$f":"IFERROR((1/'BS Rates'!J89),\"\")","v":0.12004801920768307},{"$f":"IFERROR((1/'BS Rates'!K89),\"\")","v":0.26666666666666666},{"$f":"IFERROR((1/'BS Rates'!L89),\"\")","v":""},{"$f":"ROUND(IFERROR((1/'BS Rates'!M89),\"\"),6)","v":1.7784000000000001E-2},{"$f":"ROUND(IFERROR((1/'BS Rates'!N89),\"\"),6)","v":0.60241},{"$f":"ROUND(IFERROR((1/'BS Rates'!O89),\"\"),6)","v":3.1299E-2},{"$f":"ROUND(IFERROR((1/'BS Rates'!P89),\"\"),6)","v":2.3991999999999999E-2},{"$f":"IFERROR((1/'BS Rates'!Q89),\"\")","v":""},{"$f":"ROUND(IFERROR((1/'BS Rates'!R89),\"\"),6)","v":0.46628700000000001},{"$f":"IFERROR((1/'BS Rates'!S89),\"\")","v":""},{"$f":"IFERROR((1/'BS Rates'!T89),\"\")","v":""},{"$f":"IFERROR((1/'BS Rates'!U89),\"\")","v":""},{"$f":"IFERROR((1/'BS Rates'!V89),\"\")","v":""},{"$f":"IFERROR((1/'BS Rates'!W89),\"\")","v":""},{"$f":"IFERROR((1/'BS Rates'!X89),\"\")","v":""},{"$f":"IFERROR((1/'BS Rates'!Y89),\"\")","v":""},{"$f":"IFERROR((1/'BS Rates'!Z89),\"\")","v":""},{"$f":"IFERROR((1/'BS Rates'!AA89),\"\")","v":""},{"$f":"IFERROR((1/'BS Rates'!AB89),\"\")","v":""},{"$f":"IFERROR((1/'BS Rates'!AC89),\"\")","v":""},{"$f":"IFERROR((1/'BS Rates'!AD89),\"\")","v":""}]
[null,"2005-06-05",{"$f":"IFERROR((1/'BS Rates'!C90),\"\")","v":0.81300813008130079},null,{"$f":"IFERROR((1/'BS Rates'!E90),\"\")","v":4.3062613039359233E-4},{"$f":"IFERROR((1/'BS Rates'!F90),\"\")","v":1.2195121951219512},{"$f":"IFERROR((1/'BS Rates'!G90),\"\")","v":0.12853470437017994},{"$f":"IFERROR((1/'BS Rates'!H90),\"\")","v":9.1474570069520686E-3},{"$f":"IFERROR((1/'BS Rates'!I90),\"\")","v":9.911785112498761E-4},{"$f":"IFERROR((1/'BS Rates'!J90),\"\")","v":0.12484394506866417},{"$f":"IFERROR((1/'BS Rates'!K90),\"\")","v":0.26315789473684209},{"$f":"IFERROR((1/'BS Rates'!L90),\"\")","v":""},{"$f":"ROUND(IFERROR((1/'BS Rates'!M90),\"\"),6)","v":1.7950000000000001E-2},{"$f":"ROUND(IFERROR((1/'BS Rates'!N90),\"\"),6)","v":0.59523800000000004},{"$f":"ROUND(IFERROR((1/'BS Rates'!O90),\"\"),6)","v":3.1927999999999998E-2},{"$f":"ROUND(IFERROR((1/'BS Rates'!P90),\"\"),6)","v":2.4343E-2},{"$f":"IFERROR((1/'BS Rates'!Q90),\"\")","v":""},{"$f":"ROUND(IFERROR((1/'BS Rates'!R90),\"\"),6)","v":0.46628700000000001},{"$f":"IFERROR((1/'BS Rates'!S90),\"\")","v":""},{"$f":"IFERROR((1/'BS Rates'!T90),\"\")","v":""},{"$f":"IFERROR((1/'BS Rates'!U90),\"\")","v":""},{"$f":"IFERROR((1/'BS Rates'!V90),\"\")","v":""},{"$f":"IFERROR((1/'BS Rates'!W90),\"\")","v":""},{"$f":"IFERROR((1/'BS Rates'!X90),\"\")","v":""},{"$f":"IFERROR((1/'BS Rates'!Y90),\"\")","v":""},{"$f":"IFERROR((1/'BS Rates'!Z90),\"\")","v":""},{"$f":"IFERROR((1/'BS Rates'!AA90),\"\")","v":""},{"$f":"IFERROR((1/'BS Rates'!AB90),\"\")","v":""},{"$f":"IFERROR((1/'BS Rates'!AC90),\"\")","v":""},{"$f":"IFERROR((1/'BS Rates'!AD90),\"\")","v":""}]
[null,"2005-05-05",{"$f":"IFERROR((1/'BS Rates'!C91),\"\")","v":0.78740157480314954},null,{"$f":"IFERROR((1/'BS Rates'!E91),\"\")","v":4.2735042735042735E-4},{"$f":"IFERROR((1/'BS Rates'!F91),\"\")","v":1.25},{"$f":"IFERROR((1/'BS Rates'!G91),\"\")","v":0.12836970474967907},{"$f":"IFERROR((1/'BS Rates'!H91),\"\")","v":9.24898261191269E-3},{"$f":"IFERROR((1/'BS Rates'!I91),\"\")","v":9.9206349206349201E-4},{"$f":"IFERROR((1/'BS Rates'!J91),\"\")","v":0.12484394506866417},{"$f":"IFERROR((1/'BS Rates'!K91),\"\")","v":0.26315789473684209},{"$f":"IFERROR((1/'BS Rates'!L91),\"\")","v":""},{"$f":"ROUND(IFERROR((1/'BS Rates'!M91),\"\"),6)","v":1.8328000000000001E-2},{"$f":"ROUND(IFERROR((1/'BS Rates'!N91),\"\"),6)","v":0.60241},{"$f":"ROUND(IFERROR((1/'BS Rates'!O91),\"\"),6)","v":3.1796999999999999E-2},{"$f":"ROUND(IFERROR((1/'BS Rates'!P91),\"\"),6)","v":2.5000000000000001E-2},{"$f":"IFERROR((1/'BS Rates'!Q91),\"\")","v":""},{"$f":"ROUND(IFERROR((1/'BS Rates'!R91),\"\"),6)","v":0.46628700000000001},{"$f":"IFERROR((1/'BS Rates'!S91),\"\")","v":""},{"$f":"IFERROR((1/'BS Rates'!T91),\"\")","v":""},{"$f":"IFERROR((1/'BS Rates'!U91),\"\")","v":""},{"$f":"IFERROR((1/'BS Rates'!V91),\"\")","v":""},{"$f":"IFERROR((1/'BS Rates'!W91),\"\")","v":""},{"$f":"IFERROR((1/'BS Rates'!X91),\"\")","v":""},{"$f":"IFERROR((1/'BS Rates'!Y91),\"\")","v":""},{"$f":"IFERROR((1/'BS Rates'!Z91),\"\")","v":""},{"$f":"IFERROR((1/'BS Rates'!AA91),\"\")","v":""},{"$f":"IFERROR((1/'BS Rates'!AB91),\"\")","v":""},{"$f":"IFERROR((1/'BS Rates'!AC91),\"\")","v":""},{"$f":"IFERROR((1/'BS Rates'!AD91),\"\")","v":""}]
[null,"2005-04-05",{"$f":"IFERROR((1/'BS Rates'!C92),\"\")","v":0.80645161290322587},null,{"$f":"IFERROR((1/'BS Rates'!E92),\"\")","v":4.2704018448135972E-4},{"$f":"IFERROR((1/'BS Rates'!F92),\"\")","v":1.3157894736842106},{"$f":"IFERROR((1/'BS Rates'!G92),\"\")","v":0.12820512820512822},{"$f":"IFERROR((1/'BS Rates'!H92),\"\")","v":9.3720712277413302E-3},{"$f":"IFERROR((1/'BS Rates'!I92),\"\")","v":9.9502487562189048E-4},{"$f":"IFERROR((1/'BS Rates'!J92),\"\")","v":0.12484394506866417},{"$f":"IFERROR((1/'BS Rates'!K92),\"\")","v":0.26315789473684209},{"$f":"IFERROR((1/'BS Rates'!L92),\"\")","v":""},{"$f":"ROUND(IFERROR((1/'BS Rates'!M92),\"\"),6)","v":1.8415999999999998E-2},{"$f":"ROUND(IFERROR((1/'BS Rates'!N92),\"\"),6)","v":0.60606099999999996},{"$f":"ROUND(IFERROR((1/'BS Rates'!O92),\"\"),6)","v":3.1866999999999999E-2},{"$f":"ROUND(IFERROR((1/'BS Rates'!P92),\"\"),6)","v":2.5406999999999999E-2},{"$f":"IFERROR((1/'BS Rates'!Q92),\"\")","v":""},{"$f":"ROUND(IFERROR((1/'BS Rates'!R92),\"\"),6)","v":0.46628700000000001},{"$f":"IFERROR((1/'BS Rates'!S92),\"\")","v":""},{"$f":"IFERROR((1/'BS Rates'!T92),\"\")","v":""},{"$f":"IFERROR((1/'BS Rates'!U92),\"\")","v":""},{"$f":"IFERROR((1/'BS Rates'!V92),\"\")","v":""},{"$f":"IFERROR((1/'BS Rates'!W92),\"\")","v":""},{"$f":"IFERROR((1/'BS Rates'!X92),\"\")","v":""},{"$f":"IFERROR((1/'BS Rates'!Y92),\"\")","v":""},{"$f":"IFERROR((1/'BS Rates'!Z92),\"\")","v":""},{"$f":"IFERROR((1/'BS Rates'!AA92),\"\")","v":""},{"$f":"IFERROR((1/'BS Rates'!AB92),\"\")","v":""},{"$f":"IFERROR((1/'BS Rates'!AC92),\"\")","v":""},{"$f":"IFERROR((1/'BS Rates'!AD92),\"\")","v":""}]
[null,"2005-03-05",{"$f":"IFERROR((1/'BS Rates'!C93),\"\")","v":0.83333333333333337},null,{"$f":"IFERROR((1/'BS Rates'!E93),\"\")","v":4.2220814861726832E-4},{"$f":"IFERROR((1/'BS Rates'!F93),\"\")","v":1.3333333333333333},{"$f":"IFERROR((1/'BS Rates'!G93),\"\")","v":0.12820512820512822},{"$f":"IFERROR((1/'BS Rates'!H93),\"\")","v":9.5501862286314597E-3},{"$f":"IFERROR((1/'BS Rates'!I93),\"\")","v":9.9601593625498006E-4},{"$f":"IFERROR((1/'BS Rates'!J93),\"\")","v":0.12484394506866417},{"$f":"IFERROR((1/'BS Rates'!K93),\"\")","v":0.26315789473684209},{"$f":"IFERROR((1/'BS Rates'!L93),\"\")","v":""},{"$f":"ROUND(IFERROR((1/'BS Rates'!M93),\"\"),6)","v":1.8450000000000001E-2},{"$f":"ROUND(IFERROR((1/'BS Rates'!N93),\"\"),6)","v":0.61728400000000005},{"$f":"ROUND(IFERROR((1/'BS Rates'!O93),\"\"),6)","v":3.2122999999999999E-2},{"$f":"ROUND(IFERROR((1/'BS Rates'!P93),\"\"),6)","v":2.5967E-2},{"$f":"IFERROR((1/'BS Rates'!Q93),\"\")","v":""},{"$f":"ROUND(IFERROR((1/'BS Rates'!R93),\"\"),6)","v":0.46628700000000001},{"$f":"IFERROR((1/'BS Rates'!S93),\"\")","v":""},{"$f":"IFERROR((1/'BS Rates'!T93),\"\")","v":""},{"$f":"IFERROR((1/'BS Rates'!U93),\"\")","v":""},{"$f":"IFERROR((1/'BS Rates'!V93),\"\")","v":""},{"$f":"IFERROR((1/'BS Rates'!W93),\"\")","v":""},{"$f":"IFERROR((1/'BS Rates'!X93),\"\")","v":""},{"$f":"IFERROR((1/'BS Rates'!Y93),\"\")","v":""},{"$f":"IFERROR((1/'BS Rates'!Z93),\"\")","v":""},{"$f":"IFERROR((1/'BS Rates'!AA93),\"\")","v":""},{"$f":"IFERROR((1/'BS Rates'!AB93),\"\")","v":""},{"$f":"IFERROR((1/'BS Rates'!AC93),\"\")","v":""},{"$f":"IFERROR((1/'BS Rates'!AD93),\"\")","v":""}]
[null,"2005-02-05",{"$f":"IFERROR((1/'BS Rates'!C94),\"\")","v":0.81300813008130079},null,{"$f":"IFERROR((1/'BS Rates'!E94),\"\")","v":4.3146222548215906E-4},{"$f":"IFERROR((1/'BS Rates'!F94),\"\")","v":1.2987012987012987},{"$f":"IFERROR((1/'BS Rates'!G94),\"\")","v":0.12820512820512822},{"$f":"IFERROR((1/'BS Rates'!H94),\"\")","v":9.4652153336488402E-3},{"$f":"IFERROR((1/'BS Rates'!I94),\"\")","v":9.765625E-4},{"$f":"IFERROR((1/'BS Rates'!J94),\"\")","v":0.12484394506866417},{"$f":"IFERROR((1/'BS Rates'!K94),\"\")","v":0.26315789473684209},{"$f":"IFERROR((1/'BS Rates'!L94),\"\")","v":""},{"$f":"ROUND(IFERROR((1/'BS Rates'!M94),\"\"),6)","v":1.8325000000000001E-2},{"$f":"ROUND(IFERROR((1/'BS Rates'!N94),\"\"),6)","v":0.60975599999999996},{"$f":"ROUND(IFERROR((1/'BS Rates'!O94),\"\"),6)","v":3.1786000000000002E-2},{"$f":"ROUND(IFERROR((1/'BS Rates'!P94),\"\"),6)","v":2.5940000000000001E-2},{"$f":"IFERROR((1/'BS Rates'!Q94),\"\")","v":""},{"$f":"ROUND(IFERROR((1/'BS Rates'!R94),\"\"),6)","v":0.52213900000000002},{"$f":"IFERROR((1/'BS Rates'!S94),\"\")","v":""},{"$f":"IFERROR((1/'BS Rates'!T94),\"\")","v":""},{"$f":"IFERROR((1/'BS Rates'!U94),\"\")","v":""},{"$f":"IFERROR((1/'BS Rates'!V94),\"\")","v":""},{"$f":"IFERROR((1/'BS Rates'!W94),\"\")","v":""},{"$f":"IFERROR((1/'BS Rates'!X94),\"\")","v":""},{"$f":"IFERROR((1/'BS Rates'!Y94),\"\")","v":""},{"$f":"IFERROR((1/'BS Rates'!Z94),\"\")","v":""},{"$f":"IFERROR((1/'BS Rates'!AA94),\"\")","v":""},{"$f":"IFERROR((1/'BS Rates'!AB94),\"\")","v":""},{"$f":"IFERROR((1/'BS Rates'!AC94),\"\")","v":""},{"$f":"IFERROR((1/'BS Rates'!AD94),\"\")","v":""}]
[null,"2005-01-05",{"$f":"IFERROR((1/'BS Rates'!C95),\"\")","v":0.81300813008130079},null,{"$f":"IFERROR((1/'BS Rates'!E95),\"\")","v":4.2149631190727084E-4},{"$f":"IFERROR((1/'BS Rates'!F95),\"\")","v":1.2987012987012987},{"$f":"IFERROR((1/'BS Rates'!G95),\"\")","v":0.12820512820512822},{"$f":"IFERROR((1/'BS Rates'!H95),\"\")","v":9.7314130011677685E-3},{"$f":"IFERROR((1/'BS Rates'!I95),\"\")","v":9.6796050721130586E-4},{"$f":"IFERROR((1/'BS Rates'!J95),\"\")","v":0.12484394506866417},{"$f":"IFERROR((1/'BS Rates'!K95),\"\")","v":0.26315789473684209},{"$f":"IFERROR((1/'BS Rates'!L95),\"\")","v":""},{"$f":"ROUND(IFERROR((1/'BS Rates'!M95),\"\"),6)","v":1.8067E-2},{"$f":"ROUND(IFERROR((1/'BS Rates'!N95),\"\"),6)","v":0.60975599999999996},{"$f":"ROUND(IFERROR((1/'BS Rates'!O95),\"\"),6)","v":3.1646000000000001E-2},{"$f":"ROUND(IFERROR((1/'BS Rates'!P95),\"\"),6)","v":2.5961000000000001E-2},{"$f":"IFERROR((1/'BS Rates'!Q95),\"\")","v":""},{"$f":"ROUND(IFERROR((1/'BS Rates'!R95),\"\"),6)","v":0.52213900000000002},{"$f":"IFERROR((1/'BS Rates'!S95),\"\")","v":""},{"$f":"IFERROR((1/'BS Rates'!T95),\"\")","v":""},{"$f":"IFERROR((1/'BS Rates'!U95),\"\")","v":""},{"$f":"IFERROR((1/'BS Rates'!V95),\"\")","v":""},{"$f":"IFERROR((1/'BS Rates'!W95),\"\")","v":""},{"$f":"IFERROR((1/'BS Rates'!X95),\"\")","v":""},{"$f":"IFERROR((1/'BS Rates'!Y95),\"\")","v":""},{"$f":"IFERROR((1/'BS Rates'!Z95),\"\")","v":""},{"$f":"IFERROR((1/'BS Rates'!AA95),\"\")","v":""},{"$f":"IFERROR((1/'BS Rates'!AB95),\"\")","v":""},{"$f":"IFERROR((1/'BS Rates'!AC95),\"\")","v":""},{"$f":"IFERROR((1/'BS Rates'!AD95),\"\")","v":""}]
[{"$f":"A84-1","v":2004},"2004-12-04",{"$f":"IFERROR((1/'BS Rates'!C96),\"\")","v":0.83333333333333337},{"$f":"IFERROR((1/'BS Rates'!D96),\"\")","v":""},{"$f":"IFERROR((1/'BS Rates'!E96),\"\")","v":4.2462845010615713E-4},{"$f":"IFERROR((1/'BS Rates'!F96),\"\")","v":1.3698630136986301},{"$f":"IFERROR((1/'BS Rates'!G96),\"\")","v":0.12853470437017994},{"$f":"IFERROR((1/'BS Rates'!H96),\"\")","v":9.6993210475266739E-3},{"$f":"IFERROR((1/'BS Rates'!I96),\"\")","v":9.5465393794749406E-4},{"$f":"IFERROR((1/'BS Rates'!J96),\"\")","v":0.12150668286755771},{"$f":"IFERROR((1/'BS Rates'!K96),\"\")","v":0.26315789473684209},{"$f":"IFERROR((1/'BS Rates'!L96),\"\")","v":""},{"$f":"ROUND(IFERROR((1/'BS Rates'!M96),\"\"),6)","v":1.779E-2},{"$f":"ROUND(IFERROR((1/'BS Rates'!N96),\"\"),6)","v":0.60975599999999996},{"$f":"ROUND(IFERROR((1/'BS Rates'!O96),\"\"),6)","v":3.1406999999999997E-2},{"$f":"ROUND(IFERROR((1/'BS Rates'!P96),\"\"),6)","v":2.5621000000000001E-2},{"$f":"IFERROR((1/'BS Rates'!Q96),\"\")","v":""},{"$f":"ROUND(IFERROR((1/'BS Rates'!R96),\"\"),6)","v":0.52213900000000002},{"$f":"IFERROR((1/'BS Rates'!S96),\"\")","v":""},{"$f":"IFERROR((1/'BS Rates'!T96),\"\")","v":""},{"$f":"IFERROR((1/'BS Rates'!U96),\"\")","v":""},{"$f":"IFERROR((1/'BS Rates'!V96),\"\")","v":""},{"$f":"IFERROR((1/'BS Rates'!W96),\"\")","v":""},{"$f":"IFERROR((1/'BS Rates'!X96),\"\")","v":""},{"$f":"IFERROR((1/'BS Rates'!Y96),\"\")","v":""},{"$f":"IFERROR((1/'BS Rates'!Z96),\"\")","v":""},{"$f":"IFERROR((1/'BS Rates'!AA96),\"\")","v":""},{"$f":"IFERROR((1/'BS Rates'!AB96),\"\")","v":""},{"$f":"IFERROR((1/'BS Rates'!AC96),\"\")","v":""},{"$f":"IFERROR((1/'BS Rates'!AD96),\"\")","v":""}]
[null,"2004-11-04",{"$f":"IFERROR((1/'BS Rates'!C97),\"\")","v":0.84033613445378152},null,{"$f":"IFERROR((1/'BS Rates'!E97),\"\")","v":4.0402407983515818E-4},{"$f":"IFERROR((1/'BS Rates'!F97),\"\")","v":1.3333333333333333},{"$f":"IFERROR((1/'BS Rates'!G97),\"\")","v":0.12820512820512822},{"$f":"IFERROR((1/'BS Rates'!H97),\"\")","v":9.7475387464665171E-3},{"$f":"IFERROR((1/'BS Rates'!I97),\"\")","v":9.5419847328244271E-4},{"$f":"IFERROR((1/'BS Rates'!J97),\"\")","v":0.12484394506866417},{"$f":"IFERROR((1/'BS Rates'!K97),\"\")","v":0.26315789473684209},{"$f":"IFERROR((1/'BS Rates'!L97),\"\")","v":""},{"$f":"ROUND(IFERROR((1/'BS Rates'!M97),\"\"),6)","v":1.78E-2},{"$f":"ROUND(IFERROR((1/'BS Rates'!N97),\"\"),6)","v":0.60975599999999996},{"$f":"ROUND(IFERROR((1/'BS Rates'!O97),\"\"),6)","v":3.1056E-2},{"$f":"ROUND(IFERROR((1/'BS Rates'!P97),\"\"),6)","v":2.5387E-2},{"$f":"IFERROR((1/'BS Rates'!Q97),\"\")","v":""},{"$f":"ROUND(IFERROR((1/'BS Rates'!R97),\"\"),6)","v":0.52213900000000002},{"$f":"IFERROR((1/'BS Rates'!S97),\"\")","v":""},{"$f":"IFERROR((1/'BS Rates'!T97),\"\")","v":""},{"$f":"IFERROR((1/'BS Rates'!U97),\"\")","v":""},{"$f":"IFERROR((1/'BS Rates'!V97),\"\")","v":""},{"$f":"IFERROR((1/'BS Rates'!W97),\"\")","v":""},{"$f":"IFERROR((1/'BS Rates'!X97),\"\")","v":""},{"$f":"IFERROR((1/'BS Rates'!Y97),\"\")","v":""},{"$f":"IFERROR((1/'BS Rates'!Z97),\"\")","v":""},{"$f":"IFERROR((1/'BS Rates'!AA97),\"\")","v":""},{"$f":"IFERROR((1/'BS Rates'!AB97),\"\")","v":""},{"$f":"IFERROR((1/'BS Rates'!AC97),\"\")","v":""},{"$f":"IFERROR((1/'BS Rates'!AD97),\"\")","v":""}]
[null,"2004-10-04",{"$f":"IFERROR((1/'BS Rates'!C98),\"\")","v":0.81967213114754101},null,{"$f":"IFERROR((1/'BS Rates'!E98),\"\")","v":3.9001560062402497E-4},{"$f":"IFERROR((1/'BS Rates'!F98),\"\")","v":1.2820512820512819},{"$f":"IFERROR((1/'BS Rates'!G98),\"\")","v":0.12853470437017994},{"$f":"IFERROR((1/'BS Rates'!H98),\"\")","v":9.4401963560842052E-3},{"$f":"IFERROR((1/'BS Rates'!I98),\"\")","v":8.9365504915102768E-4},{"$f":"IFERROR((1/'BS Rates'!J98),\"\")","v":0.12820512820512822},{"$f":"IFERROR((1/'BS Rates'!K98),\"\")","v":0.26315789473684209},{"$f":"IFERROR((1/'BS Rates'!L98),\"\")","v":""},{"$f":"ROUND(IFERROR((1/'BS Rates'!M98),\"\"),6)","v":1.7756000000000001E-2},{"$f":"ROUND(IFERROR((1/'BS Rates'!N98),\"\"),6)","v":0.60241},{"$f":"ROUND(IFERROR((1/'BS Rates'!O98),\"\"),6)","v":2.9904E-2},{"$f":"ROUND(IFERROR((1/'BS Rates'!P98),\"\"),6)","v":2.4396000000000001E-2},{"$f":"IFERROR((1/'BS Rates'!Q98),\"\")","v":""},{"$f":"ROUND(IFERROR((1/'BS Rates'!R98),\"\"),6)","v":0.52213900000000002},{"$f":"IFERROR((1/'BS Rates'!S98),\"\")","v":""},{"$f":"IFERROR((1/'BS Rates'!T98),\"\")","v":""},{"$f":"IFERROR((1/'BS Rates'!U98),\"\")","v":""},{"$f":"IFERROR((1/'BS Rates'!V98),\"\")","v":""},{"$f":"IFERROR((1/'BS Rates'!W98),\"\")","v":""},{"$f":"IFERROR((1/'BS Rates'!X98),\"\")","v":""},{"$f":"IFERROR((1/'BS Rates'!Y98),\"\")","v":""},{"$f":"IFERROR((1/'BS Rates'!Z98),\"\")","v":""},{"$f":"IFERROR((1/'BS Rates'!AA98),\"\")","v":""},{"$f":"IFERROR((1/'BS Rates'!AB98),\"\")","v":""},{"$f":"IFERROR((1/'BS Rates'!AC98),\"\")","v":""},{"$f":"IFERROR((1/'BS Rates'!AD98),\"\")","v":""}]
[null,"2004-09-04",{"$f":"IFERROR((1/'BS Rates'!C99),\"\")","v":0.78740157480314954},null,{"$f":"IFERROR((1/'BS Rates'!E99),\"\")","v":3.8535645472061658E-4},{"$f":"IFERROR((1/'BS Rates'!F99),\"\")","v":1.2345679012345678},{"$f":"IFERROR((1/'BS Rates'!G99),\"\")","v":0.12820512820512822},{"$f":"IFERROR((1/'BS Rates'!H99),\"\")","v":9.0432266232591783E-3},{"$f":"IFERROR((1/'BS Rates'!I99),\"\")","v":8.6820628581350931E-4},{"$f":"IFERROR((1/'BS Rates'!J99),\"\")","v":0.12820512820512822},{"$f":"IFERROR((1/'BS Rates'!K99),\"\")","v":0.26315789473684209},{"$f":"IFERROR((1/'BS Rates'!L99),\"\")","v":""},{"$f":"ROUND(IFERROR((1/'BS Rates'!M99),\"\"),6)","v":1.7794000000000001E-2},{"$f":"ROUND(IFERROR((1/'BS Rates'!N99),\"\"),6)","v":0.59171600000000002},{"$f":"ROUND(IFERROR((1/'BS Rates'!O99),\"\"),6)","v":2.9603000000000001E-2},{"$f":"ROUND(IFERROR((1/'BS Rates'!P99),\"\"),6)","v":2.4143000000000001E-2},{"$f":"IFERROR((1/'BS Rates'!Q99),\"\")","v":""},{"$f":"ROUND(IFERROR((1/'BS Rates'!R99),\"\"),6)","v":0.52213900000000002},{"$f":"IFERROR((1/'BS Rates'!S99),\"\")","v":""},{"$f":"IFERROR((1/'BS Rates'!T99),\"\")","v":""},{"$f":"IFERROR((1/'BS Rates'!U99),\"\")","v":""},{"$f":"IFERROR((1/'BS Rates'!V99),\"\")","v":""},{"$f":"IFERROR((1/'BS Rates'!W99),\"\")","v":""},{"$f":"IFERROR((1/'BS Rates'!X99),\"\")","v":""},{"$f":"IFERROR((1/'BS Rates'!Y99),\"\")","v":""},{"$f":"IFERROR((1/'BS Rates'!Z99),\"\")","v":""},{"$f":"IFERROR((1/'BS Rates'!AA99),\"\")","v":""},{"$f":"IFERROR((1/'BS Rates'!AB99),\"\")","v":""},{"$f":"IFERROR((1/'BS Rates'!AC99),\"\")","v":""},{"$f":"IFERROR((1/'BS Rates'!AD99),\"\")","v":""}]
[null,"2004-08-04",{"$f":"IFERROR((1/'BS Rates'!C100),\"\")","v":0.75757575757575757},null,{"$f":"IFERROR((1/'BS Rates'!E100),\"\")","v":3.9354584809130262E-4},{"$f":"IFERROR((1/'BS Rates'!F100),\"\")","v":1.2048192771084338},{"$f":"IFERROR((1/'BS Rates'!G100),\"\")","v":0.12820512820512822},{"$f":"IFERROR((1/'BS Rates'!H100),\"\")","v":9.1024940833788464E-3},{"$f":"IFERROR((1/'BS Rates'!I100),\"\")","v":8.682816705739341E-4},{"$f":"IFERROR((1/'BS Rates'!J100),\"\")","v":0.12820512820512822},{"$f":"IFERROR((1/'BS Rates'!K100),\"\")","v":0.26315789473684209},{"$f":"IFERROR((1/'BS Rates'!L100),\"\")","v":""},{"$f":"ROUND(IFERROR((1/'BS Rates'!M100),\"\"),6)","v":1.7825000000000001E-2},{"$f":"ROUND(IFERROR((1/'BS Rates'!N100),\"\"),6)","v":0.58479499999999995},{"$f":"ROUND(IFERROR((1/'BS Rates'!O100),\"\"),6)","v":2.9541999999999999E-2},{"$f":"ROUND(IFERROR((1/'BS Rates'!P100),\"\"),6)","v":2.4038E-2},{"$f":"IFERROR((1/'BS Rates'!Q100),\"\")","v":""},{"$f":"ROUND(IFERROR((1/'BS Rates'!R100),\"\"),6)","v":0.52213900000000002},{"$f":"IFERROR((1/'BS Rates'!S100),\"\")","v":""},{"$f":"IFERROR((1/'BS Rates'!T100),\"\")","v":""},{"$f":"IFERROR((1/'BS Rates'!U100),\"\")","v":""},{"$f":"IFERROR((1/'BS Rates'!V100),\"\")","v":""},{"$f":"IFERROR((1/'BS Rates'!W100),\"\")","v":""},{"$f":"IFERROR((1/'BS Rates'!X100),\"\")","v":""},{"$f":"IFERROR((1/'BS Rates'!Y100),\"\")","v":""},{"$f":"IFERROR((1/'BS Rates'!Z100),\"\")","v":""},{"$f":"IFERROR((1/'BS Rates'!AA100),\"\")","v":""},{"$f":"IFERROR((1/'BS Rates'!AB100),\"\")","v":""},{"$f":"IFERROR((1/'BS Rates'!AC100),\"\")","v":""},{"$f":"IFERROR((1/'BS Rates'!AD100),\"\")","v":""}]
[null,"2004-07-04",{"$f":"IFERROR((1/'BS Rates'!C101),\"\")","v":0.75757575757575757},null,{"$f":"IFERROR((1/'BS Rates'!E101),\"\")","v":3.8342088110118478E-4},{"$f":"IFERROR((1/'BS Rates'!F101),\"\")","v":1.2048192771084338},{"$f":"IFERROR((1/'BS Rates'!G101),\"\")","v":0.12820512820512822},{"$f":"IFERROR((1/'BS Rates'!H101),\"\")","v":8.9839187853741793E-3},{"$f":"IFERROR((1/'BS Rates'!I101),\"\")","v":8.547008547008547E-4},{"$f":"IFERROR((1/'BS Rates'!J101),\"\")","v":0.12820512820512822},{"$f":"IFERROR((1/'BS Rates'!K101),\"\")","v":0.26315789473684209},{"$f":"IFERROR((1/'BS Rates'!L101),\"\")","v":""},{"$f":"ROUND(IFERROR((1/'BS Rates'!M101),\"\"),6)","v":1.7888999999999999E-2},{"$f":"ROUND(IFERROR((1/'BS Rates'!N101),\"\"),6)","v":0.581395},{"$f":"ROUND(IFERROR((1/'BS Rates'!O101),\"\"),6)","v":2.9464000000000001E-2},{"$f":"ROUND(IFERROR((1/'BS Rates'!P101),\"\"),6)","v":2.4201E-2},{"$f":"IFERROR((1/'BS Rates'!Q101),\"\")","v":""},{"$f":"ROUND(IFERROR((1/'BS Rates'!R101),\"\"),6)","v":0.52213900000000002},{"$f":"IFERROR((1/'BS Rates'!S101),\"\")","v":""},{"$f":"IFERROR((1/'BS Rates'!T101),\"\")","v":""},{"$f":"IFERROR((1/'BS Rates'!U101),\"\")","v":""},{"$f":"IFERROR((1/'BS Rates'!V101),\"\")","v":""},{"$f":"IFERROR((1/'BS Rates'!W101),\"\")","v":""},{"$f":"IFERROR((1/'BS Rates'!X101),\"\")","v":""},{"$f":"IFERROR((1/'BS Rates'!Y101),\"\")","v":""},{"$f":"IFERROR((1/'BS Rates'!Z101),\"\")","v":""},{"$f":"IFERROR((1/'BS Rates'!AA101),\"\")","v":""},{"$f":"IFERROR((1/'BS Rates'!AB101),\"\")","v":""},{"$f":"IFERROR((1/'BS Rates'!AC101),\"\")","v":""},{"$f":"IFERROR((1/'BS Rates'!AD101),\"\")","v":""}]
[null,"2004-06-04",{"$f":"IFERROR((1/'BS Rates'!C102),\"\")","v":0.74626865671641784},null,{"$f":"IFERROR((1/'BS Rates'!E102),\"\")","v":3.7064492216456633E-4},{"$f":"IFERROR((1/'BS Rates'!F102),\"\")","v":1.2195121951219512},{"$f":"IFERROR((1/'BS Rates'!G102),\"\")","v":0.12820512820512822},{"$f":"IFERROR((1/'BS Rates'!H102),\"\")","v":9.189487226612756E-3},{"$f":"IFERROR((1/'BS Rates'!I102),\"\")","v":8.658008658008658E-4},{"$f":"IFERROR((1/'BS Rates'!J102),\"\")","v":0.12820512820512822},{"$f":"IFERROR((1/'BS Rates'!K102),\"\")","v":0.26315789473684209},{"$f":"IFERROR((1/'BS Rates'!L102),\"\")","v":""},{"$f":"ROUND(IFERROR((1/'BS Rates'!M102),\"\"),6)","v":1.7832000000000001E-2},{"$f":"ROUND(IFERROR((1/'BS Rates'!N102),\"\"),6)","v":0.581395},{"$f":"ROUND(IFERROR((1/'BS Rates'!O102),\"\"),6)","v":2.9762E-2},{"$f":"ROUND(IFERROR((1/'BS Rates'!P102),\"\"),6)","v":2.4455999999999999E-2},{"$f":"IFERROR((1/'BS Rates'!Q102),\"\")","v":""},{"$f":"ROUND(IFERROR((1/'BS Rates'!R102),\"\"),6)","v":0.52213900000000002},{"$f":"IFERROR((1/'BS Rates'!S102),\"\")","v":""},{"$f":"IFERROR((1/'BS Rates'!T102),\"\")","v":""},{"$f":"IFERROR((1/'BS Rates'!U102),\"\")","v":""},{"$f":"IFERROR((1/'BS Rates'!V102),\"\")","v":""},{"$f":"IFERROR((1/'BS Rates'!W102),\"\")","v":""},{"$f":"IFERROR((1/'BS Rates'!X102),\"\")","v":""},{"$f":"IFERROR((1/'BS Rates'!Y102),\"\")","v":""},{"$f":"IFERROR((1/'BS Rates'!Z102),\"\")","v":""},{"$f":"IFERROR((1/'BS Rates'!AA102),\"\")","v":""},{"$f":"IFERROR((1/'BS Rates'!AB102),\"\")","v":""},{"$f":"IFERROR((1/'BS Rates'!AC102),\"\")","v":""},{"$f":"IFERROR((1/'BS Rates'!AD102),\"\")","v":""}]
[null,"2004-05-04",{"$f":"IFERROR((1/'BS Rates'!C103),\"\")","v":0.73529411764705876},null,{"$f":"IFERROR((1/'BS Rates'!E103),\"\")","v":3.6721504112808461E-4},{"$f":"IFERROR((1/'BS Rates'!F103),\"\")","v":1.2195121951219512},{"$f":"IFERROR((1/'BS Rates'!G103),\"\")","v":0.12820512820512822},{"$f":"IFERROR((1/'BS Rates'!H103),\"\")","v":9.0752336872674481E-3},{"$f":"IFERROR((1/'BS Rates'!I103),\"\")","v":8.5910652920962198E-4},{"$f":"IFERROR((1/'BS Rates'!J103),\"\")","v":0.12820512820512822},{"$f":"IFERROR((1/'BS Rates'!K103),\"\")","v":0.26315789473684209},{"$f":"IFERROR((1/'BS Rates'!L103),\"\")","v":""},{"$f":"ROUND(IFERROR((1/'BS Rates'!M103),\"\"),6)","v":1.7902000000000001E-2},{"$f":"ROUND(IFERROR((1/'BS Rates'!N103),\"\"),6)","v":0.58823499999999995},{"$f":"ROUND(IFERROR((1/'BS Rates'!O103),\"\"),6)","v":3.0047999999999998E-2},{"$f":"ROUND(IFERROR((1/'BS Rates'!P103),\"\"),6)","v":2.4667000000000001E-2},{"$f":"IFERROR((1/'BS Rates'!Q103),\"\")","v":""},{"$f":"ROUND(IFERROR((1/'BS Rates'!R103),\"\"),6)","v":0.52213900000000002},{"$f":"IFERROR((1/'BS Rates'!S103),\"\")","v":""},{"$f":"IFERROR((1/'BS Rates'!T103),\"\")","v":""},{"$f":"IFERROR((1/'BS Rates'!U103),\"\")","v":""},{"$f":"IFERROR((1/'BS Rates'!V103),\"\")","v":""},{"$f":"IFERROR((1/'BS Rates'!W103),\"\")","v":""},{"$f":"IFERROR((1/'BS Rates'!X103),\"\")","v":""},{"$f":"IFERROR((1/'BS Rates'!Y103),\"\")","v":""},{"$f":"IFERROR((1/'BS Rates'!Z103),\"\")","v":""},{"$f":"IFERROR((1/'BS Rates'!AA103),\"\")","v":""},{"$f":"IFERROR((1/'BS Rates'!AB103),\"\")","v":""},{"$f":"IFERROR((1/'BS Rates'!AC103),\"\")","v":""},{"$f":"IFERROR((1/'BS Rates'!AD103),\"\")","v":""}]
[null,"2004-04-04",{"$f":"IFERROR((1/'BS Rates'!C104),\"\")","v":0.72992700729927007},null,{"$f":"IFERROR((1/'BS Rates'!E104),\"\")","v":3.7764350453172205E-4},{"$f":"IFERROR((1/'BS Rates'!F104),\"\")","v":1.1904761904761905},{"$f":"IFERROR((1/'BS Rates'!G104),\"\")","v":0.12820512820512822},{"$f":"IFERROR((1/'BS Rates'!H104),\"\")","v":9.0909090909090905E-3},{"$f":"IFERROR((1/'BS Rates'!I104),\"\")","v":8.5251491901108269E-4},{"$f":"IFERROR((1/'BS Rates'!J104),\"\")","v":0.12820512820512822},{"$f":"IFERROR((1/'BS Rates'!K104),\"\")","v":0.26315789473684209},{"$f":"IFERROR((1/'BS Rates'!L104),\"\")","v":""},{"$f":"ROUND(IFERROR((1/'BS Rates'!M104),\"\"),6)","v":1.7840999999999999E-2},{"$f":"ROUND(IFERROR((1/'BS Rates'!N104),\"\"),6)","v":0.58823499999999995},{"$f":"ROUND(IFERROR((1/'BS Rates'!O104),\"\"),6)","v":3.0102E-2},{"$f":"ROUND(IFERROR((1/'BS Rates'!P104),\"\"),6)","v":2.5000000000000001E-2},{"$f":"IFERROR((1/'BS Rates'!Q104),\"\")","v":""},{"$f":"ROUND(IFERROR((1/'BS Rates'!R104),\"\"),6)","v":0.52213900000000002},{"$f":"IFERROR((1/'BS Rates'!S104),\"\")","v":""},{"$f":"IFERROR((1/'BS Rates'!T104),\"\")","v":""},{"$f":"IFERROR((1/'BS Rates'!U104),\"\")","v":""},{"$f":"IFERROR((1/'BS Rates'!V104),\"\")","v":""},{"$f":"IFERROR((1/'BS Rates'!W104),\"\")","v":""},{"$f":"IFERROR((1/'BS Rates'!X104),\"\")","v":""},{"$f":"IFERROR((1/'BS Rates'!Y104),\"\")","v":""},{"$f":"IFERROR((1/'BS Rates'!Z104),\"\")","v":""},{"$f":"IFERROR((1/'BS Rates'!AA104),\"\")","v":""},{"$f":"IFERROR((1/'BS Rates'!AB104),\"\")","v":""},{"$f":"IFERROR((1/'BS Rates'!AC104),\"\")","v":""},{"$f":"IFERROR((1/'BS Rates'!AD104),\"\")","v":""}]
[null,"2004-03-04",{"$f":"IFERROR((1/'BS Rates'!C105),\"\")","v":0.76335877862595414},null,{"$f":"IFERROR((1/'BS Rates'!E105),\"\")","v":3.7348272642390287E-4},{"$f":"IFERROR((1/'BS Rates'!F105),\"\")","v":1.2195121951219512},{"$f":"IFERROR((1/'BS Rates'!G105),\"\")","v":0.12820512820512822},{"$f":"IFERROR((1/'BS Rates'!H105),\"\")","v":9.6153846153846159E-3},{"$f":"IFERROR((1/'BS Rates'!I105),\"\")","v":8.7260034904013963E-4},{"$f":"IFERROR((1/'BS Rates'!J105),\"\")","v":0.12820512820512822},{"$f":"IFERROR((1/'BS Rates'!K105),\"\")","v":0.26315789473684209},{"$f":"IFERROR((1/'BS Rates'!L105),\"\")","v":""},{"$f":"ROUND(IFERROR((1/'BS Rates'!M105),\"\"),6)","v":1.7825000000000001E-2},{"$f":"ROUND(IFERROR((1/'BS Rates'!N105),\"\"),6)","v":0.59880199999999995},{"$f":"ROUND(IFERROR((1/'BS Rates'!O105),\"\"),6)","v":3.0394999999999998E-2},{"$f":"ROUND(IFERROR((1/'BS Rates'!P105),\"\"),6)","v":2.5641000000000001E-2},{"$f":"IFERROR((1/'BS Rates'!Q105),\"\")","v":""},{"$f":"ROUND(IFERROR((1/'BS Rates'!R105),\"\"),6)","v":0.52213900000000002},{"$f":"IFERROR((1/'BS Rates'!S105),\"\")","v":""},{"$f":"IFERROR((1/'BS Rates'!T105),\"\")","v":""},{"$f":"IFERROR((1/'BS Rates'!U105),\"\")","v":""},{"$f":"IFERROR((1/'BS Rates'!V105),\"\")","v":""},{"$f":"IFERROR((1/'BS Rates'!W105),\"\")","v":""},{"$f":"IFERROR((1/'BS Rates'!X105),\"\")","v":""},{"$f":"IFERROR((1/'BS Rates'!Y105),\"\")","v":""},{"$f":"IFERROR((1/'BS Rates'!Z105),\"\")","v":""},{"$f":"IFERROR((1/'BS Rates'!AA105),\"\")","v":""},{"$f":"IFERROR((1/'BS Rates'!AB105),\"\")","v":""},{"$f":"IFERROR((1/'BS Rates'!AC105),\"\")","v":""},{"$f":"IFERROR((1/'BS Rates'!AD105),\"\")","v":""}]
[null,"2004-02-04",{"$f":"IFERROR((1/'BS Rates'!C106),\"\")","v":0.7407407407407407},null,{"$f":"IFERROR((1/'BS Rates'!E106),\"\")","v":3.7264071845130516E-4},{"$f":"IFERROR((1/'BS Rates'!F106),\"\")","v":1.2345679012345678},{"$f":"IFERROR((1/'BS Rates'!G106),\"\")","v":0.12820512820512822},{"$f":"IFERROR((1/'BS Rates'!H106),\"\")","v":9.1743119266055051E-3},{"$f":"IFERROR((1/'BS Rates'!I106),\"\")","v":8.5106382978723403E-4},{"$f":"IFERROR((1/'BS Rates'!J106),\"\")","v":0.12820512820512822},{"$f":"IFERROR((1/'BS Rates'!K106),\"\")","v":0.26315789473684209},{"$f":"IFERROR((1/'BS Rates'!L106),\"\")","v":""},{"$f":"ROUND(IFERROR((1/'BS Rates'!M106),\"\"),6)","v":1.7777999999999999E-2},{"$f":"ROUND(IFERROR((1/'BS Rates'!N106),\"\"),6)","v":0.58823499999999995},{"$f":"ROUND(IFERROR((1/'BS Rates'!O106),\"\"),6)","v":3.0120000000000001E-2},{"$f":"ROUND(IFERROR((1/'BS Rates'!P106),\"\"),6)","v":2.5641000000000001E-2},{"$f":"IFERROR((1/'BS Rates'!Q106),\"\")","v":""},{"$f":"ROUND(IFERROR((1/'BS Rates'!R106),\"\"),6)","v":0.52213900000000002},{"$f":"IFERROR((1/'BS Rates'!S106),\"\")","v":""},{"$f":"IFERROR((1/'BS Rates'!T106),\"\")","v":""},{"$f":"IFERROR((1/'BS Rates'!U106),\"\")","v":""},{"$f":"IFERROR((1/'BS Rates'!V106),\"\")","v":""},{"$f":"IFERROR((1/'BS Rates'!W106),\"\")","v":""},{"$f":"IFERROR((1/'BS Rates'!X106),\"\")","v":""},{"$f":"IFERROR((1/'BS Rates'!Y106),\"\")","v":""},{"$f":"IFERROR((1/'BS Rates'!Z106),\"\")","v":""},{"$f":"IFERROR((1/'BS Rates'!AA106),\"\")","v":""},{"$f":"IFERROR((1/'BS Rates'!AB106),\"\")","v":""},{"$f":"IFERROR((1/'BS Rates'!AC106),\"\")","v":""},{"$f":"IFERROR((1/'BS Rates'!AD106),\"\")","v":""}]
[null,"2004-01-04",{"$f":"IFERROR((1/'BS Rates'!C107),\"\")","v":0.75187969924812026},null,{"$f":"IFERROR((1/'BS Rates'!E107),\"\")","v":3.6378187638691842E-4},{"$f":"IFERROR((1/'BS Rates'!F107),\"\")","v":1.2345679012345678},{"$f":"IFERROR((1/'BS Rates'!G107),\"\")","v":0.12820512820512822},{"$f":"IFERROR((1/'BS Rates'!H107),\"\")","v":9.433962264150943E-3},{"$f":"IFERROR((1/'BS Rates'!I107),\"\")","v":8.5251491901108269E-4},{"$f":"IFERROR((1/'BS Rates'!J107),\"\")","v":0.12820512820512822},{"$f":"IFERROR((1/'BS Rates'!K107),\"\")","v":0.26315789473684209},{"$f":"IFERROR((1/'BS Rates'!L107),\"\")","v":""},{"$f":"ROUND(IFERROR((1/'BS Rates'!M107),\"\"),6)","v":1.7899000000000002E-2},{"$f":"ROUND(IFERROR((1/'BS Rates'!N107),\"\"),6)","v":0.58823499999999995},{"$f":"ROUND(IFERROR((1/'BS Rates'!O107),\"\"),6)","v":3.0002999999999998E-2},{"$f":"ROUND(IFERROR((1/'BS Rates'!P107),\"\"),6)","v":2.5641000000000001E-2},{"$f":"IFERROR((1/'BS Rates'!Q107),\"\")","v":""},{"$f":"ROUND(IFERROR((1/'BS Rates'!R107),\"\"),6)","v":0.62656599999999996},{"$f":"IFERROR((1/'BS Rates'!S107),\"\")","v":""},{"$f":"IFERROR((1/'BS Rates'!T107),\"\")","v":""},{"$f":"IFERROR((1/'BS Rates'!U107),\"\")","v":""},{"$f":"IFERROR((1/'BS Rates'!V107),\"\")","v":""},{"$f":"IFERROR((1/'BS Rates'!W107),\"\")","v":""},{"$f":"IFERROR((1/'BS Rates'!X107),\"\")","v":""},{"$f":"IFERROR((1/'BS Rates'!Y107),\"\")","v":""},{"$f":"IFERROR((1/'BS Rates'!Z107),\"\")","v":""},{"$f":"IFERROR((1/'BS Rates'!AA107),\"\")","v":""},{"$f":"IFERROR((1/'BS Rates'!AB107),\"\")","v":""},{"$f":"IFERROR((1/'BS Rates'!AC107),\"\")","v":""},{"$f":"IFERROR((1/'BS Rates'!AD107),\"\")","v":""}]
[{"$f":"A96-1","v":2003},"2003-12-04",{"$f":"IFERROR((1/'BS Rates'!C108),\"\")","v":0.78125},{"$f":"IFERROR((1/'BS Rates'!D108),\"\")","v":""},{"$f":"IFERROR((1/'BS Rates'!E108),\"\")","v":""},{"$f":"IFERROR((1/'BS Rates'!F108),\"\")","v":1.2658227848101264},{"$f":"IFERROR((1/'BS Rates'!G108),\"\")","v":0.12820512820512822},{"$f":"IFERROR((1/'BS Rates'!H108),\"\")","v":9.3457943925233638E-3},{"$f":"IFERROR((1/'BS Rates'!I108),\"\")","v":8.3822296730930428E-4},{"$f":"IFERROR((1/'BS Rates'!J108),\"\")","v":0.12820512820512822},{"$f":"IFERROR((1/'BS Rates'!K108),\"\")","v":0.26315789473684209},{"$f":"IFERROR((1/'BS Rates'!L108),\"\")","v":""},{"$f":"ROUND(IFERROR((1/'BS Rates'!M108),\"\"),6)","v":1.8017999999999999E-2},{"$f":"ROUND(IFERROR((1/'BS Rates'!N108),\"\"),6)","v":0.58823499999999995},{"$f":"ROUND(IFERROR((1/'BS Rates'!O108),\"\"),6)","v":2.9499000000000001E-2},{"$f":"ROUND(IFERROR((1/'BS Rates'!P108),\"\"),6)","v":2.5000000000000001E-2},{"$f":"IFERROR((1/'BS Rates'!Q108),\"\")","v":""},{"$f":"IFERROR((1/'BS Rates'!R108),\"\")","v":""},{"$f":"IFERROR((1/'BS Rates'!S108),\"\")","v":""},{"$f":"IFERROR((1/'BS Rates'!T108),\"\")","v":""},{"$f":"IFERROR((1/'BS Rates'!U108),\"\")","v":""},{"$f":"IFERROR((1/'BS Rates'!V108),\"\")","v":""},{"$f":"IFERROR((1/'BS Rates'!W108),\"\")","v":""},{"$f":"IFERROR((1/'BS Rates'!X108),\"\")","v":""},{"$f":"IFERROR((1/'BS Rates'!Y108),\"\")","v":""},{"$f":"IFERROR((1/'BS Rates'!Z108),\"\")","v":""},{"$f":"IFERROR((1/'BS Rates'!AA108),\"\")","v":""},{"$f":"IFERROR((1/'BS Rates'!AB108),\"\")","v":""},{"$f":"IFERROR((1/'BS Rates'!AC108),\"\")","v":""},{"$f":"IFERROR((1/'BS Rates'!AD108),\"\")","v":""}]
[null,"2003-11-04",{"$f":"IFERROR((1/'BS Rates'!C109),\"\")","v":0.76335877862595414},null,{"$f":"IFERROR((1/'BS Rates'!E109),\"\")","v":""},{"$f":"IFERROR((1/'BS Rates'!F109),\"\")","v":1.1764705882352942},{"$f":"IFERROR((1/'BS Rates'!G109),\"\")","v":0.12820512820512822},{"$f":"IFERROR((1/'BS Rates'!H109),\"\")","v":9.0909090909090905E-3},{"$f":"IFERROR((1/'BS Rates'!I109),\"\")","v":8.3194675540765393E-4},{"$f":"IFERROR((1/'BS Rates'!J109),\"\")","v":0.12820512820512822},{"$f":"IFERROR((1/'BS Rates'!K109),\"\")","v":0.26315789473684209},{"$f":"IFERROR((1/'BS Rates'!L109),\"\")","v":""},{"$f":"ROUND(IFERROR((1/'BS Rates'!M109),\"\"),6)","v":1.8008E-2},{"$f":"ROUND(IFERROR((1/'BS Rates'!N109),\"\"),6)","v":0.581395},{"$f":"ROUND(IFERROR((1/'BS Rates'!O109),\"\"),6)","v":2.9326000000000001E-2},{"$f":"ROUND(IFERROR((1/'BS Rates'!P109),\"\"),6)","v":2.5000000000000001E-2},{"$f":"IFERROR((1/'BS Rates'!Q109),\"\")","v":""},{"$f":"IFERROR((1/'BS Rates'!R109),\"\")","v":""},{"$f":"IFERROR((1/'BS Rates'!S109),\"\")","v":""},{"$f":"IFERROR((1/'BS Rates'!T109),\"\")","v":""},{"$f":"IFERROR((1/'BS Rates'!U109),\"\")","v":""},{"$f":"IFERROR((1/'BS Rates'!V109),\"\")","v":""},{"$f":"IFERROR((1/'BS Rates'!W109),\"\")","v":""},{"$f":"IFERROR((1/'BS Rates'!X109),\"\")","v":""},{"$f":"IFERROR((1/'BS Rates'!Y109),\"\")","v":""},{"$f":"IFERROR((1/'BS Rates'!Z109),\"\")","v":""},{"$f":"IFERROR((1/'BS Rates'!AA109),\"\")","v":""},{"$f":"IFERROR((1/'BS Rates'!AB109),\"\")","v":""},{"$f":"IFERROR((1/'BS Rates'!AC109),\"\")","v":""},{"$f":"IFERROR((1/'BS Rates'!AD109),\"\")","v":""}]
[null,"2003-10-04",{"$f":"IFERROR((1/'BS Rates'!C110),\"\")","v":0.75757575757575757},null,{"$f":"IFERROR((1/'BS Rates'!E110),\"\")","v":""},{"$f":"IFERROR((1/'BS Rates'!F110),\"\")","v":1.1627906976744187},{"$f":"IFERROR((1/'BS Rates'!G110),\"\")","v":0.12820512820512822},{"$f":"IFERROR((1/'BS Rates'!H110),\"\")","v":9.1743119266055051E-3},{"$f":"IFERROR((1/'BS Rates'!I110),\"\")","v":8.4530853761622987E-4},{"$f":"IFERROR((1/'BS Rates'!J110),\"\")","v":0.12820512820512822},{"$f":"IFERROR((1/'BS Rates'!K110),\"\")","v":0.26315789473684209},{"$f":"IFERROR((1/'BS Rates'!L110),\"\")","v":""},{"$f":"ROUND(IFERROR((1/'BS Rates'!M110),\"\"),6)","v":1.8079999999999999E-2},{"$f":"ROUND(IFERROR((1/'BS Rates'!N110),\"\"),6)","v":0.57471300000000003},{"$f":"ROUND(IFERROR((1/'BS Rates'!O110),\"\"),6)","v":2.9464000000000001E-2},{"$f":"ROUND(IFERROR((1/'BS Rates'!P110),\"\"),6)","v":2.5000000000000001E-2},{"$f":"IFERROR((1/'BS Rates'!Q110),\"\")","v":""},{"$f":"IFERROR((1/'BS Rates'!R110),\"\")","v":""},{"$f":"IFERROR((1/'BS Rates'!S110),\"\")","v":""},{"$f":"IFERROR((1/'BS Rates'!T110),\"\")","v":""},{"$f":"IFERROR((1/'BS Rates'!U110),\"\")","v":""},{"$f":"IFERROR((1/'BS Rates'!V110),\"\")","v":""},{"$f":"IFERROR((1/'BS Rates'!W110),\"\")","v":""},{"$f":"IFERROR((1/'BS Rates'!X110),\"\")","v":""},{"$f":"IFERROR((1/'BS Rates'!Y110),\"\")","v":""},{"$f":"IFERROR((1/'BS Rates'!Z110),\"\")","v":""},{"$f":"IFERROR((1/'BS Rates'!AA110),\"\")","v":""},{"$f":"IFERROR((1/'BS Rates'!AB110),\"\")","v":""},{"$f":"IFERROR((1/'BS Rates'!AC110),\"\")","v":""},{"$f":"IFERROR((1/'BS Rates'!AD110),\"\")","v":""}]
[null,"2003-09-04",{"$f":"IFERROR((1/'BS Rates'!C111),\"\")","v":0.7407407407407407},null,{"$f":"IFERROR((1/'BS Rates'!E111),\"\")","v":""},{"$f":"IFERROR((1/'BS Rates'!F111),\"\")","v":1.1627906976744187},{"$f":"IFERROR((1/'BS Rates'!G111),\"\")","v":0.12820512820512822},{"$f":"IFERROR((1/'BS Rates'!H111),\"\")","v":9.0909090909090905E-3},{"$f":"IFERROR((1/'BS Rates'!I111),\"\")","v":8.6956521739130438E-4},{"$f":"IFERROR((1/'BS Rates'!J111),\"\")","v":0.12820512820512822},{"$f":"IFERROR((1/'BS Rates'!K111),\"\")","v":0.26315789473684209},{"$f":"IFERROR((1/'BS Rates'!L111),\"\")","v":""},{"$f":"ROUND(IFERROR((1/'BS Rates'!M111),\"\"),6)","v":1.8248E-2},{"$f":"ROUND(IFERROR((1/'BS Rates'!N111),\"\"),6)","v":0.57803499999999997},{"$f":"ROUND(IFERROR((1/'BS Rates'!O111),\"\"),6)","v":2.9690999999999999E-2},{"$f":"ROUND(IFERROR((1/'BS Rates'!P111),\"\"),6)","v":2.5000000000000001E-2},{"$f":"IFERROR((1/'BS Rates'!Q111),\"\")","v":""},{"$f":"IFERROR((1/'BS Rates'!R111),\"\")","v":""},{"$f":"IFERROR((1/'BS Rates'!S111),\"\")","v":""},{"$f":"IFERROR((1/'BS Rates'!T111),\"\")","v":""},{"$f":"IFERROR((1/'BS Rates'!U111),\"\")","v":""},{"$f":"IFERROR((1/'BS Rates'!V111),\"\")","v":""},{"$f":"IFERROR((1/'BS Rates'!W111),\"\")","v":""},{"$f":"IFERROR((1/'BS Rates'!X111),\"\")","v":""},{"$f":"IFERROR((1/'BS Rates'!Y111),\"\")","v":""},{"$f":"IFERROR((1/'BS Rates'!Z111),\"\")","v":""},{"$f":"IFERROR((1/'BS Rates'!AA111),\"\")","v":""},{"$f":"IFERROR((1/'BS Rates'!AB111),\"\")","v":""},{"$f":"IFERROR((1/'BS Rates'!AC111),\"\")","v":""},{"$f":"IFERROR((1/'BS Rates'!AD111),\"\")","v":""}]
[null,"2003-08-04",{"$f":"IFERROR((1/'BS Rates'!C112),\"\")","v":0.7142857142857143},null,{"$f":"IFERROR((1/'BS Rates'!E112),\"\")","v":""},{"$f":"IFERROR((1/'BS Rates'!F112),\"\")","v":1.0989010989010988},{"$f":"IFERROR((1/'BS Rates'!G112),\"\")","v":0.12820512820512822},{"$f":"IFERROR((1/'BS Rates'!H112),\"\")","v":8.6206896551724137E-3},{"$f":"IFERROR((1/'BS Rates'!I112),\"\")","v":8.4889643463497452E-4},{"$f":"IFERROR((1/'BS Rates'!J112),\"\")","v":0.12820512820512822},{"$f":"IFERROR((1/'BS Rates'!K112),\"\")","v":0.26315789473684209},{"$f":"IFERROR((1/'BS Rates'!L112),\"\")","v":""},{"$f":"ROUND(IFERROR((1/'BS Rates'!M112),\"\"),6)","v":1.8232000000000002E-2},{"$f":"ROUND(IFERROR((1/'BS Rates'!N112),\"\"),6)","v":0.57142899999999996},{"$f":"ROUND(IFERROR((1/'BS Rates'!O112),\"\"),6)","v":3.0165999999999998E-2},{"$f":"ROUND(IFERROR((1/'BS Rates'!P112),\"\"),6)","v":2.4389999999999998E-2},{"$f":"IFERROR((1/'BS Rates'!Q112),\"\")","v":""},{"$f":"IFERROR((1/'BS Rates'!R112),\"\")","v":""},{"$f":"IFERROR((1/'BS Rates'!S112),\"\")","v":""},{"$f":"IFERROR((1/'BS Rates'!T112),\"\")","v":""},{"$f":"IFERROR((1/'BS Rates'!U112),\"\")","v":""},{"$f":"IFERROR((1/'BS Rates'!V112),\"\")","v":""},{"$f":"IFERROR((1/'BS Rates'!W112),\"\")","v":""},{"$f":"IFERROR((1/'BS Rates'!X112),\"\")","v":""},{"$f":"IFERROR((1/'BS Rates'!Y112),\"\")","v":""},{"$f":"IFERROR((1/'BS Rates'!Z112),\"\")","v":""},{"$f":"IFERROR((1/'BS Rates'!AA112),\"\")","v":""},{"$f":"IFERROR((1/'BS Rates'!AB112),\"\")","v":""},{"$f":"IFERROR((1/'BS Rates'!AC112),\"\")","v":""},{"$f":"IFERROR((1/'BS Rates'!AD112),\"\")","v":""}]
[null,"2003-07-04",{"$f":"IFERROR((1/'BS Rates'!C113),\"\")","v":0.7142857142857143},null,{"$f":"IFERROR((1/'BS Rates'!E113),\"\")","v":""},{"$f":"IFERROR((1/'BS Rates'!F113),\"\")","v":1.1363636363636365},{"$f":"IFERROR((1/'BS Rates'!G113),\"\")","v":0.12820512820512822},{"$f":"IFERROR((1/'BS Rates'!H113),\"\")","v":8.3333333333333332E-3},{"$f":"IFERROR((1/'BS Rates'!I113),\"\")","v":8.4745762711864404E-4},{"$f":"IFERROR((1/'BS Rates'!J113),\"\")","v":0.12820512820512822},{"$f":"IFERROR((1/'BS Rates'!K113),\"\")","v":0.26315789473684209},{"$f":"IFERROR((1/'BS Rates'!L113),\"\")","v":""},{"$f":"ROUND(IFERROR((1/'BS Rates'!M113),\"\"),6)","v":1.8308000000000001E-2},{"$f":"ROUND(IFERROR((1/'BS Rates'!N113),\"\"),6)","v":0.56818199999999996},{"$f":"ROUND(IFERROR((1/'BS Rates'!O113),\"\"),6)","v":2.9145999999999998E-2},{"$f":"ROUND(IFERROR((1/'BS Rates'!P113),\"\"),6)","v":2.3810000000000001E-2},{"$f":"IFERROR((1/'BS Rates'!Q113),\"\")","v":""},{"$f":"IFERROR((1/'BS Rates'!R113),\"\")","v":""},{"$f":"IFERROR((1/'BS Rates'!S113),\"\")","v":""},{"$f":"IFERROR((1/'BS Rates'!T113),\"\")","v":""},{"$f":"IFERROR((1/'BS Rates'!U113),\"\")","v":""},{"$f":"IFERROR((1/'BS Rates'!V113),\"\")","v":""},{"$f":"IFERROR((1/'BS Rates'!W113),\"\")","v":""},{"$f":"IFERROR((1/'BS Rates'!X113),\"\")","v":""},{"$f":"IFERROR((1/'BS Rates'!Y113),\"\")","v":""},{"$f":"IFERROR((1/'BS Rates'!Z113),\"\")","v":""},{"$f":"IFERROR((1/'BS Rates'!AA113),\"\")","v":""},{"$f":"IFERROR((1/'BS Rates'!AB113),\"\")","v":""},{"$f":"IFERROR((1/'BS Rates'!AC113),\"\")","v":""},{"$f":"IFERROR((1/'BS Rates'!AD113),\"\")","v":""}]

{"sheet":"Matrix","index":81,"n_rows":37,"n_cols":35,"rows_kept":37,"cut":false,"hidden":false,"merged":[]}
["Exchange Rate Amount ","2012-02-01"]
["Relational Exchange Rate Amount"]
["Navision Book","USD","USD/Global","CAD","CNY","COP","EUR","HKD","JPY","KRW","MOP","MYR","MXN","PHP","SGD","TWD","THB","TRY","VEF","AUD","GBP","BND","DKK","NLG","NZD","SEK","CHF","HUF","CZK","PLN","IDR","LAK","NOK","INR"]
["Column1",null,"Navision USA, Consolidation, Global MKT GmbH, (Market to USD) B/S Rate","Navision Canada",null,null,"Navision Europe INC & BV, GMY,Service GmbH, Service Turkey","Unicity Hong Kong-Navision HK Marketing & U Direct","Navision Japan","Navision Korea",null,"Navision Malaysia","Navision Mexico","Navision Philippines","Navision Singapore","Navision Taiwan","Unicity Thailand","Unicity Turkey LLC",null,"Unicity Australia-ASIA",null,null,null,null,"Unicity New Zealand-ASIA",null,"Unicity Swiss MKT GmbH",null,null,null,null,"Navision Laos","Unicity Norway","Unicity India"]
["USD",null,1,{"$f":"TRANSPOSE(C6:C36)","v":1.0032099999999999},0.15861700000000001,5.62E-4,1.3430029999999999,0.12894600000000001,1.2425E-2,8.8699999999999998E-4,0.122933,0.33168599999999998,7.7683000000000002E-2,2.3272999999999999E-2,0.79776599999999998,3.3767999999999999E-2,3.3057999999999997E-2,0.56782699999999997,0.232488,1.076195,1.584786,0.783945,0.180642,1.3430029999999999,0.83871499999999999,0.152061,1.11433,4.6169999999999996E-3,5.3790999999999999E-2,0.32325799999999999,1.1E-4,1.2400000000000001E-4,0.17914099999999999,2.0213999999999999E-2]
["CAD",{"$f":"'BS Rates'!C2","v":0.99914999999999998},{"$f":"ROUND((1/B6),6)","v":1.0008509999999999},1,{"$f":"TRANSPOSE(D7:D36)","v":6.3247390000000001},1785.493579,0.74699000000000004,7.7800960000000003,80.740669999999994,1130.8888440000001,8.1606140000000007,3.0245790000000001,12.914125,43.105336999999999,1.2575240000000001,29.708667999999999,30.347111000000002,1.7667539999999999,4.3151080000000004,0.93218299999999998,0.63302599999999998,1.279695,5.5535709999999998,0.74699000000000004,1.1961280000000001,6.5974120000000003,0.900281,217.303371,18.650281,3.1034310000000001,9153.380819,8075.5617979999997,5.6001200000000004,49.629413999999997]
["CNY",{"$f":"'BS Rates'!D2","v":6.3425000000000002},0.157667,{"$f":"ROUND((B7/$B$6),6)","v":6.3478960000000004},null,{"$f":"TRANSPOSE(E8:E36)","v":282.3031168213181},0.11810611467999001,1.23010548021255,12.7658497898327,178.804028868269,1.29026885557935,0.47821397414545203,2.0418431279245,6.8153541121421197,0.19882623522880499,4.6972162740899401,4.7981600444127199,0.27934015385835498,0.68225870410024603,0.14738678721548101,0.10008723927353499,0.202331667856293,0.87807121897057705,0.11810611467999001,0.18911888333729901,1.0431120628122801,0.14234277103656101,34.357681021492603,2.94878261559204,0.49068125941787599,1447.23451502895,1276.8213181061101,0.88543104131969197,7.8468712824173199]
["COP",{"$f":"'BS Rates'!E2","v":1808.15},5.53E-4,1809.6882350000001,{"$f":"B8/$B$7","v":285.08474576271186},null,{"$f":"TRANSPOSE(F9:F36)","v":4.1836631493780135E-4},4.3573924867120004E-3,4.5220364314691001E-2,0.63337603524031105,4.5705087145599997E-3,1.6939734124440001E-3,7.2328040544339996E-3,2.4141972603356002E-2,7.0430053152600001E-4,1.6638910427131001E-2,1.6996482711346E-2,9.8950432075900008E-4,2.4167593747540001E-3,5.2208699951700004E-4,3.54538201351E-4,7.1671779658199998E-4,3.110384429536E-3,4.1836631493799998E-4,6.6991425906599996E-4,3.6950072480869999E-3,5.0421962265000001E-4,0.12170492982278699,1.0445448313836E-2,1.7381361741339999E-3,5.1265268741080403,4.5228736135926901,3.1364550674800001E-3,2.7795907359336E-2]
["EUR",{"$f":"'BS Rates'!F2","v":0.74977000000000005},1.333742,0.75040799999999996,0.11821363815530155,{"$f":"B9/$B$8","v":4.146613942427343E-4},null,{"$f":"TRANSPOSE(G10:G36)","v":10.415257},108.08796700000001,1513.9269409999999,10.924658000000001,4.0490199999999996,17.288208000000001,57.705345000000001,1.683454,39.771152000000001,40.625838999999999,2.3651629999999999,5.7766590000000004,1.2479180000000001,0.84743500000000005,1.7131350000000001,7.434596,1,1.601262,8.8319899999999993,1.205211,290.90518400000002,24.967231000000002,4.1545800000000002,12253.679828,10810.797744,7.4969109999999999,66.439161999999996]
["HKD",{"$f":"'BS Rates'!G2","v":7.7674500000000002},0.128742,7.7740580000000001,1.2246669294442254,4.2957995741503743E-3,{"$f":"ROUND((B10/$B$9),6)","v":10.359776999999999},null,{"$f":"TRANSPOSE(H11:H36)","v":10.37785},145.35666399999999,1.0489090000000001,0.38875900000000002,1.6598930000000001,5.5404629999999999,0.161633,3.8185479999999998,3.9006090000000002,0.22708600000000001,0.55463399999999996,0.11981600000000001,8.1365000000000007E-2,0.16448299999999999,0.71381799999999995,9.6013000000000001E-2,0.15374199999999999,0.84798600000000002,0.115716,27.930679000000001,2.3971789999999999,0.39889400000000003,1176.512534,1037.977099,0.71980100000000002,6.3790230000000001]
["JPY",{"$f":"'BS Rates'!H2","v":82.915000000000006},1.2061000000000001E-2,82.985538000000005,13.072920772566023,4.5856261925172136E-2,110.587247,{"$f":"ROUND((B11/$B$10),6)","v":10.674674},null,{"$f":"TRANSPOSE(I12:I36)","v":14.006434},0.101072,3.746E-2,0.159946,0.53387399999999996,1.5575E-2,0.367952,0.375859,2.1881999999999999E-2,5.3443999999999998E-2,1.1545E-2,7.8399999999999997E-3,1.5848999999999999E-2,6.8782999999999997E-2,9.2519999999999998E-3,1.4814000000000001E-2,8.1711000000000006E-2,1.115E-2,2.6913740000000002,0.23099,3.8436999999999999E-2,113.36766,100.018513,6.9359000000000004E-2,0.61467700000000003]
["KRW",{"$f":"'BS Rates'!I2","v":1133.02},8.83E-4,1133.983886,178.63933780055183,0.62661836683903438,1511.156755,145.86769100000001,{"$f":"ROUND((B12/$B$11),6)","v":13.664837},null,{"$f":"TRANSPOSE(J13:J36)","v":7.2160000000000002E-3},2.6749999999999999E-3,1.1419E-2,3.8115999999999997E-2,1.1119999999999999E-3,2.6270000000000002E-2,2.6835000000000001E-2,1.562E-3,3.8159999999999999E-3,8.2399999999999997E-4,5.5999999999999995E-4,1.132E-3,4.9109999999999996E-3,6.6100000000000002E-4,1.0579999999999999E-3,5.8339999999999998E-3,7.9600000000000005E-4,0.19215299999999999,1.6492E-2,2.7439999999999999E-3,8.0939700000000006,7.140898,4.9519999999999998E-3,4.3885E-2]
["MOP",{"$f":"'BS Rates'!J2","v":8.1445500000000006},0.122781,8.1514790000000001,1.2841229798975169,4.5043552802588281E-3,10.862731,1.048549,9.8227999999999996E-2,{"$f":"ROUND((B13/$B$12),6)","v":7.1879999999999999E-3},null,{"$f":"TRANSPOSE(K14:K36)","v":0.37063126190915241},1.58249431434016,5.2821193681234204,0.154096748417235,3.6404941914069702,3.7187288708586901,0.21649763353617299,0.52877251213965204,0.114229516257914,7.7570840248325001E-2,0.156813571823714,0.68053353002643102,9.1536050156740004E-2,0.14657323744544801,0.80844550986538799,0.110320240949044,26.6283115126929,2.2854016841846501,0.38029381031409398,1121.6534513491899,989.57772450673099,0.68623762984817804,6.0815784621058402]
["MYR",{"$f":"'BS Rates'!K2","v":3.0650900000000001},0.32625500000000002,3.067698,0.48326212061489948,1.6951525039404917E-3,4.0880400000000003,0.39460699999999999,3.6967E-2,2.7049999999999999E-3,{"$f":"B14/$B$13","v":0.37633632306266152},null,{"$f":"TRANSPOSE(L15:L36)","v":4.2697269999999996},14.251683,0.41576800000000003,9.8224149999999995,10.0335,0.58413199999999998,1.4266810000000001,0.308203,0.20929400000000001,0.423099,1.836147,0.246973,0.39546900000000001,2.1812659999999999,0.297655,71.845832000000001,6.1662410000000003,1.026071,3026.3325479999999,2669.979104,1.851537,16.408702999999999]
["MXN",{"$f":"'BS Rates'!L2","v":12.82643},7.7964000000000006E-2,12.837342,2.0222987780843518,7.0936758565384511E-3,17.107153,1.651305,0.154694,1.1320999999999999E-2,1.5748482113806164,{"$f":"ROUND((B15/$B$14),6)","v":4.1846829999999997},null,{"$f":"TRANSPOSE(M16:M36)","v":3.337844},9.7376000000000004E-2,2.3004790000000002,2.3499159999999999,0.13680800000000001,0.33413900000000002,7.2182999999999997E-2,4.9017999999999999E-2,9.9093000000000001E-2,0.430039,5.7842999999999999E-2,9.2621999999999996E-2,0.51086799999999999,6.9712999999999997E-2,16.826798,1.444177,0.240313,708.78829800000005,625.32782299999997,0.433643,3.8430330000000001]
["PHP",{"$f":"'BS Rates'!M2","v":43.035620000000002},2.3237000000000001E-2,43.072231000000002,6.7852770989357509,2.3800912534911373E-2,57.398429,5.540508,0.51903299999999997,3.7983000000000003E-2,5.2839776292121723,14.040573,{"$f":"ROUND((B16/$B$15),6)","v":3.3552300000000002},null,{"$f":"TRANSPOSE(N17:N36)","v":2.9173000000000001E-2},0.68921100000000002,0.70402200000000004,4.0987000000000003E-2,0.100106,2.1625999999999999E-2,1.4685999999999999E-2,2.9687999999999999E-2,0.12883700000000001,1.7329000000000001E-2,2.7748999999999999E-2,0.15305299999999999,2.0885999999999998E-2,5.0412169999999996,0.432668,7.1996000000000004E-2,212.34913,187.34482399999999,0.129917,1.1513519999999999]
["SGD",{"$f":"'BS Rates'!N2","v":1.2582199999999999},0.79477399999999998,1.25929,0.19837918801734331,6.9586040981113281E-4,1.6781410000000001,0.16198599999999999,1.5174999999999999E-2,1.111E-3,0.15448612876095055,0.41049999999999998,9.8096000000000003E-2,{"$f":"ROUND((B17/$B$16),6)","v":2.9236999999999999E-2},null,{"$f":"TRANSPOSE(O18:O36)","v":23.624731000000001},24.132428999999998,1.404946,3.431432,0.74128400000000005,0.50339100000000003,1.017631,4.4162739999999996,0.59401700000000002,0.95117700000000005,5.2463499999999996,0.71591499999999997,172.80255299999999,14.830952999999999,2.4678900000000001,7278.8911049999997,6421.7949740000004,4.4532910000000001,39.465975]
["TWD",{"$f":"'BS Rates'!O2","v":29.68235},3.3689999999999998E-2,29.707601,4.6799132834055968,1.6415867046428671E-2,39.588607000000003,3.8213759999999999,0.357985,2.6197999999999999E-2,3.6444432166295249,9.6840060000000001,2.314155,0.689716,{"$f":"ROUND((B18/$B$17),6)","v":23.590747},null,{"$f":"TRANSPOSE(P19:P36)","v":1.02149},5.9469000000000001E-2,0.14524699999999999,3.1377000000000002E-2,2.1308000000000001E-2,4.3075000000000002E-2,0.18693399999999999,2.5144E-2,4.0261999999999999E-2,0.22206999999999999,3.0304000000000001E-2,7.3144770000000001,0.627772,0.104462,308.10472199999998,271.825107,0.188501,1.6705369999999999]
["THB",{"$f":"'BS Rates'!P2","v":31.295000000000002},3.1954000000000003E-2,31.321622999999999,4.9341742215214826,1.7307745485717445E-2,41.739466999999998,4.0289929999999998,0.37743500000000002,2.7621E-2,3.84244678957094,10.210141,2.4398840000000002,0.72718799999999995,24.872439,{"$f":"ROUND((B19/$B$18),6)","v":1.05433},null,{"$f":"TRANSPOSE(Q20:Q36)","v":5.8217999999999999E-2},0.14219200000000001,3.0717000000000001E-2,2.086E-2,4.2168999999999998E-2,0.183002,2.4615000000000001E-2,3.9414999999999999E-2,0.21739800000000001,2.9666000000000001E-2,7.1605949999999998,0.61456500000000003,0.10226399999999999,301.62281000000002,266.10644600000001,0.18453600000000001,1.635392]
["TRY(YTL)",{"$f":"'BS Rates'!Q2","v":1.7845},0.56038100000000002,1.7860180000000001,0.28135593220338984,9.8692033293697971E-4,2.3800629999999998,0.229741,2.1521999999999999E-2,1.575E-3,0.21910357232750732,0.582202,0.139127,4.1466000000000003E-2,1.4182729999999999,6.012E-2,{"$f":"ROUND((B20/$B$19),6)","v":5.7022000000000003E-2},null,{"$f":"TRANSPOSE(R21:R36)","v":2.4423940000000002},0.52762500000000001,0.35829899999999998,0.72431999999999996,3.1433759999999999,0.42280400000000001,0.67701999999999996,3.7342,0.50956800000000002,122.99585500000001,10.556243,1.7565729999999999,5180.90398,4570.8477659999999,3.1697229999999998,28.090738999999999]
["VEF",{"$f":"'BS Rates'!R2","v":4.2996999999999996},0.232574,4.3033580000000002,0.67791880173433183,2.3779553687470617E-3,5.7346919999999999,0.55355399999999999,5.1857E-2,3.7950000000000002E-3,0.52792358079943025,1.4027970000000001,0.33522200000000002,9.9909999999999999E-2,3.4172880000000001,0.14485700000000001,0.13739299999999999,{"$f":"ROUND((B21/$B$20),6)","v":2.4094699999999998},null,{"$f":"TRANSPOSE(S22:S36)","v":0.21602771255201914},0.14669983493362501,0.29656150466138098,1.2870062539232301,0.17311045497872701,0.27719526654732302,1.52890986445958,0.20863459884221,50.358728756422501,4.3220886708669504,0.71920117173877696,2121.24009020529,1871.4621161044299,1.2977936902796801,11.5013135563667]
["AUD",{"$f":"'BS Rates'!S2","v":0.96679999999999999},1.03434,0.96762199999999998,0.1524320063066614,5.346901529187291E-4,1.2894620000000001,0.124468,1.166E-2,8.5300000000000003E-4,0.11870514638623372,0.31542300000000001,7.5375999999999999E-2,2.2464999999999999E-2,0.76838700000000004,3.2571999999999997E-2,3.0893E-2,0.54177600000000004,{"$f":"B22/$B$21","v":0.22485289671372424},null,{"$f":"TRANSPOSE(T23:T36)","v":0.67907877744296163},1.37279380111924,5.9575979337064098,0.80133448127421403,1.2831467929401601,7.0773783900129104,0.96577701248385694,233.112354713732,20.007102884201501,3.3292079207920802,9819.2961687473107,8663.0650021523907,6.0075333620318601,53.2399913904434]
["GBP",{"$f":"'BS Rates'!T2","v":0.62463999999999997},1.600922,0.62517100000000003,9.84848245959795E-2,3.4545806487293638E-4,0.83310899999999999,8.0418000000000003E-2,7.5329999999999998E-3,5.5099999999999995E-4,7.6694231111602229E-2,0.203792,4.8698999999999999E-2,1.4514000000000001E-2,0.49644700000000003,2.1044E-2,1.9959999999999999E-2,0.35003600000000001,0.14527525176175082,{"$f":"B23/$B$22","v":0.64609019445593707},null,{"$f":"TRANSPOSE(U24:U36)","v":2.0215530903328052},8.7730586370839898,1.1800316957210799,1.88954041204437,10.422028526149001,1.4221870047543601,343.27733755943001,29.462123613312201,4.9025356576862098,14459.730586370801,12757.083993660901,8.8465927099841508,78.400316957210805]
["BND",{"$f":"'BS Rates'!U2","v":1.27505},0.78428299999999995,1.276135,0.20103271580607016,7.051682659071426E-4,1.700588,0.16415299999999999,1.5377999999999999E-2,1.1249999999999999E-3,0.15655254126992896,0.415991,9.9407999999999996E-2,2.9628000000000002E-2,1.0133760000000001,4.2957000000000002E-2,4.0743000000000001E-2,0.71451399999999998,0.29654394492639025,1.3188353330575093,{"$f":"B24/$B$23","v":2.0412557633196724},null,{"$f":"TRANSPOSE(V25:V36)","v":4.3397616807776727},0.58372530573847603,0.93469739730322998,5.1554562558795904,0.70351207275007799,169.80871746629001,14.5740043900909,2.4251332706177502,7152.7830040765102,6310.5362182502404,4.3761367199749097,38.782220131702701]
["DKK",{"$f":"'BS Rates'!V2","v":5.5781200000000002},0.17927199999999999,5.582865,0.87948285376428847,3.0849874180792522E-3,7.439775,0.71814,6.7275000000000001E-2,4.9230000000000003E-3,0.68488989569712255,1.819888,0.43489299999999997,0.12961600000000001,4.4333419999999997,0.18792700000000001,0.17824300000000001,3.1258729999999999,1.2973277205386424,5.7696731485312371,8.9301357581967213,{"$f":"B25/$B$24","v":4.3748245166856199},null,{"$f":"TRANSPOSE(W26:W36)","v":0.13450630441851225},0.21537989089201201,1.1879583799992799,0.16210845767549401,39.128581234871199,3.3582499367751701,0.55881715379890895,1648.19718920481,1454.12045232848,1.0083818057010701,8.9364861447306598]
["NLG",{"$f":"'BS Rates'!W2","v":0.74977000000000005},1.333742,0.75040799999999996,0.11821363815530155,4.146613942427343E-4,1,9.6527000000000002E-2,9.0430000000000007E-3,6.6200000000000005E-4,9.2057879195290099E-2,0.244616,5.8455E-2,1.7422E-2,0.59589700000000001,2.5260000000000001E-2,2.3958E-2,0.420157,0.17437728213596301,0.77551717004551102,1.2003233862704918,0.5880318418885534,{"$f":"B26/$B$25","v":0.13441266950155251},null,{"$f":"TRANSPOSE(X27:X36)","v":1.60126242277733},8.8319903303787299,1.20521085146387,290.90518399140501,24.967230727907602,4.1545796400752097,12253.679828095601,10810.797743755,7.4969110932043996,66.439161966156306]
["NZD",{"$f":"'BS Rates'!X2","v":1.2226699999999999},0.817882,1.2237100000000001,0.19277414268821441,6.7619943035699466E-4,1.630727,0.15740899999999999,1.4746E-2,1.0790000000000001E-3,0.1501212467232689,0.39890199999999998,9.5324000000000006E-2,2.8410999999999999E-2,0.971746,4.1191999999999999E-2,3.9069E-2,0.68516100000000002,0.28436169965346419,1.2646565990897807,1.9573994620901638,0.95891925806831102,0.21919033652915318,{"$f":"B27/$B$26","v":1.6307267562052361},null,{"$f":"TRANSPOSE(Y28:Y36)","v":5.5156420364002354},0.75266292040593796,181.67239788643801,15.5922167239789,2.5945651262266201,7652.5119516900104,6751.4216220749804,4.6818753669378497,41.491738656378402]
["SEK",{"$f":"'BS Rates'!Y2","v":6.6171300000000004},0.15112300000000001,6.6227590000000003,1.0432999605833662,3.6596134170284547E-3,8.8255470000000003,0.85190500000000002,7.9806000000000002E-2,5.8399999999999997E-3,0.8124610936147485,2.1588699999999998,0.51589799999999997,0.15375900000000001,5.2591200000000002,0.22293099999999999,0.21144399999999999,3.7081140000000001,1.5389748121961999,6.8443628465039312,10.59350986168033,5.1897023646131526,1.1862652649996774,8.8255465009269507,{"$f":"B28/$B$27","v":5.4120326825717493},null,{"$f":"TRANSPOSE(Z29:Z36)","v":0.13645971138786248},32.937670118455699,2.8269087480802302,0.47040128947888599,1387.41997779907,1224.04999771908,0.84883597159497004,7.5225582774508499]
["CHF",{"$f":"'BS Rates'!Z2","v":0.90290000000000004},1.107542,0.90366800000000003,0.14235711470240442,4.9935016453280976E-4,1.2042360000000001,0.116241,1.0888999999999999E-2,7.9699999999999997E-4,0.11085940905267939,0.29457499999999998,7.0393999999999998E-2,2.0979999999999999E-2,0.71760100000000004,3.0419000000000002E-2,2.8851000000000002E-2,0.50596799999999997,0.20999139474847084,0.9339056681836988,1.4454725922131149,0.70812909297674598,0.16186457085899908,1.2042359656961468,0.73846581661445865,{"$f":"B29/$B$28","v":0.13644888342831407},null,{"$f":"TRANSPOSE(AA30:AA36)","v":241.37285499999999},20.716069000000001,3.4471810000000001,10167.249833,8970.0468020000008,6.220415,55.126587999999998]
["HUF",{"$f":"'BS Rates'!AA2","v":221.00299999999999},4.5250000000000004E-3,221.191012,34.844777296018918,0.1222260321322899,294.76105999999999,28.452452000000001,2.665416,0.19505700000000001,27.135078058333484,72.103266000000005,17.230281999999999,5.135351,175.64734300000001,7.4456030000000002,7.0619269999999998,123.845895,51.399632532502267,228.59226313611913,353.80859375,173.32888906317399,39.61962094755939,294.76106005841785,180.75441451904439,33.398618434275882,{"$f":"ROUND((B30/$B$29),6)","v":244.770185},null,{"$f":"TRANSPOSE(AB31:AB36)","v":8.5826008273009305E-2},1.4281559314522E-2,42.122590116708501,37.162616339193399,2.5770977987885999E-2,0.22838768651204]
["CZK",{"$f":"'BS Rates'!AB2","v":18.596920000000001},5.3772E-2,18.612741,2.9321119432400473,1.0285053784254625E-2,24.8035,2.394212,0.22428899999999999,1.6414000000000002E-2,2.2833575826779868,6.0673320000000004,1.449891,0.43212899999999999,14.780340000000001,0.62653099999999995,0.59424600000000005,10.421362,4.3251668721073573,19.235539925527515,29.772220799180332,14.585247637347555,3.3339046130237429,24.803499739920241,15.210089394521827,2.8104208319921176,20.596876999999999,{"$f":"B31/$B$30","v":8.4147816997959313E-2},null,{"$f":"TRANSPOSE(AC32:AC36)","v":0.16640129958150895},490.79050703043498,432.99947285187102,0.300270028939356,2.6610545114197501]
["PLN",{"$f":"'BS Rates'!AC2","v":3.1115200000000001},0.32138600000000001,3.1141670000000001,0.49058257784785181,1.7208306832950805E-3,4.149966,0.400584,3.7526999999999998E-2,2.7460000000000002E-3,0.38203706773240997,1.0151479999999999,0.242587,7.2301000000000004E-2,2.4729540000000001,0.104827,9.9424999999999999E-2,1.7436370000000001,0.72365979021792226,3.2183698800165494,4.9813012295081966,2.4403121446217795,0.55780800699877375,4.1499659895701351,2.5448567479368922,0.47022198445549657,3.4461400000000002,1.407908489930001E-2,{"$f":"B32/$B$31","v":0.16731372721934601},null,{"$f":"TRANSPOSE(AD33:AD36)","v":2949.4391465977046},2602.13997090674,1.8044932923872601,15.991789235493799]
["IDR",{"$f":"'BS Rates'!AD2","v":9165.9},1.0900000000000001E-4,9173.6976429999995,1445.1556957035868,5.0692143903990265,12224.948984000001,1180.0397809999999,110.54574,8.0897950000000005,1125.4028767703555,2990.4178999999999,714.61037899999997,212.98403500000001,7284.8150560000004,308.79967399999998,292.88704300000001,5136.3967499999999,2131.7533781426614,9480.6578402978903,14673.892161885246,7188.6592682639894,1643.1880275074755,12224.948984355202,7496.6262360244382,1385.177561873501,10151.62255,41.474097636683666,492.87193793380834,{"$f":"B33/$B$32","v":2945.794981231038},{"$f":"B33/$B$33","v":1},{"$f":"TRANSPOSE(AE34:AE36)","v":0.88224907908624317},6.1180895848199997E-4,5.4219763285979997E-3]
["LAK",{"$f":"'BS Rates'!AE2","v":8087.45},1.2400000000000001E-4,8094.3301810000003,1275.1202207331494,4.4727760418106906,10786.574549999999,1041.1975620000001,97.539045999999999,7.1379590000000004,992.98917681148737,2638.5685250000001,630.53008499999999,187.92456100000001,6427.6915010000002,272.466634,258.426266,4532.0537969999996,1880.933553503733,8365.1737691352919,12947.377689549181,6342.8493000274493,1449.8522799796347,10786.574549528521,6614.5812034318342,1222.1990500413319,8957.1934880000008,36.594299624891974,434.88115236286438,{"$f":"B34/$B$32","v":2599.1958913971307},{"$f":"B34/$B$33","v":0.88234106852573124},null,{"$f":"TRANSPOSE(AF35:AF36)","v":6.9346511431453515E-4},6.145629910109E-3]
["NOK",{"$f":"'BS Rates'!AF2","v":5.7030900000000004},0.175344,5.7079420000000001,0.89918644067796616,3.1541022592152202E-3,7.6064530000000001,0.73422900000000002,6.8781999999999996E-2,5.0340000000000003E-3,0.70023389874210362,1.86066,0.44463599999999998,0.13252,4.5326649999999997,0.192137,0.18223600000000001,3.1959040000000001,1.3263925390143501,5.8989346297062477,9.1302029969262311,4.4728363593584568,1.022403605515837,7.6064526454779466,4.6644556585178343,0.86186760725571354,6.316414,2.5805486803346565E-2,0.30666852360498409,{"$f":"B35/$B$32","v":1.8328951766339283},{"$f":"$B35/$B$33","v":6.2220731188426673E-4},{"$f":"$B35/$B$34","v":7.0517777544219752E-4},null,{"$f":"TRANSPOSE(AG36:AG37)","v":8.8622048654652286},85.647235856830605]
["INR",{"$f":"'BS Rates'!AG2","v":52.185000000000002},1.9162999999999999E-2,52.229394999999997,8.2278281434765468,2.8860990515167436E-2,69.601343999999997,6.7184210000000002,0.62937900000000002,4.6058000000000002E-2,6.407352155736044,17.025601000000002,4.0685520000000004,1.2125999999999999,41.475259000000001,1.758116,1.667519,29.243486000000001,12.136893271623602,53.977037649979316,83.544121413934434,40.927806752676368,9.3553025033523838,69.601344412286437,42.681181349014864,7.8863495201091709,57.797097999999998,0.23612801636176886,2.806109828939416,{"$f":"B36/$B$32","v":16.771545739702784},{"$f":"$B36/$B$33","v":5.6933852649494326E-3},{"$f":"$B36/$B$34","v":6.4525901242047864E-3},{"$f":"B36/$B$35","v":9.1503027306249773}]
["CLP",{"$f":"'BS Rates'!AH2","v":486.5},2.055E-3,486.91387700000001,76.704769412692158,0.26905953598982385,648.86565199999995,62.633167999999998,5.8674549999999996,0.42938300000000001,59.733195818062377,158.72290899999999,37.929493999999998,11.304589,386.65734099999997,16.390211999999998,15.545614,272.62538499999999,113.14742889038772,503.20645428216795,778.84861680327867,381.55366456217405,87.215764451105386,648.86565213332085,397.89967857230488,73.521300019797096,538.81935999999996,2.2013275837884554,26.160245890179663,{"$f":"B37/$B$32","v":156.35445055792667},{"$f":"$B37/$B$33","v":5.3077166453921604E-2},{"$f":"$B37/$B$34","v":6.0154931406067425E-2},{"$f":"B37/$B$35","v":85.304633102405887},{"$f":"B37/$B$36","v":9.3226022803487592}]

{"sheet":"Instructions","index":82,"n_rows":10,"n_cols":4,"rows_kept":10,"cut":false,"hidden":true,"merged":[]}
[]
[]
[]
[null,"Ribbon Button","Purpose","User Notes"]
[null,"Update FX Rates","User in puts the cutoff date and modifies the currency code list as needed then the program retrieves all of the necessary rates and updates the worksheets.  ","The date must be after the last date the program ran but not more than one month later."]
[null,"Create Supporting Documents","This button creates a supporting PDF document for each currency.  ","The documents will be saved in the files as this workbook."]
[null,"Show/Hide Sheets","This button allows the user to toggle between showing/hiding all of the sheets that contain individual currency information."]
[null,"Instructions","Shows/Hides the instruction sheet"]
[null,"About this Program","Shows information about the program and the programer"]
[null,"Remove VBA Code","Removes all VBA code from the workbook.  ","Will not work unless the user enables \"Trust access to the VBA project object model\" in the Trust Center"]