{"text_format":"1","workbook":"xlsx","n_sheets":19,"sheets":["Budget","Savings","Student Loans","Credit Cards","January","February","March","April","May","June","July","August","September","October","November","December","Next Week","Bank","All Months"],"not_rendered":{"charts":0,"images":0,"macros":1,"external_links":0,"defined_names":0,"comments":0,"pivot_tables":0},"unopened":[],"bounds":{"document_bytes":16777216,"sheet_cells":100000,"rows_first":2000,"rows_last":500,"rows_between":2000,"halvings":0,"cell_chars":16384,"cell_head_chars":4096},"cells_cut":0,"cells_raw":0,"read":"whole","date_system":"1900"}

{"sheet":"Budget","index":0,"n_rows":26,"n_cols":29,"rows_kept":26,"cut":false,"hidden":false,"merged":[]}
[null,"$","January","February","March","April","May","June","July","August","September","October","November","December","Total for Year","Average/Month"]
["Tithing",0,0,0,0,0,0,0,0,0,0,0,0,0,{"$f":"SUM(C2:N2)","v":0},{"$f":"O2/AC2","v":{"$error":"#DIV/0!"}},{"$f":"IF(C2=0,\"\",C2)","v":""},{"$f":"IF(D2=0,\"\",D2)","v":""},{"$f":"IF(E2=0,\"\",E2)","v":""},{"$f":"IF(F2=0,\"\",F2)","v":""},{"$f":"IF(G2=0,\"\",G2)","v":""},{"$f":"IF(H2=0,\"\",H2)","v":""},{"$f":"IF(I2=0,\"\",I2)","v":""},{"$f":"IF(J2=0,\"\",J2)","v":""},{"$f":"IF(K2=0,\"\",K2)","v":""},{"$f":"IF(L2=0,\"\",L2)","v":""},{"$f":"IF(M2=0,\"\",M2)","v":""},{"$f":"IF(N2=0,\"\",N2)","v":""},{"$f":"COUNT(Q2:AB2)","v":0}]
["Fast Offerings",0,0,0,0,0,0,0,0,0,0,0,0,0,0,{"$error":"#DIV/0!"},"","","","","","","","","","","","",0]
["Rent",0,0,0,0,0,0,0,0,0,0,0,0,0,0,{"$error":"#DIV/0!"},"","","","","","","","","","","","",0]
["Health Insurance",0,0,0,0,0,0,0,0,0,0,0,0,0,0,{"$error":"#DIV/0!"},"","","","","","","","","","","","",0]
["Retirement",0,0,0,0,0,0,0,0,0,0,0,0,0,0,{"$error":"#DIV/0!"},"","","","","","","","","","","","",0]
["Student Loan Payments",0,0,0,0,0,0,0,0,0,0,0,0,0,0,{"$f":"O7/12","v":0},"","","","","","","","","","","","",0]
["House Gas",0,0,0,0,0,0,0,0,0,0,0,0,0,0,{"$error":"#DIV/0!"},"","","","","","","","","","","","",0]
["Utilities",0,0,0,0,0,0,0,0,0,0,0,0,0,0,{"$error":"#DIV/0!"},"","","","","","","","","","","","",0]
["Phone",0,0,0,0,0,0,0,0,0,0,0,0,0,0,{"$error":"#DIV/0!"},"","","","","","","","","","","","",0]
["Car Insurance",0,0,0,0,0,0,0,0,0,0,0,0,0,0,{"$error":"#DIV/0!"},"","","","","","","","","","","","",0]
["Car Gas",0,{"$f":"January!G2","v":2.34},{"$f":"February!G2","v":0},{"$f":"March!G2","v":0},{"$f":"April!G2","v":12},{"$f":"May!G2","v":0},{"$f":"June!G2","v":0},{"$f":"July!G2","v":0},{"$f":"August!G2","v":0},{"$f":"September!G2","v":0},{"$f":"October!G2","v":0},{"$f":"November!G2","v":0},{"$f":"December!G2","v":0},14.34,7.17,2.34,"","",12,"","","","","","","","",2]
["Food",0,{"$f":"January!K2","v":0},{"$f":"February!K2","v":0},{"$f":"March!K2","v":15.02},{"$f":"April!K2","v":300},{"$f":"May!K2","v":0},{"$f":"June!K2","v":0},{"$f":"July!K2","v":0},{"$f":"August!K2","v":0},{"$f":"September!K2","v":0},{"$f":"October!K2","v":0},{"$f":"November!K2","v":0},{"$f":"December!K2","v":0},315.02,157.51,"","",15.02,300,"","","","","","","","",2]
["Baby Stuff",0,{"$f":"January!O2","v":0},{"$f":"February!O2","v":0},{"$f":"March!O2","v":0},{"$f":"April!O2","v":15},{"$f":"May!O2","v":0},{"$f":"June!O2","v":0},{"$f":"July!O2","v":0},{"$f":"August!O2","v":0},{"$f":"September!O2","v":0},{"$f":"October!O2","v":0},{"$f":"November!O2","v":0},{"$f":"December!O2","v":0},15,15,"","","",15,"","","","","","","","",1]
["Miscellaneous",0,{"$f":"January!S2","v":0},{"$f":"February!S2","v":0},{"$f":"March!S2","v":0},{"$f":"April!S2","v":2.52},{"$f":"May!S2","v":0},{"$f":"June!S2","v":0},{"$f":"July!S2","v":0},{"$f":"August!S2","v":0},{"$f":"September!S2","v":0},{"$f":"October!S2","v":0},{"$f":"November!S2","v":0},{"$f":"December!S2","v":0},2.52,2.52,"","","",2.52,"","","","","","","","",1]
[]
["Total",{"$f":"SUM(B2:B15)","v":0},2.34,0,15.02,329.52,0,0,0,0,0,0,0,0,346.87999999999994,{"$error":"#DIV/0!"}]
[]
[]
[]
[]
["In the bank",22.53]
[]
["Credit Cards Total",{"$f":"'Credit Cards'!C1","v":13}]
[]
["Student Loans",{"$f":"'Student Loans'!B4","v":0}]

{"sheet":"Savings","index":1,"n_rows":44,"n_cols":13,"rows_kept":44,"cut":false,"hidden":false,"merged":[]}
["Amount that we have in Savings",22.42,null,null,null,null,"2008-06-01",22,null,null,null,{"$f":"IF($J$3<K1,H1,\"\")","v":""},{"$f":"SUM(L1:L44)","v":0}]
["Emergency Savings",0,null,null,null,null,"2008-07-01",23,null,null,null,""]
["Amount we have put in retirement",{"$f":"35*M1","v":0},null,null,null,null,"2008-09-01",25,null,{"$f":"NOW()","v":"2011-04-13T12:58:46.630"},null,""]
["Amount that we have in retirement",null,null,null,null,null,"2008-10-01",26,null,null,null,""]
["Difference from what we put into retirement",{"$f":"SUM(B4,-B3)","v":0},null,null,null,null,"2008-11-01",27,null,null,null,""]
[null,null,null,null,null,null,"2008-12-01",28,null,null,null,""]
["Total in savings",{"$f":"SUM(B1,B2,#REF!,B4)","v":{"$error":"#REF!"}},null,null,null,null,"2009-01-01",29,null,null,null,""]
[null,null,null,null,null,null,"2009-02-01",30,null,null,null,""]
["Checking account",{"$f":"Budget!B22","v":22.53},null,null,null,null,"2009-03-01",31,null,null,null,""]
["Total Money",{"$f":"SUM(B7,B9)","v":{"$error":"#REF!"}},null,null,null,null,"2009-04-01",32,null,null,null,""]
[null,null,null,null,null,null,"2009-05-01",33,null,null,null,""]
[null,null,null,null,null,null,"2009-06-01",34,null,null,null,""]
[null,null,null,null,null,null,"2009-07-01",35,null,null,null,""]
[null,null,null,null,null,null,"2009-08-01",36,null,null,null,""]
[null,null,null,null,null,null,"2009-09-01",37,null,null,null,""]
[null,null,null,null,null,null,"2009-10-01",38,null,null,null,""]
[null,null,null,null,null,null,"2009-11-01",39,null,null,null,""]
[null,null,null,null,null,null,"2009-12-01",40,null,null,null,""]
[null,null,null,null,null,null,"2010-01-01",41,null,null,null,""]
[null,null,null,null,null,null,"2010-02-01",42,null,null,{"$f":"IF($J$3>G20,G21,0)","v":40238},""]
[null,null,null,null,null,null,"2010-03-01",43,null,null,40269,""]
[null,null,null,null,null,null,"2010-04-01",44,null,null,40299,""]
[null,null,null,null,null,null,"2010-05-01",45,null,null,40330,""]
[null,null,null,null,null,null,"2010-06-01",46,null,null,40360,""]
[null,null,null,null,null,null,"2010-07-01",47,null,null,40391]
[null,null,null,null,null,null,"2010-08-01",48,null,null,40422]
[null,null,null,null,null,null,"2010-09-01",49,null,null,40452]
[null,null,null,null,null,null,"2010-10-01",50,null,null,40483]
[null,null,null,null,null,null,"2010-11-01",51,null,null,40513]
[null,null,null,null,null,null,"2010-12-01",52,null,null,40544]
[null,null,null,null,null,null,"2011-01-01",53,null,null,40575]
[null,null,null,null,null,null,"2011-02-01",54,null,null,40603]
[null,null,null,null,null,null,"2011-03-01",55,null,null,40634]
[null,null,null,null,null,null,"2011-04-01",56,null,null,40664]
[null,null,null,null,null,null,"2011-05-01",57,null,null,0]
[null,null,null,null,null,null,"2011-06-01",58,null,null,0]
[null,null,null,null,null,null,"2011-07-01",59,null,null,0]
[null,null,null,null,null,null,"2011-08-01",60,null,null,0]
[null,null,null,null,null,null,"2011-09-01",61,null,null,0]
[null,null,null,null,null,null,"2011-10-01",62,null,null,0]
[null,null,null,null,null,null,"2011-11-01",63,null,null,0]
[null,null,null,null,null,null,"2011-12-01",64,null,null,0]
[null,null,null,null,null,null,"2012-01-01",65,null,null,0]
[null,null,null,null,null,null,"2012-02-01","Uh-Oh",null,null,0]

{"sheet":"Student Loans","index":2,"n_rows":15,"n_cols":5,"rows_kept":15,"cut":false,"hidden":false,"merged":[]}
["Student Loans","$","Interest Rate",null,"Calculator"]
["First loan",0,7.22E-2]
["Second loan",0,7.22E-2]
["Total loans",0,7.22E-2]
["Interest paid",0,"Interest/Total"]
["Principal paid",0,{"$f":"B5/B7","v":{"$error":"#DIV/0!"}}]
["Interest and Principal paid",{"$f":"SUM(B5,B6)","v":0}]
[]
["Interest on Staci's loans",{"$f":"#REF!*0.0722*#REF!","v":{"$error":"#REF!"}}]
["Interest on Brett's loans",{"$f":"B4*0.0722*#REF!","v":{"$error":"#REF!"}}]
[]
["Total Interest/Total Total",{"$f":"#REF!/#REF!","v":{"$error":"#REF!"}}]
[]
["Payments on Brett's Loans",{"$f":"(NPER(C4/12,-50,B4,0))","v":0}]
["Payments in years",{"$f":"B14/12","v":0}]

{"sheet":"Credit Cards","index":3,"n_rows":3,"n_cols":3,"rows_kept":3,"cut":false,"hidden":false,"merged":[]}
["Credit Card",null,{"$f":"SUM(C3:C5004)","v":13}]
[]
["Charge","2011-04-01",13]

{"sheet":"January","index":4,"n_rows":3,"n_cols":23,"rows_kept":3,"cut":false,"hidden":true,"merged":[]}
["Allowance","Date","Amount",null,"Gas","Date","Amount",null,"Food","Date","Amount",null,"Baby Stuff","Date","Amount",null,"Miscellaneous","Date","Amount",null,"Tax Money","Date","Amount"]
["Total",null,{"$f":"SUM(C3:C5000)","v":0},null,"Total",null,{"$f":"SUM(G3:G5000)","v":2.34},null,"Total",null,{"$f":"SUM(K3:K5000)","v":0},null,"Total",null,{"$f":"SUM(O3:O5000)","v":0},null,"Total",null,{"$f":"SUM(S3:S5000)","v":0},null,"Total",null,{"$f":"SUM(W3:W5000)","v":0}]
[null,null,null,null,"Chevron","2011-01-01",2.34]

{"sheet":"February","index":5,"n_rows":2,"n_cols":23,"rows_kept":2,"cut":false,"hidden":true,"merged":[]}
["Allowance","Date","Amount",null,"Gas","Date","Amount",null,"Food","Date","Amount",null,"Baby Stuff","Date","Amount",null,"Miscellaneous","Date","Amount",null,"Tax Money","Date","Amount"]
["Total",null,{"$f":"SUM(C3:C5000)","v":0},null,"Total",null,{"$f":"SUM(G3:G5000)","v":0},null,"Total",null,{"$f":"SUM(K3:K5000)","v":0},null,"Total",null,{"$f":"SUM(O3:O5000)","v":0},null,"Total",null,{"$f":"SUM(S3:S5000)","v":0},null,"Total",null,{"$f":"SUM(W3:W5000)","v":0}]

{"sheet":"March","index":6,"n_rows":4,"n_cols":23,"rows_kept":4,"cut":false,"hidden":false,"merged":[]}
["Allowance","Date","Amount",null,"Gas","Date","Amount",null,"Food","Date","Amount",null,"Baby Stuff","Date","Amount",null,"Miscellaneous","Date","Amount",null,"Tax Money","Date","Amount"]
["Total",null,{"$f":"SUM(C3:C5000)","v":0},null,"Total",null,{"$f":"SUM(G3:G5000)","v":0},null,"Total",null,{"$f":"SUM(K3:K5001)","v":15.02},null,"Total",null,{"$f":"SUM(O3:O5000)","v":0},null,"Total",null,{"$f":"SUM(S4:S5001)","v":0},null,"Total",null,{"$f":"SUM(W3:W5000)","v":0}]
[null,null,null,null,null,null,null,null,"Walmart","2011-03-15",13.5]
[null,null,null,null,null,null,null,null,"Walmart","2011-03-31",1.52]

{"sheet":"April","index":7,"n_rows":3,"n_cols":23,"rows_kept":3,"cut":false,"hidden":false,"merged":[]}
["Allowance","Date","Amount",null,"Gas","Date","Amount",null,"Food","Date","Amount",null,"Baby Stuff","Date","Amount",null,"Miscellaneous","Date","Amount",null,"Tax Money","Date","Amount"]
["Total",null,{"$f":"SUM(C3:C5000)","v":0},null,"Total",null,{"$f":"SUM(G3:G5000)","v":12},null,"Total",null,{"$f":"SUM(K3:K5000)","v":300},null,"Total",null,{"$f":"SUM(O3:O5000)","v":15},null,"Total",null,{"$f":"SUM(S3:S5000)","v":2.52},null,"Total",null,{"$f":"SUM(W3:W5000)","v":0}]
[null,null,null,null,"Chevron","2011-04-01",12,null,"Walmart","2011-04-03",300,null,"Walmart","2011-04-03",15,null,"Walmart","2011-04-03",2.52]

{"sheet":"May","index":8,"n_rows":2,"n_cols":23,"rows_kept":2,"cut":false,"hidden":true,"merged":[]}
["Allowance","Date","Amount",null,"Gas","Date","Amount",null,"Food","Date","Amount",null,"Baby Stuff","Date","Amount",null,"Miscellaneous","Date","Amount",null,"Tax Money","Date","Amount"]
["Total",null,{"$f":"SUM(C3:C5000)","v":0},null,"Total",null,{"$f":"SUM(G3:G5000)","v":0},null,"Total",null,{"$f":"SUM(K3:K5000)","v":0},null,"Total",null,{"$f":"SUM(O3:O5000)","v":0},null,"Total",null,{"$f":"SUM(S3:S5000)","v":0},null,"Total",null,{"$f":"SUM(W3:W5000)","v":0}]

{"sheet":"June","index":9,"n_rows":2,"n_cols":23,"rows_kept":2,"cut":false,"hidden":true,"merged":[]}
["Allowance","Date","Amount",null,"Gas","Date","Amount",null,"Food","Date","Amount",null,"Baby Stuff","Date","Amount",null,"Miscellaneous","Date","Amount",null,"Tax Money","Date","Amount"]
["Total",null,{"$f":"SUM(C3:C5000)","v":0},null,"Total",null,{"$f":"SUM(G3:G5000)","v":0},null,"Total",null,{"$f":"SUM(K3:K5000)","v":0},null,"Total",null,{"$f":"SUM(O3:O5000)","v":0},null,"Total",null,{"$f":"SUM(S3:S5000)","v":0},null,"Total",null,{"$f":"SUM(W3:W5000)","v":0}]

{"sheet":"July","index":10,"n_rows":2,"n_cols":23,"rows_kept":2,"cut":false,"hidden":true,"merged":[]}
["Allowance","Date","Amount",null,"Gas","Date","Amount",null,"Food","Date","Amount",null,"Baby Stuff","Date","Amount",null,"Miscellaneous","Date","Amount",null,"Tax Money","Date","Amount"]
["Total",null,{"$f":"SUM(C3:C5000)","v":0},null,"Total",null,{"$f":"SUM(G3:G5000)","v":0},null,"Total",null,{"$f":"SUM(K3:K5000)","v":0},null,"Total",null,{"$f":"SUM(O3:O5000)","v":0},null,"Total",null,{"$f":"SUM(S3:S5000)","v":0},null,"Total",null,{"$f":"SUM(W3:W5000)","v":0}]

{"sheet":"August","index":11,"n_rows":2,"n_cols":23,"rows_kept":2,"cut":false,"hidden":true,"merged":[]}
["Allowance","Date","Amount",null,"Gas","Date","Amount",null,"Food","Date","Amount",null,"Baby Stuff","Date","Amount",null,"Miscellaneous","Date","Amount",null,"Tax Money","Date","Amount"]
["Total",null,{"$f":"SUM(C3:C5000)","v":0},null,"Total",null,{"$f":"SUM(G3:G5000)","v":0},null,"Total",null,{"$f":"SUM(K3:K5000)","v":0},null,"Total",null,{"$f":"SUM(O3:O5000)","v":0},null,"Total",null,{"$f":"SUM(S3:S5000)","v":0},null,"Total",null,{"$f":"SUM(W3:W5000)","v":0}]

{"sheet":"September","index":12,"n_rows":2,"n_cols":23,"rows_kept":2,"cut":false,"hidden":true,"merged":[]}
["Allowance","Date","Amount",null,"Gas","Date","Amount",null,"Food","Date","Amount",null,"Baby Stuff","Date","Amount",null,"Miscellaneous","Date","Amount",null,"Tax Money","Date","Amount"]
["Total",null,{"$f":"SUM(C3:C5000)","v":0},null,"Total",null,{"$f":"SUM(G3:G5000)","v":0},null,"Total",null,{"$f":"SUM(K3:K5001)","v":0},null,"Total",null,{"$f":"SUM(O3:O5000)","v":0},null,"Total",null,{"$f":"SUM(S3:S5000)","v":0},null,"Total",null,{"$f":"SUM(W3:W5000)","v":0}]

{"sheet":"October","index":13,"n_rows":2,"n_cols":23,"rows_kept":2,"cut":false,"hidden":true,"merged":[]}
["Allowance","Date","Amount",null,"Gas","Date","Amount",null,"Food","Date","Amount",null,"Baby Stuff","Date","Amount",null,"Miscellaneous","Date","Amount",null,"Tax Money","Date","Amount"]
["Total",null,{"$f":"SUM(C3:C5000)","v":0},null,"Total",null,{"$f":"SUM(G3:G5000)","v":0},null,"Total",null,{"$f":"SUM(K3:K5000)","v":0},null,"Total",null,{"$f":"SUM(O3:O5000)","v":0},null,"Total",null,{"$f":"SUM(S3:S5001)","v":0},null,"Total",null,{"$f":"SUM(W3:W5000)","v":0}]

{"sheet":"November","index":14,"n_rows":2,"n_cols":23,"rows_kept":2,"cut":false,"hidden":true,"merged":[]}
["Allowance","Date","Amount",null,"Gas","Date","Amount",null,"Food","Date","Amount",null,"Baby Stuff","Date","Amount",null,"Miscellaneous","Date","Amount",null,"Tax Money","Date","Amount"]
["Total",null,{"$f":"SUM(C3:C5000)","v":0},null,"Total",null,{"$f":"SUM(G3:G5000)","v":0},null,"Total",null,{"$f":"SUM(K3:K5000)","v":0},null,"Total",null,{"$f":"SUM(O3:O5000)","v":0},null,"Total",null,{"$f":"SUM(S3:S5000)","v":0},null,"Total",null,{"$f":"SUM(W3:W5000)","v":0}]

{"sheet":"December","index":15,"n_rows":2,"n_cols":23,"rows_kept":2,"cut":false,"hidden":true,"merged":[]}
["Allowance","Date","Amount",null,"Gas","Date","Amount",null,"Food","Date","Amount",null,"Baby Stuff","Date","Amount",null,"Miscellaneous","Date","Amount",null,"Tax Money","Date","Amount"]
["Total",null,{"$f":"SUM(C3:C5000)","v":0},null,"Total",null,{"$f":"SUM(G3:G5000)","v":0},null,"Total",null,{"$f":"SUM(K3:K5000)","v":0},null,"Total",null,{"$f":"SUM(O3:O5000)","v":0},null,"Total",null,{"$f":"SUM(S3:S5000)","v":0},null,"Total",null,{"$f":"SUM(W3:W5000)","v":0}]

{"sheet":"Next Week","index":16,"n_rows":4,"n_cols":3,"rows_kept":4,"cut":false,"hidden":false,"merged":[]}
["Date","Event","Amount"]
["2011-04-15","Pay Verizon",50]
["2011-04-30","Save after save",10.52]
["2011-05-10","Pay Credit Card",125]

{"sheet":"Bank","index":17,"n_rows":96,"n_cols":6,"rows_kept":96,"cut":false,"hidden":false,"merged":[]}
["Deposit Accounts"]
["Account","Ending In","Account Type","Account","Available"]
["Checking",0,"Checking ",0,0]
["Savings",0,"Savings ",0,0]
["TOTAL:",null,null,0]
["Credit Accounts"]
["Request Cardmember Agreement"]
["Account","Ending In","Account Type","Current","Available"]
["Credit",0,"Credit Card ",0,0]
["TOTAL:",null,null,0]
[]
["Account ending in 0"]
[]
[" DATE"," CHECK #"," DESCRIPTION"," DEPOSIT"," WITHDRAWAL"," ACCOUNT"]
["2011-04-01",null,"Insurance",null,0,0]
["2011-04-01",null,"Funds Transfer",null,0,0]
["2011-04-01",null,"Deposit",0,null,0]
["2011-03-31","#","Check",null,0,0]
["2011-03-30",null,"Walgreens",null,0,0]
["2011-03-30",null,"Chevron",null,0,0]
["2011-03-29","#","Check",null,0,0]
["2011-03-28",null,"Jumpin Jacks",null,0,0]
["2011-03-28","#","Check",null,0,0]
["2011-03-28",null,"Grocery",null,0,0]
["2011-03-28","#","Check",null,0,0]
["2011-03-28",null,"Funds Transfer",0,null,0]
["2011-03-28",null,"Funds Transfer",0,null,0]
["2011-03-25",null,"Grocery",null,0,0]
["2011-03-21",null,"PretzelMaker",null,0,0]
["2011-03-21",null,"Insurance",null,0,0]
["2011-03-21",null,"Funds Transfer",0,null,0]
["2011-03-18",null,"Deposit",0,null,0]
["2011-03-16",null,"Subway",null,0,0]
["2011-03-15",null,"Grocery",null,0,0]
["2011-03-14",null,"Grocery",null,0,0]
["2011-03-14",null,"Walgreens",null,0,0]
["2011-03-14",null,"Chevron",null,0,0]
["2011-03-11",null,"Grocery",null,0,0]
["2011-03-11",null,"Chevron",null,0,0]
["2011-03-10",null,"Insurance",null,0,0]
["2011-03-09",null,"Grocery",null,0,0]
["2011-03-09","#","Check",null,0,0]
["2011-03-07",null,"Toys'R'Us",null,0,0]
["2011-03-07",null,"Grocery",null,0,0]
[]
["Account ending in 0"]
[]
[" DATE"," DESCRIPTION"," DEPOSIT"," WITHDRAWAL"," ACCOUNT"]
["2011-04-01","Funds Transfer",0,null,0]
["2011-03-28","Funds Transfer",null,0,0]
["2011-03-28","Funds Transfer",null,0,0]
["2011-03-23","Interest",0,null,0]
["2011-03-21","Funds Transfer",null,0,0]
["2011-03-01","Funds Transfer",0,null,0]
["2011-02-28","Funds Transfer",null,0,0]
["2011-02-28","Funds Transfer",null,0,0]
["2011-02-22","Funds Transfer",0,null,0]
["2011-02-01","Funds Transfer",0,null,0]
["2011-01-31","Funds Transfer",null,0,0]
["2011-01-21","Funds Transfer",null,0,0]
["2011-01-10","Funds Transfer",0,null,0]
["2011-01-03","Funds Transfer",0,null,0]
[]
["Account ending in 0"]
[]
["DATE","DESCRIPTION","CREDIT","CHARGE"]
["2011-04-01","Charge",null,0]
["2011-04-01","Charge",null,0]
["2011-03-31","Charge",null,0]
["2011-03-31","Charge",null,0]
["2011-03-28","Payment Thank You ",0]
["2011-03-28","Charge",null,0]
["2011-03-28","Charge",null,0]
["2011-03-24","Charge",null,0]
["2011-03-21","Charge",null,0]
["2011-03-21","Charge",null,0]
["2011-03-21","Charge",null,0]
["2011-03-21","Charge",null,0]
["2011-03-21","Charge",null,0]
["2011-03-16","Charge",null,0]
["2011-03-15","Charge",null,0]
["2011-03-15","Charge",null,0]
["2011-03-14","Charge",null,0]
["2011-03-07","Charge",null,0]
["2011-03-02","Charge",null,0]
["2011-02-28","Charge",null,0]
["2011-02-28","Charge",null,0]
["2011-02-25","Payment Thank You ",0]
["2011-02-25","Charge",null,0]
["2011-02-25","Charge",null,0]
["2011-02-24","Charge",null,0]
["2011-02-24","Charge",null,0]
["2011-02-17","Charge",null,0]
["2011-01-31","Charge",null,0]
["2011-01-26","Charge",null,0]
["2011-01-24","Payment Thank You ",0]

{"sheet":"All Months","index":18,"n_rows":719,"n_cols":29,"rows_kept":719,"cut":false,"hidden":true,"merged":[]}
["Allowance","Date","Amount",null,"Gas","Date","Amount",null,"Food","Date","Amount",null,"Baby Stuff","Date","Amount",null,"Miscellaneous","Date","Amount",null,"Tax Money","Date","Amount",null,"Credit Card","Date",{"$f":"SUM(AA3:AA5004)","v":13}]
["Total","00:00:00",{"$f":"SUM(C3:C5000)","v":0},null,"Total","00:00:00",{"$f":"SUM(G3:G5000)","v":14.34},null,"Total","00:00:00",{"$f":"SUM(K3:K5001)","v":315.02},null,"Total","00:00:00",{"$f":"SUM(O3:O5000)","v":15},null,"Total","00:00:00",{"$f":"SUM(S4:S5001)","v":2.52},null,"Total","00:00:00",{"$f":"SUM(W3:W5000)","v":0},null,null,"00:00:00"]
[{"$f":"January!A3","v":0},{"$f":"January!B3","v":0},{"$f":"January!C3","v":0},null,{"$f":"January!E3","v":"Chevron"},{"$f":"January!F3","v":40544},{"$f":"January!G3","v":2.34},null,{"$f":"January!I3","v":0},{"$f":"January!J3","v":0},{"$f":"January!K3","v":0},null,{"$f":"January!M3","v":0},{"$f":"January!N3","v":0},{"$f":"January!O3","v":0},null,{"$f":"January!Q3","v":0},{"$f":"January!R3","v":0},{"$f":"January!S3","v":0},null,{"$f":"January!U3","v":0},{"$f":"January!V3","v":0},{"$f":"January!W3","v":0},null,"Charge","2011-04-01",13,null,"January"]
[{"$f":"January!A4","v":0},{"$f":"January!B4","v":0},{"$f":"January!C4","v":0},null,{"$f":"January!E4","v":0},{"$f":"January!F4","v":0},{"$f":"January!G4","v":0},null,{"$f":"January!I4","v":0},{"$f":"January!J4","v":0},{"$f":"January!K4","v":0},null,{"$f":"January!M4","v":0},{"$f":"January!N4","v":0},{"$f":"January!O4","v":0},null,{"$f":"January!Q4","v":0},{"$f":"January!R4","v":0},{"$f":"January!S4","v":0},null,{"$f":"January!U4","v":0},{"$f":"January!V4","v":0},{"$f":"January!W4","v":0}]
[{"$f":"January!A5","v":0},{"$f":"January!B5","v":0},{"$f":"January!C5","v":0},null,{"$f":"January!E5","v":0},{"$f":"January!F5","v":0},{"$f":"January!G5","v":0},null,{"$f":"January!I5","v":0},{"$f":"January!J5","v":0},{"$f":"January!K5","v":0},null,{"$f":"January!M5","v":0},{"$f":"January!N5","v":0},{"$f":"January!O5","v":0},null,{"$f":"January!Q5","v":0},{"$f":"January!R5","v":0},{"$f":"January!S5","v":0},null,{"$f":"January!U5","v":0},{"$f":"January!V5","v":0},{"$f":"January!W5","v":0}]
[{"$f":"January!A6","v":0},{"$f":"January!B6","v":0},{"$f":"January!C6","v":0},null,{"$f":"January!E6","v":0},{"$f":"January!F6","v":0},{"$f":"January!G6","v":0},null,{"$f":"January!I6","v":0},{"$f":"January!J6","v":0},{"$f":"January!K6","v":0},null,{"$f":"January!M6","v":0},{"$f":"January!N6","v":0},{"$f":"January!O6","v":0},null,{"$f":"January!Q6","v":0},{"$f":"January!R6","v":0},{"$f":"January!S6","v":0},null,{"$f":"January!U6","v":0},{"$f":"January!V6","v":0},{"$f":"January!W6","v":0}]
[{"$f":"January!A7","v":0},{"$f":"January!B7","v":0},{"$f":"January!C7","v":0},null,{"$f":"January!E7","v":0},{"$f":"January!F7","v":0},{"$f":"January!G7","v":0},null,{"$f":"January!I7","v":0},{"$f":"January!J7","v":0},{"$f":"January!K7","v":0},null,{"$f":"January!M7","v":0},{"$f":"January!N7","v":0},{"$f":"January!O7","v":0},null,{"$f":"January!Q7","v":0},{"$f":"January!R7","v":0},{"$f":"January!S7","v":0},null,{"$f":"January!U7","v":0},{"$f":"January!V7","v":0},{"$f":"January!W7","v":0}]
[{"$f":"January!A8","v":0},{"$f":"January!B8","v":0},{"$f":"January!C8","v":0},null,{"$f":"January!E8","v":0},{"$f":"January!F8","v":0},{"$f":"January!G8","v":0},null,{"$f":"January!I8","v":0},{"$f":"January!J8","v":0},{"$f":"January!K8","v":0},null,{"$f":"January!M8","v":0},{"$f":"January!N8","v":0},{"$f":"January!O8","v":0},null,{"$f":"January!Q8","v":0},{"$f":"January!R8","v":0},{"$f":"January!S8","v":0},null,{"$f":"January!U8","v":0},{"$f":"January!V8","v":0},{"$f":"January!W8","v":0}]
[{"$f":"January!A9","v":0},{"$f":"January!B9","v":0},{"$f":"January!C9","v":0},null,{"$f":"January!E9","v":0},{"$f":"January!F9","v":0},{"$f":"January!G9","v":0},null,{"$f":"January!I9","v":0},{"$f":"January!J9","v":0},{"$f":"January!K9","v":0},null,{"$f":"January!M9","v":0},{"$f":"January!N9","v":0},{"$f":"January!O9","v":0},null,{"$f":"January!Q9","v":0},{"$f":"January!R9","v":0},{"$f":"January!S9","v":0},null,{"$f":"January!U9","v":0},{"$f":"January!V9","v":0},{"$f":"January!W9","v":0}]
[{"$f":"January!A10","v":0},{"$f":"January!B10","v":0},{"$f":"January!C10","v":0},null,{"$f":"January!E10","v":0},{"$f":"January!F10","v":0},{"$f":"January!G10","v":0},null,{"$f":"January!I10","v":0},{"$f":"January!J10","v":0},{"$f":"January!K10","v":0},null,{"$f":"January!M10","v":0},{"$f":"January!N10","v":0},{"$f":"January!O10","v":0},null,{"$f":"January!Q10","v":0},{"$f":"January!R10","v":0},{"$f":"January!S10","v":0},null,{"$f":"January!U10","v":0},{"$f":"January!V10","v":0},{"$f":"January!W10","v":0}]
[{"$f":"January!A11","v":0},{"$f":"January!B11","v":0},{"$f":"January!C11","v":0},null,{"$f":"January!E11","v":0},{"$f":"January!F11","v":0},{"$f":"January!G11","v":0},null,{"$f":"January!I11","v":0},{"$f":"January!J11","v":0},{"$f":"January!K11","v":0},null,{"$f":"January!M11","v":0},{"$f":"January!N11","v":0},{"$f":"January!O11","v":0},null,{"$f":"January!Q11","v":0},{"$f":"January!R11","v":0},{"$f":"January!S11","v":0},null,{"$f":"January!U11","v":0},{"$f":"January!V11","v":0},{"$f":"January!W11","v":0}]
[{"$f":"January!A12","v":0},{"$f":"January!B12","v":0},{"$f":"January!C12","v":0},null,{"$f":"January!E12","v":0},{"$f":"January!F12","v":0},{"$f":"January!G12","v":0},null,{"$f":"January!I12","v":0},{"$f":"January!J12","v":0},{"$f":"January!K12","v":0},null,{"$f":"January!M12","v":0},{"$f":"January!N12","v":0},{"$f":"January!O12","v":0},null,{"$f":"January!Q12","v":0},{"$f":"January!R12","v":0},{"$f":"January!S12","v":0},null,{"$f":"January!U12","v":0},{"$f":"January!V12","v":0},{"$f":"January!W12","v":0}]
[{"$f":"January!A13","v":0},{"$f":"January!B13","v":0},{"$f":"January!C13","v":0},null,{"$f":"January!E13","v":0},{"$f":"January!F13","v":0},{"$f":"January!G13","v":0},null,{"$f":"January!I13","v":0},{"$f":"January!J13","v":0},{"$f":"January!K13","v":0},null,{"$f":"January!M13","v":0},{"$f":"January!N13","v":0},{"$f":"January!O13","v":0},null,{"$f":"January!Q13","v":0},{"$f":"January!R13","v":0},{"$f":"January!S13","v":0},null,{"$f":"January!U13","v":0},{"$f":"January!V13","v":0},{"$f":"January!W13","v":0}]
[{"$f":"January!A14","v":0},{"$f":"January!B14","v":0},{"$f":"January!C14","v":0},null,{"$f":"January!E14","v":0},{"$f":"January!F14","v":0},{"$f":"January!G14","v":0},null,{"$f":"January!I14","v":0},{"$f":"January!J14","v":0},{"$f":"January!K14","v":0},null,{"$f":"January!M14","v":0},{"$f":"January!N14","v":0},{"$f":"January!O14","v":0},null,{"$f":"January!Q14","v":0},{"$f":"January!R14","v":0},{"$f":"January!S14","v":0},null,{"$f":"January!U14","v":0},{"$f":"January!V14","v":0},{"$f":"January!W14","v":0}]
[{"$f":"January!A15","v":0},{"$f":"January!B15","v":0},{"$f":"January!C15","v":0},null,{"$f":"January!E15","v":0},{"$f":"January!F15","v":0},{"$f":"January!G15","v":0},null,{"$f":"January!I15","v":0},{"$f":"January!J15","v":0},{"$f":"January!K15","v":0},null,{"$f":"January!M15","v":0},{"$f":"January!N15","v":0},{"$f":"January!O15","v":0},null,{"$f":"January!Q15","v":0},{"$f":"January!R15","v":0},{"$f":"January!S15","v":0},null,{"$f":"January!U15","v":0},{"$f":"January!V15","v":0},{"$f":"January!W15","v":0}]
[{"$f":"January!A16","v":0},{"$f":"January!B16","v":0},{"$f":"January!C16","v":0},null,{"$f":"January!E16","v":0},{"$f":"January!F16","v":0},{"$f":"January!G16","v":0},null,{"$f":"January!I16","v":0},{"$f":"January!J16","v":0},{"$f":"January!K16","v":0},null,{"$f":"January!M16","v":0},{"$f":"January!N16","v":0},{"$f":"January!O16","v":0},null,{"$f":"January!Q16","v":0},{"$f":"January!R16","v":0},{"$f":"January!S16","v":0},null,{"$f":"January!U16","v":0},{"$f":"January!V16","v":0},{"$f":"January!W16","v":0}]
[{"$f":"January!A17","v":0},{"$f":"January!B17","v":0},{"$f":"January!C17","v":0},null,{"$f":"January!E17","v":0},{"$f":"January!F17","v":0},{"$f":"January!G17","v":0},null,{"$f":"January!I17","v":0},{"$f":"January!J17","v":0},{"$f":"January!K17","v":0},null,{"$f":"January!M17","v":0},{"$f":"January!N17","v":0},{"$f":"January!O17","v":0},null,{"$f":"January!Q17","v":0},{"$f":"January!R17","v":0},{"$f":"January!S17","v":0},null,{"$f":"January!U17","v":0},{"$f":"January!V17","v":0},{"$f":"January!W17","v":0}]
[{"$f":"January!A18","v":0},{"$f":"January!B18","v":0},{"$f":"January!C18","v":0},null,{"$f":"January!E18","v":0},{"$f":"January!F18","v":0},{"$f":"January!G18","v":0},null,{"$f":"January!I18","v":0},{"$f":"January!J18","v":0},{"$f":"January!K18","v":0},null,{"$f":"January!M18","v":0},{"$f":"January!N18","v":0},{"$f":"January!O18","v":0},null,{"$f":"January!Q18","v":0},{"$f":"January!R18","v":0},{"$f":"January!S18","v":0},null,{"$f":"January!U18","v":0},{"$f":"January!V18","v":0},{"$f":"January!W18","v":0}]
[{"$f":"January!A19","v":0},{"$f":"January!B19","v":0},{"$f":"January!C19","v":0},null,{"$f":"January!E19","v":0},{"$f":"January!F19","v":0},{"$f":"January!G19","v":0},null,{"$f":"January!I19","v":0},{"$f":"January!J19","v":0},{"$f":"January!K19","v":0},null,{"$f":"January!M19","v":0},{"$f":"January!N19","v":0},{"$f":"January!O19","v":0},null,{"$f":"January!Q19","v":0},{"$f":"January!R19","v":0},{"$f":"January!S19","v":0},null,{"$f":"January!U19","v":0},{"$f":"January!V19","v":0},{"$f":"January!W19","v":0}]
[{"$f":"January!A20","v":0},{"$f":"January!B20","v":0},{"$f":"January!C20","v":0},null,{"$f":"January!E20","v":0},{"$f":"January!F20","v":0},{"$f":"January!G20","v":0},null,{"$f":"January!I20","v":0},{"$f":"January!J20","v":0},{"$f":"January!K20","v":0},null,{"$f":"January!M20","v":0},{"$f":"January!N20","v":0},{"$f":"January!O20","v":0},null,{"$f":"January!Q20","v":0},{"$f":"January!R20","v":0},{"$f":"January!S20","v":0},null,{"$f":"January!U20","v":0},{"$f":"January!V20","v":0},{"$f":"January!W20","v":0}]
[{"$f":"January!A21","v":0},{"$f":"January!B21","v":0},{"$f":"January!C21","v":0},null,{"$f":"January!E21","v":0},{"$f":"January!F21","v":0},{"$f":"January!G21","v":0},null,{"$f":"January!I21","v":0},{"$f":"January!J21","v":0},{"$f":"January!K21","v":0},null,{"$f":"January!M21","v":0},{"$f":"January!N21","v":0},{"$f":"January!O21","v":0},null,{"$f":"January!Q21","v":0},{"$f":"January!R21","v":0},{"$f":"January!S21","v":0},null,{"$f":"January!U21","v":0},{"$f":"January!V21","v":0},{"$f":"January!W21","v":0}]
[{"$f":"January!A22","v":0},{"$f":"January!B22","v":0},{"$f":"January!C22","v":0},null,{"$f":"January!E22","v":0},{"$f":"January!F22","v":0},{"$f":"January!G22","v":0},null,{"$f":"January!I22","v":0},{"$f":"January!J22","v":0},{"$f":"January!K22","v":0},null,{"$f":"January!M22","v":0},{"$f":"January!N22","v":0},{"$f":"January!O22","v":0},null,{"$f":"January!Q22","v":0},{"$f":"January!R22","v":0},{"$f":"January!S22","v":0},null,{"$f":"January!U22","v":0},{"$f":"January!V22","v":0},{"$f":"January!W22","v":0}]
[{"$f":"January!A23","v":0},{"$f":"January!B23","v":0},{"$f":"January!C23","v":0},null,{"$f":"January!E23","v":0},{"$f":"January!F23","v":0},{"$f":"January!G23","v":0},null,{"$f":"January!I23","v":0},{"$f":"January!J23","v":0},{"$f":"January!K23","v":0},null,{"$f":"January!M23","v":0},{"$f":"January!N23","v":0},{"$f":"January!O23","v":0},null,{"$f":"January!Q23","v":0},{"$f":"January!R23","v":0},{"$f":"January!S23","v":0},null,{"$f":"January!U23","v":0},{"$f":"January!V23","v":0},{"$f":"January!W23","v":0}]
[{"$f":"January!A24","v":0},{"$f":"January!B24","v":0},{"$f":"January!C24","v":0},null,{"$f":"January!E24","v":0},{"$f":"January!F24","v":0},{"$f":"January!G24","v":0},null,{"$f":"January!I24","v":0},{"$f":"January!J24","v":0},{"$f":"January!K24","v":0},null,{"$f":"January!M24","v":0},{"$f":"January!N24","v":0},{"$f":"January!O24","v":0},null,{"$f":"January!Q24","v":0},{"$f":"January!R24","v":0},{"$f":"January!S24","v":0},null,{"$f":"January!U24","v":0},{"$f":"January!V24","v":0},{"$f":"January!W24","v":0}]
[{"$f":"January!A25","v":0},{"$f":"January!B25","v":0},{"$f":"January!C25","v":0},null,{"$f":"January!E25","v":0},{"$f":"January!F25","v":0},{"$f":"January!G25","v":0},null,{"$f":"January!I25","v":0},{"$f":"January!J25","v":0},{"$f":"January!K25","v":0},null,{"$f":"January!M25","v":0},{"$f":"January!N25","v":0},{"$f":"January!O25","v":0},null,{"$f":"January!Q25","v":0},{"$f":"January!R25","v":0},{"$f":"January!S25","v":0},null,{"$f":"January!U25","v":0},{"$f":"January!V25","v":0},{"$f":"January!W25","v":0}]
[{"$f":"January!A26","v":0},{"$f":"January!B26","v":0},{"$f":"January!C26","v":0},null,{"$f":"January!E26","v":0},{"$f":"January!F26","v":0},{"$f":"January!G26","v":0},null,{"$f":"January!I26","v":0},{"$f":"January!J26","v":0},{"$f":"January!K26","v":0},null,{"$f":"January!M26","v":0},{"$f":"January!N26","v":0},{"$f":"January!O26","v":0},null,{"$f":"January!Q26","v":0},{"$f":"January!R26","v":0},{"$f":"January!S26","v":0},null,{"$f":"January!U26","v":0},{"$f":"January!V26","v":0},{"$f":"January!W26","v":0}]
[{"$f":"January!A27","v":0},{"$f":"January!B27","v":0},{"$f":"January!C27","v":0},null,{"$f":"January!E27","v":0},{"$f":"January!F27","v":0},{"$f":"January!G27","v":0},null,{"$f":"January!I27","v":0},{"$f":"January!J27","v":0},{"$f":"January!K27","v":0},null,{"$f":"January!M27","v":0},{"$f":"January!N27","v":0},{"$f":"January!O27","v":0},null,{"$f":"January!Q27","v":0},{"$f":"January!R27","v":0},{"$f":"January!S27","v":0},null,{"$f":"January!U27","v":0},{"$f":"January!V27","v":0},{"$f":"January!W27","v":0}]
[{"$f":"January!A28","v":0},{"$f":"January!B28","v":0},{"$f":"January!C28","v":0},null,{"$f":"January!E28","v":0},{"$f":"January!F28","v":0},{"$f":"January!G28","v":0},null,{"$f":"January!I28","v":0},{"$f":"January!J28","v":0},{"$f":"January!K28","v":0},null,{"$f":"January!M28","v":0},{"$f":"January!N28","v":0},{"$f":"January!O28","v":0},null,{"$f":"January!Q28","v":0},{"$f":"January!R28","v":0},{"$f":"January!S28","v":0},null,{"$f":"January!U28","v":0},{"$f":"January!V28","v":0},{"$f":"January!W28","v":0}]
[{"$f":"January!A29","v":0},{"$f":"January!B29","v":0},{"$f":"January!C29","v":0},null,{"$f":"January!E29","v":0},{"$f":"January!F29","v":0},{"$f":"January!G29","v":0},null,{"$f":"January!I29","v":0},{"$f":"January!J29","v":0},{"$f":"January!K29","v":0},null,{"$f":"January!M29","v":0},{"$f":"January!N29","v":0},{"$f":"January!O29","v":0},null,{"$f":"January!Q29","v":0},{"$f":"January!R29","v":0},{"$f":"January!S29","v":0},null,{"$f":"January!U29","v":0},{"$f":"January!V29","v":0},{"$f":"January!W29","v":0}]
[{"$f":"January!A30","v":0},{"$f":"January!B30","v":0},{"$f":"January!C30","v":0},null,{"$f":"January!E30","v":0},{"$f":"January!F30","v":0},{"$f":"January!G30","v":0},null,{"$f":"January!I30","v":0},{"$f":"January!J30","v":0},{"$f":"January!K30","v":0},null,{"$f":"January!M30","v":0},{"$f":"January!N30","v":0},{"$f":"January!O30","v":0},null,{"$f":"January!Q30","v":0},{"$f":"January!R30","v":0},{"$f":"January!S30","v":0},null,{"$f":"January!U30","v":0},{"$f":"January!V30","v":0},{"$f":"January!W30","v":0}]
[{"$f":"January!A31","v":0},{"$f":"January!B31","v":0},{"$f":"January!C31","v":0},null,{"$f":"January!E31","v":0},{"$f":"January!F31","v":0},{"$f":"January!G31","v":0},null,{"$f":"January!I31","v":0},{"$f":"January!J31","v":0},{"$f":"January!K31","v":0},null,{"$f":"January!M31","v":0},{"$f":"January!N31","v":0},{"$f":"January!O31","v":0},null,{"$f":"January!Q31","v":0},{"$f":"January!R31","v":0},{"$f":"January!S31","v":0},null,{"$f":"January!U31","v":0},{"$f":"January!V31","v":0},{"$f":"January!W31","v":0}]
[{"$f":"January!A32","v":0},{"$f":"January!B32","v":0},{"$f":"January!C32","v":0},null,{"$f":"January!E32","v":0},{"$f":"January!F32","v":0},{"$f":"January!G32","v":0},null,{"$f":"January!I32","v":0},{"$f":"January!J32","v":0},{"$f":"January!K32","v":0},null,{"$f":"January!M32","v":0},{"$f":"January!N32","v":0},{"$f":"January!O32","v":0},null,{"$f":"January!Q32","v":0},{"$f":"January!R32","v":0},{"$f":"January!S32","v":0},null,{"$f":"January!U32","v":0},{"$f":"January!V32","v":0},{"$f":"January!W32","v":0}]
[{"$f":"January!A33","v":0},{"$f":"January!B33","v":0},{"$f":"January!C33","v":0},null,{"$f":"January!E33","v":0},{"$f":"January!F33","v":0},{"$f":"January!G33","v":0},null,{"$f":"January!I33","v":0},{"$f":"January!J33","v":0},{"$f":"January!K33","v":0},null,{"$f":"January!M33","v":0},{"$f":"January!N33","v":0},{"$f":"January!O33","v":0},null,{"$f":"January!Q33","v":0},{"$f":"January!R33","v":0},{"$f":"January!S33","v":0},null,{"$f":"January!U33","v":0},{"$f":"January!V33","v":0},{"$f":"January!W33","v":0}]
[{"$f":"January!A34","v":0},{"$f":"January!B34","v":0},{"$f":"January!C34","v":0},null,{"$f":"January!E34","v":0},{"$f":"January!F34","v":0},{"$f":"January!G34","v":0},null,{"$f":"January!I34","v":0},{"$f":"January!J34","v":0},{"$f":"January!K34","v":0},null,{"$f":"January!M34","v":0},{"$f":"January!N34","v":0},{"$f":"January!O34","v":0},null,{"$f":"January!Q34","v":0},{"$f":"January!R34","v":0},{"$f":"January!S34","v":0},null,{"$f":"January!U34","v":0},{"$f":"January!V34","v":0},{"$f":"January!W34","v":0}]
[{"$f":"January!A35","v":0},{"$f":"January!B35","v":0},{"$f":"January!C35","v":0},null,{"$f":"January!E35","v":0},{"$f":"January!F35","v":0},{"$f":"January!G35","v":0},null,{"$f":"January!I35","v":0},{"$f":"January!J35","v":0},{"$f":"January!K35","v":0},null,{"$f":"January!M35","v":0},{"$f":"January!N35","v":0},{"$f":"January!O35","v":0},null,{"$f":"January!Q35","v":0},{"$f":"January!R35","v":0},{"$f":"January!S35","v":0},null,{"$f":"January!U35","v":0},{"$f":"January!V35","v":0},{"$f":"January!W35","v":0}]
[{"$f":"January!A36","v":0},{"$f":"January!B36","v":0},{"$f":"January!C36","v":0},null,{"$f":"January!E36","v":0},{"$f":"January!F36","v":0},{"$f":"January!G36","v":0},null,{"$f":"January!I36","v":0},{"$f":"January!J36","v":0},{"$f":"January!K36","v":0},null,{"$f":"January!M36","v":0},{"$f":"January!N36","v":0},{"$f":"January!O36","v":0},null,{"$f":"January!Q36","v":0},{"$f":"January!R36","v":0},{"$f":"January!S36","v":0},null,{"$f":"January!U36","v":0},{"$f":"January!V36","v":0},{"$f":"January!W36","v":0}]
[{"$f":"January!A37","v":0},{"$f":"January!B37","v":0},{"$f":"January!C37","v":0},null,{"$f":"January!E37","v":0},{"$f":"January!F37","v":0},{"$f":"January!G37","v":0},null,{"$f":"January!I37","v":0},{"$f":"January!J37","v":0},{"$f":"January!K37","v":0},null,{"$f":"January!M37","v":0},{"$f":"January!N37","v":0},{"$f":"January!O37","v":0},null,{"$f":"January!Q37","v":0},{"$f":"January!R37","v":0},{"$f":"January!S37","v":0},null,{"$f":"January!U37","v":0},{"$f":"January!V37","v":0},{"$f":"January!W37","v":0}]
[{"$f":"January!A38","v":0},{"$f":"January!B38","v":0},{"$f":"January!C38","v":0},null,{"$f":"January!E38","v":0},{"$f":"January!F38","v":0},{"$f":"January!G38","v":0},null,{"$f":"January!I38","v":0},{"$f":"January!J38","v":0},{"$f":"January!K38","v":0},null,{"$f":"January!M38","v":0},{"$f":"January!N38","v":0},{"$f":"January!O38","v":0},null,{"$f":"January!Q38","v":0},{"$f":"January!R38","v":0},{"$f":"January!S38","v":0},null,{"$f":"January!U38","v":0},{"$f":"January!V38","v":0},{"$f":"January!W38","v":0}]
[{"$f":"January!A39","v":0},{"$f":"January!B39","v":0},{"$f":"January!C39","v":0},null,{"$f":"January!E39","v":0},{"$f":"January!F39","v":0},{"$f":"January!G39","v":0},null,{"$f":"January!I39","v":0},{"$f":"January!J39","v":0},{"$f":"January!K39","v":0},null,{"$f":"January!M39","v":0},{"$f":"January!N39","v":0},{"$f":"January!O39","v":0},null,{"$f":"January!Q39","v":0},{"$f":"January!R39","v":0},{"$f":"January!S39","v":0},null,{"$f":"January!U39","v":0},{"$f":"January!V39","v":0},{"$f":"January!W39","v":0}]
[{"$f":"January!A40","v":0},{"$f":"January!B40","v":0},{"$f":"January!C40","v":0},null,{"$f":"January!E40","v":0},{"$f":"January!F40","v":0},{"$f":"January!G40","v":0},null,{"$f":"January!I40","v":0},{"$f":"January!J40","v":0},{"$f":"January!K40","v":0},null,{"$f":"January!M40","v":0},{"$f":"January!N40","v":0},{"$f":"January!O40","v":0},null,{"$f":"January!Q40","v":0},{"$f":"January!R40","v":0},{"$f":"January!S40","v":0},null,{"$f":"January!U40","v":0},{"$f":"January!V40","v":0},{"$f":"January!W40","v":0}]
[{"$f":"January!A41","v":0},{"$f":"January!B41","v":0},{"$f":"January!C41","v":0},null,{"$f":"January!E41","v":0},{"$f":"January!F41","v":0},{"$f":"January!G41","v":0},null,{"$f":"January!I41","v":0},{"$f":"January!J41","v":0},{"$f":"January!K41","v":0},null,{"$f":"January!M41","v":0},{"$f":"January!N41","v":0},{"$f":"January!O41","v":0},null,{"$f":"January!Q41","v":0},{"$f":"January!R41","v":0},{"$f":"January!S41","v":0},null,{"$f":"January!U41","v":0},{"$f":"January!V41","v":0},{"$f":"January!W41","v":0}]
[{"$f":"January!A42","v":0},{"$f":"January!B42","v":0},{"$f":"January!C42","v":0},null,{"$f":"January!E42","v":0},{"$f":"January!F42","v":0},{"$f":"January!G42","v":0},null,{"$f":"January!I42","v":0},{"$f":"January!J42","v":0},{"$f":"January!K42","v":0},null,{"$f":"January!M42","v":0},{"$f":"January!N42","v":0},{"$f":"January!O42","v":0},null,{"$f":"January!Q42","v":0},{"$f":"January!R42","v":0},{"$f":"January!S42","v":0},null,{"$f":"January!U42","v":0},{"$f":"January!V42","v":0},{"$f":"January!W42","v":0}]
[{"$f":"January!A43","v":0},{"$f":"January!B43","v":0},{"$f":"January!C43","v":0},null,{"$f":"January!E43","v":0},{"$f":"January!F43","v":0},{"$f":"January!G43","v":0},null,{"$f":"January!I43","v":0},{"$f":"January!J43","v":0},{"$f":"January!K43","v":0},null,{"$f":"January!M43","v":0},{"$f":"January!N43","v":0},{"$f":"January!O43","v":0},null,{"$f":"January!Q43","v":0},{"$f":"January!R43","v":0},{"$f":"January!S43","v":0},null,{"$f":"January!U43","v":0},{"$f":"January!V43","v":0},{"$f":"January!W43","v":0}]
[{"$f":"January!A44","v":0},{"$f":"January!B44","v":0},{"$f":"January!C44","v":0},null,{"$f":"January!E44","v":0},{"$f":"January!F44","v":0},{"$f":"January!G44","v":0},null,{"$f":"January!I44","v":0},{"$f":"January!J44","v":0},{"$f":"January!K44","v":0},null,{"$f":"January!M44","v":0},{"$f":"January!N44","v":0},{"$f":"January!O44","v":0},null,{"$f":"January!Q44","v":0},{"$f":"January!R44","v":0},{"$f":"January!S44","v":0},null,{"$f":"January!U44","v":0},{"$f":"January!V44","v":0},{"$f":"January!W44","v":0}]
[{"$f":"January!A45","v":0},{"$f":"January!B45","v":0},{"$f":"January!C45","v":0},null,{"$f":"January!E45","v":0},{"$f":"January!F45","v":0},{"$f":"January!G45","v":0},null,{"$f":"January!I45","v":0},{"$f":"January!J45","v":0},{"$f":"January!K45","v":0},null,{"$f":"January!M45","v":0},{"$f":"January!N45","v":0},{"$f":"January!O45","v":0},null,{"$f":"January!Q45","v":0},{"$f":"January!R45","v":0},{"$f":"January!S45","v":0},null,{"$f":"January!U45","v":0},{"$f":"January!V45","v":0},{"$f":"January!W45","v":0}]
[{"$f":"January!A46","v":0},{"$f":"January!B46","v":0},{"$f":"January!C46","v":0},null,{"$f":"January!E46","v":0},{"$f":"January!F46","v":0},{"$f":"January!G46","v":0},null,{"$f":"January!I46","v":0},{"$f":"January!J46","v":0},{"$f":"January!K46","v":0},null,{"$f":"January!M46","v":0},{"$f":"January!N46","v":0},{"$f":"January!O46","v":0},null,{"$f":"January!Q46","v":0},{"$f":"January!R46","v":0},{"$f":"January!S46","v":0},null,{"$f":"January!U46","v":0},{"$f":"January!V46","v":0},{"$f":"January!W46","v":0}]
[{"$f":"January!A47","v":0},{"$f":"January!B47","v":0},{"$f":"January!C47","v":0},null,{"$f":"January!E47","v":0},{"$f":"January!F47","v":0},{"$f":"January!G47","v":0},null,{"$f":"January!I47","v":0},{"$f":"January!J47","v":0},{"$f":"January!K47","v":0},null,{"$f":"January!M47","v":0},{"$f":"January!N47","v":0},{"$f":"January!O47","v":0},null,{"$f":"January!Q47","v":0},{"$f":"January!R47","v":0},{"$f":"January!S47","v":0},null,{"$f":"January!U47","v":0},{"$f":"January!V47","v":0},{"$f":"January!W47","v":0}]
[{"$f":"January!A48","v":0},{"$f":"January!B48","v":0},{"$f":"January!C48","v":0},null,{"$f":"January!E48","v":0},{"$f":"January!F48","v":0},{"$f":"January!G48","v":0},null,{"$f":"January!I48","v":0},{"$f":"January!J48","v":0},{"$f":"January!K48","v":0},null,{"$f":"January!M48","v":0},{"$f":"January!N48","v":0},{"$f":"January!O48","v":0},null,{"$f":"January!Q48","v":0},{"$f":"January!R48","v":0},{"$f":"January!S48","v":0},null,{"$f":"January!U48","v":0},{"$f":"January!V48","v":0},{"$f":"January!W48","v":0}]
[{"$f":"January!A49","v":0},{"$f":"January!B49","v":0},{"$f":"January!C49","v":0},null,{"$f":"January!E49","v":0},{"$f":"January!F49","v":0},{"$f":"January!G49","v":0},null,{"$f":"January!I49","v":0},{"$f":"January!J49","v":0},{"$f":"January!K49","v":0},null,{"$f":"January!M49","v":0},{"$f":"January!N49","v":0},{"$f":"January!O49","v":0},null,{"$f":"January!Q49","v":0},{"$f":"January!R49","v":0},{"$f":"January!S49","v":0},null,{"$f":"January!U49","v":0},{"$f":"January!V49","v":0},{"$f":"January!W49","v":0}]
[{"$f":"January!A50","v":0},{"$f":"January!B50","v":0},{"$f":"January!C50","v":0},null,{"$f":"January!E50","v":0},{"$f":"January!F50","v":0},{"$f":"January!G50","v":0},null,{"$f":"January!I50","v":0},{"$f":"January!J50","v":0},{"$f":"January!K50","v":0},null,{"$f":"January!M50","v":0},{"$f":"January!N50","v":0},{"$f":"January!O50","v":0},null,{"$f":"January!Q50","v":0},{"$f":"January!R50","v":0},{"$f":"January!S50","v":0},null,{"$f":"January!U50","v":0},{"$f":"January!V50","v":0},{"$f":"January!W50","v":0}]
[{"$f":"January!A51","v":0},{"$f":"January!B51","v":0},{"$f":"January!C51","v":0},null,{"$f":"January!E51","v":0},{"$f":"January!F51","v":0},{"$f":"January!G51","v":0},null,{"$f":"January!I51","v":0},{"$f":"January!J51","v":0},{"$f":"January!K51","v":0},null,{"$f":"January!M51","v":0},{"$f":"January!N51","v":0},{"$f":"January!O51","v":0},null,{"$f":"January!Q51","v":0},{"$f":"January!R51","v":0},{"$f":"January!S51","v":0},null,{"$f":"January!U51","v":0},{"$f":"January!V51","v":0},{"$f":"January!W51","v":0}]
[{"$f":"January!A52","v":0},{"$f":"January!B52","v":0},{"$f":"January!C52","v":0},null,{"$f":"January!E52","v":0},{"$f":"January!F52","v":0},{"$f":"January!G52","v":0},null,{"$f":"January!I52","v":0},{"$f":"January!J52","v":0},{"$f":"January!K52","v":0},null,{"$f":"January!M52","v":0},{"$f":"January!N52","v":0},{"$f":"January!O52","v":0},null,{"$f":"January!Q52","v":0},{"$f":"January!R52","v":0},{"$f":"January!S52","v":0},null,{"$f":"January!U52","v":0},{"$f":"January!V52","v":0},{"$f":"January!W52","v":0}]
[{"$f":"January!A53","v":0},{"$f":"January!B53","v":0},{"$f":"January!C53","v":0},null,{"$f":"January!E53","v":0},{"$f":"January!F53","v":0},{"$f":"January!G53","v":0},null,{"$f":"January!I53","v":0},{"$f":"January!J53","v":0},{"$f":"January!K53","v":0},null,{"$f":"January!M53","v":0},{"$f":"January!N53","v":0},{"$f":"January!O53","v":0},null,{"$f":"January!Q53","v":0},{"$f":"January!R53","v":0},{"$f":"January!S53","v":0},null,{"$f":"January!U53","v":0},{"$f":"January!V53","v":0},{"$f":"January!W53","v":0}]
[{"$f":"January!A54","v":0},{"$f":"January!B54","v":0},{"$f":"January!C54","v":0},null,{"$f":"January!E54","v":0},{"$f":"January!F54","v":0},{"$f":"January!G54","v":0},null,{"$f":"January!I54","v":0},{"$f":"January!J54","v":0},{"$f":"January!K54","v":0},null,{"$f":"January!M54","v":0},{"$f":"January!N54","v":0},{"$f":"January!O54","v":0},null,{"$f":"January!Q54","v":0},{"$f":"January!R54","v":0},{"$f":"January!S54","v":0},null,{"$f":"January!U54","v":0},{"$f":"January!V54","v":0},{"$f":"January!W54","v":0}]
[{"$f":"January!A55","v":0},{"$f":"January!B55","v":0},{"$f":"January!C55","v":0},null,{"$f":"January!E55","v":0},{"$f":"January!F55","v":0},{"$f":"January!G55","v":0},null,{"$f":"January!I55","v":0},{"$f":"January!J55","v":0},{"$f":"January!K55","v":0},null,{"$f":"January!M55","v":0},{"$f":"January!N55","v":0},{"$f":"January!O55","v":0},null,{"$f":"January!Q55","v":0},{"$f":"January!R55","v":0},{"$f":"January!S55","v":0},null,{"$f":"January!U55","v":0},{"$f":"January!V55","v":0},{"$f":"January!W55","v":0}]
[{"$f":"January!A56","v":0},{"$f":"January!B56","v":0},{"$f":"January!C56","v":0},null,{"$f":"January!E56","v":0},{"$f":"January!F56","v":0},{"$f":"January!G56","v":0},null,{"$f":"January!I56","v":0},{"$f":"January!J56","v":0},{"$f":"January!K56","v":0},null,{"$f":"January!M56","v":0},{"$f":"January!N56","v":0},{"$f":"January!O56","v":0},null,{"$f":"January!Q56","v":0},{"$f":"January!R56","v":0},{"$f":"January!S56","v":0},null,{"$f":"January!U56","v":0},{"$f":"January!V56","v":0},{"$f":"January!W56","v":0}]
[{"$f":"January!A57","v":0},{"$f":"January!B57","v":0},{"$f":"January!C57","v":0},null,{"$f":"January!E57","v":0},{"$f":"January!F57","v":0},{"$f":"January!G57","v":0},null,{"$f":"January!I57","v":0},{"$f":"January!J57","v":0},{"$f":"January!K57","v":0},null,{"$f":"January!M57","v":0},{"$f":"January!N57","v":0},{"$f":"January!O57","v":0},null,{"$f":"January!Q57","v":0},{"$f":"January!R57","v":0},{"$f":"January!S57","v":0},null,{"$f":"January!U57","v":0},{"$f":"January!V57","v":0},{"$f":"January!W57","v":0}]
[{"$f":"January!A58","v":0},{"$f":"January!B58","v":0},{"$f":"January!C58","v":0},null,{"$f":"January!E58","v":0},{"$f":"January!F58","v":0},{"$f":"January!G58","v":0},null,{"$f":"January!I58","v":0},{"$f":"January!J58","v":0},{"$f":"January!K58","v":0},null,{"$f":"January!M58","v":0},{"$f":"January!N58","v":0},{"$f":"January!O58","v":0},null,{"$f":"January!Q58","v":0},{"$f":"January!R58","v":0},{"$f":"January!S58","v":0},null,{"$f":"January!U58","v":0},{"$f":"January!V58","v":0},{"$f":"January!W58","v":0}]
[{"$f":"January!A59","v":0},{"$f":"January!B59","v":0},{"$f":"January!C59","v":0},null,{"$f":"January!E59","v":0},{"$f":"January!F59","v":0},{"$f":"January!G59","v":0},null,{"$f":"January!I59","v":0},{"$f":"January!J59","v":0},{"$f":"January!K59","v":0},null,{"$f":"January!M59","v":0},{"$f":"January!N59","v":0},{"$f":"January!O59","v":0},null,{"$f":"January!Q59","v":0},{"$f":"January!R59","v":0},{"$f":"January!S59","v":0},null,{"$f":"January!U59","v":0},{"$f":"January!V59","v":0},{"$f":"January!W59","v":0}]
[{"$f":"February!A3","v":0},{"$f":"February!B3","v":0},{"$f":"February!C3","v":0},null,{"$f":"February!E3","v":0},{"$f":"February!F3","v":0},{"$f":"February!G3","v":0},null,{"$f":"February!I3","v":0},{"$f":"February!J3","v":0},{"$f":"February!K3","v":0},null,{"$f":"February!M3","v":0},{"$f":"February!N3","v":0},{"$f":"February!O3","v":0},null,{"$f":"February!Q3","v":0},{"$f":"February!R3","v":0},{"$f":"February!S3","v":0},null,{"$f":"February!U3","v":0},{"$f":"February!V3","v":0},{"$f":"February!W3","v":0},null,null,null,null,null,"February"]
[{"$f":"February!A4","v":0},{"$f":"February!B4","v":0},{"$f":"February!C4","v":0},null,{"$f":"February!E4","v":0},{"$f":"February!F4","v":0},{"$f":"February!G4","v":0},null,{"$f":"February!I4","v":0},{"$f":"February!J4","v":0},{"$f":"February!K4","v":0},null,{"$f":"February!M4","v":0},{"$f":"February!N4","v":0},{"$f":"February!O4","v":0},null,{"$f":"February!Q4","v":0},{"$f":"February!R4","v":0},{"$f":"February!S4","v":0},null,{"$f":"February!U4","v":0},{"$f":"February!V4","v":0},{"$f":"February!W4","v":0}]
[{"$f":"February!A5","v":0},{"$f":"February!B5","v":0},{"$f":"February!C5","v":0},null,{"$f":"February!E5","v":0},{"$f":"February!F5","v":0},{"$f":"February!G5","v":0},null,{"$f":"February!I5","v":0},{"$f":"February!J5","v":0},{"$f":"February!K5","v":0},null,{"$f":"February!M5","v":0},{"$f":"February!N5","v":0},{"$f":"February!O5","v":0},null,{"$f":"February!Q5","v":0},{"$f":"February!R5","v":0},{"$f":"February!S5","v":0},null,{"$f":"February!U5","v":0},{"$f":"February!V5","v":0},{"$f":"February!W5","v":0}]
[{"$f":"February!A6","v":0},{"$f":"February!B6","v":0},{"$f":"February!C6","v":0},null,{"$f":"February!E6","v":0},{"$f":"February!F6","v":0},{"$f":"February!G6","v":0},null,{"$f":"February!I6","v":0},{"$f":"February!J6","v":0},{"$f":"February!K6","v":0},null,{"$f":"February!M6","v":0},{"$f":"February!N6","v":0},{"$f":"February!O6","v":0},null,{"$f":"February!Q6","v":0},{"$f":"February!R6","v":0},{"$f":"February!S6","v":0},null,{"$f":"February!U6","v":0},{"$f":"February!V6","v":0},{"$f":"February!W6","v":0}]
[{"$f":"February!A7","v":0},{"$f":"February!B7","v":0},{"$f":"February!C7","v":0},null,{"$f":"February!E7","v":0},{"$f":"February!F7","v":0},{"$f":"February!G7","v":0},null,{"$f":"February!I7","v":0},{"$f":"February!J7","v":0},{"$f":"February!K7","v":0},null,{"$f":"February!M7","v":0},{"$f":"February!N7","v":0},{"$f":"February!O7","v":0},null,{"$f":"February!Q7","v":0},{"$f":"February!R7","v":0},{"$f":"February!S7","v":0},null,{"$f":"February!U7","v":0},{"$f":"February!V7","v":0},{"$f":"February!W7","v":0}]
[{"$f":"February!A8","v":0},{"$f":"February!B8","v":0},{"$f":"February!C8","v":0},null,{"$f":"February!E8","v":0},{"$f":"February!F8","v":0},{"$f":"February!G8","v":0},null,{"$f":"February!I8","v":0},{"$f":"February!J8","v":0},{"$f":"February!K8","v":0},null,{"$f":"February!M8","v":0},{"$f":"February!N8","v":0},{"$f":"February!O8","v":0},null,{"$f":"February!Q8","v":0},{"$f":"February!R8","v":0},{"$f":"February!S8","v":0},null,{"$f":"February!U8","v":0},{"$f":"February!V8","v":0},{"$f":"February!W8","v":0}]
[{"$f":"February!A9","v":0},{"$f":"February!B9","v":0},{"$f":"February!C9","v":0},null,{"$f":"February!E9","v":0},{"$f":"February!F9","v":0},{"$f":"February!G9","v":0},null,{"$f":"February!I9","v":0},{"$f":"February!J9","v":0},{"$f":"February!K9","v":0},null,{"$f":"February!M9","v":0},{"$f":"February!N9","v":0},{"$f":"February!O9","v":0},null,{"$f":"February!Q9","v":0},{"$f":"February!R9","v":0},{"$f":"February!S9","v":0},null,{"$f":"February!U9","v":0},{"$f":"February!V9","v":0},{"$f":"February!W9","v":0}]
[{"$f":"February!A10","v":0},{"$f":"February!B10","v":0},{"$f":"February!C10","v":0},null,{"$f":"February!E10","v":0},{"$f":"February!F10","v":0},{"$f":"February!G10","v":0},null,{"$f":"February!I10","v":0},{"$f":"February!J10","v":0},{"$f":"February!K10","v":0},null,{"$f":"February!M10","v":0},{"$f":"February!N10","v":0},{"$f":"February!O10","v":0},null,{"$f":"February!Q10","v":0},{"$f":"February!R10","v":0},{"$f":"February!S10","v":0},null,{"$f":"February!U10","v":0},{"$f":"February!V10","v":0},{"$f":"February!W10","v":0}]
[{"$f":"February!A11","v":0},{"$f":"February!B11","v":0},{"$f":"February!C11","v":0},null,{"$f":"February!E11","v":0},{"$f":"February!F11","v":0},{"$f":"February!G11","v":0},null,{"$f":"February!I11","v":0},{"$f":"February!J11","v":0},{"$f":"February!K11","v":0},null,{"$f":"February!M11","v":0},{"$f":"February!N11","v":0},{"$f":"February!O11","v":0},null,{"$f":"February!Q11","v":0},{"$f":"February!R11","v":0},{"$f":"February!S11","v":0},null,{"$f":"February!U11","v":0},{"$f":"February!V11","v":0},{"$f":"February!W11","v":0}]
[{"$f":"February!A12","v":0},{"$f":"February!B12","v":0},{"$f":"February!C12","v":0},null,{"$f":"February!E12","v":0},{"$f":"February!F12","v":0},{"$f":"February!G12","v":0},null,{"$f":"February!I12","v":0},{"$f":"February!J12","v":0},{"$f":"February!K12","v":0},null,{"$f":"February!M12","v":0},{"$f":"February!N12","v":0},{"$f":"February!O12","v":0},null,{"$f":"February!Q12","v":0},{"$f":"February!R12","v":0},{"$f":"February!S12","v":0},null,{"$f":"February!U12","v":0},{"$f":"February!V12","v":0},{"$f":"February!W12","v":0}]
[{"$f":"February!A13","v":0},{"$f":"February!B13","v":0},{"$f":"February!C13","v":0},null,{"$f":"February!E13","v":0},{"$f":"February!F13","v":0},{"$f":"February!G13","v":0},null,{"$f":"February!I13","v":0},{"$f":"February!J13","v":0},{"$f":"February!K13","v":0},null,{"$f":"February!M13","v":0},{"$f":"February!N13","v":0},{"$f":"February!O13","v":0},null,{"$f":"February!Q13","v":0},{"$f":"February!R13","v":0},{"$f":"February!S13","v":0},null,{"$f":"February!U13","v":0},{"$f":"February!V13","v":0},{"$f":"February!W13","v":0}]
[{"$f":"February!A14","v":0},{"$f":"February!B14","v":0},{"$f":"February!C14","v":0},null,{"$f":"February!E14","v":0},{"$f":"February!F14","v":0},{"$f":"February!G14","v":0},null,{"$f":"February!I14","v":0},{"$f":"February!J14","v":0},{"$f":"February!K14","v":0},null,{"$f":"February!M14","v":0},{"$f":"February!N14","v":0},{"$f":"February!O14","v":0},null,{"$f":"February!Q14","v":0},{"$f":"February!R14","v":0},{"$f":"February!S14","v":0},null,{"$f":"February!U14","v":0},{"$f":"February!V14","v":0},{"$f":"February!W14","v":0}]
[{"$f":"February!A15","v":0},{"$f":"February!B15","v":0},{"$f":"February!C15","v":0},null,{"$f":"February!E15","v":0},{"$f":"February!F15","v":0},{"$f":"February!G15","v":0},null,{"$f":"February!I15","v":0},{"$f":"February!J15","v":0},{"$f":"February!K15","v":0},null,{"$f":"February!M15","v":0},{"$f":"February!N15","v":0},{"$f":"February!O15","v":0},null,{"$f":"February!Q15","v":0},{"$f":"February!R15","v":0},{"$f":"February!S15","v":0},null,{"$f":"February!U15","v":0},{"$f":"February!V15","v":0},{"$f":"February!W15","v":0}]
[{"$f":"February!A16","v":0},{"$f":"February!B16","v":0},{"$f":"February!C16","v":0},null,{"$f":"February!E16","v":0},{"$f":"February!F16","v":0},{"$f":"February!G16","v":0},null,{"$f":"February!I16","v":0},{"$f":"February!J16","v":0},{"$f":"February!K16","v":0},null,{"$f":"February!M16","v":0},{"$f":"February!N16","v":0},{"$f":"February!O16","v":0},null,{"$f":"February!Q16","v":0},{"$f":"February!R16","v":0},{"$f":"February!S16","v":0},null,{"$f":"February!U16","v":0},{"$f":"February!V16","v":0},{"$f":"February!W16","v":0}]
[{"$f":"February!A17","v":0},{"$f":"February!B17","v":0},{"$f":"February!C17","v":0},null,{"$f":"February!E17","v":0},{"$f":"February!F17","v":0},{"$f":"February!G17","v":0},null,{"$f":"February!I17","v":0},{"$f":"February!J17","v":0},{"$f":"February!K17","v":0},null,{"$f":"February!M17","v":0},{"$f":"February!N17","v":0},{"$f":"February!O17","v":0},null,{"$f":"February!Q17","v":0},{"$f":"February!R17","v":0},{"$f":"February!S17","v":0},null,{"$f":"February!U17","v":0},{"$f":"February!V17","v":0},{"$f":"February!W17","v":0}]
[{"$f":"February!A18","v":0},{"$f":"February!B18","v":0},{"$f":"February!C18","v":0},null,{"$f":"February!E18","v":0},{"$f":"February!F18","v":0},{"$f":"February!G18","v":0},null,{"$f":"February!I18","v":0},{"$f":"February!J18","v":0},{"$f":"February!K18","v":0},null,{"$f":"February!M18","v":0},{"$f":"February!N18","v":0},{"$f":"February!O18","v":0},null,{"$f":"February!Q18","v":0},{"$f":"February!R18","v":0},{"$f":"February!S18","v":0},null,{"$f":"February!U18","v":0},{"$f":"February!V18","v":0},{"$f":"February!W18","v":0}]
[{"$f":"February!A19","v":0},{"$f":"February!B19","v":0},{"$f":"February!C19","v":0},null,{"$f":"February!E19","v":0},{"$f":"February!F19","v":0},{"$f":"February!G19","v":0},null,{"$f":"February!I19","v":0},{"$f":"February!J19","v":0},{"$f":"February!K19","v":0},null,{"$f":"February!M19","v":0},{"$f":"February!N19","v":0},{"$f":"February!O19","v":0},null,{"$f":"February!Q19","v":0},{"$f":"February!R19","v":0},{"$f":"February!S19","v":0},null,{"$f":"February!U19","v":0},{"$f":"February!V19","v":0},{"$f":"February!W19","v":0}]
[{"$f":"February!A20","v":0},{"$f":"February!B20","v":0},{"$f":"February!C20","v":0},null,{"$f":"February!E20","v":0},{"$f":"February!F20","v":0},{"$f":"February!G20","v":0},null,{"$f":"February!I20","v":0},{"$f":"February!J20","v":0},{"$f":"February!K20","v":0},null,{"$f":"February!M20","v":0},{"$f":"February!N20","v":0},{"$f":"February!O20","v":0},null,{"$f":"February!Q20","v":0},{"$f":"February!R20","v":0},{"$f":"February!S20","v":0},null,{"$f":"February!U20","v":0},{"$f":"February!V20","v":0},{"$f":"February!W20","v":0}]
[{"$f":"February!A21","v":0},{"$f":"February!B21","v":0},{"$f":"February!C21","v":0},null,{"$f":"February!E21","v":0},{"$f":"February!F21","v":0},{"$f":"February!G21","v":0},null,{"$f":"February!I21","v":0},{"$f":"February!J21","v":0},{"$f":"February!K21","v":0},null,{"$f":"February!M21","v":0},{"$f":"February!N21","v":0},{"$f":"February!O21","v":0},null,{"$f":"February!Q21","v":0},{"$f":"February!R21","v":0},{"$f":"February!S21","v":0},null,{"$f":"February!U21","v":0},{"$f":"February!V21","v":0},{"$f":"February!W21","v":0}]
[{"$f":"February!A22","v":0},{"$f":"February!B22","v":0},{"$f":"February!C22","v":0},null,{"$f":"February!E22","v":0},{"$f":"February!F22","v":0},{"$f":"February!G22","v":0},null,{"$f":"February!I22","v":0},{"$f":"February!J22","v":0},{"$f":"February!K22","v":0},null,{"$f":"February!M22","v":0},{"$f":"February!N22","v":0},{"$f":"February!O22","v":0},null,{"$f":"February!Q22","v":0},{"$f":"February!R22","v":0},{"$f":"February!S22","v":0},null,{"$f":"February!U22","v":0},{"$f":"February!V22","v":0},{"$f":"February!W22","v":0}]
[{"$f":"February!A23","v":0},{"$f":"February!B23","v":0},{"$f":"February!C23","v":0},null,{"$f":"February!E23","v":0},{"$f":"February!F23","v":0},{"$f":"February!G23","v":0},null,{"$f":"February!I23","v":0},{"$f":"February!J23","v":0},{"$f":"February!K23","v":0},null,{"$f":"February!M23","v":0},{"$f":"February!N23","v":0},{"$f":"February!O23","v":0},null,{"$f":"February!Q23","v":0},{"$f":"February!R23","v":0},{"$f":"February!S23","v":0},null,{"$f":"February!U23","v":0},{"$f":"February!V23","v":0},{"$f":"February!W23","v":0}]
[{"$f":"February!A24","v":0},{"$f":"February!B24","v":0},{"$f":"February!C24","v":0},null,{"$f":"February!E24","v":0},{"$f":"February!F24","v":0},{"$f":"February!G24","v":0},null,{"$f":"February!I24","v":0},{"$f":"February!J24","v":0},{"$f":"February!K24","v":0},null,{"$f":"February!M24","v":0},{"$f":"February!N24","v":0},{"$f":"February!O24","v":0},null,{"$f":"February!Q24","v":0},{"$f":"February!R24","v":0},{"$f":"February!S24","v":0},null,{"$f":"February!U24","v":0},{"$f":"February!V24","v":0},{"$f":"February!W24","v":0}]
[{"$f":"February!A25","v":0},{"$f":"February!B25","v":0},{"$f":"February!C25","v":0},null,{"$f":"February!E25","v":0},{"$f":"February!F25","v":0},{"$f":"February!G25","v":0},null,{"$f":"February!I25","v":0},{"$f":"February!J25","v":0},{"$f":"February!K25","v":0},null,{"$f":"February!M25","v":0},{"$f":"February!N25","v":0},{"$f":"February!O25","v":0},null,{"$f":"February!Q25","v":0},{"$f":"February!R25","v":0},{"$f":"February!S25","v":0},null,{"$f":"February!U25","v":0},{"$f":"February!V25","v":0},{"$f":"February!W25","v":0}]
[{"$f":"February!A26","v":0},{"$f":"February!B26","v":0},{"$f":"February!C26","v":0},null,{"$f":"February!E26","v":0},{"$f":"February!F26","v":0},{"$f":"February!G26","v":0},null,{"$f":"February!I26","v":0},{"$f":"February!J26","v":0},{"$f":"February!K26","v":0},null,{"$f":"February!M26","v":0},{"$f":"February!N26","v":0},{"$f":"February!O26","v":0},null,{"$f":"February!Q26","v":0},{"$f":"February!R26","v":0},{"$f":"February!S26","v":0},null,{"$f":"February!U26","v":0},{"$f":"February!V26","v":0},{"$f":"February!W26","v":0}]
[{"$f":"February!A27","v":0},{"$f":"February!B27","v":0},{"$f":"February!C27","v":0},null,{"$f":"February!E27","v":0},{"$f":"February!F27","v":0},{"$f":"February!G27","v":0},null,{"$f":"February!I27","v":0},{"$f":"February!J27","v":0},{"$f":"February!K27","v":0},null,{"$f":"February!M27","v":0},{"$f":"February!N27","v":0},{"$f":"February!O27","v":0},null,{"$f":"February!Q27","v":0},{"$f":"February!R27","v":0},{"$f":"February!S27","v":0},null,{"$f":"February!U27","v":0},{"$f":"February!V27","v":0},{"$f":"February!W27","v":0}]
[{"$f":"February!A28","v":0},{"$f":"February!B28","v":0},{"$f":"February!C28","v":0},null,{"$f":"February!E28","v":0},{"$f":"February!F28","v":0},{"$f":"February!G28","v":0},null,{"$f":"February!I28","v":0},{"$f":"February!J28","v":0},{"$f":"February!K28","v":0},null,{"$f":"February!M28","v":0},{"$f":"February!N28","v":0},{"$f":"February!O28","v":0},null,{"$f":"February!Q28","v":0},{"$f":"February!R28","v":0},{"$f":"February!S28","v":0},null,{"$f":"February!U28","v":0},{"$f":"February!V28","v":0},{"$f":"February!W28","v":0}]
[{"$f":"February!A29","v":0},{"$f":"February!B29","v":0},{"$f":"February!C29","v":0},null,{"$f":"February!E29","v":0},{"$f":"February!F29","v":0},{"$f":"February!G29","v":0},null,{"$f":"February!I29","v":0},{"$f":"February!J29","v":0},{"$f":"February!K29","v":0},null,{"$f":"February!M29","v":0},{"$f":"February!N29","v":0},{"$f":"February!O29","v":0},null,{"$f":"February!Q29","v":0},{"$f":"February!R29","v":0},{"$f":"February!S29","v":0},null,{"$f":"February!U29","v":0},{"$f":"February!V29","v":0},{"$f":"February!W29","v":0}]
[{"$f":"February!A30","v":0},{"$f":"February!B30","v":0},{"$f":"February!C30","v":0},null,{"$f":"February!E30","v":0},{"$f":"February!F30","v":0},{"$f":"February!G30","v":0},null,{"$f":"February!I30","v":0},{"$f":"February!J30","v":0},{"$f":"February!K30","v":0},null,{"$f":"February!M30","v":0},{"$f":"February!N30","v":0},{"$f":"February!O30","v":0},null,{"$f":"February!Q30","v":0},{"$f":"February!R30","v":0},{"$f":"February!S30","v":0},null,{"$f":"February!U30","v":0},{"$f":"February!V30","v":0},{"$f":"February!W30","v":0}]
[{"$f":"February!A31","v":0},{"$f":"February!B31","v":0},{"$f":"February!C31","v":0},null,{"$f":"February!E31","v":0},{"$f":"February!F31","v":0},{"$f":"February!G31","v":0},null,{"$f":"February!I31","v":0},{"$f":"February!J31","v":0},{"$f":"February!K31","v":0},null,{"$f":"February!M31","v":0},{"$f":"February!N31","v":0},{"$f":"February!O31","v":0},null,{"$f":"February!Q31","v":0},{"$f":"February!R31","v":0},{"$f":"February!S31","v":0},null,{"$f":"February!U31","v":0},{"$f":"February!V31","v":0},{"$f":"February!W31","v":0}]
[{"$f":"February!A32","v":0},{"$f":"February!B32","v":0},{"$f":"February!C32","v":0},null,{"$f":"February!E32","v":0},{"$f":"February!F32","v":0},{"$f":"February!G32","v":0},null,{"$f":"February!I32","v":0},{"$f":"February!J32","v":0},{"$f":"February!K32","v":0},null,{"$f":"February!M32","v":0},{"$f":"February!N32","v":0},{"$f":"February!O32","v":0},null,{"$f":"February!Q32","v":0},{"$f":"February!R32","v":0},{"$f":"February!S32","v":0},null,{"$f":"February!U32","v":0},{"$f":"February!V32","v":0},{"$f":"February!W32","v":0}]
[{"$f":"February!A33","v":0},{"$f":"February!B33","v":0},{"$f":"February!C33","v":0},null,{"$f":"February!E33","v":0},{"$f":"February!F33","v":0},{"$f":"February!G33","v":0},null,{"$f":"February!I33","v":0},{"$f":"February!J33","v":0},{"$f":"February!K33","v":0},null,{"$f":"February!M33","v":0},{"$f":"February!N33","v":0},{"$f":"February!O33","v":0},null,{"$f":"February!Q33","v":0},{"$f":"February!R33","v":0},{"$f":"February!S33","v":0},null,{"$f":"February!U33","v":0},{"$f":"February!V33","v":0},{"$f":"February!W33","v":0}]
[{"$f":"February!A34","v":0},{"$f":"February!B34","v":0},{"$f":"February!C34","v":0},null,{"$f":"February!E34","v":0},{"$f":"February!F34","v":0},{"$f":"February!G34","v":0},null,{"$f":"February!I34","v":0},{"$f":"February!J34","v":0},{"$f":"February!K34","v":0},null,{"$f":"February!M34","v":0},{"$f":"February!N34","v":0},{"$f":"February!O34","v":0},null,{"$f":"February!Q34","v":0},{"$f":"February!R34","v":0},{"$f":"February!S34","v":0},null,{"$f":"February!U34","v":0},{"$f":"February!V34","v":0},{"$f":"February!W34","v":0}]
[{"$f":"February!A35","v":0},{"$f":"February!B35","v":0},{"$f":"February!C35","v":0},null,{"$f":"February!E35","v":0},{"$f":"February!F35","v":0},{"$f":"February!G35","v":0},null,{"$f":"February!I35","v":0},{"$f":"February!J35","v":0},{"$f":"February!K35","v":0},null,{"$f":"February!M35","v":0},{"$f":"February!N35","v":0},{"$f":"February!O35","v":0},null,{"$f":"February!Q35","v":0},{"$f":"February!R35","v":0},{"$f":"February!S35","v":0},null,{"$f":"February!U35","v":0},{"$f":"February!V35","v":0},{"$f":"February!W35","v":0}]
[{"$f":"February!A36","v":0},{"$f":"February!B36","v":0},{"$f":"February!C36","v":0},null,{"$f":"February!E36","v":0},{"$f":"February!F36","v":0},{"$f":"February!G36","v":0},null,{"$f":"February!I36","v":0},{"$f":"February!J36","v":0},{"$f":"February!K36","v":0},null,{"$f":"February!M36","v":0},{"$f":"February!N36","v":0},{"$f":"February!O36","v":0},null,{"$f":"February!Q36","v":0},{"$f":"February!R36","v":0},{"$f":"February!S36","v":0},null,{"$f":"February!U36","v":0},{"$f":"February!V36","v":0},{"$f":"February!W36","v":0}]
[{"$f":"February!A37","v":0},{"$f":"February!B37","v":0},{"$f":"February!C37","v":0},null,{"$f":"February!E37","v":0},{"$f":"February!F37","v":0},{"$f":"February!G37","v":0},null,{"$f":"February!I37","v":0},{"$f":"February!J37","v":0},{"$f":"February!K37","v":0},null,{"$f":"February!M37","v":0},{"$f":"February!N37","v":0},{"$f":"February!O37","v":0},null,{"$f":"February!Q37","v":0},{"$f":"February!R37","v":0},{"$f":"February!S37","v":0},null,{"$f":"February!U37","v":0},{"$f":"February!V37","v":0},{"$f":"February!W37","v":0}]
[{"$f":"February!A38","v":0},{"$f":"February!B38","v":0},{"$f":"February!C38","v":0},null,{"$f":"February!E38","v":0},{"$f":"February!F38","v":0},{"$f":"February!G38","v":0},null,{"$f":"February!I38","v":0},{"$f":"February!J38","v":0},{"$f":"February!K38","v":0},null,{"$f":"February!M38","v":0},{"$f":"February!N38","v":0},{"$f":"February!O38","v":0},null,{"$f":"February!Q38","v":0},{"$f":"February!R38","v":0},{"$f":"February!S38","v":0},null,{"$f":"February!U38","v":0},{"$f":"February!V38","v":0},{"$f":"February!W38","v":0}]
[{"$f":"February!A39","v":0},{"$f":"February!B39","v":0},{"$f":"February!C39","v":0},null,{"$f":"February!E39","v":0},{"$f":"February!F39","v":0},{"$f":"February!G39","v":0},null,{"$f":"February!I39","v":0},{"$f":"February!J39","v":0},{"$f":"February!K39","v":0},null,{"$f":"February!M39","v":0},{"$f":"February!N39","v":0},{"$f":"February!O39","v":0},null,{"$f":"February!Q39","v":0},{"$f":"February!R39","v":0},{"$f":"February!S39","v":0},null,{"$f":"February!U39","v":0},{"$f":"February!V39","v":0},{"$f":"February!W39","v":0}]
[{"$f":"February!A40","v":0},{"$f":"February!B40","v":0},{"$f":"February!C40","v":0},null,{"$f":"February!E40","v":0},{"$f":"February!F40","v":0},{"$f":"February!G40","v":0},null,{"$f":"February!I40","v":0},{"$f":"February!J40","v":0},{"$f":"February!K40","v":0},null,{"$f":"February!M40","v":0},{"$f":"February!N40","v":0},{"$f":"February!O40","v":0},null,{"$f":"February!Q40","v":0},{"$f":"February!R40","v":0},{"$f":"February!S40","v":0},null,{"$f":"February!U40","v":0},{"$f":"February!V40","v":0},{"$f":"February!W40","v":0}]
[{"$f":"February!A41","v":0},{"$f":"February!B41","v":0},{"$f":"February!C41","v":0},null,{"$f":"February!E41","v":0},{"$f":"February!F41","v":0},{"$f":"February!G41","v":0},null,{"$f":"February!I41","v":0},{"$f":"February!J41","v":0},{"$f":"February!K41","v":0},null,{"$f":"February!M41","v":0},{"$f":"February!N41","v":0},{"$f":"February!O41","v":0},null,{"$f":"February!Q41","v":0},{"$f":"February!R41","v":0},{"$f":"February!S41","v":0},null,{"$f":"February!U41","v":0},{"$f":"February!V41","v":0},{"$f":"February!W41","v":0}]
[{"$f":"February!A42","v":0},{"$f":"February!B42","v":0},{"$f":"February!C42","v":0},null,{"$f":"February!E42","v":0},{"$f":"February!F42","v":0},{"$f":"February!G42","v":0},null,{"$f":"February!I42","v":0},{"$f":"February!J42","v":0},{"$f":"February!K42","v":0},null,{"$f":"February!M42","v":0},{"$f":"February!N42","v":0},{"$f":"February!O42","v":0},null,{"$f":"February!Q42","v":0},{"$f":"February!R42","v":0},{"$f":"February!S42","v":0},null,{"$f":"February!U42","v":0},{"$f":"February!V42","v":0},{"$f":"February!W42","v":0}]
[{"$f":"February!A43","v":0},{"$f":"February!B43","v":0},{"$f":"February!C43","v":0},null,{"$f":"February!E43","v":0},{"$f":"February!F43","v":0},{"$f":"February!G43","v":0},null,{"$f":"February!I43","v":0},{"$f":"February!J43","v":0},{"$f":"February!K43","v":0},null,{"$f":"February!M43","v":0},{"$f":"February!N43","v":0},{"$f":"February!O43","v":0},null,{"$f":"February!Q43","v":0},{"$f":"February!R43","v":0},{"$f":"February!S43","v":0},null,{"$f":"February!U43","v":0},{"$f":"February!V43","v":0},{"$f":"February!W43","v":0}]
[{"$f":"February!A44","v":0},{"$f":"February!B44","v":0},{"$f":"February!C44","v":0},null,{"$f":"February!E44","v":0},{"$f":"February!F44","v":0},{"$f":"February!G44","v":0},null,{"$f":"February!I44","v":0},{"$f":"February!J44","v":0},{"$f":"February!K44","v":0},null,{"$f":"February!M44","v":0},{"$f":"February!N44","v":0},{"$f":"February!O44","v":0},null,{"$f":"February!Q44","v":0},{"$f":"February!R44","v":0},{"$f":"February!S44","v":0},null,{"$f":"February!U44","v":0},{"$f":"February!V44","v":0},{"$f":"February!W44","v":0}]
[{"$f":"February!A45","v":0},{"$f":"February!B45","v":0},{"$f":"February!C45","v":0},null,{"$f":"February!E45","v":0},{"$f":"February!F45","v":0},{"$f":"February!G45","v":0},null,{"$f":"February!I45","v":0},{"$f":"February!J45","v":0},{"$f":"February!K45","v":0},null,{"$f":"February!M45","v":0},{"$f":"February!N45","v":0},{"$f":"February!O45","v":0},null,{"$f":"February!Q45","v":0},{"$f":"February!R45","v":0},{"$f":"February!S45","v":0},null,{"$f":"February!U45","v":0},{"$f":"February!V45","v":0},{"$f":"February!W45","v":0}]
[{"$f":"February!A46","v":0},{"$f":"February!B46","v":0},{"$f":"February!C46","v":0},null,{"$f":"February!E46","v":0},{"$f":"February!F46","v":0},{"$f":"February!G46","v":0},null,{"$f":"February!I46","v":0},{"$f":"February!J46","v":0},{"$f":"February!K46","v":0},null,{"$f":"February!M46","v":0},{"$f":"February!N46","v":0},{"$f":"February!O46","v":0},null,{"$f":"February!Q46","v":0},{"$f":"February!R46","v":0},{"$f":"February!S46","v":0},null,{"$f":"February!U46","v":0},{"$f":"February!V46","v":0},{"$f":"February!W46","v":0}]
[{"$f":"February!A47","v":0},{"$f":"February!B47","v":0},{"$f":"February!C47","v":0},null,{"$f":"February!E47","v":0},{"$f":"February!F47","v":0},{"$f":"February!G47","v":0},null,{"$f":"February!I47","v":0},{"$f":"February!J47","v":0},{"$f":"February!K47","v":0},null,{"$f":"February!M47","v":0},{"$f":"February!N47","v":0},{"$f":"February!O47","v":0},null,{"$f":"February!Q47","v":0},{"$f":"February!R47","v":0},{"$f":"February!S47","v":0},null,{"$f":"February!U47","v":0},{"$f":"February!V47","v":0},{"$f":"February!W47","v":0}]
[{"$f":"February!A48","v":0},{"$f":"February!B48","v":0},{"$f":"February!C48","v":0},null,{"$f":"February!E48","v":0},{"$f":"February!F48","v":0},{"$f":"February!G48","v":0},null,{"$f":"February!I48","v":0},{"$f":"February!J48","v":0},{"$f":"February!K48","v":0},null,{"$f":"February!M48","v":0},{"$f":"February!N48","v":0},{"$f":"February!O48","v":0},null,{"$f":"February!Q48","v":0},{"$f":"February!R48","v":0},{"$f":"February!S48","v":0},null,{"$f":"February!U48","v":0},{"$f":"February!V48","v":0},{"$f":"February!W48","v":0}]
[{"$f":"February!A49","v":0},{"$f":"February!B49","v":0},{"$f":"February!C49","v":0},null,{"$f":"February!E49","v":0},{"$f":"February!F49","v":0},{"$f":"February!G49","v":0},null,{"$f":"February!I49","v":0},{"$f":"February!J49","v":0},{"$f":"February!K49","v":0},null,{"$f":"February!M49","v":0},{"$f":"February!N49","v":0},{"$f":"February!O49","v":0},null,{"$f":"February!Q49","v":0},{"$f":"February!R49","v":0},{"$f":"February!S49","v":0},null,{"$f":"February!U49","v":0},{"$f":"February!V49","v":0},{"$f":"February!W49","v":0}]
[{"$f":"February!A50","v":0},{"$f":"February!B50","v":0},{"$f":"February!C50","v":0},null,{"$f":"February!E50","v":0},{"$f":"February!F50","v":0},{"$f":"February!G50","v":0},null,{"$f":"February!I50","v":0},{"$f":"February!J50","v":0},{"$f":"February!K50","v":0},null,{"$f":"February!M50","v":0},{"$f":"February!N50","v":0},{"$f":"February!O50","v":0},null,{"$f":"February!Q50","v":0},{"$f":"February!R50","v":0},{"$f":"February!S50","v":0},null,{"$f":"February!U50","v":0},{"$f":"February!V50","v":0},{"$f":"February!W50","v":0}]
[{"$f":"February!A51","v":0},{"$f":"February!B51","v":0},{"$f":"February!C51","v":0},null,{"$f":"February!E51","v":0},{"$f":"February!F51","v":0},{"$f":"February!G51","v":0},null,{"$f":"February!I51","v":0},{"$f":"February!J51","v":0},{"$f":"February!K51","v":0},null,{"$f":"February!M51","v":0},{"$f":"February!N51","v":0},{"$f":"February!O51","v":0},null,{"$f":"February!Q51","v":0},{"$f":"February!R51","v":0},{"$f":"February!S51","v":0},null,{"$f":"February!U51","v":0},{"$f":"February!V51","v":0},{"$f":"February!W51","v":0}]
[{"$f":"February!A52","v":0},{"$f":"February!B52","v":0},{"$f":"February!C52","v":0},null,{"$f":"February!E52","v":0},{"$f":"February!F52","v":0},{"$f":"February!G52","v":0},null,{"$f":"February!I52","v":0},{"$f":"February!J52","v":0},{"$f":"February!K52","v":0},null,{"$f":"February!M52","v":0},{"$f":"February!N52","v":0},{"$f":"February!O52","v":0},null,{"$f":"February!Q52","v":0},{"$f":"February!R52","v":0},{"$f":"February!S52","v":0},null,{"$f":"February!U52","v":0},{"$f":"February!V52","v":0},{"$f":"February!W52","v":0}]
[{"$f":"February!A53","v":0},{"$f":"February!B53","v":0},{"$f":"February!C53","v":0},null,{"$f":"February!E53","v":0},{"$f":"February!F53","v":0},{"$f":"February!G53","v":0},null,{"$f":"February!I53","v":0},{"$f":"February!J53","v":0},{"$f":"February!K53","v":0},null,{"$f":"February!M53","v":0},{"$f":"February!N53","v":0},{"$f":"February!O53","v":0},null,{"$f":"February!Q53","v":0},{"$f":"February!R53","v":0},{"$f":"February!S53","v":0},null,{"$f":"February!U53","v":0},{"$f":"February!V53","v":0},{"$f":"February!W53","v":0}]
[{"$f":"February!A54","v":0},{"$f":"February!B54","v":0},{"$f":"February!C54","v":0},null,{"$f":"February!E54","v":0},{"$f":"February!F54","v":0},{"$f":"February!G54","v":0},null,{"$f":"February!I54","v":0},{"$f":"February!J54","v":0},{"$f":"February!K54","v":0},null,{"$f":"February!M54","v":0},{"$f":"February!N54","v":0},{"$f":"February!O54","v":0},null,{"$f":"February!Q54","v":0},{"$f":"February!R54","v":0},{"$f":"February!S54","v":0},null,{"$f":"February!U54","v":0},{"$f":"February!V54","v":0},{"$f":"February!W54","v":0}]
[{"$f":"February!A55","v":0},{"$f":"February!B55","v":0},{"$f":"February!C55","v":0},null,{"$f":"February!E55","v":0},{"$f":"February!F55","v":0},{"$f":"February!G55","v":0},null,{"$f":"February!I55","v":0},{"$f":"February!J55","v":0},{"$f":"February!K55","v":0},null,{"$f":"February!M55","v":0},{"$f":"February!N55","v":0},{"$f":"February!O55","v":0},null,{"$f":"February!Q55","v":0},{"$f":"February!R55","v":0},{"$f":"February!S55","v":0},null,{"$f":"February!U55","v":0},{"$f":"February!V55","v":0},{"$f":"February!W55","v":0}]
[{"$f":"February!A56","v":0},{"$f":"February!B56","v":0},{"$f":"February!C56","v":0},null,{"$f":"February!E56","v":0},{"$f":"February!F56","v":0},{"$f":"February!G56","v":0},null,{"$f":"February!I56","v":0},{"$f":"February!J56","v":0},{"$f":"February!K56","v":0},null,{"$f":"February!M56","v":0},{"$f":"February!N56","v":0},{"$f":"February!O56","v":0},null,{"$f":"February!Q56","v":0},{"$f":"February!R56","v":0},{"$f":"February!S56","v":0},null,{"$f":"February!U56","v":0},{"$f":"February!V56","v":0},{"$f":"February!W56","v":0}]
[{"$f":"February!A57","v":0},{"$f":"February!B57","v":0},{"$f":"February!C57","v":0},null,{"$f":"February!E57","v":0},{"$f":"February!F57","v":0},{"$f":"February!G57","v":0},null,{"$f":"February!I57","v":0},{"$f":"February!J57","v":0},{"$f":"February!K57","v":0},null,{"$f":"February!M57","v":0},{"$f":"February!N57","v":0},{"$f":"February!O57","v":0},null,{"$f":"February!Q57","v":0},{"$f":"February!R57","v":0},{"$f":"February!S57","v":0},null,{"$f":"February!U57","v":0},{"$f":"February!V57","v":0},{"$f":"February!W57","v":0}]
[{"$f":"February!A58","v":0},{"$f":"February!B58","v":0},{"$f":"February!C58","v":0},null,{"$f":"February!E58","v":0},{"$f":"February!F58","v":0},{"$f":"February!G58","v":0},null,{"$f":"February!I58","v":0},{"$f":"February!J58","v":0},{"$f":"February!K58","v":0},null,{"$f":"February!M58","v":0},{"$f":"February!N58","v":0},{"$f":"February!O58","v":0},null,{"$f":"February!Q58","v":0},{"$f":"February!R58","v":0},{"$f":"February!S58","v":0},null,{"$f":"February!U58","v":0},{"$f":"February!V58","v":0},{"$f":"February!W58","v":0}]
[{"$f":"February!A59","v":0},{"$f":"February!B59","v":0},{"$f":"February!C59","v":0},null,{"$f":"February!E59","v":0},{"$f":"February!F59","v":0},{"$f":"February!G59","v":0},null,{"$f":"February!I59","v":0},{"$f":"February!J59","v":0},{"$f":"February!K59","v":0},null,{"$f":"February!M59","v":0},{"$f":"February!N59","v":0},{"$f":"February!O59","v":0},null,{"$f":"February!Q59","v":0},{"$f":"February!R59","v":0},{"$f":"February!S59","v":0},null,{"$f":"February!U59","v":0},{"$f":"February!V59","v":0},{"$f":"February!W59","v":0}]
[{"$f":"February!A60","v":0},{"$f":"February!B60","v":0},{"$f":"February!C60","v":0},null,{"$f":"February!E60","v":0},{"$f":"February!F60","v":0},{"$f":"February!G60","v":0},null,{"$f":"February!I60","v":0},{"$f":"February!J60","v":0},{"$f":"February!K60","v":0},null,{"$f":"February!M60","v":0},{"$f":"February!N60","v":0},{"$f":"February!O60","v":0},null,{"$f":"February!Q60","v":0},{"$f":"February!R60","v":0},{"$f":"February!S60","v":0},null,{"$f":"February!U60","v":0},{"$f":"February!V60","v":0},{"$f":"February!W60","v":0}]
[{"$f":"February!A61","v":0},{"$f":"February!B61","v":0},{"$f":"February!C61","v":0},null,{"$f":"February!E61","v":0},{"$f":"February!F61","v":0},{"$f":"February!G61","v":0},null,{"$f":"February!I61","v":0},{"$f":"February!J61","v":0},{"$f":"February!K61","v":0},null,{"$f":"February!M61","v":0},{"$f":"February!N61","v":0},{"$f":"February!O61","v":0},null,{"$f":"February!Q61","v":0},{"$f":"February!R61","v":0},{"$f":"February!S61","v":0},null,{"$f":"February!U61","v":0},{"$f":"February!V61","v":0},{"$f":"February!W61","v":0}]
[{"$f":"February!A62","v":0},{"$f":"February!B62","v":0},{"$f":"February!C62","v":0},null,{"$f":"February!E62","v":0},{"$f":"February!F62","v":0},{"$f":"February!G62","v":0},null,{"$f":"February!I62","v":0},{"$f":"February!J62","v":0},{"$f":"February!K62","v":0},null,{"$f":"February!M62","v":0},{"$f":"February!N62","v":0},{"$f":"February!O62","v":0},null,{"$f":"February!Q62","v":0},{"$f":"February!R62","v":0},{"$f":"February!S62","v":0},null,{"$f":"February!U62","v":0},{"$f":"February!V62","v":0},{"$f":"February!W62","v":0}]
[{"$f":"March!A3","v":0},{"$f":"March!B3","v":0},{"$f":"March!C3","v":0},null,{"$f":"March!E3","v":0},{"$f":"March!F3","v":0},{"$f":"March!G3","v":0},null,{"$f":"March!I3","v":"Walmart"},{"$f":"March!J3","v":40617},{"$f":"March!K3","v":13.5},null,{"$f":"March!M3","v":0},{"$f":"March!N3","v":0},{"$f":"March!O3","v":0},null,{"$f":"March!Q3","v":0},{"$f":"March!R3","v":0},{"$f":"March!S3","v":0},null,{"$f":"March!U3","v":0},{"$f":"March!V3","v":0},{"$f":"March!W3","v":0},null,null,null,null,null,"March"]
[{"$f":"March!A4","v":0},{"$f":"March!B4","v":0},{"$f":"March!C4","v":0},null,{"$f":"March!E4","v":0},{"$f":"March!F4","v":0},{"$f":"March!G4","v":0},null,{"$f":"March!I4","v":"Walmart"},{"$f":"March!J4","v":40633},{"$f":"March!K4","v":1.52},null,{"$f":"March!M4","v":0},{"$f":"March!N4","v":0},{"$f":"March!O4","v":0},null,{"$f":"March!Q4","v":0},{"$f":"March!R4","v":0},{"$f":"March!S4","v":0},null,{"$f":"March!U4","v":0},{"$f":"March!V4","v":0},{"$f":"March!W4","v":0}]
[{"$f":"March!A5","v":0},{"$f":"March!B5","v":0},{"$f":"March!C5","v":0},null,{"$f":"March!E5","v":0},{"$f":"March!F5","v":0},{"$f":"March!G5","v":0},null,{"$f":"March!I5","v":0},{"$f":"March!J5","v":0},{"$f":"March!K5","v":0},null,{"$f":"March!M5","v":0},{"$f":"March!N5","v":0},{"$f":"March!O5","v":0},null,{"$f":"March!Q5","v":0},{"$f":"March!R5","v":0},{"$f":"March!S5","v":0},null,{"$f":"March!U5","v":0},{"$f":"March!V5","v":0},{"$f":"March!W5","v":0}]
[{"$f":"March!A6","v":0},{"$f":"March!B6","v":0},{"$f":"March!C6","v":0},null,{"$f":"March!E6","v":0},{"$f":"March!F6","v":0},{"$f":"March!G6","v":0},null,{"$f":"March!I6","v":0},{"$f":"March!J6","v":0},{"$f":"March!K6","v":0},null,{"$f":"March!M6","v":0},{"$f":"March!N6","v":0},{"$f":"March!O6","v":0},null,{"$f":"March!Q6","v":0},{"$f":"March!R6","v":0},{"$f":"March!S6","v":0},null,{"$f":"March!U6","v":0},{"$f":"March!V6","v":0},{"$f":"March!W6","v":0}]
[{"$f":"March!A7","v":0},{"$f":"March!B7","v":0},{"$f":"March!C7","v":0},null,{"$f":"March!E7","v":0},{"$f":"March!F7","v":0},{"$f":"March!G7","v":0},null,{"$f":"March!I7","v":0},{"$f":"March!J7","v":0},{"$f":"March!K7","v":0},null,{"$f":"March!M7","v":0},{"$f":"March!N7","v":0},{"$f":"March!O7","v":0},null,{"$f":"March!Q7","v":0},{"$f":"March!R7","v":0},{"$f":"March!S7","v":0},null,{"$f":"March!U7","v":0},{"$f":"March!V7","v":0},{"$f":"March!W7","v":0}]
[{"$f":"March!A8","v":0},{"$f":"March!B8","v":0},{"$f":"March!C8","v":0},null,{"$f":"March!E8","v":0},{"$f":"March!F8","v":0},{"$f":"March!G8","v":0},null,{"$f":"March!I8","v":0},{"$f":"March!J8","v":0},{"$f":"March!K8","v":0},null,{"$f":"March!M8","v":0},{"$f":"March!N8","v":0},{"$f":"March!O8","v":0},null,{"$f":"March!Q8","v":0},{"$f":"March!R8","v":0},{"$f":"March!S8","v":0},null,{"$f":"March!U8","v":0},{"$f":"March!V8","v":0},{"$f":"March!W8","v":0}]
[{"$f":"March!A9","v":0},{"$f":"March!B9","v":0},{"$f":"March!C9","v":0},null,{"$f":"March!E9","v":0},{"$f":"March!F9","v":0},{"$f":"March!G9","v":0},null,{"$f":"March!I9","v":0},{"$f":"March!J9","v":0},{"$f":"March!K9","v":0},null,{"$f":"March!M9","v":0},{"$f":"March!N9","v":0},{"$f":"March!O9","v":0},null,{"$f":"March!Q9","v":0},{"$f":"March!R9","v":0},{"$f":"March!S9","v":0},null,{"$f":"March!U9","v":0},{"$f":"March!V9","v":0},{"$f":"March!W9","v":0}]
[{"$f":"March!A10","v":0},{"$f":"March!B10","v":0},{"$f":"March!C10","v":0},null,{"$f":"March!E10","v":0},{"$f":"March!F10","v":0},{"$f":"March!G10","v":0},null,{"$f":"March!I10","v":0},{"$f":"March!J10","v":0},{"$f":"March!K10","v":0},null,{"$f":"March!M10","v":0},{"$f":"March!N10","v":0},{"$f":"March!O10","v":0},null,{"$f":"March!Q10","v":0},{"$f":"March!R10","v":0},{"$f":"March!S10","v":0},null,{"$f":"March!U10","v":0},{"$f":"March!V10","v":0},{"$f":"March!W10","v":0}]
[{"$f":"March!A11","v":0},{"$f":"March!B11","v":0},{"$f":"March!C11","v":0},null,{"$f":"March!E11","v":0},{"$f":"March!F11","v":0},{"$f":"March!G11","v":0},null,{"$f":"March!I11","v":0},{"$f":"March!J11","v":0},{"$f":"March!K11","v":0},null,{"$f":"March!M11","v":0},{"$f":"March!N11","v":0},{"$f":"March!O11","v":0},null,{"$f":"March!Q11","v":0},{"$f":"March!R11","v":0},{"$f":"March!S11","v":0},null,{"$f":"March!U11","v":0},{"$f":"March!V11","v":0},{"$f":"March!W11","v":0}]
[{"$f":"March!A12","v":0},{"$f":"March!B12","v":0},{"$f":"March!C12","v":0},null,{"$f":"March!E12","v":0},{"$f":"March!F12","v":0},{"$f":"March!G12","v":0},null,{"$f":"March!I12","v":0},{"$f":"March!J12","v":0},{"$f":"March!K12","v":0},null,{"$f":"March!M12","v":0},{"$f":"March!N12","v":0},{"$f":"March!O12","v":0},null,{"$f":"March!Q12","v":0},{"$f":"March!R12","v":0},{"$f":"March!S12","v":0},null,{"$f":"March!U12","v":0},{"$f":"March!V12","v":0},{"$f":"March!W12","v":0}]
[{"$f":"March!A13","v":0},{"$f":"March!B13","v":0},{"$f":"March!C13","v":0},null,{"$f":"March!E13","v":0},{"$f":"March!F13","v":0},{"$f":"March!G13","v":0},null,{"$f":"March!I13","v":0},{"$f":"March!J13","v":0},{"$f":"March!K13","v":0},null,{"$f":"March!M13","v":0},{"$f":"March!N13","v":0},{"$f":"March!O13","v":0},null,{"$f":"March!Q13","v":0},{"$f":"March!R13","v":0},{"$f":"March!S13","v":0},null,{"$f":"March!U13","v":0},{"$f":"March!V13","v":0},{"$f":"March!W13","v":0}]
[{"$f":"March!A14","v":0},{"$f":"March!B14","v":0},{"$f":"March!C14","v":0},null,{"$f":"March!E14","v":0},{"$f":"March!F14","v":0},{"$f":"March!G14","v":0},null,{"$f":"March!I14","v":0},{"$f":"March!J14","v":0},{"$f":"March!K14","v":0},null,{"$f":"March!M14","v":0},{"$f":"March!N14","v":0},{"$f":"March!O14","v":0},null,{"$f":"March!Q14","v":0},{"$f":"March!R14","v":0},{"$f":"March!S14","v":0},null,{"$f":"March!U14","v":0},{"$f":"March!V14","v":0},{"$f":"March!W14","v":0}]
[{"$f":"March!A15","v":0},{"$f":"March!B15","v":0},{"$f":"March!C15","v":0},null,{"$f":"March!E15","v":0},{"$f":"March!F15","v":0},{"$f":"March!G15","v":0},null,{"$f":"March!I15","v":0},{"$f":"March!J15","v":0},{"$f":"March!K15","v":0},null,{"$f":"March!M15","v":0},{"$f":"March!N15","v":0},{"$f":"March!O15","v":0},null,{"$f":"March!Q15","v":0},{"$f":"March!R15","v":0},{"$f":"March!S15","v":0},null,{"$f":"March!U15","v":0},{"$f":"March!V15","v":0},{"$f":"March!W15","v":0}]
[{"$f":"March!A16","v":0},{"$f":"March!B16","v":0},{"$f":"March!C16","v":0},null,{"$f":"March!E16","v":0},{"$f":"March!F16","v":0},{"$f":"March!G16","v":0},null,{"$f":"March!I16","v":0},{"$f":"March!J16","v":0},{"$f":"March!K16","v":0},null,{"$f":"March!M16","v":0},{"$f":"March!N16","v":0},{"$f":"March!O16","v":0},null,{"$f":"March!Q16","v":0},{"$f":"March!R16","v":0},{"$f":"March!S16","v":0},null,{"$f":"March!U16","v":0},{"$f":"March!V16","v":0},{"$f":"March!W16","v":0}]
[{"$f":"March!A17","v":0},{"$f":"March!B17","v":0},{"$f":"March!C17","v":0},null,{"$f":"March!E17","v":0},{"$f":"March!F17","v":0},{"$f":"March!G17","v":0},null,{"$f":"March!I17","v":0},{"$f":"March!J17","v":0},{"$f":"March!K17","v":0},null,{"$f":"March!M17","v":0},{"$f":"March!N17","v":0},{"$f":"March!O17","v":0},null,{"$f":"March!Q17","v":0},{"$f":"March!R17","v":0},{"$f":"March!S17","v":0},null,{"$f":"March!U17","v":0},{"$f":"March!V17","v":0},{"$f":"March!W17","v":0}]
[{"$f":"March!A18","v":0},{"$f":"March!B18","v":0},{"$f":"March!C18","v":0},null,{"$f":"March!E18","v":0},{"$f":"March!F18","v":0},{"$f":"March!G18","v":0},null,{"$f":"March!I18","v":0},{"$f":"March!J18","v":0},{"$f":"March!K18","v":0},null,{"$f":"March!M18","v":0},{"$f":"March!N18","v":0},{"$f":"March!O18","v":0},null,{"$f":"March!Q18","v":0},{"$f":"March!R18","v":0},{"$f":"March!S18","v":0},null,{"$f":"March!U18","v":0},{"$f":"March!V18","v":0},{"$f":"March!W18","v":0}]
[{"$f":"March!A19","v":0},{"$f":"March!B19","v":0},{"$f":"March!C19","v":0},null,{"$f":"March!E19","v":0},{"$f":"March!F19","v":0},{"$f":"March!G19","v":0},null,{"$f":"March!I19","v":0},{"$f":"March!J19","v":0},{"$f":"March!K19","v":0},null,{"$f":"March!M19","v":0},{"$f":"March!N19","v":0},{"$f":"March!O19","v":0},null,{"$f":"March!Q19","v":0},{"$f":"March!R19","v":0},{"$f":"March!S19","v":0},null,{"$f":"March!U19","v":0},{"$f":"March!V19","v":0},{"$f":"March!W19","v":0}]
[{"$f":"March!A20","v":0},{"$f":"March!B20","v":0},{"$f":"March!C20","v":0},null,{"$f":"March!E20","v":0},{"$f":"March!F20","v":0},{"$f":"March!G20","v":0},null,{"$f":"March!I20","v":0},{"$f":"March!J20","v":0},{"$f":"March!K20","v":0},null,{"$f":"March!M20","v":0},{"$f":"March!N20","v":0},{"$f":"March!O20","v":0},null,{"$f":"March!Q20","v":0},{"$f":"March!R20","v":0},{"$f":"March!S20","v":0},null,{"$f":"March!U20","v":0},{"$f":"March!V20","v":0},{"$f":"March!W20","v":0}]
[{"$f":"March!A21","v":0},{"$f":"March!B21","v":0},{"$f":"March!C21","v":0},null,{"$f":"March!E21","v":0},{"$f":"March!F21","v":0},{"$f":"March!G21","v":0},null,{"$f":"March!I21","v":0},{"$f":"March!J21","v":0},{"$f":"March!K21","v":0},null,{"$f":"March!M21","v":0},{"$f":"March!N21","v":0},{"$f":"March!O21","v":0},null,{"$f":"March!Q21","v":0},{"$f":"March!R21","v":0},{"$f":"March!S21","v":0},null,{"$f":"March!U21","v":0},{"$f":"March!V21","v":0},{"$f":"March!W21","v":0}]
[{"$f":"March!A22","v":0},{"$f":"March!B22","v":0},{"$f":"March!C22","v":0},null,{"$f":"March!E22","v":0},{"$f":"March!F22","v":0},{"$f":"March!G22","v":0},null,{"$f":"March!I22","v":0},{"$f":"March!J22","v":0},{"$f":"March!K22","v":0},null,{"$f":"March!M22","v":0},{"$f":"March!N22","v":0},{"$f":"March!O22","v":0},null,{"$f":"March!Q22","v":0},{"$f":"March!R22","v":0},{"$f":"March!S22","v":0},null,{"$f":"March!U22","v":0},{"$f":"March!V22","v":0},{"$f":"March!W22","v":0}]
[{"$f":"March!A23","v":0},{"$f":"March!B23","v":0},{"$f":"March!C23","v":0},null,{"$f":"March!E23","v":0},{"$f":"March!F23","v":0},{"$f":"March!G23","v":0},null,{"$f":"March!I23","v":0},{"$f":"March!J23","v":0},{"$f":"March!K23","v":0},null,{"$f":"March!M23","v":0},{"$f":"March!N23","v":0},{"$f":"March!O23","v":0},null,{"$f":"March!Q23","v":0},{"$f":"March!R23","v":0},{"$f":"March!S23","v":0},null,{"$f":"March!U23","v":0},{"$f":"March!V23","v":0},{"$f":"March!W23","v":0}]
[{"$f":"March!A24","v":0},{"$f":"March!B24","v":0},{"$f":"March!C24","v":0},null,{"$f":"March!E24","v":0},{"$f":"March!F24","v":0},{"$f":"March!G24","v":0},null,{"$f":"March!I24","v":0},{"$f":"March!J24","v":0},{"$f":"March!K24","v":0},null,{"$f":"March!M24","v":0},{"$f":"March!N24","v":0},{"$f":"March!O24","v":0},null,{"$f":"March!Q24","v":0},{"$f":"March!R24","v":0},{"$f":"March!S24","v":0},null,{"$f":"March!U24","v":0},{"$f":"March!V24","v":0},{"$f":"March!W24","v":0}]
[{"$f":"March!A25","v":0},{"$f":"March!B25","v":0},{"$f":"March!C25","v":0},null,{"$f":"March!E25","v":0},{"$f":"March!F25","v":0},{"$f":"March!G25","v":0},null,{"$f":"March!I25","v":0},{"$f":"March!J25","v":0},{"$f":"March!K25","v":0},null,{"$f":"March!M25","v":0},{"$f":"March!N25","v":0},{"$f":"March!O25","v":0},null,{"$f":"March!Q25","v":0},{"$f":"March!R25","v":0},{"$f":"March!S25","v":0},null,{"$f":"March!U25","v":0},{"$f":"March!V25","v":0},{"$f":"March!W25","v":0}]
[{"$f":"March!A26","v":0},{"$f":"March!B26","v":0},{"$f":"March!C26","v":0},null,{"$f":"March!E26","v":0},{"$f":"March!F26","v":0},{"$f":"March!G26","v":0},null,{"$f":"March!I26","v":0},{"$f":"March!J26","v":0},{"$f":"March!K26","v":0},null,{"$f":"March!M26","v":0},{"$f":"March!N26","v":0},{"$f":"March!O26","v":0},null,{"$f":"March!Q26","v":0},{"$f":"March!R26","v":0},{"$f":"March!S26","v":0},null,{"$f":"March!U26","v":0},{"$f":"March!V26","v":0},{"$f":"March!W26","v":0}]
[{"$f":"March!A27","v":0},{"$f":"March!B27","v":0},{"$f":"March!C27","v":0},null,{"$f":"March!E27","v":0},{"$f":"March!F27","v":0},{"$f":"March!G27","v":0},null,{"$f":"March!I27","v":0},{"$f":"March!J27","v":0},{"$f":"March!K27","v":0},null,{"$f":"March!M27","v":0},{"$f":"March!N27","v":0},{"$f":"March!O27","v":0},null,{"$f":"March!Q27","v":0},{"$f":"March!R27","v":0},{"$f":"March!S27","v":0},null,{"$f":"March!U27","v":0},{"$f":"March!V27","v":0},{"$f":"March!W27","v":0}]
[{"$f":"March!A28","v":0},{"$f":"March!B28","v":0},{"$f":"March!C28","v":0},null,{"$f":"March!E28","v":0},{"$f":"March!F28","v":0},{"$f":"March!G28","v":0},null,{"$f":"March!I28","v":0},{"$f":"March!J28","v":0},{"$f":"March!K28","v":0},null,{"$f":"March!M28","v":0},{"$f":"March!N28","v":0},{"$f":"March!O28","v":0},null,{"$f":"March!Q28","v":0},{"$f":"March!R28","v":0},{"$f":"March!S28","v":0},null,{"$f":"March!U28","v":0},{"$f":"March!V28","v":0},{"$f":"March!W28","v":0}]
[{"$f":"March!A29","v":0},{"$f":"March!B29","v":0},{"$f":"March!C29","v":0},null,{"$f":"March!E29","v":0},{"$f":"March!F29","v":0},{"$f":"March!G29","v":0},null,{"$f":"March!I29","v":0},{"$f":"March!J29","v":0},{"$f":"March!K29","v":0},null,{"$f":"March!M29","v":0},{"$f":"March!N29","v":0},{"$f":"March!O29","v":0},null,{"$f":"March!Q29","v":0},{"$f":"March!R29","v":0},{"$f":"March!S29","v":0},null,{"$f":"March!U29","v":0},{"$f":"March!V29","v":0},{"$f":"March!W29","v":0}]
[{"$f":"March!A30","v":0},{"$f":"March!B30","v":0},{"$f":"March!C30","v":0},null,{"$f":"March!E30","v":0},{"$f":"March!F30","v":0},{"$f":"March!G30","v":0},null,{"$f":"March!I30","v":0},{"$f":"March!J30","v":0},{"$f":"March!K30","v":0},null,{"$f":"March!M30","v":0},{"$f":"March!N30","v":0},{"$f":"March!O30","v":0},null,{"$f":"March!Q30","v":0},{"$f":"March!R30","v":0},{"$f":"March!S30","v":0},null,{"$f":"March!U30","v":0},{"$f":"March!V30","v":0},{"$f":"March!W30","v":0}]
[{"$f":"March!A31","v":0},{"$f":"March!B31","v":0},{"$f":"March!C31","v":0},null,{"$f":"March!E31","v":0},{"$f":"March!F31","v":0},{"$f":"March!G31","v":0},null,{"$f":"March!I31","v":0},{"$f":"March!J31","v":0},{"$f":"March!K31","v":0},null,{"$f":"March!M31","v":0},{"$f":"March!N31","v":0},{"$f":"March!O31","v":0},null,{"$f":"March!Q31","v":0},{"$f":"March!R31","v":0},{"$f":"March!S31","v":0},null,{"$f":"March!U31","v":0},{"$f":"March!V31","v":0},{"$f":"March!W31","v":0}]
[{"$f":"March!A32","v":0},{"$f":"March!B32","v":0},{"$f":"March!C32","v":0},null,{"$f":"March!E32","v":0},{"$f":"March!F32","v":0},{"$f":"March!G32","v":0},null,{"$f":"March!I32","v":0},{"$f":"March!J32","v":0},{"$f":"March!K32","v":0},null,{"$f":"March!M32","v":0},{"$f":"March!N32","v":0},{"$f":"March!O32","v":0},null,{"$f":"March!Q32","v":0},{"$f":"March!R32","v":0},{"$f":"March!S32","v":0},null,{"$f":"March!U32","v":0},{"$f":"March!V32","v":0},{"$f":"March!W32","v":0}]
[{"$f":"March!A33","v":0},{"$f":"March!B33","v":0},{"$f":"March!C33","v":0},null,{"$f":"March!E33","v":0},{"$f":"March!F33","v":0},{"$f":"March!G33","v":0},null,{"$f":"March!I33","v":0},{"$f":"March!J33","v":0},{"$f":"March!K33","v":0},null,{"$f":"March!M33","v":0},{"$f":"March!N33","v":0},{"$f":"March!O33","v":0},null,{"$f":"March!Q33","v":0},{"$f":"March!R33","v":0},{"$f":"March!S33","v":0},null,{"$f":"March!U33","v":0},{"$f":"March!V33","v":0},{"$f":"March!W33","v":0}]
[{"$f":"March!A34","v":0},{"$f":"March!B34","v":0},{"$f":"March!C34","v":0},null,{"$f":"March!E34","v":0},{"$f":"March!F34","v":0},{"$f":"March!G34","v":0},null,{"$f":"March!I34","v":0},{"$f":"March!J34","v":0},{"$f":"March!K34","v":0},null,{"$f":"March!M34","v":0},{"$f":"March!N34","v":0},{"$f":"March!O34","v":0},null,{"$f":"March!Q34","v":0},{"$f":"March!R34","v":0},{"$f":"March!S34","v":0},null,{"$f":"March!U34","v":0},{"$f":"March!V34","v":0},{"$f":"March!W34","v":0}]
[{"$f":"March!A35","v":0},{"$f":"March!B35","v":0},{"$f":"March!C35","v":0},null,{"$f":"March!E35","v":0},{"$f":"March!F35","v":0},{"$f":"March!G35","v":0},null,{"$f":"March!I35","v":0},{"$f":"March!J35","v":0},{"$f":"March!K35","v":0},null,{"$f":"March!M35","v":0},{"$f":"March!N35","v":0},{"$f":"March!O35","v":0},null,{"$f":"March!Q35","v":0},{"$f":"March!R35","v":0},{"$f":"March!S35","v":0},null,{"$f":"March!U35","v":0},{"$f":"March!V35","v":0},{"$f":"March!W35","v":0}]
[{"$f":"March!A36","v":0},{"$f":"March!B36","v":0},{"$f":"March!C36","v":0},null,{"$f":"March!E36","v":0},{"$f":"March!F36","v":0},{"$f":"March!G36","v":0},null,{"$f":"March!I36","v":0},{"$f":"March!J36","v":0},{"$f":"March!K36","v":0},null,{"$f":"March!M36","v":0},{"$f":"March!N36","v":0},{"$f":"March!O36","v":0},null,{"$f":"March!Q36","v":0},{"$f":"March!R36","v":0},{"$f":"March!S36","v":0},null,{"$f":"March!U36","v":0},{"$f":"March!V36","v":0},{"$f":"March!W36","v":0}]
[{"$f":"March!A37","v":0},{"$f":"March!B37","v":0},{"$f":"March!C37","v":0},null,{"$f":"March!E37","v":0},{"$f":"March!F37","v":0},{"$f":"March!G37","v":0},null,{"$f":"March!I37","v":0},{"$f":"March!J37","v":0},{"$f":"March!K37","v":0},null,{"$f":"March!M37","v":0},{"$f":"March!N37","v":0},{"$f":"March!O37","v":0},null,{"$f":"March!Q37","v":0},{"$f":"March!R37","v":0},{"$f":"March!S37","v":0},null,{"$f":"March!U37","v":0},{"$f":"March!V37","v":0},{"$f":"March!W37","v":0}]
[{"$f":"March!A38","v":0},{"$f":"March!B38","v":0},{"$f":"March!C38","v":0},null,{"$f":"March!E38","v":0},{"$f":"March!F38","v":0},{"$f":"March!G38","v":0},null,{"$f":"March!I38","v":0},{"$f":"March!J38","v":0},{"$f":"March!K38","v":0},null,{"$f":"March!M38","v":0},{"$f":"March!N38","v":0},{"$f":"March!O38","v":0},null,{"$f":"March!Q38","v":0},{"$f":"March!R38","v":0},{"$f":"March!S38","v":0},null,{"$f":"March!U38","v":0},{"$f":"March!V38","v":0},{"$f":"March!W38","v":0}]
[{"$f":"March!A39","v":0},{"$f":"March!B39","v":0},{"$f":"March!C39","v":0},null,{"$f":"March!E39","v":0},{"$f":"March!F39","v":0},{"$f":"March!G39","v":0},null,{"$f":"March!I39","v":0},{"$f":"March!J39","v":0},{"$f":"March!K39","v":0},null,{"$f":"March!M39","v":0},{"$f":"March!N39","v":0},{"$f":"March!O39","v":0},null,{"$f":"March!Q39","v":0},{"$f":"March!R39","v":0},{"$f":"March!S39","v":0},null,{"$f":"March!U39","v":0},{"$f":"March!V39","v":0},{"$f":"March!W39","v":0}]
[{"$f":"March!A40","v":0},{"$f":"March!B40","v":0},{"$f":"March!C40","v":0},null,{"$f":"March!E40","v":0},{"$f":"March!F40","v":0},{"$f":"March!G40","v":0},null,{"$f":"March!I40","v":0},{"$f":"March!J40","v":0},{"$f":"March!K40","v":0},null,{"$f":"March!M40","v":0},{"$f":"March!N40","v":0},{"$f":"March!O40","v":0},null,{"$f":"March!Q40","v":0},{"$f":"March!R40","v":0},{"$f":"March!S40","v":0},null,{"$f":"March!U40","v":0},{"$f":"March!V40","v":0},{"$f":"March!W40","v":0}]
[{"$f":"March!A41","v":0},{"$f":"March!B41","v":0},{"$f":"March!C41","v":0},null,{"$f":"March!E41","v":0},{"$f":"March!F41","v":0},{"$f":"March!G41","v":0},null,{"$f":"March!I41","v":0},{"$f":"March!J41","v":0},{"$f":"March!K41","v":0},null,{"$f":"March!M41","v":0},{"$f":"March!N41","v":0},{"$f":"March!O41","v":0},null,{"$f":"March!Q41","v":0},{"$f":"March!R41","v":0},{"$f":"March!S41","v":0},null,{"$f":"March!U41","v":0},{"$f":"March!V41","v":0},{"$f":"March!W41","v":0}]
[{"$f":"March!A42","v":0},{"$f":"March!B42","v":0},{"$f":"March!C42","v":0},null,{"$f":"March!E42","v":0},{"$f":"March!F42","v":0},{"$f":"March!G42","v":0},null,{"$f":"March!I42","v":0},{"$f":"March!J42","v":0},{"$f":"March!K42","v":0},null,{"$f":"March!M42","v":0},{"$f":"March!N42","v":0},{"$f":"March!O42","v":0},null,{"$f":"March!Q42","v":0},{"$f":"March!R42","v":0},{"$f":"March!S42","v":0},null,{"$f":"March!U42","v":0},{"$f":"March!V42","v":0},{"$f":"March!W42","v":0}]
[{"$f":"March!A43","v":0},{"$f":"March!B43","v":0},{"$f":"March!C43","v":0},null,{"$f":"March!E43","v":0},{"$f":"March!F43","v":0},{"$f":"March!G43","v":0},null,{"$f":"March!I43","v":0},{"$f":"March!J43","v":0},{"$f":"March!K43","v":0},null,{"$f":"March!M43","v":0},{"$f":"March!N43","v":0},{"$f":"March!O43","v":0},null,{"$f":"March!Q43","v":0},{"$f":"March!R43","v":0},{"$f":"March!S43","v":0},null,{"$f":"March!U43","v":0},{"$f":"March!V43","v":0},{"$f":"March!W43","v":0}]
[{"$f":"March!A44","v":0},{"$f":"March!B44","v":0},{"$f":"March!C44","v":0},null,{"$f":"March!E44","v":0},{"$f":"March!F44","v":0},{"$f":"March!G44","v":0},null,{"$f":"March!I44","v":0},{"$f":"March!J44","v":0},{"$f":"March!K44","v":0},null,{"$f":"March!M44","v":0},{"$f":"March!N44","v":0},{"$f":"March!O44","v":0},null,{"$f":"March!Q44","v":0},{"$f":"March!R44","v":0},{"$f":"March!S44","v":0},null,{"$f":"March!U44","v":0},{"$f":"March!V44","v":0},{"$f":"March!W44","v":0}]
[{"$f":"March!A45","v":0},{"$f":"March!B45","v":0},{"$f":"March!C45","v":0},null,{"$f":"March!E45","v":0},{"$f":"March!F45","v":0},{"$f":"March!G45","v":0},null,{"$f":"March!I45","v":0},{"$f":"March!J45","v":0},{"$f":"March!K45","v":0},null,{"$f":"March!M45","v":0},{"$f":"March!N45","v":0},{"$f":"March!O45","v":0},null,{"$f":"March!Q45","v":0},{"$f":"March!R45","v":0},{"$f":"March!S45","v":0},null,{"$f":"March!U45","v":0},{"$f":"March!V45","v":0},{"$f":"March!W45","v":0}]
[{"$f":"March!A46","v":0},{"$f":"March!B46","v":0},{"$f":"March!C46","v":0},null,{"$f":"March!E46","v":0},{"$f":"March!F46","v":0},{"$f":"March!G46","v":0},null,{"$f":"March!I46","v":0},{"$f":"March!J46","v":0},{"$f":"March!K46","v":0},null,{"$f":"March!M46","v":0},{"$f":"March!N46","v":0},{"$f":"March!O46","v":0},null,{"$f":"March!Q46","v":0},{"$f":"March!R46","v":0},{"$f":"March!S46","v":0},null,{"$f":"March!U46","v":0},{"$f":"March!V46","v":0},{"$f":"March!W46","v":0}]
[{"$f":"March!A47","v":0},{"$f":"March!B47","v":0},{"$f":"March!C47","v":0},null,{"$f":"March!E47","v":0},{"$f":"March!F47","v":0},{"$f":"March!G47","v":0},null,{"$f":"March!I47","v":0},{"$f":"March!J47","v":0},{"$f":"March!K47","v":0},null,{"$f":"March!M47","v":0},{"$f":"March!N47","v":0},{"$f":"March!O47","v":0},null,{"$f":"March!Q47","v":0},{"$f":"March!R47","v":0},{"$f":"March!S47","v":0},null,{"$f":"March!U47","v":0},{"$f":"March!V47","v":0},{"$f":"March!W47","v":0}]
[{"$f":"March!A48","v":0},{"$f":"March!B48","v":0},{"$f":"March!C48","v":0},null,{"$f":"March!E48","v":0},{"$f":"March!F48","v":0},{"$f":"March!G48","v":0},null,{"$f":"March!I48","v":0},{"$f":"March!J48","v":0},{"$f":"March!K48","v":0},null,{"$f":"March!M48","v":0},{"$f":"March!N48","v":0},{"$f":"March!O48","v":0},null,{"$f":"March!Q48","v":0},{"$f":"March!R48","v":0},{"$f":"March!S48","v":0},null,{"$f":"March!U48","v":0},{"$f":"March!V48","v":0},{"$f":"March!W48","v":0}]
[{"$f":"March!A49","v":0},{"$f":"March!B49","v":0},{"$f":"March!C49","v":0},null,{"$f":"March!E49","v":0},{"$f":"March!F49","v":0},{"$f":"March!G49","v":0},null,{"$f":"March!I49","v":0},{"$f":"March!J49","v":0},{"$f":"March!K49","v":0},null,{"$f":"March!M49","v":0},{"$f":"March!N49","v":0},{"$f":"March!O49","v":0},null,{"$f":"March!Q49","v":0},{"$f":"March!R49","v":0},{"$f":"March!S49","v":0},null,{"$f":"March!U49","v":0},{"$f":"March!V49","v":0},{"$f":"March!W49","v":0}]
[{"$f":"March!A50","v":0},{"$f":"March!B50","v":0},{"$f":"March!C50","v":0},null,{"$f":"March!E50","v":0},{"$f":"March!F50","v":0},{"$f":"March!G50","v":0},null,{"$f":"March!I50","v":0},{"$f":"March!J50","v":0},{"$f":"March!K50","v":0},null,{"$f":"March!M50","v":0},{"$f":"March!N50","v":0},{"$f":"March!O50","v":0},null,{"$f":"March!Q50","v":0},{"$f":"March!R50","v":0},{"$f":"March!S50","v":0},null,{"$f":"March!U50","v":0},{"$f":"March!V50","v":0},{"$f":"March!W50","v":0}]
[{"$f":"March!A51","v":0},{"$f":"March!B51","v":0},{"$f":"March!C51","v":0},null,{"$f":"March!E51","v":0},{"$f":"March!F51","v":0},{"$f":"March!G51","v":0},null,{"$f":"March!I51","v":0},{"$f":"March!J51","v":0},{"$f":"March!K51","v":0},null,{"$f":"March!M51","v":0},{"$f":"March!N51","v":0},{"$f":"March!O51","v":0},null,{"$f":"March!Q51","v":0},{"$f":"March!R51","v":0},{"$f":"March!S51","v":0},null,{"$f":"March!U51","v":0},{"$f":"March!V51","v":0},{"$f":"March!W51","v":0}]
[{"$f":"March!A52","v":0},{"$f":"March!B52","v":0},{"$f":"March!C52","v":0},null,{"$f":"March!E52","v":0},{"$f":"March!F52","v":0},{"$f":"March!G52","v":0},null,{"$f":"March!I52","v":0},{"$f":"March!J52","v":0},{"$f":"March!K52","v":0},null,{"$f":"March!M52","v":0},{"$f":"March!N52","v":0},{"$f":"March!O52","v":0},null,{"$f":"March!Q52","v":0},{"$f":"March!R52","v":0},{"$f":"March!S52","v":0},null,{"$f":"March!U52","v":0},{"$f":"March!V52","v":0},{"$f":"March!W52","v":0}]
[{"$f":"March!A53","v":0},{"$f":"March!B53","v":0},{"$f":"March!C53","v":0},null,{"$f":"March!E53","v":0},{"$f":"March!F53","v":0},{"$f":"March!G53","v":0},null,{"$f":"March!I53","v":0},{"$f":"March!J53","v":0},{"$f":"March!K53","v":0},null,{"$f":"March!M53","v":0},{"$f":"March!N53","v":0},{"$f":"March!O53","v":0},null,{"$f":"March!Q53","v":0},{"$f":"March!R53","v":0},{"$f":"March!S53","v":0},null,{"$f":"March!U53","v":0},{"$f":"March!V53","v":0},{"$f":"March!W53","v":0}]
[{"$f":"March!A54","v":0},{"$f":"March!B54","v":0},{"$f":"March!C54","v":0},null,{"$f":"March!E54","v":0},{"$f":"March!F54","v":0},{"$f":"March!G54","v":0},null,{"$f":"March!I54","v":0},{"$f":"March!J54","v":0},{"$f":"March!K54","v":0},null,{"$f":"March!M54","v":0},{"$f":"March!N54","v":0},{"$f":"March!O54","v":0},null,{"$f":"March!Q54","v":0},{"$f":"March!R54","v":0},{"$f":"March!S54","v":0},null,{"$f":"March!U54","v":0},{"$f":"March!V54","v":0},{"$f":"March!W54","v":0}]
[{"$f":"March!A55","v":0},{"$f":"March!B55","v":0},{"$f":"March!C55","v":0},null,{"$f":"March!E55","v":0},{"$f":"March!F55","v":0},{"$f":"March!G55","v":0},null,{"$f":"March!I55","v":0},{"$f":"March!J55","v":0},{"$f":"March!K55","v":0},null,{"$f":"March!M55","v":0},{"$f":"March!N55","v":0},{"$f":"March!O55","v":0},null,{"$f":"March!Q55","v":0},{"$f":"March!R55","v":0},{"$f":"March!S55","v":0},null,{"$f":"March!U55","v":0},{"$f":"March!V55","v":0},{"$f":"March!W55","v":0}]
[{"$f":"March!A56","v":0},{"$f":"March!B56","v":0},{"$f":"March!C56","v":0},null,{"$f":"March!E56","v":0},{"$f":"March!F56","v":0},{"$f":"March!G56","v":0},null,{"$f":"March!I56","v":0},{"$f":"March!J56","v":0},{"$f":"March!K56","v":0},null,{"$f":"March!M56","v":0},{"$f":"March!N56","v":0},{"$f":"March!O56","v":0},null,{"$f":"March!Q56","v":0},{"$f":"March!R56","v":0},{"$f":"March!S56","v":0},null,{"$f":"March!U56","v":0},{"$f":"March!V56","v":0},{"$f":"March!W56","v":0}]
[{"$f":"March!A57","v":0},{"$f":"March!B57","v":0},{"$f":"March!C57","v":0},null,{"$f":"March!E57","v":0},{"$f":"March!F57","v":0},{"$f":"March!G57","v":0},null,{"$f":"March!I57","v":0},{"$f":"March!J57","v":0},{"$f":"March!K57","v":0},null,{"$f":"March!M57","v":0},{"$f":"March!N57","v":0},{"$f":"March!O57","v":0},null,{"$f":"March!Q57","v":0},{"$f":"March!R57","v":0},{"$f":"March!S57","v":0},null,{"$f":"March!U57","v":0},{"$f":"March!V57","v":0},{"$f":"March!W57","v":0}]
[{"$f":"March!A58","v":0},{"$f":"March!B58","v":0},{"$f":"March!C58","v":0},null,{"$f":"March!E58","v":0},{"$f":"March!F58","v":0},{"$f":"March!G58","v":0},null,{"$f":"March!I58","v":0},{"$f":"March!J58","v":0},{"$f":"March!K58","v":0},null,{"$f":"March!M58","v":0},{"$f":"March!N58","v":0},{"$f":"March!O58","v":0},null,{"$f":"March!Q58","v":0},{"$f":"March!R58","v":0},{"$f":"March!S58","v":0},null,{"$f":"March!U58","v":0},{"$f":"March!V58","v":0},{"$f":"March!W58","v":0}]
[{"$f":"March!A59","v":0},{"$f":"March!B59","v":0},{"$f":"March!C59","v":0},null,{"$f":"March!E59","v":0},{"$f":"March!F59","v":0},{"$f":"March!G59","v":0},null,{"$f":"March!I59","v":0},{"$f":"March!J59","v":0},{"$f":"March!K59","v":0},null,{"$f":"March!M59","v":0},{"$f":"March!N59","v":0},{"$f":"March!O59","v":0},null,{"$f":"March!Q59","v":0},{"$f":"March!R59","v":0},{"$f":"March!S59","v":0},null,{"$f":"March!U59","v":0},{"$f":"March!V59","v":0},{"$f":"March!W59","v":0}]
[{"$f":"March!A60","v":0},{"$f":"March!B60","v":0},{"$f":"March!C60","v":0},null,{"$f":"March!E60","v":0},{"$f":"March!F60","v":0},{"$f":"March!G60","v":0},null,{"$f":"March!I60","v":0},{"$f":"March!J60","v":0},{"$f":"March!K60","v":0},null,{"$f":"March!M60","v":0},{"$f":"March!N60","v":0},{"$f":"March!O60","v":0},null,{"$f":"March!Q60","v":0},{"$f":"March!R60","v":0},{"$f":"March!S60","v":0},null,{"$f":"March!U60","v":0},{"$f":"March!V60","v":0},{"$f":"March!W60","v":0}]
[{"$f":"March!A61","v":0},{"$f":"March!B61","v":0},{"$f":"March!C61","v":0},null,{"$f":"March!E61","v":0},{"$f":"March!F61","v":0},{"$f":"March!G61","v":0},null,{"$f":"March!I61","v":0},{"$f":"March!J61","v":0},{"$f":"March!K61","v":0},null,{"$f":"March!M61","v":0},{"$f":"March!N61","v":0},{"$f":"March!O61","v":0},null,{"$f":"March!Q61","v":0},{"$f":"March!R61","v":0},{"$f":"March!S61","v":0},null,{"$f":"March!U61","v":0},{"$f":"March!V61","v":0},{"$f":"March!W61","v":0}]
[{"$f":"March!A62","v":0},{"$f":"March!B62","v":0},{"$f":"March!C62","v":0},null,{"$f":"March!E62","v":0},{"$f":"March!F62","v":0},{"$f":"March!G62","v":0},null,{"$f":"March!I62","v":0},{"$f":"March!J62","v":0},{"$f":"March!K62","v":0},null,{"$f":"March!M62","v":0},{"$f":"March!N62","v":0},{"$f":"March!O62","v":0},null,{"$f":"March!Q62","v":0},{"$f":"March!R62","v":0},{"$f":"March!S62","v":0},null,{"$f":"March!U62","v":0},{"$f":"March!V62","v":0},{"$f":"March!W62","v":0}]
[{"$f":"April!A3","v":0},{"$f":"April!B3","v":0},{"$f":"April!C3","v":0},null,{"$f":"April!E3","v":"Chevron"},{"$f":"April!F3","v":40634},{"$f":"April!G3","v":12},null,{"$f":"April!I3","v":"Walmart"},{"$f":"April!J3","v":40636},{"$f":"April!K3","v":300},null,{"$f":"April!M3","v":"Walmart"},{"$f":"April!N3","v":40636},{"$f":"April!O3","v":15},null,{"$f":"April!Q3","v":"Walmart"},{"$f":"April!R3","v":40636},{"$f":"April!S3","v":2.52},null,{"$f":"April!U3","v":0},{"$f":"April!V3","v":0},{"$f":"April!W3","v":0},null,null,null,null,null,"April"]
[{"$f":"April!A4","v":0},{"$f":"April!B4","v":0},{"$f":"April!C4","v":0},null,{"$f":"April!E4","v":0},{"$f":"April!F4","v":0},{"$f":"April!G4","v":0},null,{"$f":"April!I4","v":0},{"$f":"April!J4","v":0},{"$f":"April!K4","v":0},null,{"$f":"April!M4","v":0},{"$f":"April!N4","v":0},{"$f":"April!O4","v":0},null,{"$f":"April!Q4","v":0},{"$f":"April!R4","v":0},{"$f":"April!S4","v":0},null,{"$f":"April!U4","v":0},{"$f":"April!V4","v":0},{"$f":"April!W4","v":0}]
[{"$f":"April!A5","v":0},{"$f":"April!B5","v":0},{"$f":"April!C5","v":0},null,{"$f":"April!E5","v":0},{"$f":"April!F5","v":0},{"$f":"April!G5","v":0},null,{"$f":"April!I5","v":0},{"$f":"April!J5","v":0},{"$f":"April!K5","v":0},null,{"$f":"April!M5","v":0},{"$f":"April!N5","v":0},{"$f":"April!O5","v":0},null,{"$f":"April!Q5","v":0},{"$f":"April!R5","v":0},{"$f":"April!S5","v":0},null,{"$f":"April!U5","v":0},{"$f":"April!V5","v":0},{"$f":"April!W5","v":0}]
[{"$f":"April!A6","v":0},{"$f":"April!B6","v":0},{"$f":"April!C6","v":0},null,{"$f":"April!E6","v":0},{"$f":"April!F6","v":0},{"$f":"April!G6","v":0},null,{"$f":"April!I6","v":0},{"$f":"April!J6","v":0},{"$f":"April!K6","v":0},null,{"$f":"April!M6","v":0},{"$f":"April!N6","v":0},{"$f":"April!O6","v":0},null,{"$f":"April!Q6","v":0},{"$f":"April!R6","v":0},{"$f":"April!S6","v":0},null,{"$f":"April!U6","v":0},{"$f":"April!V6","v":0},{"$f":"April!W6","v":0}]
[{"$f":"April!A7","v":0},{"$f":"April!B7","v":0},{"$f":"April!C7","v":0},null,{"$f":"April!E7","v":0},{"$f":"April!F7","v":0},{"$f":"April!G7","v":0},null,{"$f":"April!I7","v":0},{"$f":"April!J7","v":0},{"$f":"April!K7","v":0},null,{"$f":"April!M7","v":0},{"$f":"April!N7","v":0},{"$f":"April!O7","v":0},null,{"$f":"April!Q7","v":0},{"$f":"April!R7","v":0},{"$f":"April!S7","v":0},null,{"$f":"April!U7","v":0},{"$f":"April!V7","v":0},{"$f":"April!W7","v":0}]
[{"$f":"April!A8","v":0},{"$f":"April!B8","v":0},{"$f":"April!C8","v":0},null,{"$f":"April!E8","v":0},{"$f":"April!F8","v":0},{"$f":"April!G8","v":0},null,{"$f":"April!I8","v":0},{"$f":"April!J8","v":0},{"$f":"April!K8","v":0},null,{"$f":"April!M8","v":0},{"$f":"April!N8","v":0},{"$f":"April!O8","v":0},null,{"$f":"April!Q8","v":0},{"$f":"April!R8","v":0},{"$f":"April!S8","v":0},null,{"$f":"April!U8","v":0},{"$f":"April!V8","v":0},{"$f":"April!W8","v":0}]
[{"$f":"April!A9","v":0},{"$f":"April!B9","v":0},{"$f":"April!C9","v":0},null,{"$f":"April!E9","v":0},{"$f":"April!F9","v":0},{"$f":"April!G9","v":0},null,{"$f":"April!I9","v":0},{"$f":"April!J9","v":0},{"$f":"April!K9","v":0},null,{"$f":"April!M9","v":0},{"$f":"April!N9","v":0},{"$f":"April!O9","v":0},null,{"$f":"April!Q9","v":0},{"$f":"April!R9","v":0},{"$f":"April!S9","v":0},null,{"$f":"April!U9","v":0},{"$f":"April!V9","v":0},{"$f":"April!W9","v":0}]
[{"$f":"April!A10","v":0},{"$f":"April!B10","v":0},{"$f":"April!C10","v":0},null,{"$f":"April!E10","v":0},{"$f":"April!F10","v":0},{"$f":"April!G10","v":0},null,{"$f":"April!I10","v":0},{"$f":"April!J10","v":0},{"$f":"April!K10","v":0},null,{"$f":"April!M10","v":0},{"$f":"April!N10","v":0},{"$f":"April!O10","v":0},null,{"$f":"April!Q10","v":0},{"$f":"April!R10","v":0},{"$f":"April!S10","v":0},null,{"$f":"April!U10","v":0},{"$f":"April!V10","v":0},{"$f":"April!W10","v":0}]
[{"$f":"April!A11","v":0},{"$f":"April!B11","v":0},{"$f":"April!C11","v":0},null,{"$f":"April!E11","v":0},{"$f":"April!F11","v":0},{"$f":"April!G11","v":0},null,{"$f":"April!I11","v":0},{"$f":"April!J11","v":0},{"$f":"April!K11","v":0},null,{"$f":"April!M11","v":0},{"$f":"April!N11","v":0},{"$f":"April!O11","v":0},null,{"$f":"April!Q11","v":0},{"$f":"April!R11","v":0},{"$f":"April!S11","v":0},null,{"$f":"April!U11","v":0},{"$f":"April!V11","v":0},{"$f":"April!W11","v":0}]
[{"$f":"April!A12","v":0},{"$f":"April!B12","v":0},{"$f":"April!C12","v":0},null,{"$f":"April!E12","v":0},{"$f":"April!F12","v":0},{"$f":"April!G12","v":0},null,{"$f":"April!I12","v":0},{"$f":"April!J12","v":0},{"$f":"April!K12","v":0},null,{"$f":"April!M12","v":0},{"$f":"April!N12","v":0},{"$f":"April!O12","v":0},null,{"$f":"April!Q12","v":0},{"$f":"April!R12","v":0},{"$f":"April!S12","v":0},null,{"$f":"April!U12","v":0},{"$f":"April!V12","v":0},{"$f":"April!W12","v":0}]
[{"$f":"April!A13","v":0},{"$f":"April!B13","v":0},{"$f":"April!C13","v":0},null,{"$f":"April!E13","v":0},{"$f":"April!F13","v":0},{"$f":"April!G13","v":0},null,{"$f":"April!I13","v":0},{"$f":"April!J13","v":0},{"$f":"April!K13","v":0},null,{"$f":"April!M13","v":0},{"$f":"April!N13","v":0},{"$f":"April!O13","v":0},null,{"$f":"April!Q13","v":0},{"$f":"April!R13","v":0},{"$f":"April!S13","v":0},null,{"$f":"April!U13","v":0},{"$f":"April!V13","v":0},{"$f":"April!W13","v":0}]
[{"$f":"April!A14","v":0},{"$f":"April!B14","v":0},{"$f":"April!C14","v":0},null,{"$f":"April!E14","v":0},{"$f":"April!F14","v":0},{"$f":"April!G14","v":0},null,{"$f":"April!I14","v":0},{"$f":"April!J14","v":0},{"$f":"April!K14","v":0},null,{"$f":"April!M14","v":0},{"$f":"April!N14","v":0},{"$f":"April!O14","v":0},null,{"$f":"April!Q14","v":0},{"$f":"April!R14","v":0},{"$f":"April!S14","v":0},null,{"$f":"April!U14","v":0},{"$f":"April!V14","v":0},{"$f":"April!W14","v":0}]
[{"$f":"April!A15","v":0},{"$f":"April!B15","v":0},{"$f":"April!C15","v":0},null,{"$f":"April!E15","v":0},{"$f":"April!F15","v":0},{"$f":"April!G15","v":0},null,{"$f":"April!I15","v":0},{"$f":"April!J15","v":0},{"$f":"April!K15","v":0},null,{"$f":"April!M15","v":0},{"$f":"April!N15","v":0},{"$f":"April!O15","v":0},null,{"$f":"April!Q15","v":0},{"$f":"April!R15","v":0},{"$f":"April!S15","v":0},null,{"$f":"April!U15","v":0},{"$f":"April!V15","v":0},{"$f":"April!W15","v":0}]
[{"$f":"April!A16","v":0},{"$f":"April!B16","v":0},{"$f":"April!C16","v":0},null,{"$f":"April!E16","v":0},{"$f":"April!F16","v":0},{"$f":"April!G16","v":0},null,{"$f":"April!I16","v":0},{"$f":"April!J16","v":0},{"$f":"April!K16","v":0},null,{"$f":"April!M16","v":0},{"$f":"April!N16","v":0},{"$f":"April!O16","v":0},null,{"$f":"April!Q16","v":0},{"$f":"April!R16","v":0},{"$f":"April!S16","v":0},null,{"$f":"April!U16","v":0},{"$f":"April!V16","v":0},{"$f":"April!W16","v":0}]
[{"$f":"April!A17","v":0},{"$f":"April!B17","v":0},{"$f":"April!C17","v":0},null,{"$f":"April!E17","v":0},{"$f":"April!F17","v":0},{"$f":"April!G17","v":0},null,{"$f":"April!I17","v":0},{"$f":"April!J17","v":0},{"$f":"April!K17","v":0},null,{"$f":"April!M17","v":0},{"$f":"April!N17","v":0},{"$f":"April!O17","v":0},null,{"$f":"April!Q17","v":0},{"$f":"April!R17","v":0},{"$f":"April!S17","v":0},null,{"$f":"April!U17","v":0},{"$f":"April!V17","v":0},{"$f":"April!W17","v":0}]
[{"$f":"April!A18","v":0},{"$f":"April!B18","v":0},{"$f":"April!C18","v":0},null,{"$f":"April!E18","v":0},{"$f":"April!F18","v":0},{"$f":"April!G18","v":0},null,{"$f":"April!I18","v":0},{"$f":"April!J18","v":0},{"$f":"April!K18","v":0},null,{"$f":"April!M18","v":0},{"$f":"April!N18","v":0},{"$f":"April!O18","v":0},null,{"$f":"April!Q18","v":0},{"$f":"April!R18","v":0},{"$f":"April!S18","v":0},null,{"$f":"April!U18","v":0},{"$f":"April!V18","v":0},{"$f":"April!W18","v":0}]
[{"$f":"April!A19","v":0},{"$f":"April!B19","v":0},{"$f":"April!C19","v":0},null,{"$f":"April!E19","v":0},{"$f":"April!F19","v":0},{"$f":"April!G19","v":0},null,{"$f":"April!I19","v":0},{"$f":"April!J19","v":0},{"$f":"April!K19","v":0},null,{"$f":"April!M19","v":0},{"$f":"April!N19","v":0},{"$f":"April!O19","v":0},null,{"$f":"April!Q19","v":0},{"$f":"April!R19","v":0},{"$f":"April!S19","v":0},null,{"$f":"April!U19","v":0},{"$f":"April!V19","v":0},{"$f":"April!W19","v":0}]
[{"$f":"April!A20","v":0},{"$f":"April!B20","v":0},{"$f":"April!C20","v":0},null,{"$f":"April!E20","v":0},{"$f":"April!F20","v":0},{"$f":"April!G20","v":0},null,{"$f":"April!I20","v":0},{"$f":"April!J20","v":0},{"$f":"April!K20","v":0},null,{"$f":"April!M20","v":0},{"$f":"April!N20","v":0},{"$f":"April!O20","v":0},null,{"$f":"April!Q20","v":0},{"$f":"April!R20","v":0},{"$f":"April!S20","v":0},null,{"$f":"April!U20","v":0},{"$f":"April!V20","v":0},{"$f":"April!W20","v":0}]
[{"$f":"April!A21","v":0},{"$f":"April!B21","v":0},{"$f":"April!C21","v":0},null,{"$f":"April!E21","v":0},{"$f":"April!F21","v":0},{"$f":"April!G21","v":0},null,{"$f":"April!I21","v":0},{"$f":"April!J21","v":0},{"$f":"April!K21","v":0},null,{"$f":"April!M21","v":0},{"$f":"April!N21","v":0},{"$f":"April!O21","v":0},null,{"$f":"April!Q21","v":0},{"$f":"April!R21","v":0},{"$f":"April!S21","v":0},null,{"$f":"April!U21","v":0},{"$f":"April!V21","v":0},{"$f":"April!W21","v":0}]
[{"$f":"April!A22","v":0},{"$f":"April!B22","v":0},{"$f":"April!C22","v":0},null,{"$f":"April!E22","v":0},{"$f":"April!F22","v":0},{"$f":"April!G22","v":0},null,{"$f":"April!I22","v":0},{"$f":"April!J22","v":0},{"$f":"April!K22","v":0},null,{"$f":"April!M22","v":0},{"$f":"April!N22","v":0},{"$f":"April!O22","v":0},null,{"$f":"April!Q22","v":0},{"$f":"April!R22","v":0},{"$f":"April!S22","v":0},null,{"$f":"April!U22","v":0},{"$f":"April!V22","v":0},{"$f":"April!W22","v":0}]
[{"$f":"April!A23","v":0},{"$f":"April!B23","v":0},{"$f":"April!C23","v":0},null,{"$f":"April!E23","v":0},{"$f":"April!F23","v":0},{"$f":"April!G23","v":0},null,{"$f":"April!I23","v":0},{"$f":"April!J23","v":0},{"$f":"April!K23","v":0},null,{"$f":"April!M23","v":0},{"$f":"April!N23","v":0},{"$f":"April!O23","v":0},null,{"$f":"April!Q23","v":0},{"$f":"April!R23","v":0},{"$f":"April!S23","v":0},null,{"$f":"April!U23","v":0},{"$f":"April!V23","v":0},{"$f":"April!W23","v":0}]
[{"$f":"April!A24","v":0},{"$f":"April!B24","v":0},{"$f":"April!C24","v":0},null,{"$f":"April!E24","v":0},{"$f":"April!F24","v":0},{"$f":"April!G24","v":0},null,{"$f":"April!I24","v":0},{"$f":"April!J24","v":0},{"$f":"April!K24","v":0},null,{"$f":"April!M24","v":0},{"$f":"April!N24","v":0},{"$f":"April!O24","v":0},null,{"$f":"April!Q24","v":0},{"$f":"April!R24","v":0},{"$f":"April!S24","v":0},null,{"$f":"April!U24","v":0},{"$f":"April!V24","v":0},{"$f":"April!W24","v":0}]
[{"$f":"April!A25","v":0},{"$f":"April!B25","v":0},{"$f":"April!C25","v":0},null,{"$f":"April!E25","v":0},{"$f":"April!F25","v":0},{"$f":"April!G25","v":0},null,{"$f":"April!I25","v":0},{"$f":"April!J25","v":0},{"$f":"April!K25","v":0},null,{"$f":"April!M25","v":0},{"$f":"April!N25","v":0},{"$f":"April!O25","v":0},null,{"$f":"April!Q25","v":0},{"$f":"April!R25","v":0},{"$f":"April!S25","v":0},null,{"$f":"April!U25","v":0},{"$f":"April!V25","v":0},{"$f":"April!W25","v":0}]
[{"$f":"April!A26","v":0},{"$f":"April!B26","v":0},{"$f":"April!C26","v":0},null,{"$f":"April!E26","v":0},{"$f":"April!F26","v":0},{"$f":"April!G26","v":0},null,{"$f":"April!I26","v":0},{"$f":"April!J26","v":0},{"$f":"April!K26","v":0},null,{"$f":"April!M26","v":0},{"$f":"April!N26","v":0},{"$f":"April!O26","v":0},null,{"$f":"April!Q26","v":0},{"$f":"April!R26","v":0},{"$f":"April!S26","v":0},null,{"$f":"April!U26","v":0},{"$f":"April!V26","v":0},{"$f":"April!W26","v":0}]
[{"$f":"April!A27","v":0},{"$f":"April!B27","v":0},{"$f":"April!C27","v":0},null,{"$f":"April!E27","v":0},{"$f":"April!F27","v":0},{"$f":"April!G27","v":0},null,{"$f":"April!I27","v":0},{"$f":"April!J27","v":0},{"$f":"April!K27","v":0},null,{"$f":"April!M27","v":0},{"$f":"April!N27","v":0},{"$f":"April!O27","v":0},null,{"$f":"April!Q27","v":0},{"$f":"April!R27","v":0},{"$f":"April!S27","v":0},null,{"$f":"April!U27","v":0},{"$f":"April!V27","v":0},{"$f":"April!W27","v":0}]
[{"$f":"April!A28","v":0},{"$f":"April!B28","v":0},{"$f":"April!C28","v":0},null,{"$f":"April!E28","v":0},{"$f":"April!F28","v":0},{"$f":"April!G28","v":0},null,{"$f":"April!I28","v":0},{"$f":"April!J28","v":0},{"$f":"April!K28","v":0},null,{"$f":"April!M28","v":0},{"$f":"April!N28","v":0},{"$f":"April!O28","v":0},null,{"$f":"April!Q28","v":0},{"$f":"April!R28","v":0},{"$f":"April!S28","v":0},null,{"$f":"April!U28","v":0},{"$f":"April!V28","v":0},{"$f":"April!W28","v":0}]
[{"$f":"April!A29","v":0},{"$f":"April!B29","v":0},{"$f":"April!C29","v":0},null,{"$f":"April!E29","v":0},{"$f":"April!F29","v":0},{"$f":"April!G29","v":0},null,{"$f":"April!I29","v":0},{"$f":"April!J29","v":0},{"$f":"April!K29","v":0},null,{"$f":"April!M29","v":0},{"$f":"April!N29","v":0},{"$f":"April!O29","v":0},null,{"$f":"April!Q29","v":0},{"$f":"April!R29","v":0},{"$f":"April!S29","v":0},null,{"$f":"April!U29","v":0},{"$f":"April!V29","v":0},{"$f":"April!W29","v":0}]
[{"$f":"April!A30","v":0},{"$f":"April!B30","v":0},{"$f":"April!C30","v":0},null,{"$f":"April!E30","v":0},{"$f":"April!F30","v":0},{"$f":"April!G30","v":0},null,{"$f":"April!I30","v":0},{"$f":"April!J30","v":0},{"$f":"April!K30","v":0},null,{"$f":"April!M30","v":0},{"$f":"April!N30","v":0},{"$f":"April!O30","v":0},null,{"$f":"April!Q30","v":0},{"$f":"April!R30","v":0},{"$f":"April!S30","v":0},null,{"$f":"April!U30","v":0},{"$f":"April!V30","v":0},{"$f":"April!W30","v":0}]
[{"$f":"April!A31","v":0},{"$f":"April!B31","v":0},{"$f":"April!C31","v":0},null,{"$f":"April!E31","v":0},{"$f":"April!F31","v":0},{"$f":"April!G31","v":0},null,{"$f":"April!I31","v":0},{"$f":"April!J31","v":0},{"$f":"April!K31","v":0},null,{"$f":"April!M31","v":0},{"$f":"April!N31","v":0},{"$f":"April!O31","v":0},null,{"$f":"April!Q31","v":0},{"$f":"April!R31","v":0},{"$f":"April!S31","v":0},null,{"$f":"April!U31","v":0},{"$f":"April!V31","v":0},{"$f":"April!W31","v":0}]
[{"$f":"April!A32","v":0},{"$f":"April!B32","v":0},{"$f":"April!C32","v":0},null,{"$f":"April!E32","v":0},{"$f":"April!F32","v":0},{"$f":"April!G32","v":0},null,{"$f":"April!I32","v":0},{"$f":"April!J32","v":0},{"$f":"April!K32","v":0},null,{"$f":"April!M32","v":0},{"$f":"April!N32","v":0},{"$f":"April!O32","v":0},null,{"$f":"April!Q32","v":0},{"$f":"April!R32","v":0},{"$f":"April!S32","v":0},null,{"$f":"April!U32","v":0},{"$f":"April!V32","v":0},{"$f":"April!W32","v":0}]
[{"$f":"April!A33","v":0},{"$f":"April!B33","v":0},{"$f":"April!C33","v":0},null,{"$f":"April!E33","v":0},{"$f":"April!F33","v":0},{"$f":"April!G33","v":0},null,{"$f":"April!I33","v":0},{"$f":"April!J33","v":0},{"$f":"April!K33","v":0},null,{"$f":"April!M33","v":0},{"$f":"April!N33","v":0},{"$f":"April!O33","v":0},null,{"$f":"April!Q33","v":0},{"$f":"April!R33","v":0},{"$f":"April!S33","v":0},null,{"$f":"April!U33","v":0},{"$f":"April!V33","v":0},{"$f":"April!W33","v":0}]
[{"$f":"April!A34","v":0},{"$f":"April!B34","v":0},{"$f":"April!C34","v":0},null,{"$f":"April!E34","v":0},{"$f":"April!F34","v":0},{"$f":"April!G34","v":0},null,{"$f":"April!I34","v":0},{"$f":"April!J34","v":0},{"$f":"April!K34","v":0},null,{"$f":"April!M34","v":0},{"$f":"April!N34","v":0},{"$f":"April!O34","v":0},null,{"$f":"April!Q34","v":0},{"$f":"April!R34","v":0},{"$f":"April!S34","v":0},null,{"$f":"April!U34","v":0},{"$f":"April!V34","v":0},{"$f":"April!W34","v":0}]
[{"$f":"April!A35","v":0},{"$f":"April!B35","v":0},{"$f":"April!C35","v":0},null,{"$f":"April!E35","v":0},{"$f":"April!F35","v":0},{"$f":"April!G35","v":0},null,{"$f":"April!I35","v":0},{"$f":"April!J35","v":0},{"$f":"April!K35","v":0},null,{"$f":"April!M35","v":0},{"$f":"April!N35","v":0},{"$f":"April!O35","v":0},null,{"$f":"April!Q35","v":0},{"$f":"April!R35","v":0},{"$f":"April!S35","v":0},null,{"$f":"April!U35","v":0},{"$f":"April!V35","v":0},{"$f":"April!W35","v":0}]
[{"$f":"April!A36","v":0},{"$f":"April!B36","v":0},{"$f":"April!C36","v":0},null,{"$f":"April!E36","v":0},{"$f":"April!F36","v":0},{"$f":"April!G36","v":0},null,{"$f":"April!I36","v":0},{"$f":"April!J36","v":0},{"$f":"April!K36","v":0},null,{"$f":"April!M36","v":0},{"$f":"April!N36","v":0},{"$f":"April!O36","v":0},null,{"$f":"April!Q36","v":0},{"$f":"April!R36","v":0},{"$f":"April!S36","v":0},null,{"$f":"April!U36","v":0},{"$f":"April!V36","v":0},{"$f":"April!W36","v":0}]
[{"$f":"April!A37","v":0},{"$f":"April!B37","v":0},{"$f":"April!C37","v":0},null,{"$f":"April!E37","v":0},{"$f":"April!F37","v":0},{"$f":"April!G37","v":0},null,{"$f":"April!I37","v":0},{"$f":"April!J37","v":0},{"$f":"April!K37","v":0},null,{"$f":"April!M37","v":0},{"$f":"April!N37","v":0},{"$f":"April!O37","v":0},null,{"$f":"April!Q37","v":0},{"$f":"April!R37","v":0},{"$f":"April!S37","v":0},null,{"$f":"April!U37","v":0},{"$f":"April!V37","v":0},{"$f":"April!W37","v":0}]
[{"$f":"April!A38","v":0},{"$f":"April!B38","v":0},{"$f":"April!C38","v":0},null,{"$f":"April!E38","v":0},{"$f":"April!F38","v":0},{"$f":"April!G38","v":0},null,{"$f":"April!I38","v":0},{"$f":"April!J38","v":0},{"$f":"April!K38","v":0},null,{"$f":"April!M38","v":0},{"$f":"April!N38","v":0},{"$f":"April!O38","v":0},null,{"$f":"April!Q38","v":0},{"$f":"April!R38","v":0},{"$f":"April!S38","v":0},null,{"$f":"April!U38","v":0},{"$f":"April!V38","v":0},{"$f":"April!W38","v":0}]
[{"$f":"April!A39","v":0},{"$f":"April!B39","v":0},{"$f":"April!C39","v":0},null,{"$f":"April!E39","v":0},{"$f":"April!F39","v":0},{"$f":"April!G39","v":0},null,{"$f":"April!I39","v":0},{"$f":"April!J39","v":0},{"$f":"April!K39","v":0},null,{"$f":"April!M39","v":0},{"$f":"April!N39","v":0},{"$f":"April!O39","v":0},null,{"$f":"April!Q39","v":0},{"$f":"April!R39","v":0},{"$f":"April!S39","v":0},null,{"$f":"April!U39","v":0},{"$f":"April!V39","v":0},{"$f":"April!W39","v":0}]
[{"$f":"April!A40","v":0},{"$f":"April!B40","v":0},{"$f":"April!C40","v":0},null,{"$f":"April!E40","v":0},{"$f":"April!F40","v":0},{"$f":"April!G40","v":0},null,{"$f":"April!I40","v":0},{"$f":"April!J40","v":0},{"$f":"April!K40","v":0},null,{"$f":"April!M40","v":0},{"$f":"April!N40","v":0},{"$f":"April!O40","v":0},null,{"$f":"April!Q40","v":0},{"$f":"April!R40","v":0},{"$f":"April!S40","v":0},null,{"$f":"April!U40","v":0},{"$f":"April!V40","v":0},{"$f":"April!W40","v":0}]
[{"$f":"April!A41","v":0},{"$f":"April!B41","v":0},{"$f":"April!C41","v":0},null,{"$f":"April!E41","v":0},{"$f":"April!F41","v":0},{"$f":"April!G41","v":0},null,{"$f":"April!I41","v":0},{"$f":"April!J41","v":0},{"$f":"April!K41","v":0},null,{"$f":"April!M41","v":0},{"$f":"April!N41","v":0},{"$f":"April!O41","v":0},null,{"$f":"April!Q41","v":0},{"$f":"April!R41","v":0},{"$f":"April!S41","v":0},null,{"$f":"April!U41","v":0},{"$f":"April!V41","v":0},{"$f":"April!W41","v":0}]
[{"$f":"April!A42","v":0},{"$f":"April!B42","v":0},{"$f":"April!C42","v":0},null,{"$f":"April!E42","v":0},{"$f":"April!F42","v":0},{"$f":"April!G42","v":0},null,{"$f":"April!I42","v":0},{"$f":"April!J42","v":0},{"$f":"April!K42","v":0},null,{"$f":"April!M42","v":0},{"$f":"April!N42","v":0},{"$f":"April!O42","v":0},null,{"$f":"April!Q42","v":0},{"$f":"April!R42","v":0},{"$f":"April!S42","v":0},null,{"$f":"April!U42","v":0},{"$f":"April!V42","v":0},{"$f":"April!W42","v":0}]
[{"$f":"April!A43","v":0},{"$f":"April!B43","v":0},{"$f":"April!C43","v":0},null,{"$f":"April!E43","v":0},{"$f":"April!F43","v":0},{"$f":"April!G43","v":0},null,{"$f":"April!I43","v":0},{"$f":"April!J43","v":0},{"$f":"April!K43","v":0},null,{"$f":"April!M43","v":0},{"$f":"April!N43","v":0},{"$f":"April!O43","v":0},null,{"$f":"April!Q43","v":0},{"$f":"April!R43","v":0},{"$f":"April!S43","v":0},null,{"$f":"April!U43","v":0},{"$f":"April!V43","v":0},{"$f":"April!W43","v":0}]
[{"$f":"April!A44","v":0},{"$f":"April!B44","v":0},{"$f":"April!C44","v":0},null,{"$f":"April!E44","v":0},{"$f":"April!F44","v":0},{"$f":"April!G44","v":0},null,{"$f":"April!I44","v":0},{"$f":"April!J44","v":0},{"$f":"April!K44","v":0},null,{"$f":"April!M44","v":0},{"$f":"April!N44","v":0},{"$f":"April!O44","v":0},null,{"$f":"April!Q44","v":0},{"$f":"April!R44","v":0},{"$f":"April!S44","v":0},null,{"$f":"April!U44","v":0},{"$f":"April!V44","v":0},{"$f":"April!W44","v":0}]
[{"$f":"April!A45","v":0},{"$f":"April!B45","v":0},{"$f":"April!C45","v":0},null,{"$f":"April!E45","v":0},{"$f":"April!F45","v":0},{"$f":"April!G45","v":0},null,{"$f":"April!I45","v":0},{"$f":"April!J45","v":0},{"$f":"April!K45","v":0},null,{"$f":"April!M45","v":0},{"$f":"April!N45","v":0},{"$f":"April!O45","v":0},null,{"$f":"April!Q45","v":0},{"$f":"April!R45","v":0},{"$f":"April!S45","v":0},null,{"$f":"April!U45","v":0},{"$f":"April!V45","v":0},{"$f":"April!W45","v":0}]
[{"$f":"April!A46","v":0},{"$f":"April!B46","v":0},{"$f":"April!C46","v":0},null,{"$f":"April!E46","v":0},{"$f":"April!F46","v":0},{"$f":"April!G46","v":0},null,{"$f":"April!I46","v":0},{"$f":"April!J46","v":0},{"$f":"April!K46","v":0},null,{"$f":"April!M46","v":0},{"$f":"April!N46","v":0},{"$f":"April!O46","v":0},null,{"$f":"April!Q46","v":0},{"$f":"April!R46","v":0},{"$f":"April!S46","v":0},null,{"$f":"April!U46","v":0},{"$f":"April!V46","v":0},{"$f":"April!W46","v":0}]
[{"$f":"April!A47","v":0},{"$f":"April!B47","v":0},{"$f":"April!C47","v":0},null,{"$f":"April!E47","v":0},{"$f":"April!F47","v":0},{"$f":"April!G47","v":0},null,{"$f":"April!I47","v":0},{"$f":"April!J47","v":0},{"$f":"April!K47","v":0},null,{"$f":"April!M47","v":0},{"$f":"April!N47","v":0},{"$f":"April!O47","v":0},null,{"$f":"April!Q47","v":0},{"$f":"April!R47","v":0},{"$f":"April!S47","v":0},null,{"$f":"April!U47","v":0},{"$f":"April!V47","v":0},{"$f":"April!W47","v":0}]
[{"$f":"April!A48","v":0},{"$f":"April!B48","v":0},{"$f":"April!C48","v":0},null,{"$f":"April!E48","v":0},{"$f":"April!F48","v":0},{"$f":"April!G48","v":0},null,{"$f":"April!I48","v":0},{"$f":"April!J48","v":0},{"$f":"April!K48","v":0},null,{"$f":"April!M48","v":0},{"$f":"April!N48","v":0},{"$f":"April!O48","v":0},null,{"$f":"April!Q48","v":0},{"$f":"April!R48","v":0},{"$f":"April!S48","v":0},null,{"$f":"April!U48","v":0},{"$f":"April!V48","v":0},{"$f":"April!W48","v":0}]
[{"$f":"April!A49","v":0},{"$f":"April!B49","v":0},{"$f":"April!C49","v":0},null,{"$f":"April!E49","v":0},{"$f":"April!F49","v":0},{"$f":"April!G49","v":0},null,{"$f":"April!I49","v":0},{"$f":"April!J49","v":0},{"$f":"April!K49","v":0},null,{"$f":"April!M49","v":0},{"$f":"April!N49","v":0},{"$f":"April!O49","v":0},null,{"$f":"April!Q49","v":0},{"$f":"April!R49","v":0},{"$f":"April!S49","v":0},null,{"$f":"April!U49","v":0},{"$f":"April!V49","v":0},{"$f":"April!W49","v":0}]
[{"$f":"April!A50","v":0},{"$f":"April!B50","v":0},{"$f":"April!C50","v":0},null,{"$f":"April!E50","v":0},{"$f":"April!F50","v":0},{"$f":"April!G50","v":0},null,{"$f":"April!I50","v":0},{"$f":"April!J50","v":0},{"$f":"April!K50","v":0},null,{"$f":"April!M50","v":0},{"$f":"April!N50","v":0},{"$f":"April!O50","v":0},null,{"$f":"April!Q50","v":0},{"$f":"April!R50","v":0},{"$f":"April!S50","v":0},null,{"$f":"April!U50","v":0},{"$f":"April!V50","v":0},{"$f":"April!W50","v":0}]
[{"$f":"April!A51","v":0},{"$f":"April!B51","v":0},{"$f":"April!C51","v":0},null,{"$f":"April!E51","v":0},{"$f":"April!F51","v":0},{"$f":"April!G51","v":0},null,{"$f":"April!I51","v":0},{"$f":"April!J51","v":0},{"$f":"April!K51","v":0},null,{"$f":"April!M51","v":0},{"$f":"April!N51","v":0},{"$f":"April!O51","v":0},null,{"$f":"April!Q51","v":0},{"$f":"April!R51","v":0},{"$f":"April!S51","v":0},null,{"$f":"April!U51","v":0},{"$f":"April!V51","v":0},{"$f":"April!W51","v":0}]
[{"$f":"April!A52","v":0},{"$f":"April!B52","v":0},{"$f":"April!C52","v":0},null,{"$f":"April!E52","v":0},{"$f":"April!F52","v":0},{"$f":"April!G52","v":0},null,{"$f":"April!I52","v":0},{"$f":"April!J52","v":0},{"$f":"April!K52","v":0},null,{"$f":"April!M52","v":0},{"$f":"April!N52","v":0},{"$f":"April!O52","v":0},null,{"$f":"April!Q52","v":0},{"$f":"April!R52","v":0},{"$f":"April!S52","v":0},null,{"$f":"April!U52","v":0},{"$f":"April!V52","v":0},{"$f":"April!W52","v":0}]
[{"$f":"April!A53","v":0},{"$f":"April!B53","v":0},{"$f":"April!C53","v":0},null,{"$f":"April!E53","v":0},{"$f":"April!F53","v":0},{"$f":"April!G53","v":0},null,{"$f":"April!I53","v":0},{"$f":"April!J53","v":0},{"$f":"April!K53","v":0},null,{"$f":"April!M53","v":0},{"$f":"April!N53","v":0},{"$f":"April!O53","v":0},null,{"$f":"April!Q53","v":0},{"$f":"April!R53","v":0},{"$f":"April!S53","v":0},null,{"$f":"April!U53","v":0},{"$f":"April!V53","v":0},{"$f":"April!W53","v":0}]
[{"$f":"April!A54","v":0},{"$f":"April!B54","v":0},{"$f":"April!C54","v":0},null,{"$f":"April!E54","v":0},{"$f":"April!F54","v":0},{"$f":"April!G54","v":0},null,{"$f":"April!I54","v":0},{"$f":"April!J54","v":0},{"$f":"April!K54","v":0},null,{"$f":"April!M54","v":0},{"$f":"April!N54","v":0},{"$f":"April!O54","v":0},null,{"$f":"April!Q54","v":0},{"$f":"April!R54","v":0},{"$f":"April!S54","v":0},null,{"$f":"April!U54","v":0},{"$f":"April!V54","v":0},{"$f":"April!W54","v":0}]
[{"$f":"April!A55","v":0},{"$f":"April!B55","v":0},{"$f":"April!C55","v":0},null,{"$f":"April!E55","v":0},{"$f":"April!F55","v":0},{"$f":"April!G55","v":0},null,{"$f":"April!I55","v":0},{"$f":"April!J55","v":0},{"$f":"April!K55","v":0},null,{"$f":"April!M55","v":0},{"$f":"April!N55","v":0},{"$f":"April!O55","v":0},null,{"$f":"April!Q55","v":0},{"$f":"April!R55","v":0},{"$f":"April!S55","v":0},null,{"$f":"April!U55","v":0},{"$f":"April!V55","v":0},{"$f":"April!W55","v":0}]
[{"$f":"April!A56","v":0},{"$f":"April!B56","v":0},{"$f":"April!C56","v":0},null,{"$f":"April!E56","v":0},{"$f":"April!F56","v":0},{"$f":"April!G56","v":0},null,{"$f":"April!I56","v":0},{"$f":"April!J56","v":0},{"$f":"April!K56","v":0},null,{"$f":"April!M56","v":0},{"$f":"April!N56","v":0},{"$f":"April!O56","v":0},null,{"$f":"April!Q56","v":0},{"$f":"April!R56","v":0},{"$f":"April!S56","v":0},null,{"$f":"April!U56","v":0},{"$f":"April!V56","v":0},{"$f":"April!W56","v":0}]
[{"$f":"April!A57","v":0},{"$f":"April!B57","v":0},{"$f":"April!C57","v":0},null,{"$f":"April!E57","v":0},{"$f":"April!F57","v":0},{"$f":"April!G57","v":0},null,{"$f":"April!I57","v":0},{"$f":"April!J57","v":0},{"$f":"April!K57","v":0},null,{"$f":"April!M57","v":0},{"$f":"April!N57","v":0},{"$f":"April!O57","v":0},null,{"$f":"April!Q57","v":0},{"$f":"April!R57","v":0},{"$f":"April!S57","v":0},null,{"$f":"April!U57","v":0},{"$f":"April!V57","v":0},{"$f":"April!W57","v":0}]
[{"$f":"April!A58","v":0},{"$f":"April!B58","v":0},{"$f":"April!C58","v":0},null,{"$f":"April!E58","v":0},{"$f":"April!F58","v":0},{"$f":"April!G58","v":0},null,{"$f":"April!I58","v":0},{"$f":"April!J58","v":0},{"$f":"April!K58","v":0},null,{"$f":"April!M58","v":0},{"$f":"April!N58","v":0},{"$f":"April!O58","v":0},null,{"$f":"April!Q58","v":0},{"$f":"April!R58","v":0},{"$f":"April!S58","v":0},null,{"$f":"April!U58","v":0},{"$f":"April!V58","v":0},{"$f":"April!W58","v":0}]
[{"$f":"April!A59","v":0},{"$f":"April!B59","v":0},{"$f":"April!C59","v":0},null,{"$f":"April!E59","v":0},{"$f":"April!F59","v":0},{"$f":"April!G59","v":0},null,{"$f":"April!I59","v":0},{"$f":"April!J59","v":0},{"$f":"April!K59","v":0},null,{"$f":"April!M59","v":0},{"$f":"April!N59","v":0},{"$f":"April!O59","v":0},null,{"$f":"April!Q59","v":0},{"$f":"April!R59","v":0},{"$f":"April!S59","v":0},null,{"$f":"April!U59","v":0},{"$f":"April!V59","v":0},{"$f":"April!W59","v":0}]
[{"$f":"April!A60","v":0},{"$f":"April!B60","v":0},{"$f":"April!C60","v":0},null,{"$f":"April!E60","v":0},{"$f":"April!F60","v":0},{"$f":"April!G60","v":0},null,{"$f":"April!I60","v":0},{"$f":"April!J60","v":0},{"$f":"April!K60","v":0},null,{"$f":"April!M60","v":0},{"$f":"April!N60","v":0},{"$f":"April!O60","v":0},null,{"$f":"April!Q60","v":0},{"$f":"April!R60","v":0},{"$f":"April!S60","v":0},null,{"$f":"April!U60","v":0},{"$f":"April!V60","v":0},{"$f":"April!W60","v":0}]
[{"$f":"April!A61","v":0},{"$f":"April!B61","v":0},{"$f":"April!C61","v":0},null,{"$f":"April!E61","v":0},{"$f":"April!F61","v":0},{"$f":"April!G61","v":0},null,{"$f":"April!I61","v":0},{"$f":"April!J61","v":0},{"$f":"April!K61","v":0},null,{"$f":"April!M61","v":0},{"$f":"April!N61","v":0},{"$f":"April!O61","v":0},null,{"$f":"April!Q61","v":0},{"$f":"April!R61","v":0},{"$f":"April!S61","v":0},null,{"$f":"April!U61","v":0},{"$f":"April!V61","v":0},{"$f":"April!W61","v":0}]
[{"$f":"April!A62","v":0},{"$f":"April!B62","v":0},{"$f":"April!C62","v":0},null,{"$f":"April!E62","v":0},{"$f":"April!F62","v":0},{"$f":"April!G62","v":0},null,{"$f":"April!I62","v":0},{"$f":"April!J62","v":0},{"$f":"April!K62","v":0},null,{"$f":"April!M62","v":0},{"$f":"April!N62","v":0},{"$f":"April!O62","v":0},null,{"$f":"April!Q62","v":0},{"$f":"April!R62","v":0},{"$f":"April!S62","v":0},null,{"$f":"April!U62","v":0},{"$f":"April!V62","v":0},{"$f":"April!W62","v":0}]
[{"$f":"May!A3","v":0},{"$f":"May!B3","v":0},{"$f":"May!C3","v":0},null,{"$f":"May!E3","v":0},{"$f":"May!F3","v":0},{"$f":"May!G3","v":0},null,{"$f":"May!I3","v":0},{"$f":"May!J3","v":0},{"$f":"May!K3","v":0},null,{"$f":"May!M3","v":0},{"$f":"May!N3","v":0},{"$f":"May!O3","v":0},null,{"$f":"May!Q3","v":0},{"$f":"May!R3","v":0},{"$f":"May!S3","v":0},null,{"$f":"May!U3","v":0},{"$f":"May!V3","v":0},{"$f":"May!W3","v":0},null,null,null,null,null,"May"]
[{"$f":"May!A4","v":0},{"$f":"May!B4","v":0},{"$f":"May!C4","v":0},null,{"$f":"May!E4","v":0},{"$f":"May!F4","v":0},{"$f":"May!G4","v":0},null,{"$f":"May!I4","v":0},{"$f":"May!J4","v":0},{"$f":"May!K4","v":0},null,{"$f":"May!M4","v":0},{"$f":"May!N4","v":0},{"$f":"May!O4","v":0},null,{"$f":"May!Q4","v":0},{"$f":"May!R4","v":0},{"$f":"May!S4","v":0},null,{"$f":"May!U4","v":0},{"$f":"May!V4","v":0},{"$f":"May!W4","v":0}]
[{"$f":"May!A5","v":0},{"$f":"May!B5","v":0},{"$f":"May!C5","v":0},null,{"$f":"May!E5","v":0},{"$f":"May!F5","v":0},{"$f":"May!G5","v":0},null,{"$f":"May!I5","v":0},{"$f":"May!J5","v":0},{"$f":"May!K5","v":0},null,{"$f":"May!M5","v":0},{"$f":"May!N5","v":0},{"$f":"May!O5","v":0},null,{"$f":"May!Q5","v":0},{"$f":"May!R5","v":0},{"$f":"May!S5","v":0},null,{"$f":"May!U5","v":0},{"$f":"May!V5","v":0},{"$f":"May!W5","v":0}]
[{"$f":"May!A6","v":0},{"$f":"May!B6","v":0},{"$f":"May!C6","v":0},null,{"$f":"May!E6","v":0},{"$f":"May!F6","v":0},{"$f":"May!G6","v":0},null,{"$f":"May!I6","v":0},{"$f":"May!J6","v":0},{"$f":"May!K6","v":0},null,{"$f":"May!M6","v":0},{"$f":"May!N6","v":0},{"$f":"May!O6","v":0},null,{"$f":"May!Q6","v":0},{"$f":"May!R6","v":0},{"$f":"May!S6","v":0},null,{"$f":"May!U6","v":0},{"$f":"May!V6","v":0},{"$f":"May!W6","v":0}]
[{"$f":"May!A7","v":0},{"$f":"May!B7","v":0},{"$f":"May!C7","v":0},null,{"$f":"May!E7","v":0},{"$f":"May!F7","v":0},{"$f":"May!G7","v":0},null,{"$f":"May!I7","v":0},{"$f":"May!J7","v":0},{"$f":"May!K7","v":0},null,{"$f":"May!M7","v":0},{"$f":"May!N7","v":0},{"$f":"May!O7","v":0},null,{"$f":"May!Q7","v":0},{"$f":"May!R7","v":0},{"$f":"May!S7","v":0},null,{"$f":"May!U7","v":0},{"$f":"May!V7","v":0},{"$f":"May!W7","v":0}]
[{"$f":"May!A8","v":0},{"$f":"May!B8","v":0},{"$f":"May!C8","v":0},null,{"$f":"May!E8","v":0},{"$f":"May!F8","v":0},{"$f":"May!G8","v":0},null,{"$f":"May!I8","v":0},{"$f":"May!J8","v":0},{"$f":"May!K8","v":0},null,{"$f":"May!M8","v":0},{"$f":"May!N8","v":0},{"$f":"May!O8","v":0},null,{"$f":"May!Q8","v":0},{"$f":"May!R8","v":0},{"$f":"May!S8","v":0},null,{"$f":"May!U8","v":0},{"$f":"May!V8","v":0},{"$f":"May!W8","v":0}]
[{"$f":"May!A9","v":0},{"$f":"May!B9","v":0},{"$f":"May!C9","v":0},null,{"$f":"May!E9","v":0},{"$f":"May!F9","v":0},{"$f":"May!G9","v":0},null,{"$f":"May!I9","v":0},{"$f":"May!J9","v":0},{"$f":"May!K9","v":0},null,{"$f":"May!M9","v":0},{"$f":"May!N9","v":0},{"$f":"May!O9","v":0},null,{"$f":"May!Q9","v":0},{"$f":"May!R9","v":0},{"$f":"May!S9","v":0},null,{"$f":"May!U9","v":0},{"$f":"May!V9","v":0},{"$f":"May!W9","v":0}]
[{"$f":"May!A10","v":0},{"$f":"May!B10","v":0},{"$f":"May!C10","v":0},null,{"$f":"May!E10","v":0},{"$f":"May!F10","v":0},{"$f":"May!G10","v":0},null,{"$f":"May!I10","v":0},{"$f":"May!J10","v":0},{"$f":"May!K10","v":0},null,{"$f":"May!M10","v":0},{"$f":"May!N10","v":0},{"$f":"May!O10","v":0},null,{"$f":"May!Q10","v":0},{"$f":"May!R10","v":0},{"$f":"May!S10","v":0},null,{"$f":"May!U10","v":0},{"$f":"May!V10","v":0},{"$f":"May!W10","v":0}]
[{"$f":"May!A11","v":0},{"$f":"May!B11","v":0},{"$f":"May!C11","v":0},null,{"$f":"May!E11","v":0},{"$f":"May!F11","v":0},{"$f":"May!G11","v":0},null,{"$f":"May!I11","v":0},{"$f":"May!J11","v":0},{"$f":"May!K11","v":0},null,{"$f":"May!M11","v":0},{"$f":"May!N11","v":0},{"$f":"May!O11","v":0},null,{"$f":"May!Q11","v":0},{"$f":"May!R11","v":0},{"$f":"May!S11","v":0},null,{"$f":"May!U11","v":0},{"$f":"May!V11","v":0},{"$f":"May!W11","v":0}]
[{"$f":"May!A12","v":0},{"$f":"May!B12","v":0},{"$f":"May!C12","v":0},null,{"$f":"May!E12","v":0},{"$f":"May!F12","v":0},{"$f":"May!G12","v":0},null,{"$f":"May!I12","v":0},{"$f":"May!J12","v":0},{"$f":"May!K12","v":0},null,{"$f":"May!M12","v":0},{"$f":"May!N12","v":0},{"$f":"May!O12","v":0},null,{"$f":"May!Q12","v":0},{"$f":"May!R12","v":0},{"$f":"May!S12","v":0},null,{"$f":"May!U12","v":0},{"$f":"May!V12","v":0},{"$f":"May!W12","v":0}]
[{"$f":"May!A13","v":0},{"$f":"May!B13","v":0},{"$f":"May!C13","v":0},null,{"$f":"May!E13","v":0},{"$f":"May!F13","v":0},{"$f":"May!G13","v":0},null,{"$f":"May!I13","v":0},{"$f":"May!J13","v":0},{"$f":"May!K13","v":0},null,{"$f":"May!M13","v":0},{"$f":"May!N13","v":0},{"$f":"May!O13","v":0},null,{"$f":"May!Q13","v":0},{"$f":"May!R13","v":0},{"$f":"May!S13","v":0},null,{"$f":"May!U13","v":0},{"$f":"May!V13","v":0},{"$f":"May!W13","v":0}]
[{"$f":"May!A14","v":0},{"$f":"May!B14","v":0},{"$f":"May!C14","v":0},null,{"$f":"May!E14","v":0},{"$f":"May!F14","v":0},{"$f":"May!G14","v":0},null,{"$f":"May!I14","v":0},{"$f":"May!J14","v":0},{"$f":"May!K14","v":0},null,{"$f":"May!M14","v":0},{"$f":"May!N14","v":0},{"$f":"May!O14","v":0},null,{"$f":"May!Q14","v":0},{"$f":"May!R14","v":0},{"$f":"May!S14","v":0},null,{"$f":"May!U14","v":0},{"$f":"May!V14","v":0},{"$f":"May!W14","v":0}]
[{"$f":"May!A15","v":0},{"$f":"May!B15","v":0},{"$f":"May!C15","v":0},null,{"$f":"May!E15","v":0},{"$f":"May!F15","v":0},{"$f":"May!G15","v":0},null,{"$f":"May!I15","v":0},{"$f":"May!J15","v":0},{"$f":"May!K15","v":0},null,{"$f":"May!M15","v":0},{"$f":"May!N15","v":0},{"$f":"May!O15","v":0},null,{"$f":"May!Q15","v":0},{"$f":"May!R15","v":0},{"$f":"May!S15","v":0},null,{"$f":"May!U15","v":0},{"$f":"May!V15","v":0},{"$f":"May!W15","v":0}]
[{"$f":"May!A16","v":0},{"$f":"May!B16","v":0},{"$f":"May!C16","v":0},null,{"$f":"May!E16","v":0},{"$f":"May!F16","v":0},{"$f":"May!G16","v":0},null,{"$f":"May!I16","v":0},{"$f":"May!J16","v":0},{"$f":"May!K16","v":0},null,{"$f":"May!M16","v":0},{"$f":"May!N16","v":0},{"$f":"May!O16","v":0},null,{"$f":"May!Q16","v":0},{"$f":"May!R16","v":0},{"$f":"May!S16","v":0},null,{"$f":"May!U16","v":0},{"$f":"May!V16","v":0},{"$f":"May!W16","v":0}]
[{"$f":"May!A17","v":0},{"$f":"May!B17","v":0},{"$f":"May!C17","v":0},null,{"$f":"May!E17","v":0},{"$f":"May!F17","v":0},{"$f":"May!G17","v":0},null,{"$f":"May!I17","v":0},{"$f":"May!J17","v":0},{"$f":"May!K17","v":0},null,{"$f":"May!M17","v":0},{"$f":"May!N17","v":0},{"$f":"May!O17","v":0},null,{"$f":"May!Q17","v":0},{"$f":"May!R17","v":0},{"$f":"May!S17","v":0},null,{"$f":"May!U17","v":0},{"$f":"May!V17","v":0},{"$f":"May!W17","v":0}]
[{"$f":"May!A18","v":0},{"$f":"May!B18","v":0},{"$f":"May!C18","v":0},null,{"$f":"May!E18","v":0},{"$f":"May!F18","v":0},{"$f":"May!G18","v":0},null,{"$f":"May!I18","v":0},{"$f":"May!J18","v":0},{"$f":"May!K18","v":0},null,{"$f":"May!M18","v":0},{"$f":"May!N18","v":0},{"$f":"May!O18","v":0},null,{"$f":"May!Q18","v":0},{"$f":"May!R18","v":0},{"$f":"May!S18","v":0},null,{"$f":"May!U18","v":0},{"$f":"May!V18","v":0},{"$f":"May!W18","v":0}]
[{"$f":"May!A19","v":0},{"$f":"May!B19","v":0},{"$f":"May!C19","v":0},null,{"$f":"May!E19","v":0},{"$f":"May!F19","v":0},{"$f":"May!G19","v":0},null,{"$f":"May!I19","v":0},{"$f":"May!J19","v":0},{"$f":"May!K19","v":0},null,{"$f":"May!M19","v":0},{"$f":"May!N19","v":0},{"$f":"May!O19","v":0},null,{"$f":"May!Q19","v":0},{"$f":"May!R19","v":0},{"$f":"May!S19","v":0},null,{"$f":"May!U19","v":0},{"$f":"May!V19","v":0},{"$f":"May!W19","v":0}]
[{"$f":"May!A20","v":0},{"$f":"May!B20","v":0},{"$f":"May!C20","v":0},null,{"$f":"May!E20","v":0},{"$f":"May!F20","v":0},{"$f":"May!G20","v":0},null,{"$f":"May!I20","v":0},{"$f":"May!J20","v":0},{"$f":"May!K20","v":0},null,{"$f":"May!M20","v":0},{"$f":"May!N20","v":0},{"$f":"May!O20","v":0},null,{"$f":"May!Q20","v":0},{"$f":"May!R20","v":0},{"$f":"May!S20","v":0},null,{"$f":"May!U20","v":0},{"$f":"May!V20","v":0},{"$f":"May!W20","v":0}]
[{"$f":"May!A21","v":0},{"$f":"May!B21","v":0},{"$f":"May!C21","v":0},null,{"$f":"May!E21","v":0},{"$f":"May!F21","v":0},{"$f":"May!G21","v":0},null,{"$f":"May!I21","v":0},{"$f":"May!J21","v":0},{"$f":"May!K21","v":0},null,{"$f":"May!M21","v":0},{"$f":"May!N21","v":0},{"$f":"May!O21","v":0},null,{"$f":"May!Q21","v":0},{"$f":"May!R21","v":0},{"$f":"May!S21","v":0},null,{"$f":"May!U21","v":0},{"$f":"May!V21","v":0},{"$f":"May!W21","v":0}]
[{"$f":"May!A22","v":0},{"$f":"May!B22","v":0},{"$f":"May!C22","v":0},null,{"$f":"May!E22","v":0},{"$f":"May!F22","v":0},{"$f":"May!G22","v":0},null,{"$f":"May!I22","v":0},{"$f":"May!J22","v":0},{"$f":"May!K22","v":0},null,{"$f":"May!M22","v":0},{"$f":"May!N22","v":0},{"$f":"May!O22","v":0},null,{"$f":"May!Q22","v":0},{"$f":"May!R22","v":0},{"$f":"May!S22","v":0},null,{"$f":"May!U22","v":0},{"$f":"May!V22","v":0},{"$f":"May!W22","v":0}]
[{"$f":"May!A23","v":0},{"$f":"May!B23","v":0},{"$f":"May!C23","v":0},null,{"$f":"May!E23","v":0},{"$f":"May!F23","v":0},{"$f":"May!G23","v":0},null,{"$f":"May!I23","v":0},{"$f":"May!J23","v":0},{"$f":"May!K23","v":0},null,{"$f":"May!M23","v":0},{"$f":"May!N23","v":0},{"$f":"May!O23","v":0},null,{"$f":"May!Q23","v":0},{"$f":"May!R23","v":0},{"$f":"May!S23","v":0},null,{"$f":"May!U23","v":0},{"$f":"May!V23","v":0},{"$f":"May!W23","v":0}]
[{"$f":"May!A24","v":0},{"$f":"May!B24","v":0},{"$f":"May!C24","v":0},null,{"$f":"May!E24","v":0},{"$f":"May!F24","v":0},{"$f":"May!G24","v":0},null,{"$f":"May!I24","v":0},{"$f":"May!J24","v":0},{"$f":"May!K24","v":0},null,{"$f":"May!M24","v":0},{"$f":"May!N24","v":0},{"$f":"May!O24","v":0},null,{"$f":"May!Q24","v":0},{"$f":"May!R24","v":0},{"$f":"May!S24","v":0},null,{"$f":"May!U24","v":0},{"$f":"May!V24","v":0},{"$f":"May!W24","v":0}]
[{"$f":"May!A25","v":0},{"$f":"May!B25","v":0},{"$f":"May!C25","v":0},null,{"$f":"May!E25","v":0},{"$f":"May!F25","v":0},{"$f":"May!G25","v":0},null,{"$f":"May!I25","v":0},{"$f":"May!J25","v":0},{"$f":"May!K25","v":0},null,{"$f":"May!M25","v":0},{"$f":"May!N25","v":0},{"$f":"May!O25","v":0},null,{"$f":"May!Q25","v":0},{"$f":"May!R25","v":0},{"$f":"May!S25","v":0},null,{"$f":"May!U25","v":0},{"$f":"May!V25","v":0},{"$f":"May!W25","v":0}]
[{"$f":"May!A26","v":0},{"$f":"May!B26","v":0},{"$f":"May!C26","v":0},null,{"$f":"May!E26","v":0},{"$f":"May!F26","v":0},{"$f":"May!G26","v":0},null,{"$f":"May!I26","v":0},{"$f":"May!J26","v":0},{"$f":"May!K26","v":0},null,{"$f":"May!M26","v":0},{"$f":"May!N26","v":0},{"$f":"May!O26","v":0},null,{"$f":"May!Q26","v":0},{"$f":"May!R26","v":0},{"$f":"May!S26","v":0},null,{"$f":"May!U26","v":0},{"$f":"May!V26","v":0},{"$f":"May!W26","v":0}]
[{"$f":"May!A27","v":0},{"$f":"May!B27","v":0},{"$f":"May!C27","v":0},null,{"$f":"May!E27","v":0},{"$f":"May!F27","v":0},{"$f":"May!G27","v":0},null,{"$f":"May!I27","v":0},{"$f":"May!J27","v":0},{"$f":"May!K27","v":0},null,{"$f":"May!M27","v":0},{"$f":"May!N27","v":0},{"$f":"May!O27","v":0},null,{"$f":"May!Q27","v":0},{"$f":"May!R27","v":0},{"$f":"May!S27","v":0},null,{"$f":"May!U27","v":0},{"$f":"May!V27","v":0},{"$f":"May!W27","v":0}]
[{"$f":"May!A28","v":0},{"$f":"May!B28","v":0},{"$f":"May!C28","v":0},null,{"$f":"May!E28","v":0},{"$f":"May!F28","v":0},{"$f":"May!G28","v":0},null,{"$f":"May!I28","v":0},{"$f":"May!J28","v":0},{"$f":"May!K28","v":0},null,{"$f":"May!M28","v":0},{"$f":"May!N28","v":0},{"$f":"May!O28","v":0},null,{"$f":"May!Q28","v":0},{"$f":"May!R28","v":0},{"$f":"May!S28","v":0},null,{"$f":"May!U28","v":0},{"$f":"May!V28","v":0},{"$f":"May!W28","v":0}]
[{"$f":"May!A29","v":0},{"$f":"May!B29","v":0},{"$f":"May!C29","v":0},null,{"$f":"May!E29","v":0},{"$f":"May!F29","v":0},{"$f":"May!G29","v":0},null,{"$f":"May!I29","v":0},{"$f":"May!J29","v":0},{"$f":"May!K29","v":0},null,{"$f":"May!M29","v":0},{"$f":"May!N29","v":0},{"$f":"May!O29","v":0},null,{"$f":"May!Q29","v":0},{"$f":"May!R29","v":0},{"$f":"May!S29","v":0},null,{"$f":"May!U29","v":0},{"$f":"May!V29","v":0},{"$f":"May!W29","v":0}]
[{"$f":"May!A30","v":0},{"$f":"May!B30","v":0},{"$f":"May!C30","v":0},null,{"$f":"May!E30","v":0},{"$f":"May!F30","v":0},{"$f":"May!G30","v":0},null,{"$f":"May!I30","v":0},{"$f":"May!J30","v":0},{"$f":"May!K30","v":0},null,{"$f":"May!M30","v":0},{"$f":"May!N30","v":0},{"$f":"May!O30","v":0},null,{"$f":"May!Q30","v":0},{"$f":"May!R30","v":0},{"$f":"May!S30","v":0},null,{"$f":"May!U30","v":0},{"$f":"May!V30","v":0},{"$f":"May!W30","v":0}]
[{"$f":"May!A31","v":0},{"$f":"May!B31","v":0},{"$f":"May!C31","v":0},null,{"$f":"May!E31","v":0},{"$f":"May!F31","v":0},{"$f":"May!G31","v":0},null,{"$f":"May!I31","v":0},{"$f":"May!J31","v":0},{"$f":"May!K31","v":0},null,{"$f":"May!M31","v":0},{"$f":"May!N31","v":0},{"$f":"May!O31","v":0},null,{"$f":"May!Q31","v":0},{"$f":"May!R31","v":0},{"$f":"May!S31","v":0},null,{"$f":"May!U31","v":0},{"$f":"May!V31","v":0},{"$f":"May!W31","v":0}]
[{"$f":"May!A32","v":0},{"$f":"May!B32","v":0},{"$f":"May!C32","v":0},null,{"$f":"May!E32","v":0},{"$f":"May!F32","v":0},{"$f":"May!G32","v":0},null,{"$f":"May!I32","v":0},{"$f":"May!J32","v":0},{"$f":"May!K32","v":0},null,{"$f":"May!M32","v":0},{"$f":"May!N32","v":0},{"$f":"May!O32","v":0},null,{"$f":"May!Q32","v":0},{"$f":"May!R32","v":0},{"$f":"May!S32","v":0},null,{"$f":"May!U32","v":0},{"$f":"May!V32","v":0},{"$f":"May!W32","v":0}]
[{"$f":"May!A33","v":0},{"$f":"May!B33","v":0},{"$f":"May!C33","v":0},null,{"$f":"May!E33","v":0},{"$f":"May!F33","v":0},{"$f":"May!G33","v":0},null,{"$f":"May!I33","v":0},{"$f":"May!J33","v":0},{"$f":"May!K33","v":0},null,{"$f":"May!M33","v":0},{"$f":"May!N33","v":0},{"$f":"May!O33","v":0},null,{"$f":"May!Q33","v":0},{"$f":"May!R33","v":0},{"$f":"May!S33","v":0},null,{"$f":"May!U33","v":0},{"$f":"May!V33","v":0},{"$f":"May!W33","v":0}]
[{"$f":"May!A34","v":0},{"$f":"May!B34","v":0},{"$f":"May!C34","v":0},null,{"$f":"May!E34","v":0},{"$f":"May!F34","v":0},{"$f":"May!G34","v":0},null,{"$f":"May!I34","v":0},{"$f":"May!J34","v":0},{"$f":"May!K34","v":0},null,{"$f":"May!M34","v":0},{"$f":"May!N34","v":0},{"$f":"May!O34","v":0},null,{"$f":"May!Q34","v":0},{"$f":"May!R34","v":0},{"$f":"May!S34","v":0},null,{"$f":"May!U34","v":0},{"$f":"May!V34","v":0},{"$f":"May!W34","v":0}]
[{"$f":"May!A35","v":0},{"$f":"May!B35","v":0},{"$f":"May!C35","v":0},null,{"$f":"May!E35","v":0},{"$f":"May!F35","v":0},{"$f":"May!G35","v":0},null,{"$f":"May!I35","v":0},{"$f":"May!J35","v":0},{"$f":"May!K35","v":0},null,{"$f":"May!M35","v":0},{"$f":"May!N35","v":0},{"$f":"May!O35","v":0},null,{"$f":"May!Q35","v":0},{"$f":"May!R35","v":0},{"$f":"May!S35","v":0},null,{"$f":"May!U35","v":0},{"$f":"May!V35","v":0},{"$f":"May!W35","v":0}]
[{"$f":"May!A36","v":0},{"$f":"May!B36","v":0},{"$f":"May!C36","v":0},null,{"$f":"May!E36","v":0},{"$f":"May!F36","v":0},{"$f":"May!G36","v":0},null,{"$f":"May!I36","v":0},{"$f":"May!J36","v":0},{"$f":"May!K36","v":0},null,{"$f":"May!M36","v":0},{"$f":"May!N36","v":0},{"$f":"May!O36","v":0},null,{"$f":"May!Q36","v":0},{"$f":"May!R36","v":0},{"$f":"May!S36","v":0},null,{"$f":"May!U36","v":0},{"$f":"May!V36","v":0},{"$f":"May!W36","v":0}]
[{"$f":"May!A37","v":0},{"$f":"May!B37","v":0},{"$f":"May!C37","v":0},null,{"$f":"May!E37","v":0},{"$f":"May!F37","v":0},{"$f":"May!G37","v":0},null,{"$f":"May!I37","v":0},{"$f":"May!J37","v":0},{"$f":"May!K37","v":0},null,{"$f":"May!M37","v":0},{"$f":"May!N37","v":0},{"$f":"May!O37","v":0},null,{"$f":"May!Q37","v":0},{"$f":"May!R37","v":0},{"$f":"May!S37","v":0},null,{"$f":"May!U37","v":0},{"$f":"May!V37","v":0},{"$f":"May!W37","v":0}]
[{"$f":"May!A38","v":0},{"$f":"May!B38","v":0},{"$f":"May!C38","v":0},null,{"$f":"May!E38","v":0},{"$f":"May!F38","v":0},{"$f":"May!G38","v":0},null,{"$f":"May!I38","v":0},{"$f":"May!J38","v":0},{"$f":"May!K38","v":0},null,{"$f":"May!M38","v":0},{"$f":"May!N38","v":0},{"$f":"May!O38","v":0},null,{"$f":"May!Q38","v":0},{"$f":"May!R38","v":0},{"$f":"May!S38","v":0},null,{"$f":"May!U38","v":0},{"$f":"May!V38","v":0},{"$f":"May!W38","v":0}]
[{"$f":"May!A39","v":0},{"$f":"May!B39","v":0},{"$f":"May!C39","v":0},null,{"$f":"May!E39","v":0},{"$f":"May!F39","v":0},{"$f":"May!G39","v":0},null,{"$f":"May!I39","v":0},{"$f":"May!J39","v":0},{"$f":"May!K39","v":0},null,{"$f":"May!M39","v":0},{"$f":"May!N39","v":0},{"$f":"May!O39","v":0},null,{"$f":"May!Q39","v":0},{"$f":"May!R39","v":0},{"$f":"May!S39","v":0},null,{"$f":"May!U39","v":0},{"$f":"May!V39","v":0},{"$f":"May!W39","v":0}]
[{"$f":"May!A40","v":0},{"$f":"May!B40","v":0},{"$f":"May!C40","v":0},null,{"$f":"May!E40","v":0},{"$f":"May!F40","v":0},{"$f":"May!G40","v":0},null,{"$f":"May!I40","v":0},{"$f":"May!J40","v":0},{"$f":"May!K40","v":0},null,{"$f":"May!M40","v":0},{"$f":"May!N40","v":0},{"$f":"May!O40","v":0},null,{"$f":"May!Q40","v":0},{"$f":"May!R40","v":0},{"$f":"May!S40","v":0},null,{"$f":"May!U40","v":0},{"$f":"May!V40","v":0},{"$f":"May!W40","v":0}]
[{"$f":"May!A41","v":0},{"$f":"May!B41","v":0},{"$f":"May!C41","v":0},null,{"$f":"May!E41","v":0},{"$f":"May!F41","v":0},{"$f":"May!G41","v":0},null,{"$f":"May!I41","v":0},{"$f":"May!J41","v":0},{"$f":"May!K41","v":0},null,{"$f":"May!M41","v":0},{"$f":"May!N41","v":0},{"$f":"May!O41","v":0},null,{"$f":"May!Q41","v":0},{"$f":"May!R41","v":0},{"$f":"May!S41","v":0},null,{"$f":"May!U41","v":0},{"$f":"May!V41","v":0},{"$f":"May!W41","v":0}]
[{"$f":"May!A42","v":0},{"$f":"May!B42","v":0},{"$f":"May!C42","v":0},null,{"$f":"May!E42","v":0},{"$f":"May!F42","v":0},{"$f":"May!G42","v":0},null,{"$f":"May!I42","v":0},{"$f":"May!J42","v":0},{"$f":"May!K42","v":0},null,{"$f":"May!M42","v":0},{"$f":"May!N42","v":0},{"$f":"May!O42","v":0},null,{"$f":"May!Q42","v":0},{"$f":"May!R42","v":0},{"$f":"May!S42","v":0},null,{"$f":"May!U42","v":0},{"$f":"May!V42","v":0},{"$f":"May!W42","v":0}]
[{"$f":"May!A43","v":0},{"$f":"May!B43","v":0},{"$f":"May!C43","v":0},null,{"$f":"May!E43","v":0},{"$f":"May!F43","v":0},{"$f":"May!G43","v":0},null,{"$f":"May!I43","v":0},{"$f":"May!J43","v":0},{"$f":"May!K43","v":0},null,{"$f":"May!M43","v":0},{"$f":"May!N43","v":0},{"$f":"May!O43","v":0},null,{"$f":"May!Q43","v":0},{"$f":"May!R43","v":0},{"$f":"May!S43","v":0},null,{"$f":"May!U43","v":0},{"$f":"May!V43","v":0},{"$f":"May!W43","v":0}]
[{"$f":"May!A44","v":0},{"$f":"May!B44","v":0},{"$f":"May!C44","v":0},null,{"$f":"May!E44","v":0},{"$f":"May!F44","v":0},{"$f":"May!G44","v":0},null,{"$f":"May!I44","v":0},{"$f":"May!J44","v":0},{"$f":"May!K44","v":0},null,{"$f":"May!M44","v":0},{"$f":"May!N44","v":0},{"$f":"May!O44","v":0},null,{"$f":"May!Q44","v":0},{"$f":"May!R44","v":0},{"$f":"May!S44","v":0},null,{"$f":"May!U44","v":0},{"$f":"May!V44","v":0},{"$f":"May!W44","v":0}]
[{"$f":"May!A45","v":0},{"$f":"May!B45","v":0},{"$f":"May!C45","v":0},null,{"$f":"May!E45","v":0},{"$f":"May!F45","v":0},{"$f":"May!G45","v":0},null,{"$f":"May!I45","v":0},{"$f":"May!J45","v":0},{"$f":"May!K45","v":0},null,{"$f":"May!M45","v":0},{"$f":"May!N45","v":0},{"$f":"May!O45","v":0},null,{"$f":"May!Q45","v":0},{"$f":"May!R45","v":0},{"$f":"May!S45","v":0},null,{"$f":"May!U45","v":0},{"$f":"May!V45","v":0},{"$f":"May!W45","v":0}]
[{"$f":"May!A46","v":0},{"$f":"May!B46","v":0},{"$f":"May!C46","v":0},null,{"$f":"May!E46","v":0},{"$f":"May!F46","v":0},{"$f":"May!G46","v":0},null,{"$f":"May!I46","v":0},{"$f":"May!J46","v":0},{"$f":"May!K46","v":0},null,{"$f":"May!M46","v":0},{"$f":"May!N46","v":0},{"$f":"May!O46","v":0},null,{"$f":"May!Q46","v":0},{"$f":"May!R46","v":0},{"$f":"May!S46","v":0},null,{"$f":"May!U46","v":0},{"$f":"May!V46","v":0},{"$f":"May!W46","v":0}]
[{"$f":"May!A47","v":0},{"$f":"May!B47","v":0},{"$f":"May!C47","v":0},null,{"$f":"May!E47","v":0},{"$f":"May!F47","v":0},{"$f":"May!G47","v":0},null,{"$f":"May!I47","v":0},{"$f":"May!J47","v":0},{"$f":"May!K47","v":0},null,{"$f":"May!M47","v":0},{"$f":"May!N47","v":0},{"$f":"May!O47","v":0},null,{"$f":"May!Q47","v":0},{"$f":"May!R47","v":0},{"$f":"May!S47","v":0},null,{"$f":"May!U47","v":0},{"$f":"May!V47","v":0},{"$f":"May!W47","v":0}]
[{"$f":"May!A48","v":0},{"$f":"May!B48","v":0},{"$f":"May!C48","v":0},null,{"$f":"May!E48","v":0},{"$f":"May!F48","v":0},{"$f":"May!G48","v":0},null,{"$f":"May!I48","v":0},{"$f":"May!J48","v":0},{"$f":"May!K48","v":0},null,{"$f":"May!M48","v":0},{"$f":"May!N48","v":0},{"$f":"May!O48","v":0},null,{"$f":"May!Q48","v":0},{"$f":"May!R48","v":0},{"$f":"May!S48","v":0},null,{"$f":"May!U48","v":0},{"$f":"May!V48","v":0},{"$f":"May!W48","v":0}]
[{"$f":"May!A49","v":0},{"$f":"May!B49","v":0},{"$f":"May!C49","v":0},null,{"$f":"May!E49","v":0},{"$f":"May!F49","v":0},{"$f":"May!G49","v":0},null,{"$f":"May!I49","v":0},{"$f":"May!J49","v":0},{"$f":"May!K49","v":0},null,{"$f":"May!M49","v":0},{"$f":"May!N49","v":0},{"$f":"May!O49","v":0},null,{"$f":"May!Q49","v":0},{"$f":"May!R49","v":0},{"$f":"May!S49","v":0},null,{"$f":"May!U49","v":0},{"$f":"May!V49","v":0},{"$f":"May!W49","v":0}]
[{"$f":"May!A50","v":0},{"$f":"May!B50","v":0},{"$f":"May!C50","v":0},null,{"$f":"May!E50","v":0},{"$f":"May!F50","v":0},{"$f":"May!G50","v":0},null,{"$f":"May!I50","v":0},{"$f":"May!J50","v":0},{"$f":"May!K50","v":0},null,{"$f":"May!M50","v":0},{"$f":"May!N50","v":0},{"$f":"May!O50","v":0},null,{"$f":"May!Q50","v":0},{"$f":"May!R50","v":0},{"$f":"May!S50","v":0},null,{"$f":"May!U50","v":0},{"$f":"May!V50","v":0},{"$f":"May!W50","v":0}]
[{"$f":"May!A51","v":0},{"$f":"May!B51","v":0},{"$f":"May!C51","v":0},null,{"$f":"May!E51","v":0},{"$f":"May!F51","v":0},{"$f":"May!G51","v":0},null,{"$f":"May!I51","v":0},{"$f":"May!J51","v":0},{"$f":"May!K51","v":0},null,{"$f":"May!M51","v":0},{"$f":"May!N51","v":0},{"$f":"May!O51","v":0},null,{"$f":"May!Q51","v":0},{"$f":"May!R51","v":0},{"$f":"May!S51","v":0},null,{"$f":"May!U51","v":0},{"$f":"May!V51","v":0},{"$f":"May!W51","v":0}]
[{"$f":"May!A52","v":0},{"$f":"May!B52","v":0},{"$f":"May!C52","v":0},null,{"$f":"May!E52","v":0},{"$f":"May!F52","v":0},{"$f":"May!G52","v":0},null,{"$f":"May!I52","v":0},{"$f":"May!J52","v":0},{"$f":"May!K52","v":0},null,{"$f":"May!M52","v":0},{"$f":"May!N52","v":0},{"$f":"May!O52","v":0},null,{"$f":"May!Q52","v":0},{"$f":"May!R52","v":0},{"$f":"May!S52","v":0},null,{"$f":"May!U52","v":0},{"$f":"May!V52","v":0},{"$f":"May!W52","v":0}]
[{"$f":"May!A53","v":0},{"$f":"May!B53","v":0},{"$f":"May!C53","v":0},null,{"$f":"May!E53","v":0},{"$f":"May!F53","v":0},{"$f":"May!G53","v":0},null,{"$f":"May!I53","v":0},{"$f":"May!J53","v":0},{"$f":"May!K53","v":0},null,{"$f":"May!M53","v":0},{"$f":"May!N53","v":0},{"$f":"May!O53","v":0},null,{"$f":"May!Q53","v":0},{"$f":"May!R53","v":0},{"$f":"May!S53","v":0},null,{"$f":"May!U53","v":0},{"$f":"May!V53","v":0},{"$f":"May!W53","v":0}]
[{"$f":"May!A54","v":0},{"$f":"May!B54","v":0},{"$f":"May!C54","v":0},null,{"$f":"May!E54","v":0},{"$f":"May!F54","v":0},{"$f":"May!G54","v":0},null,{"$f":"May!I54","v":0},{"$f":"May!J54","v":0},{"$f":"May!K54","v":0},null,{"$f":"May!M54","v":0},{"$f":"May!N54","v":0},{"$f":"May!O54","v":0},null,{"$f":"May!Q54","v":0},{"$f":"May!R54","v":0},{"$f":"May!S54","v":0},null,{"$f":"May!U54","v":0},{"$f":"May!V54","v":0},{"$f":"May!W54","v":0}]
[{"$f":"May!A55","v":0},{"$f":"May!B55","v":0},{"$f":"May!C55","v":0},null,{"$f":"May!E55","v":0},{"$f":"May!F55","v":0},{"$f":"May!G55","v":0},null,{"$f":"May!I55","v":0},{"$f":"May!J55","v":0},{"$f":"May!K55","v":0},null,{"$f":"May!M55","v":0},{"$f":"May!N55","v":0},{"$f":"May!O55","v":0},null,{"$f":"May!Q55","v":0},{"$f":"May!R55","v":0},{"$f":"May!S55","v":0},null,{"$f":"May!U55","v":0},{"$f":"May!V55","v":0},{"$f":"May!W55","v":0}]
[{"$f":"May!A56","v":0},{"$f":"May!B56","v":0},{"$f":"May!C56","v":0},null,{"$f":"May!E56","v":0},{"$f":"May!F56","v":0},{"$f":"May!G56","v":0},null,{"$f":"May!I56","v":0},{"$f":"May!J56","v":0},{"$f":"May!K56","v":0},null,{"$f":"May!M56","v":0},{"$f":"May!N56","v":0},{"$f":"May!O56","v":0},null,{"$f":"May!Q56","v":0},{"$f":"May!R56","v":0},{"$f":"May!S56","v":0},null,{"$f":"May!U56","v":0},{"$f":"May!V56","v":0},{"$f":"May!W56","v":0}]
[{"$f":"May!A57","v":0},{"$f":"May!B57","v":0},{"$f":"May!C57","v":0},null,{"$f":"May!E57","v":0},{"$f":"May!F57","v":0},{"$f":"May!G57","v":0},null,{"$f":"May!I57","v":0},{"$f":"May!J57","v":0},{"$f":"May!K57","v":0},null,{"$f":"May!M57","v":0},{"$f":"May!N57","v":0},{"$f":"May!O57","v":0},null,{"$f":"May!Q57","v":0},{"$f":"May!R57","v":0},{"$f":"May!S57","v":0},null,{"$f":"May!U57","v":0},{"$f":"May!V57","v":0},{"$f":"May!W57","v":0}]
[{"$f":"May!A58","v":0},{"$f":"May!B58","v":0},{"$f":"May!C58","v":0},null,{"$f":"May!E58","v":0},{"$f":"May!F58","v":0},{"$f":"May!G58","v":0},null,{"$f":"May!I58","v":0},{"$f":"May!J58","v":0},{"$f":"May!K58","v":0},null,{"$f":"May!M58","v":0},{"$f":"May!N58","v":0},{"$f":"May!O58","v":0},null,{"$f":"May!Q58","v":0},{"$f":"May!R58","v":0},{"$f":"May!S58","v":0},null,{"$f":"May!U58","v":0},{"$f":"May!V58","v":0},{"$f":"May!W58","v":0}]
[{"$f":"May!A59","v":0},{"$f":"May!B59","v":0},{"$f":"May!C59","v":0},null,{"$f":"May!E59","v":0},{"$f":"May!F59","v":0},{"$f":"May!G59","v":0},null,{"$f":"May!I59","v":0},{"$f":"May!J59","v":0},{"$f":"May!K59","v":0},null,{"$f":"May!M59","v":0},{"$f":"May!N59","v":0},{"$f":"May!O59","v":0},null,{"$f":"May!Q59","v":0},{"$f":"May!R59","v":0},{"$f":"May!S59","v":0},null,{"$f":"May!U59","v":0},{"$f":"May!V59","v":0},{"$f":"May!W59","v":0}]
[{"$f":"May!A60","v":0},{"$f":"May!B60","v":0},{"$f":"May!C60","v":0},null,{"$f":"May!E60","v":0},{"$f":"May!F60","v":0},{"$f":"May!G60","v":0},null,{"$f":"May!I60","v":0},{"$f":"May!J60","v":0},{"$f":"May!K60","v":0},null,{"$f":"May!M60","v":0},{"$f":"May!N60","v":0},{"$f":"May!O60","v":0},null,{"$f":"May!Q60","v":0},{"$f":"May!R60","v":0},{"$f":"May!S60","v":0},null,{"$f":"May!U60","v":0},{"$f":"May!V60","v":0},{"$f":"May!W60","v":0}]
[{"$f":"May!A61","v":0},{"$f":"May!B61","v":0},{"$f":"May!C61","v":0},null,{"$f":"May!E61","v":0},{"$f":"May!F61","v":0},{"$f":"May!G61","v":0},null,{"$f":"May!I61","v":0},{"$f":"May!J61","v":0},{"$f":"May!K61","v":0},null,{"$f":"May!M61","v":0},{"$f":"May!N61","v":0},{"$f":"May!O61","v":0},null,{"$f":"May!Q61","v":0},{"$f":"May!R61","v":0},{"$f":"May!S61","v":0},null,{"$f":"May!U61","v":0},{"$f":"May!V61","v":0},{"$f":"May!W61","v":0}]
[{"$f":"May!A62","v":0},{"$f":"May!B62","v":0},{"$f":"May!C62","v":0},null,{"$f":"May!E62","v":0},{"$f":"May!F62","v":0},{"$f":"May!G62","v":0},null,{"$f":"May!I62","v":0},{"$f":"May!J62","v":0},{"$f":"May!K62","v":0},null,{"$f":"May!M62","v":0},{"$f":"May!N62","v":0},{"$f":"May!O62","v":0},null,{"$f":"May!Q62","v":0},{"$f":"May!R62","v":0},{"$f":"May!S62","v":0},null,{"$f":"May!U62","v":0},{"$f":"May!V62","v":0},{"$f":"May!W62","v":0}]
[{"$f":"June!A3","v":0},{"$f":"June!B3","v":0},{"$f":"June!C3","v":0},null,{"$f":"June!E3","v":0},{"$f":"June!F3","v":0},{"$f":"June!G3","v":0},null,{"$f":"June!I3","v":0},{"$f":"June!J3","v":0},{"$f":"June!K3","v":0},null,{"$f":"June!M3","v":0},{"$f":"June!N3","v":0},{"$f":"June!O3","v":0},null,{"$f":"June!Q3","v":0},{"$f":"June!R3","v":0},{"$f":"June!S3","v":0},null,{"$f":"June!U3","v":0},{"$f":"June!V3","v":0},{"$f":"June!W3","v":0},null,null,null,null,null,"June"]
[{"$f":"June!A4","v":0},{"$f":"June!B4","v":0},{"$f":"June!C4","v":0},null,{"$f":"June!E4","v":0},{"$f":"June!F4","v":0},{"$f":"June!G4","v":0},null,{"$f":"June!I4","v":0},{"$f":"June!J4","v":0},{"$f":"June!K4","v":0},null,{"$f":"June!M4","v":0},{"$f":"June!N4","v":0},{"$f":"June!O4","v":0},null,{"$f":"June!Q4","v":0},{"$f":"June!R4","v":0},{"$f":"June!S4","v":0},null,{"$f":"June!U4","v":0},{"$f":"June!V4","v":0},{"$f":"June!W4","v":0}]
[{"$f":"June!A5","v":0},{"$f":"June!B5","v":0},{"$f":"June!C5","v":0},null,{"$f":"June!E5","v":0},{"$f":"June!F5","v":0},{"$f":"June!G5","v":0},null,{"$f":"June!I5","v":0},{"$f":"June!J5","v":0},{"$f":"June!K5","v":0},null,{"$f":"June!M5","v":0},{"$f":"June!N5","v":0},{"$f":"June!O5","v":0},null,{"$f":"June!Q5","v":0},{"$f":"June!R5","v":0},{"$f":"June!S5","v":0},null,{"$f":"June!U5","v":0},{"$f":"June!V5","v":0},{"$f":"June!W5","v":0}]
[{"$f":"June!A6","v":0},{"$f":"June!B6","v":0},{"$f":"June!C6","v":0},null,{"$f":"June!E6","v":0},{"$f":"June!F6","v":0},{"$f":"June!G6","v":0},null,{"$f":"June!I6","v":0},{"$f":"June!J6","v":0},{"$f":"June!K6","v":0},null,{"$f":"June!M6","v":0},{"$f":"June!N6","v":0},{"$f":"June!O6","v":0},null,{"$f":"June!Q6","v":0},{"$f":"June!R6","v":0},{"$f":"June!S6","v":0},null,{"$f":"June!U6","v":0},{"$f":"June!V6","v":0},{"$f":"June!W6","v":0}]
[{"$f":"June!A7","v":0},{"$f":"June!B7","v":0},{"$f":"June!C7","v":0},null,{"$f":"June!E7","v":0},{"$f":"June!F7","v":0},{"$f":"June!G7","v":0},null,{"$f":"June!I7","v":0},{"$f":"June!J7","v":0},{"$f":"June!K7","v":0},null,{"$f":"June!M7","v":0},{"$f":"June!N7","v":0},{"$f":"June!O7","v":0},null,{"$f":"June!Q7","v":0},{"$f":"June!R7","v":0},{"$f":"June!S7","v":0},null,{"$f":"June!U7","v":0},{"$f":"June!V7","v":0},{"$f":"June!W7","v":0}]
[{"$f":"June!A8","v":0},{"$f":"June!B8","v":0},{"$f":"June!C8","v":0},null,{"$f":"June!E8","v":0},{"$f":"June!F8","v":0},{"$f":"June!G8","v":0},null,{"$f":"June!I8","v":0},{"$f":"June!J8","v":0},{"$f":"June!K8","v":0},null,{"$f":"June!M8","v":0},{"$f":"June!N8","v":0},{"$f":"June!O8","v":0},null,{"$f":"June!Q8","v":0},{"$f":"June!R8","v":0},{"$f":"June!S8","v":0},null,{"$f":"June!U8","v":0},{"$f":"June!V8","v":0},{"$f":"June!W8","v":0}]
[{"$f":"June!A9","v":0},{"$f":"June!B9","v":0},{"$f":"June!C9","v":0},null,{"$f":"June!E9","v":0},{"$f":"June!F9","v":0},{"$f":"June!G9","v":0},null,{"$f":"June!I9","v":0},{"$f":"June!J9","v":0},{"$f":"June!K9","v":0},null,{"$f":"June!M9","v":0},{"$f":"June!N9","v":0},{"$f":"June!O9","v":0},null,{"$f":"June!Q9","v":0},{"$f":"June!R9","v":0},{"$f":"June!S9","v":0},null,{"$f":"June!U9","v":0},{"$f":"June!V9","v":0},{"$f":"June!W9","v":0}]
[{"$f":"June!A10","v":0},{"$f":"June!B10","v":0},{"$f":"June!C10","v":0},null,{"$f":"June!E10","v":0},{"$f":"June!F10","v":0},{"$f":"June!G10","v":0},null,{"$f":"June!I10","v":0},{"$f":"June!J10","v":0},{"$f":"June!K10","v":0},null,{"$f":"June!M10","v":0},{"$f":"June!N10","v":0},{"$f":"June!O10","v":0},null,{"$f":"June!Q10","v":0},{"$f":"June!R10","v":0},{"$f":"June!S10","v":0},null,{"$f":"June!U10","v":0},{"$f":"June!V10","v":0},{"$f":"June!W10","v":0}]
[{"$f":"June!A11","v":0},{"$f":"June!B11","v":0},{"$f":"June!C11","v":0},null,{"$f":"June!E11","v":0},{"$f":"June!F11","v":0},{"$f":"June!G11","v":0},null,{"$f":"June!I11","v":0},{"$f":"June!J11","v":0},{"$f":"June!K11","v":0},null,{"$f":"June!M11","v":0},{"$f":"June!N11","v":0},{"$f":"June!O11","v":0},null,{"$f":"June!Q11","v":0},{"$f":"June!R11","v":0},{"$f":"June!S11","v":0},null,{"$f":"June!U11","v":0},{"$f":"June!V11","v":0},{"$f":"June!W11","v":0}]
[{"$f":"June!A12","v":0},{"$f":"June!B12","v":0},{"$f":"June!C12","v":0},null,{"$f":"June!E12","v":0},{"$f":"June!F12","v":0},{"$f":"June!G12","v":0},null,{"$f":"June!I12","v":0},{"$f":"June!J12","v":0},{"$f":"June!K12","v":0},null,{"$f":"June!M12","v":0},{"$f":"June!N12","v":0},{"$f":"June!O12","v":0},null,{"$f":"June!Q12","v":0},{"$f":"June!R12","v":0},{"$f":"June!S12","v":0},null,{"$f":"June!U12","v":0},{"$f":"June!V12","v":0},{"$f":"June!W12","v":0}]
[{"$f":"June!A13","v":0},{"$f":"June!B13","v":0},{"$f":"June!C13","v":0},null,{"$f":"June!E13","v":0},{"$f":"June!F13","v":0},{"$f":"June!G13","v":0},null,{"$f":"June!I13","v":0},{"$f":"June!J13","v":0},{"$f":"June!K13","v":0},null,{"$f":"June!M13","v":0},{"$f":"June!N13","v":0},{"$f":"June!O13","v":0},null,{"$f":"June!Q13","v":0},{"$f":"June!R13","v":0},{"$f":"June!S13","v":0},null,{"$f":"June!U13","v":0},{"$f":"June!V13","v":0},{"$f":"June!W13","v":0}]
[{"$f":"June!A14","v":0},{"$f":"June!B14","v":0},{"$f":"June!C14","v":0},null,{"$f":"June!E14","v":0},{"$f":"June!F14","v":0},{"$f":"June!G14","v":0},null,{"$f":"June!I14","v":0},{"$f":"June!J14","v":0},{"$f":"June!K14","v":0},null,{"$f":"June!M14","v":0},{"$f":"June!N14","v":0},{"$f":"June!O14","v":0},null,{"$f":"June!Q14","v":0},{"$f":"June!R14","v":0},{"$f":"June!S14","v":0},null,{"$f":"June!U14","v":0},{"$f":"June!V14","v":0},{"$f":"June!W14","v":0}]
[{"$f":"June!A15","v":0},{"$f":"June!B15","v":0},{"$f":"June!C15","v":0},null,{"$f":"June!E15","v":0},{"$f":"June!F15","v":0},{"$f":"June!G15","v":0},null,{"$f":"June!I15","v":0},{"$f":"June!J15","v":0},{"$f":"June!K15","v":0},null,{"$f":"June!M15","v":0},{"$f":"June!N15","v":0},{"$f":"June!O15","v":0},null,{"$f":"June!Q15","v":0},{"$f":"June!R15","v":0},{"$f":"June!S15","v":0},null,{"$f":"June!U15","v":0},{"$f":"June!V15","v":0},{"$f":"June!W15","v":0}]
[{"$f":"June!A16","v":0},{"$f":"June!B16","v":0},{"$f":"June!C16","v":0},null,{"$f":"June!E16","v":0},{"$f":"June!F16","v":0},{"$f":"June!G16","v":0},null,{"$f":"June!I16","v":0},{"$f":"June!J16","v":0},{"$f":"June!K16","v":0},null,{"$f":"June!M16","v":0},{"$f":"June!N16","v":0},{"$f":"June!O16","v":0},null,{"$f":"June!Q16","v":0},{"$f":"June!R16","v":0},{"$f":"June!S16","v":0},null,{"$f":"June!U16","v":0},{"$f":"June!V16","v":0},{"$f":"June!W16","v":0}]
[{"$f":"June!A17","v":0},{"$f":"June!B17","v":0},{"$f":"June!C17","v":0},null,{"$f":"June!E17","v":0},{"$f":"June!F17","v":0},{"$f":"June!G17","v":0},null,{"$f":"June!I17","v":0},{"$f":"June!J17","v":0},{"$f":"June!K17","v":0},null,{"$f":"June!M17","v":0},{"$f":"June!N17","v":0},{"$f":"June!O17","v":0},null,{"$f":"June!Q17","v":0},{"$f":"June!R17","v":0},{"$f":"June!S17","v":0},null,{"$f":"June!U17","v":0},{"$f":"June!V17","v":0},{"$f":"June!W17","v":0}]
[{"$f":"June!A18","v":0},{"$f":"June!B18","v":0},{"$f":"June!C18","v":0},null,{"$f":"June!E18","v":0},{"$f":"June!F18","v":0},{"$f":"June!G18","v":0},null,{"$f":"June!I18","v":0},{"$f":"June!J18","v":0},{"$f":"June!K18","v":0},null,{"$f":"June!M18","v":0},{"$f":"June!N18","v":0},{"$f":"June!O18","v":0},null,{"$f":"June!Q18","v":0},{"$f":"June!R18","v":0},{"$f":"June!S18","v":0},null,{"$f":"June!U18","v":0},{"$f":"June!V18","v":0},{"$f":"June!W18","v":0}]
[{"$f":"June!A19","v":0},{"$f":"June!B19","v":0},{"$f":"June!C19","v":0},null,{"$f":"June!E19","v":0},{"$f":"June!F19","v":0},{"$f":"June!G19","v":0},null,{"$f":"June!I19","v":0},{"$f":"June!J19","v":0},{"$f":"June!K19","v":0},null,{"$f":"June!M19","v":0},{"$f":"June!N19","v":0},{"$f":"June!O19","v":0},null,{"$f":"June!Q19","v":0},{"$f":"June!R19","v":0},{"$f":"June!S19","v":0},null,{"$f":"June!U19","v":0},{"$f":"June!V19","v":0},{"$f":"June!W19","v":0}]
[{"$f":"June!A20","v":0},{"$f":"June!B20","v":0},{"$f":"June!C20","v":0},null,{"$f":"June!E20","v":0},{"$f":"June!F20","v":0},{"$f":"June!G20","v":0},null,{"$f":"June!I20","v":0},{"$f":"June!J20","v":0},{"$f":"June!K20","v":0},null,{"$f":"June!M20","v":0},{"$f":"June!N20","v":0},{"$f":"June!O20","v":0},null,{"$f":"June!Q20","v":0},{"$f":"June!R20","v":0},{"$f":"June!S20","v":0},null,{"$f":"June!U20","v":0},{"$f":"June!V20","v":0},{"$f":"June!W20","v":0}]
[{"$f":"June!A21","v":0},{"$f":"June!B21","v":0},{"$f":"June!C21","v":0},null,{"$f":"June!E21","v":0},{"$f":"June!F21","v":0},{"$f":"June!G21","v":0},null,{"$f":"June!I21","v":0},{"$f":"June!J21","v":0},{"$f":"June!K21","v":0},null,{"$f":"June!M21","v":0},{"$f":"June!N21","v":0},{"$f":"June!O21","v":0},null,{"$f":"June!Q21","v":0},{"$f":"June!R21","v":0},{"$f":"June!S21","v":0},null,{"$f":"June!U21","v":0},{"$f":"June!V21","v":0},{"$f":"June!W21","v":0}]
[{"$f":"June!A22","v":0},{"$f":"June!B22","v":0},{"$f":"June!C22","v":0},null,{"$f":"June!E22","v":0},{"$f":"June!F22","v":0},{"$f":"June!G22","v":0},null,{"$f":"June!I22","v":0},{"$f":"June!J22","v":0},{"$f":"June!K22","v":0},null,{"$f":"June!M22","v":0},{"$f":"June!N22","v":0},{"$f":"June!O22","v":0},null,{"$f":"June!Q22","v":0},{"$f":"June!R22","v":0},{"$f":"June!S22","v":0},null,{"$f":"June!U22","v":0},{"$f":"June!V22","v":0},{"$f":"June!W22","v":0}]
[{"$f":"June!A23","v":0},{"$f":"June!B23","v":0},{"$f":"June!C23","v":0},null,{"$f":"June!E23","v":0},{"$f":"June!F23","v":0},{"$f":"June!G23","v":0},null,{"$f":"June!I23","v":0},{"$f":"June!J23","v":0},{"$f":"June!K23","v":0},null,{"$f":"June!M23","v":0},{"$f":"June!N23","v":0},{"$f":"June!O23","v":0},null,{"$f":"June!Q23","v":0},{"$f":"June!R23","v":0},{"$f":"June!S23","v":0},null,{"$f":"June!U23","v":0},{"$f":"June!V23","v":0},{"$f":"June!W23","v":0}]
[{"$f":"June!A24","v":0},{"$f":"June!B24","v":0},{"$f":"June!C24","v":0},null,{"$f":"June!E24","v":0},{"$f":"June!F24","v":0},{"$f":"June!G24","v":0},null,{"$f":"June!I24","v":0},{"$f":"June!J24","v":0},{"$f":"June!K24","v":0},null,{"$f":"June!M24","v":0},{"$f":"June!N24","v":0},{"$f":"June!O24","v":0},null,{"$f":"June!Q24","v":0},{"$f":"June!R24","v":0},{"$f":"June!S24","v":0},null,{"$f":"June!U24","v":0},{"$f":"June!V24","v":0},{"$f":"June!W24","v":0}]
[{"$f":"June!A25","v":0},{"$f":"June!B25","v":0},{"$f":"June!C25","v":0},null,{"$f":"June!E25","v":0},{"$f":"June!F25","v":0},{"$f":"June!G25","v":0},null,{"$f":"June!I25","v":0},{"$f":"June!J25","v":0},{"$f":"June!K25","v":0},null,{"$f":"June!M25","v":0},{"$f":"June!N25","v":0},{"$f":"June!O25","v":0},null,{"$f":"June!Q25","v":0},{"$f":"June!R25","v":0},{"$f":"June!S25","v":0},null,{"$f":"June!U25","v":0},{"$f":"June!V25","v":0},{"$f":"June!W25","v":0}]
[{"$f":"June!A26","v":0},{"$f":"June!B26","v":0},{"$f":"June!C26","v":0},null,{"$f":"June!E26","v":0},{"$f":"June!F26","v":0},{"$f":"June!G26","v":0},null,{"$f":"June!I26","v":0},{"$f":"June!J26","v":0},{"$f":"June!K26","v":0},null,{"$f":"June!M26","v":0},{"$f":"June!N26","v":0},{"$f":"June!O26","v":0},null,{"$f":"June!Q26","v":0},{"$f":"June!R26","v":0},{"$f":"June!S26","v":0},null,{"$f":"June!U26","v":0},{"$f":"June!V26","v":0},{"$f":"June!W26","v":0}]
[{"$f":"June!A27","v":0},{"$f":"June!B27","v":0},{"$f":"June!C27","v":0},null,{"$f":"June!E27","v":0},{"$f":"June!F27","v":0},{"$f":"June!G27","v":0},null,{"$f":"June!I27","v":0},{"$f":"June!J27","v":0},{"$f":"June!K27","v":0},null,{"$f":"June!M27","v":0},{"$f":"June!N27","v":0},{"$f":"June!O27","v":0},null,{"$f":"June!Q27","v":0},{"$f":"June!R27","v":0},{"$f":"June!S27","v":0},null,{"$f":"June!U27","v":0},{"$f":"June!V27","v":0},{"$f":"June!W27","v":0}]
[{"$f":"June!A28","v":0},{"$f":"June!B28","v":0},{"$f":"June!C28","v":0},null,{"$f":"June!E28","v":0},{"$f":"June!F28","v":0},{"$f":"June!G28","v":0},null,{"$f":"June!I28","v":0},{"$f":"June!J28","v":0},{"$f":"June!K28","v":0},null,{"$f":"June!M28","v":0},{"$f":"June!N28","v":0},{"$f":"June!O28","v":0},null,{"$f":"June!Q28","v":0},{"$f":"June!R28","v":0},{"$f":"June!S28","v":0},null,{"$f":"June!U28","v":0},{"$f":"June!V28","v":0},{"$f":"June!W28","v":0}]
[{"$f":"June!A29","v":0},{"$f":"June!B29","v":0},{"$f":"June!C29","v":0},null,{"$f":"June!E29","v":0},{"$f":"June!F29","v":0},{"$f":"June!G29","v":0},null,{"$f":"June!I29","v":0},{"$f":"June!J29","v":0},{"$f":"June!K29","v":0},null,{"$f":"June!M29","v":0},{"$f":"June!N29","v":0},{"$f":"June!O29","v":0},null,{"$f":"June!Q29","v":0},{"$f":"June!R29","v":0},{"$f":"June!S29","v":0},null,{"$f":"June!U29","v":0},{"$f":"June!V29","v":0},{"$f":"June!W29","v":0}]
[{"$f":"June!A30","v":0},{"$f":"June!B30","v":0},{"$f":"June!C30","v":0},null,{"$f":"June!E30","v":0},{"$f":"June!F30","v":0},{"$f":"June!G30","v":0},null,{"$f":"June!I30","v":0},{"$f":"June!J30","v":0},{"$f":"June!K30","v":0},null,{"$f":"June!M30","v":0},{"$f":"June!N30","v":0},{"$f":"June!O30","v":0},null,{"$f":"June!Q30","v":0},{"$f":"June!R30","v":0},{"$f":"June!S30","v":0},null,{"$f":"June!U30","v":0},{"$f":"June!V30","v":0},{"$f":"June!W30","v":0}]
[{"$f":"June!A31","v":0},{"$f":"June!B31","v":0},{"$f":"June!C31","v":0},null,{"$f":"June!E31","v":0},{"$f":"June!F31","v":0},{"$f":"June!G31","v":0},null,{"$f":"June!I31","v":0},{"$f":"June!J31","v":0},{"$f":"June!K31","v":0},null,{"$f":"June!M31","v":0},{"$f":"June!N31","v":0},{"$f":"June!O31","v":0},null,{"$f":"June!Q31","v":0},{"$f":"June!R31","v":0},{"$f":"June!S31","v":0},null,{"$f":"June!U31","v":0},{"$f":"June!V31","v":0},{"$f":"June!W31","v":0}]
[{"$f":"June!A32","v":0},{"$f":"June!B32","v":0},{"$f":"June!C32","v":0},null,{"$f":"June!E32","v":0},{"$f":"June!F32","v":0},{"$f":"June!G32","v":0},null,{"$f":"June!I32","v":0},{"$f":"June!J32","v":0},{"$f":"June!K32","v":0},null,{"$f":"June!M32","v":0},{"$f":"June!N32","v":0},{"$f":"June!O32","v":0},null,{"$f":"June!Q32","v":0},{"$f":"June!R32","v":0},{"$f":"June!S32","v":0},null,{"$f":"June!U32","v":0},{"$f":"June!V32","v":0},{"$f":"June!W32","v":0}]
[{"$f":"June!A33","v":0},{"$f":"June!B33","v":0},{"$f":"June!C33","v":0},null,{"$f":"June!E33","v":0},{"$f":"June!F33","v":0},{"$f":"June!G33","v":0},null,{"$f":"June!I33","v":0},{"$f":"June!J33","v":0},{"$f":"June!K33","v":0},null,{"$f":"June!M33","v":0},{"$f":"June!N33","v":0},{"$f":"June!O33","v":0},null,{"$f":"June!Q33","v":0},{"$f":"June!R33","v":0},{"$f":"June!S33","v":0},null,{"$f":"June!U33","v":0},{"$f":"June!V33","v":0},{"$f":"June!W33","v":0}]
[{"$f":"June!A34","v":0},{"$f":"June!B34","v":0},{"$f":"June!C34","v":0},null,{"$f":"June!E34","v":0},{"$f":"June!F34","v":0},{"$f":"June!G34","v":0},null,{"$f":"June!I34","v":0},{"$f":"June!J34","v":0},{"$f":"June!K34","v":0},null,{"$f":"June!M34","v":0},{"$f":"June!N34","v":0},{"$f":"June!O34","v":0},null,{"$f":"June!Q34","v":0},{"$f":"June!R34","v":0},{"$f":"June!S34","v":0},null,{"$f":"June!U34","v":0},{"$f":"June!V34","v":0},{"$f":"June!W34","v":0}]
[{"$f":"June!A35","v":0},{"$f":"June!B35","v":0},{"$f":"June!C35","v":0},null,{"$f":"June!E35","v":0},{"$f":"June!F35","v":0},{"$f":"June!G35","v":0},null,{"$f":"June!I35","v":0},{"$f":"June!J35","v":0},{"$f":"June!K35","v":0},null,{"$f":"June!M35","v":0},{"$f":"June!N35","v":0},{"$f":"June!O35","v":0},null,{"$f":"June!Q35","v":0},{"$f":"June!R35","v":0},{"$f":"June!S35","v":0},null,{"$f":"June!U35","v":0},{"$f":"June!V35","v":0},{"$f":"June!W35","v":0}]
[{"$f":"June!A36","v":0},{"$f":"June!B36","v":0},{"$f":"June!C36","v":0},null,{"$f":"June!E36","v":0},{"$f":"June!F36","v":0},{"$f":"June!G36","v":0},null,{"$f":"June!I36","v":0},{"$f":"June!J36","v":0},{"$f":"June!K36","v":0},null,{"$f":"June!M36","v":0},{"$f":"June!N36","v":0},{"$f":"June!O36","v":0},null,{"$f":"June!Q36","v":0},{"$f":"June!R36","v":0},{"$f":"June!S36","v":0},null,{"$f":"June!U36","v":0},{"$f":"June!V36","v":0},{"$f":"June!W36","v":0}]
[{"$f":"June!A37","v":0},{"$f":"June!B37","v":0},{"$f":"June!C37","v":0},null,{"$f":"June!E37","v":0},{"$f":"June!F37","v":0},{"$f":"June!G37","v":0},null,{"$f":"June!I37","v":0},{"$f":"June!J37","v":0},{"$f":"June!K37","v":0},null,{"$f":"June!M37","v":0},{"$f":"June!N37","v":0},{"$f":"June!O37","v":0},null,{"$f":"June!Q37","v":0},{"$f":"June!R37","v":0},{"$f":"June!S37","v":0},null,{"$f":"June!U37","v":0},{"$f":"June!V37","v":0},{"$f":"June!W37","v":0}]
[{"$f":"June!A38","v":0},{"$f":"June!B38","v":0},{"$f":"June!C38","v":0},null,{"$f":"June!E38","v":0},{"$f":"June!F38","v":0},{"$f":"June!G38","v":0},null,{"$f":"June!I38","v":0},{"$f":"June!J38","v":0},{"$f":"June!K38","v":0},null,{"$f":"June!M38","v":0},{"$f":"June!N38","v":0},{"$f":"June!O38","v":0},null,{"$f":"June!Q38","v":0},{"$f":"June!R38","v":0},{"$f":"June!S38","v":0},null,{"$f":"June!U38","v":0},{"$f":"June!V38","v":0},{"$f":"June!W38","v":0}]
[{"$f":"June!A39","v":0},{"$f":"June!B39","v":0},{"$f":"June!C39","v":0},null,{"$f":"June!E39","v":0},{"$f":"June!F39","v":0},{"$f":"June!G39","v":0},null,{"$f":"June!I39","v":0},{"$f":"June!J39","v":0},{"$f":"June!K39","v":0},null,{"$f":"June!M39","v":0},{"$f":"June!N39","v":0},{"$f":"June!O39","v":0},null,{"$f":"June!Q39","v":0},{"$f":"June!R39","v":0},{"$f":"June!S39","v":0},null,{"$f":"June!U39","v":0},{"$f":"June!V39","v":0},{"$f":"June!W39","v":0}]
[{"$f":"June!A40","v":0},{"$f":"June!B40","v":0},{"$f":"June!C40","v":0},null,{"$f":"June!E40","v":0},{"$f":"June!F40","v":0},{"$f":"June!G40","v":0},null,{"$f":"June!I40","v":0},{"$f":"June!J40","v":0},{"$f":"June!K40","v":0},null,{"$f":"June!M40","v":0},{"$f":"June!N40","v":0},{"$f":"June!O40","v":0},null,{"$f":"June!Q40","v":0},{"$f":"June!R40","v":0},{"$f":"June!S40","v":0},null,{"$f":"June!U40","v":0},{"$f":"June!V40","v":0},{"$f":"June!W40","v":0}]
[{"$f":"June!A41","v":0},{"$f":"June!B41","v":0},{"$f":"June!C41","v":0},null,{"$f":"June!E41","v":0},{"$f":"June!F41","v":0},{"$f":"June!G41","v":0},null,{"$f":"June!I41","v":0},{"$f":"June!J41","v":0},{"$f":"June!K41","v":0},null,{"$f":"June!M41","v":0},{"$f":"June!N41","v":0},{"$f":"June!O41","v":0},null,{"$f":"June!Q41","v":0},{"$f":"June!R41","v":0},{"$f":"June!S41","v":0},null,{"$f":"June!U41","v":0},{"$f":"June!V41","v":0},{"$f":"June!W41","v":0}]
[{"$f":"June!A42","v":0},{"$f":"June!B42","v":0},{"$f":"June!C42","v":0},null,{"$f":"June!E42","v":0},{"$f":"June!F42","v":0},{"$f":"June!G42","v":0},null,{"$f":"June!I42","v":0},{"$f":"June!J42","v":0},{"$f":"June!K42","v":0},null,{"$f":"June!M42","v":0},{"$f":"June!N42","v":0},{"$f":"June!O42","v":0},null,{"$f":"June!Q42","v":0},{"$f":"June!R42","v":0},{"$f":"June!S42","v":0},null,{"$f":"June!U42","v":0},{"$f":"June!V42","v":0},{"$f":"June!W42","v":0}]
[{"$f":"June!A43","v":0},{"$f":"June!B43","v":0},{"$f":"June!C43","v":0},null,{"$f":"June!E43","v":0},{"$f":"June!F43","v":0},{"$f":"June!G43","v":0},null,{"$f":"June!I43","v":0},{"$f":"June!J43","v":0},{"$f":"June!K43","v":0},null,{"$f":"June!M43","v":0},{"$f":"June!N43","v":0},{"$f":"June!O43","v":0},null,{"$f":"June!Q43","v":0},{"$f":"June!R43","v":0},{"$f":"June!S43","v":0},null,{"$f":"June!U43","v":0},{"$f":"June!V43","v":0},{"$f":"June!W43","v":0}]
[{"$f":"June!A44","v":0},{"$f":"June!B44","v":0},{"$f":"June!C44","v":0},null,{"$f":"June!E44","v":0},{"$f":"June!F44","v":0},{"$f":"June!G44","v":0},null,{"$f":"June!I44","v":0},{"$f":"June!J44","v":0},{"$f":"June!K44","v":0},null,{"$f":"June!M44","v":0},{"$f":"June!N44","v":0},{"$f":"June!O44","v":0},null,{"$f":"June!Q44","v":0},{"$f":"June!R44","v":0},{"$f":"June!S44","v":0},null,{"$f":"June!U44","v":0},{"$f":"June!V44","v":0},{"$f":"June!W44","v":0}]
[{"$f":"June!A45","v":0},{"$f":"June!B45","v":0},{"$f":"June!C45","v":0},null,{"$f":"June!E45","v":0},{"$f":"June!F45","v":0},{"$f":"June!G45","v":0},null,{"$f":"June!I45","v":0},{"$f":"June!J45","v":0},{"$f":"June!K45","v":0},null,{"$f":"June!M45","v":0},{"$f":"June!N45","v":0},{"$f":"June!O45","v":0},null,{"$f":"June!Q45","v":0},{"$f":"June!R45","v":0},{"$f":"June!S45","v":0},null,{"$f":"June!U45","v":0},{"$f":"June!V45","v":0},{"$f":"June!W45","v":0}]
[{"$f":"June!A46","v":0},{"$f":"June!B46","v":0},{"$f":"June!C46","v":0},null,{"$f":"June!E46","v":0},{"$f":"June!F46","v":0},{"$f":"June!G46","v":0},null,{"$f":"June!I46","v":0},{"$f":"June!J46","v":0},{"$f":"June!K46","v":0},null,{"$f":"June!M46","v":0},{"$f":"June!N46","v":0},{"$f":"June!O46","v":0},null,{"$f":"June!Q46","v":0},{"$f":"June!R46","v":0},{"$f":"June!S46","v":0},null,{"$f":"June!U46","v":0},{"$f":"June!V46","v":0},{"$f":"June!W46","v":0}]
[{"$f":"June!A47","v":0},{"$f":"June!B47","v":0},{"$f":"June!C47","v":0},null,{"$f":"June!E47","v":0},{"$f":"June!F47","v":0},{"$f":"June!G47","v":0},null,{"$f":"June!I47","v":0},{"$f":"June!J47","v":0},{"$f":"June!K47","v":0},null,{"$f":"June!M47","v":0},{"$f":"June!N47","v":0},{"$f":"June!O47","v":0},null,{"$f":"June!Q47","v":0},{"$f":"June!R47","v":0},{"$f":"June!S47","v":0},null,{"$f":"June!U47","v":0},{"$f":"June!V47","v":0},{"$f":"June!W47","v":0}]
[{"$f":"June!A48","v":0},{"$f":"June!B48","v":0},{"$f":"June!C48","v":0},null,{"$f":"June!E48","v":0},{"$f":"June!F48","v":0},{"$f":"June!G48","v":0},null,{"$f":"June!I48","v":0},{"$f":"June!J48","v":0},{"$f":"June!K48","v":0},null,{"$f":"June!M48","v":0},{"$f":"June!N48","v":0},{"$f":"June!O48","v":0},null,{"$f":"June!Q48","v":0},{"$f":"June!R48","v":0},{"$f":"June!S48","v":0},null,{"$f":"June!U48","v":0},{"$f":"June!V48","v":0},{"$f":"June!W48","v":0}]
[{"$f":"June!A49","v":0},{"$f":"June!B49","v":0},{"$f":"June!C49","v":0},null,{"$f":"June!E49","v":0},{"$f":"June!F49","v":0},{"$f":"June!G49","v":0},null,{"$f":"June!I49","v":0},{"$f":"June!J49","v":0},{"$f":"June!K49","v":0},null,{"$f":"June!M49","v":0},{"$f":"June!N49","v":0},{"$f":"June!O49","v":0},null,{"$f":"June!Q49","v":0},{"$f":"June!R49","v":0},{"$f":"June!S49","v":0},null,{"$f":"June!U49","v":0},{"$f":"June!V49","v":0},{"$f":"June!W49","v":0}]
[{"$f":"June!A50","v":0},{"$f":"June!B50","v":0},{"$f":"June!C50","v":0},null,{"$f":"June!E50","v":0},{"$f":"June!F50","v":0},{"$f":"June!G50","v":0},null,{"$f":"June!I50","v":0},{"$f":"June!J50","v":0},{"$f":"June!K50","v":0},null,{"$f":"June!M50","v":0},{"$f":"June!N50","v":0},{"$f":"June!O50","v":0},null,{"$f":"June!Q50","v":0},{"$f":"June!R50","v":0},{"$f":"June!S50","v":0},null,{"$f":"June!U50","v":0},{"$f":"June!V50","v":0},{"$f":"June!W50","v":0}]
[{"$f":"June!A51","v":0},{"$f":"June!B51","v":0},{"$f":"June!C51","v":0},null,{"$f":"June!E51","v":0},{"$f":"June!F51","v":0},{"$f":"June!G51","v":0},null,{"$f":"June!I51","v":0},{"$f":"June!J51","v":0},{"$f":"June!K51","v":0},null,{"$f":"June!M51","v":0},{"$f":"June!N51","v":0},{"$f":"June!O51","v":0},null,{"$f":"June!Q51","v":0},{"$f":"June!R51","v":0},{"$f":"June!S51","v":0},null,{"$f":"June!U51","v":0},{"$f":"June!V51","v":0},{"$f":"June!W51","v":0}]
[{"$f":"June!A52","v":0},{"$f":"June!B52","v":0},{"$f":"June!C52","v":0},null,{"$f":"June!E52","v":0},{"$f":"June!F52","v":0},{"$f":"June!G52","v":0},null,{"$f":"June!I52","v":0},{"$f":"June!J52","v":0},{"$f":"June!K52","v":0},null,{"$f":"June!M52","v":0},{"$f":"June!N52","v":0},{"$f":"June!O52","v":0},null,{"$f":"June!Q52","v":0},{"$f":"June!R52","v":0},{"$f":"June!S52","v":0},null,{"$f":"June!U52","v":0},{"$f":"June!V52","v":0},{"$f":"June!W52","v":0}]
[{"$f":"June!A53","v":0},{"$f":"June!B53","v":0},{"$f":"June!C53","v":0},null,{"$f":"June!E53","v":0},{"$f":"June!F53","v":0},{"$f":"June!G53","v":0},null,{"$f":"June!I53","v":0},{"$f":"June!J53","v":0},{"$f":"June!K53","v":0},null,{"$f":"June!M53","v":0},{"$f":"June!N53","v":0},{"$f":"June!O53","v":0},null,{"$f":"June!Q53","v":0},{"$f":"June!R53","v":0},{"$f":"June!S53","v":0},null,{"$f":"June!U53","v":0},{"$f":"June!V53","v":0},{"$f":"June!W53","v":0}]
[{"$f":"June!A54","v":0},{"$f":"June!B54","v":0},{"$f":"June!C54","v":0},null,{"$f":"June!E54","v":0},{"$f":"June!F54","v":0},{"$f":"June!G54","v":0},null,{"$f":"June!I54","v":0},{"$f":"June!J54","v":0},{"$f":"June!K54","v":0},null,{"$f":"June!M54","v":0},{"$f":"June!N54","v":0},{"$f":"June!O54","v":0},null,{"$f":"June!Q54","v":0},{"$f":"June!R54","v":0},{"$f":"June!S54","v":0},null,{"$f":"June!U54","v":0},{"$f":"June!V54","v":0},{"$f":"June!W54","v":0}]
[{"$f":"June!A55","v":0},{"$f":"June!B55","v":0},{"$f":"June!C55","v":0},null,{"$f":"June!E55","v":0},{"$f":"June!F55","v":0},{"$f":"June!G55","v":0},null,{"$f":"June!I55","v":0},{"$f":"June!J55","v":0},{"$f":"June!K55","v":0},null,{"$f":"June!M55","v":0},{"$f":"June!N55","v":0},{"$f":"June!O55","v":0},null,{"$f":"June!Q55","v":0},{"$f":"June!R55","v":0},{"$f":"June!S55","v":0},null,{"$f":"June!U55","v":0},{"$f":"June!V55","v":0},{"$f":"June!W55","v":0}]
[{"$f":"June!A56","v":0},{"$f":"June!B56","v":0},{"$f":"June!C56","v":0},null,{"$f":"June!E56","v":0},{"$f":"June!F56","v":0},{"$f":"June!G56","v":0},null,{"$f":"June!I56","v":0},{"$f":"June!J56","v":0},{"$f":"June!K56","v":0},null,{"$f":"June!M56","v":0},{"$f":"June!N56","v":0},{"$f":"June!O56","v":0},null,{"$f":"June!Q56","v":0},{"$f":"June!R56","v":0},{"$f":"June!S56","v":0},null,{"$f":"June!U56","v":0},{"$f":"June!V56","v":0},{"$f":"June!W56","v":0}]
[{"$f":"June!A57","v":0},{"$f":"June!B57","v":0},{"$f":"June!C57","v":0},null,{"$f":"June!E57","v":0},{"$f":"June!F57","v":0},{"$f":"June!G57","v":0},null,{"$f":"June!I57","v":0},{"$f":"June!J57","v":0},{"$f":"June!K57","v":0},null,{"$f":"June!M57","v":0},{"$f":"June!N57","v":0},{"$f":"June!O57","v":0},null,{"$f":"June!Q57","v":0},{"$f":"June!R57","v":0},{"$f":"June!S57","v":0},null,{"$f":"June!U57","v":0},{"$f":"June!V57","v":0},{"$f":"June!W57","v":0}]
[{"$f":"June!A58","v":0},{"$f":"June!B58","v":0},{"$f":"June!C58","v":0},null,{"$f":"June!E58","v":0},{"$f":"June!F58","v":0},{"$f":"June!G58","v":0},null,{"$f":"June!I58","v":0},{"$f":"June!J58","v":0},{"$f":"June!K58","v":0},null,{"$f":"June!M58","v":0},{"$f":"June!N58","v":0},{"$f":"June!O58","v":0},null,{"$f":"June!Q58","v":0},{"$f":"June!R58","v":0},{"$f":"June!S58","v":0},null,{"$f":"June!U58","v":0},{"$f":"June!V58","v":0},{"$f":"June!W58","v":0}]
[{"$f":"June!A59","v":0},{"$f":"June!B59","v":0},{"$f":"June!C59","v":0},null,{"$f":"June!E59","v":0},{"$f":"June!F59","v":0},{"$f":"June!G59","v":0},null,{"$f":"June!I59","v":0},{"$f":"June!J59","v":0},{"$f":"June!K59","v":0},null,{"$f":"June!M59","v":0},{"$f":"June!N59","v":0},{"$f":"June!O59","v":0},null,{"$f":"June!Q59","v":0},{"$f":"June!R59","v":0},{"$f":"June!S59","v":0},null,{"$f":"June!U59","v":0},{"$f":"June!V59","v":0},{"$f":"June!W59","v":0}]
[{"$f":"June!A60","v":0},{"$f":"June!B60","v":0},{"$f":"June!C60","v":0},null,{"$f":"June!E60","v":0},{"$f":"June!F60","v":0},{"$f":"June!G60","v":0},null,{"$f":"June!I60","v":0},{"$f":"June!J60","v":0},{"$f":"June!K60","v":0},null,{"$f":"June!M60","v":0},{"$f":"June!N60","v":0},{"$f":"June!O60","v":0},null,{"$f":"June!Q60","v":0},{"$f":"June!R60","v":0},{"$f":"June!S60","v":0},null,{"$f":"June!U60","v":0},{"$f":"June!V60","v":0},{"$f":"June!W60","v":0}]
[{"$f":"June!A61","v":0},{"$f":"June!B61","v":0},{"$f":"June!C61","v":0},null,{"$f":"June!E61","v":0},{"$f":"June!F61","v":0},{"$f":"June!G61","v":0},null,{"$f":"June!I61","v":0},{"$f":"June!J61","v":0},{"$f":"June!K61","v":0},null,{"$f":"June!M61","v":0},{"$f":"June!N61","v":0},{"$f":"June!O61","v":0},null,{"$f":"June!Q61","v":0},{"$f":"June!R61","v":0},{"$f":"June!S61","v":0},null,{"$f":"June!U61","v":0},{"$f":"June!V61","v":0},{"$f":"June!W61","v":0}]
[{"$f":"June!A62","v":0},{"$f":"June!B62","v":0},{"$f":"June!C62","v":0},null,{"$f":"June!E62","v":0},{"$f":"June!F62","v":0},{"$f":"June!G62","v":0},null,{"$f":"June!I62","v":0},{"$f":"June!J62","v":0},{"$f":"June!K62","v":0},null,{"$f":"June!M62","v":0},{"$f":"June!N62","v":0},{"$f":"June!O62","v":0},null,{"$f":"June!Q62","v":0},{"$f":"June!R62","v":0},{"$f":"June!S62","v":0},null,{"$f":"June!U62","v":0},{"$f":"June!V62","v":0},{"$f":"June!W62","v":0}]
[{"$f":"July!A3","v":0},{"$f":"July!B3","v":0},{"$f":"July!C3","v":0},null,{"$f":"July!E3","v":0},{"$f":"July!F3","v":0},{"$f":"July!G3","v":0},null,{"$f":"July!I3","v":0},{"$f":"July!J3","v":0},{"$f":"July!K3","v":0},null,{"$f":"July!M3","v":0},{"$f":"July!N3","v":0},{"$f":"July!O3","v":0},null,{"$f":"July!Q3","v":0},{"$f":"July!R3","v":0},{"$f":"July!S3","v":0},null,{"$f":"July!U3","v":0},{"$f":"July!V3","v":0},{"$f":"July!W3","v":0},null,null,null,null,null,"July"]
[{"$f":"July!A4","v":0},{"$f":"July!B4","v":0},{"$f":"July!C4","v":0},null,{"$f":"July!E4","v":0},{"$f":"July!F4","v":0},{"$f":"July!G4","v":0},null,{"$f":"July!I4","v":0},{"$f":"July!J4","v":0},{"$f":"July!K4","v":0},null,{"$f":"July!M4","v":0},{"$f":"July!N4","v":0},{"$f":"July!O4","v":0},null,{"$f":"July!Q4","v":0},{"$f":"July!R4","v":0},{"$f":"July!S4","v":0},null,{"$f":"July!U4","v":0},{"$f":"July!V4","v":0},{"$f":"July!W4","v":0}]
[{"$f":"July!A5","v":0},{"$f":"July!B5","v":0},{"$f":"July!C5","v":0},null,{"$f":"July!E5","v":0},{"$f":"July!F5","v":0},{"$f":"July!G5","v":0},null,{"$f":"July!I5","v":0},{"$f":"July!J5","v":0},{"$f":"July!K5","v":0},null,{"$f":"July!M5","v":0},{"$f":"July!N5","v":0},{"$f":"July!O5","v":0},null,{"$f":"July!Q5","v":0},{"$f":"July!R5","v":0},{"$f":"July!S5","v":0},null,{"$f":"July!U5","v":0},{"$f":"July!V5","v":0},{"$f":"July!W5","v":0}]
[{"$f":"July!A6","v":0},{"$f":"July!B6","v":0},{"$f":"July!C6","v":0},null,{"$f":"July!E6","v":0},{"$f":"July!F6","v":0},{"$f":"July!G6","v":0},null,{"$f":"July!I6","v":0},{"$f":"July!J6","v":0},{"$f":"July!K6","v":0},null,{"$f":"July!M6","v":0},{"$f":"July!N6","v":0},{"$f":"July!O6","v":0},null,{"$f":"July!Q6","v":0},{"$f":"July!R6","v":0},{"$f":"July!S6","v":0},null,{"$f":"July!U6","v":0},{"$f":"July!V6","v":0},{"$f":"July!W6","v":0}]
[{"$f":"July!A7","v":0},{"$f":"July!B7","v":0},{"$f":"July!C7","v":0},null,{"$f":"July!E7","v":0},{"$f":"July!F7","v":0},{"$f":"July!G7","v":0},null,{"$f":"July!I7","v":0},{"$f":"July!J7","v":0},{"$f":"July!K7","v":0},null,{"$f":"July!M7","v":0},{"$f":"July!N7","v":0},{"$f":"July!O7","v":0},null,{"$f":"July!Q7","v":0},{"$f":"July!R7","v":0},{"$f":"July!S7","v":0},null,{"$f":"July!U7","v":0},{"$f":"July!V7","v":0},{"$f":"July!W7","v":0}]
[{"$f":"July!A8","v":0},{"$f":"July!B8","v":0},{"$f":"July!C8","v":0},null,{"$f":"July!E8","v":0},{"$f":"July!F8","v":0},{"$f":"July!G8","v":0},null,{"$f":"July!I8","v":0},{"$f":"July!J8","v":0},{"$f":"July!K8","v":0},null,{"$f":"July!M8","v":0},{"$f":"July!N8","v":0},{"$f":"July!O8","v":0},null,{"$f":"July!Q8","v":0},{"$f":"July!R8","v":0},{"$f":"July!S8","v":0},null,{"$f":"July!U8","v":0},{"$f":"July!V8","v":0},{"$f":"July!W8","v":0}]
[{"$f":"July!A9","v":0},{"$f":"July!B9","v":0},{"$f":"July!C9","v":0},null,{"$f":"July!E9","v":0},{"$f":"July!F9","v":0},{"$f":"July!G9","v":0},null,{"$f":"July!I9","v":0},{"$f":"July!J9","v":0},{"$f":"July!K9","v":0},null,{"$f":"July!M9","v":0},{"$f":"July!N9","v":0},{"$f":"July!O9","v":0},null,{"$f":"July!Q9","v":0},{"$f":"July!R9","v":0},{"$f":"July!S9","v":0},null,{"$f":"July!U9","v":0},{"$f":"July!V9","v":0},{"$f":"July!W9","v":0}]
[{"$f":"July!A10","v":0},{"$f":"July!B10","v":0},{"$f":"July!C10","v":0},null,{"$f":"July!E10","v":0},{"$f":"July!F10","v":0},{"$f":"July!G10","v":0},null,{"$f":"July!I10","v":0},{"$f":"July!J10","v":0},{"$f":"July!K10","v":0},null,{"$f":"July!M10","v":0},{"$f":"July!N10","v":0},{"$f":"July!O10","v":0},null,{"$f":"July!Q10","v":0},{"$f":"July!R10","v":0},{"$f":"July!S10","v":0},null,{"$f":"July!U10","v":0},{"$f":"July!V10","v":0},{"$f":"July!W10","v":0}]
[{"$f":"July!A11","v":0},{"$f":"July!B11","v":0},{"$f":"July!C11","v":0},null,{"$f":"July!E11","v":0},{"$f":"July!F11","v":0},{"$f":"July!G11","v":0},null,{"$f":"July!I11","v":0},{"$f":"July!J11","v":0},{"$f":"July!K11","v":0},null,{"$f":"July!M11","v":0},{"$f":"July!N11","v":0},{"$f":"July!O11","v":0},null,{"$f":"July!Q11","v":0},{"$f":"July!R11","v":0},{"$f":"July!S11","v":0},null,{"$f":"July!U11","v":0},{"$f":"July!V11","v":0},{"$f":"July!W11","v":0}]
[{"$f":"July!A12","v":0},{"$f":"July!B12","v":0},{"$f":"July!C12","v":0},null,{"$f":"July!E12","v":0},{"$f":"July!F12","v":0},{"$f":"July!G12","v":0},null,{"$f":"July!I12","v":0},{"$f":"July!J12","v":0},{"$f":"July!K12","v":0},null,{"$f":"July!M12","v":0},{"$f":"July!N12","v":0},{"$f":"July!O12","v":0},null,{"$f":"July!Q12","v":0},{"$f":"July!R12","v":0},{"$f":"July!S12","v":0},null,{"$f":"July!U12","v":0},{"$f":"July!V12","v":0},{"$f":"July!W12","v":0}]
[{"$f":"July!A13","v":0},{"$f":"July!B13","v":0},{"$f":"July!C13","v":0},null,{"$f":"July!E13","v":0},{"$f":"July!F13","v":0},{"$f":"July!G13","v":0},null,{"$f":"July!I13","v":0},{"$f":"July!J13","v":0},{"$f":"July!K13","v":0},null,{"$f":"July!M13","v":0},{"$f":"July!N13","v":0},{"$f":"July!O13","v":0},null,{"$f":"July!Q13","v":0},{"$f":"July!R13","v":0},{"$f":"July!S13","v":0},null,{"$f":"July!U13","v":0},{"$f":"July!V13","v":0},{"$f":"July!W13","v":0}]
[{"$f":"July!A14","v":0},{"$f":"July!B14","v":0},{"$f":"July!C14","v":0},null,{"$f":"July!E14","v":0},{"$f":"July!F14","v":0},{"$f":"July!G14","v":0},null,{"$f":"July!I14","v":0},{"$f":"July!J14","v":0},{"$f":"July!K14","v":0},null,{"$f":"July!M14","v":0},{"$f":"July!N14","v":0},{"$f":"July!O14","v":0},null,{"$f":"July!Q14","v":0},{"$f":"July!R14","v":0},{"$f":"July!S14","v":0},null,{"$f":"July!U14","v":0},{"$f":"July!V14","v":0},{"$f":"July!W14","v":0}]
[{"$f":"July!A15","v":0},{"$f":"July!B15","v":0},{"$f":"July!C15","v":0},null,{"$f":"July!E15","v":0},{"$f":"July!F15","v":0},{"$f":"July!G15","v":0},null,{"$f":"July!I15","v":0},{"$f":"July!J15","v":0},{"$f":"July!K15","v":0},null,{"$f":"July!M15","v":0},{"$f":"July!N15","v":0},{"$f":"July!O15","v":0},null,{"$f":"July!Q15","v":0},{"$f":"July!R15","v":0},{"$f":"July!S15","v":0},null,{"$f":"July!U15","v":0},{"$f":"July!V15","v":0},{"$f":"July!W15","v":0}]
[{"$f":"July!A16","v":0},{"$f":"July!B16","v":0},{"$f":"July!C16","v":0},null,{"$f":"July!E16","v":0},{"$f":"July!F16","v":0},{"$f":"July!G16","v":0},null,{"$f":"July!I16","v":0},{"$f":"July!J16","v":0},{"$f":"July!K16","v":0},null,{"$f":"July!M16","v":0},{"$f":"July!N16","v":0},{"$f":"July!O16","v":0},null,{"$f":"July!Q16","v":0},{"$f":"July!R16","v":0},{"$f":"July!S16","v":0},null,{"$f":"July!U16","v":0},{"$f":"July!V16","v":0},{"$f":"July!W16","v":0}]
[{"$f":"July!A17","v":0},{"$f":"July!B17","v":0},{"$f":"July!C17","v":0},null,{"$f":"July!E17","v":0},{"$f":"July!F17","v":0},{"$f":"July!G17","v":0},null,{"$f":"July!I17","v":0},{"$f":"July!J17","v":0},{"$f":"July!K17","v":0},null,{"$f":"July!M17","v":0},{"$f":"July!N17","v":0},{"$f":"July!O17","v":0},null,{"$f":"July!Q17","v":0},{"$f":"July!R17","v":0},{"$f":"July!S17","v":0},null,{"$f":"July!U17","v":0},{"$f":"July!V17","v":0},{"$f":"July!W17","v":0}]
[{"$f":"July!A18","v":0},{"$f":"July!B18","v":0},{"$f":"July!C18","v":0},null,{"$f":"July!E18","v":0},{"$f":"July!F18","v":0},{"$f":"July!G18","v":0},null,{"$f":"July!I18","v":0},{"$f":"July!J18","v":0},{"$f":"July!K18","v":0},null,{"$f":"July!M18","v":0},{"$f":"July!N18","v":0},{"$f":"July!O18","v":0},null,{"$f":"July!Q18","v":0},{"$f":"July!R18","v":0},{"$f":"July!S18","v":0},null,{"$f":"July!U18","v":0},{"$f":"July!V18","v":0},{"$f":"July!W18","v":0}]
[{"$f":"July!A19","v":0},{"$f":"July!B19","v":0},{"$f":"July!C19","v":0},null,{"$f":"July!E19","v":0},{"$f":"July!F19","v":0},{"$f":"July!G19","v":0},null,{"$f":"July!I19","v":0},{"$f":"July!J19","v":0},{"$f":"July!K19","v":0},null,{"$f":"July!M19","v":0},{"$f":"July!N19","v":0},{"$f":"July!O19","v":0},null,{"$f":"July!Q19","v":0},{"$f":"July!R19","v":0},{"$f":"July!S19","v":0},null,{"$f":"July!U19","v":0},{"$f":"July!V19","v":0},{"$f":"July!W19","v":0}]
[{"$f":"July!A20","v":0},{"$f":"July!B20","v":0},{"$f":"July!C20","v":0},null,{"$f":"July!E20","v":0},{"$f":"July!F20","v":0},{"$f":"July!G20","v":0},null,{"$f":"July!I20","v":0},{"$f":"July!J20","v":0},{"$f":"July!K20","v":0},null,{"$f":"July!M20","v":0},{"$f":"July!N20","v":0},{"$f":"July!O20","v":0},null,{"$f":"July!Q20","v":0},{"$f":"July!R20","v":0},{"$f":"July!S20","v":0},null,{"$f":"July!U20","v":0},{"$f":"July!V20","v":0},{"$f":"July!W20","v":0}]
[{"$f":"July!A21","v":0},{"$f":"July!B21","v":0},{"$f":"July!C21","v":0},null,{"$f":"July!E21","v":0},{"$f":"July!F21","v":0},{"$f":"July!G21","v":0},null,{"$f":"July!I21","v":0},{"$f":"July!J21","v":0},{"$f":"July!K21","v":0},null,{"$f":"July!M21","v":0},{"$f":"July!N21","v":0},{"$f":"July!O21","v":0},null,{"$f":"July!Q21","v":0},{"$f":"July!R21","v":0},{"$f":"July!S21","v":0},null,{"$f":"July!U21","v":0},{"$f":"July!V21","v":0},{"$f":"July!W21","v":0}]
[{"$f":"July!A22","v":0},{"$f":"July!B22","v":0},{"$f":"July!C22","v":0},null,{"$f":"July!E22","v":0},{"$f":"July!F22","v":0},{"$f":"July!G22","v":0},null,{"$f":"July!I22","v":0},{"$f":"July!J22","v":0},{"$f":"July!K22","v":0},null,{"$f":"July!M22","v":0},{"$f":"July!N22","v":0},{"$f":"July!O22","v":0},null,{"$f":"July!Q22","v":0},{"$f":"July!R22","v":0},{"$f":"July!S22","v":0},null,{"$f":"July!U22","v":0},{"$f":"July!V22","v":0},{"$f":"July!W22","v":0}]
[{"$f":"July!A23","v":0},{"$f":"July!B23","v":0},{"$f":"July!C23","v":0},null,{"$f":"July!E23","v":0},{"$f":"July!F23","v":0},{"$f":"July!G23","v":0},null,{"$f":"July!I23","v":0},{"$f":"July!J23","v":0},{"$f":"July!K23","v":0},null,{"$f":"July!M23","v":0},{"$f":"July!N23","v":0},{"$f":"July!O23","v":0},null,{"$f":"July!Q23","v":0},{"$f":"July!R23","v":0},{"$f":"July!S23","v":0},null,{"$f":"July!U23","v":0},{"$f":"July!V23","v":0},{"$f":"July!W23","v":0}]
[{"$f":"July!A24","v":0},{"$f":"July!B24","v":0},{"$f":"July!C24","v":0},null,{"$f":"July!E24","v":0},{"$f":"July!F24","v":0},{"$f":"July!G24","v":0},null,{"$f":"July!I24","v":0},{"$f":"July!J24","v":0},{"$f":"July!K24","v":0},null,{"$f":"July!M24","v":0},{"$f":"July!N24","v":0},{"$f":"July!O24","v":0},null,{"$f":"July!Q24","v":0},{"$f":"July!R24","v":0},{"$f":"July!S24","v":0},null,{"$f":"July!U24","v":0},{"$f":"July!V24","v":0},{"$f":"July!W24","v":0}]
[{"$f":"July!A25","v":0},{"$f":"July!B25","v":0},{"$f":"July!C25","v":0},null,{"$f":"July!E25","v":0},{"$f":"July!F25","v":0},{"$f":"July!G25","v":0},null,{"$f":"July!I25","v":0},{"$f":"July!J25","v":0},{"$f":"July!K25","v":0},null,{"$f":"July!M25","v":0},{"$f":"July!N25","v":0},{"$f":"July!O25","v":0},null,{"$f":"July!Q25","v":0},{"$f":"July!R25","v":0},{"$f":"July!S25","v":0},null,{"$f":"July!U25","v":0},{"$f":"July!V25","v":0},{"$f":"July!W25","v":0}]
[{"$f":"July!A26","v":0},{"$f":"July!B26","v":0},{"$f":"July!C26","v":0},null,{"$f":"July!E26","v":0},{"$f":"July!F26","v":0},{"$f":"July!G26","v":0},null,{"$f":"July!I26","v":0},{"$f":"July!J26","v":0},{"$f":"July!K26","v":0},null,{"$f":"July!M26","v":0},{"$f":"July!N26","v":0},{"$f":"July!O26","v":0},null,{"$f":"July!Q26","v":0},{"$f":"July!R26","v":0},{"$f":"July!S26","v":0},null,{"$f":"July!U26","v":0},{"$f":"July!V26","v":0},{"$f":"July!W26","v":0}]
[{"$f":"July!A27","v":0},{"$f":"July!B27","v":0},{"$f":"July!C27","v":0},null,{"$f":"July!E27","v":0},{"$f":"July!F27","v":0},{"$f":"July!G27","v":0},null,{"$f":"July!I27","v":0},{"$f":"July!J27","v":0},{"$f":"July!K27","v":0},null,{"$f":"July!M27","v":0},{"$f":"July!N27","v":0},{"$f":"July!O27","v":0},null,{"$f":"July!Q27","v":0},{"$f":"July!R27","v":0},{"$f":"July!S27","v":0},null,{"$f":"July!U27","v":0},{"$f":"July!V27","v":0},{"$f":"July!W27","v":0}]
[{"$f":"July!A28","v":0},{"$f":"July!B28","v":0},{"$f":"July!C28","v":0},null,{"$f":"July!E28","v":0},{"$f":"July!F28","v":0},{"$f":"July!G28","v":0},null,{"$f":"July!I28","v":0},{"$f":"July!J28","v":0},{"$f":"July!K28","v":0},null,{"$f":"July!M28","v":0},{"$f":"July!N28","v":0},{"$f":"July!O28","v":0},null,{"$f":"July!Q28","v":0},{"$f":"July!R28","v":0},{"$f":"July!S28","v":0},null,{"$f":"July!U28","v":0},{"$f":"July!V28","v":0},{"$f":"July!W28","v":0}]
[{"$f":"July!A29","v":0},{"$f":"July!B29","v":0},{"$f":"July!C29","v":0},null,{"$f":"July!E29","v":0},{"$f":"July!F29","v":0},{"$f":"July!G29","v":0},null,{"$f":"July!I29","v":0},{"$f":"July!J29","v":0},{"$f":"July!K29","v":0},null,{"$f":"July!M29","v":0},{"$f":"July!N29","v":0},{"$f":"July!O29","v":0},null,{"$f":"July!Q29","v":0},{"$f":"July!R29","v":0},{"$f":"July!S29","v":0},null,{"$f":"July!U29","v":0},{"$f":"July!V29","v":0},{"$f":"July!W29","v":0}]
[{"$f":"July!A30","v":0},{"$f":"July!B30","v":0},{"$f":"July!C30","v":0},null,{"$f":"July!E30","v":0},{"$f":"July!F30","v":0},{"$f":"July!G30","v":0},null,{"$f":"July!I30","v":0},{"$f":"July!J30","v":0},{"$f":"July!K30","v":0},null,{"$f":"July!M30","v":0},{"$f":"July!N30","v":0},{"$f":"July!O30","v":0},null,{"$f":"July!Q30","v":0},{"$f":"July!R30","v":0},{"$f":"July!S30","v":0},null,{"$f":"July!U30","v":0},{"$f":"July!V30","v":0},{"$f":"July!W30","v":0}]
[{"$f":"July!A31","v":0},{"$f":"July!B31","v":0},{"$f":"July!C31","v":0},null,{"$f":"July!E31","v":0},{"$f":"July!F31","v":0},{"$f":"July!G31","v":0},null,{"$f":"July!I31","v":0},{"$f":"July!J31","v":0},{"$f":"July!K31","v":0},null,{"$f":"July!M31","v":0},{"$f":"July!N31","v":0},{"$f":"July!O31","v":0},null,{"$f":"July!Q31","v":0},{"$f":"July!R31","v":0},{"$f":"July!S31","v":0},null,{"$f":"July!U31","v":0},{"$f":"July!V31","v":0},{"$f":"July!W31","v":0}]
[{"$f":"July!A32","v":0},{"$f":"July!B32","v":0},{"$f":"July!C32","v":0},null,{"$f":"July!E32","v":0},{"$f":"July!F32","v":0},{"$f":"July!G32","v":0},null,{"$f":"July!I32","v":0},{"$f":"July!J32","v":0},{"$f":"July!K32","v":0},null,{"$f":"July!M32","v":0},{"$f":"July!N32","v":0},{"$f":"July!O32","v":0},null,{"$f":"July!Q32","v":0},{"$f":"July!R32","v":0},{"$f":"July!S32","v":0},null,{"$f":"July!U32","v":0},{"$f":"July!V32","v":0},{"$f":"July!W32","v":0}]
[{"$f":"July!A33","v":0},{"$f":"July!B33","v":0},{"$f":"July!C33","v":0},null,{"$f":"July!E33","v":0},{"$f":"July!F33","v":0},{"$f":"July!G33","v":0},null,{"$f":"July!I33","v":0},{"$f":"July!J33","v":0},{"$f":"July!K33","v":0},null,{"$f":"July!M33","v":0},{"$f":"July!N33","v":0},{"$f":"July!O33","v":0},null,{"$f":"July!Q33","v":0},{"$f":"July!R33","v":0},{"$f":"July!S33","v":0},null,{"$f":"July!U33","v":0},{"$f":"July!V33","v":0},{"$f":"July!W33","v":0}]
[{"$f":"July!A34","v":0},{"$f":"July!B34","v":0},{"$f":"July!C34","v":0},null,{"$f":"July!E34","v":0},{"$f":"July!F34","v":0},{"$f":"July!G34","v":0},null,{"$f":"July!I34","v":0},{"$f":"July!J34","v":0},{"$f":"July!K34","v":0},null,{"$f":"July!M34","v":0},{"$f":"July!N34","v":0},{"$f":"July!O34","v":0},null,{"$f":"July!Q34","v":0},{"$f":"July!R34","v":0},{"$f":"July!S34","v":0},null,{"$f":"July!U34","v":0},{"$f":"July!V34","v":0},{"$f":"July!W34","v":0}]
[{"$f":"July!A35","v":0},{"$f":"July!B35","v":0},{"$f":"July!C35","v":0},null,{"$f":"July!E35","v":0},{"$f":"July!F35","v":0},{"$f":"July!G35","v":0},null,{"$f":"July!I35","v":0},{"$f":"July!J35","v":0},{"$f":"July!K35","v":0},null,{"$f":"July!M35","v":0},{"$f":"July!N35","v":0},{"$f":"July!O35","v":0},null,{"$f":"July!Q35","v":0},{"$f":"July!R35","v":0},{"$f":"July!S35","v":0},null,{"$f":"July!U35","v":0},{"$f":"July!V35","v":0},{"$f":"July!W35","v":0}]
[{"$f":"July!A36","v":0},{"$f":"July!B36","v":0},{"$f":"July!C36","v":0},null,{"$f":"July!E36","v":0},{"$f":"July!F36","v":0},{"$f":"July!G36","v":0},null,{"$f":"July!I36","v":0},{"$f":"July!J36","v":0},{"$f":"July!K36","v":0},null,{"$f":"July!M36","v":0},{"$f":"July!N36","v":0},{"$f":"July!O36","v":0},null,{"$f":"July!Q36","v":0},{"$f":"July!R36","v":0},{"$f":"July!S36","v":0},null,{"$f":"July!U36","v":0},{"$f":"July!V36","v":0},{"$f":"July!W36","v":0}]
[{"$f":"July!A37","v":0},{"$f":"July!B37","v":0},{"$f":"July!C37","v":0},null,{"$f":"July!E37","v":0},{"$f":"July!F37","v":0},{"$f":"July!G37","v":0},null,{"$f":"July!I37","v":0},{"$f":"July!J37","v":0},{"$f":"July!K37","v":0},null,{"$f":"July!M37","v":0},{"$f":"July!N37","v":0},{"$f":"July!O37","v":0},null,{"$f":"July!Q37","v":0},{"$f":"July!R37","v":0},{"$f":"July!S37","v":0},null,{"$f":"July!U37","v":0},{"$f":"July!V37","v":0},{"$f":"July!W37","v":0}]
[{"$f":"July!A38","v":0},{"$f":"July!B38","v":0},{"$f":"July!C38","v":0},null,{"$f":"July!E38","v":0},{"$f":"July!F38","v":0},{"$f":"July!G38","v":0},null,{"$f":"July!I38","v":0},{"$f":"July!J38","v":0},{"$f":"July!K38","v":0},null,{"$f":"July!M38","v":0},{"$f":"July!N38","v":0},{"$f":"July!O38","v":0},null,{"$f":"July!Q38","v":0},{"$f":"July!R38","v":0},{"$f":"July!S38","v":0},null,{"$f":"July!U38","v":0},{"$f":"July!V38","v":0},{"$f":"July!W38","v":0}]
[{"$f":"July!A39","v":0},{"$f":"July!B39","v":0},{"$f":"July!C39","v":0},null,{"$f":"July!E39","v":0},{"$f":"July!F39","v":0},{"$f":"July!G39","v":0},null,{"$f":"July!I39","v":0},{"$f":"July!J39","v":0},{"$f":"July!K39","v":0},null,{"$f":"July!M39","v":0},{"$f":"July!N39","v":0},{"$f":"July!O39","v":0},null,{"$f":"July!Q39","v":0},{"$f":"July!R39","v":0},{"$f":"July!S39","v":0},null,{"$f":"July!U39","v":0},{"$f":"July!V39","v":0},{"$f":"July!W39","v":0}]
[{"$f":"July!A40","v":0},{"$f":"July!B40","v":0},{"$f":"July!C40","v":0},null,{"$f":"July!E40","v":0},{"$f":"July!F40","v":0},{"$f":"July!G40","v":0},null,{"$f":"July!I40","v":0},{"$f":"July!J40","v":0},{"$f":"July!K40","v":0},null,{"$f":"July!M40","v":0},{"$f":"July!N40","v":0},{"$f":"July!O40","v":0},null,{"$f":"July!Q40","v":0},{"$f":"July!R40","v":0},{"$f":"July!S40","v":0},null,{"$f":"July!U40","v":0},{"$f":"July!V40","v":0},{"$f":"July!W40","v":0}]
[{"$f":"July!A41","v":0},{"$f":"July!B41","v":0},{"$f":"July!C41","v":0},null,{"$f":"July!E41","v":0},{"$f":"July!F41","v":0},{"$f":"July!G41","v":0},null,{"$f":"July!I41","v":0},{"$f":"July!J41","v":0},{"$f":"July!K41","v":0},null,{"$f":"July!M41","v":0},{"$f":"July!N41","v":0},{"$f":"July!O41","v":0},null,{"$f":"July!Q41","v":0},{"$f":"July!R41","v":0},{"$f":"July!S41","v":0},null,{"$f":"July!U41","v":0},{"$f":"July!V41","v":0},{"$f":"July!W41","v":0}]
[{"$f":"July!A42","v":0},{"$f":"July!B42","v":0},{"$f":"July!C42","v":0},null,{"$f":"July!E42","v":0},{"$f":"July!F42","v":0},{"$f":"July!G42","v":0},null,{"$f":"July!I42","v":0},{"$f":"July!J42","v":0},{"$f":"July!K42","v":0},null,{"$f":"July!M42","v":0},{"$f":"July!N42","v":0},{"$f":"July!O42","v":0},null,{"$f":"July!Q42","v":0},{"$f":"July!R42","v":0},{"$f":"July!S42","v":0},null,{"$f":"July!U42","v":0},{"$f":"July!V42","v":0},{"$f":"July!W42","v":0}]
[{"$f":"July!A43","v":0},{"$f":"July!B43","v":0},{"$f":"July!C43","v":0},null,{"$f":"July!E43","v":0},{"$f":"July!F43","v":0},{"$f":"July!G43","v":0},null,{"$f":"July!I43","v":0},{"$f":"July!J43","v":0},{"$f":"July!K43","v":0},null,{"$f":"July!M43","v":0},{"$f":"July!N43","v":0},{"$f":"July!O43","v":0},null,{"$f":"July!Q43","v":0},{"$f":"July!R43","v":0},{"$f":"July!S43","v":0},null,{"$f":"July!U43","v":0},{"$f":"July!V43","v":0},{"$f":"July!W43","v":0}]
[{"$f":"July!A44","v":0},{"$f":"July!B44","v":0},{"$f":"July!C44","v":0},null,{"$f":"July!E44","v":0},{"$f":"July!F44","v":0},{"$f":"July!G44","v":0},null,{"$f":"July!I44","v":0},{"$f":"July!J44","v":0},{"$f":"July!K44","v":0},null,{"$f":"July!M44","v":0},{"$f":"July!N44","v":0},{"$f":"July!O44","v":0},null,{"$f":"July!Q44","v":0},{"$f":"July!R44","v":0},{"$f":"July!S44","v":0},null,{"$f":"July!U44","v":0},{"$f":"July!V44","v":0},{"$f":"July!W44","v":0}]
[{"$f":"July!A45","v":0},{"$f":"July!B45","v":0},{"$f":"July!C45","v":0},null,{"$f":"July!E45","v":0},{"$f":"July!F45","v":0},{"$f":"July!G45","v":0},null,{"$f":"July!I45","v":0},{"$f":"July!J45","v":0},{"$f":"July!K45","v":0},null,{"$f":"July!M45","v":0},{"$f":"July!N45","v":0},{"$f":"July!O45","v":0},null,{"$f":"July!Q45","v":0},{"$f":"July!R45","v":0},{"$f":"July!S45","v":0},null,{"$f":"July!U45","v":0},{"$f":"July!V45","v":0},{"$f":"July!W45","v":0}]
[{"$f":"July!A46","v":0},{"$f":"July!B46","v":0},{"$f":"July!C46","v":0},null,{"$f":"July!E46","v":0},{"$f":"July!F46","v":0},{"$f":"July!G46","v":0},null,{"$f":"July!I46","v":0},{"$f":"July!J46","v":0},{"$f":"July!K46","v":0},null,{"$f":"July!M46","v":0},{"$f":"July!N46","v":0},{"$f":"July!O46","v":0},null,{"$f":"July!Q46","v":0},{"$f":"July!R46","v":0},{"$f":"July!S46","v":0},null,{"$f":"July!U46","v":0},{"$f":"July!V46","v":0},{"$f":"July!W46","v":0}]
[{"$f":"July!A47","v":0},{"$f":"July!B47","v":0},{"$f":"July!C47","v":0},null,{"$f":"July!E47","v":0},{"$f":"July!F47","v":0},{"$f":"July!G47","v":0},null,{"$f":"July!I47","v":0},{"$f":"July!J47","v":0},{"$f":"July!K47","v":0},null,{"$f":"July!M47","v":0},{"$f":"July!N47","v":0},{"$f":"July!O47","v":0},null,{"$f":"July!Q47","v":0},{"$f":"July!R47","v":0},{"$f":"July!S47","v":0},null,{"$f":"July!U47","v":0},{"$f":"July!V47","v":0},{"$f":"July!W47","v":0}]
[{"$f":"July!A48","v":0},{"$f":"July!B48","v":0},{"$f":"July!C48","v":0},null,{"$f":"July!E48","v":0},{"$f":"July!F48","v":0},{"$f":"July!G48","v":0},null,{"$f":"July!I48","v":0},{"$f":"July!J48","v":0},{"$f":"July!K48","v":0},null,{"$f":"July!M48","v":0},{"$f":"July!N48","v":0},{"$f":"July!O48","v":0},null,{"$f":"July!Q48","v":0},{"$f":"July!R48","v":0},{"$f":"July!S48","v":0},null,{"$f":"July!U48","v":0},{"$f":"July!V48","v":0},{"$f":"July!W48","v":0}]
[{"$f":"July!A49","v":0},{"$f":"July!B49","v":0},{"$f":"July!C49","v":0},null,{"$f":"July!E49","v":0},{"$f":"July!F49","v":0},{"$f":"July!G49","v":0},null,{"$f":"July!I49","v":0},{"$f":"July!J49","v":0},{"$f":"July!K49","v":0},null,{"$f":"July!M49","v":0},{"$f":"July!N49","v":0},{"$f":"July!O49","v":0},null,{"$f":"July!Q49","v":0},{"$f":"July!R49","v":0},{"$f":"July!S49","v":0},null,{"$f":"July!U49","v":0},{"$f":"July!V49","v":0},{"$f":"July!W49","v":0}]
[{"$f":"July!A50","v":0},{"$f":"July!B50","v":0},{"$f":"July!C50","v":0},null,{"$f":"July!E50","v":0},{"$f":"July!F50","v":0},{"$f":"July!G50","v":0},null,{"$f":"July!I50","v":0},{"$f":"July!J50","v":0},{"$f":"July!K50","v":0},null,{"$f":"July!M50","v":0},{"$f":"July!N50","v":0},{"$f":"July!O50","v":0},null,{"$f":"July!Q50","v":0},{"$f":"July!R50","v":0},{"$f":"July!S50","v":0},null,{"$f":"July!U50","v":0},{"$f":"July!V50","v":0},{"$f":"July!W50","v":0}]
[{"$f":"July!A51","v":0},{"$f":"July!B51","v":0},{"$f":"July!C51","v":0},null,{"$f":"July!E51","v":0},{"$f":"July!F51","v":0},{"$f":"July!G51","v":0},null,{"$f":"July!I51","v":0},{"$f":"July!J51","v":0},{"$f":"July!K51","v":0},null,{"$f":"July!M51","v":0},{"$f":"July!N51","v":0},{"$f":"July!O51","v":0},null,{"$f":"July!Q51","v":0},{"$f":"July!R51","v":0},{"$f":"July!S51","v":0},null,{"$f":"July!U51","v":0},{"$f":"July!V51","v":0},{"$f":"July!W51","v":0}]
[{"$f":"July!A52","v":0},{"$f":"July!B52","v":0},{"$f":"July!C52","v":0},null,{"$f":"July!E52","v":0},{"$f":"July!F52","v":0},{"$f":"July!G52","v":0},null,{"$f":"July!I52","v":0},{"$f":"July!J52","v":0},{"$f":"July!K52","v":0},null,{"$f":"July!M52","v":0},{"$f":"July!N52","v":0},{"$f":"July!O52","v":0},null,{"$f":"July!Q52","v":0},{"$f":"July!R52","v":0},{"$f":"July!S52","v":0},null,{"$f":"July!U52","v":0},{"$f":"July!V52","v":0},{"$f":"July!W52","v":0}]
[{"$f":"July!A53","v":0},{"$f":"July!B53","v":0},{"$f":"July!C53","v":0},null,{"$f":"July!E53","v":0},{"$f":"July!F53","v":0},{"$f":"July!G53","v":0},null,{"$f":"July!I53","v":0},{"$f":"July!J53","v":0},{"$f":"July!K53","v":0},null,{"$f":"July!M53","v":0},{"$f":"July!N53","v":0},{"$f":"July!O53","v":0},null,{"$f":"July!Q53","v":0},{"$f":"July!R53","v":0},{"$f":"July!S53","v":0},null,{"$f":"July!U53","v":0},{"$f":"July!V53","v":0},{"$f":"July!W53","v":0}]
[{"$f":"July!A54","v":0},{"$f":"July!B54","v":0},{"$f":"July!C54","v":0},null,{"$f":"July!E54","v":0},{"$f":"July!F54","v":0},{"$f":"July!G54","v":0},null,{"$f":"July!I54","v":0},{"$f":"July!J54","v":0},{"$f":"July!K54","v":0},null,{"$f":"July!M54","v":0},{"$f":"July!N54","v":0},{"$f":"July!O54","v":0},null,{"$f":"July!Q54","v":0},{"$f":"July!R54","v":0},{"$f":"July!S54","v":0},null,{"$f":"July!U54","v":0},{"$f":"July!V54","v":0},{"$f":"July!W54","v":0}]
[{"$f":"July!A55","v":0},{"$f":"July!B55","v":0},{"$f":"July!C55","v":0},null,{"$f":"July!E55","v":0},{"$f":"July!F55","v":0},{"$f":"July!G55","v":0},null,{"$f":"July!I55","v":0},{"$f":"July!J55","v":0},{"$f":"July!K55","v":0},null,{"$f":"July!M55","v":0},{"$f":"July!N55","v":0},{"$f":"July!O55","v":0},null,{"$f":"July!Q55","v":0},{"$f":"July!R55","v":0},{"$f":"July!S55","v":0},null,{"$f":"July!U55","v":0},{"$f":"July!V55","v":0},{"$f":"July!W55","v":0}]
[{"$f":"July!A56","v":0},{"$f":"July!B56","v":0},{"$f":"July!C56","v":0},null,{"$f":"July!E56","v":0},{"$f":"July!F56","v":0},{"$f":"July!G56","v":0},null,{"$f":"July!I56","v":0},{"$f":"July!J56","v":0},{"$f":"July!K56","v":0},null,{"$f":"July!M56","v":0},{"$f":"July!N56","v":0},{"$f":"July!O56","v":0},null,{"$f":"July!Q56","v":0},{"$f":"July!R56","v":0},{"$f":"July!S56","v":0},null,{"$f":"July!U56","v":0},{"$f":"July!V56","v":0},{"$f":"July!W56","v":0}]
[{"$f":"July!A57","v":0},{"$f":"July!B57","v":0},{"$f":"July!C57","v":0},null,{"$f":"July!E57","v":0},{"$f":"July!F57","v":0},{"$f":"July!G57","v":0},null,{"$f":"July!I57","v":0},{"$f":"July!J57","v":0},{"$f":"July!K57","v":0},null,{"$f":"July!M57","v":0},{"$f":"July!N57","v":0},{"$f":"July!O57","v":0},null,{"$f":"July!Q57","v":0},{"$f":"July!R57","v":0},{"$f":"July!S57","v":0},null,{"$f":"July!U57","v":0},{"$f":"July!V57","v":0},{"$f":"July!W57","v":0}]
[{"$f":"July!A58","v":0},{"$f":"July!B58","v":0},{"$f":"July!C58","v":0},null,{"$f":"July!E58","v":0},{"$f":"July!F58","v":0},{"$f":"July!G58","v":0},null,{"$f":"July!I58","v":0},{"$f":"July!J58","v":0},{"$f":"July!K58","v":0},null,{"$f":"July!M58","v":0},{"$f":"July!N58","v":0},{"$f":"July!O58","v":0},null,{"$f":"July!Q58","v":0},{"$f":"July!R58","v":0},{"$f":"July!S58","v":0},null,{"$f":"July!U58","v":0},{"$f":"July!V58","v":0},{"$f":"July!W58","v":0}]
[{"$f":"July!A59","v":0},{"$f":"July!B59","v":0},{"$f":"July!C59","v":0},null,{"$f":"July!E59","v":0},{"$f":"July!F59","v":0},{"$f":"July!G59","v":0},null,{"$f":"July!I59","v":0},{"$f":"July!J59","v":0},{"$f":"July!K59","v":0},null,{"$f":"July!M59","v":0},{"$f":"July!N59","v":0},{"$f":"July!O59","v":0},null,{"$f":"July!Q59","v":0},{"$f":"July!R59","v":0},{"$f":"July!S59","v":0},null,{"$f":"July!U59","v":0},{"$f":"July!V59","v":0},{"$f":"July!W59","v":0}]
[{"$f":"July!A60","v":0},{"$f":"July!B60","v":0},{"$f":"July!C60","v":0},null,{"$f":"July!E60","v":0},{"$f":"July!F60","v":0},{"$f":"July!G60","v":0},null,{"$f":"July!I60","v":0},{"$f":"July!J60","v":0},{"$f":"July!K60","v":0},null,{"$f":"July!M60","v":0},{"$f":"July!N60","v":0},{"$f":"July!O60","v":0},null,{"$f":"July!Q60","v":0},{"$f":"July!R60","v":0},{"$f":"July!S60","v":0},null,{"$f":"July!U60","v":0},{"$f":"July!V60","v":0},{"$f":"July!W60","v":0}]
[{"$f":"July!A61","v":0},{"$f":"July!B61","v":0},{"$f":"July!C61","v":0},null,{"$f":"July!E61","v":0},{"$f":"July!F61","v":0},{"$f":"July!G61","v":0},null,{"$f":"July!I61","v":0},{"$f":"July!J61","v":0},{"$f":"July!K61","v":0},null,{"$f":"July!M61","v":0},{"$f":"July!N61","v":0},{"$f":"July!O61","v":0},null,{"$f":"July!Q61","v":0},{"$f":"July!R61","v":0},{"$f":"July!S61","v":0},null,{"$f":"July!U61","v":0},{"$f":"July!V61","v":0},{"$f":"July!W61","v":0}]
[{"$f":"July!A62","v":0},{"$f":"July!B62","v":0},{"$f":"July!C62","v":0},null,{"$f":"July!E62","v":0},{"$f":"July!F62","v":0},{"$f":"July!G62","v":0},null,{"$f":"July!I62","v":0},{"$f":"July!J62","v":0},{"$f":"July!K62","v":0},null,{"$f":"July!M62","v":0},{"$f":"July!N62","v":0},{"$f":"July!O62","v":0},null,{"$f":"July!Q62","v":0},{"$f":"July!R62","v":0},{"$f":"July!S62","v":0},null,{"$f":"July!U62","v":0},{"$f":"July!V62","v":0},{"$f":"July!W62","v":0}]
[{"$f":"August!A3","v":0},{"$f":"August!B3","v":0},{"$f":"August!C3","v":0},null,{"$f":"August!E3","v":0},{"$f":"August!F3","v":0},{"$f":"August!G3","v":0},null,{"$f":"August!I3","v":0},{"$f":"August!J3","v":0},{"$f":"August!K3","v":0},null,{"$f":"August!M3","v":0},{"$f":"August!N3","v":0},{"$f":"August!O3","v":0},null,{"$f":"August!Q3","v":0},{"$f":"August!R3","v":0},{"$f":"August!S3","v":0},null,{"$f":"August!U3","v":0},{"$f":"August!V3","v":0},{"$f":"August!W3","v":0},null,null,null,null,null,"August"]
[{"$f":"August!A4","v":0},{"$f":"August!B4","v":0},{"$f":"August!C4","v":0},null,{"$f":"August!E4","v":0},{"$f":"August!F4","v":0},{"$f":"August!G4","v":0},null,{"$f":"August!I4","v":0},{"$f":"August!J4","v":0},{"$f":"August!K4","v":0},null,{"$f":"August!M4","v":0},{"$f":"August!N4","v":0},{"$f":"August!O4","v":0},null,{"$f":"August!Q4","v":0},{"$f":"August!R4","v":0},{"$f":"August!S4","v":0},null,{"$f":"August!U4","v":0},{"$f":"August!V4","v":0},{"$f":"August!W4","v":0}]
[{"$f":"August!A5","v":0},{"$f":"August!B5","v":0},{"$f":"August!C5","v":0},null,{"$f":"August!E5","v":0},{"$f":"August!F5","v":0},{"$f":"August!G5","v":0},null,{"$f":"August!I5","v":0},{"$f":"August!J5","v":0},{"$f":"August!K5","v":0},null,{"$f":"August!M5","v":0},{"$f":"August!N5","v":0},{"$f":"August!O5","v":0},null,{"$f":"August!Q5","v":0},{"$f":"August!R5","v":0},{"$f":"August!S5","v":0},null,{"$f":"August!U5","v":0},{"$f":"August!V5","v":0},{"$f":"August!W5","v":0}]
[{"$f":"August!A6","v":0},{"$f":"August!B6","v":0},{"$f":"August!C6","v":0},null,{"$f":"August!E6","v":0},{"$f":"August!F6","v":0},{"$f":"August!G6","v":0},null,{"$f":"August!I6","v":0},{"$f":"August!J6","v":0},{"$f":"August!K6","v":0},null,{"$f":"August!M6","v":0},{"$f":"August!N6","v":0},{"$f":"August!O6","v":0},null,{"$f":"August!Q6","v":0},{"$f":"August!R6","v":0},{"$f":"August!S6","v":0},null,{"$f":"August!U6","v":0},{"$f":"August!V6","v":0},{"$f":"August!W6","v":0}]
[{"$f":"August!A7","v":0},{"$f":"August!B7","v":0},{"$f":"August!C7","v":0},null,{"$f":"August!E7","v":0},{"$f":"August!F7","v":0},{"$f":"August!G7","v":0},null,{"$f":"August!I7","v":0},{"$f":"August!J7","v":0},{"$f":"August!K7","v":0},null,{"$f":"August!M7","v":0},{"$f":"August!N7","v":0},{"$f":"August!O7","v":0},null,{"$f":"August!Q7","v":0},{"$f":"August!R7","v":0},{"$f":"August!S7","v":0},null,{"$f":"August!U7","v":0},{"$f":"August!V7","v":0},{"$f":"August!W7","v":0}]
[{"$f":"August!A8","v":0},{"$f":"August!B8","v":0},{"$f":"August!C8","v":0},null,{"$f":"August!E8","v":0},{"$f":"August!F8","v":0},{"$f":"August!G8","v":0},null,{"$f":"August!I8","v":0},{"$f":"August!J8","v":0},{"$f":"August!K8","v":0},null,{"$f":"August!M8","v":0},{"$f":"August!N8","v":0},{"$f":"August!O8","v":0},null,{"$f":"August!Q8","v":0},{"$f":"August!R8","v":0},{"$f":"August!S8","v":0},null,{"$f":"August!U8","v":0},{"$f":"August!V8","v":0},{"$f":"August!W8","v":0}]
[{"$f":"August!A9","v":0},{"$f":"August!B9","v":0},{"$f":"August!C9","v":0},null,{"$f":"August!E9","v":0},{"$f":"August!F9","v":0},{"$f":"August!G9","v":0},null,{"$f":"August!I9","v":0},{"$f":"August!J9","v":0},{"$f":"August!K9","v":0},null,{"$f":"August!M9","v":0},{"$f":"August!N9","v":0},{"$f":"August!O9","v":0},null,{"$f":"August!Q9","v":0},{"$f":"August!R9","v":0},{"$f":"August!S9","v":0},null,{"$f":"August!U9","v":0},{"$f":"August!V9","v":0},{"$f":"August!W9","v":0}]
[{"$f":"August!A10","v":0},{"$f":"August!B10","v":0},{"$f":"August!C10","v":0},null,{"$f":"August!E10","v":0},{"$f":"August!F10","v":0},{"$f":"August!G10","v":0},null,{"$f":"August!I10","v":0},{"$f":"August!J10","v":0},{"$f":"August!K10","v":0},null,{"$f":"August!M10","v":0},{"$f":"August!N10","v":0},{"$f":"August!O10","v":0},null,{"$f":"August!Q10","v":0},{"$f":"August!R10","v":0},{"$f":"August!S10","v":0},null,{"$f":"August!U10","v":0},{"$f":"August!V10","v":0},{"$f":"August!W10","v":0}]
[{"$f":"August!A11","v":0},{"$f":"August!B11","v":0},{"$f":"August!C11","v":0},null,{"$f":"August!E11","v":0},{"$f":"August!F11","v":0},{"$f":"August!G11","v":0},null,{"$f":"August!I11","v":0},{"$f":"August!J11","v":0},{"$f":"August!K11","v":0},null,{"$f":"August!M11","v":0},{"$f":"August!N11","v":0},{"$f":"August!O11","v":0},null,{"$f":"August!Q11","v":0},{"$f":"August!R11","v":0},{"$f":"August!S11","v":0},null,{"$f":"August!U11","v":0},{"$f":"August!V11","v":0},{"$f":"August!W11","v":0}]
[{"$f":"August!A12","v":0},{"$f":"August!B12","v":0},{"$f":"August!C12","v":0},null,{"$f":"August!E12","v":0},{"$f":"August!F12","v":0},{"$f":"August!G12","v":0},null,{"$f":"August!I12","v":0},{"$f":"August!J12","v":0},{"$f":"August!K12","v":0},null,{"$f":"August!M12","v":0},{"$f":"August!N12","v":0},{"$f":"August!O12","v":0},null,{"$f":"August!Q12","v":0},{"$f":"August!R12","v":0},{"$f":"August!S12","v":0},null,{"$f":"August!U12","v":0},{"$f":"August!V12","v":0},{"$f":"August!W12","v":0}]
[{"$f":"August!A13","v":0},{"$f":"August!B13","v":0},{"$f":"August!C13","v":0},null,{"$f":"August!E13","v":0},{"$f":"August!F13","v":0},{"$f":"August!G13","v":0},null,{"$f":"August!I13","v":0},{"$f":"August!J13","v":0},{"$f":"August!K13","v":0},null,{"$f":"August!M13","v":0},{"$f":"August!N13","v":0},{"$f":"August!O13","v":0},null,{"$f":"August!Q13","v":0},{"$f":"August!R13","v":0},{"$f":"August!S13","v":0},null,{"$f":"August!U13","v":0},{"$f":"August!V13","v":0},{"$f":"August!W13","v":0}]
[{"$f":"August!A14","v":0},{"$f":"August!B14","v":0},{"$f":"August!C14","v":0},null,{"$f":"August!E14","v":0},{"$f":"August!F14","v":0},{"$f":"August!G14","v":0},null,{"$f":"August!I14","v":0},{"$f":"August!J14","v":0},{"$f":"August!K14","v":0},null,{"$f":"August!M14","v":0},{"$f":"August!N14","v":0},{"$f":"August!O14","v":0},null,{"$f":"August!Q14","v":0},{"$f":"August!R14","v":0},{"$f":"August!S14","v":0},null,{"$f":"August!U14","v":0},{"$f":"August!V14","v":0},{"$f":"August!W14","v":0}]
[{"$f":"August!A15","v":0},{"$f":"August!B15","v":0},{"$f":"August!C15","v":0},null,{"$f":"August!E15","v":0},{"$f":"August!F15","v":0},{"$f":"August!G15","v":0},null,{"$f":"August!I15","v":0},{"$f":"August!J15","v":0},{"$f":"August!K15","v":0},null,{"$f":"August!M15","v":0},{"$f":"August!N15","v":0},{"$f":"August!O15","v":0},null,{"$f":"August!Q15","v":0},{"$f":"August!R15","v":0},{"$f":"August!S15","v":0},null,{"$f":"August!U15","v":0},{"$f":"August!V15","v":0},{"$f":"August!W15","v":0}]
[{"$f":"August!A16","v":0},{"$f":"August!B16","v":0},{"$f":"August!C16","v":0},null,{"$f":"August!E16","v":0},{"$f":"August!F16","v":0},{"$f":"August!G16","v":0},null,{"$f":"August!I16","v":0},{"$f":"August!J16","v":0},{"$f":"August!K16","v":0},null,{"$f":"August!M16","v":0},{"$f":"August!N16","v":0},{"$f":"August!O16","v":0},null,{"$f":"August!Q16","v":0},{"$f":"August!R16","v":0},{"$f":"August!S16","v":0},null,{"$f":"August!U16","v":0},{"$f":"August!V16","v":0},{"$f":"August!W16","v":0}]
[{"$f":"August!A17","v":0},{"$f":"August!B17","v":0},{"$f":"August!C17","v":0},null,{"$f":"August!E17","v":0},{"$f":"August!F17","v":0},{"$f":"August!G17","v":0},null,{"$f":"August!I17","v":0},{"$f":"August!J17","v":0},{"$f":"August!K17","v":0},null,{"$f":"August!M17","v":0},{"$f":"August!N17","v":0},{"$f":"August!O17","v":0},null,{"$f":"August!Q17","v":0},{"$f":"August!R17","v":0},{"$f":"August!S17","v":0},null,{"$f":"August!U17","v":0},{"$f":"August!V17","v":0},{"$f":"August!W17","v":0}]
[{"$f":"August!A18","v":0},{"$f":"August!B18","v":0},{"$f":"August!C18","v":0},null,{"$f":"August!E18","v":0},{"$f":"August!F18","v":0},{"$f":"August!G18","v":0},null,{"$f":"August!I18","v":0},{"$f":"August!J18","v":0},{"$f":"August!K18","v":0},null,{"$f":"August!M18","v":0},{"$f":"August!N18","v":0},{"$f":"August!O18","v":0},null,{"$f":"August!Q18","v":0},{"$f":"August!R18","v":0},{"$f":"August!S18","v":0},null,{"$f":"August!U18","v":0},{"$f":"August!V18","v":0},{"$f":"August!W18","v":0}]
[{"$f":"August!A19","v":0},{"$f":"August!B19","v":0},{"$f":"August!C19","v":0},null,{"$f":"August!E19","v":0},{"$f":"August!F19","v":0},{"$f":"August!G19","v":0},null,{"$f":"August!I19","v":0},{"$f":"August!J19","v":0},{"$f":"August!K19","v":0},null,{"$f":"August!M19","v":0},{"$f":"August!N19","v":0},{"$f":"August!O19","v":0},null,{"$f":"August!Q19","v":0},{"$f":"August!R19","v":0},{"$f":"August!S19","v":0},null,{"$f":"August!U19","v":0},{"$f":"August!V19","v":0},{"$f":"August!W19","v":0}]
[{"$f":"August!A20","v":0},{"$f":"August!B20","v":0},{"$f":"August!C20","v":0},null,{"$f":"August!E20","v":0},{"$f":"August!F20","v":0},{"$f":"August!G20","v":0},null,{"$f":"August!I20","v":0},{"$f":"August!J20","v":0},{"$f":"August!K20","v":0},null,{"$f":"August!M20","v":0},{"$f":"August!N20","v":0},{"$f":"August!O20","v":0},null,{"$f":"August!Q20","v":0},{"$f":"August!R20","v":0},{"$f":"August!S20","v":0},null,{"$f":"August!U20","v":0},{"$f":"August!V20","v":0},{"$f":"August!W20","v":0}]
[{"$f":"August!A21","v":0},{"$f":"August!B21","v":0},{"$f":"August!C21","v":0},null,{"$f":"August!E21","v":0},{"$f":"August!F21","v":0},{"$f":"August!G21","v":0},null,{"$f":"August!I21","v":0},{"$f":"August!J21","v":0},{"$f":"August!K21","v":0},null,{"$f":"August!M21","v":0},{"$f":"August!N21","v":0},{"$f":"August!O21","v":0},null,{"$f":"August!Q21","v":0},{"$f":"August!R21","v":0},{"$f":"August!S21","v":0},null,{"$f":"August!U21","v":0},{"$f":"August!V21","v":0},{"$f":"August!W21","v":0}]
[{"$f":"August!A22","v":0},{"$f":"August!B22","v":0},{"$f":"August!C22","v":0},null,{"$f":"August!E22","v":0},{"$f":"August!F22","v":0},{"$f":"August!G22","v":0},null,{"$f":"August!I22","v":0},{"$f":"August!J22","v":0},{"$f":"August!K22","v":0},null,{"$f":"August!M22","v":0},{"$f":"August!N22","v":0},{"$f":"August!O22","v":0},null,{"$f":"August!Q22","v":0},{"$f":"August!R22","v":0},{"$f":"August!S22","v":0},null,{"$f":"August!U22","v":0},{"$f":"August!V22","v":0},{"$f":"August!W22","v":0}]
[{"$f":"August!A23","v":0},{"$f":"August!B23","v":0},{"$f":"August!C23","v":0},null,{"$f":"August!E23","v":0},{"$f":"August!F23","v":0},{"$f":"August!G23","v":0},null,{"$f":"August!I23","v":0},{"$f":"August!J23","v":0},{"$f":"August!K23","v":0},null,{"$f":"August!M23","v":0},{"$f":"August!N23","v":0},{"$f":"August!O23","v":0},null,{"$f":"August!Q23","v":0},{"$f":"August!R23","v":0},{"$f":"August!S23","v":0},null,{"$f":"August!U23","v":0},{"$f":"August!V23","v":0},{"$f":"August!W23","v":0}]
[{"$f":"August!A24","v":0},{"$f":"August!B24","v":0},{"$f":"August!C24","v":0},null,{"$f":"August!E24","v":0},{"$f":"August!F24","v":0},{"$f":"August!G24","v":0},null,{"$f":"August!I24","v":0},{"$f":"August!J24","v":0},{"$f":"August!K24","v":0},null,{"$f":"August!M24","v":0},{"$f":"August!N24","v":0},{"$f":"August!O24","v":0},null,{"$f":"August!Q24","v":0},{"$f":"August!R24","v":0},{"$f":"August!S24","v":0},null,{"$f":"August!U24","v":0},{"$f":"August!V24","v":0},{"$f":"August!W24","v":0}]
[{"$f":"August!A25","v":0},{"$f":"August!B25","v":0},{"$f":"August!C25","v":0},null,{"$f":"August!E25","v":0},{"$f":"August!F25","v":0},{"$f":"August!G25","v":0},null,{"$f":"August!I25","v":0},{"$f":"August!J25","v":0},{"$f":"August!K25","v":0},null,{"$f":"August!M25","v":0},{"$f":"August!N25","v":0},{"$f":"August!O25","v":0},null,{"$f":"August!Q25","v":0},{"$f":"August!R25","v":0},{"$f":"August!S25","v":0},null,{"$f":"August!U25","v":0},{"$f":"August!V25","v":0},{"$f":"August!W25","v":0}]
[{"$f":"August!A26","v":0},{"$f":"August!B26","v":0},{"$f":"August!C26","v":0},null,{"$f":"August!E26","v":0},{"$f":"August!F26","v":0},{"$f":"August!G26","v":0},null,{"$f":"August!I26","v":0},{"$f":"August!J26","v":0},{"$f":"August!K26","v":0},null,{"$f":"August!M26","v":0},{"$f":"August!N26","v":0},{"$f":"August!O26","v":0},null,{"$f":"August!Q26","v":0},{"$f":"August!R26","v":0},{"$f":"August!S26","v":0},null,{"$f":"August!U26","v":0},{"$f":"August!V26","v":0},{"$f":"August!W26","v":0}]
[{"$f":"August!A27","v":0},{"$f":"August!B27","v":0},{"$f":"August!C27","v":0},null,{"$f":"August!E27","v":0},{"$f":"August!F27","v":0},{"$f":"August!G27","v":0},null,{"$f":"August!I27","v":0},{"$f":"August!J27","v":0},{"$f":"August!K27","v":0},null,{"$f":"August!M27","v":0},{"$f":"August!N27","v":0},{"$f":"August!O27","v":0},null,{"$f":"August!Q27","v":0},{"$f":"August!R27","v":0},{"$f":"August!S27","v":0},null,{"$f":"August!U27","v":0},{"$f":"August!V27","v":0},{"$f":"August!W27","v":0}]
[{"$f":"August!A28","v":0},{"$f":"August!B28","v":0},{"$f":"August!C28","v":0},null,{"$f":"August!E28","v":0},{"$f":"August!F28","v":0},{"$f":"August!G28","v":0},null,{"$f":"August!I28","v":0},{"$f":"August!J28","v":0},{"$f":"August!K28","v":0},null,{"$f":"August!M28","v":0},{"$f":"August!N28","v":0},{"$f":"August!O28","v":0},null,{"$f":"August!Q28","v":0},{"$f":"August!R28","v":0},{"$f":"August!S28","v":0},null,{"$f":"August!U28","v":0},{"$f":"August!V28","v":0},{"$f":"August!W28","v":0}]
[{"$f":"August!A29","v":0},{"$f":"August!B29","v":0},{"$f":"August!C29","v":0},null,{"$f":"August!E29","v":0},{"$f":"August!F29","v":0},{"$f":"August!G29","v":0},null,{"$f":"August!I29","v":0},{"$f":"August!J29","v":0},{"$f":"August!K29","v":0},null,{"$f":"August!M29","v":0},{"$f":"August!N29","v":0},{"$f":"August!O29","v":0},null,{"$f":"August!Q29","v":0},{"$f":"August!R29","v":0},{"$f":"August!S29","v":0},null,{"$f":"August!U29","v":0},{"$f":"August!V29","v":0},{"$f":"August!W29","v":0}]
[{"$f":"August!A30","v":0},{"$f":"August!B30","v":0},{"$f":"August!C30","v":0},null,{"$f":"August!E30","v":0},{"$f":"August!F30","v":0},{"$f":"August!G30","v":0},null,{"$f":"August!I30","v":0},{"$f":"August!J30","v":0},{"$f":"August!K30","v":0},null,{"$f":"August!M30","v":0},{"$f":"August!N30","v":0},{"$f":"August!O30","v":0},null,{"$f":"August!Q30","v":0},{"$f":"August!R30","v":0},{"$f":"August!S30","v":0},null,{"$f":"August!U30","v":0},{"$f":"August!V30","v":0},{"$f":"August!W30","v":0}]
[{"$f":"August!A31","v":0},{"$f":"August!B31","v":0},{"$f":"August!C31","v":0},null,{"$f":"August!E31","v":0},{"$f":"August!F31","v":0},{"$f":"August!G31","v":0},null,{"$f":"August!I31","v":0},{"$f":"August!J31","v":0},{"$f":"August!K31","v":0},null,{"$f":"August!M31","v":0},{"$f":"August!N31","v":0},{"$f":"August!O31","v":0},null,{"$f":"August!Q31","v":0},{"$f":"August!R31","v":0},{"$f":"August!S31","v":0},null,{"$f":"August!U31","v":0},{"$f":"August!V31","v":0},{"$f":"August!W31","v":0}]
[{"$f":"August!A32","v":0},{"$f":"August!B32","v":0},{"$f":"August!C32","v":0},null,{"$f":"August!E32","v":0},{"$f":"August!F32","v":0},{"$f":"August!G32","v":0},null,{"$f":"August!I32","v":0},{"$f":"August!J32","v":0},{"$f":"August!K32","v":0},null,{"$f":"August!M32","v":0},{"$f":"August!N32","v":0},{"$f":"August!O32","v":0},null,{"$f":"August!Q32","v":0},{"$f":"August!R32","v":0},{"$f":"August!S32","v":0},null,{"$f":"August!U32","v":0},{"$f":"August!V32","v":0},{"$f":"August!W32","v":0}]
[{"$f":"August!A33","v":0},{"$f":"August!B33","v":0},{"$f":"August!C33","v":0},null,{"$f":"August!E33","v":0},{"$f":"August!F33","v":0},{"$f":"August!G33","v":0},null,{"$f":"August!I33","v":0},{"$f":"August!J33","v":0},{"$f":"August!K33","v":0},null,{"$f":"August!M33","v":0},{"$f":"August!N33","v":0},{"$f":"August!O33","v":0},null,{"$f":"August!Q33","v":0},{"$f":"August!R33","v":0},{"$f":"August!S33","v":0},null,{"$f":"August!U33","v":0},{"$f":"August!V33","v":0},{"$f":"August!W33","v":0}]
[{"$f":"August!A34","v":0},{"$f":"August!B34","v":0},{"$f":"August!C34","v":0},null,{"$f":"August!E34","v":0},{"$f":"August!F34","v":0},{"$f":"August!G34","v":0},null,{"$f":"August!I34","v":0},{"$f":"August!J34","v":0},{"$f":"August!K34","v":0},null,{"$f":"August!M34","v":0},{"$f":"August!N34","v":0},{"$f":"August!O34","v":0},null,{"$f":"August!Q34","v":0},{"$f":"August!R34","v":0},{"$f":"August!S34","v":0},null,{"$f":"August!U34","v":0},{"$f":"August!V34","v":0},{"$f":"August!W34","v":0}]
[{"$f":"August!A35","v":0},{"$f":"August!B35","v":0},{"$f":"August!C35","v":0},null,{"$f":"August!E35","v":0},{"$f":"August!F35","v":0},{"$f":"August!G35","v":0},null,{"$f":"August!I35","v":0},{"$f":"August!J35","v":0},{"$f":"August!K35","v":0},null,{"$f":"August!M35","v":0},{"$f":"August!N35","v":0},{"$f":"August!O35","v":0},null,{"$f":"August!Q35","v":0},{"$f":"August!R35","v":0},{"$f":"August!S35","v":0},null,{"$f":"August!U35","v":0},{"$f":"August!V35","v":0},{"$f":"August!W35","v":0}]
[{"$f":"August!A36","v":0},{"$f":"August!B36","v":0},{"$f":"August!C36","v":0},null,{"$f":"August!E36","v":0},{"$f":"August!F36","v":0},{"$f":"August!G36","v":0},null,{"$f":"August!I36","v":0},{"$f":"August!J36","v":0},{"$f":"August!K36","v":0},null,{"$f":"August!M36","v":0},{"$f":"August!N36","v":0},{"$f":"August!O36","v":0},null,{"$f":"August!Q36","v":0},{"$f":"August!R36","v":0},{"$f":"August!S36","v":0},null,{"$f":"August!U36","v":0},{"$f":"August!V36","v":0},{"$f":"August!W36","v":0}]
[{"$f":"August!A37","v":0},{"$f":"August!B37","v":0},{"$f":"August!C37","v":0},null,{"$f":"August!E37","v":0},{"$f":"August!F37","v":0},{"$f":"August!G37","v":0},null,{"$f":"August!I37","v":0},{"$f":"August!J37","v":0},{"$f":"August!K37","v":0},null,{"$f":"August!M37","v":0},{"$f":"August!N37","v":0},{"$f":"August!O37","v":0},null,{"$f":"August!Q37","v":0},{"$f":"August!R37","v":0},{"$f":"August!S37","v":0},null,{"$f":"August!U37","v":0},{"$f":"August!V37","v":0},{"$f":"August!W37","v":0}]
[{"$f":"August!A38","v":0},{"$f":"August!B38","v":0},{"$f":"August!C38","v":0},null,{"$f":"August!E38","v":0},{"$f":"August!F38","v":0},{"$f":"August!G38","v":0},null,{"$f":"August!I38","v":0},{"$f":"August!J38","v":0},{"$f":"August!K38","v":0},null,{"$f":"August!M38","v":0},{"$f":"August!N38","v":0},{"$f":"August!O38","v":0},null,{"$f":"August!Q38","v":0},{"$f":"August!R38","v":0},{"$f":"August!S38","v":0},null,{"$f":"August!U38","v":0},{"$f":"August!V38","v":0},{"$f":"August!W38","v":0}]
[{"$f":"August!A39","v":0},{"$f":"August!B39","v":0},{"$f":"August!C39","v":0},null,{"$f":"August!E39","v":0},{"$f":"August!F39","v":0},{"$f":"August!G39","v":0},null,{"$f":"August!I39","v":0},{"$f":"August!J39","v":0},{"$f":"August!K39","v":0},null,{"$f":"August!M39","v":0},{"$f":"August!N39","v":0},{"$f":"August!O39","v":0},null,{"$f":"August!Q39","v":0},{"$f":"August!R39","v":0},{"$f":"August!S39","v":0},null,{"$f":"August!U39","v":0},{"$f":"August!V39","v":0},{"$f":"August!W39","v":0}]
[{"$f":"August!A40","v":0},{"$f":"August!B40","v":0},{"$f":"August!C40","v":0},null,{"$f":"August!E40","v":0},{"$f":"August!F40","v":0},{"$f":"August!G40","v":0},null,{"$f":"August!I40","v":0},{"$f":"August!J40","v":0},{"$f":"August!K40","v":0},null,{"$f":"August!M40","v":0},{"$f":"August!N40","v":0},{"$f":"August!O40","v":0},null,{"$f":"August!Q40","v":0},{"$f":"August!R40","v":0},{"$f":"August!S40","v":0},null,{"$f":"August!U40","v":0},{"$f":"August!V40","v":0},{"$f":"August!W40","v":0}]
[{"$f":"August!A41","v":0},{"$f":"August!B41","v":0},{"$f":"August!C41","v":0},null,{"$f":"August!E41","v":0},{"$f":"August!F41","v":0},{"$f":"August!G41","v":0},null,{"$f":"August!I41","v":0},{"$f":"August!J41","v":0},{"$f":"August!K41","v":0},null,{"$f":"August!M41","v":0},{"$f":"August!N41","v":0},{"$f":"August!O41","v":0},null,{"$f":"August!Q41","v":0},{"$f":"August!R41","v":0},{"$f":"August!S41","v":0},null,{"$f":"August!U41","v":0},{"$f":"August!V41","v":0},{"$f":"August!W41","v":0}]
[{"$f":"August!A42","v":0},{"$f":"August!B42","v":0},{"$f":"August!C42","v":0},null,{"$f":"August!E42","v":0},{"$f":"August!F42","v":0},{"$f":"August!G42","v":0},null,{"$f":"August!I42","v":0},{"$f":"August!J42","v":0},{"$f":"August!K42","v":0},null,{"$f":"August!M42","v":0},{"$f":"August!N42","v":0},{"$f":"August!O42","v":0},null,{"$f":"August!Q42","v":0},{"$f":"August!R42","v":0},{"$f":"August!S42","v":0},null,{"$f":"August!U42","v":0},{"$f":"August!V42","v":0},{"$f":"August!W42","v":0}]
[{"$f":"August!A43","v":0},{"$f":"August!B43","v":0},{"$f":"August!C43","v":0},null,{"$f":"August!E43","v":0},{"$f":"August!F43","v":0},{"$f":"August!G43","v":0},null,{"$f":"August!I43","v":0},{"$f":"August!J43","v":0},{"$f":"August!K43","v":0},null,{"$f":"August!M43","v":0},{"$f":"August!N43","v":0},{"$f":"August!O43","v":0},null,{"$f":"August!Q43","v":0},{"$f":"August!R43","v":0},{"$f":"August!S43","v":0},null,{"$f":"August!U43","v":0},{"$f":"August!V43","v":0},{"$f":"August!W43","v":0}]
[{"$f":"August!A44","v":0},{"$f":"August!B44","v":0},{"$f":"August!C44","v":0},null,{"$f":"August!E44","v":0},{"$f":"August!F44","v":0},{"$f":"August!G44","v":0},null,{"$f":"August!I44","v":0},{"$f":"August!J44","v":0},{"$f":"August!K44","v":0},null,{"$f":"August!M44","v":0},{"$f":"August!N44","v":0},{"$f":"August!O44","v":0},null,{"$f":"August!Q44","v":0},{"$f":"August!R44","v":0},{"$f":"August!S44","v":0},null,{"$f":"August!U44","v":0},{"$f":"August!V44","v":0},{"$f":"August!W44","v":0}]
[{"$f":"August!A45","v":0},{"$f":"August!B45","v":0},{"$f":"August!C45","v":0},null,{"$f":"August!E45","v":0},{"$f":"August!F45","v":0},{"$f":"August!G45","v":0},null,{"$f":"August!I45","v":0},{"$f":"August!J45","v":0},{"$f":"August!K45","v":0},null,{"$f":"August!M45","v":0},{"$f":"August!N45","v":0},{"$f":"August!O45","v":0},null,{"$f":"August!Q45","v":0},{"$f":"August!R45","v":0},{"$f":"August!S45","v":0},null,{"$f":"August!U45","v":0},{"$f":"August!V45","v":0},{"$f":"August!W45","v":0}]
[{"$f":"August!A46","v":0},{"$f":"August!B46","v":0},{"$f":"August!C46","v":0},null,{"$f":"August!E46","v":0},{"$f":"August!F46","v":0},{"$f":"August!G46","v":0},null,{"$f":"August!I46","v":0},{"$f":"August!J46","v":0},{"$f":"August!K46","v":0},null,{"$f":"August!M46","v":0},{"$f":"August!N46","v":0},{"$f":"August!O46","v":0},null,{"$f":"August!Q46","v":0},{"$f":"August!R46","v":0},{"$f":"August!S46","v":0},null,{"$f":"August!U46","v":0},{"$f":"August!V46","v":0},{"$f":"August!W46","v":0}]
[{"$f":"August!A47","v":0},{"$f":"August!B47","v":0},{"$f":"August!C47","v":0},null,{"$f":"August!E47","v":0},{"$f":"August!F47","v":0},{"$f":"August!G47","v":0},null,{"$f":"August!I47","v":0},{"$f":"August!J47","v":0},{"$f":"August!K47","v":0},null,{"$f":"August!M47","v":0},{"$f":"August!N47","v":0},{"$f":"August!O47","v":0},null,{"$f":"August!Q47","v":0},{"$f":"August!R47","v":0},{"$f":"August!S47","v":0},null,{"$f":"August!U47","v":0},{"$f":"August!V47","v":0},{"$f":"August!W47","v":0}]
[{"$f":"August!A48","v":0},{"$f":"August!B48","v":0},{"$f":"August!C48","v":0},null,{"$f":"August!E48","v":0},{"$f":"August!F48","v":0},{"$f":"August!G48","v":0},null,{"$f":"August!I48","v":0},{"$f":"August!J48","v":0},{"$f":"August!K48","v":0},null,{"$f":"August!M48","v":0},{"$f":"August!N48","v":0},{"$f":"August!O48","v":0},null,{"$f":"August!Q48","v":0},{"$f":"August!R48","v":0},{"$f":"August!S48","v":0},null,{"$f":"August!U48","v":0},{"$f":"August!V48","v":0},{"$f":"August!W48","v":0}]
[{"$f":"August!A49","v":0},{"$f":"August!B49","v":0},{"$f":"August!C49","v":0},null,{"$f":"August!E49","v":0},{"$f":"August!F49","v":0},{"$f":"August!G49","v":0},null,{"$f":"August!I49","v":0},{"$f":"August!J49","v":0},{"$f":"August!K49","v":0},null,{"$f":"August!M49","v":0},{"$f":"August!N49","v":0},{"$f":"August!O49","v":0},null,{"$f":"August!Q49","v":0},{"$f":"August!R49","v":0},{"$f":"August!S49","v":0},null,{"$f":"August!U49","v":0},{"$f":"August!V49","v":0},{"$f":"August!W49","v":0}]
[{"$f":"August!A50","v":0},{"$f":"August!B50","v":0},{"$f":"August!C50","v":0},null,{"$f":"August!E50","v":0},{"$f":"August!F50","v":0},{"$f":"August!G50","v":0},null,{"$f":"August!I50","v":0},{"$f":"August!J50","v":0},{"$f":"August!K50","v":0},null,{"$f":"August!M50","v":0},{"$f":"August!N50","v":0},{"$f":"August!O50","v":0},null,{"$f":"August!Q50","v":0},{"$f":"August!R50","v":0},{"$f":"August!S50","v":0},null,{"$f":"August!U50","v":0},{"$f":"August!V50","v":0},{"$f":"August!W50","v":0}]
[{"$f":"August!A51","v":0},{"$f":"August!B51","v":0},{"$f":"August!C51","v":0},null,{"$f":"August!E51","v":0},{"$f":"August!F51","v":0},{"$f":"August!G51","v":0},null,{"$f":"August!I51","v":0},{"$f":"August!J51","v":0},{"$f":"August!K51","v":0},null,{"$f":"August!M51","v":0},{"$f":"August!N51","v":0},{"$f":"August!O51","v":0},null,{"$f":"August!Q51","v":0},{"$f":"August!R51","v":0},{"$f":"August!S51","v":0},null,{"$f":"August!U51","v":0},{"$f":"August!V51","v":0},{"$f":"August!W51","v":0}]
[{"$f":"August!A52","v":0},{"$f":"August!B52","v":0},{"$f":"August!C52","v":0},null,{"$f":"August!E52","v":0},{"$f":"August!F52","v":0},{"$f":"August!G52","v":0},null,{"$f":"August!I52","v":0},{"$f":"August!J52","v":0},{"$f":"August!K52","v":0},null,{"$f":"August!M52","v":0},{"$f":"August!N52","v":0},{"$f":"August!O52","v":0},null,{"$f":"August!Q52","v":0},{"$f":"August!R52","v":0},{"$f":"August!S52","v":0},null,{"$f":"August!U52","v":0},{"$f":"August!V52","v":0},{"$f":"August!W52","v":0}]
[{"$f":"August!A53","v":0},{"$f":"August!B53","v":0},{"$f":"August!C53","v":0},null,{"$f":"August!E53","v":0},{"$f":"August!F53","v":0},{"$f":"August!G53","v":0},null,{"$f":"August!I53","v":0},{"$f":"August!J53","v":0},{"$f":"August!K53","v":0},null,{"$f":"August!M53","v":0},{"$f":"August!N53","v":0},{"$f":"August!O53","v":0},null,{"$f":"August!Q53","v":0},{"$f":"August!R53","v":0},{"$f":"August!S53","v":0},null,{"$f":"August!U53","v":0},{"$f":"August!V53","v":0},{"$f":"August!W53","v":0}]
[{"$f":"August!A54","v":0},{"$f":"August!B54","v":0},{"$f":"August!C54","v":0},null,{"$f":"August!E54","v":0},{"$f":"August!F54","v":0},{"$f":"August!G54","v":0},null,{"$f":"August!I54","v":0},{"$f":"August!J54","v":0},{"$f":"August!K54","v":0},null,{"$f":"August!M54","v":0},{"$f":"August!N54","v":0},{"$f":"August!O54","v":0},null,{"$f":"August!Q54","v":0},{"$f":"August!R54","v":0},{"$f":"August!S54","v":0},null,{"$f":"August!U54","v":0},{"$f":"August!V54","v":0},{"$f":"August!W54","v":0}]
[{"$f":"August!A55","v":0},{"$f":"August!B55","v":0},{"$f":"August!C55","v":0},null,{"$f":"August!E55","v":0},{"$f":"August!F55","v":0},{"$f":"August!G55","v":0},null,{"$f":"August!I55","v":0},{"$f":"August!J55","v":0},{"$f":"August!K55","v":0},null,{"$f":"August!M55","v":0},{"$f":"August!N55","v":0},{"$f":"August!O55","v":0},null,{"$f":"August!Q55","v":0},{"$f":"August!R55","v":0},{"$f":"August!S55","v":0},null,{"$f":"August!U55","v":0},{"$f":"August!V55","v":0},{"$f":"August!W55","v":0}]
[{"$f":"August!A56","v":0},{"$f":"August!B56","v":0},{"$f":"August!C56","v":0},null,{"$f":"August!E56","v":0},{"$f":"August!F56","v":0},{"$f":"August!G56","v":0},null,{"$f":"August!I56","v":0},{"$f":"August!J56","v":0},{"$f":"August!K56","v":0},null,{"$f":"August!M56","v":0},{"$f":"August!N56","v":0},{"$f":"August!O56","v":0},null,{"$f":"August!Q56","v":0},{"$f":"August!R56","v":0},{"$f":"August!S56","v":0},null,{"$f":"August!U56","v":0},{"$f":"August!V56","v":0},{"$f":"August!W56","v":0}]
[{"$f":"August!A57","v":0},{"$f":"August!B57","v":0},{"$f":"August!C57","v":0},null,{"$f":"August!E57","v":0},{"$f":"August!F57","v":0},{"$f":"August!G57","v":0},null,{"$f":"August!I57","v":0},{"$f":"August!J57","v":0},{"$f":"August!K57","v":0},null,{"$f":"August!M57","v":0},{"$f":"August!N57","v":0},{"$f":"August!O57","v":0},null,{"$f":"August!Q57","v":0},{"$f":"August!R57","v":0},{"$f":"August!S57","v":0},null,{"$f":"August!U57","v":0},{"$f":"August!V57","v":0},{"$f":"August!W57","v":0}]
[{"$f":"August!A58","v":0},{"$f":"August!B58","v":0},{"$f":"August!C58","v":0},null,{"$f":"August!E58","v":0},{"$f":"August!F58","v":0},{"$f":"August!G58","v":0},null,{"$f":"August!I58","v":0},{"$f":"August!J58","v":0},{"$f":"August!K58","v":0},null,{"$f":"August!M58","v":0},{"$f":"August!N58","v":0},{"$f":"August!O58","v":0},null,{"$f":"August!Q58","v":0},{"$f":"August!R58","v":0},{"$f":"August!S58","v":0},null,{"$f":"August!U58","v":0},{"$f":"August!V58","v":0},{"$f":"August!W58","v":0}]
[{"$f":"August!A59","v":0},{"$f":"August!B59","v":0},{"$f":"August!C59","v":0},null,{"$f":"August!E59","v":0},{"$f":"August!F59","v":0},{"$f":"August!G59","v":0},null,{"$f":"August!I59","v":0},{"$f":"August!J59","v":0},{"$f":"August!K59","v":0},null,{"$f":"August!M59","v":0},{"$f":"August!N59","v":0},{"$f":"August!O59","v":0},null,{"$f":"August!Q59","v":0},{"$f":"August!R59","v":0},{"$f":"August!S59","v":0},null,{"$f":"August!U59","v":0},{"$f":"August!V59","v":0},{"$f":"August!W59","v":0}]
[{"$f":"August!A60","v":0},{"$f":"August!B60","v":0},{"$f":"August!C60","v":0},null,{"$f":"August!E60","v":0},{"$f":"August!F60","v":0},{"$f":"August!G60","v":0},null,{"$f":"August!I60","v":0},{"$f":"August!J60","v":0},{"$f":"August!K60","v":0},null,{"$f":"August!M60","v":0},{"$f":"August!N60","v":0},{"$f":"August!O60","v":0},null,{"$f":"August!Q60","v":0},{"$f":"August!R60","v":0},{"$f":"August!S60","v":0},null,{"$f":"August!U60","v":0},{"$f":"August!V60","v":0},{"$f":"August!W60","v":0}]
[{"$f":"August!A61","v":0},{"$f":"August!B61","v":0},{"$f":"August!C61","v":0},null,{"$f":"August!E61","v":0},{"$f":"August!F61","v":0},{"$f":"August!G61","v":0},null,{"$f":"August!I61","v":0},{"$f":"August!J61","v":0},{"$f":"August!K61","v":0},null,{"$f":"August!M61","v":0},{"$f":"August!N61","v":0},{"$f":"August!O61","v":0},null,{"$f":"August!Q61","v":0},{"$f":"August!R61","v":0},{"$f":"August!S61","v":0},null,{"$f":"August!U61","v":0},{"$f":"August!V61","v":0},{"$f":"August!W61","v":0}]
[{"$f":"August!A62","v":0},{"$f":"August!B62","v":0},{"$f":"August!C62","v":0},null,{"$f":"August!E62","v":0},{"$f":"August!F62","v":0},{"$f":"August!G62","v":0},null,{"$f":"August!I62","v":0},{"$f":"August!J62","v":0},{"$f":"August!K62","v":0},null,{"$f":"August!M62","v":0},{"$f":"August!N62","v":0},{"$f":"August!O62","v":0},null,{"$f":"August!Q62","v":0},{"$f":"August!R62","v":0},{"$f":"August!S62","v":0},null,{"$f":"August!U62","v":0},{"$f":"August!V62","v":0},{"$f":"August!W62","v":0}]
[{"$f":"September!A3","v":0},{"$f":"September!B3","v":0},{"$f":"September!C3","v":0},null,{"$f":"September!E3","v":0},{"$f":"September!F3","v":0},{"$f":"September!G3","v":0},null,{"$f":"September!I3","v":0},{"$f":"September!J3","v":0},{"$f":"September!K3","v":0},null,{"$f":"September!M3","v":0},{"$f":"September!N3","v":0},{"$f":"September!O3","v":0},null,{"$f":"September!Q3","v":0},{"$f":"September!R3","v":0},{"$f":"September!S3","v":0},null,{"$f":"September!U3","v":0},{"$f":"September!V3","v":0},{"$f":"September!W3","v":0},null,null,null,null,null,"September"]
[{"$f":"September!A4","v":0},{"$f":"September!B4","v":0},{"$f":"September!C4","v":0},null,{"$f":"September!E4","v":0},{"$f":"September!F4","v":0},{"$f":"September!G4","v":0},null,{"$f":"September!I4","v":0},{"$f":"September!J4","v":0},{"$f":"September!K4","v":0},null,{"$f":"September!M4","v":0},{"$f":"September!N4","v":0},{"$f":"September!O4","v":0},null,{"$f":"September!Q4","v":0},{"$f":"September!R4","v":0},{"$f":"September!S4","v":0},null,{"$f":"September!U4","v":0},{"$f":"September!V4","v":0},{"$f":"September!W4","v":0}]
[{"$f":"September!A5","v":0},{"$f":"September!B5","v":0},{"$f":"September!C5","v":0},null,{"$f":"September!E5","v":0},{"$f":"September!F5","v":0},{"$f":"September!G5","v":0},null,{"$f":"September!I5","v":0},{"$f":"September!J5","v":0},{"$f":"September!K5","v":0},null,{"$f":"September!M5","v":0},{"$f":"September!N5","v":0},{"$f":"September!O5","v":0},null,{"$f":"September!Q5","v":0},{"$f":"September!R5","v":0},{"$f":"September!S5","v":0},null,{"$f":"September!U5","v":0},{"$f":"September!V5","v":0},{"$f":"September!W5","v":0}]
[{"$f":"September!A6","v":0},{"$f":"September!B6","v":0},{"$f":"September!C6","v":0},null,{"$f":"September!E6","v":0},{"$f":"September!F6","v":0},{"$f":"September!G6","v":0},null,{"$f":"September!I6","v":0},{"$f":"September!J6","v":0},{"$f":"September!K6","v":0},null,{"$f":"September!M6","v":0},{"$f":"September!N6","v":0},{"$f":"September!O6","v":0},null,{"$f":"September!Q6","v":0},{"$f":"September!R6","v":0},{"$f":"September!S6","v":0},null,{"$f":"September!U6","v":0},{"$f":"September!V6","v":0},{"$f":"September!W6","v":0}]
[{"$f":"September!A7","v":0},{"$f":"September!B7","v":0},{"$f":"September!C7","v":0},null,{"$f":"September!E7","v":0},{"$f":"September!F7","v":0},{"$f":"September!G7","v":0},null,{"$f":"September!I7","v":0},{"$f":"September!J7","v":0},{"$f":"September!K7","v":0},null,{"$f":"September!M7","v":0},{"$f":"September!N7","v":0},{"$f":"September!O7","v":0},null,{"$f":"September!Q7","v":0},{"$f":"September!R7","v":0},{"$f":"September!S7","v":0},null,{"$f":"September!U7","v":0},{"$f":"September!V7","v":0},{"$f":"September!W7","v":0}]
[{"$f":"September!A8","v":0},{"$f":"September!B8","v":0},{"$f":"September!C8","v":0},null,{"$f":"September!E8","v":0},{"$f":"September!F8","v":0},{"$f":"September!G8","v":0},null,{"$f":"September!I8","v":0},{"$f":"September!J8","v":0},{"$f":"September!K8","v":0},null,{"$f":"September!M8","v":0},{"$f":"September!N8","v":0},{"$f":"September!O8","v":0},null,{"$f":"September!Q8","v":0},{"$f":"September!R8","v":0},{"$f":"September!S8","v":0},null,{"$f":"September!U8","v":0},{"$f":"September!V8","v":0},{"$f":"September!W8","v":0}]
[{"$f":"September!A9","v":0},{"$f":"September!B9","v":0},{"$f":"September!C9","v":0},null,{"$f":"September!E9","v":0},{"$f":"September!F9","v":0},{"$f":"September!G9","v":0},null,{"$f":"September!I9","v":0},{"$f":"September!J9","v":0},{"$f":"September!K9","v":0},null,{"$f":"September!M9","v":0},{"$f":"September!N9","v":0},{"$f":"September!O9","v":0},null,{"$f":"September!Q9","v":0},{"$f":"September!R9","v":0},{"$f":"September!S9","v":0},null,{"$f":"September!U9","v":0},{"$f":"September!V9","v":0},{"$f":"September!W9","v":0}]
[{"$f":"September!A10","v":0},{"$f":"September!B10","v":0},{"$f":"September!C10","v":0},null,{"$f":"September!E10","v":0},{"$f":"September!F10","v":0},{"$f":"September!G10","v":0},null,{"$f":"September!I10","v":0},{"$f":"September!J10","v":0},{"$f":"September!K10","v":0},null,{"$f":"September!M10","v":0},{"$f":"September!N10","v":0},{"$f":"September!O10","v":0},null,{"$f":"September!Q10","v":0},{"$f":"September!R10","v":0},{"$f":"September!S10","v":0},null,{"$f":"September!U10","v":0},{"$f":"September!V10","v":0},{"$f":"September!W10","v":0}]
[{"$f":"September!A11","v":0},{"$f":"September!B11","v":0},{"$f":"September!C11","v":0},null,{"$f":"September!E11","v":0},{"$f":"September!F11","v":0},{"$f":"September!G11","v":0},null,{"$f":"September!I11","v":0},{"$f":"September!J11","v":0},{"$f":"September!K11","v":0},null,{"$f":"September!M11","v":0},{"$f":"September!N11","v":0},{"$f":"September!O11","v":0},null,{"$f":"September!Q11","v":0},{"$f":"September!R11","v":0},{"$f":"September!S11","v":0},null,{"$f":"September!U11","v":0},{"$f":"September!V11","v":0},{"$f":"September!W11","v":0}]
[{"$f":"September!A12","v":0},{"$f":"September!B12","v":0},{"$f":"September!C12","v":0},null,{"$f":"September!E12","v":0},{"$f":"September!F12","v":0},{"$f":"September!G12","v":0},null,{"$f":"September!I12","v":0},{"$f":"September!J12","v":0},{"$f":"September!K12","v":0},null,{"$f":"September!M12","v":0},{"$f":"September!N12","v":0},{"$f":"September!O12","v":0},null,{"$f":"September!Q12","v":0},{"$f":"September!R12","v":0},{"$f":"September!S12","v":0},null,{"$f":"September!U12","v":0},{"$f":"September!V12","v":0},{"$f":"September!W12","v":0}]
[{"$f":"September!A13","v":0},{"$f":"September!B13","v":0},{"$f":"September!C13","v":0},null,{"$f":"September!E13","v":0},{"$f":"September!F13","v":0},{"$f":"September!G13","v":0},null,{"$f":"September!I13","v":0},{"$f":"September!J13","v":0},{"$f":"September!K13","v":0},null,{"$f":"September!M13","v":0},{"$f":"September!N13","v":0},{"$f":"September!O13","v":0},null,{"$f":"September!Q13","v":0},{"$f":"September!R13","v":0},{"$f":"September!S13","v":0},null,{"$f":"September!U13","v":0},{"$f":"September!V13","v":0},{"$f":"September!W13","v":0}]
[{"$f":"September!A14","v":0},{"$f":"September!B14","v":0},{"$f":"September!C14","v":0},null,{"$f":"September!E14","v":0},{"$f":"September!F14","v":0},{"$f":"September!G14","v":0},null,{"$f":"September!I14","v":0},{"$f":"September!J14","v":0},{"$f":"September!K14","v":0},null,{"$f":"September!M14","v":0},{"$f":"September!N14","v":0},{"$f":"September!O14","v":0},null,{"$f":"September!Q14","v":0},{"$f":"September!R14","v":0},{"$f":"September!S14","v":0},null,{"$f":"September!U14","v":0},{"$f":"September!V14","v":0},{"$f":"September!W14","v":0}]
[{"$f":"September!A15","v":0},{"$f":"September!B15","v":0},{"$f":"September!C15","v":0},null,{"$f":"September!E15","v":0},{"$f":"September!F15","v":0},{"$f":"September!G15","v":0},null,{"$f":"September!I15","v":0},{"$f":"September!J15","v":0},{"$f":"September!K15","v":0},null,{"$f":"September!M15","v":0},{"$f":"September!N15","v":0},{"$f":"September!O15","v":0},null,{"$f":"September!Q15","v":0},{"$f":"September!R15","v":0},{"$f":"September!S15","v":0},null,{"$f":"September!U15","v":0},{"$f":"September!V15","v":0},{"$f":"September!W15","v":0}]
[{"$f":"September!A16","v":0},{"$f":"September!B16","v":0},{"$f":"September!C16","v":0},null,{"$f":"September!E16","v":0},{"$f":"September!F16","v":0},{"$f":"September!G16","v":0},null,{"$f":"September!I16","v":0},{"$f":"September!J16","v":0},{"$f":"September!K16","v":0},null,{"$f":"September!M16","v":0},{"$f":"September!N16","v":0},{"$f":"September!O16","v":0},null,{"$f":"September!Q16","v":0},{"$f":"September!R16","v":0},{"$f":"September!S16","v":0},null,{"$f":"September!U16","v":0},{"$f":"September!V16","v":0},{"$f":"September!W16","v":0}]
[{"$f":"September!A17","v":0},{"$f":"September!B17","v":0},{"$f":"September!C17","v":0},null,{"$f":"September!E17","v":0},{"$f":"September!F17","v":0},{"$f":"September!G17","v":0},null,{"$f":"September!I17","v":0},{"$f":"September!J17","v":0},{"$f":"September!K17","v":0},null,{"$f":"September!M17","v":0},{"$f":"September!N17","v":0},{"$f":"September!O17","v":0},null,{"$f":"September!Q17","v":0},{"$f":"September!R17","v":0},{"$f":"September!S17","v":0},null,{"$f":"September!U17","v":0},{"$f":"September!V17","v":0},{"$f":"September!W17","v":0}]
[{"$f":"September!A18","v":0},{"$f":"September!B18","v":0},{"$f":"September!C18","v":0},null,{"$f":"September!E18","v":0},{"$f":"September!F18","v":0},{"$f":"September!G18","v":0},null,{"$f":"September!I18","v":0},{"$f":"September!J18","v":0},{"$f":"September!K18","v":0},null,{"$f":"September!M18","v":0},{"$f":"September!N18","v":0},{"$f":"September!O18","v":0},null,{"$f":"September!Q18","v":0},{"$f":"September!R18","v":0},{"$f":"September!S18","v":0},null,{"$f":"September!U18","v":0},{"$f":"September!V18","v":0},{"$f":"September!W18","v":0}]
[{"$f":"September!A19","v":0},{"$f":"September!B19","v":0},{"$f":"September!C19","v":0},null,{"$f":"September!E19","v":0},{"$f":"September!F19","v":0},{"$f":"September!G19","v":0},null,{"$f":"September!I19","v":0},{"$f":"September!J19","v":0},{"$f":"September!K19","v":0},null,{"$f":"September!M19","v":0},{"$f":"September!N19","v":0},{"$f":"September!O19","v":0},null,{"$f":"September!Q19","v":0},{"$f":"September!R19","v":0},{"$f":"September!S19","v":0},null,{"$f":"September!U19","v":0},{"$f":"September!V19","v":0},{"$f":"September!W19","v":0}]
[{"$f":"September!A20","v":0},{"$f":"September!B20","v":0},{"$f":"September!C20","v":0},null,{"$f":"September!E20","v":0},{"$f":"September!F20","v":0},{"$f":"September!G20","v":0},null,{"$f":"September!I20","v":0},{"$f":"September!J20","v":0},{"$f":"September!K20","v":0},null,{"$f":"September!M20","v":0},{"$f":"September!N20","v":0},{"$f":"September!O20","v":0},null,{"$f":"September!Q20","v":0},{"$f":"September!R20","v":0},{"$f":"September!S20","v":0},null,{"$f":"September!U20","v":0},{"$f":"September!V20","v":0},{"$f":"September!W20","v":0}]
[{"$f":"September!A21","v":0},{"$f":"September!B21","v":0},{"$f":"September!C21","v":0},null,{"$f":"September!E21","v":0},{"$f":"September!F21","v":0},{"$f":"September!G21","v":0},null,{"$f":"September!I21","v":0},{"$f":"September!J21","v":0},{"$f":"September!K21","v":0},null,{"$f":"September!M21","v":0},{"$f":"September!N21","v":0},{"$f":"September!O21","v":0},null,{"$f":"September!Q21","v":0},{"$f":"September!R21","v":0},{"$f":"September!S21","v":0},null,{"$f":"September!U21","v":0},{"$f":"September!V21","v":0},{"$f":"September!W21","v":0}]
[{"$f":"September!A22","v":0},{"$f":"September!B22","v":0},{"$f":"September!C22","v":0},null,{"$f":"September!E22","v":0},{"$f":"September!F22","v":0},{"$f":"September!G22","v":0},null,{"$f":"September!I22","v":0},{"$f":"September!J22","v":0},{"$f":"September!K22","v":0},null,{"$f":"September!M22","v":0},{"$f":"September!N22","v":0},{"$f":"September!O22","v":0},null,{"$f":"September!Q22","v":0},{"$f":"September!R22","v":0},{"$f":"September!S22","v":0},null,{"$f":"September!U22","v":0},{"$f":"September!V22","v":0},{"$f":"September!W22","v":0}]
[{"$f":"September!A23","v":0},{"$f":"September!B23","v":0},{"$f":"September!C23","v":0},null,{"$f":"September!E23","v":0},{"$f":"September!F23","v":0},{"$f":"September!G23","v":0},null,{"$f":"September!I23","v":0},{"$f":"September!J23","v":0},{"$f":"September!K23","v":0},null,{"$f":"September!M23","v":0},{"$f":"September!N23","v":0},{"$f":"September!O23","v":0},null,{"$f":"September!Q23","v":0},{"$f":"September!R23","v":0},{"$f":"September!S23","v":0},null,{"$f":"September!U23","v":0},{"$f":"September!V23","v":0},{"$f":"September!W23","v":0}]
[{"$f":"September!A24","v":0},{"$f":"September!B24","v":0},{"$f":"September!C24","v":0},null,{"$f":"September!E24","v":0},{"$f":"September!F24","v":0},{"$f":"September!G24","v":0},null,{"$f":"September!I24","v":0},{"$f":"September!J24","v":0},{"$f":"September!K24","v":0},null,{"$f":"September!M24","v":0},{"$f":"September!N24","v":0},{"$f":"September!O24","v":0},null,{"$f":"September!Q24","v":0},{"$f":"September!R24","v":0},{"$f":"September!S24","v":0},null,{"$f":"September!U24","v":0},{"$f":"September!V24","v":0},{"$f":"September!W24","v":0}]
[{"$f":"September!A25","v":0},{"$f":"September!B25","v":0},{"$f":"September!C25","v":0},null,{"$f":"September!E25","v":0},{"$f":"September!F25","v":0},{"$f":"September!G25","v":0},null,{"$f":"September!I25","v":0},{"$f":"September!J25","v":0},{"$f":"September!K25","v":0},null,{"$f":"September!M25","v":0},{"$f":"September!N25","v":0},{"$f":"September!O25","v":0},null,{"$f":"September!Q25","v":0},{"$f":"September!R25","v":0},{"$f":"September!S25","v":0},null,{"$f":"September!U25","v":0},{"$f":"September!V25","v":0},{"$f":"September!W25","v":0}]
[{"$f":"September!A26","v":0},{"$f":"September!B26","v":0},{"$f":"September!C26","v":0},null,{"$f":"September!E26","v":0},{"$f":"September!F26","v":0},{"$f":"September!G26","v":0},null,{"$f":"September!I26","v":0},{"$f":"September!J26","v":0},{"$f":"September!K26","v":0},null,{"$f":"September!M26","v":0},{"$f":"September!N26","v":0},{"$f":"September!O26","v":0},null,{"$f":"September!Q26","v":0},{"$f":"September!R26","v":0},{"$f":"September!S26","v":0},null,{"$f":"September!U26","v":0},{"$f":"September!V26","v":0},{"$f":"September!W26","v":0}]
[{"$f":"September!A27","v":0},{"$f":"September!B27","v":0},{"$f":"September!C27","v":0},null,{"$f":"September!E27","v":0},{"$f":"September!F27","v":0},{"$f":"September!G27","v":0},null,{"$f":"September!I27","v":0},{"$f":"September!J27","v":0},{"$f":"September!K27","v":0},null,{"$f":"September!M27","v":0},{"$f":"September!N27","v":0},{"$f":"September!O27","v":0},null,{"$f":"September!Q27","v":0},{"$f":"September!R27","v":0},{"$f":"September!S27","v":0},null,{"$f":"September!U27","v":0},{"$f":"September!V27","v":0},{"$f":"September!W27","v":0}]
[{"$f":"September!A28","v":0},{"$f":"September!B28","v":0},{"$f":"September!C28","v":0},null,{"$f":"September!E28","v":0},{"$f":"September!F28","v":0},{"$f":"September!G28","v":0},null,{"$f":"September!I28","v":0},{"$f":"September!J28","v":0},{"$f":"September!K28","v":0},null,{"$f":"September!M28","v":0},{"$f":"September!N28","v":0},{"$f":"September!O28","v":0},null,{"$f":"September!Q28","v":0},{"$f":"September!R28","v":0},{"$f":"September!S28","v":0},null,{"$f":"September!U28","v":0},{"$f":"September!V28","v":0},{"$f":"September!W28","v":0}]
[{"$f":"September!A29","v":0},{"$f":"September!B29","v":0},{"$f":"September!C29","v":0},null,{"$f":"September!E29","v":0},{"$f":"September!F29","v":0},{"$f":"September!G29","v":0},null,{"$f":"September!I29","v":0},{"$f":"September!J29","v":0},{"$f":"September!K29","v":0},null,{"$f":"September!M29","v":0},{"$f":"September!N29","v":0},{"$f":"September!O29","v":0},null,{"$f":"September!Q29","v":0},{"$f":"September!R29","v":0},{"$f":"September!S29","v":0},null,{"$f":"September!U29","v":0},{"$f":"September!V29","v":0},{"$f":"September!W29","v":0}]
[{"$f":"September!A30","v":0},{"$f":"September!B30","v":0},{"$f":"September!C30","v":0},null,{"$f":"September!E30","v":0},{"$f":"September!F30","v":0},{"$f":"September!G30","v":0},null,{"$f":"September!I30","v":0},{"$f":"September!J30","v":0},{"$f":"September!K30","v":0},null,{"$f":"September!M30","v":0},{"$f":"September!N30","v":0},{"$f":"September!O30","v":0},null,{"$f":"September!Q30","v":0},{"$f":"September!R30","v":0},{"$f":"September!S30","v":0},null,{"$f":"September!U30","v":0},{"$f":"September!V30","v":0},{"$f":"September!W30","v":0}]
[{"$f":"September!A31","v":0},{"$f":"September!B31","v":0},{"$f":"September!C31","v":0},null,{"$f":"September!E31","v":0},{"$f":"September!F31","v":0},{"$f":"September!G31","v":0},null,{"$f":"September!I31","v":0},{"$f":"September!J31","v":0},{"$f":"September!K31","v":0},null,{"$f":"September!M31","v":0},{"$f":"September!N31","v":0},{"$f":"September!O31","v":0},null,{"$f":"September!Q31","v":0},{"$f":"September!R31","v":0},{"$f":"September!S31","v":0},null,{"$f":"September!U31","v":0},{"$f":"September!V31","v":0},{"$f":"September!W31","v":0}]
[{"$f":"September!A32","v":0},{"$f":"September!B32","v":0},{"$f":"September!C32","v":0},null,{"$f":"September!E32","v":0},{"$f":"September!F32","v":0},{"$f":"September!G32","v":0},null,{"$f":"September!I32","v":0},{"$f":"September!J32","v":0},{"$f":"September!K32","v":0},null,{"$f":"September!M32","v":0},{"$f":"September!N32","v":0},{"$f":"September!O32","v":0},null,{"$f":"September!Q32","v":0},{"$f":"September!R32","v":0},{"$f":"September!S32","v":0},null,{"$f":"September!U32","v":0},{"$f":"September!V32","v":0},{"$f":"September!W32","v":0}]
[{"$f":"September!A33","v":0},{"$f":"September!B33","v":0},{"$f":"September!C33","v":0},null,{"$f":"September!E33","v":0},{"$f":"September!F33","v":0},{"$f":"September!G33","v":0},null,{"$f":"September!I33","v":0},{"$f":"September!J33","v":0},{"$f":"September!K33","v":0},null,{"$f":"September!M33","v":0},{"$f":"September!N33","v":0},{"$f":"September!O33","v":0},null,{"$f":"September!Q33","v":0},{"$f":"September!R33","v":0},{"$f":"September!S33","v":0},null,{"$f":"September!U33","v":0},{"$f":"September!V33","v":0},{"$f":"September!W33","v":0}]
[{"$f":"September!A34","v":0},{"$f":"September!B34","v":0},{"$f":"September!C34","v":0},null,{"$f":"September!E34","v":0},{"$f":"September!F34","v":0},{"$f":"September!G34","v":0},null,{"$f":"September!I34","v":0},{"$f":"September!J34","v":0},{"$f":"September!K34","v":0},null,{"$f":"September!M34","v":0},{"$f":"September!N34","v":0},{"$f":"September!O34","v":0},null,{"$f":"September!Q34","v":0},{"$f":"September!R34","v":0},{"$f":"September!S34","v":0},null,{"$f":"September!U34","v":0},{"$f":"September!V34","v":0},{"$f":"September!W34","v":0}]
[{"$f":"September!A35","v":0},{"$f":"September!B35","v":0},{"$f":"September!C35","v":0},null,{"$f":"September!E35","v":0},{"$f":"September!F35","v":0},{"$f":"September!G35","v":0},null,{"$f":"September!I35","v":0},{"$f":"September!J35","v":0},{"$f":"September!K35","v":0},null,{"$f":"September!M35","v":0},{"$f":"September!N35","v":0},{"$f":"September!O35","v":0},null,{"$f":"September!Q35","v":0},{"$f":"September!R35","v":0},{"$f":"September!S35","v":0},null,{"$f":"September!U35","v":0},{"$f":"September!V35","v":0},{"$f":"September!W35","v":0}]
[{"$f":"September!A36","v":0},{"$f":"September!B36","v":0},{"$f":"September!C36","v":0},null,{"$f":"September!E36","v":0},{"$f":"September!F36","v":0},{"$f":"September!G36","v":0},null,{"$f":"September!I36","v":0},{"$f":"September!J36","v":0},{"$f":"September!K36","v":0},null,{"$f":"September!M36","v":0},{"$f":"September!N36","v":0},{"$f":"September!O36","v":0},null,{"$f":"September!Q36","v":0},{"$f":"September!R36","v":0},{"$f":"September!S36","v":0},null,{"$f":"September!U36","v":0},{"$f":"September!V36","v":0},{"$f":"September!W36","v":0}]
[{"$f":"September!A37","v":0},{"$f":"September!B37","v":0},{"$f":"September!C37","v":0},null,{"$f":"September!E37","v":0},{"$f":"September!F37","v":0},{"$f":"September!G37","v":0},null,{"$f":"September!I37","v":0},{"$f":"September!J37","v":0},{"$f":"September!K37","v":0},null,{"$f":"September!M37","v":0},{"$f":"September!N37","v":0},{"$f":"September!O37","v":0},null,{"$f":"September!Q37","v":0},{"$f":"September!R37","v":0},{"$f":"September!S37","v":0},null,{"$f":"September!U37","v":0},{"$f":"September!V37","v":0},{"$f":"September!W37","v":0}]
[{"$f":"September!A38","v":0},{"$f":"September!B38","v":0},{"$f":"September!C38","v":0},null,{"$f":"September!E38","v":0},{"$f":"September!F38","v":0},{"$f":"September!G38","v":0},null,{"$f":"September!I38","v":0},{"$f":"September!J38","v":0},{"$f":"September!K38","v":0},null,{"$f":"September!M38","v":0},{"$f":"September!N38","v":0},{"$f":"September!O38","v":0},null,{"$f":"September!Q38","v":0},{"$f":"September!R38","v":0},{"$f":"September!S38","v":0},null,{"$f":"September!U38","v":0},{"$f":"September!V38","v":0},{"$f":"September!W38","v":0}]
[{"$f":"September!A39","v":0},{"$f":"September!B39","v":0},{"$f":"September!C39","v":0},null,{"$f":"September!E39","v":0},{"$f":"September!F39","v":0},{"$f":"September!G39","v":0},null,{"$f":"September!I39","v":0},{"$f":"September!J39","v":0},{"$f":"September!K39","v":0},null,{"$f":"September!M39","v":0},{"$f":"September!N39","v":0},{"$f":"September!O39","v":0},null,{"$f":"September!Q39","v":0},{"$f":"September!R39","v":0},{"$f":"September!S39","v":0},null,{"$f":"September!U39","v":0},{"$f":"September!V39","v":0},{"$f":"September!W39","v":0}]
[{"$f":"September!A40","v":0},{"$f":"September!B40","v":0},{"$f":"September!C40","v":0},null,{"$f":"September!E40","v":0},{"$f":"September!F40","v":0},{"$f":"September!G40","v":0},null,{"$f":"September!I40","v":0},{"$f":"September!J40","v":0},{"$f":"September!K40","v":0},null,{"$f":"September!M40","v":0},{"$f":"September!N40","v":0},{"$f":"September!O40","v":0},null,{"$f":"September!Q40","v":0},{"$f":"September!R40","v":0},{"$f":"September!S40","v":0},null,{"$f":"September!U40","v":0},{"$f":"September!V40","v":0},{"$f":"September!W40","v":0}]
[{"$f":"September!A41","v":0},{"$f":"September!B41","v":0},{"$f":"September!C41","v":0},null,{"$f":"September!E41","v":0},{"$f":"September!F41","v":0},{"$f":"September!G41","v":0},null,{"$f":"September!I41","v":0},{"$f":"September!J41","v":0},{"$f":"September!K41","v":0},null,{"$f":"September!M41","v":0},{"$f":"September!N41","v":0},{"$f":"September!O41","v":0},null,{"$f":"September!Q41","v":0},{"$f":"September!R41","v":0},{"$f":"September!S41","v":0},null,{"$f":"September!U41","v":0},{"$f":"September!V41","v":0},{"$f":"September!W41","v":0}]
[{"$f":"September!A42","v":0},{"$f":"September!B42","v":0},{"$f":"September!C42","v":0},null,{"$f":"September!E42","v":0},{"$f":"September!F42","v":0},{"$f":"September!G42","v":0},null,{"$f":"September!I42","v":0},{"$f":"September!J42","v":0},{"$f":"September!K42","v":0},null,{"$f":"September!M42","v":0},{"$f":"September!N42","v":0},{"$f":"September!O42","v":0},null,{"$f":"September!Q42","v":0},{"$f":"September!R42","v":0},{"$f":"September!S42","v":0},null,{"$f":"September!U42","v":0},{"$f":"September!V42","v":0},{"$f":"September!W42","v":0}]
[{"$f":"September!A43","v":0},{"$f":"September!B43","v":0},{"$f":"September!C43","v":0},null,{"$f":"September!E43","v":0},{"$f":"September!F43","v":0},{"$f":"September!G43","v":0},null,{"$f":"September!I43","v":0},{"$f":"September!J43","v":0},{"$f":"September!K43","v":0},null,{"$f":"September!M43","v":0},{"$f":"September!N43","v":0},{"$f":"September!O43","v":0},null,{"$f":"September!Q43","v":0},{"$f":"September!R43","v":0},{"$f":"September!S43","v":0},null,{"$f":"September!U43","v":0},{"$f":"September!V43","v":0},{"$f":"September!W43","v":0}]
[{"$f":"September!A44","v":0},{"$f":"September!B44","v":0},{"$f":"September!C44","v":0},null,{"$f":"September!E44","v":0},{"$f":"September!F44","v":0},{"$f":"September!G44","v":0},null,{"$f":"September!I44","v":0},{"$f":"September!J44","v":0},{"$f":"September!K44","v":0},null,{"$f":"September!M44","v":0},{"$f":"September!N44","v":0},{"$f":"September!O44","v":0},null,{"$f":"September!Q44","v":0},{"$f":"September!R44","v":0},{"$f":"September!S44","v":0},null,{"$f":"September!U44","v":0},{"$f":"September!V44","v":0},{"$f":"September!W44","v":0}]
[{"$f":"September!A45","v":0},{"$f":"September!B45","v":0},{"$f":"September!C45","v":0},null,{"$f":"September!E45","v":0},{"$f":"September!F45","v":0},{"$f":"September!G45","v":0},null,{"$f":"September!I45","v":0},{"$f":"September!J45","v":0},{"$f":"September!K45","v":0},null,{"$f":"September!M45","v":0},{"$f":"September!N45","v":0},{"$f":"September!O45","v":0},null,{"$f":"September!Q45","v":0},{"$f":"September!R45","v":0},{"$f":"September!S45","v":0},null,{"$f":"September!U45","v":0},{"$f":"September!V45","v":0},{"$f":"September!W45","v":0}]
[{"$f":"September!A46","v":0},{"$f":"September!B46","v":0},{"$f":"September!C46","v":0},null,{"$f":"September!E46","v":0},{"$f":"September!F46","v":0},{"$f":"September!G46","v":0},null,{"$f":"September!I46","v":0},{"$f":"September!J46","v":0},{"$f":"September!K46","v":0},null,{"$f":"September!M46","v":0},{"$f":"September!N46","v":0},{"$f":"September!O46","v":0},null,{"$f":"September!Q46","v":0},{"$f":"September!R46","v":0},{"$f":"September!S46","v":0},null,{"$f":"September!U46","v":0},{"$f":"September!V46","v":0},{"$f":"September!W46","v":0}]
[{"$f":"September!A47","v":0},{"$f":"September!B47","v":0},{"$f":"September!C47","v":0},null,{"$f":"September!E47","v":0},{"$f":"September!F47","v":0},{"$f":"September!G47","v":0},null,{"$f":"September!I47","v":0},{"$f":"September!J47","v":0},{"$f":"September!K47","v":0},null,{"$f":"September!M47","v":0},{"$f":"September!N47","v":0},{"$f":"September!O47","v":0},null,{"$f":"September!Q47","v":0},{"$f":"September!R47","v":0},{"$f":"September!S47","v":0},null,{"$f":"September!U47","v":0},{"$f":"September!V47","v":0},{"$f":"September!W47","v":0}]
[{"$f":"September!A48","v":0},{"$f":"September!B48","v":0},{"$f":"September!C48","v":0},null,{"$f":"September!E48","v":0},{"$f":"September!F48","v":0},{"$f":"September!G48","v":0},null,{"$f":"September!I48","v":0},{"$f":"September!J48","v":0},{"$f":"September!K48","v":0},null,{"$f":"September!M48","v":0},{"$f":"September!N48","v":0},{"$f":"September!O48","v":0},null,{"$f":"September!Q48","v":0},{"$f":"September!R48","v":0},{"$f":"September!S48","v":0},null,{"$f":"September!U48","v":0},{"$f":"September!V48","v":0},{"$f":"September!W48","v":0}]
[{"$f":"September!A49","v":0},{"$f":"September!B49","v":0},{"$f":"September!C49","v":0},null,{"$f":"September!E49","v":0},{"$f":"September!F49","v":0},{"$f":"September!G49","v":0},null,{"$f":"September!I49","v":0},{"$f":"September!J49","v":0},{"$f":"September!K49","v":0},null,{"$f":"September!M49","v":0},{"$f":"September!N49","v":0},{"$f":"September!O49","v":0},null,{"$f":"September!Q49","v":0},{"$f":"September!R49","v":0},{"$f":"September!S49","v":0},null,{"$f":"September!U49","v":0},{"$f":"September!V49","v":0},{"$f":"September!W49","v":0}]
[{"$f":"September!A50","v":0},{"$f":"September!B50","v":0},{"$f":"September!C50","v":0},null,{"$f":"September!E50","v":0},{"$f":"September!F50","v":0},{"$f":"September!G50","v":0},null,{"$f":"September!I50","v":0},{"$f":"September!J50","v":0},{"$f":"September!K50","v":0},null,{"$f":"September!M50","v":0},{"$f":"September!N50","v":0},{"$f":"September!O50","v":0},null,{"$f":"September!Q50","v":0},{"$f":"September!R50","v":0},{"$f":"September!S50","v":0},null,{"$f":"September!U50","v":0},{"$f":"September!V50","v":0},{"$f":"September!W50","v":0}]
[{"$f":"September!A51","v":0},{"$f":"September!B51","v":0},{"$f":"September!C51","v":0},null,{"$f":"September!E51","v":0},{"$f":"September!F51","v":0},{"$f":"September!G51","v":0},null,{"$f":"September!I51","v":0},{"$f":"September!J51","v":0},{"$f":"September!K51","v":0},null,{"$f":"September!M51","v":0},{"$f":"September!N51","v":0},{"$f":"September!O51","v":0},null,{"$f":"September!Q51","v":0},{"$f":"September!R51","v":0},{"$f":"September!S51","v":0},null,{"$f":"September!U51","v":0},{"$f":"September!V51","v":0},{"$f":"September!W51","v":0}]
[{"$f":"September!A52","v":0},{"$f":"September!B52","v":0},{"$f":"September!C52","v":0},null,{"$f":"September!E52","v":0},{"$f":"September!F52","v":0},{"$f":"September!G52","v":0},null,{"$f":"September!I52","v":0},{"$f":"September!J52","v":0},{"$f":"September!K52","v":0},null,{"$f":"September!M52","v":0},{"$f":"September!N52","v":0},{"$f":"September!O52","v":0},null,{"$f":"September!Q52","v":0},{"$f":"September!R52","v":0},{"$f":"September!S52","v":0},null,{"$f":"September!U52","v":0},{"$f":"September!V52","v":0},{"$f":"September!W52","v":0}]
[{"$f":"September!A53","v":0},{"$f":"September!B53","v":0},{"$f":"September!C53","v":0},null,{"$f":"September!E53","v":0},{"$f":"September!F53","v":0},{"$f":"September!G53","v":0},null,{"$f":"September!I53","v":0},{"$f":"September!J53","v":0},{"$f":"September!K53","v":0},null,{"$f":"September!M53","v":0},{"$f":"September!N53","v":0},{"$f":"September!O53","v":0},null,{"$f":"September!Q53","v":0},{"$f":"September!R53","v":0},{"$f":"September!S53","v":0},null,{"$f":"September!U53","v":0},{"$f":"September!V53","v":0},{"$f":"September!W53","v":0}]
[{"$f":"September!A54","v":0},{"$f":"September!B54","v":0},{"$f":"September!C54","v":0},null,{"$f":"September!E54","v":0},{"$f":"September!F54","v":0},{"$f":"September!G54","v":0},null,{"$f":"September!I54","v":0},{"$f":"September!J54","v":0},{"$f":"September!K54","v":0},null,{"$f":"September!M54","v":0},{"$f":"September!N54","v":0},{"$f":"September!O54","v":0},null,{"$f":"September!Q54","v":0},{"$f":"September!R54","v":0},{"$f":"September!S54","v":0},null,{"$f":"September!U54","v":0},{"$f":"September!V54","v":0},{"$f":"September!W54","v":0}]
[{"$f":"September!A55","v":0},{"$f":"September!B55","v":0},{"$f":"September!C55","v":0},null,{"$f":"September!E55","v":0},{"$f":"September!F55","v":0},{"$f":"September!G55","v":0},null,{"$f":"September!I55","v":0},{"$f":"September!J55","v":0},{"$f":"September!K55","v":0},null,{"$f":"September!M55","v":0},{"$f":"September!N55","v":0},{"$f":"September!O55","v":0},null,{"$f":"September!Q55","v":0},{"$f":"September!R55","v":0},{"$f":"September!S55","v":0},null,{"$f":"September!U55","v":0},{"$f":"September!V55","v":0},{"$f":"September!W55","v":0}]
[{"$f":"September!A56","v":0},{"$f":"September!B56","v":0},{"$f":"September!C56","v":0},null,{"$f":"September!E56","v":0},{"$f":"September!F56","v":0},{"$f":"September!G56","v":0},null,{"$f":"September!I56","v":0},{"$f":"September!J56","v":0},{"$f":"September!K56","v":0},null,{"$f":"September!M56","v":0},{"$f":"September!N56","v":0},{"$f":"September!O56","v":0},null,{"$f":"September!Q56","v":0},{"$f":"September!R56","v":0},{"$f":"September!S56","v":0},null,{"$f":"September!U56","v":0},{"$f":"September!V56","v":0},{"$f":"September!W56","v":0}]
[{"$f":"September!A57","v":0},{"$f":"September!B57","v":0},{"$f":"September!C57","v":0},null,{"$f":"September!E57","v":0},{"$f":"September!F57","v":0},{"$f":"September!G57","v":0},null,{"$f":"September!I57","v":0},{"$f":"September!J57","v":0},{"$f":"September!K57","v":0},null,{"$f":"September!M57","v":0},{"$f":"September!N57","v":0},{"$f":"September!O57","v":0},null,{"$f":"September!Q57","v":0},{"$f":"September!R57","v":0},{"$f":"September!S57","v":0},null,{"$f":"September!U57","v":0},{"$f":"September!V57","v":0},{"$f":"September!W57","v":0}]
[{"$f":"September!A58","v":0},{"$f":"September!B58","v":0},{"$f":"September!C58","v":0},null,{"$f":"September!E58","v":0},{"$f":"September!F58","v":0},{"$f":"September!G58","v":0},null,{"$f":"September!I58","v":0},{"$f":"September!J58","v":0},{"$f":"September!K58","v":0},null,{"$f":"September!M58","v":0},{"$f":"September!N58","v":0},{"$f":"September!O58","v":0},null,{"$f":"September!Q58","v":0},{"$f":"September!R58","v":0},{"$f":"September!S58","v":0},null,{"$f":"September!U58","v":0},{"$f":"September!V58","v":0},{"$f":"September!W58","v":0}]
[{"$f":"September!A59","v":0},{"$f":"September!B59","v":0},{"$f":"September!C59","v":0},null,{"$f":"September!E59","v":0},{"$f":"September!F59","v":0},{"$f":"September!G59","v":0},null,{"$f":"September!I59","v":0},{"$f":"September!J59","v":0},{"$f":"September!K59","v":0},null,{"$f":"September!M59","v":0},{"$f":"September!N59","v":0},{"$f":"September!O59","v":0},null,{"$f":"September!Q59","v":0},{"$f":"September!R59","v":0},{"$f":"September!S59","v":0},null,{"$f":"September!U59","v":0},{"$f":"September!V59","v":0},{"$f":"September!W59","v":0}]
[{"$f":"September!A60","v":0},{"$f":"September!B60","v":0},{"$f":"September!C60","v":0},null,{"$f":"September!E60","v":0},{"$f":"September!F60","v":0},{"$f":"September!G60","v":0},null,{"$f":"September!I60","v":0},{"$f":"September!J60","v":0},{"$f":"September!K60","v":0},null,{"$f":"September!M60","v":0},{"$f":"September!N60","v":0},{"$f":"September!O60","v":0},null,{"$f":"September!Q60","v":0},{"$f":"September!R60","v":0},{"$f":"September!S60","v":0},null,{"$f":"September!U60","v":0},{"$f":"September!V60","v":0},{"$f":"September!W60","v":0}]
[{"$f":"September!A61","v":0},{"$f":"September!B61","v":0},{"$f":"September!C61","v":0},null,{"$f":"September!E61","v":0},{"$f":"September!F61","v":0},{"$f":"September!G61","v":0},null,{"$f":"September!I61","v":0},{"$f":"September!J61","v":0},{"$f":"September!K61","v":0},null,{"$f":"September!M61","v":0},{"$f":"September!N61","v":0},{"$f":"September!O61","v":0},null,{"$f":"September!Q61","v":0},{"$f":"September!R61","v":0},{"$f":"September!S61","v":0},null,{"$f":"September!U61","v":0},{"$f":"September!V61","v":0},{"$f":"September!W61","v":0}]
[{"$f":"September!A62","v":0},{"$f":"September!B62","v":0},{"$f":"September!C62","v":0},null,{"$f":"September!E62","v":0},{"$f":"September!F62","v":0},{"$f":"September!G62","v":0},null,{"$f":"September!I62","v":0},{"$f":"September!J62","v":0},{"$f":"September!K62","v":0},null,{"$f":"September!M62","v":0},{"$f":"September!N62","v":0},{"$f":"September!O62","v":0},null,{"$f":"September!Q62","v":0},{"$f":"September!R62","v":0},{"$f":"September!S62","v":0},null,{"$f":"September!U62","v":0},{"$f":"September!V62","v":0},{"$f":"September!W62","v":0}]
[{"$f":"October!A3","v":0},{"$f":"October!B3","v":0},{"$f":"October!C3","v":0},null,{"$f":"October!E3","v":0},{"$f":"October!F3","v":0},{"$f":"October!G3","v":0},null,{"$f":"October!I3","v":0},{"$f":"October!J3","v":0},{"$f":"October!K3","v":0},null,{"$f":"October!M3","v":0},{"$f":"October!N3","v":0},{"$f":"October!O3","v":0},null,{"$f":"October!Q3","v":0},{"$f":"October!R3","v":0},{"$f":"October!S3","v":0},null,{"$f":"October!U3","v":0},{"$f":"October!V3","v":0},{"$f":"October!W3","v":0},null,null,null,null,null,"October"]
[{"$f":"October!A4","v":0},{"$f":"October!B4","v":0},{"$f":"October!C4","v":0},null,{"$f":"October!E4","v":0},{"$f":"October!F4","v":0},{"$f":"October!G4","v":0},null,{"$f":"October!I4","v":0},{"$f":"October!J4","v":0},{"$f":"October!K4","v":0},null,{"$f":"October!M4","v":0},{"$f":"October!N4","v":0},{"$f":"October!O4","v":0},null,{"$f":"October!Q4","v":0},{"$f":"October!R4","v":0},{"$f":"October!S4","v":0},null,{"$f":"October!U4","v":0},{"$f":"October!V4","v":0},{"$f":"October!W4","v":0}]
[{"$f":"October!A5","v":0},{"$f":"October!B5","v":0},{"$f":"October!C5","v":0},null,{"$f":"October!E5","v":0},{"$f":"October!F5","v":0},{"$f":"October!G5","v":0},null,{"$f":"October!I5","v":0},{"$f":"October!J5","v":0},{"$f":"October!K5","v":0},null,{"$f":"October!M5","v":0},{"$f":"October!N5","v":0},{"$f":"October!O5","v":0},null,{"$f":"October!Q5","v":0},{"$f":"October!R5","v":0},{"$f":"October!S5","v":0},null,{"$f":"October!U5","v":0},{"$f":"October!V5","v":0},{"$f":"October!W5","v":0}]
[{"$f":"October!A6","v":0},{"$f":"October!B6","v":0},{"$f":"October!C6","v":0},null,{"$f":"October!E6","v":0},{"$f":"October!F6","v":0},{"$f":"October!G6","v":0},null,{"$f":"October!I6","v":0},{"$f":"October!J6","v":0},{"$f":"October!K6","v":0},null,{"$f":"October!M6","v":0},{"$f":"October!N6","v":0},{"$f":"October!O6","v":0},null,{"$f":"October!Q6","v":0},{"$f":"October!R6","v":0},{"$f":"October!S6","v":0},null,{"$f":"October!U6","v":0},{"$f":"October!V6","v":0},{"$f":"October!W6","v":0}]
[{"$f":"October!A7","v":0},{"$f":"October!B7","v":0},{"$f":"October!C7","v":0},null,{"$f":"October!E7","v":0},{"$f":"October!F7","v":0},{"$f":"October!G7","v":0},null,{"$f":"October!I7","v":0},{"$f":"October!J7","v":0},{"$f":"October!K7","v":0},null,{"$f":"October!M7","v":0},{"$f":"October!N7","v":0},{"$f":"October!O7","v":0},null,{"$f":"October!Q7","v":0},{"$f":"October!R7","v":0},{"$f":"October!S7","v":0},null,{"$f":"October!U7","v":0},{"$f":"October!V7","v":0},{"$f":"October!W7","v":0}]
[{"$f":"October!A8","v":0},{"$f":"October!B8","v":0},{"$f":"October!C8","v":0},null,{"$f":"October!E8","v":0},{"$f":"October!F8","v":0},{"$f":"October!G8","v":0},null,{"$f":"October!I8","v":0},{"$f":"October!J8","v":0},{"$f":"October!K8","v":0},null,{"$f":"October!M8","v":0},{"$f":"October!N8","v":0},{"$f":"October!O8","v":0},null,{"$f":"October!Q8","v":0},{"$f":"October!R8","v":0},{"$f":"October!S8","v":0},null,{"$f":"October!U8","v":0},{"$f":"October!V8","v":0},{"$f":"October!W8","v":0}]
[{"$f":"October!A9","v":0},{"$f":"October!B9","v":0},{"$f":"October!C9","v":0},null,{"$f":"October!E9","v":0},{"$f":"October!F9","v":0},{"$f":"October!G9","v":0},null,{"$f":"October!I9","v":0},{"$f":"October!J9","v":0},{"$f":"October!K9","v":0},null,{"$f":"October!M9","v":0},{"$f":"October!N9","v":0},{"$f":"October!O9","v":0},null,{"$f":"October!Q9","v":0},{"$f":"October!R9","v":0},{"$f":"October!S9","v":0},null,{"$f":"October!U9","v":0},{"$f":"October!V9","v":0},{"$f":"October!W9","v":0}]
[{"$f":"October!A10","v":0},{"$f":"October!B10","v":0},{"$f":"October!C10","v":0},null,{"$f":"October!E10","v":0},{"$f":"October!F10","v":0},{"$f":"October!G10","v":0},null,{"$f":"October!I10","v":0},{"$f":"October!J10","v":0},{"$f":"October!K10","v":0},null,{"$f":"October!M10","v":0},{"$f":"October!N10","v":0},{"$f":"October!O10","v":0},null,{"$f":"October!Q10","v":0},{"$f":"October!R10","v":0},{"$f":"October!S10","v":0},null,{"$f":"October!U10","v":0},{"$f":"October!V10","v":0},{"$f":"October!W10","v":0}]
[{"$f":"October!A11","v":0},{"$f":"October!B11","v":0},{"$f":"October!C11","v":0},null,{"$f":"October!E11","v":0},{"$f":"October!F11","v":0},{"$f":"October!G11","v":0},null,{"$f":"October!I11","v":0},{"$f":"October!J11","v":0},{"$f":"October!K11","v":0},null,{"$f":"October!M11","v":0},{"$f":"October!N11","v":0},{"$f":"October!O11","v":0},null,{"$f":"October!Q11","v":0},{"$f":"October!R11","v":0},{"$f":"October!S11","v":0},null,{"$f":"October!U11","v":0},{"$f":"October!V11","v":0},{"$f":"October!W11","v":0}]
[{"$f":"October!A12","v":0},{"$f":"October!B12","v":0},{"$f":"October!C12","v":0},null,{"$f":"October!E12","v":0},{"$f":"October!F12","v":0},{"$f":"October!G12","v":0},null,{"$f":"October!I12","v":0},{"$f":"October!J12","v":0},{"$f":"October!K12","v":0},null,{"$f":"October!M12","v":0},{"$f":"October!N12","v":0},{"$f":"October!O12","v":0},null,{"$f":"October!Q12","v":0},{"$f":"October!R12","v":0},{"$f":"October!S12","v":0},null,{"$f":"October!U12","v":0},{"$f":"October!V12","v":0},{"$f":"October!W12","v":0}]
[{"$f":"October!A13","v":0},{"$f":"October!B13","v":0},{"$f":"October!C13","v":0},null,{"$f":"October!E13","v":0},{"$f":"October!F13","v":0},{"$f":"October!G13","v":0},null,{"$f":"October!I13","v":0},{"$f":"October!J13","v":0},{"$f":"October!K13","v":0},null,{"$f":"October!M13","v":0},{"$f":"October!N13","v":0},{"$f":"October!O13","v":0},null,{"$f":"October!Q13","v":0},{"$f":"October!R13","v":0},{"$f":"October!S13","v":0},null,{"$f":"October!U13","v":0},{"$f":"October!V13","v":0},{"$f":"October!W13","v":0}]
[{"$f":"October!A14","v":0},{"$f":"October!B14","v":0},{"$f":"October!C14","v":0},null,{"$f":"October!E14","v":0},{"$f":"October!F14","v":0},{"$f":"October!G14","v":0},null,{"$f":"October!I14","v":0},{"$f":"October!J14","v":0},{"$f":"October!K14","v":0},null,{"$f":"October!M14","v":0},{"$f":"October!N14","v":0},{"$f":"October!O14","v":0},null,{"$f":"October!Q14","v":0},{"$f":"October!R14","v":0},{"$f":"October!S14","v":0},null,{"$f":"October!U14","v":0},{"$f":"October!V14","v":0},{"$f":"October!W14","v":0}]
[{"$f":"October!A15","v":0},{"$f":"October!B15","v":0},{"$f":"October!C15","v":0},null,{"$f":"October!E15","v":0},{"$f":"October!F15","v":0},{"$f":"October!G15","v":0},null,{"$f":"October!I15","v":0},{"$f":"October!J15","v":0},{"$f":"October!K15","v":0},null,{"$f":"October!M15","v":0},{"$f":"October!N15","v":0},{"$f":"October!O15","v":0},null,{"$f":"October!Q15","v":0},{"$f":"October!R15","v":0},{"$f":"October!S15","v":0},null,{"$f":"October!U15","v":0},{"$f":"October!V15","v":0},{"$f":"October!W15","v":0}]
[{"$f":"October!A16","v":0},{"$f":"October!B16","v":0},{"$f":"October!C16","v":0},null,{"$f":"October!E16","v":0},{"$f":"October!F16","v":0},{"$f":"October!G16","v":0},null,{"$f":"October!I16","v":0},{"$f":"October!J16","v":0},{"$f":"October!K16","v":0},null,{"$f":"October!M16","v":0},{"$f":"October!N16","v":0},{"$f":"October!O16","v":0},null,{"$f":"October!Q16","v":0},{"$f":"October!R16","v":0},{"$f":"October!S16","v":0},null,{"$f":"October!U16","v":0},{"$f":"October!V16","v":0},{"$f":"October!W16","v":0}]
[{"$f":"October!A17","v":0},{"$f":"October!B17","v":0},{"$f":"October!C17","v":0},null,{"$f":"October!E17","v":0},{"$f":"October!F17","v":0},{"$f":"October!G17","v":0},null,{"$f":"October!I17","v":0},{"$f":"October!J17","v":0},{"$f":"October!K17","v":0},null,{"$f":"October!M17","v":0},{"$f":"October!N17","v":0},{"$f":"October!O17","v":0},null,{"$f":"October!Q17","v":0},{"$f":"October!R17","v":0},{"$f":"October!S17","v":0},null,{"$f":"October!U17","v":0},{"$f":"October!V17","v":0},{"$f":"October!W17","v":0}]
[{"$f":"October!A18","v":0},{"$f":"October!B18","v":0},{"$f":"October!C18","v":0},null,{"$f":"October!E18","v":0},{"$f":"October!F18","v":0},{"$f":"October!G18","v":0},null,{"$f":"October!I18","v":0},{"$f":"October!J18","v":0},{"$f":"October!K18","v":0},null,{"$f":"October!M18","v":0},{"$f":"October!N18","v":0},{"$f":"October!O18","v":0},null,{"$f":"October!Q18","v":0},{"$f":"October!R18","v":0},{"$f":"October!S18","v":0},null,{"$f":"October!U18","v":0},{"$f":"October!V18","v":0},{"$f":"October!W18","v":0}]
[{"$f":"October!A19","v":0},{"$f":"October!B19","v":0},{"$f":"October!C19","v":0},null,{"$f":"October!E19","v":0},{"$f":"October!F19","v":0},{"$f":"October!G19","v":0},null,{"$f":"October!I19","v":0},{"$f":"October!J19","v":0},{"$f":"October!K19","v":0},null,{"$f":"October!M19","v":0},{"$f":"October!N19","v":0},{"$f":"October!O19","v":0},null,{"$f":"October!Q19","v":0},{"$f":"October!R19","v":0},{"$f":"October!S19","v":0},null,{"$f":"October!U19","v":0},{"$f":"October!V19","v":0},{"$f":"October!W19","v":0}]
[{"$f":"October!A20","v":0},{"$f":"October!B20","v":0},{"$f":"October!C20","v":0},null,{"$f":"October!E20","v":0},{"$f":"October!F20","v":0},{"$f":"October!G20","v":0},null,{"$f":"October!I20","v":0},{"$f":"October!J20","v":0},{"$f":"October!K20","v":0},null,{"$f":"October!M20","v":0},{"$f":"October!N20","v":0},{"$f":"October!O20","v":0},null,{"$f":"October!Q20","v":0},{"$f":"October!R20","v":0},{"$f":"October!S20","v":0},null,{"$f":"October!U20","v":0},{"$f":"October!V20","v":0},{"$f":"October!W20","v":0}]
[{"$f":"October!A21","v":0},{"$f":"October!B21","v":0},{"$f":"October!C21","v":0},null,{"$f":"October!E21","v":0},{"$f":"October!F21","v":0},{"$f":"October!G21","v":0},null,{"$f":"October!I21","v":0},{"$f":"October!J21","v":0},{"$f":"October!K21","v":0},null,{"$f":"October!M21","v":0},{"$f":"October!N21","v":0},{"$f":"October!O21","v":0},null,{"$f":"October!Q21","v":0},{"$f":"October!R21","v":0},{"$f":"October!S21","v":0},null,{"$f":"October!U21","v":0},{"$f":"October!V21","v":0},{"$f":"October!W21","v":0}]
[{"$f":"October!A22","v":0},{"$f":"October!B22","v":0},{"$f":"October!C22","v":0},null,{"$f":"October!E22","v":0},{"$f":"October!F22","v":0},{"$f":"October!G22","v":0},null,{"$f":"October!I22","v":0},{"$f":"October!J22","v":0},{"$f":"October!K22","v":0},null,{"$f":"October!M22","v":0},{"$f":"October!N22","v":0},{"$f":"October!O22","v":0},null,{"$f":"October!Q22","v":0},{"$f":"October!R22","v":0},{"$f":"October!S22","v":0},null,{"$f":"October!U22","v":0},{"$f":"October!V22","v":0},{"$f":"October!W22","v":0}]
[{"$f":"October!A23","v":0},{"$f":"October!B23","v":0},{"$f":"October!C23","v":0},null,{"$f":"October!E23","v":0},{"$f":"October!F23","v":0},{"$f":"October!G23","v":0},null,{"$f":"October!I23","v":0},{"$f":"October!J23","v":0},{"$f":"October!K23","v":0},null,{"$f":"October!M23","v":0},{"$f":"October!N23","v":0},{"$f":"October!O23","v":0},null,{"$f":"October!Q23","v":0},{"$f":"October!R23","v":0},{"$f":"October!S23","v":0},null,{"$f":"October!U23","v":0},{"$f":"October!V23","v":0},{"$f":"October!W23","v":0}]
[{"$f":"October!A24","v":0},{"$f":"October!B24","v":0},{"$f":"October!C24","v":0},null,{"$f":"October!E24","v":0},{"$f":"October!F24","v":0},{"$f":"October!G24","v":0},null,{"$f":"October!I24","v":0},{"$f":"October!J24","v":0},{"$f":"October!K24","v":0},null,{"$f":"October!M24","v":0},{"$f":"October!N24","v":0},{"$f":"October!O24","v":0},null,{"$f":"October!Q24","v":0},{"$f":"October!R24","v":0},{"$f":"October!S24","v":0},null,{"$f":"October!U24","v":0},{"$f":"October!V24","v":0},{"$f":"October!W24","v":0}]
[{"$f":"October!A25","v":0},{"$f":"October!B25","v":0},{"$f":"October!C25","v":0},null,{"$f":"October!E25","v":0},{"$f":"October!F25","v":0},{"$f":"October!G25","v":0},null,{"$f":"October!I25","v":0},{"$f":"October!J25","v":0},{"$f":"October!K25","v":0},null,{"$f":"October!M25","v":0},{"$f":"October!N25","v":0},{"$f":"October!O25","v":0},null,{"$f":"October!Q25","v":0},{"$f":"October!R25","v":0},{"$f":"October!S25","v":0},null,{"$f":"October!U25","v":0},{"$f":"October!V25","v":0},{"$f":"October!W25","v":0}]
[{"$f":"October!A26","v":0},{"$f":"October!B26","v":0},{"$f":"October!C26","v":0},null,{"$f":"October!E26","v":0},{"$f":"October!F26","v":0},{"$f":"October!G26","v":0},null,{"$f":"October!I26","v":0},{"$f":"October!J26","v":0},{"$f":"October!K26","v":0},null,{"$f":"October!M26","v":0},{"$f":"October!N26","v":0},{"$f":"October!O26","v":0},null,{"$f":"October!Q26","v":0},{"$f":"October!R26","v":0},{"$f":"October!S26","v":0},null,{"$f":"October!U26","v":0},{"$f":"October!V26","v":0},{"$f":"October!W26","v":0}]
[{"$f":"October!A27","v":0},{"$f":"October!B27","v":0},{"$f":"October!C27","v":0},null,{"$f":"October!E27","v":0},{"$f":"October!F27","v":0},{"$f":"October!G27","v":0},null,{"$f":"October!I27","v":0},{"$f":"October!J27","v":0},{"$f":"October!K27","v":0},null,{"$f":"October!M27","v":0},{"$f":"October!N27","v":0},{"$f":"October!O27","v":0},null,{"$f":"October!Q27","v":0},{"$f":"October!R27","v":0},{"$f":"October!S27","v":0},null,{"$f":"October!U27","v":0},{"$f":"October!V27","v":0},{"$f":"October!W27","v":0}]
[{"$f":"October!A28","v":0},{"$f":"October!B28","v":0},{"$f":"October!C28","v":0},null,{"$f":"October!E28","v":0},{"$f":"October!F28","v":0},{"$f":"October!G28","v":0},null,{"$f":"October!I28","v":0},{"$f":"October!J28","v":0},{"$f":"October!K28","v":0},null,{"$f":"October!M28","v":0},{"$f":"October!N28","v":0},{"$f":"October!O28","v":0},null,{"$f":"October!Q28","v":0},{"$f":"October!R28","v":0},{"$f":"October!S28","v":0},null,{"$f":"October!U28","v":0},{"$f":"October!V28","v":0},{"$f":"October!W28","v":0}]
[{"$f":"October!A29","v":0},{"$f":"October!B29","v":0},{"$f":"October!C29","v":0},null,{"$f":"October!E29","v":0},{"$f":"October!F29","v":0},{"$f":"October!G29","v":0},null,{"$f":"October!I29","v":0},{"$f":"October!J29","v":0},{"$f":"October!K29","v":0},null,{"$f":"October!M29","v":0},{"$f":"October!N29","v":0},{"$f":"October!O29","v":0},null,{"$f":"October!Q29","v":0},{"$f":"October!R29","v":0},{"$f":"October!S29","v":0},null,{"$f":"October!U29","v":0},{"$f":"October!V29","v":0},{"$f":"October!W29","v":0}]
[{"$f":"October!A30","v":0},{"$f":"October!B30","v":0},{"$f":"October!C30","v":0},null,{"$f":"October!E30","v":0},{"$f":"October!F30","v":0},{"$f":"October!G30","v":0},null,{"$f":"October!I30","v":0},{"$f":"October!J30","v":0},{"$f":"October!K30","v":0},null,{"$f":"October!M30","v":0},{"$f":"October!N30","v":0},{"$f":"October!O30","v":0},null,{"$f":"October!Q30","v":0},{"$f":"October!R30","v":0},{"$f":"October!S30","v":0},null,{"$f":"October!U30","v":0},{"$f":"October!V30","v":0},{"$f":"October!W30","v":0}]
[{"$f":"October!A31","v":0},{"$f":"October!B31","v":0},{"$f":"October!C31","v":0},null,{"$f":"October!E31","v":0},{"$f":"October!F31","v":0},{"$f":"October!G31","v":0},null,{"$f":"October!I31","v":0},{"$f":"October!J31","v":0},{"$f":"October!K31","v":0},null,{"$f":"October!M31","v":0},{"$f":"October!N31","v":0},{"$f":"October!O31","v":0},null,{"$f":"October!Q31","v":0},{"$f":"October!R31","v":0},{"$f":"October!S31","v":0},null,{"$f":"October!U31","v":0},{"$f":"October!V31","v":0},{"$f":"October!W31","v":0}]
[{"$f":"October!A32","v":0},{"$f":"October!B32","v":0},{"$f":"October!C32","v":0},null,{"$f":"October!E32","v":0},{"$f":"October!F32","v":0},{"$f":"October!G32","v":0},null,{"$f":"October!I32","v":0},{"$f":"October!J32","v":0},{"$f":"October!K32","v":0},null,{"$f":"October!M32","v":0},{"$f":"October!N32","v":0},{"$f":"October!O32","v":0},null,{"$f":"October!Q32","v":0},{"$f":"October!R32","v":0},{"$f":"October!S32","v":0},null,{"$f":"October!U32","v":0},{"$f":"October!V32","v":0},{"$f":"October!W32","v":0}]
[{"$f":"October!A33","v":0},{"$f":"October!B33","v":0},{"$f":"October!C33","v":0},null,{"$f":"October!E33","v":0},{"$f":"October!F33","v":0},{"$f":"October!G33","v":0},null,{"$f":"October!I33","v":0},{"$f":"October!J33","v":0},{"$f":"October!K33","v":0},null,{"$f":"October!M33","v":0},{"$f":"October!N33","v":0},{"$f":"October!O33","v":0},null,{"$f":"October!Q33","v":0},{"$f":"October!R33","v":0},{"$f":"October!S33","v":0},null,{"$f":"October!U33","v":0},{"$f":"October!V33","v":0},{"$f":"October!W33","v":0}]
[{"$f":"October!A34","v":0},{"$f":"October!B34","v":0},{"$f":"October!C34","v":0},null,{"$f":"October!E34","v":0},{"$f":"October!F34","v":0},{"$f":"October!G34","v":0},null,{"$f":"October!I34","v":0},{"$f":"October!J34","v":0},{"$f":"October!K34","v":0},null,{"$f":"October!M34","v":0},{"$f":"October!N34","v":0},{"$f":"October!O34","v":0},null,{"$f":"October!Q34","v":0},{"$f":"October!R34","v":0},{"$f":"October!S34","v":0},null,{"$f":"October!U34","v":0},{"$f":"October!V34","v":0},{"$f":"October!W34","v":0}]
[{"$f":"October!A35","v":0},{"$f":"October!B35","v":0},{"$f":"October!C35","v":0},null,{"$f":"October!E35","v":0},{"$f":"October!F35","v":0},{"$f":"October!G35","v":0},null,{"$f":"October!I35","v":0},{"$f":"October!J35","v":0},{"$f":"October!K35","v":0},null,{"$f":"October!M35","v":0},{"$f":"October!N35","v":0},{"$f":"October!O35","v":0},null,{"$f":"October!Q35","v":0},{"$f":"October!R35","v":0},{"$f":"October!S35","v":0},null,{"$f":"October!U35","v":0},{"$f":"October!V35","v":0},{"$f":"October!W35","v":0}]
[{"$f":"October!A36","v":0},{"$f":"October!B36","v":0},{"$f":"October!C36","v":0},null,{"$f":"October!E36","v":0},{"$f":"October!F36","v":0},{"$f":"October!G36","v":0},null,{"$f":"October!I36","v":0},{"$f":"October!J36","v":0},{"$f":"October!K36","v":0},null,{"$f":"October!M36","v":0},{"$f":"October!N36","v":0},{"$f":"October!O36","v":0},null,{"$f":"October!Q36","v":0},{"$f":"October!R36","v":0},{"$f":"October!S36","v":0},null,{"$f":"October!U36","v":0},{"$f":"October!V36","v":0},{"$f":"October!W36","v":0}]
[{"$f":"October!A37","v":0},{"$f":"October!B37","v":0},{"$f":"October!C37","v":0},null,{"$f":"October!E37","v":0},{"$f":"October!F37","v":0},{"$f":"October!G37","v":0},null,{"$f":"October!I37","v":0},{"$f":"October!J37","v":0},{"$f":"October!K37","v":0},null,{"$f":"October!M37","v":0},{"$f":"October!N37","v":0},{"$f":"October!O37","v":0},null,{"$f":"October!Q37","v":0},{"$f":"October!R37","v":0},{"$f":"October!S37","v":0},null,{"$f":"October!U37","v":0},{"$f":"October!V37","v":0},{"$f":"October!W37","v":0}]
[{"$f":"October!A38","v":0},{"$f":"October!B38","v":0},{"$f":"October!C38","v":0},null,{"$f":"October!E38","v":0},{"$f":"October!F38","v":0},{"$f":"October!G38","v":0},null,{"$f":"October!I38","v":0},{"$f":"October!J38","v":0},{"$f":"October!K38","v":0},null,{"$f":"October!M38","v":0},{"$f":"October!N38","v":0},{"$f":"October!O38","v":0},null,{"$f":"October!Q38","v":0},{"$f":"October!R38","v":0},{"$f":"October!S38","v":0},null,{"$f":"October!U38","v":0},{"$f":"October!V38","v":0},{"$f":"October!W38","v":0}]
[{"$f":"October!A39","v":0},{"$f":"October!B39","v":0},{"$f":"October!C39","v":0},null,{"$f":"October!E39","v":0},{"$f":"October!F39","v":0},{"$f":"October!G39","v":0},null,{"$f":"October!I39","v":0},{"$f":"October!J39","v":0},{"$f":"October!K39","v":0},null,{"$f":"October!M39","v":0},{"$f":"October!N39","v":0},{"$f":"October!O39","v":0},null,{"$f":"October!Q39","v":0},{"$f":"October!R39","v":0},{"$f":"October!S39","v":0},null,{"$f":"October!U39","v":0},{"$f":"October!V39","v":0},{"$f":"October!W39","v":0}]
[{"$f":"October!A40","v":0},{"$f":"October!B40","v":0},{"$f":"October!C40","v":0},null,{"$f":"October!E40","v":0},{"$f":"October!F40","v":0},{"$f":"October!G40","v":0},null,{"$f":"October!I40","v":0},{"$f":"October!J40","v":0},{"$f":"October!K40","v":0},null,{"$f":"October!M40","v":0},{"$f":"October!N40","v":0},{"$f":"October!O40","v":0},null,{"$f":"October!Q40","v":0},{"$f":"October!R40","v":0},{"$f":"October!S40","v":0},null,{"$f":"October!U40","v":0},{"$f":"October!V40","v":0},{"$f":"October!W40","v":0}]
[{"$f":"October!A41","v":0},{"$f":"October!B41","v":0},{"$f":"October!C41","v":0},null,{"$f":"October!E41","v":0},{"$f":"October!F41","v":0},{"$f":"October!G41","v":0},null,{"$f":"October!I41","v":0},{"$f":"October!J41","v":0},{"$f":"October!K41","v":0},null,{"$f":"October!M41","v":0},{"$f":"October!N41","v":0},{"$f":"October!O41","v":0},null,{"$f":"October!Q41","v":0},{"$f":"October!R41","v":0},{"$f":"October!S41","v":0},null,{"$f":"October!U41","v":0},{"$f":"October!V41","v":0},{"$f":"October!W41","v":0}]
[{"$f":"October!A42","v":0},{"$f":"October!B42","v":0},{"$f":"October!C42","v":0},null,{"$f":"October!E42","v":0},{"$f":"October!F42","v":0},{"$f":"October!G42","v":0},null,{"$f":"October!I42","v":0},{"$f":"October!J42","v":0},{"$f":"October!K42","v":0},null,{"$f":"October!M42","v":0},{"$f":"October!N42","v":0},{"$f":"October!O42","v":0},null,{"$f":"October!Q42","v":0},{"$f":"October!R42","v":0},{"$f":"October!S42","v":0},null,{"$f":"October!U42","v":0},{"$f":"October!V42","v":0},{"$f":"October!W42","v":0}]
[{"$f":"October!A43","v":0},{"$f":"October!B43","v":0},{"$f":"October!C43","v":0},null,{"$f":"October!E43","v":0},{"$f":"October!F43","v":0},{"$f":"October!G43","v":0},null,{"$f":"October!I43","v":0},{"$f":"October!J43","v":0},{"$f":"October!K43","v":0},null,{"$f":"October!M43","v":0},{"$f":"October!N43","v":0},{"$f":"October!O43","v":0},null,{"$f":"October!Q43","v":0},{"$f":"October!R43","v":0},{"$f":"October!S43","v":0},null,{"$f":"October!U43","v":0},{"$f":"October!V43","v":0},{"$f":"October!W43","v":0}]
[{"$f":"October!A44","v":0},{"$f":"October!B44","v":0},{"$f":"October!C44","v":0},null,{"$f":"October!E44","v":0},{"$f":"October!F44","v":0},{"$f":"October!G44","v":0},null,{"$f":"October!I44","v":0},{"$f":"October!J44","v":0},{"$f":"October!K44","v":0},null,{"$f":"October!M44","v":0},{"$f":"October!N44","v":0},{"$f":"October!O44","v":0},null,{"$f":"October!Q44","v":0},{"$f":"October!R44","v":0},{"$f":"October!S44","v":0},null,{"$f":"October!U44","v":0},{"$f":"October!V44","v":0},{"$f":"October!W44","v":0}]
[{"$f":"October!A45","v":0},{"$f":"October!B45","v":0},{"$f":"October!C45","v":0},null,{"$f":"October!E45","v":0},{"$f":"October!F45","v":0},{"$f":"October!G45","v":0},null,{"$f":"October!I45","v":0},{"$f":"October!J45","v":0},{"$f":"October!K45","v":0},null,{"$f":"October!M45","v":0},{"$f":"October!N45","v":0},{"$f":"October!O45","v":0},null,{"$f":"October!Q45","v":0},{"$f":"October!R45","v":0},{"$f":"October!S45","v":0},null,{"$f":"October!U45","v":0},{"$f":"October!V45","v":0},{"$f":"October!W45","v":0}]
[{"$f":"October!A46","v":0},{"$f":"October!B46","v":0},{"$f":"October!C46","v":0},null,{"$f":"October!E46","v":0},{"$f":"October!F46","v":0},{"$f":"October!G46","v":0},null,{"$f":"October!I46","v":0},{"$f":"October!J46","v":0},{"$f":"October!K46","v":0},null,{"$f":"October!M46","v":0},{"$f":"October!N46","v":0},{"$f":"October!O46","v":0},null,{"$f":"October!Q46","v":0},{"$f":"October!R46","v":0},{"$f":"October!S46","v":0},null,{"$f":"October!U46","v":0},{"$f":"October!V46","v":0},{"$f":"October!W46","v":0}]
[{"$f":"October!A47","v":0},{"$f":"October!B47","v":0},{"$f":"October!C47","v":0},null,{"$f":"October!E47","v":0},{"$f":"October!F47","v":0},{"$f":"October!G47","v":0},null,{"$f":"October!I47","v":0},{"$f":"October!J47","v":0},{"$f":"October!K47","v":0},null,{"$f":"October!M47","v":0},{"$f":"October!N47","v":0},{"$f":"October!O47","v":0},null,{"$f":"October!Q47","v":0},{"$f":"October!R47","v":0},{"$f":"October!S47","v":0},null,{"$f":"October!U47","v":0},{"$f":"October!V47","v":0},{"$f":"October!W47","v":0}]
[{"$f":"October!A48","v":0},{"$f":"October!B48","v":0},{"$f":"October!C48","v":0},null,{"$f":"October!E48","v":0},{"$f":"October!F48","v":0},{"$f":"October!G48","v":0},null,{"$f":"October!I48","v":0},{"$f":"October!J48","v":0},{"$f":"October!K48","v":0},null,{"$f":"October!M48","v":0},{"$f":"October!N48","v":0},{"$f":"October!O48","v":0},null,{"$f":"October!Q48","v":0},{"$f":"October!R48","v":0},{"$f":"October!S48","v":0},null,{"$f":"October!U48","v":0},{"$f":"October!V48","v":0},{"$f":"October!W48","v":0}]
[{"$f":"October!A49","v":0},{"$f":"October!B49","v":0},{"$f":"October!C49","v":0},null,{"$f":"October!E49","v":0},{"$f":"October!F49","v":0},{"$f":"October!G49","v":0},null,{"$f":"October!I49","v":0},{"$f":"October!J49","v":0},{"$f":"October!K49","v":0},null,{"$f":"October!M49","v":0},{"$f":"October!N49","v":0},{"$f":"October!O49","v":0},null,{"$f":"October!Q49","v":0},{"$f":"October!R49","v":0},{"$f":"October!S49","v":0},null,{"$f":"October!U49","v":0},{"$f":"October!V49","v":0},{"$f":"October!W49","v":0}]
[{"$f":"October!A50","v":0},{"$f":"October!B50","v":0},{"$f":"October!C50","v":0},null,{"$f":"October!E50","v":0},{"$f":"October!F50","v":0},{"$f":"October!G50","v":0},null,{"$f":"October!I50","v":0},{"$f":"October!J50","v":0},{"$f":"October!K50","v":0},null,{"$f":"October!M50","v":0},{"$f":"October!N50","v":0},{"$f":"October!O50","v":0},null,{"$f":"October!Q50","v":0},{"$f":"October!R50","v":0},{"$f":"October!S50","v":0},null,{"$f":"October!U50","v":0},{"$f":"October!V50","v":0},{"$f":"October!W50","v":0}]
[{"$f":"October!A51","v":0},{"$f":"October!B51","v":0},{"$f":"October!C51","v":0},null,{"$f":"October!E51","v":0},{"$f":"October!F51","v":0},{"$f":"October!G51","v":0},null,{"$f":"October!I51","v":0},{"$f":"October!J51","v":0},{"$f":"October!K51","v":0},null,{"$f":"October!M51","v":0},{"$f":"October!N51","v":0},{"$f":"October!O51","v":0},null,{"$f":"October!Q51","v":0},{"$f":"October!R51","v":0},{"$f":"October!S51","v":0},null,{"$f":"October!U51","v":0},{"$f":"October!V51","v":0},{"$f":"October!W51","v":0}]
[{"$f":"October!A52","v":0},{"$f":"October!B52","v":0},{"$f":"October!C52","v":0},null,{"$f":"October!E52","v":0},{"$f":"October!F52","v":0},{"$f":"October!G52","v":0},null,{"$f":"October!I52","v":0},{"$f":"October!J52","v":0},{"$f":"October!K52","v":0},null,{"$f":"October!M52","v":0},{"$f":"October!N52","v":0},{"$f":"October!O52","v":0},null,{"$f":"October!Q52","v":0},{"$f":"October!R52","v":0},{"$f":"October!S52","v":0},null,{"$f":"October!U52","v":0},{"$f":"October!V52","v":0},{"$f":"October!W52","v":0}]
[{"$f":"October!A53","v":0},{"$f":"October!B53","v":0},{"$f":"October!C53","v":0},null,{"$f":"October!E53","v":0},{"$f":"October!F53","v":0},{"$f":"October!G53","v":0},null,{"$f":"October!I53","v":0},{"$f":"October!J53","v":0},{"$f":"October!K53","v":0},null,{"$f":"October!M53","v":0},{"$f":"October!N53","v":0},{"$f":"October!O53","v":0},null,{"$f":"October!Q53","v":0},{"$f":"October!R53","v":0},{"$f":"October!S53","v":0},null,{"$f":"October!U53","v":0},{"$f":"October!V53","v":0},{"$f":"October!W53","v":0}]
[{"$f":"October!A54","v":0},{"$f":"October!B54","v":0},{"$f":"October!C54","v":0},null,{"$f":"October!E54","v":0},{"$f":"October!F54","v":0},{"$f":"October!G54","v":0},null,{"$f":"October!I54","v":0},{"$f":"October!J54","v":0},{"$f":"October!K54","v":0},null,{"$f":"October!M54","v":0},{"$f":"October!N54","v":0},{"$f":"October!O54","v":0},null,{"$f":"October!Q54","v":0},{"$f":"October!R54","v":0},{"$f":"October!S54","v":0},null,{"$f":"October!U54","v":0},{"$f":"October!V54","v":0},{"$f":"October!W54","v":0}]
[{"$f":"October!A55","v":0},{"$f":"October!B55","v":0},{"$f":"October!C55","v":0},null,{"$f":"October!E55","v":0},{"$f":"October!F55","v":0},{"$f":"October!G55","v":0},null,{"$f":"October!I55","v":0},{"$f":"October!J55","v":0},{"$f":"October!K55","v":0},null,{"$f":"October!M55","v":0},{"$f":"October!N55","v":0},{"$f":"October!O55","v":0},null,{"$f":"October!Q55","v":0},{"$f":"October!R55","v":0},{"$f":"October!S55","v":0},null,{"$f":"October!U55","v":0},{"$f":"October!V55","v":0},{"$f":"October!W55","v":0}]
[{"$f":"October!A56","v":0},{"$f":"October!B56","v":0},{"$f":"October!C56","v":0},null,{"$f":"October!E56","v":0},{"$f":"October!F56","v":0},{"$f":"October!G56","v":0},null,{"$f":"October!I56","v":0},{"$f":"October!J56","v":0},{"$f":"October!K56","v":0},null,{"$f":"October!M56","v":0},{"$f":"October!N56","v":0},{"$f":"October!O56","v":0},null,{"$f":"October!Q56","v":0},{"$f":"October!R56","v":0},{"$f":"October!S56","v":0},null,{"$f":"October!U56","v":0},{"$f":"October!V56","v":0},{"$f":"October!W56","v":0}]
[{"$f":"October!A57","v":0},{"$f":"October!B57","v":0},{"$f":"October!C57","v":0},null,{"$f":"October!E57","v":0},{"$f":"October!F57","v":0},{"$f":"October!G57","v":0},null,{"$f":"October!I57","v":0},{"$f":"October!J57","v":0},{"$f":"October!K57","v":0},null,{"$f":"October!M57","v":0},{"$f":"October!N57","v":0},{"$f":"October!O57","v":0},null,{"$f":"October!Q57","v":0},{"$f":"October!R57","v":0},{"$f":"October!S57","v":0},null,{"$f":"October!U57","v":0},{"$f":"October!V57","v":0},{"$f":"October!W57","v":0}]
[{"$f":"October!A58","v":0},{"$f":"October!B58","v":0},{"$f":"October!C58","v":0},null,{"$f":"October!E58","v":0},{"$f":"October!F58","v":0},{"$f":"October!G58","v":0},null,{"$f":"October!I58","v":0},{"$f":"October!J58","v":0},{"$f":"October!K58","v":0},null,{"$f":"October!M58","v":0},{"$f":"October!N58","v":0},{"$f":"October!O58","v":0},null,{"$f":"October!Q58","v":0},{"$f":"October!R58","v":0},{"$f":"October!S58","v":0},null,{"$f":"October!U58","v":0},{"$f":"October!V58","v":0},{"$f":"October!W58","v":0}]
[{"$f":"October!A59","v":0},{"$f":"October!B59","v":0},{"$f":"October!C59","v":0},null,{"$f":"October!E59","v":0},{"$f":"October!F59","v":0},{"$f":"October!G59","v":0},null,{"$f":"October!I59","v":0},{"$f":"October!J59","v":0},{"$f":"October!K59","v":0},null,{"$f":"October!M59","v":0},{"$f":"October!N59","v":0},{"$f":"October!O59","v":0},null,{"$f":"October!Q59","v":0},{"$f":"October!R59","v":0},{"$f":"October!S59","v":0},null,{"$f":"October!U59","v":0},{"$f":"October!V59","v":0},{"$f":"October!W59","v":0}]
[{"$f":"October!A60","v":0},{"$f":"October!B60","v":0},{"$f":"October!C60","v":0},null,{"$f":"October!E60","v":0},{"$f":"October!F60","v":0},{"$f":"October!G60","v":0},null,{"$f":"October!I60","v":0},{"$f":"October!J60","v":0},{"$f":"October!K60","v":0},null,{"$f":"October!M60","v":0},{"$f":"October!N60","v":0},{"$f":"October!O60","v":0},null,{"$f":"October!Q60","v":0},{"$f":"October!R60","v":0},{"$f":"October!S60","v":0},null,{"$f":"October!U60","v":0},{"$f":"October!V60","v":0},{"$f":"October!W60","v":0}]
[{"$f":"October!A61","v":0},{"$f":"October!B61","v":0},{"$f":"October!C61","v":0},null,{"$f":"October!E61","v":0},{"$f":"October!F61","v":0},{"$f":"October!G61","v":0},null,{"$f":"October!I61","v":0},{"$f":"October!J61","v":0},{"$f":"October!K61","v":0},null,{"$f":"October!M61","v":0},{"$f":"October!N61","v":0},{"$f":"October!O61","v":0},null,{"$f":"October!Q61","v":0},{"$f":"October!R61","v":0},{"$f":"October!S61","v":0},null,{"$f":"October!U61","v":0},{"$f":"October!V61","v":0},{"$f":"October!W61","v":0}]
[{"$f":"October!A62","v":0},{"$f":"October!B62","v":0},{"$f":"October!C62","v":0},null,{"$f":"October!E62","v":0},{"$f":"October!F62","v":0},{"$f":"October!G62","v":0},null,{"$f":"October!I62","v":0},{"$f":"October!J62","v":0},{"$f":"October!K62","v":0},null,{"$f":"October!M62","v":0},{"$f":"October!N62","v":0},{"$f":"October!O62","v":0},null,{"$f":"October!Q62","v":0},{"$f":"October!R62","v":0},{"$f":"October!S62","v":0},null,{"$f":"October!U62","v":0},{"$f":"October!V62","v":0},{"$f":"October!W62","v":0}]
[{"$f":"November!A3","v":0},{"$f":"November!B3","v":0},{"$f":"November!C3","v":0},null,{"$f":"November!E3","v":0},{"$f":"November!F3","v":0},{"$f":"November!G3","v":0},null,{"$f":"November!I3","v":0},{"$f":"November!J3","v":0},{"$f":"November!K3","v":0},null,{"$f":"November!M3","v":0},{"$f":"November!N3","v":0},{"$f":"November!O3","v":0},null,{"$f":"November!Q3","v":0},{"$f":"November!R3","v":0},{"$f":"November!S3","v":0},null,{"$f":"November!U3","v":0},{"$f":"November!V3","v":0},{"$f":"November!W3","v":0},null,null,null,null,null,"November"]
[{"$f":"November!A4","v":0},{"$f":"November!B4","v":0},{"$f":"November!C4","v":0},null,{"$f":"November!E4","v":0},{"$f":"November!F4","v":0},{"$f":"November!G4","v":0},null,{"$f":"November!I4","v":0},{"$f":"November!J4","v":0},{"$f":"November!K4","v":0},null,{"$f":"November!M4","v":0},{"$f":"November!N4","v":0},{"$f":"November!O4","v":0},null,{"$f":"November!Q4","v":0},{"$f":"November!R4","v":0},{"$f":"November!S4","v":0},null,{"$f":"November!U4","v":0},{"$f":"November!V4","v":0},{"$f":"November!W4","v":0}]
[{"$f":"November!A5","v":0},{"$f":"November!B5","v":0},{"$f":"November!C5","v":0},null,{"$f":"November!E5","v":0},{"$f":"November!F5","v":0},{"$f":"November!G5","v":0},null,{"$f":"November!I5","v":0},{"$f":"November!J5","v":0},{"$f":"November!K5","v":0},null,{"$f":"November!M5","v":0},{"$f":"November!N5","v":0},{"$f":"November!O5","v":0},null,{"$f":"November!Q5","v":0},{"$f":"November!R5","v":0},{"$f":"November!S5","v":0},null,{"$f":"November!U5","v":0},{"$f":"November!V5","v":0},{"$f":"November!W5","v":0}]
[{"$f":"November!A6","v":0},{"$f":"November!B6","v":0},{"$f":"November!C6","v":0},null,{"$f":"November!E6","v":0},{"$f":"November!F6","v":0},{"$f":"November!G6","v":0},null,{"$f":"November!I6","v":0},{"$f":"November!J6","v":0},{"$f":"November!K6","v":0},null,{"$f":"November!M6","v":0},{"$f":"November!N6","v":0},{"$f":"November!O6","v":0},null,{"$f":"November!Q6","v":0},{"$f":"November!R6","v":0},{"$f":"November!S6","v":0},null,{"$f":"November!U6","v":0},{"$f":"November!V6","v":0},{"$f":"November!W6","v":0}]
[{"$f":"November!A7","v":0},{"$f":"November!B7","v":0},{"$f":"November!C7","v":0},null,{"$f":"November!E7","v":0},{"$f":"November!F7","v":0},{"$f":"November!G7","v":0},null,{"$f":"November!I7","v":0},{"$f":"November!J7","v":0},{"$f":"November!K7","v":0},null,{"$f":"November!M7","v":0},{"$f":"November!N7","v":0},{"$f":"November!O7","v":0},null,{"$f":"November!Q7","v":0},{"$f":"November!R7","v":0},{"$f":"November!S7","v":0},null,{"$f":"November!U7","v":0},{"$f":"November!V7","v":0},{"$f":"November!W7","v":0}]
[{"$f":"November!A8","v":0},{"$f":"November!B8","v":0},{"$f":"November!C8","v":0},null,{"$f":"November!E8","v":0},{"$f":"November!F8","v":0},{"$f":"November!G8","v":0},null,{"$f":"November!I8","v":0},{"$f":"November!J8","v":0},{"$f":"November!K8","v":0},null,{"$f":"November!M8","v":0},{"$f":"November!N8","v":0},{"$f":"November!O8","v":0},null,{"$f":"November!Q8","v":0},{"$f":"November!R8","v":0},{"$f":"November!S8","v":0},null,{"$f":"November!U8","v":0},{"$f":"November!V8","v":0},{"$f":"November!W8","v":0}]
[{"$f":"November!A9","v":0},{"$f":"November!B9","v":0},{"$f":"November!C9","v":0},null,{"$f":"November!E9","v":0},{"$f":"November!F9","v":0},{"$f":"November!G9","v":0},null,{"$f":"November!I9","v":0},{"$f":"November!J9","v":0},{"$f":"November!K9","v":0},null,{"$f":"November!M9","v":0},{"$f":"November!N9","v":0},{"$f":"November!O9","v":0},null,{"$f":"November!Q9","v":0},{"$f":"November!R9","v":0},{"$f":"November!S9","v":0},null,{"$f":"November!U9","v":0},{"$f":"November!V9","v":0},{"$f":"November!W9","v":0}]
[{"$f":"November!A10","v":0},{"$f":"November!B10","v":0},{"$f":"November!C10","v":0},null,{"$f":"November!E10","v":0},{"$f":"November!F10","v":0},{"$f":"November!G10","v":0},null,{"$f":"November!I10","v":0},{"$f":"November!J10","v":0},{"$f":"November!K10","v":0},null,{"$f":"November!M10","v":0},{"$f":"November!N10","v":0},{"$f":"November!O10","v":0},null,{"$f":"November!Q10","v":0},{"$f":"November!R10","v":0},{"$f":"November!S10","v":0},null,{"$f":"November!U10","v":0},{"$f":"November!V10","v":0},{"$f":"November!W10","v":0}]
[{"$f":"November!A11","v":0},{"$f":"November!B11","v":0},{"$f":"November!C11","v":0},null,{"$f":"November!E11","v":0},{"$f":"November!F11","v":0},{"$f":"November!G11","v":0},null,{"$f":"November!I11","v":0},{"$f":"November!J11","v":0},{"$f":"November!K11","v":0},null,{"$f":"November!M11","v":0},{"$f":"November!N11","v":0},{"$f":"November!O11","v":0},null,{"$f":"November!Q11","v":0},{"$f":"November!R11","v":0},{"$f":"November!S11","v":0},null,{"$f":"November!U11","v":0},{"$f":"November!V11","v":0},{"$f":"November!W11","v":0}]
[{"$f":"November!A12","v":0},{"$f":"November!B12","v":0},{"$f":"November!C12","v":0},null,{"$f":"November!E12","v":0},{"$f":"November!F12","v":0},{"$f":"November!G12","v":0},null,{"$f":"November!I12","v":0},{"$f":"November!J12","v":0},{"$f":"November!K12","v":0},null,{"$f":"November!M12","v":0},{"$f":"November!N12","v":0},{"$f":"November!O12","v":0},null,{"$f":"November!Q12","v":0},{"$f":"November!R12","v":0},{"$f":"November!S12","v":0},null,{"$f":"November!U12","v":0},{"$f":"November!V12","v":0},{"$f":"November!W12","v":0}]
[{"$f":"November!A13","v":0},{"$f":"November!B13","v":0},{"$f":"November!C13","v":0},null,{"$f":"November!E13","v":0},{"$f":"November!F13","v":0},{"$f":"November!G13","v":0},null,{"$f":"November!I13","v":0},{"$f":"November!J13","v":0},{"$f":"November!K13","v":0},null,{"$f":"November!M13","v":0},{"$f":"November!N13","v":0},{"$f":"November!O13","v":0},null,{"$f":"November!Q13","v":0},{"$f":"November!R13","v":0},{"$f":"November!S13","v":0},null,{"$f":"November!U13","v":0},{"$f":"November!V13","v":0},{"$f":"November!W13","v":0}]
[{"$f":"November!A14","v":0},{"$f":"November!B14","v":0},{"$f":"November!C14","v":0},null,{"$f":"November!E14","v":0},{"$f":"November!F14","v":0},{"$f":"November!G14","v":0},null,{"$f":"November!I14","v":0},{"$f":"November!J14","v":0},{"$f":"November!K14","v":0},null,{"$f":"November!M14","v":0},{"$f":"November!N14","v":0},{"$f":"November!O14","v":0},null,{"$f":"November!Q14","v":0},{"$f":"November!R14","v":0},{"$f":"November!S14","v":0},null,{"$f":"November!U14","v":0},{"$f":"November!V14","v":0},{"$f":"November!W14","v":0}]
[{"$f":"November!A15","v":0},{"$f":"November!B15","v":0},{"$f":"November!C15","v":0},null,{"$f":"November!E15","v":0},{"$f":"November!F15","v":0},{"$f":"November!G15","v":0},null,{"$f":"November!I15","v":0},{"$f":"November!J15","v":0},{"$f":"November!K15","v":0},null,{"$f":"November!M15","v":0},{"$f":"November!N15","v":0},{"$f":"November!O15","v":0},null,{"$f":"November!Q15","v":0},{"$f":"November!R15","v":0},{"$f":"November!S15","v":0},null,{"$f":"November!U15","v":0},{"$f":"November!V15","v":0},{"$f":"November!W15","v":0}]
[{"$f":"November!A16","v":0},{"$f":"November!B16","v":0},{"$f":"November!C16","v":0},null,{"$f":"November!E16","v":0},{"$f":"November!F16","v":0},{"$f":"November!G16","v":0},null,{"$f":"November!I16","v":0},{"$f":"November!J16","v":0},{"$f":"November!K16","v":0},null,{"$f":"November!M16","v":0},{"$f":"November!N16","v":0},{"$f":"November!O16","v":0},null,{"$f":"November!Q16","v":0},{"$f":"November!R16","v":0},{"$f":"November!S16","v":0},null,{"$f":"November!U16","v":0},{"$f":"November!V16","v":0},{"$f":"November!W16","v":0}]
[{"$f":"November!A17","v":0},{"$f":"November!B17","v":0},{"$f":"November!C17","v":0},null,{"$f":"November!E17","v":0},{"$f":"November!F17","v":0},{"$f":"November!G17","v":0},null,{"$f":"November!I17","v":0},{"$f":"November!J17","v":0},{"$f":"November!K17","v":0},null,{"$f":"November!M17","v":0},{"$f":"November!N17","v":0},{"$f":"November!O17","v":0},null,{"$f":"November!Q17","v":0},{"$f":"November!R17","v":0},{"$f":"November!S17","v":0},null,{"$f":"November!U17","v":0},{"$f":"November!V17","v":0},{"$f":"November!W17","v":0}]
[{"$f":"November!A18","v":0},{"$f":"November!B18","v":0},{"$f":"November!C18","v":0},null,{"$f":"November!E18","v":0},{"$f":"November!F18","v":0},{"$f":"November!G18","v":0},null,{"$f":"November!I18","v":0},{"$f":"November!J18","v":0},{"$f":"November!K18","v":0},null,{"$f":"November!M18","v":0},{"$f":"November!N18","v":0},{"$f":"November!O18","v":0},null,{"$f":"November!Q18","v":0},{"$f":"November!R18","v":0},{"$f":"November!S18","v":0},null,{"$f":"November!U18","v":0},{"$f":"November!V18","v":0},{"$f":"November!W18","v":0}]
[{"$f":"November!A19","v":0},{"$f":"November!B19","v":0},{"$f":"November!C19","v":0},null,{"$f":"November!E19","v":0},{"$f":"November!F19","v":0},{"$f":"November!G19","v":0},null,{"$f":"November!I19","v":0},{"$f":"November!J19","v":0},{"$f":"November!K19","v":0},null,{"$f":"November!M19","v":0},{"$f":"November!N19","v":0},{"$f":"November!O19","v":0},null,{"$f":"November!Q19","v":0},{"$f":"November!R19","v":0},{"$f":"November!S19","v":0},null,{"$f":"November!U19","v":0},{"$f":"November!V19","v":0},{"$f":"November!W19","v":0}]
[{"$f":"November!A20","v":0},{"$f":"November!B20","v":0},{"$f":"November!C20","v":0},null,{"$f":"November!E20","v":0},{"$f":"November!F20","v":0},{"$f":"November!G20","v":0},null,{"$f":"November!I20","v":0},{"$f":"November!J20","v":0},{"$f":"November!K20","v":0},null,{"$f":"November!M20","v":0},{"$f":"November!N20","v":0},{"$f":"November!O20","v":0},null,{"$f":"November!Q20","v":0},{"$f":"November!R20","v":0},{"$f":"November!S20","v":0},null,{"$f":"November!U20","v":0},{"$f":"November!V20","v":0},{"$f":"November!W20","v":0}]
[{"$f":"November!A21","v":0},{"$f":"November!B21","v":0},{"$f":"November!C21","v":0},null,{"$f":"November!E21","v":0},{"$f":"November!F21","v":0},{"$f":"November!G21","v":0},null,{"$f":"November!I21","v":0},{"$f":"November!J21","v":0},{"$f":"November!K21","v":0},null,{"$f":"November!M21","v":0},{"$f":"November!N21","v":0},{"$f":"November!O21","v":0},null,{"$f":"November!Q21","v":0},{"$f":"November!R21","v":0},{"$f":"November!S21","v":0},null,{"$f":"November!U21","v":0},{"$f":"November!V21","v":0},{"$f":"November!W21","v":0}]
[{"$f":"November!A22","v":0},{"$f":"November!B22","v":0},{"$f":"November!C22","v":0},null,{"$f":"November!E22","v":0},{"$f":"November!F22","v":0},{"$f":"November!G22","v":0},null,{"$f":"November!I22","v":0},{"$f":"November!J22","v":0},{"$f":"November!K22","v":0},null,{"$f":"November!M22","v":0},{"$f":"November!N22","v":0},{"$f":"November!O22","v":0},null,{"$f":"November!Q22","v":0},{"$f":"November!R22","v":0},{"$f":"November!S22","v":0},null,{"$f":"November!U22","v":0},{"$f":"November!V22","v":0},{"$f":"November!W22","v":0}]
[{"$f":"November!A23","v":0},{"$f":"November!B23","v":0},{"$f":"November!C23","v":0},null,{"$f":"November!E23","v":0},{"$f":"November!F23","v":0},{"$f":"November!G23","v":0},null,{"$f":"November!I23","v":0},{"$f":"November!J23","v":0},{"$f":"November!K23","v":0},null,{"$f":"November!M23","v":0},{"$f":"November!N23","v":0},{"$f":"November!O23","v":0},null,{"$f":"November!Q23","v":0},{"$f":"November!R23","v":0},{"$f":"November!S23","v":0},null,{"$f":"November!U23","v":0},{"$f":"November!V23","v":0},{"$f":"November!W23","v":0}]
[{"$f":"November!A24","v":0},{"$f":"November!B24","v":0},{"$f":"November!C24","v":0},null,{"$f":"November!E24","v":0},{"$f":"November!F24","v":0},{"$f":"November!G24","v":0},null,{"$f":"November!I24","v":0},{"$f":"November!J24","v":0},{"$f":"November!K24","v":0},null,{"$f":"November!M24","v":0},{"$f":"November!N24","v":0},{"$f":"November!O24","v":0},null,{"$f":"November!Q24","v":0},{"$f":"November!R24","v":0},{"$f":"November!S24","v":0},null,{"$f":"November!U24","v":0},{"$f":"November!V24","v":0},{"$f":"November!W24","v":0}]
[{"$f":"November!A25","v":0},{"$f":"November!B25","v":0},{"$f":"November!C25","v":0},null,{"$f":"November!E25","v":0},{"$f":"November!F25","v":0},{"$f":"November!G25","v":0},null,{"$f":"November!I25","v":0},{"$f":"November!J25","v":0},{"$f":"November!K25","v":0},null,{"$f":"November!M25","v":0},{"$f":"November!N25","v":0},{"$f":"November!O25","v":0},null,{"$f":"November!Q25","v":0},{"$f":"November!R25","v":0},{"$f":"November!S25","v":0},null,{"$f":"November!U25","v":0},{"$f":"November!V25","v":0},{"$f":"November!W25","v":0}]
[{"$f":"November!A26","v":0},{"$f":"November!B26","v":0},{"$f":"November!C26","v":0},null,{"$f":"November!E26","v":0},{"$f":"November!F26","v":0},{"$f":"November!G26","v":0},null,{"$f":"November!I26","v":0},{"$f":"November!J26","v":0},{"$f":"November!K26","v":0},null,{"$f":"November!M26","v":0},{"$f":"November!N26","v":0},{"$f":"November!O26","v":0},null,{"$f":"November!Q26","v":0},{"$f":"November!R26","v":0},{"$f":"November!S26","v":0},null,{"$f":"November!U26","v":0},{"$f":"November!V26","v":0},{"$f":"November!W26","v":0}]
[{"$f":"November!A27","v":0},{"$f":"November!B27","v":0},{"$f":"November!C27","v":0},null,{"$f":"November!E27","v":0},{"$f":"November!F27","v":0},{"$f":"November!G27","v":0},null,{"$f":"November!I27","v":0},{"$f":"November!J27","v":0},{"$f":"November!K27","v":0},null,{"$f":"November!M27","v":0},{"$f":"November!N27","v":0},{"$f":"November!O27","v":0},null,{"$f":"November!Q27","v":0},{"$f":"November!R27","v":0},{"$f":"November!S27","v":0},null,{"$f":"November!U27","v":0},{"$f":"November!V27","v":0},{"$f":"November!W27","v":0}]
[{"$f":"November!A28","v":0},{"$f":"November!B28","v":0},{"$f":"November!C28","v":0},null,{"$f":"November!E28","v":0},{"$f":"November!F28","v":0},{"$f":"November!G28","v":0},null,{"$f":"November!I28","v":0},{"$f":"November!J28","v":0},{"$f":"November!K28","v":0},null,{"$f":"November!M28","v":0},{"$f":"November!N28","v":0},{"$f":"November!O28","v":0},null,{"$f":"November!Q28","v":0},{"$f":"November!R28","v":0},{"$f":"November!S28","v":0},null,{"$f":"November!U28","v":0},{"$f":"November!V28","v":0},{"$f":"November!W28","v":0}]
[{"$f":"November!A29","v":0},{"$f":"November!B29","v":0},{"$f":"November!C29","v":0},null,{"$f":"November!E29","v":0},{"$f":"November!F29","v":0},{"$f":"November!G29","v":0},null,{"$f":"November!I29","v":0},{"$f":"November!J29","v":0},{"$f":"November!K29","v":0},null,{"$f":"November!M29","v":0},{"$f":"November!N29","v":0},{"$f":"November!O29","v":0},null,{"$f":"November!Q29","v":0},{"$f":"November!R29","v":0},{"$f":"November!S29","v":0},null,{"$f":"November!U29","v":0},{"$f":"November!V29","v":0},{"$f":"November!W29","v":0}]
[{"$f":"November!A30","v":0},{"$f":"November!B30","v":0},{"$f":"November!C30","v":0},null,{"$f":"November!E30","v":0},{"$f":"November!F30","v":0},{"$f":"November!G30","v":0},null,{"$f":"November!I30","v":0},{"$f":"November!J30","v":0},{"$f":"November!K30","v":0},null,{"$f":"November!M30","v":0},{"$f":"November!N30","v":0},{"$f":"November!O30","v":0},null,{"$f":"November!Q30","v":0},{"$f":"November!R30","v":0},{"$f":"November!S30","v":0},null,{"$f":"November!U30","v":0},{"$f":"November!V30","v":0},{"$f":"November!W30","v":0}]
[{"$f":"November!A31","v":0},{"$f":"November!B31","v":0},{"$f":"November!C31","v":0},null,{"$f":"November!E31","v":0},{"$f":"November!F31","v":0},{"$f":"November!G31","v":0},null,{"$f":"November!I31","v":0},{"$f":"November!J31","v":0},{"$f":"November!K31","v":0},null,{"$f":"November!M31","v":0},{"$f":"November!N31","v":0},{"$f":"November!O31","v":0},null,{"$f":"November!Q31","v":0},{"$f":"November!R31","v":0},{"$f":"November!S31","v":0},null,{"$f":"November!U31","v":0},{"$f":"November!V31","v":0},{"$f":"November!W31","v":0}]
[{"$f":"November!A32","v":0},{"$f":"November!B32","v":0},{"$f":"November!C32","v":0},null,{"$f":"November!E32","v":0},{"$f":"November!F32","v":0},{"$f":"November!G32","v":0},null,{"$f":"November!I32","v":0},{"$f":"November!J32","v":0},{"$f":"November!K32","v":0},null,{"$f":"November!M32","v":0},{"$f":"November!N32","v":0},{"$f":"November!O32","v":0},null,{"$f":"November!Q32","v":0},{"$f":"November!R32","v":0},{"$f":"November!S32","v":0},null,{"$f":"November!U32","v":0},{"$f":"November!V32","v":0},{"$f":"November!W32","v":0}]
[{"$f":"November!A33","v":0},{"$f":"November!B33","v":0},{"$f":"November!C33","v":0},null,{"$f":"November!E33","v":0},{"$f":"November!F33","v":0},{"$f":"November!G33","v":0},null,{"$f":"November!I33","v":0},{"$f":"November!J33","v":0},{"$f":"November!K33","v":0},null,{"$f":"November!M33","v":0},{"$f":"November!N33","v":0},{"$f":"November!O33","v":0},null,{"$f":"November!Q33","v":0},{"$f":"November!R33","v":0},{"$f":"November!S33","v":0},null,{"$f":"November!U33","v":0},{"$f":"November!V33","v":0},{"$f":"November!W33","v":0}]
[{"$f":"November!A34","v":0},{"$f":"November!B34","v":0},{"$f":"November!C34","v":0},null,{"$f":"November!E34","v":0},{"$f":"November!F34","v":0},{"$f":"November!G34","v":0},null,{"$f":"November!I34","v":0},{"$f":"November!J34","v":0},{"$f":"November!K34","v":0},null,{"$f":"November!M34","v":0},{"$f":"November!N34","v":0},{"$f":"November!O34","v":0},null,{"$f":"November!Q34","v":0},{"$f":"November!R34","v":0},{"$f":"November!S34","v":0},null,{"$f":"November!U34","v":0},{"$f":"November!V34","v":0},{"$f":"November!W34","v":0}]
[{"$f":"November!A35","v":0},{"$f":"November!B35","v":0},{"$f":"November!C35","v":0},null,{"$f":"November!E35","v":0},{"$f":"November!F35","v":0},{"$f":"November!G35","v":0},null,{"$f":"November!I35","v":0},{"$f":"November!J35","v":0},{"$f":"November!K35","v":0},null,{"$f":"November!M35","v":0},{"$f":"November!N35","v":0},{"$f":"November!O35","v":0},null,{"$f":"November!Q35","v":0},{"$f":"November!R35","v":0},{"$f":"November!S35","v":0},null,{"$f":"November!U35","v":0},{"$f":"November!V35","v":0},{"$f":"November!W35","v":0}]
[{"$f":"November!A36","v":0},{"$f":"November!B36","v":0},{"$f":"November!C36","v":0},null,{"$f":"November!E36","v":0},{"$f":"November!F36","v":0},{"$f":"November!G36","v":0},null,{"$f":"November!I36","v":0},{"$f":"November!J36","v":0},{"$f":"November!K36","v":0},null,{"$f":"November!M36","v":0},{"$f":"November!N36","v":0},{"$f":"November!O36","v":0},null,{"$f":"November!Q36","v":0},{"$f":"November!R36","v":0},{"$f":"November!S36","v":0},null,{"$f":"November!U36","v":0},{"$f":"November!V36","v":0},{"$f":"November!W36","v":0}]
[{"$f":"November!A37","v":0},{"$f":"November!B37","v":0},{"$f":"November!C37","v":0},null,{"$f":"November!E37","v":0},{"$f":"November!F37","v":0},{"$f":"November!G37","v":0},null,{"$f":"November!I37","v":0},{"$f":"November!J37","v":0},{"$f":"November!K37","v":0},null,{"$f":"November!M37","v":0},{"$f":"November!N37","v":0},{"$f":"November!O37","v":0},null,{"$f":"November!Q37","v":0},{"$f":"November!R37","v":0},{"$f":"November!S37","v":0},null,{"$f":"November!U37","v":0},{"$f":"November!V37","v":0},{"$f":"November!W37","v":0}]
[{"$f":"November!A38","v":0},{"$f":"November!B38","v":0},{"$f":"November!C38","v":0},null,{"$f":"November!E38","v":0},{"$f":"November!F38","v":0},{"$f":"November!G38","v":0},null,{"$f":"November!I38","v":0},{"$f":"November!J38","v":0},{"$f":"November!K38","v":0},null,{"$f":"November!M38","v":0},{"$f":"November!N38","v":0},{"$f":"November!O38","v":0},null,{"$f":"November!Q38","v":0},{"$f":"November!R38","v":0},{"$f":"November!S38","v":0},null,{"$f":"November!U38","v":0},{"$f":"November!V38","v":0},{"$f":"November!W38","v":0}]
[{"$f":"November!A39","v":0},{"$f":"November!B39","v":0},{"$f":"November!C39","v":0},null,{"$f":"November!E39","v":0},{"$f":"November!F39","v":0},{"$f":"November!G39","v":0},null,{"$f":"November!I39","v":0},{"$f":"November!J39","v":0},{"$f":"November!K39","v":0},null,{"$f":"November!M39","v":0},{"$f":"November!N39","v":0},{"$f":"November!O39","v":0},null,{"$f":"November!Q39","v":0},{"$f":"November!R39","v":0},{"$f":"November!S39","v":0},null,{"$f":"November!U39","v":0},{"$f":"November!V39","v":0},{"$f":"November!W39","v":0}]
[{"$f":"November!A40","v":0},{"$f":"November!B40","v":0},{"$f":"November!C40","v":0},null,{"$f":"November!E40","v":0},{"$f":"November!F40","v":0},{"$f":"November!G40","v":0},null,{"$f":"November!I40","v":0},{"$f":"November!J40","v":0},{"$f":"November!K40","v":0},null,{"$f":"November!M40","v":0},{"$f":"November!N40","v":0},{"$f":"November!O40","v":0},null,{"$f":"November!Q40","v":0},{"$f":"November!R40","v":0},{"$f":"November!S40","v":0},null,{"$f":"November!U40","v":0},{"$f":"November!V40","v":0},{"$f":"November!W40","v":0}]
[{"$f":"November!A41","v":0},{"$f":"November!B41","v":0},{"$f":"November!C41","v":0},null,{"$f":"November!E41","v":0},{"$f":"November!F41","v":0},{"$f":"November!G41","v":0},null,{"$f":"November!I41","v":0},{"$f":"November!J41","v":0},{"$f":"November!K41","v":0},null,{"$f":"November!M41","v":0},{"$f":"November!N41","v":0},{"$f":"November!O41","v":0},null,{"$f":"November!Q41","v":0},{"$f":"November!R41","v":0},{"$f":"November!S41","v":0},null,{"$f":"November!U41","v":0},{"$f":"November!V41","v":0},{"$f":"November!W41","v":0}]
[{"$f":"November!A42","v":0},{"$f":"November!B42","v":0},{"$f":"November!C42","v":0},null,{"$f":"November!E42","v":0},{"$f":"November!F42","v":0},{"$f":"November!G42","v":0},null,{"$f":"November!I42","v":0},{"$f":"November!J42","v":0},{"$f":"November!K42","v":0},null,{"$f":"November!M42","v":0},{"$f":"November!N42","v":0},{"$f":"November!O42","v":0},null,{"$f":"November!Q42","v":0},{"$f":"November!R42","v":0},{"$f":"November!S42","v":0},null,{"$f":"November!U42","v":0},{"$f":"November!V42","v":0},{"$f":"November!W42","v":0}]
[{"$f":"November!A43","v":0},{"$f":"November!B43","v":0},{"$f":"November!C43","v":0},null,{"$f":"November!E43","v":0},{"$f":"November!F43","v":0},{"$f":"November!G43","v":0},null,{"$f":"November!I43","v":0},{"$f":"November!J43","v":0},{"$f":"November!K43","v":0},null,{"$f":"November!M43","v":0},{"$f":"November!N43","v":0},{"$f":"November!O43","v":0},null,{"$f":"November!Q43","v":0},{"$f":"November!R43","v":0},{"$f":"November!S43","v":0},null,{"$f":"November!U43","v":0},{"$f":"November!V43","v":0},{"$f":"November!W43","v":0}]
[{"$f":"November!A44","v":0},{"$f":"November!B44","v":0},{"$f":"November!C44","v":0},null,{"$f":"November!E44","v":0},{"$f":"November!F44","v":0},{"$f":"November!G44","v":0},null,{"$f":"November!I44","v":0},{"$f":"November!J44","v":0},{"$f":"November!K44","v":0},null,{"$f":"November!M44","v":0},{"$f":"November!N44","v":0},{"$f":"November!O44","v":0},null,{"$f":"November!Q44","v":0},{"$f":"November!R44","v":0},{"$f":"November!S44","v":0},null,{"$f":"November!U44","v":0},{"$f":"November!V44","v":0},{"$f":"November!W44","v":0}]
[{"$f":"November!A45","v":0},{"$f":"November!B45","v":0},{"$f":"November!C45","v":0},null,{"$f":"November!E45","v":0},{"$f":"November!F45","v":0},{"$f":"November!G45","v":0},null,{"$f":"November!I45","v":0},{"$f":"November!J45","v":0},{"$f":"November!K45","v":0},null,{"$f":"November!M45","v":0},{"$f":"November!N45","v":0},{"$f":"November!O45","v":0},null,{"$f":"November!Q45","v":0},{"$f":"November!R45","v":0},{"$f":"November!S45","v":0},null,{"$f":"November!U45","v":0},{"$f":"November!V45","v":0},{"$f":"November!W45","v":0}]
[{"$f":"November!A46","v":0},{"$f":"November!B46","v":0},{"$f":"November!C46","v":0},null,{"$f":"November!E46","v":0},{"$f":"November!F46","v":0},{"$f":"November!G46","v":0},null,{"$f":"November!I46","v":0},{"$f":"November!J46","v":0},{"$f":"November!K46","v":0},null,{"$f":"November!M46","v":0},{"$f":"November!N46","v":0},{"$f":"November!O46","v":0},null,{"$f":"November!Q46","v":0},{"$f":"November!R46","v":0},{"$f":"November!S46","v":0},null,{"$f":"November!U46","v":0},{"$f":"November!V46","v":0},{"$f":"November!W46","v":0}]
[{"$f":"November!A47","v":0},{"$f":"November!B47","v":0},{"$f":"November!C47","v":0},null,{"$f":"November!E47","v":0},{"$f":"November!F47","v":0},{"$f":"November!G47","v":0},null,{"$f":"November!I47","v":0},{"$f":"November!J47","v":0},{"$f":"November!K47","v":0},null,{"$f":"November!M47","v":0},{"$f":"November!N47","v":0},{"$f":"November!O47","v":0},null,{"$f":"November!Q47","v":0},{"$f":"November!R47","v":0},{"$f":"November!S47","v":0},null,{"$f":"November!U47","v":0},{"$f":"November!V47","v":0},{"$f":"November!W47","v":0}]
[{"$f":"November!A48","v":0},{"$f":"November!B48","v":0},{"$f":"November!C48","v":0},null,{"$f":"November!E48","v":0},{"$f":"November!F48","v":0},{"$f":"November!G48","v":0},null,{"$f":"November!I48","v":0},{"$f":"November!J48","v":0},{"$f":"November!K48","v":0},null,{"$f":"November!M48","v":0},{"$f":"November!N48","v":0},{"$f":"November!O48","v":0},null,{"$f":"November!Q48","v":0},{"$f":"November!R48","v":0},{"$f":"November!S48","v":0},null,{"$f":"November!U48","v":0},{"$f":"November!V48","v":0},{"$f":"November!W48","v":0}]
[{"$f":"November!A49","v":0},{"$f":"November!B49","v":0},{"$f":"November!C49","v":0},null,{"$f":"November!E49","v":0},{"$f":"November!F49","v":0},{"$f":"November!G49","v":0},null,{"$f":"November!I49","v":0},{"$f":"November!J49","v":0},{"$f":"November!K49","v":0},null,{"$f":"November!M49","v":0},{"$f":"November!N49","v":0},{"$f":"November!O49","v":0},null,{"$f":"November!Q49","v":0},{"$f":"November!R49","v":0},{"$f":"November!S49","v":0},null,{"$f":"November!U49","v":0},{"$f":"November!V49","v":0},{"$f":"November!W49","v":0}]
[{"$f":"November!A50","v":0},{"$f":"November!B50","v":0},{"$f":"November!C50","v":0},null,{"$f":"November!E50","v":0},{"$f":"November!F50","v":0},{"$f":"November!G50","v":0},null,{"$f":"November!I50","v":0},{"$f":"November!J50","v":0},{"$f":"November!K50","v":0},null,{"$f":"November!M50","v":0},{"$f":"November!N50","v":0},{"$f":"November!O50","v":0},null,{"$f":"November!Q50","v":0},{"$f":"November!R50","v":0},{"$f":"November!S50","v":0},null,{"$f":"November!U50","v":0},{"$f":"November!V50","v":0},{"$f":"November!W50","v":0}]
[{"$f":"November!A51","v":0},{"$f":"November!B51","v":0},{"$f":"November!C51","v":0},null,{"$f":"November!E51","v":0},{"$f":"November!F51","v":0},{"$f":"November!G51","v":0},null,{"$f":"November!I51","v":0},{"$f":"November!J51","v":0},{"$f":"November!K51","v":0},null,{"$f":"November!M51","v":0},{"$f":"November!N51","v":0},{"$f":"November!O51","v":0},null,{"$f":"November!Q51","v":0},{"$f":"November!R51","v":0},{"$f":"November!S51","v":0},null,{"$f":"November!U51","v":0},{"$f":"November!V51","v":0},{"$f":"November!W51","v":0}]
[{"$f":"November!A52","v":0},{"$f":"November!B52","v":0},{"$f":"November!C52","v":0},null,{"$f":"November!E52","v":0},{"$f":"November!F52","v":0},{"$f":"November!G52","v":0},null,{"$f":"November!I52","v":0},{"$f":"November!J52","v":0},{"$f":"November!K52","v":0},null,{"$f":"November!M52","v":0},{"$f":"November!N52","v":0},{"$f":"November!O52","v":0},null,{"$f":"November!Q52","v":0},{"$f":"November!R52","v":0},{"$f":"November!S52","v":0},null,{"$f":"November!U52","v":0},{"$f":"November!V52","v":0},{"$f":"November!W52","v":0}]
[{"$f":"November!A53","v":0},{"$f":"November!B53","v":0},{"$f":"November!C53","v":0},null,{"$f":"November!E53","v":0},{"$f":"November!F53","v":0},{"$f":"November!G53","v":0},null,{"$f":"November!I53","v":0},{"$f":"November!J53","v":0},{"$f":"November!K53","v":0},null,{"$f":"November!M53","v":0},{"$f":"November!N53","v":0},{"$f":"November!O53","v":0},null,{"$f":"November!Q53","v":0},{"$f":"November!R53","v":0},{"$f":"November!S53","v":0},null,{"$f":"November!U53","v":0},{"$f":"November!V53","v":0},{"$f":"November!W53","v":0}]
[{"$f":"November!A54","v":0},{"$f":"November!B54","v":0},{"$f":"November!C54","v":0},null,{"$f":"November!E54","v":0},{"$f":"November!F54","v":0},{"$f":"November!G54","v":0},null,{"$f":"November!I54","v":0},{"$f":"November!J54","v":0},{"$f":"November!K54","v":0},null,{"$f":"November!M54","v":0},{"$f":"November!N54","v":0},{"$f":"November!O54","v":0},null,{"$f":"November!Q54","v":0},{"$f":"November!R54","v":0},{"$f":"November!S54","v":0},null,{"$f":"November!U54","v":0},{"$f":"November!V54","v":0},{"$f":"November!W54","v":0}]
[{"$f":"November!A55","v":0},{"$f":"November!B55","v":0},{"$f":"November!C55","v":0},null,{"$f":"November!E55","v":0},{"$f":"November!F55","v":0},{"$f":"November!G55","v":0},null,{"$f":"November!I55","v":0},{"$f":"November!J55","v":0},{"$f":"November!K55","v":0},null,{"$f":"November!M55","v":0},{"$f":"November!N55","v":0},{"$f":"November!O55","v":0},null,{"$f":"November!Q55","v":0},{"$f":"November!R55","v":0},{"$f":"November!S55","v":0},null,{"$f":"November!U55","v":0},{"$f":"November!V55","v":0},{"$f":"November!W55","v":0}]
[{"$f":"November!A56","v":0},{"$f":"November!B56","v":0},{"$f":"November!C56","v":0},null,{"$f":"November!E56","v":0},{"$f":"November!F56","v":0},{"$f":"November!G56","v":0},null,{"$f":"November!I56","v":0},{"$f":"November!J56","v":0},{"$f":"November!K56","v":0},null,{"$f":"November!M56","v":0},{"$f":"November!N56","v":0},{"$f":"November!O56","v":0},null,{"$f":"November!Q56","v":0},{"$f":"November!R56","v":0},{"$f":"November!S56","v":0},null,{"$f":"November!U56","v":0},{"$f":"November!V56","v":0},{"$f":"November!W56","v":0}]
[{"$f":"November!A57","v":0},{"$f":"November!B57","v":0},{"$f":"November!C57","v":0},null,{"$f":"November!E57","v":0},{"$f":"November!F57","v":0},{"$f":"November!G57","v":0},null,{"$f":"November!I57","v":0},{"$f":"November!J57","v":0},{"$f":"November!K57","v":0},null,{"$f":"November!M57","v":0},{"$f":"November!N57","v":0},{"$f":"November!O57","v":0},null,{"$f":"November!Q57","v":0},{"$f":"November!R57","v":0},{"$f":"November!S57","v":0},null,{"$f":"November!U57","v":0},{"$f":"November!V57","v":0},{"$f":"November!W57","v":0}]
[{"$f":"November!A58","v":0},{"$f":"November!B58","v":0},{"$f":"November!C58","v":0},null,{"$f":"November!E58","v":0},{"$f":"November!F58","v":0},{"$f":"November!G58","v":0},null,{"$f":"November!I58","v":0},{"$f":"November!J58","v":0},{"$f":"November!K58","v":0},null,{"$f":"November!M58","v":0},{"$f":"November!N58","v":0},{"$f":"November!O58","v":0},null,{"$f":"November!Q58","v":0},{"$f":"November!R58","v":0},{"$f":"November!S58","v":0},null,{"$f":"November!U58","v":0},{"$f":"November!V58","v":0},{"$f":"November!W58","v":0}]
[{"$f":"November!A59","v":0},{"$f":"November!B59","v":0},{"$f":"November!C59","v":0},null,{"$f":"November!E59","v":0},{"$f":"November!F59","v":0},{"$f":"November!G59","v":0},null,{"$f":"November!I59","v":0},{"$f":"November!J59","v":0},{"$f":"November!K59","v":0},null,{"$f":"November!M59","v":0},{"$f":"November!N59","v":0},{"$f":"November!O59","v":0},null,{"$f":"November!Q59","v":0},{"$f":"November!R59","v":0},{"$f":"November!S59","v":0},null,{"$f":"November!U59","v":0},{"$f":"November!V59","v":0},{"$f":"November!W59","v":0}]
[{"$f":"November!A60","v":0},{"$f":"November!B60","v":0},{"$f":"November!C60","v":0},null,{"$f":"November!E60","v":0},{"$f":"November!F60","v":0},{"$f":"November!G60","v":0},null,{"$f":"November!I60","v":0},{"$f":"November!J60","v":0},{"$f":"November!K60","v":0},null,{"$f":"November!M60","v":0},{"$f":"November!N60","v":0},{"$f":"November!O60","v":0},null,{"$f":"November!Q60","v":0},{"$f":"November!R60","v":0},{"$f":"November!S60","v":0},null,{"$f":"November!U60","v":0},{"$f":"November!V60","v":0},{"$f":"November!W60","v":0}]
[{"$f":"November!A61","v":0},{"$f":"November!B61","v":0},{"$f":"November!C61","v":0},null,{"$f":"November!E61","v":0},{"$f":"November!F61","v":0},{"$f":"November!G61","v":0},null,{"$f":"November!I61","v":0},{"$f":"November!J61","v":0},{"$f":"November!K61","v":0},null,{"$f":"November!M61","v":0},{"$f":"November!N61","v":0},{"$f":"November!O61","v":0},null,{"$f":"November!Q61","v":0},{"$f":"November!R61","v":0},{"$f":"November!S61","v":0},null,{"$f":"November!U61","v":0},{"$f":"November!V61","v":0},{"$f":"November!W61","v":0}]
[{"$f":"November!A62","v":0},{"$f":"November!B62","v":0},{"$f":"November!C62","v":0},null,{"$f":"November!E62","v":0},{"$f":"November!F62","v":0},{"$f":"November!G62","v":0},null,{"$f":"November!I62","v":0},{"$f":"November!J62","v":0},{"$f":"November!K62","v":0},null,{"$f":"November!M62","v":0},{"$f":"November!N62","v":0},{"$f":"November!O62","v":0},null,{"$f":"November!Q62","v":0},{"$f":"November!R62","v":0},{"$f":"November!S62","v":0},null,{"$f":"November!U62","v":0},{"$f":"November!V62","v":0},{"$f":"November!W62","v":0}]
[{"$f":"December!A3","v":0},{"$f":"December!B3","v":0},{"$f":"December!C3","v":0},null,{"$f":"December!E3","v":0},{"$f":"December!F3","v":0},{"$f":"December!G3","v":0},null,{"$f":"December!I3","v":0},{"$f":"December!J3","v":0},{"$f":"December!K3","v":0},null,{"$f":"December!M3","v":0},{"$f":"December!N3","v":0},{"$f":"December!O3","v":0},null,{"$f":"December!Q3","v":0},{"$f":"December!R3","v":0},{"$f":"December!S3","v":0},null,{"$f":"December!U3","v":0},{"$f":"December!V3","v":0},{"$f":"December!W3","v":0},null,null,null,null,null,"December"]
[{"$f":"December!A4","v":0},{"$f":"December!B4","v":0},{"$f":"December!C4","v":0},null,{"$f":"December!E4","v":0},{"$f":"December!F4","v":0},{"$f":"December!G4","v":0},null,{"$f":"December!I4","v":0},{"$f":"December!J4","v":0},{"$f":"December!K4","v":0},null,{"$f":"December!M4","v":0},{"$f":"December!N4","v":0},{"$f":"December!O4","v":0},null,{"$f":"December!Q4","v":0},{"$f":"December!R4","v":0},{"$f":"December!S4","v":0},null,{"$f":"December!U4","v":0},{"$f":"December!V4","v":0},{"$f":"December!W4","v":0}]
[{"$f":"December!A5","v":0},{"$f":"December!B5","v":0},{"$f":"December!C5","v":0},null,{"$f":"December!E5","v":0},{"$f":"December!F5","v":0},{"$f":"December!G5","v":0},null,{"$f":"December!I5","v":0},{"$f":"December!J5","v":0},{"$f":"December!K5","v":0},null,{"$f":"December!M5","v":0},{"$f":"December!N5","v":0},{"$f":"December!O5","v":0},null,{"$f":"December!Q5","v":0},{"$f":"December!R5","v":0},{"$f":"December!S5","v":0},null,{"$f":"December!U5","v":0},{"$f":"December!V5","v":0},{"$f":"December!W5","v":0}]
[{"$f":"December!A6","v":0},{"$f":"December!B6","v":0},{"$f":"December!C6","v":0},null,{"$f":"December!E6","v":0},{"$f":"December!F6","v":0},{"$f":"December!G6","v":0},null,{"$f":"December!I6","v":0},{"$f":"December!J6","v":0},{"$f":"December!K6","v":0},null,{"$f":"December!M6","v":0},{"$f":"December!N6","v":0},{"$f":"December!O6","v":0},null,{"$f":"December!Q6","v":0},{"$f":"December!R6","v":0},{"$f":"December!S6","v":0},null,{"$f":"December!U6","v":0},{"$f":"December!V6","v":0},{"$f":"December!W6","v":0}]
[{"$f":"December!A7","v":0},{"$f":"December!B7","v":0},{"$f":"December!C7","v":0},null,{"$f":"December!E7","v":0},{"$f":"December!F7","v":0},{"$f":"December!G7","v":0},null,{"$f":"December!I7","v":0},{"$f":"December!J7","v":0},{"$f":"December!K7","v":0},null,{"$f":"December!M7","v":0},{"$f":"December!N7","v":0},{"$f":"December!O7","v":0},null,{"$f":"December!Q7","v":0},{"$f":"December!R7","v":0},{"$f":"December!S7","v":0},null,{"$f":"December!U7","v":0},{"$f":"December!V7","v":0},{"$f":"December!W7","v":0}]
[{"$f":"December!A8","v":0},{"$f":"December!B8","v":0},{"$f":"December!C8","v":0},null,{"$f":"December!E8","v":0},{"$f":"December!F8","v":0},{"$f":"December!G8","v":0},null,{"$f":"December!I8","v":0},{"$f":"December!J8","v":0},{"$f":"December!K8","v":0},null,{"$f":"December!M8","v":0},{"$f":"December!N8","v":0},{"$f":"December!O8","v":0},null,{"$f":"December!Q8","v":0},{"$f":"December!R8","v":0},{"$f":"December!S8","v":0},null,{"$f":"December!U8","v":0},{"$f":"December!V8","v":0},{"$f":"December!W8","v":0}]
[{"$f":"December!A9","v":0},{"$f":"December!B9","v":0},{"$f":"December!C9","v":0},null,{"$f":"December!E9","v":0},{"$f":"December!F9","v":0},{"$f":"December!G9","v":0},null,{"$f":"December!I9","v":0},{"$f":"December!J9","v":0},{"$f":"December!K9","v":0},null,{"$f":"December!M9","v":0},{"$f":"December!N9","v":0},{"$f":"December!O9","v":0},null,{"$f":"December!Q9","v":0},{"$f":"December!R9","v":0},{"$f":"December!S9","v":0},null,{"$f":"December!U9","v":0},{"$f":"December!V9","v":0},{"$f":"December!W9","v":0}]
[{"$f":"December!A10","v":0},{"$f":"December!B10","v":0},{"$f":"December!C10","v":0},null,{"$f":"December!E10","v":0},{"$f":"December!F10","v":0},{"$f":"December!G10","v":0},null,{"$f":"December!I10","v":0},{"$f":"December!J10","v":0},{"$f":"December!K10","v":0},null,{"$f":"December!M10","v":0},{"$f":"December!N10","v":0},{"$f":"December!O10","v":0},null,{"$f":"December!Q10","v":0},{"$f":"December!R10","v":0},{"$f":"December!S10","v":0},null,{"$f":"December!U10","v":0},{"$f":"December!V10","v":0},{"$f":"December!W10","v":0}]
[{"$f":"December!A11","v":0},{"$f":"December!B11","v":0},{"$f":"December!C11","v":0},null,{"$f":"December!E11","v":0},{"$f":"December!F11","v":0},{"$f":"December!G11","v":0},null,{"$f":"December!I11","v":0},{"$f":"December!J11","v":0},{"$f":"December!K11","v":0},null,{"$f":"December!M11","v":0},{"$f":"December!N11","v":0},{"$f":"December!O11","v":0},null,{"$f":"December!Q11","v":0},{"$f":"December!R11","v":0},{"$f":"December!S11","v":0},null,{"$f":"December!U11","v":0},{"$f":"December!V11","v":0},{"$f":"December!W11","v":0}]
[{"$f":"December!A12","v":0},{"$f":"December!B12","v":0},{"$f":"December!C12","v":0},null,{"$f":"December!E12","v":0},{"$f":"December!F12","v":0},{"$f":"December!G12","v":0},null,{"$f":"December!I12","v":0},{"$f":"December!J12","v":0},{"$f":"December!K12","v":0},null,{"$f":"December!M12","v":0},{"$f":"December!N12","v":0},{"$f":"December!O12","v":0},null,{"$f":"December!Q12","v":0},{"$f":"December!R12","v":0},{"$f":"December!S12","v":0},null,{"$f":"December!U12","v":0},{"$f":"December!V12","v":0},{"$f":"December!W12","v":0}]
[{"$f":"December!A13","v":0},{"$f":"December!B13","v":0},{"$f":"December!C13","v":0},null,{"$f":"December!E13","v":0},{"$f":"December!F13","v":0},{"$f":"December!G13","v":0},null,{"$f":"December!I13","v":0},{"$f":"December!J13","v":0},{"$f":"December!K13","v":0},null,{"$f":"December!M13","v":0},{"$f":"December!N13","v":0},{"$f":"December!O13","v":0},null,{"$f":"December!Q13","v":0},{"$f":"December!R13","v":0},{"$f":"December!S13","v":0},null,{"$f":"December!U13","v":0},{"$f":"December!V13","v":0},{"$f":"December!W13","v":0}]
[{"$f":"December!A14","v":0},{"$f":"December!B14","v":0},{"$f":"December!C14","v":0},null,{"$f":"December!E14","v":0},{"$f":"December!F14","v":0},{"$f":"December!G14","v":0},null,{"$f":"December!I14","v":0},{"$f":"December!J14","v":0},{"$f":"December!K14","v":0},null,{"$f":"December!M14","v":0},{"$f":"December!N14","v":0},{"$f":"December!O14","v":0},null,{"$f":"December!Q14","v":0},{"$f":"December!R14","v":0},{"$f":"December!S14","v":0},null,{"$f":"December!U14","v":0},{"$f":"December!V14","v":0},{"$f":"December!W14","v":0}]
[{"$f":"December!A15","v":0},{"$f":"December!B15","v":0},{"$f":"December!C15","v":0},null,{"$f":"December!E15","v":0},{"$f":"December!F15","v":0},{"$f":"December!G15","v":0},null,{"$f":"December!I15","v":0},{"$f":"December!J15","v":0},{"$f":"December!K15","v":0},null,{"$f":"December!M15","v":0},{"$f":"December!N15","v":0},{"$f":"December!O15","v":0},null,{"$f":"December!Q15","v":0},{"$f":"December!R15","v":0},{"$f":"December!S15","v":0},null,{"$f":"December!U15","v":0},{"$f":"December!V15","v":0},{"$f":"December!W15","v":0}]
[{"$f":"December!A16","v":0},{"$f":"December!B16","v":0},{"$f":"December!C16","v":0},null,{"$f":"December!E16","v":0},{"$f":"December!F16","v":0},{"$f":"December!G16","v":0},null,{"$f":"December!I16","v":0},{"$f":"December!J16","v":0},{"$f":"December!K16","v":0},null,{"$f":"December!M16","v":0},{"$f":"December!N16","v":0},{"$f":"December!O16","v":0},null,{"$f":"December!Q16","v":0},{"$f":"December!R16","v":0},{"$f":"December!S16","v":0},null,{"$f":"December!U16","v":0},{"$f":"December!V16","v":0},{"$f":"December!W16","v":0}]
[{"$f":"December!A17","v":0},{"$f":"December!B17","v":0},{"$f":"December!C17","v":0},null,{"$f":"December!E17","v":0},{"$f":"December!F17","v":0},{"$f":"December!G17","v":0},null,{"$f":"December!I17","v":0},{"$f":"December!J17","v":0},{"$f":"December!K17","v":0},null,{"$f":"December!M17","v":0},{"$f":"December!N17","v":0},{"$f":"December!O17","v":0},null,{"$f":"December!Q17","v":0},{"$f":"December!R17","v":0},{"$f":"December!S17","v":0},null,{"$f":"December!U17","v":0},{"$f":"December!V17","v":0},{"$f":"December!W17","v":0}]
[{"$f":"December!A18","v":0},{"$f":"December!B18","v":0},{"$f":"December!C18","v":0},null,{"$f":"December!E18","v":0},{"$f":"December!F18","v":0},{"$f":"December!G18","v":0},null,{"$f":"December!I18","v":0},{"$f":"December!J18","v":0},{"$f":"December!K18","v":0},null,{"$f":"December!M18","v":0},{"$f":"December!N18","v":0},{"$f":"December!O18","v":0},null,{"$f":"December!Q18","v":0},{"$f":"December!R18","v":0},{"$f":"December!S18","v":0},null,{"$f":"December!U18","v":0},{"$f":"December!V18","v":0},{"$f":"December!W18","v":0}]
[{"$f":"December!A19","v":0},{"$f":"December!B19","v":0},{"$f":"December!C19","v":0},null,{"$f":"December!E19","v":0},{"$f":"December!F19","v":0},{"$f":"December!G19","v":0},null,{"$f":"December!I19","v":0},{"$f":"December!J19","v":0},{"$f":"December!K19","v":0},null,{"$f":"December!M19","v":0},{"$f":"December!N19","v":0},{"$f":"December!O19","v":0},null,{"$f":"December!Q19","v":0},{"$f":"December!R19","v":0},{"$f":"December!S19","v":0},null,{"$f":"December!U19","v":0},{"$f":"December!V19","v":0},{"$f":"December!W19","v":0}]
[{"$f":"December!A20","v":0},{"$f":"December!B20","v":0},{"$f":"December!C20","v":0},null,{"$f":"December!E20","v":0},{"$f":"December!F20","v":0},{"$f":"December!G20","v":0},null,{"$f":"December!I20","v":0},{"$f":"December!J20","v":0},{"$f":"December!K20","v":0},null,{"$f":"December!M20","v":0},{"$f":"December!N20","v":0},{"$f":"December!O20","v":0},null,{"$f":"December!Q20","v":0},{"$f":"December!R20","v":0},{"$f":"December!S20","v":0},null,{"$f":"December!U20","v":0},{"$f":"December!V20","v":0},{"$f":"December!W20","v":0}]
[{"$f":"December!A21","v":0},{"$f":"December!B21","v":0},{"$f":"December!C21","v":0},null,{"$f":"December!E21","v":0},{"$f":"December!F21","v":0},{"$f":"December!G21","v":0},null,{"$f":"December!I21","v":0},{"$f":"December!J21","v":0},{"$f":"December!K21","v":0},null,{"$f":"December!M21","v":0},{"$f":"December!N21","v":0},{"$f":"December!O21","v":0},null,{"$f":"December!Q21","v":0},{"$f":"December!R21","v":0},{"$f":"December!S21","v":0},null,{"$f":"December!U21","v":0},{"$f":"December!V21","v":0},{"$f":"December!W21","v":0}]
[{"$f":"December!A22","v":0},{"$f":"December!B22","v":0},{"$f":"December!C22","v":0},null,{"$f":"December!E22","v":0},{"$f":"December!F22","v":0},{"$f":"December!G22","v":0},null,{"$f":"December!I22","v":0},{"$f":"December!J22","v":0},{"$f":"December!K22","v":0},null,{"$f":"December!M22","v":0},{"$f":"December!N22","v":0},{"$f":"December!O22","v":0},null,{"$f":"December!Q22","v":0},{"$f":"December!R22","v":0},{"$f":"December!S22","v":0},null,{"$f":"December!U22","v":0},{"$f":"December!V22","v":0},{"$f":"December!W22","v":0}]
[{"$f":"December!A23","v":0},{"$f":"December!B23","v":0},{"$f":"December!C23","v":0},null,{"$f":"December!E23","v":0},{"$f":"December!F23","v":0},{"$f":"December!G23","v":0},null,{"$f":"December!I23","v":0},{"$f":"December!J23","v":0},{"$f":"December!K23","v":0},null,{"$f":"December!M23","v":0},{"$f":"December!N23","v":0},{"$f":"December!O23","v":0},null,{"$f":"December!Q23","v":0},{"$f":"December!R23","v":0},{"$f":"December!S23","v":0},null,{"$f":"December!U23","v":0},{"$f":"December!V23","v":0},{"$f":"December!W23","v":0}]
[{"$f":"December!A24","v":0},{"$f":"December!B24","v":0},{"$f":"December!C24","v":0},null,{"$f":"December!E24","v":0},{"$f":"December!F24","v":0},{"$f":"December!G24","v":0},null,{"$f":"December!I24","v":0},{"$f":"December!J24","v":0},{"$f":"December!K24","v":0},null,{"$f":"December!M24","v":0},{"$f":"December!N24","v":0},{"$f":"December!O24","v":0},null,{"$f":"December!Q24","v":0},{"$f":"December!R24","v":0},{"$f":"December!S24","v":0},null,{"$f":"December!U24","v":0},{"$f":"December!V24","v":0},{"$f":"December!W24","v":0}]
[{"$f":"December!A25","v":0},{"$f":"December!B25","v":0},{"$f":"December!C25","v":0},null,{"$f":"December!E25","v":0},{"$f":"December!F25","v":0},{"$f":"December!G25","v":0},null,{"$f":"December!I25","v":0},{"$f":"December!J25","v":0},{"$f":"December!K25","v":0},null,{"$f":"December!M25","v":0},{"$f":"December!N25","v":0},{"$f":"December!O25","v":0},null,{"$f":"December!Q25","v":0},{"$f":"December!R25","v":0},{"$f":"December!S25","v":0},null,{"$f":"December!U25","v":0},{"$f":"December!V25","v":0},{"$f":"December!W25","v":0}]
[{"$f":"December!A26","v":0},{"$f":"December!B26","v":0},{"$f":"December!C26","v":0},null,{"$f":"December!E26","v":0},{"$f":"December!F26","v":0},{"$f":"December!G26","v":0},null,{"$f":"December!I26","v":0},{"$f":"December!J26","v":0},{"$f":"December!K26","v":0},null,{"$f":"December!M26","v":0},{"$f":"December!N26","v":0},{"$f":"December!O26","v":0},null,{"$f":"December!Q26","v":0},{"$f":"December!R26","v":0},{"$f":"December!S26","v":0},null,{"$f":"December!U26","v":0},{"$f":"December!V26","v":0},{"$f":"December!W26","v":0}]
[{"$f":"December!A27","v":0},{"$f":"December!B27","v":0},{"$f":"December!C27","v":0},null,{"$f":"December!E27","v":0},{"$f":"December!F27","v":0},{"$f":"December!G27","v":0},null,{"$f":"December!I27","v":0},{"$f":"December!J27","v":0},{"$f":"December!K27","v":0},null,{"$f":"December!M27","v":0},{"$f":"December!N27","v":0},{"$f":"December!O27","v":0},null,{"$f":"December!Q27","v":0},{"$f":"December!R27","v":0},{"$f":"December!S27","v":0},null,{"$f":"December!U27","v":0},{"$f":"December!V27","v":0},{"$f":"December!W27","v":0}]
[{"$f":"December!A28","v":0},{"$f":"December!B28","v":0},{"$f":"December!C28","v":0},null,{"$f":"December!E28","v":0},{"$f":"December!F28","v":0},{"$f":"December!G28","v":0},null,{"$f":"December!I28","v":0},{"$f":"December!J28","v":0},{"$f":"December!K28","v":0},null,{"$f":"December!M28","v":0},{"$f":"December!N28","v":0},{"$f":"December!O28","v":0},null,{"$f":"December!Q28","v":0},{"$f":"December!R28","v":0},{"$f":"December!S28","v":0},null,{"$f":"December!U28","v":0},{"$f":"December!V28","v":0},{"$f":"December!W28","v":0}]
[{"$f":"December!A29","v":0},{"$f":"December!B29","v":0},{"$f":"December!C29","v":0},null,{"$f":"December!E29","v":0},{"$f":"December!F29","v":0},{"$f":"December!G29","v":0},null,{"$f":"December!I29","v":0},{"$f":"December!J29","v":0},{"$f":"December!K29","v":0},null,{"$f":"December!M29","v":0},{"$f":"December!N29","v":0},{"$f":"December!O29","v":0},null,{"$f":"December!Q29","v":0},{"$f":"December!R29","v":0},{"$f":"December!S29","v":0},null,{"$f":"December!U29","v":0},{"$f":"December!V29","v":0},{"$f":"December!W29","v":0}]
[{"$f":"December!A30","v":0},{"$f":"December!B30","v":0},{"$f":"December!C30","v":0},null,{"$f":"December!E30","v":0},{"$f":"December!F30","v":0},{"$f":"December!G30","v":0},null,{"$f":"December!I30","v":0},{"$f":"December!J30","v":0},{"$f":"December!K30","v":0},null,{"$f":"December!M30","v":0},{"$f":"December!N30","v":0},{"$f":"December!O30","v":0},null,{"$f":"December!Q30","v":0},{"$f":"December!R30","v":0},{"$f":"December!S30","v":0},null,{"$f":"December!U30","v":0},{"$f":"December!V30","v":0},{"$f":"December!W30","v":0}]
[{"$f":"December!A31","v":0},{"$f":"December!B31","v":0},{"$f":"December!C31","v":0},null,{"$f":"December!E31","v":0},{"$f":"December!F31","v":0},{"$f":"December!G31","v":0},null,{"$f":"December!I31","v":0},{"$f":"December!J31","v":0},{"$f":"December!K31","v":0},null,{"$f":"December!M31","v":0},{"$f":"December!N31","v":0},{"$f":"December!O31","v":0},null,{"$f":"December!Q31","v":0},{"$f":"December!R31","v":0},{"$f":"December!S31","v":0},null,{"$f":"December!U31","v":0},{"$f":"December!V31","v":0},{"$f":"December!W31","v":0}]
[{"$f":"December!A32","v":0},{"$f":"December!B32","v":0},{"$f":"December!C32","v":0},null,{"$f":"December!E32","v":0},{"$f":"December!F32","v":0},{"$f":"December!G32","v":0},null,{"$f":"December!I32","v":0},{"$f":"December!J32","v":0},{"$f":"December!K32","v":0},null,{"$f":"December!M32","v":0},{"$f":"December!N32","v":0},{"$f":"December!O32","v":0},null,{"$f":"December!Q32","v":0},{"$f":"December!R32","v":0},{"$f":"December!S32","v":0},null,{"$f":"December!U32","v":0},{"$f":"December!V32","v":0},{"$f":"December!W32","v":0}]
[{"$f":"December!A33","v":0},{"$f":"December!B33","v":0},{"$f":"December!C33","v":0},null,{"$f":"December!E33","v":0},{"$f":"December!F33","v":0},{"$f":"December!G33","v":0},null,{"$f":"December!I33","v":0},{"$f":"December!J33","v":0},{"$f":"December!K33","v":0},null,{"$f":"December!M33","v":0},{"$f":"December!N33","v":0},{"$f":"December!O33","v":0},null,{"$f":"December!Q33","v":0},{"$f":"December!R33","v":0},{"$f":"December!S33","v":0},null,{"$f":"December!U33","v":0},{"$f":"December!V33","v":0},{"$f":"December!W33","v":0}]
[{"$f":"December!A34","v":0},{"$f":"December!B34","v":0},{"$f":"December!C34","v":0},null,{"$f":"December!E34","v":0},{"$f":"December!F34","v":0},{"$f":"December!G34","v":0},null,{"$f":"December!I34","v":0},{"$f":"December!J34","v":0},{"$f":"December!K34","v":0},null,{"$f":"December!M34","v":0},{"$f":"December!N34","v":0},{"$f":"December!O34","v":0},null,{"$f":"December!Q34","v":0},{"$f":"December!R34","v":0},{"$f":"December!S34","v":0},null,{"$f":"December!U34","v":0},{"$f":"December!V34","v":0},{"$f":"December!W34","v":0}]
[{"$f":"December!A35","v":0},{"$f":"December!B35","v":0},{"$f":"December!C35","v":0},null,{"$f":"December!E35","v":0},{"$f":"December!F35","v":0},{"$f":"December!G35","v":0},null,{"$f":"December!I35","v":0},{"$f":"December!J35","v":0},{"$f":"December!K35","v":0},null,{"$f":"December!M35","v":0},{"$f":"December!N35","v":0},{"$f":"December!O35","v":0},null,{"$f":"December!Q35","v":0},{"$f":"December!R35","v":0},{"$f":"December!S35","v":0},null,{"$f":"December!U35","v":0},{"$f":"December!V35","v":0},{"$f":"December!W35","v":0}]
[{"$f":"December!A36","v":0},{"$f":"December!B36","v":0},{"$f":"December!C36","v":0},null,{"$f":"December!E36","v":0},{"$f":"December!F36","v":0},{"$f":"December!G36","v":0},null,{"$f":"December!I36","v":0},{"$f":"December!J36","v":0},{"$f":"December!K36","v":0},null,{"$f":"December!M36","v":0},{"$f":"December!N36","v":0},{"$f":"December!O36","v":0},null,{"$f":"December!Q36","v":0},{"$f":"December!R36","v":0},{"$f":"December!S36","v":0},null,{"$f":"December!U36","v":0},{"$f":"December!V36","v":0},{"$f":"December!W36","v":0}]
[{"$f":"December!A37","v":0},{"$f":"December!B37","v":0},{"$f":"December!C37","v":0},null,{"$f":"December!E37","v":0},{"$f":"December!F37","v":0},{"$f":"December!G37","v":0},null,{"$f":"December!I37","v":0},{"$f":"December!J37","v":0},{"$f":"December!K37","v":0},null,{"$f":"December!M37","v":0},{"$f":"December!N37","v":0},{"$f":"December!O37","v":0},null,{"$f":"December!Q37","v":0},{"$f":"December!R37","v":0},{"$f":"December!S37","v":0},null,{"$f":"December!U37","v":0},{"$f":"December!V37","v":0},{"$f":"December!W37","v":0}]
[{"$f":"December!A38","v":0},{"$f":"December!B38","v":0},{"$f":"December!C38","v":0},null,{"$f":"December!E38","v":0},{"$f":"December!F38","v":0},{"$f":"December!G38","v":0},null,{"$f":"December!I38","v":0},{"$f":"December!J38","v":0},{"$f":"December!K38","v":0},null,{"$f":"December!M38","v":0},{"$f":"December!N38","v":0},{"$f":"December!O38","v":0},null,{"$f":"December!Q38","v":0},{"$f":"December!R38","v":0},{"$f":"December!S38","v":0},null,{"$f":"December!U38","v":0},{"$f":"December!V38","v":0},{"$f":"December!W38","v":0}]
[{"$f":"December!A39","v":0},{"$f":"December!B39","v":0},{"$f":"December!C39","v":0},null,{"$f":"December!E39","v":0},{"$f":"December!F39","v":0},{"$f":"December!G39","v":0},null,{"$f":"December!I39","v":0},{"$f":"December!J39","v":0},{"$f":"December!K39","v":0},null,{"$f":"December!M39","v":0},{"$f":"December!N39","v":0},{"$f":"December!O39","v":0},null,{"$f":"December!Q39","v":0},{"$f":"December!R39","v":0},{"$f":"December!S39","v":0},null,{"$f":"December!U39","v":0},{"$f":"December!V39","v":0},{"$f":"December!W39","v":0}]
[{"$f":"December!A40","v":0},{"$f":"December!B40","v":0},{"$f":"December!C40","v":0},null,{"$f":"December!E40","v":0},{"$f":"December!F40","v":0},{"$f":"December!G40","v":0},null,{"$f":"December!I40","v":0},{"$f":"December!J40","v":0},{"$f":"December!K40","v":0},null,{"$f":"December!M40","v":0},{"$f":"December!N40","v":0},{"$f":"December!O40","v":0},null,{"$f":"December!Q40","v":0},{"$f":"December!R40","v":0},{"$f":"December!S40","v":0},null,{"$f":"December!U40","v":0},{"$f":"December!V40","v":0},{"$f":"December!W40","v":0}]
[{"$f":"December!A41","v":0},{"$f":"December!B41","v":0},{"$f":"December!C41","v":0},null,{"$f":"December!E41","v":0},{"$f":"December!F41","v":0},{"$f":"December!G41","v":0},null,{"$f":"December!I41","v":0},{"$f":"December!J41","v":0},{"$f":"December!K41","v":0},null,{"$f":"December!M41","v":0},{"$f":"December!N41","v":0},{"$f":"December!O41","v":0},null,{"$f":"December!Q41","v":0},{"$f":"December!R41","v":0},{"$f":"December!S41","v":0},null,{"$f":"December!U41","v":0},{"$f":"December!V41","v":0},{"$f":"December!W41","v":0}]
[{"$f":"December!A42","v":0},{"$f":"December!B42","v":0},{"$f":"December!C42","v":0},null,{"$f":"December!E42","v":0},{"$f":"December!F42","v":0},{"$f":"December!G42","v":0},null,{"$f":"December!I42","v":0},{"$f":"December!J42","v":0},{"$f":"December!K42","v":0},null,{"$f":"December!M42","v":0},{"$f":"December!N42","v":0},{"$f":"December!O42","v":0},null,{"$f":"December!Q42","v":0},{"$f":"December!R42","v":0},{"$f":"December!S42","v":0},null,{"$f":"December!U42","v":0},{"$f":"December!V42","v":0},{"$f":"December!W42","v":0}]
[{"$f":"December!A43","v":0},{"$f":"December!B43","v":0},{"$f":"December!C43","v":0},null,{"$f":"December!E43","v":0},{"$f":"December!F43","v":0},{"$f":"December!G43","v":0},null,{"$f":"December!I43","v":0},{"$f":"December!J43","v":0},{"$f":"December!K43","v":0},null,{"$f":"December!M43","v":0},{"$f":"December!N43","v":0},{"$f":"December!O43","v":0},null,{"$f":"December!Q43","v":0},{"$f":"December!R43","v":0},{"$f":"December!S43","v":0},null,{"$f":"December!U43","v":0},{"$f":"December!V43","v":0},{"$f":"December!W43","v":0}]
[{"$f":"December!A44","v":0},{"$f":"December!B44","v":0},{"$f":"December!C44","v":0},null,{"$f":"December!E44","v":0},{"$f":"December!F44","v":0},{"$f":"December!G44","v":0},null,{"$f":"December!I44","v":0},{"$f":"December!J44","v":0},{"$f":"December!K44","v":0},null,{"$f":"December!M44","v":0},{"$f":"December!N44","v":0},{"$f":"December!O44","v":0},null,{"$f":"December!Q44","v":0},{"$f":"December!R44","v":0},{"$f":"December!S44","v":0},null,{"$f":"December!U44","v":0},{"$f":"December!V44","v":0},{"$f":"December!W44","v":0}]
[{"$f":"December!A45","v":0},{"$f":"December!B45","v":0},{"$f":"December!C45","v":0},null,{"$f":"December!E45","v":0},{"$f":"December!F45","v":0},{"$f":"December!G45","v":0},null,{"$f":"December!I45","v":0},{"$f":"December!J45","v":0},{"$f":"December!K45","v":0},null,{"$f":"December!M45","v":0},{"$f":"December!N45","v":0},{"$f":"December!O45","v":0},null,{"$f":"December!Q45","v":0},{"$f":"December!R45","v":0},{"$f":"December!S45","v":0},null,{"$f":"December!U45","v":0},{"$f":"December!V45","v":0},{"$f":"December!W45","v":0}]
[{"$f":"December!A46","v":0},{"$f":"December!B46","v":0},{"$f":"December!C46","v":0},null,{"$f":"December!E46","v":0},{"$f":"December!F46","v":0},{"$f":"December!G46","v":0},null,{"$f":"December!I46","v":0},{"$f":"December!J46","v":0},{"$f":"December!K46","v":0},null,{"$f":"December!M46","v":0},{"$f":"December!N46","v":0},{"$f":"December!O46","v":0},null,{"$f":"December!Q46","v":0},{"$f":"December!R46","v":0},{"$f":"December!S46","v":0},null,{"$f":"December!U46","v":0},{"$f":"December!V46","v":0},{"$f":"December!W46","v":0}]
[{"$f":"December!A47","v":0},{"$f":"December!B47","v":0},{"$f":"December!C47","v":0},null,{"$f":"December!E47","v":0},{"$f":"December!F47","v":0},{"$f":"December!G47","v":0},null,{"$f":"December!I47","v":0},{"$f":"December!J47","v":0},{"$f":"December!K47","v":0},null,{"$f":"December!M47","v":0},{"$f":"December!N47","v":0},{"$f":"December!O47","v":0},null,{"$f":"December!Q47","v":0},{"$f":"December!R47","v":0},{"$f":"December!S47","v":0},null,{"$f":"December!U47","v":0},{"$f":"December!V47","v":0},{"$f":"December!W47","v":0}]
[{"$f":"December!A48","v":0},{"$f":"December!B48","v":0},{"$f":"December!C48","v":0},null,{"$f":"December!E48","v":0},{"$f":"December!F48","v":0},{"$f":"December!G48","v":0},null,{"$f":"December!I48","v":0},{"$f":"December!J48","v":0},{"$f":"December!K48","v":0},null,{"$f":"December!M48","v":0},{"$f":"December!N48","v":0},{"$f":"December!O48","v":0},null,{"$f":"December!Q48","v":0},{"$f":"December!R48","v":0},{"$f":"December!S48","v":0},null,{"$f":"December!U48","v":0},{"$f":"December!V48","v":0},{"$f":"December!W48","v":0}]
[{"$f":"December!A49","v":0},{"$f":"December!B49","v":0},{"$f":"December!C49","v":0},null,{"$f":"December!E49","v":0},{"$f":"December!F49","v":0},{"$f":"December!G49","v":0},null,{"$f":"December!I49","v":0},{"$f":"December!J49","v":0},{"$f":"December!K49","v":0},null,{"$f":"December!M49","v":0},{"$f":"December!N49","v":0},{"$f":"December!O49","v":0},null,{"$f":"December!Q49","v":0},{"$f":"December!R49","v":0},{"$f":"December!S49","v":0},null,{"$f":"December!U49","v":0},{"$f":"December!V49","v":0},{"$f":"December!W49","v":0}]
[{"$f":"December!A50","v":0},{"$f":"December!B50","v":0},{"$f":"December!C50","v":0},null,{"$f":"December!E50","v":0},{"$f":"December!F50","v":0},{"$f":"December!G50","v":0},null,{"$f":"December!I50","v":0},{"$f":"December!J50","v":0},{"$f":"December!K50","v":0},null,{"$f":"December!M50","v":0},{"$f":"December!N50","v":0},{"$f":"December!O50","v":0},null,{"$f":"December!Q50","v":0},{"$f":"December!R50","v":0},{"$f":"December!S50","v":0},null,{"$f":"December!U50","v":0},{"$f":"December!V50","v":0},{"$f":"December!W50","v":0}]
[{"$f":"December!A51","v":0},{"$f":"December!B51","v":0},{"$f":"December!C51","v":0},null,{"$f":"December!E51","v":0},{"$f":"December!F51","v":0},{"$f":"December!G51","v":0},null,{"$f":"December!I51","v":0},{"$f":"December!J51","v":0},{"$f":"December!K51","v":0},null,{"$f":"December!M51","v":0},{"$f":"December!N51","v":0},{"$f":"December!O51","v":0},null,{"$f":"December!Q51","v":0},{"$f":"December!R51","v":0},{"$f":"December!S51","v":0},null,{"$f":"December!U51","v":0},{"$f":"December!V51","v":0},{"$f":"December!W51","v":0}]
[{"$f":"December!A52","v":0},{"$f":"December!B52","v":0},{"$f":"December!C52","v":0},null,{"$f":"December!E52","v":0},{"$f":"December!F52","v":0},{"$f":"December!G52","v":0},null,{"$f":"December!I52","v":0},{"$f":"December!J52","v":0},{"$f":"December!K52","v":0},null,{"$f":"December!M52","v":0},{"$f":"December!N52","v":0},{"$f":"December!O52","v":0},null,{"$f":"December!Q52","v":0},{"$f":"December!R52","v":0},{"$f":"December!S52","v":0},null,{"$f":"December!U52","v":0},{"$f":"December!V52","v":0},{"$f":"December!W52","v":0}]
[{"$f":"December!A53","v":0},{"$f":"December!B53","v":0},{"$f":"December!C53","v":0},null,{"$f":"December!E53","v":0},{"$f":"December!F53","v":0},{"$f":"December!G53","v":0},null,{"$f":"December!I53","v":0},{"$f":"December!J53","v":0},{"$f":"December!K53","v":0},null,{"$f":"December!M53","v":0},{"$f":"December!N53","v":0},{"$f":"December!O53","v":0},null,{"$f":"December!Q53","v":0},{"$f":"December!R53","v":0},{"$f":"December!S53","v":0},null,{"$f":"December!U53","v":0},{"$f":"December!V53","v":0},{"$f":"December!W53","v":0}]
[{"$f":"December!A54","v":0},{"$f":"December!B54","v":0},{"$f":"December!C54","v":0},null,{"$f":"December!E54","v":0},{"$f":"December!F54","v":0},{"$f":"December!G54","v":0},null,{"$f":"December!I54","v":0},{"$f":"December!J54","v":0},{"$f":"December!K54","v":0},null,{"$f":"December!M54","v":0},{"$f":"December!N54","v":0},{"$f":"December!O54","v":0},null,{"$f":"December!Q54","v":0},{"$f":"December!R54","v":0},{"$f":"December!S54","v":0},null,{"$f":"December!U54","v":0},{"$f":"December!V54","v":0},{"$f":"December!W54","v":0}]
[{"$f":"December!A55","v":0},{"$f":"December!B55","v":0},{"$f":"December!C55","v":0},null,{"$f":"December!E55","v":0},{"$f":"December!F55","v":0},{"$f":"December!G55","v":0},null,{"$f":"December!I55","v":0},{"$f":"December!J55","v":0},{"$f":"December!K55","v":0},null,{"$f":"December!M55","v":0},{"$f":"December!N55","v":0},{"$f":"December!O55","v":0},null,{"$f":"December!Q55","v":0},{"$f":"December!R55","v":0},{"$f":"December!S55","v":0},null,{"$f":"December!U55","v":0},{"$f":"December!V55","v":0},{"$f":"December!W55","v":0}]
[{"$f":"December!A56","v":0},{"$f":"December!B56","v":0},{"$f":"December!C56","v":0},null,{"$f":"December!E56","v":0},{"$f":"December!F56","v":0},{"$f":"December!G56","v":0},null,{"$f":"December!I56","v":0},{"$f":"December!J56","v":0},{"$f":"December!K56","v":0},null,{"$f":"December!M56","v":0},{"$f":"December!N56","v":0},{"$f":"December!O56","v":0},null,{"$f":"December!Q56","v":0},{"$f":"December!R56","v":0},{"$f":"December!S56","v":0},null,{"$f":"December!U56","v":0},{"$f":"December!V56","v":0},{"$f":"December!W56","v":0}]
[{"$f":"December!A57","v":0},{"$f":"December!B57","v":0},{"$f":"December!C57","v":0},null,{"$f":"December!E57","v":0},{"$f":"December!F57","v":0},{"$f":"December!G57","v":0},null,{"$f":"December!I57","v":0},{"$f":"December!J57","v":0},{"$f":"December!K57","v":0},null,{"$f":"December!M57","v":0},{"$f":"December!N57","v":0},{"$f":"December!O57","v":0},null,{"$f":"December!Q57","v":0},{"$f":"December!R57","v":0},{"$f":"December!S57","v":0},null,{"$f":"December!U57","v":0},{"$f":"December!V57","v":0},{"$f":"December!W57","v":0}]
[{"$f":"December!A58","v":0},{"$f":"December!B58","v":0},{"$f":"December!C58","v":0},null,{"$f":"December!E58","v":0},{"$f":"December!F58","v":0},{"$f":"December!G58","v":0},null,{"$f":"December!I58","v":0},{"$f":"December!J58","v":0},{"$f":"December!K58","v":0},null,{"$f":"December!M58","v":0},{"$f":"December!N58","v":0},{"$f":"December!O58","v":0},null,{"$f":"December!Q58","v":0},{"$f":"December!R58","v":0},{"$f":"December!S58","v":0},null,{"$f":"December!U58","v":0},{"$f":"December!V58","v":0},{"$f":"December!W58","v":0}]
[{"$f":"December!A59","v":0},{"$f":"December!B59","v":0},{"$f":"December!C59","v":0},null,{"$f":"December!E59","v":0},{"$f":"December!F59","v":0},{"$f":"December!G59","v":0},null,{"$f":"December!I59","v":0},{"$f":"December!J59","v":0},{"$f":"December!K59","v":0},null,{"$f":"December!M59","v":0},{"$f":"December!N59","v":0},{"$f":"December!O59","v":0},null,{"$f":"December!Q59","v":0},{"$f":"December!R59","v":0},{"$f":"December!S59","v":0},null,{"$f":"December!U59","v":0},{"$f":"December!V59","v":0},{"$f":"December!W59","v":0}]
[{"$f":"December!A60","v":0},{"$f":"December!B60","v":0},{"$f":"December!C60","v":0},null,{"$f":"December!E60","v":0},{"$f":"December!F60","v":0},{"$f":"December!G60","v":0},null,{"$f":"December!I60","v":0},{"$f":"December!J60","v":0},{"$f":"December!K60","v":0},null,{"$f":"December!M60","v":0},{"$f":"December!N60","v":0},{"$f":"December!O60","v":0},null,{"$f":"December!Q60","v":0},{"$f":"December!R60","v":0},{"$f":"December!S60","v":0},null,{"$f":"December!U60","v":0},{"$f":"December!V60","v":0},{"$f":"December!W60","v":0}]
[{"$f":"December!A61","v":0},{"$f":"December!B61","v":0},{"$f":"December!C61","v":0},null,{"$f":"December!E61","v":0},{"$f":"December!F61","v":0},{"$f":"December!G61","v":0},null,{"$f":"December!I61","v":0},{"$f":"December!J61","v":0},{"$f":"December!K61","v":0},null,{"$f":"December!M61","v":0},{"$f":"December!N61","v":0},{"$f":"December!O61","v":0},null,{"$f":"December!Q61","v":0},{"$f":"December!R61","v":0},{"$f":"December!S61","v":0},null,{"$f":"December!U61","v":0},{"$f":"December!V61","v":0},{"$f":"December!W61","v":0}]
[{"$f":"December!A62","v":0},{"$f":"December!B62","v":0},{"$f":"December!C62","v":0},null,{"$f":"December!E62","v":0},{"$f":"December!F62","v":0},{"$f":"December!G62","v":0},null,{"$f":"December!I62","v":0},{"$f":"December!J62","v":0},{"$f":"December!K62","v":0},null,{"$f":"December!M62","v":0},{"$f":"December!N62","v":0},{"$f":"December!O62","v":0},null,{"$f":"December!Q62","v":0},{"$f":"December!R62","v":0},{"$f":"December!S62","v":0},null,{"$f":"December!U62","v":0},{"$f":"December!V62","v":0},{"$f":"December!W62","v":0}]