{"text_format":"1","workbook":"xlsx","n_sheets":7,"sheets":["Character1","SystemInfo","Jobs","OwnedBusinesses","Businesses","Business Jobs","DV-IDENTITY-0"],"not_rendered":{"charts":0,"images":0,"macros":1,"external_links":0,"defined_names":1,"comments":1,"pivot_tables":0},"unopened":[],"bounds":{"document_bytes":16777216,"sheet_cells":100000,"rows_first":2000,"rows_last":500,"rows_between":2000,"halvings":0,"cell_chars":16384,"cell_head_chars":4096},"cells_cut":0,"cells_raw":0,"read":"whole","date_system":"1900"}

{"sheet":"Character1","index":0,"n_rows":14,"n_cols":2,"rows_kept":14,"cut":false,"hidden":false,"merged":[]}
["Profile:","Gove"]
["LEVEL",{"$f":"calcLevel(B3)","v":3}]
["Skills",38]
["Social Network",39]
["Money",305.5]
["Work Energy",16]
[]
["Forum Entries",16]
["Blog Entries",4]
["Likes"]
["Lounge Name","Lewis Gunter"]
[]
["InitialTime","2011-12-08T22:11:39"]
["TimeLastEnergy","2011-12-08T22:20:58"]

{"sheet":"SystemInfo","index":1,"n_rows":102,"n_cols":8,"rows_kept":102,"cut":false,"hidden":true,"merged":[]}
[]
[null,"Mission AutoCompletion Time","00:00:05",null,null,"Level progression","SkillToLevel","W/E Max"]
[null,"Business AutoCompletion Time","00:01:00",null,null,1,5,10]
[null,"New Energy Time",{"$f":"TIMEVALUE(\"00:05:00\")","v":3.472222222222222E-3},null,null,2,{"$f":"G3+(20*(F3/2))","v":15},{"$f":"H3+5","v":15}]
[null,"Week Length Time",{"$f":"TIMEVALUE(\"06:00:00\")","v":0.25},null,null,3,{"$f":"G4+(20*(F4/2))","v":35},{"$f":"H4+5","v":20}]
[null,null,null,null,null,4,65,25]
[null,null,null,null,null,5,105,10]
[null,null,null,null,null,6,155,15]
[null,null,null,null,null,7,215,20]
[null,null,null,null,null,8,285,25]
[null,null,null,null,null,9,365,30]
[null,null,null,null,null,10,455,35]
[null,null,null,null,null,11,555,40]
[null,null,null,null,null,12,665,45]
[null,null,null,null,null,13,785,50]
[null,null,null,null,null,14,915,55]
[null,null,null,null,null,15,1055,60]
[null,null,null,null,null,16,1205,65]
[null,null,null,null,null,17,1365,70]
[null,null,null,null,null,18,1535,75]
[null,null,null,null,null,19,1715,80]
[null,null,null,null,null,20,1905,85]
[null,null,null,null,null,21,2105,90]
[null,null,null,null,null,22,2315,95]
[null,null,null,null,null,23,2535,100]
[null,null,null,null,null,24,2765,105]
[null,null,null,null,null,25,3005,110]
[null,null,null,null,null,26,3255,115]
[null,null,null,null,null,27,3515,120]
[null,null,null,null,null,28,3785,125]
[null,null,null,null,null,29,4065,130]
[null,null,null,null,null,30,4355,135]
[null,null,null,null,null,31,4655,140]
[null,null,null,null,null,32,4965,145]
[null,null,null,null,null,33,5285,150]
[null,null,null,null,null,34,5615,155]
[null,null,null,null,null,35,5955,160]
[null,null,null,null,null,36,6305,165]
[null,null,null,null,null,37,6665,170]
[null,null,null,null,null,38,7035,175]
[null,null,null,null,null,39,7415,180]
[null,null,null,null,null,40,7805,185]
[null,null,null,null,null,41,8205,190]
[null,null,null,null,null,42,8615,195]
[null,null,null,null,null,43,9035,200]
[null,null,null,null,null,44,9465,205]
[null,null,null,null,null,45,9905,210]
[null,null,null,null,null,46,10355,215]
[null,null,null,null,null,47,10815,220]
[null,null,null,null,null,48,11285,225]
[null,null,null,null,null,49,11765,230]
[null,null,null,null,null,50,12255,235]
[null,null,null,null,null,51,12755,240]
[null,null,null,null,null,52,13265,245]
[null,null,null,null,null,53,13785,250]
[null,null,null,null,null,54,14315,255]
[null,null,null,null,null,55,14855,260]
[null,null,null,null,null,56,15405,265]
[null,null,null,null,null,57,15965,270]
[null,null,null,null,null,58,16535,275]
[null,null,null,null,null,59,17115,280]
[null,null,null,null,null,60,17705,285]
[null,null,null,null,null,61,18305,290]
[null,null,null,null,null,62,18915,295]
[null,null,null,null,null,63,19535,300]
[null,null,null,null,null,64,20165,305]
[null,null,null,null,null,65,20805,310]
[null,null,null,null,null,66,21455,315]
[null,null,null,null,null,67,{"$f":"G68+(20*(F68/2))","v":22115},{"$f":"H68+5","v":320}]
[null,null,null,null,null,68,22785,325]
[null,null,null,null,null,69,23465,330]
[null,null,null,null,null,70,24155,335]
[null,null,null,null,null,71,24855,340]
[null,null,null,null,null,72,25565,345]
[null,null,null,null,null,73,26285,350]
[null,null,null,null,null,74,27015,355]
[null,null,null,null,null,75,27755,360]
[null,null,null,null,null,76,28505,365]
[null,null,null,null,null,77,29265,370]
[null,null,null,null,null,78,30035,375]
[null,null,null,null,null,79,30815,380]
[null,null,null,null,null,80,31605,385]
[null,null,null,null,null,81,32405,390]
[null,null,null,null,null,82,33215,395]
[null,null,null,null,null,83,34035,400]
[null,null,null,null,null,84,34865,405]
[null,null,null,null,null,85,35705,410]
[null,null,null,null,null,86,36555,415]
[null,null,null,null,null,87,37415,420]
[null,null,null,null,null,88,38285,425]
[null,null,null,null,null,89,39165,430]
[null,null,null,null,null,90,40055,435]
[null,null,null,null,null,91,40955,440]
[null,null,null,null,null,92,41865,445]
[null,null,null,null,null,93,42785,450]
[null,null,null,null,null,94,43715,455]
[null,null,null,null,null,95,44655,460]
[null,null,null,null,null,96,45605,465]
[null,null,null,null,null,97,46565,470]
[null,null,null,null,null,98,47535,475]
[null,null,null,null,null,99,48515,480]
[null,null,null,null,null,100,49505,485]

{"sheet":"Jobs","index":2,"n_rows":24,"n_cols":12,"rows_kept":24,"cut":false,"hidden":true,"merged":[]}
["Jobs"]
[]
[null,null,null,"Costs",null,null,null,"Rewards"]
["ID","Name","Level","Skills","Social Network","Money","Work Energy","Skills","Social Network","Money","Work Energy","Details"]
[1,"1. Daily Job",3,-1,0,-6.1511699999999996,-3,3,5,66.827579999999998,0,"Tough day's work"]
[2,"2. Boring Work",3,-1,0,-7.3198540000000003,-4,3,4,74.248390000000001,0,"Tough day's work"]
[3,"3. Fun Job",3,-1,0,-7.5483140000000004,-3,2,3,74.506839999999997,0,"Tough day's work"]
[]
[]
[]
[]
[]
[]
[]
[]
[]
[]
["Job Name","Nouns","Adjectives"]
[null,"Work","Fun"]
[null,"Grind","Boring"]
[null,"Job","Exciting"]
[null,"Labor","Laborious"]
[null,"Building","Cool"]
[null,"Punishment","Daily"]

{"sheet":"OwnedBusinesses","index":3,"n_rows":5,"n_cols":16,"rows_kept":5,"cut":false,"hidden":true,"merged":[]}
["Businesses Build"]
[null,0,1,2,3,4,5,6,7,8,9,10,11,12,13,14]
[null,null,null,null,null,"Stats"]
[null,"Name","Type","Purchase $","Skill Required","Customers","Capacity","Base Price","Price","Margin","Profit","Popularity","Net Income","TimeStamp","Week in Business","Details"]
[101,"Tastey Tart Drink","Lemonade Stand",500,5,20,80,0.5,null,0.75,0.38,0.1,7.5,"2011-12-08T22:25:34",0]

{"sheet":"Businesses","index":4,"n_rows":10,"n_cols":13,"rows_kept":10,"cut":false,"hidden":true,"merged":[]}
["Businesses Build"]
[null,0,1,2,3,4,5,6,7.0000000000000007E-2,8,9,0.1]
[null,null,null,null,"Stats"]
[null,"Name","Purchase $","Skill Required","Customers","Capacity","Base Price","Price","Margin","Profit","Popularity","Net Income","Details"]
[101,"Lemonade Stand",500,5,20,80,0.5,0.5,0.75,{"$f":"I5*H5","v":0.375},0.1,{"$f":"J5*E5","v":7.5}]
[102,"Lawn Mowing Service",{"$f":"C5*3","v":1500},{"$f":"D5*3","v":15},5,15,20,20,0.75,15,0.15,75]
[104,"IT Service Center",{"$f":"C6*3","v":4500},{"$f":"D6*3","v":45},4,30,150,150,0.2,30,0.2,120]
[103,"Video Production",13500,135,1,8,1000,1000,0.4,400,0.4,400]
[105,"Small Restaurant",40500,405,20,250,25,25,0.3,7.5,0.6,150]
[106,"Small Amusement Park",121500,1215,100,1500,20,20,0.15,3,0.85,300]

{"sheet":"Business Jobs","index":5,"n_rows":10,"n_cols":14,"rows_kept":10,"cut":false,"hidden":true,"merged":[]}
["Businesses"]
[]
[null,null,null,"Costs",null,null,null,null,"Rewards"]
[null,null,"Name","Customers","Price","Popularity","Work Energy","bldg Repair","Customers","Price","Popularity","Work Energy","bldg Repair","Details"]
[101,"Lemonade Stand"]
[null,1,"Franchise",0,0,-20,0,-1,10,1,1,0,1,"License out franchising"]
[null,null,"Increase Prices"]
[null,null,"Repairs"]
[null,null,"Advertise"]
[null,null,"Expand building"]

{"sheet":"DV-IDENTITY-0","index":6,"n_rows":4,"n_cols":256,"rows_kept":4,"cut":false,"hidden":true,"merged":[]}
[{"$f":"IF(#REF!,\"AAAAAD6s/wA=\",0)","v":{"$error":"#REF!"}},{"$f":"AND(#REF!,\"AAAAAD6s/wE=\")","v":{"$error":"#REF!"}},{"$f":"AND(#REF!,\"AAAAAD6s/wI=\")","v":{"$error":"#REF!"}},{"$f":"AND(#REF!,\"AAAAAD6s/wM=\")","v":{"$error":"#REF!"}},{"$f":"AND(#REF!,\"AAAAAD6s/wQ=\")","v":{"$error":"#REF!"}},{"$f":"AND(#REF!,\"AAAAAD6s/wU=\")","v":{"$error":"#REF!"}},{"$f":"AND(#REF!,\"AAAAAD6s/wY=\")","v":{"$error":"#REF!"}},{"$f":"AND(#REF!,\"AAAAAD6s/wc=\")","v":{"$error":"#REF!"}},{"$f":"AND(#REF!,\"AAAAAD6s/wg=\")","v":{"$error":"#REF!"}},{"$f":"AND(#REF!,\"AAAAAD6s/wk=\")","v":{"$error":"#REF!"}},{"$f":"AND(#REF!,\"AAAAAD6s/wo=\")","v":{"$error":"#REF!"}},{"$f":"AND(#REF!,\"AAAAAD6s/ws=\")","v":{"$error":"#REF!"}},{"$f":"AND(#REF!,\"AAAAAD6s/ww=\")","v":{"$error":"#REF!"}},{"$f":"IF(#REF!,\"AAAAAD6s/w0=\",0)","v":{"$error":"#REF!"}},{"$f":"AND(#REF!,\"AAAAAD6s/w4=\")","v":{"$error":"#REF!"}},{"$f":"AND(#REF!,\"AAAAAD6s/w8=\")","v":{"$error":"#REF!"}},{"$f":"AND(#REF!,\"AAAAAD6s/xA=\")","v":{"$error":"#REF!"}},{"$f":"AND(#REF!,\"AAAAAD6s/xE=\")","v":{"$error":"#REF!"}},{"$f":"AND(#REF!,\"AAAAAD6s/xI=\")","v":{"$error":"#REF!"}},{"$f":"AND(#REF!,\"AAAAAD6s/xM=\")","v":{"$error":"#REF!"}},{"$f":"AND(#REF!,\"AAAAAD6s/xQ=\")","v":{"$error":"#REF!"}},{"$f":"AND(#REF!,\"AAAAAD6s/xU=\")","v":{"$error":"#REF!"}},{"$f":"AND(#REF!,\"AAAAAD6s/xY=\")","v":{"$error":"#REF!"}},{"$f":"AND(#REF!,\"AAAAAD6s/xc=\")","v":{"$error":"#REF!"}},{"$f":"AND(#REF!,\"AAAAAD6s/xg=\")","v":{"$error":"#REF!"}},{"$f":"AND(#REF!,\"AAAAAD6s/xk=\")","v":{"$error":"#REF!"}},{"$f":"IF(#REF!,\"AAAAAD6s/xo=\",0)","v":{"$error":"#REF!"}},{"$f":"AND(#REF!,\"AAAAAD6s/xs=\")","v":{"$error":"#REF!"}},{"$f":"AND(#REF!,\"AAAAAD6s/xw=\")","v":{"$error":"#REF!"}},{"$f":"AND(#REF!,\"AAAAAD6s/x0=\")","v":{"$error":"#REF!"}},{"$f":"AND(#REF!,\"AAAAAD6s/x4=\")","v":{"$error":"#REF!"}},{"$f":"AND(#REF!,\"AAAAAD6s/x8=\")","v":{"$error":"#REF!"}},{"$f":"AND(#REF!,\"AAAAAD6s/yA=\")","v":{"$error":"#REF!"}},{"$f":"AND(#REF!,\"AAAAAD6s/yE=\")","v":{"$error":"#REF!"}},{"$f":"AND(#REF!,\"AAAAAD6s/yI=\")","v":{"$error":"#REF!"}},{"$f":"AND(#REF!,\"AAAAAD6s/yM=\")","v":{"$error":"#REF!"}},{"$f":"AND(#REF!,\"AAAAAD6s/yQ=\")","v":{"$error":"#REF!"}},{"$f":"AND(#REF!,\"AAAAAD6s/yU=\")","v":{"$error":"#REF!"}},{"$f":"AND(#REF!,\"AAAAAD6s/yY=\")","v":{"$error":"#REF!"}},{"$f":"IF(#REF!,\"AAAAAD6s/yc=\",0)","v":{"$error":"#REF!"}},{"$f":"AND(#REF!,\"AAAAAD6s/yg=\")","v":{"$error":"#REF!"}},{"$f":"AND(#REF!,\"AAAAAD6s/yk=\")","v":{"$error":"#REF!"}},{"$f":"AND(#REF!,\"AAAAAD6s/yo=\")","v":{"$error":"#REF!"}},{"$f":"AND(#REF!,\"AAAAAD6s/ys=\")","v":{"$error":"#REF!"}},{"$f":"AND(#REF!,\"AAAAAD6s/yw=\")","v":{"$error":"#REF!"}},{"$f":"AND(#REF!,\"AAAAAD6s/y0=\")","v":{"$error":"#REF!"}},{"$f":"AND(#REF!,\"AAAAAD6s/y4=\")","v":{"$error":"#REF!"}},{"$f":"AND(#REF!,\"AAAAAD6s/y8=\")","v":{"$error":"#REF!"}},{"$f":"AND(#REF!,\"AAAAAD6s/zA=\")","v":{"$error":"#REF!"}},{"$f":"AND(#REF!,\"AAAAAD6s/zE=\")","v":{"$error":"#REF!"}},{"$f":"AND(#REF!,\"AAAAAD6s/zI=\")","v":{"$error":"#REF!"}},{"$f":"AND(#REF!,\"AAAAAD6s/zM=\")","v":{"$error":"#REF!"}},{"$f":"IF(#REF!,\"AAAAAD6s/zQ=\",0)","v":{"$error":"#REF!"}},{"$f":"AND(#REF!,\"AAAAAD6s/zU=\")","v":{"$error":"#REF!"}},{"$f":"AND(#REF!,\"AAAAAD6s/zY=\")","v":{"$error":"#REF!"}},{"$f":"AND(#REF!,\"AAAAAD6s/zc=\")","v":{"$error":"#REF!"}},{"$f":"AND(#REF!,\"AAAAAD6s/zg=\")","v":{"$error":"#REF!"}},{"$f":"AND(#REF!,\"AAAAAD6s/zk=\")","v":{"$error":"#REF!"}},{"$f":"AND(#REF!,\"AAAAAD6s/zo=\")","v":{"$error":"#REF!"}},{"$f":"AND(#REF!,\"AAAAAD6s/zs=\")","v":{"$error":"#REF!"}},{"$f":"AND(#REF!,\"AAAAAD6s/zw=\")","v":{"$error":"#REF!"}},{"$f":"AND(#REF!,\"AAAAAD6s/z0=\")","v":{"$error":"#REF!"}},{"$f":"AND(#REF!,\"AAAAAD6s/z4=\")","v":{"$error":"#REF!"}},{"$f":"AND(#REF!,\"AAAAAD6s/z8=\")","v":{"$error":"#REF!"}},{"$f":"AND(#REF!,\"AAAAAD6s/0A=\")","v":{"$error":"#REF!"}},{"$f":"IF(#REF!,\"AAAAAD6s/0E=\",0)","v":{"$error":"#REF!"}},{"$f":"AND(#REF!,\"AAAAAD6s/0I=\")","v":{"$error":"#REF!"}},{"$f":"AND(#REF!,\"AAAAAD6s/0M=\")","v":{"$error":"#REF!"}},{"$f":"AND(#REF!,\"AAAAAD6s/0Q=\")","v":{"$error":"#REF!"}},{"$f":"AND(#REF!,\"AAAAAD6s/0U=\")","v":{"$error":"#REF!"}},{"$f":"AND(#REF!,\"AAAAAD6s/0Y=\")","v":{"$error":"#REF!"}},{"$f":"AND(#REF!,\"AAAAAD6s/0c=\")","v":{"$error":"#REF!"}},{"$f":"AND(#REF!,\"AAAAAD6s/0g=\")","v":{"$error":"#REF!"}},{"$f":"AND(#REF!,\"AAAAAD6s/0k=\")","v":{"$error":"#REF!"}},{"$f":"AND(#REF!,\"AAAAAD6s/0o=\")","v":{"$error":"#REF!"}},{"$f":"AND(#REF!,\"AAAAAD6s/0s=\")","v":{"$error":"#REF!"}},{"$f":"AND(#REF!,\"AAAAAD6s/0w=\")","v":{"$error":"#REF!"}},{"$f":"AND(#REF!,\"AAAAAD6s/00=\")","v":{"$error":"#REF!"}},{"$f":"IF(#REF!,\"AAAAAD6s/04=\",0)","v":{"$error":"#REF!"}},{"$f":"AND(#REF!,\"AAAAAD6s/08=\")","v":{"$error":"#REF!"}},{"$f":"AND(#REF!,\"AAAAAD6s/1A=\")","v":{"$error":"#REF!"}},{"$f":"AND(#REF!,\"AAAAAD6s/1E=\")","v":{"$error":"#REF!"}},{"$f":"AND(#REF!,\"AAAAAD6s/1I=\")","v":{"$error":"#REF!"}},{"$f":"AND(#REF!,\"AAAAAD6s/1M=\")","v":{"$error":"#REF!"}},{"$f":"AND(#REF!,\"AAAAAD6s/1Q=\")","v":{"$error":"#REF!"}},{"$f":"AND(#REF!,\"AAAAAD6s/1U=\")","v":{"$error":"#REF!"}},{"$f":"AND(#REF!,\"AAAAAD6s/1Y=\")","v":{"$error":"#REF!"}},{"$f":"AND(#REF!,\"AAAAAD6s/1c=\")","v":{"$error":"#REF!"}},{"$f":"AND(#REF!,\"AAAAAD6s/1g=\")","v":{"$error":"#REF!"}},{"$f":"AND(#REF!,\"AAAAAD6s/1k=\")","v":{"$error":"#REF!"}},{"$f":"AND(#REF!,\"AAAAAD6s/1o=\")","v":{"$error":"#REF!"}},{"$f":"IF(#REF!,\"AAAAAD6s/1s=\",0)","v":{"$error":"#REF!"}},{"$f":"AND(#REF!,\"AAAAAD6s/1w=\")","v":{"$error":"#REF!"}},{"$f":"AND(#REF!,\"AAAAAD6s/10=\")","v":{"$error":"#REF!"}},{"$f":"AND(#REF!,\"AAAAAD6s/14=\")","v":{"$error":"#REF!"}},{"$f":"AND(#REF!,\"AAAAAD6s/18=\")","v":{"$error":"#REF!"}},{"$f":"AND(#REF!,\"AAAAAD6s/2A=\")","v":{"$error":"#REF!"}},{"$f":"AND(#REF!,\"AAAAAD6s/2E=\")","v":{"$error":"#REF!"}},{"$f":"AND(#REF!,\"AAAAAD6s/2I=\")","v":{"$error":"#REF!"}},{"$f":"AND(#REF!,\"AAAAAD6s/2M=\")","v":{"$error":"#REF!"}},{"$f":"AND(#REF!,\"AAAAAD6s/2Q=\")","v":{"$error":"#REF!"}},{"$f":"AND(#REF!,\"AAAAAD6s/2U=\")","v":{"$error":"#REF!"}},{"$f":"AND(#REF!,\"AAAAAD6s/2Y=\")","v":{"$error":"#REF!"}},{"$f":"AND(#REF!,\"AAAAAD6s/2c=\")","v":{"$error":"#REF!"}},{"$f":"IF(#REF!,\"AAAAAD6s/2g=\",0)","v":{"$error":"#REF!"}},{"$f":"AND(#REF!,\"AAAAAD6s/2k=\")","v":{"$error":"#REF!"}},{"$f":"AND(#REF!,\"AAAAAD6s/2o=\")","v":{"$error":"#REF!"}},{"$f":"AND(#REF!,\"AAAAAD6s/2s=\")","v":{"$error":"#REF!"}},{"$f":"AND(#REF!,\"AAAAAD6s/2w=\")","v":{"$error":"#REF!"}},{"$f":"AND(#REF!,\"AAAAAD6s/20=\")","v":{"$error":"#REF!"}},{"$f":"AND(#REF!,\"AAAAAD6s/24=\")","v":{"$error":"#REF!"}},{"$f":"AND(#REF!,\"AAAAAD6s/28=\")","v":{"$error":"#REF!"}},{"$f":"AND(#REF!,\"AAAAAD6s/3A=\")","v":{"$error":"#REF!"}},{"$f":"AND(#REF!,\"AAAAAD6s/3E=\")","v":{"$error":"#REF!"}},{"$f":"AND(#REF!,\"AAAAAD6s/3I=\")","v":{"$error":"#REF!"}},{"$f":"AND(#REF!,\"AAAAAD6s/3M=\")","v":{"$error":"#REF!"}},{"$f":"AND(#REF!,\"AAAAAD6s/3Q=\")","v":{"$error":"#REF!"}},{"$f":"IF(#REF!,\"AAAAAD6s/3U=\",0)","v":{"$error":"#REF!"}},{"$f":"AND(#REF!,\"AAAAAD6s/3Y=\")","v":{"$error":"#REF!"}},{"$f":"AND(#REF!,\"AAAAAD6s/3c=\")","v":{"$error":"#REF!"}},{"$f":"AND(#REF!,\"AAAAAD6s/3g=\")","v":{"$error":"#REF!"}},{"$f":"AND(#REF!,\"AAAAAD6s/3k=\")","v":{"$error":"#REF!"}},{"$f":"AND(#REF!,\"AAAAAD6s/3o=\")","v":{"$error":"#REF!"}},{"$f":"AND(#REF!,\"AAAAAD6s/3s=\")","v":{"$error":"#REF!"}},{"$f":"AND(#REF!,\"AAAAAD6s/3w=\")","v":{"$error":"#REF!"}},{"$f":"AND(#REF!,\"AAAAAD6s/30=\")","v":{"$error":"#REF!"}},{"$f":"AND(#REF!,\"AAAAAD6s/34=\")","v":{"$error":"#REF!"}},{"$f":"AND(#REF!,\"AAAAAD6s/38=\")","v":{"$error":"#REF!"}},{"$f":"AND(#REF!,\"AAAAAD6s/4A=\")","v":{"$error":"#REF!"}},{"$f":"AND(#REF!,\"AAAAAD6s/4E=\")","v":{"$error":"#REF!"}},{"$f":"IF(#REF!,\"AAAAAD6s/4I=\",0)","v":{"$error":"#REF!"}},{"$f":"AND(#REF!,\"AAAAAD6s/4M=\")","v":{"$error":"#REF!"}},{"$f":"AND(#REF!,\"AAAAAD6s/4Q=\")","v":{"$error":"#REF!"}},{"$f":"AND(#REF!,\"AAAAAD6s/4U=\")","v":{"$error":"#REF!"}},{"$f":"AND(#REF!,\"AAAAAD6s/4Y=\")","v":{"$error":"#REF!"}},{"$f":"AND(#REF!,\"AAAAAD6s/4c=\")","v":{"$error":"#REF!"}},{"$f":"AND(#REF!,\"AAAAAD6s/4g=\")","v":{"$error":"#REF!"}},{"$f":"AND(#REF!,\"AAAAAD6s/4k=\")","v":{"$error":"#REF!"}},{"$f":"AND(#REF!,\"AAAAAD6s/4o=\")","v":{"$error":"#REF!"}},{"$f":"AND(#REF!,\"AAAAAD6s/4s=\")","v":{"$error":"#REF!"}},{"$f":"AND(#REF!,\"AAAAAD6s/4w=\")","v":{"$error":"#REF!"}},{"$f":"AND(#REF!,\"AAAAAD6s/40=\")","v":{"$error":"#REF!"}},{"$f":"AND(#REF!,\"AAAAAD6s/44=\")","v":{"$error":"#REF!"}},{"$f":"IF(#REF!,\"AAAAAD6s/48=\",0)","v":{"$error":"#REF!"}},{"$f":"AND(#REF!,\"AAAAAD6s/5A=\")","v":{"$error":"#REF!"}},{"$f":"AND(#REF!,\"AAAAAD6s/5E=\")","v":{"$error":"#REF!"}},{"$f":"AND(#REF!,\"AAAAAD6s/5I=\")","v":{"$error":"#REF!"}},{"$f":"AND(#REF!,\"AAAAAD6s/5M=\")","v":{"$error":"#REF!"}},{"$f":"AND(#REF!,\"AAAAAD6s/5Q=\")","v":{"$error":"#REF!"}},{"$f":"AND(#REF!,\"AAAAAD6s/5U=\")","v":{"$error":"#REF!"}},{"$f":"AND(#REF!,\"AAAAAD6s/5Y=\")","v":{"$error":"#REF!"}},{"$f":"AND(#REF!,\"AAAAAD6s/5c=\")","v":{"$error":"#REF!"}},{"$f":"AND(#REF!,\"AAAAAD6s/5g=\")","v":{"$error":"#REF!"}},{"$f":"AND(#REF!,\"AAAAAD6s/5k=\")","v":{"$error":"#REF!"}},{"$f":"AND(#REF!,\"AAAAAD6s/5o=\")","v":{"$error":"#REF!"}},{"$f":"AND(#REF!,\"AAAAAD6s/5s=\")","v":{"$error":"#REF!"}},{"$f":"IF(#REF!,\"AAAAAD6s/5w=\",0)","v":{"$error":"#REF!"}},{"$f":"IF(#REF!,\"AAAAAD6s/50=\",0)","v":{"$error":"#REF!"}},{"$f":"IF(#REF!,\"AAAAAD6s/54=\",0)","v":{"$error":"#REF!"}},{"$f":"IF(#REF!,\"AAAAAD6s/58=\",0)","v":{"$error":"#REF!"}},{"$f":"IF(#REF!,\"AAAAAD6s/6A=\",0)","v":{"$error":"#REF!"}},{"$f":"IF(#REF!,\"AAAAAD6s/6E=\",0)","v":{"$error":"#REF!"}},{"$f":"IF(#REF!,\"AAAAAD6s/6I=\",0)","v":{"$error":"#REF!"}},{"$f":"IF(#REF!,\"AAAAAD6s/6M=\",0)","v":{"$error":"#REF!"}},{"$f":"IF(#REF!,\"AAAAAD6s/6Q=\",0)","v":{"$error":"#REF!"}},{"$f":"IF(#REF!,\"AAAAAD6s/6U=\",0)","v":{"$error":"#REF!"}},{"$f":"IF(#REF!,\"AAAAAD6s/6Y=\",0)","v":{"$error":"#REF!"}},{"$f":"IF(#REF!,\"AAAAAD6s/6c=\",0)","v":{"$error":"#REF!"}},{"$f":"IF(#REF!,\"AAAAAD6s/6g=\",0)","v":{"$error":"#REF!"}},{"$f":"IF(SystemInfo!1:1,\"AAAAAD6s/6k=\",0)","v":0},{"$f":"AND(SystemInfo!B1,\"AAAAAD6s/6o=\")","v":{"$error":"#VALUE!"}},{"$f":"AND(SystemInfo!C1,\"AAAAAD6s/6s=\")","v":{"$error":"#VALUE!"}},{"$f":"AND(SystemInfo!D1,\"AAAAAD6s/6w=\")","v":{"$error":"#VALUE!"}},{"$f":"AND(SystemInfo!E1,\"AAAAAD6s/60=\")","v":{"$error":"#VALUE!"}},{"$f":"AND(SystemInfo!F1,\"AAAAAD6s/64=\")","v":{"$error":"#VALUE!"}},{"$f":"AND(SystemInfo!G1,\"AAAAAD6s/68=\")","v":{"$error":"#VALUE!"}},{"$f":"IF(SystemInfo!2:2,\"AAAAAD6s/7A=\",0)","v":0},{"$f":"AND(SystemInfo!B2,\"AAAAAD6s/7E=\")","v":{"$error":"#VALUE!"}},{"$f":"AND(SystemInfo!C2,\"AAAAAD6s/7I=\")","v":{"$error":"#VALUE!"}},{"$f":"AND(SystemInfo!D2,\"AAAAAD6s/7M=\")","v":{"$error":"#VALUE!"}},{"$f":"AND(SystemInfo!E2,\"AAAAAD6s/7Q=\")","v":{"$error":"#VALUE!"}},{"$f":"AND(SystemInfo!F2,\"AAAAAD6s/7U=\")","v":{"$error":"#VALUE!"}},{"$f":"AND(SystemInfo!G2,\"AAAAAD6s/7Y=\")","v":{"$error":"#VALUE!"}},{"$f":"IF(SystemInfo!3:3,\"AAAAAD6s/7c=\",0)","v":0},{"$f":"AND(SystemInfo!B3,\"AAAAAD6s/7g=\")","v":{"$error":"#VALUE!"}},{"$f":"AND(SystemInfo!C3,\"AAAAAD6s/7k=\")","v":{"$error":"#VALUE!"}},{"$f":"AND(SystemInfo!D3,\"AAAAAD6s/7o=\")","v":{"$error":"#VALUE!"}},{"$f":"AND(SystemInfo!E3,\"AAAAAD6s/7s=\")","v":{"$error":"#VALUE!"}},{"$f":"AND(SystemInfo!F3,\"AAAAAD6s/7w=\")","v":{"$error":"#VALUE!"}},{"$f":"AND(SystemInfo!G3,\"AAAAAD6s/70=\")","v":{"$error":"#VALUE!"}},{"$f":"IF(SystemInfo!4:4,\"AAAAAD6s/74=\",0)","v":0},{"$f":"AND(SystemInfo!B4,\"AAAAAD6s/78=\")","v":{"$error":"#VALUE!"}},{"$f":"AND(SystemInfo!C4,\"AAAAAD6s/8A=\")","v":{"$error":"#VALUE!"}},{"$f":"AND(SystemInfo!D4,\"AAAAAD6s/8E=\")","v":{"$error":"#VALUE!"}},{"$f":"AND(SystemInfo!E4,\"AAAAAD6s/8I=\")","v":{"$error":"#VALUE!"}},{"$f":"AND(SystemInfo!F4,\"AAAAAD6s/8M=\")","v":{"$error":"#VALUE!"}},{"$f":"AND(SystemInfo!G4,\"AAAAAD6s/8Q=\")","v":{"$error":"#VALUE!"}},{"$f":"IF(SystemInfo!5:5,\"AAAAAD6s/8U=\",0)","v":0},{"$f":"AND(SystemInfo!B5,\"AAAAAD6s/8Y=\")","v":{"$error":"#VALUE!"}},{"$f":"AND(SystemInfo!C5,\"AAAAAD6s/8c=\")","v":{"$error":"#VALUE!"}},{"$f":"AND(SystemInfo!D5,\"AAAAAD6s/8g=\")","v":{"$error":"#VALUE!"}},{"$f":"AND(SystemInfo!E5,\"AAAAAD6s/8k=\")","v":{"$error":"#VALUE!"}},{"$f":"AND(SystemInfo!F5,\"AAAAAD6s/8o=\")","v":{"$error":"#VALUE!"}},{"$f":"AND(SystemInfo!G5,\"AAAAAD6s/8s=\")","v":{"$error":"#VALUE!"}},{"$f":"IF(SystemInfo!6:6,\"AAAAAD6s/8w=\",0)","v":0},{"$f":"AND(SystemInfo!B6,\"AAAAAD6s/80=\")","v":{"$error":"#VALUE!"}},{"$f":"AND(SystemInfo!C6,\"AAAAAD6s/84=\")","v":{"$error":"#VALUE!"}},{"$f":"AND(SystemInfo!D6,\"AAAAAD6s/88=\")","v":{"$error":"#VALUE!"}},{"$f":"AND(SystemInfo!E6,\"AAAAAD6s/9A=\")","v":{"$error":"#VALUE!"}},{"$f":"AND(SystemInfo!F6,\"AAAAAD6s/9E=\")","v":{"$error":"#VALUE!"}},{"$f":"AND(SystemInfo!G6,\"AAAAAD6s/9I=\")","v":{"$error":"#VALUE!"}},{"$f":"IF(SystemInfo!7:7,\"AAAAAD6s/9M=\",0)","v":0},{"$f":"AND(SystemInfo!B7,\"AAAAAD6s/9Q=\")","v":{"$error":"#VALUE!"}},{"$f":"AND(SystemInfo!C7,\"AAAAAD6s/9U=\")","v":{"$error":"#VALUE!"}},{"$f":"AND(SystemInfo!D7,\"AAAAAD6s/9Y=\")","v":{"$error":"#VALUE!"}},{"$f":"AND(SystemInfo!E7,\"AAAAAD6s/9c=\")","v":{"$error":"#VALUE!"}},{"$f":"AND(SystemInfo!F7,\"AAAAAD6s/9g=\")","v":{"$error":"#VALUE!"}},{"$f":"AND(SystemInfo!G7,\"AAAAAD6s/9k=\")","v":{"$error":"#VALUE!"}},{"$f":"IF(SystemInfo!8:8,\"AAAAAD6s/9o=\",0)","v":0},{"$f":"AND(SystemInfo!B8,\"AAAAAD6s/9s=\")","v":{"$error":"#VALUE!"}},{"$f":"AND(SystemInfo!C8,\"AAAAAD6s/9w=\")","v":{"$error":"#VALUE!"}},{"$f":"AND(SystemInfo!D8,\"AAAAAD6s/90=\")","v":{"$error":"#VALUE!"}},{"$f":"AND(SystemInfo!E8,\"AAAAAD6s/94=\")","v":{"$error":"#VALUE!"}},{"$f":"AND(SystemInfo!F8,\"AAAAAD6s/98=\")","v":{"$error":"#VALUE!"}},{"$f":"AND(SystemInfo!G8,\"AAAAAD6s/+A=\")","v":{"$error":"#VALUE!"}},{"$f":"IF(SystemInfo!9:9,\"AAAAAD6s/+E=\",0)","v":0},{"$f":"AND(SystemInfo!B9,\"AAAAAD6s/+I=\")","v":{"$error":"#VALUE!"}},{"$f":"AND(SystemInfo!C9,\"AAAAAD6s/+M=\")","v":{"$error":"#VALUE!"}},{"$f":"AND(SystemInfo!D9,\"AAAAAD6s/+Q=\")","v":{"$error":"#VALUE!"}},{"$f":"AND(SystemInfo!E9,\"AAAAAD6s/+U=\")","v":{"$error":"#VALUE!"}},{"$f":"AND(SystemInfo!F9,\"AAAAAD6s/+Y=\")","v":{"$error":"#VALUE!"}},{"$f":"AND(SystemInfo!G9,\"AAAAAD6s/+c=\")","v":{"$error":"#VALUE!"}},{"$f":"IF(SystemInfo!10:10,\"AAAAAD6s/+g=\",0)","v":0},{"$f":"AND(SystemInfo!B10,\"AAAAAD6s/+k=\")","v":{"$error":"#VALUE!"}},{"$f":"AND(SystemInfo!C10,\"AAAAAD6s/+o=\")","v":{"$error":"#VALUE!"}},{"$f":"AND(SystemInfo!D10,\"AAAAAD6s/+s=\")","v":{"$error":"#VALUE!"}},{"$f":"AND(SystemInfo!E10,\"AAAAAD6s/+w=\")","v":{"$error":"#VALUE!"}},{"$f":"AND(SystemInfo!F10,\"AAAAAD6s/+0=\")","v":{"$error":"#VALUE!"}},{"$f":"AND(SystemInfo!G10,\"AAAAAD6s/+4=\")","v":{"$error":"#VALUE!"}},{"$f":"IF(SystemInfo!11:11,\"AAAAAD6s/+8=\",0)","v":0},{"$f":"AND(SystemInfo!B11,\"AAAAAD6s//A=\")","v":{"$error":"#VALUE!"}},{"$f":"AND(SystemInfo!C11,\"AAAAAD6s//E=\")","v":{"$error":"#VALUE!"}},{"$f":"AND(SystemInfo!D11,\"AAAAAD6s//I=\")","v":{"$error":"#VALUE!"}},{"$f":"AND(SystemInfo!E11,\"AAAAAD6s//M=\")","v":{"$error":"#VALUE!"}},{"$f":"AND(SystemInfo!F11,\"AAAAAD6s//Q=\")","v":{"$error":"#VALUE!"}},{"$f":"AND(SystemInfo!G11,\"AAAAAD6s//U=\")","v":{"$error":"#VALUE!"}},{"$f":"IF(SystemInfo!12:12,\"AAAAAD6s//Y=\",0)","v":0},{"$f":"AND(SystemInfo!B12,\"AAAAAD6s//c=\")","v":{"$error":"#VALUE!"}},{"$f":"AND(SystemInfo!C12,\"AAAAAD6s//g=\")","v":{"$error":"#VALUE!"}},{"$f":"AND(SystemInfo!D12,\"AAAAAD6s//k=\")","v":{"$error":"#VALUE!"}},{"$f":"AND(SystemInfo!E12,\"AAAAAD6s//o=\")","v":{"$error":"#VALUE!"}},{"$f":"AND(SystemInfo!F12,\"AAAAAD6s//s=\")","v":{"$error":"#VALUE!"}},{"$f":"AND(SystemInfo!G12,\"AAAAAD6s//w=\")","v":{"$error":"#VALUE!"}},{"$f":"IF(SystemInfo!13:13,\"AAAAAD6s//0=\",0)","v":0},{"$f":"AND(SystemInfo!B13,\"AAAAAD6s//4=\")","v":{"$error":"#VALUE!"}},{"$f":"AND(SystemInfo!C13,\"AAAAAD6s//8=\")","v":{"$error":"#VALUE!"}}]
[{"$f":"AND(SystemInfo!D13,\"AAAAAF/v6QA=\")","v":{"$error":"#VALUE!"}},{"$f":"AND(SystemInfo!E13,\"AAAAAF/v6QE=\")","v":{"$error":"#VALUE!"}},{"$f":"AND(SystemInfo!F13,\"AAAAAF/v6QI=\")","v":{"$error":"#VALUE!"}},{"$f":"AND(SystemInfo!G13,\"AAAAAF/v6QM=\")","v":{"$error":"#VALUE!"}},{"$f":"IF(SystemInfo!14:14,\"AAAAAF/v6QQ=\",0)","v":0},{"$f":"AND(SystemInfo!B14,\"AAAAAF/v6QU=\")","v":{"$error":"#VALUE!"}},{"$f":"AND(SystemInfo!C14,\"AAAAAF/v6QY=\")","v":{"$error":"#VALUE!"}},{"$f":"AND(SystemInfo!D14,\"AAAAAF/v6Qc=\")","v":{"$error":"#VALUE!"}},{"$f":"AND(SystemInfo!E14,\"AAAAAF/v6Qg=\")","v":{"$error":"#VALUE!"}},{"$f":"AND(SystemInfo!F14,\"AAAAAF/v6Qk=\")","v":{"$error":"#VALUE!"}},{"$f":"AND(SystemInfo!G14,\"AAAAAF/v6Qo=\")","v":{"$error":"#VALUE!"}},{"$f":"IF(SystemInfo!15:15,\"AAAAAF/v6Qs=\",0)","v":0},{"$f":"AND(SystemInfo!B15,\"AAAAAF/v6Qw=\")","v":{"$error":"#VALUE!"}},{"$f":"AND(SystemInfo!C15,\"AAAAAF/v6Q0=\")","v":{"$error":"#VALUE!"}},{"$f":"AND(SystemInfo!D15,\"AAAAAF/v6Q4=\")","v":{"$error":"#VALUE!"}},{"$f":"AND(SystemInfo!E15,\"AAAAAF/v6Q8=\")","v":{"$error":"#VALUE!"}},{"$f":"AND(SystemInfo!F15,\"AAAAAF/v6RA=\")","v":{"$error":"#VALUE!"}},{"$f":"AND(SystemInfo!G15,\"AAAAAF/v6RE=\")","v":{"$error":"#VALUE!"}},{"$f":"IF(SystemInfo!16:16,\"AAAAAF/v6RI=\",0)","v":0},{"$f":"AND(SystemInfo!B16,\"AAAAAF/v6RM=\")","v":{"$error":"#VALUE!"}},{"$f":"AND(SystemInfo!C16,\"AAAAAF/v6RQ=\")","v":{"$error":"#VALUE!"}},{"$f":"AND(SystemInfo!D16,\"AAAAAF/v6RU=\")","v":{"$error":"#VALUE!"}},{"$f":"AND(SystemInfo!E16,\"AAAAAF/v6RY=\")","v":{"$error":"#VALUE!"}},{"$f":"AND(SystemInfo!F16,\"AAAAAF/v6Rc=\")","v":{"$error":"#VALUE!"}},{"$f":"AND(SystemInfo!G16,\"AAAAAF/v6Rg=\")","v":{"$error":"#VALUE!"}},{"$f":"IF(SystemInfo!17:17,\"AAAAAF/v6Rk=\",0)","v":0},{"$f":"AND(SystemInfo!B17,\"AAAAAF/v6Ro=\")","v":{"$error":"#VALUE!"}},{"$f":"AND(SystemInfo!C17,\"AAAAAF/v6Rs=\")","v":{"$error":"#VALUE!"}},{"$f":"AND(SystemInfo!D17,\"AAAAAF/v6Rw=\")","v":{"$error":"#VALUE!"}},{"$f":"AND(SystemInfo!E17,\"AAAAAF/v6R0=\")","v":{"$error":"#VALUE!"}},{"$f":"AND(SystemInfo!F17,\"AAAAAF/v6R4=\")","v":{"$error":"#VALUE!"}},{"$f":"AND(SystemInfo!G17,\"AAAAAF/v6R8=\")","v":{"$error":"#VALUE!"}},{"$f":"IF(SystemInfo!18:18,\"AAAAAF/v6SA=\",0)","v":0},{"$f":"AND(SystemInfo!B18,\"AAAAAF/v6SE=\")","v":{"$error":"#VALUE!"}},{"$f":"AND(SystemInfo!C18,\"AAAAAF/v6SI=\")","v":{"$error":"#VALUE!"}},{"$f":"AND(SystemInfo!D18,\"AAAAAF/v6SM=\")","v":{"$error":"#VALUE!"}},{"$f":"AND(SystemInfo!E18,\"AAAAAF/v6SQ=\")","v":{"$error":"#VALUE!"}},{"$f":"AND(SystemInfo!F18,\"AAAAAF/v6SU=\")","v":{"$error":"#VALUE!"}},{"$f":"AND(SystemInfo!G18,\"AAAAAF/v6SY=\")","v":{"$error":"#VALUE!"}},{"$f":"IF(SystemInfo!19:19,\"AAAAAF/v6Sc=\",0)","v":0},{"$f":"AND(SystemInfo!B19,\"AAAAAF/v6Sg=\")","v":{"$error":"#VALUE!"}},{"$f":"AND(SystemInfo!C19,\"AAAAAF/v6Sk=\")","v":{"$error":"#VALUE!"}},{"$f":"AND(SystemInfo!D19,\"AAAAAF/v6So=\")","v":{"$error":"#VALUE!"}},{"$f":"AND(SystemInfo!E19,\"AAAAAF/v6Ss=\")","v":{"$error":"#VALUE!"}},{"$f":"AND(SystemInfo!F19,\"AAAAAF/v6Sw=\")","v":{"$error":"#VALUE!"}},{"$f":"AND(SystemInfo!G19,\"AAAAAF/v6S0=\")","v":{"$error":"#VALUE!"}},{"$f":"IF(SystemInfo!20:20,\"AAAAAF/v6S4=\",0)","v":0},{"$f":"AND(SystemInfo!B20,\"AAAAAF/v6S8=\")","v":{"$error":"#VALUE!"}},{"$f":"AND(SystemInfo!C20,\"AAAAAF/v6TA=\")","v":{"$error":"#VALUE!"}},{"$f":"AND(SystemInfo!D20,\"AAAAAF/v6TE=\")","v":{"$error":"#VALUE!"}},{"$f":"AND(SystemInfo!E20,\"AAAAAF/v6TI=\")","v":{"$error":"#VALUE!"}},{"$f":"AND(SystemInfo!F20,\"AAAAAF/v6TM=\")","v":{"$error":"#VALUE!"}},{"$f":"AND(SystemInfo!G20,\"AAAAAF/v6TQ=\")","v":{"$error":"#VALUE!"}},{"$f":"IF(SystemInfo!21:21,\"AAAAAF/v6TU=\",0)","v":0},{"$f":"AND(SystemInfo!B21,\"AAAAAF/v6TY=\")","v":{"$error":"#VALUE!"}},{"$f":"AND(SystemInfo!C21,\"AAAAAF/v6Tc=\")","v":{"$error":"#VALUE!"}},{"$f":"AND(SystemInfo!D21,\"AAAAAF/v6Tg=\")","v":{"$error":"#VALUE!"}},{"$f":"AND(SystemInfo!E21,\"AAAAAF/v6Tk=\")","v":{"$error":"#VALUE!"}},{"$f":"AND(SystemInfo!F21,\"AAAAAF/v6To=\")","v":{"$error":"#VALUE!"}},{"$f":"AND(SystemInfo!G21,\"AAAAAF/v6Ts=\")","v":{"$error":"#VALUE!"}},{"$f":"IF(SystemInfo!22:22,\"AAAAAF/v6Tw=\",0)","v":0},{"$f":"AND(SystemInfo!B22,\"AAAAAF/v6T0=\")","v":{"$error":"#VALUE!"}},{"$f":"AND(SystemInfo!C22,\"AAAAAF/v6T4=\")","v":{"$error":"#VALUE!"}},{"$f":"AND(SystemInfo!D22,\"AAAAAF/v6T8=\")","v":{"$error":"#VALUE!"}},{"$f":"AND(SystemInfo!E22,\"AAAAAF/v6UA=\")","v":{"$error":"#VALUE!"}},{"$f":"AND(SystemInfo!F22,\"AAAAAF/v6UE=\")","v":{"$error":"#VALUE!"}},{"$f":"AND(SystemInfo!G22,\"AAAAAF/v6UI=\")","v":{"$error":"#VALUE!"}},{"$f":"IF(SystemInfo!A:A,\"AAAAAF/v6UM=\",0)","v":0},{"$f":"IF(SystemInfo!B:B,\"AAAAAF/v6UQ=\",0)","v":{"$error":"#VALUE!"}},{"$f":"IF(SystemInfo!C:C,\"AAAAAF/v6UU=\",0)","v":"AAAAAF/v6UU="},{"$f":"IF(SystemInfo!D:D,\"AAAAAF/v6UY=\",0)","v":0},{"$f":"IF(SystemInfo!E:E,\"AAAAAF/v6Uc=\",0)","v":0},{"$f":"IF(SystemInfo!F:F,\"AAAAAF/v6Ug=\",0)","v":{"$error":"#VALUE!"}},{"$f":"IF(SystemInfo!G:G,\"AAAAAF/v6Uk=\",0)","v":{"$error":"#VALUE!"}},{"$f":"IF(Jobs!1:1,\"AAAAAF/v6Uo=\",0)","v":0},{"$f":"AND(Jobs!A1,\"AAAAAF/v6Us=\")","v":{"$error":"#VALUE!"}},{"$f":"AND(Jobs!B1,\"AAAAAF/v6Uw=\")","v":{"$error":"#VALUE!"}},{"$f":"AND(Jobs!D1,\"AAAAAF/v6U0=\")","v":{"$error":"#VALUE!"}},{"$f":"AND(Jobs!E1,\"AAAAAF/v6U4=\")","v":{"$error":"#VALUE!"}},{"$f":"AND(Jobs!F1,\"AAAAAF/v6U8=\")","v":{"$error":"#VALUE!"}},{"$f":"AND(Jobs!G1,\"AAAAAF/v6VA=\")","v":{"$error":"#VALUE!"}},{"$f":"AND(Jobs!H1,\"AAAAAF/v6VE=\")","v":{"$error":"#VALUE!"}},{"$f":"AND(Jobs!I1,\"AAAAAF/v6VI=\")","v":{"$error":"#VALUE!"}},{"$f":"AND(Jobs!J1,\"AAAAAF/v6VM=\")","v":{"$error":"#VALUE!"}},{"$f":"AND(Jobs!K1,\"AAAAAF/v6VQ=\")","v":{"$error":"#VALUE!"}},{"$f":"AND(Jobs!L1,\"AAAAAF/v6VU=\")","v":{"$error":"#VALUE!"}},{"$f":"IF(Jobs!2:2,\"AAAAAF/v6VY=\",0)","v":0},{"$f":"AND(Jobs!A2,\"AAAAAF/v6Vc=\")","v":{"$error":"#VALUE!"}},{"$f":"AND(Jobs!B2,\"AAAAAF/v6Vg=\")","v":{"$error":"#VALUE!"}},{"$f":"AND(Jobs!D2,\"AAAAAF/v6Vk=\")","v":{"$error":"#VALUE!"}},{"$f":"AND(Jobs!E2,\"AAAAAF/v6Vo=\")","v":{"$error":"#VALUE!"}},{"$f":"AND(Jobs!F2,\"AAAAAF/v6Vs=\")","v":{"$error":"#VALUE!"}},{"$f":"AND(Jobs!G2,\"AAAAAF/v6Vw=\")","v":{"$error":"#VALUE!"}},{"$f":"AND(Jobs!H2,\"AAAAAF/v6V0=\")","v":{"$error":"#VALUE!"}},{"$f":"AND(Jobs!I2,\"AAAAAF/v6V4=\")","v":{"$error":"#VALUE!"}},{"$f":"AND(Jobs!J2,\"AAAAAF/v6V8=\")","v":{"$error":"#VALUE!"}},{"$f":"AND(Jobs!K2,\"AAAAAF/v6WA=\")","v":{"$error":"#VALUE!"}},{"$f":"AND(Jobs!L2,\"AAAAAF/v6WE=\")","v":{"$error":"#VALUE!"}},{"$f":"IF(Jobs!3:3,\"AAAAAF/v6WI=\",0)","v":0},{"$f":"AND(Jobs!A3,\"AAAAAF/v6WM=\")","v":{"$error":"#VALUE!"}},{"$f":"AND(Jobs!B3,\"AAAAAF/v6WQ=\")","v":{"$error":"#VALUE!"}},{"$f":"AND(Jobs!D3,\"AAAAAF/v6WU=\")","v":{"$error":"#VALUE!"}},{"$f":"AND(Jobs!E3,\"AAAAAF/v6WY=\")","v":{"$error":"#VALUE!"}},{"$f":"AND(Jobs!F3,\"AAAAAF/v6Wc=\")","v":{"$error":"#VALUE!"}},{"$f":"AND(Jobs!G3,\"AAAAAF/v6Wg=\")","v":{"$error":"#VALUE!"}},{"$f":"AND(Jobs!H3,\"AAAAAF/v6Wk=\")","v":{"$error":"#VALUE!"}},{"$f":"AND(Jobs!I3,\"AAAAAF/v6Wo=\")","v":{"$error":"#VALUE!"}},{"$f":"AND(Jobs!J3,\"AAAAAF/v6Ws=\")","v":{"$error":"#VALUE!"}},{"$f":"AND(Jobs!K3,\"AAAAAF/v6Ww=\")","v":{"$error":"#VALUE!"}},{"$f":"AND(Jobs!L3,\"AAAAAF/v6W0=\")","v":{"$error":"#VALUE!"}},{"$f":"IF(Jobs!4:4,\"AAAAAF/v6W4=\",0)","v":0},{"$f":"AND(Jobs!A4,\"AAAAAF/v6W8=\")","v":{"$error":"#VALUE!"}},{"$f":"AND(Jobs!B4,\"AAAAAF/v6XA=\")","v":{"$error":"#VALUE!"}},{"$f":"AND(Jobs!D4,\"AAAAAF/v6XE=\")","v":{"$error":"#VALUE!"}},{"$f":"AND(Jobs!E4,\"AAAAAF/v6XI=\")","v":{"$error":"#VALUE!"}},{"$f":"AND(Jobs!F4,\"AAAAAF/v6XM=\")","v":{"$error":"#VALUE!"}},{"$f":"AND(Jobs!G4,\"AAAAAF/v6XQ=\")","v":{"$error":"#VALUE!"}},{"$f":"AND(Jobs!H4,\"AAAAAF/v6XU=\")","v":{"$error":"#VALUE!"}},{"$f":"AND(Jobs!I4,\"AAAAAF/v6XY=\")","v":{"$error":"#VALUE!"}},{"$f":"AND(Jobs!J4,\"AAAAAF/v6Xc=\")","v":{"$error":"#VALUE!"}},{"$f":"AND(Jobs!K4,\"AAAAAF/v6Xg=\")","v":{"$error":"#VALUE!"}},{"$f":"AND(Jobs!L4,\"AAAAAF/v6Xk=\")","v":{"$error":"#VALUE!"}},{"$f":"IF(Jobs!5:5,\"AAAAAF/v6Xo=\",0)","v":0},{"$f":"AND(Jobs!A5,\"AAAAAF/v6Xs=\")","v":{"$error":"#VALUE!"}},{"$f":"AND(Jobs!B5,\"AAAAAF/v6Xw=\")","v":{"$error":"#VALUE!"}},{"$f":"AND(Jobs!D5,\"AAAAAF/v6X0=\")","v":{"$error":"#VALUE!"}},{"$f":"AND(Jobs!E5,\"AAAAAF/v6X4=\")","v":{"$error":"#VALUE!"}},{"$f":"AND(Jobs!F5,\"AAAAAF/v6X8=\")","v":{"$error":"#VALUE!"}},{"$f":"AND(Jobs!G5,\"AAAAAF/v6YA=\")","v":{"$error":"#VALUE!"}},{"$f":"AND(Jobs!H5,\"AAAAAF/v6YE=\")","v":{"$error":"#VALUE!"}},{"$f":"AND(Jobs!I5,\"AAAAAF/v6YI=\")","v":{"$error":"#VALUE!"}},{"$f":"AND(Jobs!J5,\"AAAAAF/v6YM=\")","v":{"$error":"#VALUE!"}},{"$f":"AND(Jobs!K5,\"AAAAAF/v6YQ=\")","v":{"$error":"#VALUE!"}},{"$f":"AND(Jobs!L5,\"AAAAAF/v6YU=\")","v":{"$error":"#VALUE!"}},{"$f":"IF(Jobs!#REF!,\"AAAAAF/v6YY=\",0)","v":{"$error":"#REF!"}},{"$f":"AND(Jobs!#REF!,\"AAAAAF/v6Yc=\")","v":{"$error":"#REF!"}},{"$f":"AND(Jobs!#REF!,\"AAAAAF/v6Yg=\")","v":{"$error":"#REF!"}},{"$f":"AND(Jobs!#REF!,\"AAAAAF/v6Yk=\")","v":{"$error":"#REF!"}},{"$f":"AND(Jobs!#REF!,\"AAAAAF/v6Yo=\")","v":{"$error":"#REF!"}},{"$f":"AND(Jobs!#REF!,\"AAAAAF/v6Ys=\")","v":{"$error":"#REF!"}},{"$f":"AND(Jobs!#REF!,\"AAAAAF/v6Yw=\")","v":{"$error":"#REF!"}},{"$f":"AND(Jobs!#REF!,\"AAAAAF/v6Y0=\")","v":{"$error":"#REF!"}},{"$f":"AND(Jobs!#REF!,\"AAAAAF/v6Y4=\")","v":{"$error":"#REF!"}},{"$f":"AND(Jobs!#REF!,\"AAAAAF/v6Y8=\")","v":{"$error":"#REF!"}},{"$f":"AND(Jobs!#REF!,\"AAAAAF/v6ZA=\")","v":{"$error":"#REF!"}},{"$f":"AND(Jobs!#REF!,\"AAAAAF/v6ZE=\")","v":{"$error":"#REF!"}},{"$f":"IF(Jobs!#REF!,\"AAAAAF/v6ZI=\",0)","v":{"$error":"#REF!"}},{"$f":"AND(Jobs!#REF!,\"AAAAAF/v6ZM=\")","v":{"$error":"#REF!"}},{"$f":"AND(Jobs!#REF!,\"AAAAAF/v6ZQ=\")","v":{"$error":"#REF!"}},{"$f":"AND(Jobs!#REF!,\"AAAAAF/v6ZU=\")","v":{"$error":"#REF!"}},{"$f":"AND(Jobs!#REF!,\"AAAAAF/v6ZY=\")","v":{"$error":"#REF!"}},{"$f":"AND(Jobs!#REF!,\"AAAAAF/v6Zc=\")","v":{"$error":"#REF!"}},{"$f":"AND(Jobs!#REF!,\"AAAAAF/v6Zg=\")","v":{"$error":"#REF!"}},{"$f":"AND(Jobs!#REF!,\"AAAAAF/v6Zk=\")","v":{"$error":"#REF!"}},{"$f":"AND(Jobs!#REF!,\"AAAAAF/v6Zo=\")","v":{"$error":"#REF!"}},{"$f":"AND(Jobs!#REF!,\"AAAAAF/v6Zs=\")","v":{"$error":"#REF!"}},{"$f":"AND(Jobs!#REF!,\"AAAAAF/v6Zw=\")","v":{"$error":"#REF!"}},{"$f":"AND(Jobs!#REF!,\"AAAAAF/v6Z0=\")","v":{"$error":"#REF!"}},{"$f":"IF(Jobs!6:6,\"AAAAAF/v6Z4=\",0)","v":0},{"$f":"AND(Jobs!A6,\"AAAAAF/v6Z8=\")","v":{"$error":"#VALUE!"}},{"$f":"AND(Jobs!B6,\"AAAAAF/v6aA=\")","v":{"$error":"#VALUE!"}},{"$f":"AND(Jobs!D6,\"AAAAAF/v6aE=\")","v":{"$error":"#VALUE!"}},{"$f":"AND(Jobs!E6,\"AAAAAF/v6aI=\")","v":{"$error":"#VALUE!"}},{"$f":"AND(Jobs!F6,\"AAAAAF/v6aM=\")","v":{"$error":"#VALUE!"}},{"$f":"AND(Jobs!G6,\"AAAAAF/v6aQ=\")","v":{"$error":"#VALUE!"}},{"$f":"AND(Jobs!H6,\"AAAAAF/v6aU=\")","v":{"$error":"#VALUE!"}},{"$f":"AND(Jobs!I6,\"AAAAAF/v6aY=\")","v":{"$error":"#VALUE!"}},{"$f":"AND(Jobs!J6,\"AAAAAF/v6ac=\")","v":{"$error":"#VALUE!"}},{"$f":"AND(Jobs!K6,\"AAAAAF/v6ag=\")","v":{"$error":"#VALUE!"}},{"$f":"AND(Jobs!L6,\"AAAAAF/v6ak=\")","v":{"$error":"#VALUE!"}},{"$f":"IF(Jobs!7:7,\"AAAAAF/v6ao=\",0)","v":0},{"$f":"AND(Jobs!A7,\"AAAAAF/v6as=\")","v":{"$error":"#VALUE!"}},{"$f":"AND(Jobs!B7,\"AAAAAF/v6aw=\")","v":{"$error":"#VALUE!"}},{"$f":"AND(Jobs!D7,\"AAAAAF/v6a0=\")","v":{"$error":"#VALUE!"}},{"$f":"AND(Jobs!E7,\"AAAAAF/v6a4=\")","v":{"$error":"#VALUE!"}},{"$f":"AND(Jobs!F7,\"AAAAAF/v6a8=\")","v":{"$error":"#VALUE!"}},{"$f":"AND(Jobs!G7,\"AAAAAF/v6bA=\")","v":{"$error":"#VALUE!"}},{"$f":"AND(Jobs!H7,\"AAAAAF/v6bE=\")","v":{"$error":"#VALUE!"}},{"$f":"AND(Jobs!I7,\"AAAAAF/v6bI=\")","v":{"$error":"#VALUE!"}},{"$f":"AND(Jobs!J7,\"AAAAAF/v6bM=\")","v":{"$error":"#VALUE!"}},{"$f":"AND(Jobs!K7,\"AAAAAF/v6bQ=\")","v":{"$error":"#VALUE!"}},{"$f":"AND(Jobs!L7,\"AAAAAF/v6bU=\")","v":{"$error":"#VALUE!"}},{"$f":"IF(Jobs!8:8,\"AAAAAF/v6bY=\",0)","v":0},{"$f":"AND(Jobs!A8,\"AAAAAF/v6bc=\")","v":{"$error":"#VALUE!"}},{"$f":"AND(Jobs!B8,\"AAAAAF/v6bg=\")","v":{"$error":"#VALUE!"}},{"$f":"AND(Jobs!D8,\"AAAAAF/v6bk=\")","v":{"$error":"#VALUE!"}},{"$f":"AND(Jobs!E8,\"AAAAAF/v6bo=\")","v":{"$error":"#VALUE!"}},{"$f":"AND(Jobs!F8,\"AAAAAF/v6bs=\")","v":{"$error":"#VALUE!"}},{"$f":"AND(Jobs!G8,\"AAAAAF/v6bw=\")","v":{"$error":"#VALUE!"}},{"$f":"AND(Jobs!H8,\"AAAAAF/v6b0=\")","v":{"$error":"#VALUE!"}},{"$f":"AND(Jobs!I8,\"AAAAAF/v6b4=\")","v":{"$error":"#VALUE!"}},{"$f":"AND(Jobs!J8,\"AAAAAF/v6b8=\")","v":{"$error":"#VALUE!"}},{"$f":"AND(Jobs!K8,\"AAAAAF/v6cA=\")","v":{"$error":"#VALUE!"}},{"$f":"AND(Jobs!L8,\"AAAAAF/v6cE=\")","v":{"$error":"#VALUE!"}},{"$f":"IF(Jobs!9:9,\"AAAAAF/v6cI=\",0)","v":0},{"$f":"AND(Jobs!A9,\"AAAAAF/v6cM=\")","v":{"$error":"#VALUE!"}},{"$f":"AND(Jobs!B9,\"AAAAAF/v6cQ=\")","v":{"$error":"#VALUE!"}},{"$f":"AND(Jobs!D9,\"AAAAAF/v6cU=\")","v":{"$error":"#VALUE!"}},{"$f":"AND(Jobs!E9,\"AAAAAF/v6cY=\")","v":{"$error":"#VALUE!"}},{"$f":"AND(Jobs!F9,\"AAAAAF/v6cc=\")","v":{"$error":"#VALUE!"}},{"$f":"AND(Jobs!G9,\"AAAAAF/v6cg=\")","v":{"$error":"#VALUE!"}},{"$f":"AND(Jobs!H9,\"AAAAAF/v6ck=\")","v":{"$error":"#VALUE!"}},{"$f":"AND(Jobs!I9,\"AAAAAF/v6co=\")","v":{"$error":"#VALUE!"}},{"$f":"AND(Jobs!J9,\"AAAAAF/v6cs=\")","v":{"$error":"#VALUE!"}},{"$f":"AND(Jobs!K9,\"AAAAAF/v6cw=\")","v":{"$error":"#VALUE!"}},{"$f":"AND(Jobs!L9,\"AAAAAF/v6c0=\")","v":{"$error":"#VALUE!"}},{"$f":"IF(Jobs!10:10,\"AAAAAF/v6c4=\",0)","v":0},{"$f":"AND(Jobs!A10,\"AAAAAF/v6c8=\")","v":{"$error":"#VALUE!"}},{"$f":"AND(Jobs!B10,\"AAAAAF/v6dA=\")","v":{"$error":"#VALUE!"}},{"$f":"AND(Jobs!D10,\"AAAAAF/v6dE=\")","v":{"$error":"#VALUE!"}},{"$f":"AND(Jobs!E10,\"AAAAAF/v6dI=\")","v":{"$error":"#VALUE!"}},{"$f":"AND(Jobs!F10,\"AAAAAF/v6dM=\")","v":{"$error":"#VALUE!"}},{"$f":"AND(Jobs!G10,\"AAAAAF/v6dQ=\")","v":{"$error":"#VALUE!"}},{"$f":"AND(Jobs!H10,\"AAAAAF/v6dU=\")","v":{"$error":"#VALUE!"}},{"$f":"AND(Jobs!I10,\"AAAAAF/v6dY=\")","v":{"$error":"#VALUE!"}},{"$f":"AND(Jobs!J10,\"AAAAAF/v6dc=\")","v":{"$error":"#VALUE!"}},{"$f":"AND(Jobs!K10,\"AAAAAF/v6dg=\")","v":{"$error":"#VALUE!"}},{"$f":"AND(Jobs!L10,\"AAAAAF/v6dk=\")","v":{"$error":"#VALUE!"}},{"$f":"IF(Jobs!11:11,\"AAAAAF/v6do=\",0)","v":0},{"$f":"AND(Jobs!A11,\"AAAAAF/v6ds=\")","v":{"$error":"#VALUE!"}},{"$f":"AND(Jobs!B11,\"AAAAAF/v6dw=\")","v":{"$error":"#VALUE!"}},{"$f":"AND(Jobs!D11,\"AAAAAF/v6d0=\")","v":{"$error":"#VALUE!"}},{"$f":"AND(Jobs!E11,\"AAAAAF/v6d4=\")","v":{"$error":"#VALUE!"}},{"$f":"AND(Jobs!F11,\"AAAAAF/v6d8=\")","v":{"$error":"#VALUE!"}},{"$f":"AND(Jobs!G11,\"AAAAAF/v6eA=\")","v":{"$error":"#VALUE!"}},{"$f":"AND(Jobs!H11,\"AAAAAF/v6eE=\")","v":{"$error":"#VALUE!"}},{"$f":"AND(Jobs!I11,\"AAAAAF/v6eI=\")","v":{"$error":"#VALUE!"}},{"$f":"AND(Jobs!J11,\"AAAAAF/v6eM=\")","v":{"$error":"#VALUE!"}},{"$f":"AND(Jobs!K11,\"AAAAAF/v6eQ=\")","v":{"$error":"#VALUE!"}},{"$f":"AND(Jobs!L11,\"AAAAAF/v6eU=\")","v":{"$error":"#VALUE!"}},{"$f":"IF(Jobs!12:12,\"AAAAAF/v6eY=\",0)","v":0},{"$f":"AND(Jobs!A12,\"AAAAAF/v6ec=\")","v":{"$error":"#VALUE!"}},{"$f":"AND(Jobs!B12,\"AAAAAF/v6eg=\")","v":{"$error":"#VALUE!"}},{"$f":"AND(Jobs!D12,\"AAAAAF/v6ek=\")","v":{"$error":"#VALUE!"}},{"$f":"AND(Jobs!E12,\"AAAAAF/v6eo=\")","v":{"$error":"#VALUE!"}},{"$f":"AND(Jobs!F12,\"AAAAAF/v6es=\")","v":{"$error":"#VALUE!"}},{"$f":"AND(Jobs!G12,\"AAAAAF/v6ew=\")","v":{"$error":"#VALUE!"}},{"$f":"AND(Jobs!H12,\"AAAAAF/v6e0=\")","v":{"$error":"#VALUE!"}},{"$f":"AND(Jobs!I12,\"AAAAAF/v6e4=\")","v":{"$error":"#VALUE!"}},{"$f":"AND(Jobs!J12,\"AAAAAF/v6e8=\")","v":{"$error":"#VALUE!"}},{"$f":"AND(Jobs!K12,\"AAAAAF/v6fA=\")","v":{"$error":"#VALUE!"}},{"$f":"AND(Jobs!L12,\"AAAAAF/v6fE=\")","v":{"$error":"#VALUE!"}},{"$f":"IF(Jobs!A:A,\"AAAAAF/v6fI=\",0)","v":0},{"$f":"IF(Jobs!B:B,\"AAAAAF/v6fM=\",0)","v":0},{"$f":"IF(Jobs!D:D,\"AAAAAF/v6fQ=\",0)","v":0},{"$f":"IF(Jobs!E:E,\"AAAAAF/v6fU=\",0)","v":0},{"$f":"IF(Jobs!F:F,\"AAAAAF/v6fY=\",0)","v":0},{"$f":"IF(Jobs!G:G,\"AAAAAF/v6fc=\",0)","v":0},{"$f":"IF(Jobs!H:H,\"AAAAAF/v6fg=\",0)","v":0},{"$f":"IF(Jobs!I:I,\"AAAAAF/v6fk=\",0)","v":0},{"$f":"IF(Jobs!J:J,\"AAAAAF/v6fo=\",0)","v":0},{"$f":"IF(Jobs!K:K,\"AAAAAF/v6fs=\",0)","v":0},{"$f":"IF(Jobs!L:L,\"AAAAAF/v6fw=\",0)","v":0},{"$f":"IF(Businesses!1:1,\"AAAAAF/v6f0=\",0)","v":0},{"$f":"AND(Businesses!A1,\"AAAAAF/v6f4=\")","v":{"$error":"#VALUE!"}},{"$f":"AND(Businesses!B1,\"AAAAAF/v6f8=\")","v":{"$error":"#VALUE!"}}]
[{"$f":"AND(Businesses!C1,\"AAAAAD3DvgA=\")","v":{"$error":"#VALUE!"}},{"$f":"AND(Businesses!E1,\"AAAAAD3DvgE=\")","v":{"$error":"#VALUE!"}},{"$f":"AND(Businesses!G1,\"AAAAAD3DvgI=\")","v":{"$error":"#VALUE!"}},{"$f":"AND(Businesses!L1,\"AAAAAD3DvgM=\")","v":{"$error":"#VALUE!"}},{"$f":"AND(Businesses!M1,\"AAAAAD3DvgQ=\")","v":{"$error":"#VALUE!"}},{"$f":"AND(Businesses!N1,\"AAAAAD3DvgU=\")","v":{"$error":"#VALUE!"}},{"$f":"AND(Businesses!O1,\"AAAAAD3DvgY=\")","v":{"$error":"#VALUE!"}},{"$f":"AND(Businesses!P1,\"AAAAAD3Dvgc=\")","v":{"$error":"#VALUE!"}},{"$f":"AND(Businesses!Q1,\"AAAAAD3Dvgg=\")","v":{"$error":"#VALUE!"}},{"$f":"AND(Businesses!R1,\"AAAAAD3Dvgk=\")","v":{"$error":"#VALUE!"}},{"$f":"AND(Businesses!S1,\"AAAAAD3Dvgo=\")","v":{"$error":"#VALUE!"}},{"$f":"IF(Businesses!2:2,\"AAAAAD3Dvgs=\",0)","v":"AAAAAD3Dvgs="},{"$f":"AND(Businesses!A2,\"AAAAAD3Dvgw=\")","v":{"$error":"#VALUE!"}},{"$f":"AND(Businesses!B2,\"AAAAAD3Dvg0=\")","v":{"$error":"#VALUE!"}},{"$f":"AND(Businesses!C2,\"AAAAAD3Dvg4=\")","v":{"$error":"#VALUE!"}},{"$f":"AND(Businesses!E2,\"AAAAAD3Dvg8=\")","v":{"$error":"#VALUE!"}},{"$f":"AND(Businesses!G2,\"AAAAAD3DvhA=\")","v":{"$error":"#VALUE!"}},{"$f":"AND(Businesses!L2,\"AAAAAD3DvhE=\")","v":{"$error":"#VALUE!"}},{"$f":"AND(Businesses!M2,\"AAAAAD3DvhI=\")","v":{"$error":"#VALUE!"}},{"$f":"AND(Businesses!N2,\"AAAAAD3DvhM=\")","v":{"$error":"#VALUE!"}},{"$f":"AND(Businesses!O2,\"AAAAAD3DvhQ=\")","v":{"$error":"#VALUE!"}},{"$f":"AND(Businesses!P2,\"AAAAAD3DvhU=\")","v":{"$error":"#VALUE!"}},{"$f":"AND(Businesses!Q2,\"AAAAAD3DvhY=\")","v":{"$error":"#VALUE!"}},{"$f":"AND(Businesses!R2,\"AAAAAD3Dvhc=\")","v":{"$error":"#VALUE!"}},{"$f":"AND(Businesses!S2,\"AAAAAD3Dvhg=\")","v":{"$error":"#VALUE!"}},{"$f":"IF(Businesses!3:3,\"AAAAAD3Dvhk=\",0)","v":0},{"$f":"AND(Businesses!A3,\"AAAAAD3Dvho=\")","v":{"$error":"#VALUE!"}},{"$f":"AND(Businesses!B3,\"AAAAAD3Dvhs=\")","v":{"$error":"#VALUE!"}},{"$f":"AND(Businesses!E3,\"AAAAAD3Dvhw=\")","v":{"$error":"#VALUE!"}},{"$f":"AND(Businesses!#REF!,\"AAAAAD3Dvh0=\")","v":{"$error":"#REF!"}},{"$f":"AND(Businesses!G3,\"AAAAAD3Dvh4=\")","v":{"$error":"#VALUE!"}},{"$f":"AND(Businesses!L3,\"AAAAAD3Dvh8=\")","v":{"$error":"#VALUE!"}},{"$f":"AND(Businesses!M3,\"AAAAAD3DviA=\")","v":{"$error":"#VALUE!"}},{"$f":"AND(Businesses!N3,\"AAAAAD3DviE=\")","v":{"$error":"#VALUE!"}},{"$f":"AND(Businesses!O3,\"AAAAAD3DviI=\")","v":{"$error":"#VALUE!"}},{"$f":"AND(Businesses!P3,\"AAAAAD3DviM=\")","v":{"$error":"#VALUE!"}},{"$f":"AND(Businesses!Q3,\"AAAAAD3DviQ=\")","v":{"$error":"#VALUE!"}},{"$f":"AND(Businesses!R3,\"AAAAAD3DviU=\")","v":{"$error":"#VALUE!"}},{"$f":"AND(Businesses!S3,\"AAAAAD3DviY=\")","v":{"$error":"#VALUE!"}},{"$f":"IF(Businesses!4:4,\"AAAAAD3Dvic=\",0)","v":0},{"$f":"AND(Businesses!A4,\"AAAAAD3Dvig=\")","v":{"$error":"#VALUE!"}},{"$f":"AND(Businesses!B4,\"AAAAAD3Dvik=\")","v":{"$error":"#VALUE!"}},{"$f":"AND(Businesses!E4,\"AAAAAD3Dvio=\")","v":{"$error":"#VALUE!"}},{"$f":"AND(Businesses!H4,\"AAAAAD3Dvis=\")","v":{"$error":"#VALUE!"}},{"$f":"AND(Businesses!K4,\"AAAAAD3Dviw=\")","v":{"$error":"#VALUE!"}},{"$f":"AND(Businesses!L4,\"AAAAAD3Dvi0=\")","v":{"$error":"#VALUE!"}},{"$f":"AND(Businesses!N4,\"AAAAAD3Dvi4=\")","v":{"$error":"#VALUE!"}},{"$f":"AND(Businesses!O4,\"AAAAAD3Dvi8=\")","v":{"$error":"#VALUE!"}},{"$f":"AND(Businesses!P4,\"AAAAAD3DvjA=\")","v":{"$error":"#VALUE!"}},{"$f":"AND(Businesses!Q4,\"AAAAAD3DvjE=\")","v":{"$error":"#VALUE!"}},{"$f":"AND(Businesses!R4,\"AAAAAD3DvjI=\")","v":{"$error":"#VALUE!"}},{"$f":"AND(Businesses!S4,\"AAAAAD3DvjM=\")","v":{"$error":"#VALUE!"}},{"$f":"AND(Businesses!M4,\"AAAAAD3DvjQ=\")","v":{"$error":"#VALUE!"}},{"$f":"IF(Businesses!5:5,\"AAAAAD3DvjU=\",0)","v":0},{"$f":"AND(Businesses!A5,\"AAAAAD3DvjY=\")","v":{"$error":"#VALUE!"}},{"$f":"AND(Businesses!B5,\"AAAAAD3Dvjc=\")","v":{"$error":"#VALUE!"}},{"$f":"AND(Businesses!E5,\"AAAAAD3Dvjg=\")","v":{"$error":"#VALUE!"}},{"$f":"AND(Businesses!H5,\"AAAAAD3Dvjk=\")","v":{"$error":"#VALUE!"}},{"$f":"AND(Businesses!K5,\"AAAAAD3Dvjo=\")","v":{"$error":"#VALUE!"}},{"$f":"AND(Businesses!L5,\"AAAAAD3Dvjs=\")","v":{"$error":"#VALUE!"}},{"$f":"AND(Businesses!N5,\"AAAAAD3Dvjw=\")","v":{"$error":"#VALUE!"}},{"$f":"AND(Businesses!O5,\"AAAAAD3Dvj0=\")","v":{"$error":"#VALUE!"}},{"$f":"AND(Businesses!P5,\"AAAAAD3Dvj4=\")","v":{"$error":"#VALUE!"}},{"$f":"AND(Businesses!Q5,\"AAAAAD3Dvj8=\")","v":{"$error":"#VALUE!"}},{"$f":"AND(Businesses!R5,\"AAAAAD3DvkA=\")","v":{"$error":"#VALUE!"}},{"$f":"AND(Businesses!S5,\"AAAAAD3DvkE=\")","v":{"$error":"#VALUE!"}},{"$f":"AND(Businesses!M5,\"AAAAAD3DvkI=\")","v":{"$error":"#VALUE!"}},{"$f":"IF(Businesses!A:A,\"AAAAAD3DvkM=\",0)","v":0},{"$f":"IF(Businesses!B:B,\"AAAAAD3DvkQ=\",0)","v":0},{"$f":"IF(Businesses!C:C,\"AAAAAD3DvkU=\",0)","v":0},{"$f":"IF(Businesses!E:E,\"AAAAAD3DvkY=\",0)","v":{"$error":"#VALUE!"}},{"$f":"IF(Businesses!G:G,\"AAAAAD3Dvkc=\",0)","v":0},{"$f":"IF(Businesses!L:L,\"AAAAAD3Dvkg=\",0)","v":0},{"$f":"IF(Businesses!M:M,\"AAAAAD3Dvkk=\",0)","v":0},{"$f":"IF(Businesses!N:N,\"AAAAAD3Dvko=\",0)","v":0},{"$f":"IF(Businesses!O:O,\"AAAAAD3Dvks=\",0)","v":0},{"$f":"IF(Businesses!P:P,\"AAAAAD3Dvkw=\",0)","v":0},{"$f":"IF(Businesses!Q:Q,\"AAAAAD3Dvk0=\",0)","v":0},{"$f":"IF(Businesses!R:R,\"AAAAAD3Dvk4=\",0)","v":0},{"$f":"IF(Businesses!S:S,\"AAAAAD3Dvk8=\",0)","v":0},{"$f":"IF(Businesses!T:T,\"AAAAAD3DvlA=\",0)","v":0},{"$f":"IF('Business Jobs'!1:1,\"AAAAAD3DvlE=\",0)","v":0},{"$f":"AND('Business Jobs'!A1,\"AAAAAD3DvlI=\")","v":{"$error":"#VALUE!"}},{"$f":"AND('Business Jobs'!B1,\"AAAAAD3DvlM=\")","v":{"$error":"#VALUE!"}},{"$f":"AND('Business Jobs'!C1,\"AAAAAD3DvlQ=\")","v":{"$error":"#VALUE!"}},{"$f":"AND('Business Jobs'!D1,\"AAAAAD3DvlU=\")","v":{"$error":"#VALUE!"}},{"$f":"AND('Business Jobs'!E1,\"AAAAAD3DvlY=\")","v":{"$error":"#VALUE!"}},{"$f":"AND('Business Jobs'!F1,\"AAAAAD3Dvlc=\")","v":{"$error":"#VALUE!"}},{"$f":"AND('Business Jobs'!G1,\"AAAAAD3Dvlg=\")","v":{"$error":"#VALUE!"}},{"$f":"AND('Business Jobs'!H1,\"AAAAAD3Dvlk=\")","v":{"$error":"#VALUE!"}},{"$f":"AND('Business Jobs'!I1,\"AAAAAD3Dvlo=\")","v":{"$error":"#VALUE!"}},{"$f":"AND('Business Jobs'!J1,\"AAAAAD3Dvls=\")","v":{"$error":"#VALUE!"}},{"$f":"AND('Business Jobs'!K1,\"AAAAAD3Dvlw=\")","v":{"$error":"#VALUE!"}},{"$f":"AND('Business Jobs'!L1,\"AAAAAD3Dvl0=\")","v":{"$error":"#VALUE!"}},{"$f":"AND('Business Jobs'!M1,\"AAAAAD3Dvl4=\")","v":{"$error":"#VALUE!"}},{"$f":"AND('Business Jobs'!N1,\"AAAAAD3Dvl8=\")","v":{"$error":"#VALUE!"}},{"$f":"IF('Business Jobs'!2:2,\"AAAAAD3DvmA=\",0)","v":0},{"$f":"AND('Business Jobs'!A2,\"AAAAAD3DvmE=\")","v":{"$error":"#VALUE!"}},{"$f":"AND('Business Jobs'!B2,\"AAAAAD3DvmI=\")","v":{"$error":"#VALUE!"}},{"$f":"AND('Business Jobs'!C2,\"AAAAAD3DvmM=\")","v":{"$error":"#VALUE!"}},{"$f":"AND('Business Jobs'!D2,\"AAAAAD3DvmQ=\")","v":{"$error":"#VALUE!"}},{"$f":"AND('Business Jobs'!E2,\"AAAAAD3DvmU=\")","v":{"$error":"#VALUE!"}},{"$f":"AND('Business Jobs'!F2,\"AAAAAD3DvmY=\")","v":{"$error":"#VALUE!"}},{"$f":"AND('Business Jobs'!G2,\"AAAAAD3Dvmc=\")","v":{"$error":"#VALUE!"}},{"$f":"AND('Business Jobs'!H2,\"AAAAAD3Dvmg=\")","v":{"$error":"#VALUE!"}},{"$f":"AND('Business Jobs'!I2,\"AAAAAD3Dvmk=\")","v":{"$error":"#VALUE!"}},{"$f":"AND('Business Jobs'!J2,\"AAAAAD3Dvmo=\")","v":{"$error":"#VALUE!"}},{"$f":"AND('Business Jobs'!K2,\"AAAAAD3Dvms=\")","v":{"$error":"#VALUE!"}},{"$f":"AND('Business Jobs'!L2,\"AAAAAD3Dvmw=\")","v":{"$error":"#VALUE!"}},{"$f":"AND('Business Jobs'!M2,\"AAAAAD3Dvm0=\")","v":{"$error":"#VALUE!"}},{"$f":"AND('Business Jobs'!N2,\"AAAAAD3Dvm4=\")","v":{"$error":"#VALUE!"}},{"$f":"IF('Business Jobs'!3:3,\"AAAAAD3Dvm8=\",0)","v":0},{"$f":"AND('Business Jobs'!A3,\"AAAAAD3DvnA=\")","v":{"$error":"#VALUE!"}},{"$f":"AND('Business Jobs'!B3,\"AAAAAD3DvnE=\")","v":{"$error":"#VALUE!"}},{"$f":"AND('Business Jobs'!C3,\"AAAAAD3DvnI=\")","v":{"$error":"#VALUE!"}},{"$f":"AND('Business Jobs'!D3,\"AAAAAD3DvnM=\")","v":{"$error":"#VALUE!"}},{"$f":"AND('Business Jobs'!E3,\"AAAAAD3DvnQ=\")","v":{"$error":"#VALUE!"}},{"$f":"AND('Business Jobs'!F3,\"AAAAAD3DvnU=\")","v":{"$error":"#VALUE!"}},{"$f":"AND('Business Jobs'!G3,\"AAAAAD3DvnY=\")","v":{"$error":"#VALUE!"}},{"$f":"AND('Business Jobs'!H3,\"AAAAAD3Dvnc=\")","v":{"$error":"#VALUE!"}},{"$f":"AND('Business Jobs'!I3,\"AAAAAD3Dvng=\")","v":{"$error":"#VALUE!"}},{"$f":"AND('Business Jobs'!J3,\"AAAAAD3Dvnk=\")","v":{"$error":"#VALUE!"}},{"$f":"AND('Business Jobs'!K3,\"AAAAAD3Dvno=\")","v":{"$error":"#VALUE!"}},{"$f":"AND('Business Jobs'!L3,\"AAAAAD3Dvns=\")","v":{"$error":"#VALUE!"}},{"$f":"AND('Business Jobs'!M3,\"AAAAAD3Dvnw=\")","v":{"$error":"#VALUE!"}},{"$f":"AND('Business Jobs'!N3,\"AAAAAD3Dvn0=\")","v":{"$error":"#VALUE!"}},{"$f":"IF('Business Jobs'!4:4,\"AAAAAD3Dvn4=\",0)","v":0},{"$f":"AND('Business Jobs'!A4,\"AAAAAD3Dvn8=\")","v":{"$error":"#VALUE!"}},{"$f":"AND('Business Jobs'!B4,\"AAAAAD3DvoA=\")","v":{"$error":"#VALUE!"}},{"$f":"AND('Business Jobs'!C4,\"AAAAAD3DvoE=\")","v":{"$error":"#VALUE!"}},{"$f":"AND('Business Jobs'!D4,\"AAAAAD3DvoI=\")","v":{"$error":"#VALUE!"}},{"$f":"AND('Business Jobs'!E4,\"AAAAAD3DvoM=\")","v":{"$error":"#VALUE!"}},{"$f":"AND('Business Jobs'!F4,\"AAAAAD3DvoQ=\")","v":{"$error":"#VALUE!"}},{"$f":"AND('Business Jobs'!G4,\"AAAAAD3DvoU=\")","v":{"$error":"#VALUE!"}},{"$f":"AND('Business Jobs'!H4,\"AAAAAD3DvoY=\")","v":{"$error":"#VALUE!"}},{"$f":"AND('Business Jobs'!I4,\"AAAAAD3Dvoc=\")","v":{"$error":"#VALUE!"}},{"$f":"AND('Business Jobs'!J4,\"AAAAAD3Dvog=\")","v":{"$error":"#VALUE!"}},{"$f":"AND('Business Jobs'!K4,\"AAAAAD3Dvok=\")","v":{"$error":"#VALUE!"}},{"$f":"AND('Business Jobs'!L4,\"AAAAAD3Dvoo=\")","v":{"$error":"#VALUE!"}},{"$f":"AND('Business Jobs'!M4,\"AAAAAD3Dvos=\")","v":{"$error":"#VALUE!"}},{"$f":"AND('Business Jobs'!N4,\"AAAAAD3Dvow=\")","v":{"$error":"#VALUE!"}},{"$f":"IF('Business Jobs'!5:5,\"AAAAAD3Dvo0=\",0)","v":0},{"$f":"AND('Business Jobs'!A5,\"AAAAAD3Dvo4=\")","v":{"$error":"#VALUE!"}},{"$f":"AND('Business Jobs'!B5,\"AAAAAD3Dvo8=\")","v":{"$error":"#VALUE!"}},{"$f":"AND('Business Jobs'!C5,\"AAAAAD3DvpA=\")","v":{"$error":"#VALUE!"}},{"$f":"AND('Business Jobs'!D5,\"AAAAAD3DvpE=\")","v":{"$error":"#VALUE!"}},{"$f":"AND('Business Jobs'!E5,\"AAAAAD3DvpI=\")","v":{"$error":"#VALUE!"}},{"$f":"AND('Business Jobs'!F5,\"AAAAAD3DvpM=\")","v":{"$error":"#VALUE!"}},{"$f":"AND('Business Jobs'!G5,\"AAAAAD3DvpQ=\")","v":{"$error":"#VALUE!"}},{"$f":"AND('Business Jobs'!H5,\"AAAAAD3DvpU=\")","v":{"$error":"#VALUE!"}},{"$f":"AND('Business Jobs'!I5,\"AAAAAD3DvpY=\")","v":{"$error":"#VALUE!"}},{"$f":"AND('Business Jobs'!J5,\"AAAAAD3Dvpc=\")","v":{"$error":"#VALUE!"}},{"$f":"AND('Business Jobs'!K5,\"AAAAAD3Dvpg=\")","v":{"$error":"#VALUE!"}},{"$f":"AND('Business Jobs'!L5,\"AAAAAD3Dvpk=\")","v":{"$error":"#VALUE!"}},{"$f":"AND('Business Jobs'!M5,\"AAAAAD3Dvpo=\")","v":{"$error":"#VALUE!"}},{"$f":"AND('Business Jobs'!N5,\"AAAAAD3Dvps=\")","v":{"$error":"#VALUE!"}},{"$f":"IF('Business Jobs'!6:6,\"AAAAAD3Dvpw=\",0)","v":0},{"$f":"AND('Business Jobs'!A6,\"AAAAAD3Dvp0=\")","v":{"$error":"#VALUE!"}},{"$f":"AND('Business Jobs'!B6,\"AAAAAD3Dvp4=\")","v":{"$error":"#VALUE!"}},{"$f":"AND('Business Jobs'!C6,\"AAAAAD3Dvp8=\")","v":{"$error":"#VALUE!"}},{"$f":"AND('Business Jobs'!D6,\"AAAAAD3DvqA=\")","v":{"$error":"#VALUE!"}},{"$f":"AND('Business Jobs'!E6,\"AAAAAD3DvqE=\")","v":{"$error":"#VALUE!"}},{"$f":"AND('Business Jobs'!F6,\"AAAAAD3DvqI=\")","v":{"$error":"#VALUE!"}},{"$f":"AND('Business Jobs'!G6,\"AAAAAD3DvqM=\")","v":{"$error":"#VALUE!"}},{"$f":"AND('Business Jobs'!H6,\"AAAAAD3DvqQ=\")","v":{"$error":"#VALUE!"}},{"$f":"AND('Business Jobs'!I6,\"AAAAAD3DvqU=\")","v":{"$error":"#VALUE!"}},{"$f":"AND('Business Jobs'!J6,\"AAAAAD3DvqY=\")","v":{"$error":"#VALUE!"}},{"$f":"AND('Business Jobs'!K6,\"AAAAAD3Dvqc=\")","v":{"$error":"#VALUE!"}},{"$f":"AND('Business Jobs'!L6,\"AAAAAD3Dvqg=\")","v":{"$error":"#VALUE!"}},{"$f":"AND('Business Jobs'!M6,\"AAAAAD3Dvqk=\")","v":{"$error":"#VALUE!"}},{"$f":"AND('Business Jobs'!N6,\"AAAAAD3Dvqo=\")","v":{"$error":"#VALUE!"}},{"$f":"IF('Business Jobs'!7:7,\"AAAAAD3Dvqs=\",0)","v":0},{"$f":"AND('Business Jobs'!A7,\"AAAAAD3Dvqw=\")","v":{"$error":"#VALUE!"}},{"$f":"AND('Business Jobs'!B7,\"AAAAAD3Dvq0=\")","v":{"$error":"#VALUE!"}},{"$f":"AND('Business Jobs'!C7,\"AAAAAD3Dvq4=\")","v":{"$error":"#VALUE!"}},{"$f":"IF('Business Jobs'!8:8,\"AAAAAD3Dvq8=\",0)","v":0},{"$f":"AND('Business Jobs'!A8,\"AAAAAD3DvrA=\")","v":{"$error":"#VALUE!"}},{"$f":"AND('Business Jobs'!B8,\"AAAAAD3DvrE=\")","v":{"$error":"#VALUE!"}},{"$f":"AND('Business Jobs'!C8,\"AAAAAD3DvrI=\")","v":{"$error":"#VALUE!"}},{"$f":"IF('Business Jobs'!9:9,\"AAAAAD3DvrM=\",0)","v":0},{"$f":"AND('Business Jobs'!A9,\"AAAAAD3DvrQ=\")","v":{"$error":"#VALUE!"}},{"$f":"AND('Business Jobs'!B9,\"AAAAAD3DvrU=\")","v":{"$error":"#VALUE!"}},{"$f":"AND('Business Jobs'!C9,\"AAAAAD3DvrY=\")","v":{"$error":"#VALUE!"}},{"$f":"IF('Business Jobs'!10:10,\"AAAAAD3Dvrc=\",0)","v":0},{"$f":"AND('Business Jobs'!A10,\"AAAAAD3Dvrg=\")","v":{"$error":"#VALUE!"}},{"$f":"AND('Business Jobs'!B10,\"AAAAAD3Dvrk=\")","v":{"$error":"#VALUE!"}},{"$f":"AND('Business Jobs'!C10,\"AAAAAD3Dvro=\")","v":{"$error":"#VALUE!"}},{"$f":"IF('Business Jobs'!A:A,\"AAAAAD3Dvrs=\",0)","v":0},{"$f":"IF('Business Jobs'!B:B,\"AAAAAD3Dvrw=\",0)","v":0},{"$f":"IF('Business Jobs'!C:C,\"AAAAAD3Dvr0=\",0)","v":0},{"$f":"IF('Business Jobs'!D:D,\"AAAAAD3Dvr4=\",0)","v":{"$error":"#VALUE!"}},{"$f":"IF('Business Jobs'!E:E,\"AAAAAD3Dvr8=\",0)","v":0},{"$f":"IF('Business Jobs'!F:F,\"AAAAAD3DvsA=\",0)","v":0},{"$f":"IF('Business Jobs'!G:G,\"AAAAAD3DvsE=\",0)","v":0},{"$f":"IF('Business Jobs'!H:H,\"AAAAAD3DvsI=\",0)","v":0},{"$f":"IF('Business Jobs'!I:I,\"AAAAAD3DvsM=\",0)","v":{"$error":"#VALUE!"}},{"$f":"IF('Business Jobs'!J:J,\"AAAAAD3DvsQ=\",0)","v":0},{"$f":"IF('Business Jobs'!K:K,\"AAAAAD3DvsU=\",0)","v":0},{"$f":"IF('Business Jobs'!L:L,\"AAAAAD3DvsY=\",0)","v":0},{"$f":"IF('Business Jobs'!M:M,\"AAAAAD3Dvsc=\",0)","v":0},{"$f":"IF('Business Jobs'!N:N,\"AAAAAD3Dvsg=\",0)","v":0},"AAAAAD3Dvsk=","AAAAAD3Dvso=","AAAAAD3Dvss=","AAAAAD3Dvsw="]
[{"$f":"IF(#REF!,\"AAAAAG/7/AA=\",0)","v":{"$error":"#REF!"}},{"$f":"AND(#REF!,\"AAAAAG/7/AE=\")","v":{"$error":"#REF!"}},{"$f":"AND(#REF!,\"AAAAAG/7/AI=\")","v":{"$error":"#REF!"}},{"$f":"IF(#REF!,\"AAAAAG/7/AM=\",0)","v":{"$error":"#REF!"}},{"$f":"AND(#REF!,\"AAAAAG/7/AQ=\")","v":{"$error":"#REF!"}},{"$f":"AND(#REF!,\"AAAAAG/7/AU=\")","v":{"$error":"#REF!"}},{"$f":"IF(#REF!,\"AAAAAG/7/AY=\",0)","v":{"$error":"#REF!"}},{"$f":"AND(#REF!,\"AAAAAG/7/Ac=\")","v":{"$error":"#REF!"}},{"$f":"AND(#REF!,\"AAAAAG/7/Ag=\")","v":{"$error":"#REF!"}},{"$f":"IF(#REF!,\"AAAAAG/7/Ak=\",0)","v":{"$error":"#REF!"}},{"$f":"AND(#REF!,\"AAAAAG/7/Ao=\")","v":{"$error":"#REF!"}},{"$f":"AND(#REF!,\"AAAAAG/7/As=\")","v":{"$error":"#REF!"}},{"$f":"IF(#REF!,\"AAAAAG/7/Aw=\",0)","v":{"$error":"#REF!"}},{"$f":"AND(#REF!,\"AAAAAG/7/A0=\")","v":{"$error":"#REF!"}},{"$f":"AND(#REF!,\"AAAAAG/7/A4=\")","v":{"$error":"#REF!"}},{"$f":"IF(#REF!,\"AAAAAG/7/A8=\",0)","v":{"$error":"#REF!"}},{"$f":"AND(#REF!,\"AAAAAG/7/BA=\")","v":{"$error":"#REF!"}},{"$f":"AND(#REF!,\"AAAAAG/7/BE=\")","v":{"$error":"#REF!"}},{"$f":"IF(#REF!,\"AAAAAG/7/BI=\",0)","v":{"$error":"#REF!"}},{"$f":"AND(#REF!,\"AAAAAG/7/BM=\")","v":{"$error":"#REF!"}},{"$f":"IF(#REF!,\"AAAAAG/7/BQ=\",0)","v":{"$error":"#REF!"}},{"$f":"AND(#REF!,\"AAAAAG/7/BU=\")","v":{"$error":"#REF!"}},{"$f":"IF(#REF!,\"AAAAAG/7/BY=\",0)","v":{"$error":"#REF!"}},{"$f":"AND(#REF!,\"AAAAAG/7/Bc=\")","v":{"$error":"#REF!"}},{"$f":"IF(#REF!,\"AAAAAG/7/Bg=\",0)","v":{"$error":"#REF!"}},{"$f":"AND(#REF!,\"AAAAAG/7/Bk=\")","v":{"$error":"#REF!"}},{"$f":"IF(#REF!,\"AAAAAG/7/Bo=\",0)","v":{"$error":"#REF!"}},{"$f":"IF(#REF!,\"AAAAAG/7/Bs=\",0)","v":{"$error":"#REF!"}},{"$f":"AND(#REF!,\"AAAAAG/7/Bw=\")","v":{"$error":"#REF!"}},{"$f":"IF(#REF!,\"AAAAAG/7/B0=\",0)","v":{"$error":"#REF!"}},{"$f":"IF(#REF!,\"AAAAAG/7/B4=\",0)","v":{"$error":"#REF!"}},{"$f":"AND(Jobs!C1,\"AAAAAG/7/B8=\")","v":{"$error":"#VALUE!"}},{"$f":"AND(Jobs!C2,\"AAAAAG/7/CA=\")","v":{"$error":"#VALUE!"}},{"$f":"AND(Jobs!C3,\"AAAAAG/7/CE=\")","v":{"$error":"#VALUE!"}},{"$f":"AND(Jobs!C4,\"AAAAAG/7/CI=\")","v":{"$error":"#VALUE!"}},{"$f":"AND(Jobs!C5,\"AAAAAG/7/CM=\")","v":{"$error":"#VALUE!"}},{"$f":"AND(Jobs!#REF!,\"AAAAAG/7/CQ=\")","v":{"$error":"#REF!"}},{"$f":"AND(Jobs!#REF!,\"AAAAAG/7/CU=\")","v":{"$error":"#REF!"}},{"$f":"AND(Jobs!C6,\"AAAAAG/7/CY=\")","v":{"$error":"#VALUE!"}},{"$f":"AND(Jobs!C7,\"AAAAAG/7/Cc=\")","v":{"$error":"#VALUE!"}},{"$f":"AND(Jobs!C8,\"AAAAAG/7/Cg=\")","v":{"$error":"#VALUE!"}},{"$f":"AND(Jobs!C9,\"AAAAAG/7/Ck=\")","v":{"$error":"#VALUE!"}},{"$f":"AND(Jobs!C10,\"AAAAAG/7/Co=\")","v":{"$error":"#VALUE!"}},{"$f":"AND(Jobs!C11,\"AAAAAG/7/Cs=\")","v":{"$error":"#VALUE!"}},{"$f":"AND(Jobs!C12,\"AAAAAG/7/Cw=\")","v":{"$error":"#VALUE!"}},{"$f":"IF(Jobs!C:C,\"AAAAAG/7/C0=\",0)","v":{"$error":"#VALUE!"}}]