{"text_format":"1","workbook":"xlsx","n_sheets":10,"sheets":["Marketer Visits","Marketer Mailings","Field Reps","Conferences","Big Mailings","RS Requests","Misc Mailings","Totals","Contacts","Sheet1"],"not_rendered":{"charts":0,"images":0,"macros":1,"external_links":0,"defined_names":0,"comments":0,"pivot_tables":0},"unopened":[],"bounds":{"document_bytes":16777216,"sheet_cells":100000,"rows_first":2000,"rows_last":500,"rows_between":2000,"halvings":0,"cell_chars":16384,"cell_head_chars":4096},"cells_cut":0,"cells_raw":0,"read":"whole","date_system":"1900"}

{"sheet":"Marketer Visits","index":0,"n_rows":217,"n_cols":19,"rows_kept":217,"cut":false,"hidden":false,"merged":[[152,0,152,17],[190,0,190,17],[216,0,216,17],[41,0,41,16],[7,0,7,16],[127,0,127,17],[166,0,166,17],[198,0,198,17],[93,0,93,17],[33,0,33,17],[0,0,0,18],[1,17,1,18],[80,0,80,17],[119,0,119,17],[2,0,2,15]]}
["MARKETER VISITS "]
[null,"Stress Balls","Pens","CEG   box=18","Catalogs","HS/MS Credit Brochures","Notepads","\"What's New\" Postcards","NCAA Postcards","Free Courses Postcard","\"Get More Materials\" Postcard","District Guides","Mice","Umbrellas","Golf Balls","CD","HS Posters","Shipping Costs"]
[]
["TOTALS",{"$f":"SUM(B5-B6)","v":90},{"$f":"SUM(C5-C6)","v":90},150,0,450,0,60,0,300,0,0,0,0,0,0,0,{"$f":"SUM(R5+R6)","v":3}]
["Requested Totals",{"$f":"SUM(B9+B43+B95+B129+B168+B200)","v":90},90,150,0,450,0,60,0,300,0,0,0,0,0,0,0,1]
["Returned Totals",{"$f":"SUM(B10+B44+B96+B130+B169+B201)","v":0},0,0,0,0,0,0,0,0,0,0,0,0,0,0,0,2]
["08-09 Totals"]
["Jim Rawson"]
["Requested Totals",{"$f":"SUM(B12:B33)","v":0},0,0,0,0,0,0,0,0,0,0,0,0,0,0,0,1,{"$f":"SUM(R9+R10)","v":3}]
["Returned Totals",{"$f":"SUM(B35:B41)","v":0},{"$f":"SUM(C35:C41)","v":0},0,{"$f":"SUM(E35:E41)","v":0},0,0,0,0,0,0,0,0,0,0,0,0,2]
["08-09 Totals"]
[null,null,null,null,null,null,null,null,null,null,null,null,null,null,null,null,null,1]
[]
[]
[]
[]
[]
[]
[]
[]
[]
[]
[]
[]
[]
[]
[]
[]
[]
[]
[]
[]
[]
["RETURNS"]
[null,null,null,null,null,null,null,null,null,null,null,null,null,null,null,null,null,2]
[]
[]
[]
[]
[]
[]
["John Kent"]
["Requested Totals",{"$f":"SUM(B46:B80)","v":90},{"$f":"SUM(C46:C80)","v":90},150,0,450,0,60,0,300,0,0,0,0,0,0,0,0,{"$f":"SUM(R43+R44)","v":0}]
["Returned Totals",{"$f":"SUM(B82:B93)","v":0},{"$f":"SUM(C82:C93)","v":0},0,0,0,0,0,0,0,0,0,0,0,0,0,0,0]
["08-09 Totals"]
["John Kent",30,30,50,0,150,0,20,null,100,null,null,0,0,0,0]
["John Kent",30,30,50,0,150,0,20,null,100,null,null,0,0,0,0]
["John Kent",30,30,50,0,150,0,20,null,100,null,null,0,0,0,0]
[]
[]
[]
[]
[]
[]
[]
[]
[]
[]
[]
[]
[]
[]
[]
[]
[]
[]
[]
[]
[]
[]
[]
[]
[]
[]
[]
[]
[]
[]
[]
[]
["RETURNS"]
[]
[]
[]
[]
[]
[]
[]
[]
[]
[]
[]
[]
["John Bushman"]
["Requested Totals",{"$f":"SUM(B98:B119)","v":0},{"$f":"SUM(C98:C119)","v":0},0,0,0,0,0,0,0,0,0,0,0,0,0,0,0,{"$f":"SUM(R95+R96)","v":0}]
["Returned Totals",{"$f":"SUM(B121:B127)","v":0},{"$f":"SUM(C121:C127)","v":0},0,0,0,0,0,0,0,0,0,0,0,0,0,0,0]
["08-09 Totals"]
[]
[]
[]
[]
[]
[]
[]
[]
[]
[]
[]
[]
[]
[]
[]
[]
[]
[]
[]
[]
[]
[]
["RETURNS"]
[]
[]
[]
[]
[]
[]
[]
["Jedd Maylett"]
["Requested Totals",{"$f":"SUM(B132:B152)","v":0},{"$f":"SUM(C132:C152)","v":0},0,0,0,0,0,0,0,0,0,0,0,0,0,0,0,{"$f":"SUM(R129+R130)","v":0}]
["Returned Totals",{"$f":"SUM(B154:B166)","v":0},{"$f":"SUM(C154:C166)","v":0},0,0,0,0,0,0,0,0,0,0,0,0,0,0,0]
["08-09 Totals"]
[]
[]
[]
[]
[]
[]
[]
[]
[]
[]
[]
[]
[]
[]
[]
[]
[]
[]
[]
[]
[]
["RETURNS"]
[]
[]
[]
[]
[]
[]
[]
[]
[]
[]
[]
[]
[]
["Nathan Hallows"]
["Requested Totals",{"$f":"SUM(B171:B190)","v":0},{"$f":"SUM(C171:C190)","v":0},0,0,0,0,0,0,0,0,0,0,0,0,0,0,0,{"$f":"SUM(R168+R169)","v":0}]
["Returned Totals",{"$f":"SUM(B192:B198)","v":0},{"$f":"SUM(C192:C198)","v":0},0,0,0,0,0,0,0,0,0,0,0,0,0,0,0]
["08-09 Totals"]
[]
[]
[]
[]
[]
[]
[]
[]
[]
[]
[]
[]
[]
[]
[]
[]
[]
[]
[]
[]
["RETURNS"]
[]
[]
[]
[]
[]
[]
[]
["Other"]
["Requested Totals",{"$f":"SUM(B203:B216)","v":0},{"$f":"SUM(C203:C216)","v":0},0,0,0,0,0,0,0,0,0,0,0,0,0,0,{"$f":"SUM(R203:R216)","v":0},{"$f":"SUM(R200+R201)","v":0}]
["Returned Totals",{"$f":"SUM(B218:B224)","v":0},{"$f":"SUM(C218:C224)","v":0},0,0,0,0,0,0,0,0,0,0,0,0,0,0,0]
["08-09 Totals"]
[]
[]
[]
[]
[]
[]
[]
[]
[]
[]
[]
[]
[]
[]
["RETURNS"]

{"sheet":"Marketer Mailings","index":1,"n_rows":210,"n_cols":19,"rows_kept":210,"cut":false,"hidden":false,"merged":[[7,0,7,18],[0,0,0,18],[2,0,2,18],[41,0,41,17],[78,0,78,17],[1,17,1,18],[34,0,34,17],[71,0,71,17],[104,0,104,17],[130,0,130,17],[169,0,169,17],[137,0,137,17],[209,0,209,17],[176,0,176,17],[111,0,111,17]]}
["MARKETER MAILINGS"]
[null,"Stress\nBalls","Pens","CEG    box=18","Catalogs","HS/MS Credit Brochure","Notepads ","\"What's New\" Postcard","NCAA Postcard","Free Courses Postcard","\"Get More Materials\" Postcard","District Guides","Mice","Umbrellas","Golf Balls","CD","HS\nPosters","Shipping Costs"]
[]
["TOTALS",{"$f":"SUM(B5-B6)","v":0},{"$f":"SUM(C5-C6)","v":20},4,0,80,0,0,0,16,0,0,0,92,0,0,0,{"$f":"SUM(R5+R6)","v":9}]
["Requested Totals",{"$f":"SUM(B9+B43+B80+B113+B139+B178)","v":0},{"$f":"SUM(C9+C43+C80+C113+C139+C178)","v":20},4,0,80,0,0,0,16,0,0,0,92,0,0,0,{"$f":"SUM(R9+R43+R80+R113+R139+R178)","v":4}]
["Returned Totals",{"$f":"SUM(B10+B44+B81+B114+B140+B179)","v":0},{"$f":"SUM(C10+C44+C81+C114+C140+C179)","v":0},0,0,0,0,0,0,0,0,0,0,0,0,0,0,{"$f":"SUM(R10+R44+R81+R114+R140+R179)","v":5}]
["09-10 Totals"]
["Jim Rawson\nJenn Watson"]
["TOTAL",{"$f":"SUM(B12:B34)","v":0},{"$f":"SUM(C12:C34)","v":0},0,0,0,0,0,0,0,0,0,0,0,0,0,0,4,{"$f":"SUM(R9+R10)","v":9}]
["Returned Totals",{"$f":"SUM(B36:B41)","v":0},{"$f":"SUM(C36:C41)","v":0},0,0,0,0,0,0,0,0,0,0,0,0,0,0,{"$f":"SUM(R36:R41)","v":5}]
["08-09 Totals"]
[null,null,null,null,null,null,null,null,null,null,null,null,null,null,null,null,null,4]
[]
[]
[]
[]
[]
[]
[]
[]
[]
[]
[]
[]
[]
[]
[]
[]
[]
[]
[]
[]
[]
[]
["RETURNS"]
[null,null,null,null,null,null,null,null,null,null,null,null,null,null,null,null,null,5]
[]
[]
[]
[]
[]
["John Kent\nAnders Conk"]
["TOTAL",{"$f":"SUM(B46:B71)","v":0},{"$f":"SUM(C46:C71)","v":0},0,0,0,0,0,0,0,0,0,0,0,0,0,0,0,{"$f":"SUM(R43+R44)","v":0}]
["Returned Totals",{"$f":"SUM(B73:B78)","v":0},{"$f":"SUM(C73:C78)","v":0},0,0,0,0,0,0,0,0,0,0,0,0,0,0,0]
["08-09 Totals"]
[]
[]
[]
[]
[]
[]
[]
[]
[]
[]
[]
[]
[]
[]
[]
[]
[]
[]
[]
[]
[]
[]
[]
[]
[]
[]
["RETURNS"]
[]
[]
[]
[]
[]
[]
["John Bushman                                                            "]
["TOTAL",{"$f":"SUM(B83:B104)","v":0},{"$f":"SUM(C83:C104)","v":15},3,0,60,0,0,0,12,0,0,0,69,0,0,0,0,{"$f":"SUM(R80+R81)","v":0}]
["Returned Totals ",{"$f":"SUM(B106:B111)","v":0},{"$f":"SUM(C106:C111)","v":0},0,0,0,0,0,0,0,0,0,0,0,0,0,0,0]
["08-09 Totals"]
["John Bushman",0,5,1,0,20,0,0,null,4,null,null,0,23,0,0]
["John Bushman",0,5,1,0,20,0,0,null,4,null,null,0,23,0,0]
["John Bushman",0,5,1,0,20,0,0,null,4,null,null,0,23,0,0]
[]
[]
[]
[]
[]
[]
[]
[]
[]
[]
[]
[]
[]
[]
[]
[]
[]
[]
[]
["RETURNS"]
[]
[]
[]
[]
[]
[]
["Jedd Maylett\nAngela Rowberry"]
["TOTAL",{"$f":"SUM(B116:B130)","v":0},{"$f":"SUM(C116:C130)","v":5},1,0,20,0,0,0,4,0,0,0,23,0,0,0,0,{"$f":"SUM(R113+R114)","v":0}]
["Returned Totals",{"$f":"SUM(B132:B137)","v":0},{"$f":"SUM(C132:C137)","v":0},0,0,0,0,0,0,0,0,0,0,0,0,0,0,0]
["08-09 Totals"]
[null,0,5,1,0,20,0,0,null,4,null,null,0,23,0,0]
[]
[]
[]
[]
[]
[]
[]
[]
[]
[]
[]
[]
[]
[]
["RETURNS"]
[]
[]
[]
[]
[]
[]
["Nathan Hallows\nNichole Baer"]
["TOTAL",{"$f":"SUM(B142:B169)","v":0},0,0,0,0,0,0,0,0,0,0,0,0,0,0,0,0,{"$f":"SUM(R139+R140)","v":0}]
["Returned Totals",{"$f":"SUM(B171:B176)","v":0},{"$f":"SUM(C171:C176)","v":0},0,0,0,0,0,0,0,0,0,0,0,0,0,0,0]
["08-09 Totals"]
[]
[]
[]
[]
[]
[]
[]
[]
[]
[]
[]
[]
[]
[]
[]
[]
[]
[]
[]
[]
[]
[]
[]
[]
[]
[]
[]
[]
["RETURNS"]
[]
[]
[]
[]
[]
[]
["Other"]
["TOTAL",{"$f":"SUM(B181:B209)","v":0},0,0,0,0,0,0,0,0,0,0,0,0,0,0,0,0,{"$f":"SUM(R178+R179)","v":0}]
["Returned Totals",{"$f":"SUM(B211:B217)","v":0},{"$f":"SUM(C211:C217)","v":0},0,0,0,0,0,0,0,0,0,0,0,0,0,0,0]
["08-09 Totals"]
[]
[]
[]
[]
[]
[]
[]
[]
[]
[]
[]
[]
[]
[]
[]
[]
[]
[]
[]
[]
[]
[]
[]
[]
[]
[]
[]
[]
[]
["RETURNS"]

{"sheet":"Field Reps","index":2,"n_rows":154,"n_cols":18,"rows_kept":154,"cut":false,"hidden":false,"merged":[[1,17,1,18],[0,0,0,18],[2,0,2,18],[152,0,152,17]]}
["FIELD REPS"]
[null,"Stress\nBalls","Pens","CEG    box=18","Catalogs","HS/MS Credit Brochure","Notepads ","\"What's New\" Postcard","NCAA Postcard","Free Courses Postcard","\"Get More Materials\" Postcard","District Guides","Mice","Umbrellas","Golf Balls","CD","HS\nPosters","Shipping Costs"]
[]
["TOTALS",{"$f":"SUM(B5-B6)","v":1500},{"$f":"SUM(C5-C6)","v":2000},800,200,2000,1500,1000,0,1000,0,0,300,10,30,150,0,{"$f":"SUM(R5+R6)","v":15}]
["Requested Totals",{"$f":"SUM(B8:B152)","v":1500},2000,800,200,2000,1500,1000,0,1000,0,0,300,10,30,150,0,7]
["Returned Totals",{"$f":"SUM(B154:B159)","v":0},{"$f":"SUM(C154:C159)","v":0},0,0,0,0,0,0,0,0,0,0,0,0,0,0,8]
["08-09 Totals"]
["Jim Rawson",150,200,80,20,200,150,100,null,100,null,null,30,1,3,15,null,7]
["Jim Rawson",150,200,80,20,200,150,100,null,100,null,null,30,1,3,15]
["Jim Rawson",150,200,80,20,200,150,100,null,100,null,null,30,1,3,15]
["Jim Rawson",150,200,80,20,200,150,100,null,100,null,null,30,1,3,15]
["Jim Rawson",150,200,80,20,200,150,100,null,100,null,null,30,1,3,15]
["Jim Rawson",150,200,80,20,200,150,100,null,100,null,null,30,1,3,15]
["Jim Rawson",150,200,80,20,200,150,100,null,100,null,null,30,1,3,15]
["Jim Rawson",150,200,80,20,200,150,100,null,100,null,null,30,1,3,15]
["Jim Rawson",150,200,80,20,200,150,100,null,100,null,null,30,1,3,15]
["Jim Rawson",150,200,80,20,200,150,100,null,100,null,null,30,1,3,15]
[]
[]
[]
[]
[]
[]
[]
[]
[]
[]
[]
[]
[]
[]
[]
[]
[]
[]
[]
[]
[]
[]
[]
[]
[]
[]
[]
[]
[]
[]
[]
[]
[]
[]
[]
[]
[]
[]
[]
[]
[]
[]
[]
[]
[]
[]
[]
[]
[]
[]
[]
[]
[]
[]
[]
[]
[]
[]
[]
[]
[]
[]
[]
[]
[]
[]
[]
[]
[]
[]
[]
[]
[]
[]
[]
[]
[]
[]
[]
[]
[]
[]
[]
[]
[]
[]
[]
[]
[]
[]
[]
[]
[]
[]
[]
[]
[]
[]
[]
[]
[]
[]
[]
[]
[]
[]
[]
[]
[]
[]
[]
[]
[]
[]
[]
[]
[]
[]
[]
[]
[]
[]
[]
[]
[]
[]
[]
[]
[]
[]
[]
[]
[]
[]
[]
["RETURNS"]
[null,null,null,null,null,null,null,null,null,null,null,null,null,null,null,null,null,8]

{"sheet":"Conferences","index":3,"n_rows":7,"n_cols":18,"rows_kept":7,"cut":false,"hidden":false,"merged":[[0,0,0,18],[2,0,2,18],[54,0,55,0],[56,0,57,0],[1,17,1,18],[38,0,39,0],[42,0,43,0],[8,0,9,0],[46,0,47,0],[48,0,49,0],[52,0,53,0],[50,0,51,0],[40,0,41,0],[20,0,21,0],[10,0,11,0],[12,0,13,0],[14,0,15,0],[16,0,17,0],[18,0,19,0],[62,0,63,0],[74,0,75,0],[72,0,73,0],[36,0,37,0],[58,0,59,0],[44,0,45,0],[70,0,71,0],[68,0,69,0],[60,0,61,0],[26,0,27,0],[28,0,29,0],[22,0,23,0],[24,0,25,0],[34,0,35,0],[32,0,33,0],[30,0,31,0],[120,0,121,0],[64,0,65,0],[66,0,67,0],[82,0,83,0],[84,0,85,0],[88,0,89,0],[92,0,93,0],[80,0,81,0],[78,0,79,0],[76,0,77,0],[122,0,123,0],[86,0,87,0],[94,0,95,0],[96,0,97,0],[98,0,99,0],[100,0,101,0],[102,0,103,0],[104,0,105,0],[106,0,107,0],[108,0,109,0],[110,0,111,0],[112,0,113,0],[114,0,115,0],[90,0,91,0],[116,0,117,0],[118,0,119,0],[124,0,125,0],[126,0,127,0],[142,0,143,0],[144,0,145,0],[146,0,147,0],[130,0,131,0],[132,0,133,0],[134,0,135,0],[136,0,137,0],[128,0,129,0],[138,0,139,0],[140,0,141,0],[188,0,189,0],[150,0,151,0],[152,0,153,0],[154,0,155,0],[156,0,157,0],[160,0,161,0],[162,0,163,0],[148,0,149,0],[182,0,183,0],[184,0,185,0],[186,0,187,0],[168,0,169,0],[170,0,171,0],[172,0,173,0],[174,0,175,0],[176,0,177,0],[178,0,179,0],[164,0,165,0],[166,0,167,0],[180,0,181,0],[158,0,159,0]]}
["CONFERENCES"]
[null,"Stress\nBalls","Pens","CEG    box=18","Catalogs","HS/MS Credit Brochure","Notepads ","\"What's New\" Postcard","NCAA Postcard","Free Courses Postcard","\"Get More Materials\" Postcard","District Guides","Mice","Umbrellas","Golf Balls","CD","HS\nPosters","Shipping Costs"]
[]
["TOTAL USED",{"$f":"SUM(B5-B6)","v":0},{"$f":"SUM(C5-C6)","v":0},0,0,0,0,0,0,0,0,0,0,0,0,0,0,{"$f":"SUM(R5+R6)","v":0}]
["Requested Totals",{"$f":"SUM(B9+B11+B13+B15+B17+B19+B21+B23+B25+B27+B29+B31+B33+B35+B37+B39+B41+B43+B45+B47+B49+B51+B53+B55+B57+B59+B61+B63+B65+B67+B69+B71+B73+B75+B77+B79+B81+B83+B85+B87+B89+B91+B93+B95+B97+B99+B101+B103+B105+B107+B109+B111+B113+B115+B117+B119+B121+B123+B125+B127+B129+B131+B133+B135+B137+B139+B141+B143+B145+B147+B149+B151+B153+B155+B157+B159+B161+B163+B165+B167+B169+B171+B173+B175+B177+B179+B181+B183+B185+B187+B189)","v":0},{"$f":"SUM(C9+C11+C13+C15+C17+C19+C21+C23+C25+C27+C29+C31+C33+C35+C37+C39+C41+C43+C45+C47+C49+C51+C53+C55+C57+C59+C61+C63+C65+C67+C69+C71+C73+C75+C77+C79+C81+C83+C85+C87+C89+C91+C93+C95+C97+C99+C101+C103+C105+C107+C109+C111+C113+C115+C117+C119+C121+C123+C125+C127+C129+C131+C133+C135+C137+C139+C141+C143+C145+C147+C149+C151+C153+C155+C157+C159+C161+C163+C165+C167+C169+C171+C173+C175+C177+C179+C181+C183+C185+C187+C189)","v":0},0,0,0,0,0,0,0,0,0,0,0,0,0,0,0]
["Returned Totals",{"$f":"SUM(B10+B12+B14+B16+B18+B20+B22+B24+B26+B28+B30+B32+B34+B36+B38+B40+B42+B44+B46+B48+B50+B52+B54+B56+B58+B60+B62+B64+B66+B68+B70+B72+B74+B76+B78+B80+B82+B84+B86+B88+B90+B92+B94+B96+B98+B100+B102+B104+B106+B108+B110+B112+B114+B116+B118+B120+B122+B124+B126+B128+B130+B132+B134+B136+B138+B140+B142+B144+B146+B148+B150+B152+B154+B156+B158+B160+B162+B164+B166+B168+B170+B172+B174+B176+B178+B180+B182+B184+B186+B188+B190)","v":0},{"$f":"SUM(C10+C12+C14+C16+C18+C20+C22+C24+C26+C28+C30+C32+C34+C36+C38+C40+C42+C44+C46+C48+C50+C52+C54+C56+C58+C60+C62+C64+C66+C68+C70+C72+C74+C76+C78+C80+C82+C84+C86+C88+C90+C92+C94+C96+C98+C100+C102+C104+C106+C108+C110+C112+C114+C116+C118+C120+C122+C124+C126+C128+C130+C132+C134+C136+C138+C140+C142+C144+C146+C148+C150+C152+C154+C156+C158+C160+C162+C164+C166+C168+C170+C172+C174+C176+C178+C180+C182+C184+C186+C188+C190)","v":0},0,0,0,0,0,0,0,0,0,0,0,0,0,0,0]
["09-10 Totals"]

{"sheet":"Big Mailings","index":4,"n_rows":23,"n_cols":10,"rows_kept":23,"cut":false,"hidden":false,"merged":[[1,9,1,10],[0,0,0,10],[22,0,22,9],[9,10,9,14],[7,0,7,9]]}
["MAILINGS"]
[null,"CEG         box =18","Catalogs","HS/MS Credit Brochures","\"What's New\" Postcard","NCAA Postcard","Free Courses Postcard","\"Get More Materials\" Postcard","HS Posters","Shipping Costs"]
[]
["TOTALS",{"$f":"SUM(B5-B6)","v":0},{"$f":"SUM(C5-C6)","v":0},0,0,0,{"$f":"SUM(G5-G6)","v":0},{"$f":"SUM(H5-H6)","v":0},0,{"$f":"SUM(J5+J6)","v":0}]
["Requested Totals",{"$f":"SUM(B9:B22)","v":0},0,0,0,0,0,0,0,0]
["Returned Totals",{"$f":"SUM(B24:B32)","v":0},{"$f":"SUM(C24:C32)","v":0},0,{"$f":"SUM(E24:E32)","v":0},0,{"$f":"SUM(G24:G32)","v":0},{"$f":"SUM(H24:H32)","v":0},0,0]
["08-09 Totals"]
[]
[]
[]
[]
[]
[]
[]
[]
[]
[]
[]
[]
[]
[]
[]
["RETURNS"]

{"sheet":"RS Requests","index":5,"n_rows":33,"n_cols":10,"rows_kept":33,"cut":false,"hidden":false,"merged":[[36,1,36,2],[36,3,36,6],[3,1,3,2],[3,3,3,6],[40,1,40,2],[40,3,40,6],[37,1,37,2],[37,3,37,6],[38,1,38,2],[38,3,38,6],[39,1,39,2],[39,3,39,6],[33,1,33,2],[33,3,33,6],[34,1,34,2],[34,3,34,6],[35,1,35,2],[35,3,35,6],[6,1,6,2],[6,3,6,6],[5,1,5,2],[5,3,5,6],[32,0,32,9],[0,0,0,10],[1,1,1,2],[1,3,1,6],[1,9,1,10],[4,1,4,2],[4,3,4,6]]}
["RS REQUESTS\n(Monthly Total)"]
[null,"CEG",null,"Regular Catalogs",null,null,null,"HS/MS Credit Brochures","CD's","Mailing Costs"]
[]
["TOTALS",{"$f":"SUM(B5-B6)","v":0},null,{"$f":"SUM(D5-D6)","v":0},null,{"$f":"SUM(F5-F6)","v":0},null,{"$f":"SUM(H5-H6)","v":0},{"$f":"SUM(I5-I6)","v":0},{"$f":"SUM(J5+J6)","v":0}]
["Requested Total",{"$f":"SUM(B10+B12+B14+B16+B18+B20+B22+B24+B26+B28+B30+B32+C10+C12+C14+C16+C18+C20+C22+C24+C26+C28+C30+C32)","v":0},null,{"$f":"SUM(G10+G12+G14+G16+G18+G20+G22+G24+G26+G28+G30+G32)","v":0},{"$f":"SUM(E10+E12+E14+E16+E18+E20+E22+E24+E26+E28+E30+E32)","v":0},null,{"$f":"SUM(G10+G12+G14+G16+G18+G20+G22+G24+G26+G28+G30+G32)","v":0},{"$f":"SUM(H10+H12+H14+H16+H18+H20+H22+H24+H26+H28+H30+H32)","v":0},{"$f":"SUM(I10+I12+I14+I16+I18+I20+I22+I24+I26+I28+I30+I32)","v":0},{"$f":"SUM(J10+J12+J14+J16+J18+J20+J22+J24+J26+J28+J30+J32)","v":0}]
["Returned Total",{"$f":"SUM(B34:C41)","v":0},null,{"$f":"SUM(D34:G41)","v":0},null,null,null,{"$f":"SUM(H34:H41)","v":0},{"$f":"SUM(I34:I41)","v":0},{"$f":"SUM(J34:J41)","v":0}]
["08-09 Totals",{"$f":"SUM(B9+C9+B11+C11+B13+C13+B15+C15+B17+C17+B19+C19+B21+C21+B23+C23+B25+C25+B27+C27+B29+C29+B31+C31)","v":0},null,{"$f":"SUM(G9+G11+G13+G15+G17+G19+G21+G23+G25+G27+G29+G31)","v":0},null,null,null,{"$f":"SUM(K9+K11+K13+K15+K17+K19+K21+K23+K25+K27+K29+K31)","v":0},{"$f":"SUM(L9+L11+L13+L15+L17+L19+L21+L23+L25+L27+L29+L31)","v":0},{"$f":"SUM(M9+M11+M13+M15+M17+M19+M21+M23+M25+M27+M29+M31)","v":0}]
[null,"Mail","Campus","Mail","Foyer","Campus","Total","Mail","Mail"]
["Aug-09",null,null,null,null,null,{"$f":"SUM(D9+E9+F9)","v":0}]
[null,null,null,null,null,null,{"$f":"SUM(D10+E10+F10)","v":0}]
["Sept-09",null,null,null,null,null,{"$f":"SUM(D11+E11+F11)","v":0}]
[null,null,null,null,null,null,0]
["Oct-09",null,null,null,null,null,0]
[null,null,null,null,null,null,0]
["Nov-09",null,null,null,null,null,0]
[null,null,null,null,null,null,0]
["Dec-09",null,null,null,null,null,0]
[null,null,null,null,null,null,0]
["Jan-10",null,null,null,null,null,0]
[null,null,null,null,null,null,0]
["Feb-10",null,null,null,null,null,0]
[null,null,null,null,null,null,0]
["Mar-10",null,null,null,null,null,0]
[null,null,null,null,null,null,0]
["Apr-10",null,null,null,null,null,0]
[null,null,null,null,null,null,0]
["May-10",null,null,null,null,null,0]
[null,null,null,null,null,null,0]
["June-10",null,null,null,null,null,0]
[null,null,null,null,null,null,0]
["July-10",null,null,null,null,null,0]
[null,null,null,null,null,null,0]
["RETURNS"]

{"sheet":"Misc Mailings","index":6,"n_rows":4,"n_cols":5,"rows_kept":4,"cut":false,"hidden":false,"merged":[[0,0,0,4],[1,0,1,3]]}
["Misc. Non-Inventory Shipping Costs"]
["TOTAL",null,null,null,{"$f":"SUM(E5:E48)","v":0}]
[null,null,null,"09-10 Total"]
["Date","Item","Shipped To","Requested By","Cost"]

{"sheet":"Totals","index":7,"n_rows":35,"n_cols":19,"rows_kept":35,"cut":false,"hidden":false,"merged":[[1,17,1,18],[25,14,25,16],[22,1,24,2],[0,0,0,17]]}
["TOTALS"]
["School Year 2010-2011","Stress\nBalls","Pens","CEG    box=18","Catalogs","HS/MS Credit Brochure","Notepads","\"What's New\" Postcard","NCAA Postcard","Free Courses Postcard","\"Get More Materials\" Postcard","District Guides","Mice","Umbrellas","Golf Balls","CD","HS\nPosters","Shipping Costs"]
["Marketers Visits 09-10 Total",{"$f":"'Marketer Visits'!B7","v":0},{"$f":"'Marketer Visits'!C7","v":0},{"$f":"'Marketer Visits'!D7","v":0},{"$f":"'Marketer Visits'!E7","v":0},{"$f":"'Marketer Visits'!F7","v":0},{"$f":"'Marketer Visits'!G7","v":0},{"$f":"'Marketer Visits'!H7","v":0},{"$f":"'Marketer Visits'!I7","v":0},{"$f":"'Marketer Visits'!J7","v":0},{"$f":"'Marketer Visits'!K7","v":0},{"$f":"'Marketer Visits'!L7","v":0},{"$f":"'Marketer Visits'!M7","v":0},{"$f":"'Marketer Visits'!N7","v":0},{"$f":"'Marketer Visits'!O7","v":0},{"$f":"'Marketer Visits'!P7","v":0},{"$f":"'Marketer Visits'!Q7","v":0},{"$f":"'Marketer Visits'!R7","v":0},{"$f":"'Marketer Visits'!R4","v":3}]
["Marketers Visits Requested",{"$f":"'Marketer Visits'!B5","v":90},{"$f":"'Marketer Visits'!C5","v":90},{"$f":"'Marketer Visits'!D5","v":150},{"$f":"'Marketer Visits'!E5","v":0},{"$f":"'Marketer Visits'!F5","v":450},{"$f":"'Marketer Visits'!G5","v":0},{"$f":"'Marketer Visits'!H5","v":60},{"$f":"'Marketer Visits'!I5","v":0},{"$f":"'Marketer Visits'!J5","v":300},{"$f":"'Marketer Visits'!K5","v":0},{"$f":"'Marketer Visits'!L5","v":0},{"$f":"'Marketer Visits'!M5","v":0},{"$f":"'Marketer Visits'!N5","v":0},{"$f":"'Marketer Visits'!O5","v":0},{"$f":"'Marketer Visits'!P5","v":0},{"$f":"'Marketer Visits'!Q5","v":0}]
["Marketer Visits Returned",{"$f":"'Marketer Visits'!B6","v":0},{"$f":"'Marketer Visits'!C6","v":0},{"$f":"'Marketer Visits'!D6","v":0},{"$f":"'Marketer Visits'!E6","v":0},{"$f":"'Marketer Visits'!F6","v":0},{"$f":"'Marketer Visits'!G6","v":0},{"$f":"'Marketer Visits'!H6","v":0},{"$f":"'Marketer Visits'!I6","v":0},{"$f":"'Marketer Visits'!J6","v":0},{"$f":"'Marketer Visits'!K6","v":0},{"$f":"'Marketer Visits'!L6","v":0},{"$f":"'Marketer Visits'!M6","v":0},{"$f":"'Marketer Visits'!N6","v":0},{"$f":"'Marketer Visits'!O6","v":0},{"$f":"'Marketer Visits'!P6","v":0},{"$f":"'Marketer Visits'!Q6","v":0}]
[]
["Marketer Mailings 09-10 Total",{"$f":"'Marketer Mailings'!B7","v":0},{"$f":"'Marketer Mailings'!C7","v":0},{"$f":"'Marketer Mailings'!D7","v":0},{"$f":"'Marketer Mailings'!E7","v":0},{"$f":"'Marketer Mailings'!F7","v":0},{"$f":"'Marketer Mailings'!G7","v":0},{"$f":"'Marketer Mailings'!H7","v":0},{"$f":"'Marketer Mailings'!I7","v":0},{"$f":"'Marketer Mailings'!J7","v":0},{"$f":"'Marketer Mailings'!K7","v":0},{"$f":"'Marketer Mailings'!L7","v":0},{"$f":"'Marketer Mailings'!M7","v":0},{"$f":"'Marketer Mailings'!N7","v":0},{"$f":"'Marketer Mailings'!O7","v":0},{"$f":"'Marketer Mailings'!P7","v":0},{"$f":"'Marketer Mailings'!Q7","v":0},{"$f":"'Marketer Mailings'!R7","v":0},{"$f":"'Marketer Mailings'!R4","v":9}]
["Marketer Mailings Requested",{"$f":"'Marketer Mailings'!B5","v":0},{"$f":"'Marketer Mailings'!C5","v":20},{"$f":"'Marketer Mailings'!D5","v":4},{"$f":"'Marketer Mailings'!E5","v":0},{"$f":"'Marketer Mailings'!F5","v":80},{"$f":"'Marketer Mailings'!G5","v":0},{"$f":"'Marketer Mailings'!H5","v":0},{"$f":"'Marketer Mailings'!I5","v":0},{"$f":"'Marketer Mailings'!J5","v":16},{"$f":"'Marketer Mailings'!K5","v":0},{"$f":"'Marketer Mailings'!L5","v":0},{"$f":"'Marketer Mailings'!M5","v":0},{"$f":"'Marketer Mailings'!N5","v":92},{"$f":"'Marketer Mailings'!O5","v":0},{"$f":"'Marketer Mailings'!P5","v":0},{"$f":"'Marketer Mailings'!Q5","v":0}]
["Marketer Mailings Returned",{"$f":"'Marketer Mailings'!B6","v":0},{"$f":"'Marketer Mailings'!C6","v":0},{"$f":"'Marketer Mailings'!D6","v":0},{"$f":"'Marketer Mailings'!E6","v":0},{"$f":"'Marketer Mailings'!F6","v":0},{"$f":"'Marketer Mailings'!G6","v":0},{"$f":"'Marketer Mailings'!H6","v":0},{"$f":"'Marketer Mailings'!I6","v":0},{"$f":"'Marketer Mailings'!J6","v":0},{"$f":"'Marketer Mailings'!K6","v":0},{"$f":"'Marketer Mailings'!L6","v":0},{"$f":"'Marketer Mailings'!M6","v":0},{"$f":"'Marketer Mailings'!N6","v":0},{"$f":"'Marketer Mailings'!O6","v":0},{"$f":"'Marketer Mailings'!P6","v":0},{"$f":"'Marketer Mailings'!Q6","v":0}]
[]
["Field Reps 09-10 Total",{"$f":"'Field Reps'!B7","v":0},{"$f":"'Field Reps'!C7","v":0},{"$f":"'Field Reps'!D7","v":0},{"$f":"'Field Reps'!E7","v":0},{"$f":"'Field Reps'!F7","v":0},{"$f":"'Field Reps'!G7","v":0},{"$f":"'Field Reps'!H7","v":0},{"$f":"'Field Reps'!I7","v":0},{"$f":"'Field Reps'!J7","v":0},{"$f":"'Field Reps'!K7","v":0},{"$f":"'Field Reps'!L7","v":0},{"$f":"'Field Reps'!M7","v":0},{"$f":"'Field Reps'!N7","v":0},{"$f":"'Field Reps'!O7","v":0},{"$f":"'Field Reps'!P7","v":0},{"$f":"'Field Reps'!Q7","v":0},{"$f":"'Field Reps'!R7","v":0},{"$f":"'Field Reps'!R4","v":15}]
["Field Reps Requested",{"$f":"'Field Reps'!B5","v":1500},{"$f":"'Field Reps'!C5","v":2000},{"$f":"'Field Reps'!D5","v":800},{"$f":"'Field Reps'!E5","v":200},{"$f":"'Field Reps'!F5","v":2000},{"$f":"'Field Reps'!G5","v":1500},{"$f":"'Field Reps'!H5","v":1000},{"$f":"'Field Reps'!I5","v":0},{"$f":"'Field Reps'!J5","v":1000},{"$f":"'Field Reps'!K5","v":0},{"$f":"'Field Reps'!L5","v":0},{"$f":"'Field Reps'!M5","v":300},{"$f":"'Field Reps'!N5","v":10},{"$f":"'Field Reps'!O5","v":30},{"$f":"'Field Reps'!P5","v":150},{"$f":"'Field Reps'!Q5","v":0}]
["Field Reps Returned",{"$f":"'Field Reps'!B6","v":0},{"$f":"'Field Reps'!C6","v":0},{"$f":"'Field Reps'!D6","v":0},{"$f":"'Field Reps'!E6","v":0},{"$f":"'Field Reps'!F6","v":0},{"$f":"'Field Reps'!G6","v":0},{"$f":"'Field Reps'!H6","v":0},{"$f":"'Field Reps'!I6","v":0},{"$f":"'Field Reps'!J6","v":0},{"$f":"'Field Reps'!K6","v":0},{"$f":"'Field Reps'!L6","v":0},{"$f":"'Field Reps'!M6","v":0},{"$f":"'Field Reps'!N6","v":0},{"$f":"'Field Reps'!O6","v":0},{"$f":"'Field Reps'!P6","v":0},{"$f":"'Field Reps'!Q6","v":0}]
[]
["Conferences 09-10 Total",{"$f":"Conferences!B7","v":0},{"$f":"Conferences!C7","v":0},{"$f":"Conferences!D7","v":0},{"$f":"Conferences!E7","v":0},{"$f":"Conferences!F7","v":0},{"$f":"Conferences!G7","v":0},{"$f":"Conferences!H7","v":0},{"$f":"Conferences!I7","v":0},{"$f":"Conferences!J7","v":0},{"$f":"Conferences!K7","v":0},{"$f":"Conferences!L7","v":0},{"$f":"Conferences!M7","v":0},{"$f":"Conferences!N7","v":0},{"$f":"Conferences!O7","v":0},{"$f":"Conferences!P7","v":0},{"$f":"Conferences!Q7","v":0},{"$f":"Conferences!R7","v":0},{"$f":"Conferences!R4","v":0}]
["Conferences Requested",{"$f":"Conferences!B5","v":0},{"$f":"Conferences!C5","v":0},{"$f":"Conferences!D5","v":0},{"$f":"Conferences!E5","v":0},{"$f":"Conferences!F5","v":0},{"$f":"Conferences!G5","v":0},{"$f":"Conferences!H5","v":0},{"$f":"Conferences!I5","v":0},{"$f":"Conferences!J5","v":0},{"$f":"Conferences!K5","v":0},{"$f":"Conferences!L5","v":0},{"$f":"Conferences!M5","v":0},{"$f":"Conferences!N5","v":0},{"$f":"Conferences!O5","v":0},{"$f":"Conferences!P5","v":0},{"$f":"Conferences!Q5","v":0}]
["Conferences Returned",{"$f":"Conferences!B6","v":0},{"$f":"Conferences!C6","v":0},{"$f":"Conferences!D6","v":0},{"$f":"Conferences!E6","v":0},{"$f":"Conferences!F6","v":0},{"$f":"Conferences!G6","v":0},{"$f":"Conferences!H6","v":0},{"$f":"Conferences!I6","v":0},{"$f":"Conferences!J6","v":0},{"$f":"Conferences!K6","v":0},{"$f":"Conferences!L6","v":0},{"$f":"Conferences!M6","v":0},{"$f":"Conferences!N6","v":0},{"$f":"Conferences!O6","v":0},{"$f":"Conferences!P6","v":0},{"$f":"Conferences!Q6","v":0}]
[]
["Big Mailings 09-10 Total",null,null,{"$f":"'Big Mailings'!B7","v":0},{"$f":"'Big Mailings'!C7","v":0},{"$f":"'Big Mailings'!D7","v":0},null,{"$f":"'Big Mailings'!F7","v":0},{"$f":"'Big Mailings'!G7","v":0},{"$f":"'Big Mailings'!H7","v":0},{"$f":"'Big Mailings'!I7","v":0},null,null,null,null,null,{"$f":"'Big Mailings'!I7","v":0},{"$f":"'Big Mailings'!J7","v":0},{"$f":"'Big Mailings'!J4","v":0}]
["Big Mailings Requested",null,null,{"$f":"'Big Mailings'!B5","v":0},{"$f":"'Big Mailings'!C5","v":0},{"$f":"'Big Mailings'!D5","v":0},null,{"$f":"'Big Mailings'!F5","v":0},{"$f":"'Big Mailings'!G5","v":0},{"$f":"'Big Mailings'!H5","v":0},{"$f":"'Big Mailings'!I5","v":0},null,null,null,null,null,{"$f":"'Big Mailings'!I5","v":0}]
["Big Mailings Returned",null,null,{"$f":"'Big Mailings'!B6","v":0},{"$f":"'Big Mailings'!C6","v":0},{"$f":"'Big Mailings'!D6","v":0},null,{"$f":"'Big Mailings'!F6","v":0},{"$f":"'Big Mailings'!G6","v":0},{"$f":"'Big Mailings'!H6","v":0},{"$f":"'Big Mailings'!I6","v":0},null,null,null,null,null,{"$f":"'Big Mailings'!I6","v":0}]
[]
["RS Requests 09-10 Total",null,null,{"$f":"'RS Requests'!B7","v":0},{"$f":"'RS Requests'!D7","v":0},{"$f":"'RS Requests'!H7","v":0},null,null,null,null,null,null,null,null,null,{"$f":"'RS Requests'!I7","v":0},null,{"$f":"'RS Requests'!J7","v":0},{"$f":"'RS Requests'!J4","v":0}]
["RS Requests ",null,null,{"$f":"'RS Requests'!B5","v":0},{"$f":"'RS Requests'!D5","v":0},{"$f":"'RS Requests'!H5","v":0},null,null,null,null,null,null,null,null,null,{"$f":"'RS Requests'!I5","v":0}]
["RS Requests Returned",null,null,{"$f":"'RS Requests'!B6","v":0},{"$f":"'RS Requests'!D6","v":0},{"$f":"'RS Requests'!H6","v":0},null,null,null,null,null,null,null,null,null,{"$f":"'RS Requests'!I6","v":0}]
[null,null,null,null,null,null,null,null,null,null,null,null,null,null,"Misc Mailings Total",null,null,{"$f":"'Misc Mailings'!E3","v":0},{"$f":"'Misc Mailings'!E2","v":0}]
["09-10 Used Total",{"$f":"SUM(B3+B7+B11+B15)","v":0},{"$f":"SUM(C3+C7+C11+C15)","v":0},{"$f":"SUM(D3+D7+D11+D15+D19+D23)","v":0},{"$f":"SUM(E3+E7+E11+E15+E19+E23)","v":0},{"$f":"SUM(F3+F7+F11+F15+F19+F23)","v":0},{"$f":"SUM(G3+G7+G11+G15)","v":0},{"$f":"SUM(H3+H7+H11+H15+H19)","v":0},{"$f":"SUM(I3+I7+I11+I15+I19)","v":0},{"$f":"SUM(J3+J7+J11+J15+J19)","v":0},{"$f":"SUM(K3+K7+K11+K15+K19)","v":0},{"$f":"SUM(L3+L7+L11+L15)","v":0},{"$f":"SUM(M3+M7+M11+M15)","v":0},{"$f":"SUM(N3+N7+N11+N15)","v":0},{"$f":"SUM(O3+O7+O11+O15)","v":0},{"$f":"SUM(P3+P7+P11+P15+P23)","v":0},{"$f":"SUM(Q3+Q7+Q11+Q15+Q19)","v":0}]
[]
["Beginning School Year Inventory"]
[]
["Used To Date Total",{"$f":"SUM('Marketer Visits'!B4+'Marketer Mailings'!B4+'Field Reps'!B4+Conferences!B4)","v":1590},{"$f":"SUM('Marketer Visits'!C4+'Marketer Mailings'!C4+'Field Reps'!C4+Conferences!C4)","v":2110},{"$f":"SUM('Marketer Visits'!D4+'Marketer Mailings'!D4+'Field Reps'!D4+Conferences!D4+'Big Mailings'!B4+'RS Requests'!B4)","v":954},{"$f":"SUM('Marketer Visits'!E4+'Marketer Mailings'!E4+'Field Reps'!E4+Conferences!E4+'Big Mailings'!C4+'RS Requests'!C4)","v":200},{"$f":"SUM('Marketer Visits'!F4+'Marketer Mailings'!F4+'Field Reps'!F4+Conferences!F4+'Big Mailings'!D4+'RS Requests'!D4)","v":2530},{"$f":"SUM('Marketer Visits'!G4+'Marketer Mailings'!G4+'Field Reps'!G4+Conferences!G4)","v":1500},{"$f":"SUM('Marketer Visits'!H4+'Marketer Mailings'!H4+'Field Reps'!H4+'Big Mailings'!E4)","v":1060},{"$f":"SUM('Marketer Visits'!I4+'Marketer Mailings'!I4+'Field Reps'!I4+'Big Mailings'!F4)","v":0},{"$f":"SUM('Marketer Visits'!J4+'Marketer Mailings'!J4+'Field Reps'!J4+'Big Mailings'!G4)","v":1316},{"$f":"SUM('Marketer Visits'!K4+'Marketer Mailings'!K4+'Field Reps'!K4+'Big Mailings'!H4)","v":0},{"$f":"SUM('Marketer Visits'!L4+'Marketer Mailings'!L4+'Field Reps'!L4+Conferences!L4)","v":0},{"$f":"SUM('Marketer Visits'!M4+'Marketer Mailings'!M4+'Field Reps'!M4+Conferences!M4)","v":300},{"$f":"SUM('Marketer Visits'!N4+'Marketer Mailings'!N4+'Field Reps'!N4+Conferences!N4)","v":102},{"$f":"SUM('Marketer Visits'!O4+'Marketer Mailings'!O4+'Field Reps'!O4+Conferences!O4)","v":30},{"$f":"SUM('Marketer Visits'!P4+'Marketer Mailings'!P4+'Field Reps'!P4+Conferences!P4+'RS Requests'!I4)","v":150},{"$f":"SUM('Marketer Visits'!Q4+'Marketer Mailings'!Q4+'Field Reps'!Q4+'Big Mailings'!N4)","v":0},{"$f":"SUM(S3+S7+S11+S15+S19+S23+S26)","v":27}]
[]
["CALCULATED TOTALS AVAILABLE ",{"$f":"SUM(B29-B31)","v":-1590},{"$f":"SUM(C29-C31)","v":-2110},-954,-200,-2530,-1500,-1060,0,-1316,0,0,-300,-102,-30,-150,0]
[]
["INVENTORY TOTALS  AVAILABLE 7-1"]

{"sheet":"Contacts","index":8,"n_rows":50,"n_cols":5,"rows_kept":50,"cut":false,"hidden":false,"merged":[[16,0,16,1],[22,0,22,1],[30,0,30,1],[47,0,47,1],[49,1,49,4],[12,0,12,1],[0,0,0,4],[2,0,2,1],[3,0,3,1],[4,0,4,1],[6,0,6,1]]}
["Marketing Department Employees"]
[]
["Russ Bryant, Assistant Director ",null,"Office: 422-6050","Cell: 319-9558","russell.bryant@byu.edu"]
["Sharon Meyers, Marketing  ",null,"Office: 422-8783","Cell: 228-8483","sharon.meyers@byu.edu "]
["Shannon Jensen, Advertising   ",null,"Office: 422-3909","Cell: 787-6084","shannon.jensen@byu.edu"]
[]
["Jim Rawson",null,"Office: 422-6292","Cell: 369-3766","jim.rawson@byu.edu"]
["Ashley Kenitzer ","925-895-1603","1366 Kolln Street ","Pleasanton, CA 94566","ashleykenitzer@yahoo.com"]
["Audrey Martinez","248-416-2241","29601 Citation Circle, Apt 9204","Farmington Hills, MI 48331","audreybmartinez@gmail.com"]
["Tracey Long ","702-873-5664","5870 W. Oquendo Rd.","Las Vegas, NV 89118","longforhome@cox.net"]
["Ralph Larson","801-224-3631","1232 S 490 West","Orem, UT 84058","larson.ralph@gmail.com"]
["Marlene Schuck","717-682-9649","180 Pitney Rd.","Lancaster, PA 17601","ktsmom2@verizon.net"]
["John Kent",null,"Office: 422-8101","Cell: 361-4078","john.kent@byu.edu"]
["Lisa Hanson","818-880-5573","5463 Ruthwood Dr.","Calabasas, CA 91302","lisachhanson@gmail.com"]
["Jill Petersen","703-690-7425","8956 Sycamore Ridge Road","Fairfax Station, VA 22039","sjkpetersen@verizon.net"]
["Robin Fluegel","815-914-3158","315 Ridgestone Trail","Poplar Grove, IL  61065","robin.fluegel@gmail.com"]
["Jedd Maylett",null,"Office: 422-2065","Cell: 885-2734","jedd.maylett@byu.edu"]
["Amy Stancliff ","541-923-2832","1303 NW 18th Street ","Redmond, OR 97756","amy_stancliff@yahoo.com"]
["Jeanne Grant","214-717-2262","6933 Windy Ridge ","Dallas, TX 75248","jzgrant@sbcglobal.net"]
["Cynthia Johnson","612-719-9060","3833 45th Avenue South","Minneapolis, MN 55406","cynthiaj@usiwireless.com"]
["Alexis Rich","860-779-1314","97 Laurel Road","Dayville, CT 06241","alexisrich@yahoo.com"]
["Kelly Henderson","801-830-2152","9258 Magnolia Way","Windsor, CA  95492","kellyandkids2006@yahoo.com"]
["John Bushman ",null,"Office: 422-3985","Cell: 361-4911","john.bushman@byu.edu"]
["Anne Dalton ","207-244-0354","7 Rocky Road ","Mt. Desert, ME 04660","daltons@myfairpoint.net"]
["Candace Collins ","210-563-8970","1226 Earlston Drive ","San Antonio, TX 78253","ce.collins@yahoo.com"]
["Kelley Crosby","949-355-6028","1035 W. Balboa Blvd.","Newport Beach, CA 92661","kelley.crosby@gmail.com"]
["Eric Stones","509-762-2211","9486 Stonecrest Road NE","Moses Lake, WA 98837","stonese@ldsces.org"]
["Jessica Brown ","919-946-8740","2420 Sapphire Valley Drive","Raleigh, NC 27604","jess_ty@bellsouth.net "]
["Sara Collett","801-380-5119","16554 NE 99th Street","Redmond, WA 98052","sara.collett@hotmail.com"]
["Richard Elms","734-255-8250","9545 Wood Bend Drive","Saline, MI 48176","elmsr@ldschurch.org"]
["Nathan Hallows",null,"Office: 422-8007","Cell: 380-0191","nathan.hallows@byu.edu"]
["Amy Orocu ","303-596-8347","1544 Goshawk Drive ","Longmont, CO 80501","amy_orocu@yahoo.com"]
["Tom Hunsaker","719-224-2586","6668 Bigleaf Lane","Colorado Springs, CO 80927","tkhunsaker@gmail.com"]
["Denise Stanley","661-993-2199","29075 Discovery Ridge Dr.","Santa Clarita, CA  91390","ddstanley7@gmail.com"]
["Doug Stern","262-349-0529","N24 W22722 Meadowood Ln","Waukesha, WI 53186","byu.doug@gmail.com"]
[]
[null,null,null,"Office/Cell"]
["Shipping Specialist",null,"Clay Drown","422-5668  /  801-358-9483","clay.drown@byu.edu"]
["Advertising Assistant",null,"Garrett Jackson","422-8543  /  360-219-7600","garrett.jackson@byu.edu"]
["Conference Assistant",null,"Pragya Adhikari","422-4787  /  408-455-0060","isconferences@byu.edu"]
["Marketing Coordinator Asst",null,"Ryan Galati","                   /  859-401-2404","ryan.galati@byu.edu"]
["John Kent's Assistant",null,"Anders Conk","422-8540  /  760-822-7625","anders.conk@byu.edu"]
["Jim Rawson's Assistant",null,"Jenn Watson","422-8542  /  801-615-3845","jennifer.watson@byu.edu"]
["Jedd Maylett's Assistant",null,"Angela Rowberry","422-1577  /  801-913-0704","angela.rowberry@byu.edu"]
["Nathan Hallows' Assistant",null,"Nicole Baer","422-1813  /  801-671-8937","nicole.baer@byu.edu"]
["John Bushman's Assistant",null,"Kelli Jo Black","422-1577  /  801-885-3914","kelli.black@byu.edu"]
[]
["Marketing Fax Number",null,"801-812-8885"]
[]
["Updated 11-17-10","N:\\Databases\\Marketing databases\\General Information\\Marketing Department"]

{"sheet":"Sheet1","index":9,"n_rows":9,"n_cols":20,"rows_kept":9,"cut":false,"hidden":false,"merged":[]}
["Timestamp","Your Name","Address","How many Stress Balls?","Pens","CEGs","Catalogs","HS/MS Credit Brochures","Notepads","\"What's New\" Postcards","\"Free Courses\" Postcard","Mice With Batteries","Golf Balls","Umbrellas","CDs","Misc.","When does it need to arrive?","Shipped","Shipping Number(s)","Inventory Type"]
["2011-03-10T11:10:06","Jim Rawson","Courtyard San Jose Campbell \n\n655 Creekside Way · Campbell, CA 95008 USA \n",150,200,80,20,200,150,100,100,30,1,3,15,null,"2011-03-25","No","972139874HIICIX0987,","Field Reps"]
["2011-04-04T14:00:27","Sharon","Eric Stones (please email him the tracking number)",null,null,25,null,null,null,null,null,null,null,null,null,null,"2011-04-08","Yes","98asd8798a7, 0987asd798sdf"]
["2011-04-04T12:00:18","Doug Stern (Chase)","ATTN: Valerie Schmitz\nKM Global Charter School\n349 N Oak Crest Dr.\nWales, WI 53183",null,null,3,null,null,null,null,null,null,null,null,null,"1 Doug Poster\n30 Doug Fliers","asap","Yes","972139874HIICIX0987,"]
["2011-04-04T10:46:14","Angela Rowberry","Counseling Department\nMarblehead High School\n2 Humphrey St\nMarblehead, MA 01945",null,null,null,null,20,null,null,null,null,null,null,null,null,"2011-04-11","Yes","972139874HIICIX0987,"]
["2011-04-04T10:45:01","John Bushman","Lorri Kimball\nAcademy of Notre Dame High School\n180 MIDDLESEX RD\nTYNGSBORO, MA 01879",null,5,1,null,20,null,null,4,null,23,null,null,null,"2011-04-11","No",null,"Mailings"]
["2011-04-04T10:43:11","Angela Rowberry","Cynthia Esielionis\nAyer Jr/Sr High School\n141 Washington St\nAyer, MA 01432",4,null,2,null,20,null,null,null,null,null,null,null,null,"2011-04-11","Yes","98asd8798a7, 0987asd798sdf"]
["2011-04-04T10:42:05","Angela Rowberry","Geoff Kromer\n1540 Lakeview Ave\nDracut, MA 01826",null,null,null,null,40,null,null,null,null,null,null,null,"4 ERG","2011-04-11","Yes","972139874HIICIX0987,"]
["2011-04-04T08:55:52","John Kent","Guest:  John Kent\nMelville Marriott Long Island\n1350 Old Walt Whitman Road\nMelville, New York  11747\nTelephone:  631-423-1600",30,30,50,null,150,null,20,100,null,null,null,null,null,"2011-04-11","No",null,"Visits"]