{"text_format":"1","workbook":"xlsx","n_sheets":3,"sheets":["Main","Normal Loss Table","Normal Loss Table (Inverse)"],"not_rendered":{"charts":0,"images":0,"macros":1,"external_links":0,"defined_names":68,"comments":0,"pivot_tables":0},"unopened":[],"bounds":{"document_bytes":16777216,"sheet_cells":100000,"rows_first":2000,"rows_last":500,"rows_between":2000,"halvings":0,"cell_chars":16384,"cell_head_chars":4096},"cells_cut":0,"cells_raw":0,"read":"whole","date_system":"1900"}

{"sheet":"Main","index":0,"n_rows":384,"n_cols":27,"rows_kept":384,"cut":false,"hidden":false,"merged":[]}
[]
[]
["PRODUCT","Weekly DEMAND","Cost","Inventory","Sales ","LT STD DEV","MARGIN OVER COST","Cycle Time (weeks)","ORDER QTY","SS","Column1","Column2","Column3","CURRENT SERVICE LEVEL","SERVICED DEMAND","Serviced (per week)","CURRENT INVENTORY","f(k) @ new","SS@new","Inventory at NEW","Sales at Current level","Sales at new","INCREMENTAL MARGIN","Inventory Carrying Cost increase","CONTRIBUTION MARGIN","DESIRED NEW SERVICE LEVEL","NEW MARGIN"]
["P 001",210.1,423.76140800000002,763.51800000000003,182.69928787173399,1,0.25,2,{"$f":"IF(A4=\"\",\"\",H4*B4)","v":420.2},{"$f":"IF(A4=\"\",\"\",IF(D4-(I4/2) > 0, D4-(I4/2), 0))","v":553.41800000000001},{"$f":"IF(A4=\"\",\"\",SQRT(($H4*POWER(E4,2)) + ((B4^2)*POWER(F4,2))))","v":333.01662057272375},{"$f":"IF(A4=\"\",\"\",J4/K4)","v":1.66183297112387},{"$f":"IF(A4=\"\",\"\",IF(L4 >3,3,L4))","v":1.66183297112387},{"$f":"IF(A4=\"\",\"\",1 - (VLOOKUP(M4,'Normal Loss Table (Inverse)'!$A$4:$B$33,2)*K4/I4))","v":0.98161355164853115},{"$f":"IF(A4=\"\",\"\",B4*N4)","v":206.23700720135639},{"$f":"IF(A4=\"\",\"\",O4*$C4)","v":87395.284553352933},{"$f":"IF(A4=\"\",\"\",C4*D4)","v":323549.46271334402},{"$f":"IF(A4=\"\",\"\",ROUND((1-$Z4)*(I4/K4),4))","v":1.2618},{"$f":"IF(A4=\"\",\"\",VLOOKUP(R4,'Normal Loss Table'!$A$3:$B$32,2)*K4)","v":0},{"$f":"IF(A4=\"\",\"\",I4/2+S4)","v":210.1},{"$f":"IF(A4=\"\",\"\",B4*C4*52*N4)","v":4544554.796774352},{"$f":"B4*C4*52*Z4","v":0},{"$f":"IF(A4=\"\",\"\",(V4-U4)*G4)","v":-1136138.699193588},{"$f":"IF(A4=\"\",\"\",(T4*C4-Q4)*0.2)","v":-46903.438178508804},{"$f":"IF(A4=\"\",\"\",W4-X4)","v":-1089235.2610150792},{"$f":"IF(A4=\"\",\"\",0)","v":0}]
["P 002",797.03846153846155,43.818332000000005,3945.1859999999992,408.04026913627337,1,0.25,2,1594.0769230769231,3148.1475384615378,{"$f":"IF(A5=\"\",\"\",SQRT(($H5*POWER(E5,2)) + ((B5^2)*POWER(1,2))))","v":984.0040811120665},3.1993236602267716,3,{"$f":"IF(A5=\"\",\"\",1 - (VLOOKUP(M5,'Normal Loss Table (Inverse)'!$A$4:$B$33,2)*K5/I5))","v":1},797.03846153846155,34924.89592446154,172871.46994975198,1.62,{"$f":"IF(A5=\"\",\"\",VLOOKUP(R5,'Normal Loss Table'!$A$3:$B$32,2)*K5)","v":0},797.03846153846155,1816094.5880720001,0,-454023.64701800002,-27589.314805058089,-426434.33221294195,0]
["P 003",29.076923076923077,80.927080000000004,1716.3719999999998,52.53377854662773,1,0.25,2,58.153846153846153,1687.2950769230767,79.781346393712539,21.148992254360479,3,{"$f":"IF(A6=\"\",\"\",1 - (VLOOKUP(M6,'Normal Loss Table (Inverse)'!$A$4:$B$33,2)*K6/I6))","v":1},29.076923076923077,2353.1104800000003,138900.97415376001,0.72889999999999999,{"$f":"IF(A6=\"\",\"\",VLOOKUP(R6,'Normal Loss Table'!$A$3:$B$32,2)*K6)","v":0},29.076923076923077,122361.74496000001,0,-30590.436240000003,-27309.572734752001,-3280.8635052480022,0]
["P 004",659.88461538461536,47.489283999999998,2941.5679999999998,279.61280328102413,1,0.25,2,1319.7692307692307,2281.6833846153845,769.29470629833861,2.9659418762860037,2.9659418762860037,{"$f":"IF(A7=\"\",\"\",1 - (VLOOKUP(M7,'Normal Loss Table (Inverse)'!$A$4:$B$33,2)*K7/I7))","v":0.99959196935202455},659.61536223741098,31324.661268055283,139692.95815731198,1.7156,{"$f":"IF(A7=\"\",\"\",VLOOKUP(R7,'Normal Loss Table'!$A$3:$B$32,2)*K7)","v":0},659.88461538461536,1628882.3859388747,0,-407220.59648471867,-21671.102050016245,-385549.49443470244,0]
["P 005",1234.1538461538462,8.1646800000000006,13018.907999999998,1082.8603441288622,1,0.25,2,2468.3076923076924,11784.754153846152,1966.8016589758324,5.9918365942312644,3,{"$f":"IF(A8=\"\",\"\",1 - (VLOOKUP(M8,'Normal Loss Table (Inverse)'!$A$4:$B$33,2)*K8/I8))","v":1},1234.1538461538462,10076.471224615385,106295.21776943999,1.2549999999999999,{"$f":"IF(A8=\"\",\"\",VLOOKUP(R8,'Normal Loss Table'!$A$3:$B$32,2)*K8)","v":0},1234.1538461538462,523976.50368000002,0,-130994.12592000001,-19243.749308964922,-111750.37661103508,0]
["P 006",719.57692307692309,35.221592000000001,3416.28,289.45779916289916,1,0.25,2,1439.1538461538462,2696.7030769230769,827.86628341617495,3.2574138250868021,3,{"$f":"IF(A9=\"\",\"\",1 - (VLOOKUP(M9,'Normal Loss Table (Inverse)'!$A$4:$B$33,2)*K9/I9))","v":1},719.57692307692309,25344.644797230772,120326.82031776001,1.7383999999999999,{"$f":"IF(A9=\"\",\"\",VLOOKUP(R9,'Normal Loss Table'!$A$3:$B$32,2)*K9)","v":0},719.57692307692309,1317921.5294560001,0,-329480.38236400002,-18996.435104105851,-310483.94725989416,0]
["P 007",53.442307692307693,31.381920000000001,2391.739,126.078782320551,1,0.25,4,213.76923076923077,2284.8543846153848,257.75864225513533,8.8643172722557413,3,{"$f":"IF(A10=\"\",\"\",1 - (VLOOKUP(M10,'Normal Loss Table (Inverse)'!$A$4:$B$33,2)*K10/I10))","v":1},53.442307692307693,1677.1222246153848,75057.361958880007,0.82930000000000004,{"$f":"IF(A10=\"\",\"\",VLOOKUP(R10,'Normal Loss Table'!$A$3:$B$32,2)*K10)","v":0},106.88461538461539,87210.355680000008,0,-21802.588920000002,-14340.623501929847,-7461.9654180701546,0]
["P 008",167.32692307692307,13.50482,6612.3539999999994,478.49726866898652,1,0.25,4,669.30769230769226,6277.7001538461536,971.51265749917616,6.4617790673010118,3,{"$f":"IF(A11=\"\",\"\",1 - (VLOOKUP(M11,'Normal Loss Table (Inverse)'!$A$4:$B$33,2)*K11/I11))","v":1},167.32692307692307,2259.7199773076923,89298.650546279998,0.68889999999999996,{"$f":"IF(A11=\"\",\"\",VLOOKUP(R11,'Normal Loss Table'!$A$3:$B$32,2)*K11)","v":0},334.65384615384613,117505.43882,0,-29376.359704999999,-16955.842118332923,-12420.517586667076,0]
["P 009",643.21153846153845,52.816808000000002,2769.7249999999999,589.17747040171116,1,0.25,2,1286.4230769230769,2126.5134615384613,1052.6068907564579,2.0202351706155359,2.0202351706155359,{"$f":"IF(A12=\"\",\"\",1 - (VLOOKUP(M12,'Normal Loss Table (Inverse)'!$A$4:$B$33,2)*K12/I12))","v":0.99394500057459434},639.3168929657395,33766.677586928017,146288.03353779999,1.2221,{"$f":"IF(A12=\"\",\"\",VLOOKUP(R12,'Normal Loss Table'!$A$3:$B$32,2)*K12)","v":0},643.21153846153845,1755867.2345202568,0,-438966.80863006419,-22463.130641498457,-416503.67798856576,0]
["P 010",504.59615384615387,14.44608,7925.701,447.19523567279481,1,0.25,2,1009.1923076923077,7421.1048461538458,809.06392583851152,9.1724579593171622,3,{"$f":"IF(A13=\"\",\"\",1 - (VLOOKUP(M13,'Normal Loss Table (Inverse)'!$A$4:$B$33,2)*K13/I13))","v":1},504.59615384615387,7289.4364061538463,114495.31070208001,1.2474000000000001,{"$f":"IF(A13=\"\",\"\",VLOOKUP(R13,'Normal Loss Table'!$A$3:$B$32,2)*K13)","v":0},504.59615384615387,379050.69312000001,0,-94762.673280000003,-21441.174859185234,-73321.498420814765,0]
["P 011",63.53846153846154,74.63724400000001,2145.4650000000001,101.35096496604021,1,0.25,2,127.07692307692308,2081.9265384615387,156.7838393896819,13.278961317479716,3,{"$f":"IF(A14=\"\",\"\",1 - (VLOOKUP(M14,'Normal Loss Table (Inverse)'!$A$4:$B$33,2)*K14/I14))","v":1},63.53846153846154,4742.3356572307703,160131.59469846005,0.8105,{"$f":"IF(A14=\"\",\"\",VLOOKUP(R14,'Normal Loss Table'!$A$3:$B$32,2)*K14)","v":0},63.53846153846154,246601.45417600006,0,-61650.363544000014,-31077.851808245854,-30572.51173575416,0]
["P 012",1314.1730769230769,8.60548,9837.24,755.1114375921635,1,0.25,2,2628.3461538461538,8523.0669230769236,1693.3509507702397,5.0332548720630594,3,{"$f":"IF(A15=\"\",\"\",1 - (VLOOKUP(M15,'Normal Loss Table (Inverse)'!$A$4:$B$33,2)*K15/I15))","v":1},1314.1730769230769,11309.09013,84654.172075199996,1.5522,{"$f":"IF(A15=\"\",\"\",VLOOKUP(R15,'Normal Loss Table'!$A$3:$B$32,2)*K15)","v":0},1314.1730769230769,588072.68676000007,0,-147018.17169000002,-14669.01638904,-132349.15530096,0]
["P 013",617,32.463932,3753.4489999999996,307.9302187311975,1,0.25,2,1234,3136.4489999999996,755.20264778116757,4.1531223562511101,3,{"$f":"IF(A16=\"\",\"\",1 - (VLOOKUP(M16,'Normal Loss Table (Inverse)'!$A$4:$B$33,2)*K16/I16))","v":1},617,20030.246044,121851.71310146799,1.6339999999999999,{"$f":"IF(A16=\"\",\"\",VLOOKUP(R16,'Normal Loss Table'!$A$3:$B$32,2)*K16)","v":0},617,1041572.794288,0,-260393.19857199999,-20364.2934114936,-240028.9051605064,0]
["P 014",61.57692307692308,35.020800000000001,2373.56,111.21474478239644,1,0.25,4,246.30769230769232,2250.4061538461538,230.79557032940559,9.750647079726166,3,{"$f":"IF(A17=\"\",\"\",1 - (VLOOKUP(M17,'Normal Loss Table (Inverse)'!$A$4:$B$33,2)*K17/I17))","v":1},61.57692307692308,2156.4731076923081,83123.970048000003,1.0671999999999999,{"$f":"IF(A17=\"\",\"\",VLOOKUP(R17,'Normal Loss Table'!$A$3:$B$32,2)*K17)","v":0},123.15384615384616,112136.60160000002,0,-28034.150400000006,-15762.204766523078,-12271.945633476927,0]
["P 015",186.84615384615384,34.406112,2773.8409999999999,92.788053789771425,1,0.25,2,373.69230769230768,2586.9948461538461,228.32155189400675,11.330489061123767,3,{"$f":"IF(A18=\"\",\"\",1 - (VLOOKUP(M18,'Normal Loss Table (Inverse)'!$A$4:$B$33,2)*K18/I18))","v":1},186.84615384615384,6428.6496959999995,95437.084116191996,1.6367,{"$f":"IF(A18=\"\",\"\",VLOOKUP(R18,'Normal Loss Table'!$A$3:$B$32,2)*K18)","v":0},186.84615384615384,334289.78419199999,0,-83572.446047999998,-17801.686884038401,-65770.7591639616,0]
["P 016",655.5,38.318744000000002,2910.3549999999996,276.69793114159569,1,0.25,2,1311,2254.8549999999996,763.41583700895183,2.953639275855839,2.953639275855839,{"$f":"IF(A19=\"\",\"\",1 - (VLOOKUP(M19,'Normal Loss Table (Inverse)'!$A$4:$B$33,2)*K19/I19))","v":0.99959237903439646},655.23280445704688,25107.698094391639,111521.14819411999,1.7173,{"$f":"IF(A19=\"\",\"\",VLOOKUP(R19,'Normal Loss Table'!$A$3:$B$32,2)*K19)","v":0},655.5,1305600.3009083655,0,-326400.07522709138,-17280.642300423999,-309119.43292666739,0]
["P 017",3120.3076923076924,7.6002279999999995,12895.770999999999,1173.2450814370111,1,0.25,2,6240.6153846153848,9775.4633076923055,3534.0243543171623,2.7660995872172203,2.7660995872172203,{"$f":"IF(A20=\"\",\"\",1 - (VLOOKUP(M20,'Normal Loss Table (Inverse)'!$A$4:$B$33,2)*K20/I20))","v":0.99943370579077351},3118.5406801305335,23701.620196267122,98010.799835787984,1.7659,{"$f":"IF(A20=\"\",\"\",VLOOKUP(R20,'Normal Loss Table'!$A$3:$B$32,2)*K20)","v":0},3120.3076923076924,1232484.2502058903,0,-308121.06255147257,-14859.149988819136,-293261.91256265342,0]
["P 018",405.57692307692309,43.114799999999995,983.38099999999986,160.54751250249583,1,0.25,2,811.15384615384619,577.80407692307676,464.80495702393551,1.2431108321706694,1.2431108321706694,{"$f":"IF(A21=\"\",\"\",1 - (VLOOKUP(M21,'Normal Loss Table (Inverse)'!$A$4:$B$33,2)*K21/I21))","v":0.96785374536201463},392.53914403240174,16924.246687128194,42398.275138799989,1.7451000000000001,{"$f":"IF(A21=\"\",\"\",VLOOKUP(R21,'Normal Loss Table'!$A$3:$B$32,2)*K21)","v":0},405.57692307692309,880060.82773066603,0,-220015.20693266651,-4982.3814431446135,-215032.8254895219,0]
["P 019",255.53846153846155,19.726559999999999,4474.7779999999993,263.32641799347249,1,0.25,2,511.07692307692309,4219.2395384615374,451.64312255584025,9.3419767239782985,3,{"$f":"IF(A22=\"\",\"\",1 - (VLOOKUP(M22,'Normal Loss Table (Inverse)'!$A$4:$B$33,2)*K22/I22))","v":1},255.53846153846155,5040.8947938461542,88271.976703679989,1.1315999999999999,{"$f":"IF(A22=\"\",\"\",VLOOKUP(R22,'Normal Loss Table'!$A$3:$B$32,2)*K22)","v":0},255.53846153846155,262126.52928000002,0,-65531.632320000004,-16646.216381966769,-48885.415938033235,0]
["P 020",85.192307692307693,144.07555600000001,477.113,61.255824360623436,1,0.25,2,170.38461538461539,391.92069230769232,121.50012891408768,3.2256812878348309,3,{"$f":"IF(A23=\"\",\"\",1 - (VLOOKUP(M23,'Normal Loss Table (Inverse)'!$A$4:$B$33,2)*K23/I23))","v":1},85.192307692307693,12274.129097692308,68740.32074982801,1.4023000000000001,{"$f":"IF(A23=\"\",\"\",VLOOKUP(R23,'Normal Loss Table'!$A$3:$B$32,2)*K23)","v":0},85.192307692307693,638254.71308000002,0,-159563.67827,-11293.238330427143,-148270.43993957285,0]
["P 021",487.05769230769232,23.741336,2615.7179999999998,206.70120648703909,1,0.25,2,974.11538461538464,2128.6603076923075,568.04574918089986,3.7473395598184722,3,{"$f":"IF(A24=\"\",\"\",1 - (VLOOKUP(M24,'Normal Loss Table (Inverse)'!$A$4:$B$33,2)*K24/I24))","v":1},487.05769230769232,11563.40032446154,62100.639919247995,1.7149000000000001,{"$f":"IF(A24=\"\",\"\",VLOOKUP(R24,'Normal Loss Table'!$A$3:$B$32,2)*K24)","v":0},487.05769230769232,601296.81687200011,0,-150324.20421800003,-10107.447918957292,-140216.75629904273,0]
["P 022",69.557692307692307,99.546624000000008,588.58799999999997,49.481790455954588,1,0.25,2,139.11538461538461,519.0303076923077,98.666953599599864,5.2604270098232018,3,{"$f":"IF(A25=\"\",\"\",1 - (VLOOKUP(M25,'Normal Loss Table (Inverse)'!$A$4:$B$33,2)*K25/I25))","v":1},69.557692307692307,6924.2334424615392,58591.948326912003,1.4098999999999999,{"$f":"IF(A25=\"\",\"\",VLOOKUP(R25,'Normal Loss Table'!$A$3:$B$32,2)*K25)","v":0},69.557692307692307,360060.13900800003,0,-90015.034752000007,-10333.542976890094,-79681.491775109913,0]
["P 023",349.82692307692309,76.075999999999993,1105.8319999999999,168.75562110072659,1,0.25,2,699.65384615384619,756.00507692307679,423.48057265434437,1.7852178488011714,1.7852178488011714,{"$f":"IF(A26=\"\",\"\",1 - (VLOOKUP(M26,'Normal Loss Table (Inverse)'!$A$4:$B$33,2)*K26/I26))","v":0.99140514389401435},346.82021101107722,26384.694372878708,84127.275231999985,1.6521999999999999,{"$f":"IF(A26=\"\",\"\",VLOOKUP(R26,'Normal Loss Table'!$A$3:$B$32,2)*K26)","v":0},349.82692307692309,1372004.1073896927,0,-343001.02684742317,-11502.768446399998,-331498.25840102317,0]
["P 024",2166.6730769230771,5.0540000000000003,12226.578,1018.0715087399283,1,0.25,2,4333.3461538461543,10059.904923076923,2601.4248818828696,3.8670749223386092,3,{"$f":"IF(A27=\"\",\"\",1 - (VLOOKUP(M27,'Normal Loss Table (Inverse)'!$A$4:$B$33,2)*K27/I27))","v":1},2166.6730769230771,10950.365730769232,61793.125211999999,1.6657999999999999,{"$f":"IF(A27=\"\",\"\",VLOOKUP(R27,'Normal Loss Table'!$A$3:$B$32,2)*K27)","v":0},2166.6730769230771,569419.01800000004,0,-142354.75450000001,-10168.551896246154,-132186.20260375386,0]
["P 025",1035.5192307692307,19.852948000000001,4306.0219999999999,377.27622846410901,1,0.25,2,2071.0384615384614,3270.5027692307694,1164.8926055311299,2.8075573264881286,2.8075573264881286,{"$f":"IF(A28=\"\",\"\",1 - (VLOOKUP(M28,'Normal Loss Table (Inverse)'!$A$4:$B$33,2)*K28/I28))","v":0.99960627248647715},1035.1115183572949,20550.015148148424,85487.23085285601,1.7779,{"$f":"IF(A28=\"\",\"\",VLOOKUP(R28,'Normal Loss Table'!$A$3:$B$32,2)*K28)","v":0},1035.5192307692307,1068600.7877037178,0,-267150.19692592946,-12985.824282278896,-254164.37264365057,0]
["P 026",627.98076923076928,28.826496000000002,3085.6279999999997,290.90645962298106,1,0.25,2,1255.9615384615386,2457.6472307692302,750.74162201414072,3.2736259169641975,3,{"$f":"IF(A29=\"\",\"\",1 - (VLOOKUP(M29,'Normal Loss Table (Inverse)'!$A$4:$B$33,2)*K29/I29))","v":1},627.98076923076928,18102.485132307695,88947.843199487994,1.673,{"$f":"IF(A29=\"\",\"\",VLOOKUP(R29,'Normal Loss Table'!$A$3:$B$32,2)*K29)","v":0},627.98076923076928,941329.22688000009,0,-235332.30672000002,-14169.071613436059,-221163.23510656395,0]
["P 027",818.65384615384619,13.218756000000001,3838.5129999999999,292.9490944613097,1,0.25,2,1637.3076923076924,3019.8591538461537,917.51428529145414,3.2913483770848067,3,{"$f":"IF(A30=\"\",\"\",1 - (VLOOKUP(M30,'Normal Loss Table (Inverse)'!$A$4:$B$33,2)*K30/I30))","v":1},818.65384615384619,10821.585440769231,50740.366749828005,1.7845,{"$f":"IF(A30=\"\",\"\",VLOOKUP(R30,'Normal Loss Table'!$A$3:$B$32,2)*K30)","v":0},818.65384615384619,562722.44292000006,0,-140680.61073000001,-7983.7562618117554,-132696.85446818825,0]
["P 028",160.32692307692307,48.02516,1834.7070000000001,91.48785865098705,1,0.25,2,320.65384615384613,1674.380076923077,206.02130672432784,8.127218021986069,3,{"$f":"IF(A31=\"\",\"\",1 - (VLOOKUP(M31,'Normal Loss Table (Inverse)'!$A$4:$B$33,2)*K31/I31))","v":1},160.32692307692307,7699.7261330769225,88112.097228120008,1.5564,{"$f":"IF(A31=\"\",\"\",VLOOKUP(R31,'Normal Loss Table'!$A$3:$B$32,2)*K31)","v":0},160.32692307692307,400385.75891999999,0,-100096.43973,-16082.474219008618,-84013.965510991373,0]
["P 029",1025.1923076923076,13.785639999999999,4628.442,424.7401530191454,1,0.25,2,2050.3846153846152,3603.2496923076924,1188.2035444000885,3.0325188889475458,3,{"$f":"IF(A32=\"\",\"\",1 - (VLOOKUP(M32,'Normal Loss Table (Inverse)'!$A$4:$B$33,2)*K32/I32))","v":1},1025.1923076923076,14132.932084615382,63806.035172879994,1.7256,{"$f":"IF(A32=\"\",\"\",VLOOKUP(R32,'Normal Loss Table'!$A$3:$B$32,2)*K32)","v":0},1025.1923076923076,734912.4683999999,0,-183728.11709999997,-9934.6206176529231,-173793.49648234705,0]
["P 030",292.38461538461536,19.726559999999999,3127.817,290.09945244293777,1,0.25,2,584.76923076923072,2835.4323846153848,503.78978545519766,5.6282053873987117,3,{"$f":"IF(A33=\"\",\"\",1 - (VLOOKUP(M33,'Normal Loss Table (Inverse)'!$A$4:$B$33,2)*K33/I33))","v":1},292.38461538461536,5767.7426584615378,61701.069719519997,1.1607000000000001,{"$f":"IF(A33=\"\",\"\",VLOOKUP(R33,'Normal Loss Table'!$A$3:$B$32,2)*K33)","v":0},292.38461538461536,299922.61823999998,0,-74980.654559999995,-11186.665412211692,-63793.989147788307,0]
["P 031",559.01923076923072,14.530136000000001,4994.4229999999998,245.75003164658722,1,0.25,2,1118.0384615384614,4435.4037692307693,658.24665322234614,6.7382093741273525,3,{"$f":"IF(A34=\"\",\"\",1 - (VLOOKUP(M34,'Normal Loss Table (Inverse)'!$A$4:$B$33,2)*K34/I34))","v":1},559.01923076923072,8122.6254496923075,72569.645431527999,1.6984999999999999,{"$f":"IF(A34=\"\",\"\",VLOOKUP(R34,'Normal Loss Table'!$A$3:$B$32,2)*K34)","v":0},559.01923076923072,422376.523384,0,-105594.130846,-12889.403996367138,-92704.726849632862,0]
["P 032",2439.1346153846152,8.7092960000000001,6778.0229999999992,1539.4141619185966,1,0.25,2,4878.2692307692305,4338.888384615384,3269.398965528454,1.3271211101377656,1.3271211101377656,{"$f":"IF(A35=\"\",\"\",1 - (VLOOKUP(M35,'Normal Loss Table (Inverse)'!$A$4:$B$33,2)*K35/I35))","v":0.96950605924058686},2364.7557889188429,20595.358133407724,59031.808601807992,1.4921,{"$f":"IF(A35=\"\",\"\",VLOOKUP(R35,'Normal Loss Table'!$A$3:$B$32,2)*K35)","v":0},2439.1346153846152,1070958.6229372015,0,-267739.65573430038,-7557.7326505154451,-260181.92308378493,0]
["P 033",525.53846153846155,14.17248,4023.7329999999993,538.58443587810427,1,0.25,2,1051.0769230769231,3498.1945384615378,925.38481924898929,3.7802592669507513,3,{"$f":"IF(A36=\"\",\"\",1 - (VLOOKUP(M36,'Normal Loss Table (Inverse)'!$A$4:$B$33,2)*K36/I36))","v":1},525.53846153846155,7448.1833353846159,57026.275467839987,1.1357999999999999,{"$f":"IF(A36=\"\",\"\",VLOOKUP(R36,'Normal Loss Table'!$A$3:$B$32,2)*K36)","v":0},525.53846153846155,387305.53344000003,{"$f":"B36*C36*52*Z36","v":0},-96826.383360000007,-9915.6184264910753,-86910.764933508937,0]
["P 034",146.48076923076923,35.105996000000005,1145.6199999999999,141.13357466398949,1,0.25,2,292.96153846153845,999.13923076923061,247.57622573524637,4.0356832640210474,3,{"$f":"IF(A37=\"\",\"\",1 - (VLOOKUP(M37,'Normal Loss Table (Inverse)'!$A$4:$B$33,2)*K37/I37))","v":1},146.48076923076923,5142.3532986923083,40218.131137520002,1.1833,{"$f":"IF(A37=\"\",\"\",VLOOKUP(R37,'Normal Loss Table'!$A$3:$B$32,2)*K37)","v":0},146.48076923076923,267402.37153200002,0,-66850.592883000005,-7015.1555677655388,-59835.437315234463,0]
["P 035",281.15384615384613,44.870399999999997,618.42899999999997,150.82328116633647,1,0.25,2,562.30769230769226,337.27515384615384,352.90623328394207,0.95570755638874838,0.95570755638874838,{"$f":"IF(A38=\"\",\"\",1 - (VLOOKUP(M38,'Normal Loss Table (Inverse)'!$A$4:$B$33,2)*K38/I38))","v":0.93698861618574536},263.43795324299225,11820.566337194359,27749.156601599996,1.5933999999999999,{"$f":"IF(A38=\"\",\"\",VLOOKUP(R38,'Normal Loss Table'!$A$3:$B$32,2)*K38)","v":0},281.15384615384613,614669.44953410665,0,-153667.36238352666,-3026.7342126276922,-150640.62817089897,0]
["P 036",415.59615384615387,22.062800000000003,1771.252,201.16662292983767,1,0.25,2,831.19230769230774,1355.6558461538461,503.64291264119561,2.6917004332385792,2.6917004332385792,{"$f":"IF(A39=\"\",\"\",1 - (VLOOKUP(M39,'Normal Loss Table (Inverse)'!$A$4:$B$33,2)*K39/I39))","v":0.99915170042940449},415.24360380730502,9161.4365820798103,39078.778625600004,1.6504000000000001,{"$f":"IF(A39=\"\",\"\",VLOOKUP(R39,'Normal Loss Table'!$A$3:$B$32,2)*K39)","v":0},415.59615384615387,476394.70226815023,0,-119098.67556703756,-5981.912760504616,-113116.76280653293,0]
["P 037",851.03846153846155,21.170636000000002,3325.3849999999998,302.07140835671004,1,0.25,2,1702.0769230769231,2474.3465384615383,952.23985135624525,2.5984488413684899,2.5984488413684899,{"$f":"IF(A40=\"\",\"\",1 - (VLOOKUP(M40,'Normal Loss Table (Inverse)'!$A$4:$B$33,2)*K40/I40))","v":0.99888108482237703},850.08622168710531,17996.865967953014,70400.515394860005,1.7874000000000001,{"$f":"IF(A40=\"\",\"\",VLOOKUP(R40,'Normal Loss Table'!$A$3:$B$32,2)*K40)","v":0},851.03846153846155,935837.0303335567,0,-233959.25758338918,-10476.697980725847,-223482.55960266333,0]
["P 038",154.30769230769232,43.666560000000004,1030.7149999999999,112.21242782898881,1,0.25,2,308.61538461538464,876.40730769230754,221.34615836710944,3.9594421432820126,3,{"$f":"IF(A41=\"\",\"\",1 - (VLOOKUP(M41,'Normal Loss Table (Inverse)'!$A$4:$B$33,2)*K41/I41))","v":1},154.30769230769232,6738.0861046153859,45007.778390400003,1.3943000000000001,{"$f":"IF(A41=\"\",\"\",VLOOKUP(R41,'Normal Loss Table'!$A$3:$B$32,2)*K41)","v":0},154.30769230769232,350380.47744000005,0,-87595.119360000012,-7653.9384571569235,-79941.180902843087,0]
["P 039",179.67307692307693,47.834400000000002,926.78599999999994,117.84215450585668,1,0.25,2,359.34615384615387,747.11292307692304,245.06317823812356,3.0486543447623395,3,{"$f":"IF(A42=\"\",\"\",1 - (VLOOKUP(M42,'Normal Loss Table (Inverse)'!$A$4:$B$33,2)*K42/I42))","v":1},179.67307692307693,8594.5538307692314,44332.252238399997,1.4662999999999999,{"$f":"IF(A42=\"\",\"\",VLOOKUP(R42,'Normal Loss Table'!$A$3:$B$32,2)*K42)","v":0},179.67307692307693,446916.79920000001,0,-111729.1998,-7147.5396815261529,-104581.66011847385,0]
["P 040",80.67307692307692,17.451044,4121.1450000000004,136.59812549367624,1,0.25,2,161.34615384615384,4040.4719230769233,209.3471784309713,19.300340961649027,3,{"$f":"IF(A43=\"\",\"\",1 - (VLOOKUP(M43,'Normal Loss Table (Inverse)'!$A$4:$B$33,2)*K43/I43))","v":1},80.67307692307692,1407.8294149999999,71918.282725380006,0.77070000000000005,{"$f":"IF(A43=\"\",\"\",VLOOKUP(R43,'Normal Loss Table'!$A$3:$B$32,2)*K43)","v":0},80.67307692307692,73207.129579999993,0,-18301.782394999998,-14102.090662076002,-4199.6917329239968,0]
["P 041",2091.7307692307691,16.349499999999999,1643.3130000000001,2239.0659564796351,1,0.25,2,4183.4615384615381,0,3795.0191469713131,0,0,{"$f":"IF(A44=\"\",\"\",1 - (VLOOKUP(M44,'Normal Loss Table (Inverse)'!$A$4:$B$33,2)*K44/I44))","v":0.63813862663511745},1334.8142003673408,21823.544768905838,26867.345893500002,1.1024,{"$f":"IF(A44=\"\",\"\",VLOOKUP(R44,'Normal Loss Table'!$A$3:$B$32,2)*K44)","v":0},2091.7307692307691,1134824.3279831035,0,-283706.08199577586,1466.281263607691,-285172.36325938354,0]
["P 042",363.26923076923077,16.045119999999997,3317.8389999999999,188.86888442853427,1,0.25,2,726.53846153846155,2954.569769230769,450.89626859647746,6.5526596137678732,3,{"$f":"IF(A45=\"\",\"\",1 - (VLOOKUP(M45,'Normal Loss Table (Inverse)'!$A$4:$B$33,2)*K45/I45))","v":1},363.26923076923077,5828.6983999999993,53235.12489567999,1.6113,{"$f":"IF(A45=\"\",\"\",VLOOKUP(R45,'Normal Loss Table'!$A$3:$B$32,2)*K45)","v":0},363.26923076923077,303092.31679999997,0,-75773.079199999993,-9481.2852991359978,-66291.793900863995,0]
["P 043",368.26923076923077,13.629004,1839.1659999999999,212.23378853395403,1,0.25,2,736.53846153846155,1470.8967692307692,475.08797955990337,3.0960513263108256,3,{"$f":"IF(A46=\"\",\"\",1 - (VLOOKUP(M46,'Normal Loss Table (Inverse)'!$A$4:$B$33,2)*K46/I46))","v":1},368.26923076923077,5019.1428192307694,25066.000770663999,1.5503,{"$f":"IF(A46=\"\",\"\",VLOOKUP(R46,'Normal Loss Table'!$A$3:$B$32,2)*K46)","v":0},368.26923076923077,260995.42660000001,0,-65248.856650000002,-4009.3715902866461,-61239.485059713355,0]
["P 044",669.67307692307691,13.644356,3653.2929999999997,295.23627767110872,1,0.25,2,1339.3461538461538,2983.6199230769225,789.17105196643217,3.7807011745329864,3,{"$f":"IF(A47=\"\",\"\",1 - (VLOOKUP(M47,'Normal Loss Table (Inverse)'!$A$4:$B$33,2)*K47/I47))","v":1},669.67307692307691,9137.2578651538461,49846.830264307995,1.6972,{"$f":"IF(A47=\"\",\"\",VLOOKUP(R47,'Normal Loss Table'!$A$3:$B$32,2)*K47)","v":0},669.67307692307691,475137.40898800001,0,-118784.352247,-8141.9144798308298,-110642.43776716918,0]
["P 045",132.07692307692307,41.253408,1723.9179999999997,71.018044145614681,1,0.25,2,264.15384615384613,1591.8410769230766,165.92600398371681,9.5936805485853345,3,{"$f":"IF(A48=\"\",\"\",1 - (VLOOKUP(M48,'Normal Loss Table (Inverse)'!$A$4:$B$33,2)*K48/I48))","v":1},132.07692307692307,5448.6231950769225,71117.492612543982,1.5920000000000001,{"$f":"IF(A48=\"\",\"\",VLOOKUP(R48,'Normal Loss Table'!$A$3:$B$32,2)*K48)","v":0},132.07692307692307,283328.40614399995,0,-70832.101535999987,-13133.773883493412,-57698.327652506574,0]
["P 046",75.730769230769226,22.90184,1622.7329999999999,241.83069068308808,1,0.25,4,302.92307692307691,1471.2714615384616,489.55437004823244,3.0053280116639698,3,{"$f":"IF(A49=\"\",\"\",1 - (VLOOKUP(M49,'Normal Loss Table (Inverse)'!$A$4:$B$33,2)*K49/I49))","v":1},75.730769230769226,1734.3739599999999,37163.57152872,0.61880000000000002,{"$f":"IF(A49=\"\",\"\",VLOOKUP(R49,'Normal Loss Table'!$A$3:$B$32,2)*K49)","v":0},151.46153846153845,90187.445919999998,0,-22546.86148,-6738.9647217439997,-15807.896758256,0]
["P 047",404.11538461538464,15.469800000000001,3752.7629999999999,404.30563346170283,1,0.25,2,808.23076923076928,3348.6476153846152,700.16807595075181,4.7826339566217975,3,{"$f":"IF(A50=\"\",\"\",1 - (VLOOKUP(M50,'Normal Loss Table (Inverse)'!$A$4:$B$33,2)*K50/I50))","v":1},404.11538461538464,6251.5841769230774,58054.493057400003,1.1543000000000001,{"$f":"IF(A50=\"\",\"\",VLOOKUP(R50,'Normal Loss Table'!$A$3:$B$32,2)*K50)","v":0},404.11538461538464,325082.37720000005,0,-81270.594300000012,-10360.581776095387,-70910.012523904617,{"$f":"IF(A50=\"\",\"\",0)","v":0}]
["P 048",1924.0192307692307,10.203912000000001,2913.0989999999997,705.33431067757101,1,0.25,2,3848.0384615384614,989.07976923076899,2167.2201041905805,0.45638178019771247,0.45638178019771247,{"$f":"IF(A51=\"\",\"\",1 - (VLOOKUP(M51,'Normal Loss Table (Inverse)'!$A$4:$B$33,2)*K51/I51))","v":0.87023843004784407},1674.3554747664759,17084.975921235342,29725.005843288,1.7756000000000001,{"$f":"IF(A51=\"\",\"\",VLOOKUP(R51,'Normal Loss Table'!$A$3:$B$32,2)*K51)","v":0},1924.0192307692307,888418.74790423771,0,-222104.68697605943,-2018.4965852422154,-220086.19039081721,0]
["P 049",1183.6923076923076,8.0016599999999993,2652.0759999999996,1135.4675730074518,1,0.25,2,2367.3846153846152,1468.3836923076919,1994.9187196456919,0.73606191462702031,0.73606191462702031,{"$f":"IF(A52=\"\",\"\",1 - (VLOOKUP(M52,'Normal Loss Table (Inverse)'!$A$4:$B$33,2)*K52/I52))","v":0.87966704213834601},1041.2551111096052,8331.7693723612829,21221.010446159995,1.1867000000000001,{"$f":"IF(A52=\"\",\"\",VLOOKUP(R52,'Normal Loss Table'!$A$3:$B$32,2)*K52)","v":0},1183.6923076923076,433252.00736278668,0,-108313.00184069667,-2349.9014110781532,-105963.10042961851,0]
["P 050",461.57692307692309,19.322696000000001,2180.1079999999997,239.66449966190245,1,0.25,2,923.15384615384619,1718.5310769230766,572.65294962441249,3.0009992580151983,3,{"$f":"IF(A53=\"\",\"\",1 - (VLOOKUP(M53,'Normal Loss Table (Inverse)'!$A$4:$B$33,2)*K53/I53))","v":1},461.57692307692309,8918.9105652307699,42125.564131167994,1.6121000000000001,{"$f":"IF(A53=\"\",\"\",VLOOKUP(R53,'Normal Loss Table'!$A$3:$B$32,2)*K53)","v":0},461.57692307692309,463783.349392,0,-115945.837348,-6641.3307131874453,-109304.50663481255,0]
["P 051",661.42307692307691,11.702784000000001,1723.9179999999997,620.51541973079145,1,0.25,2,1322.8461538461538,1062.4949230769228,1098.8900122094801,0.96688013474671619,0.96688013474671619,{"$f":"IF(A54=\"\",\"\",1 - (VLOOKUP(M54,'Normal Loss Table (Inverse)'!$A$4:$B$33,2)*K54/I54))","v":0.91659759004850772},606.25879831016107,7094.9157647233806,20174.639987711998,1.2038,{"$f":"IF(A54=\"\",\"\",VLOOKUP(R54,'Normal Loss Table'!$A$3:$B$32,2)*K54)","v":0},661.42307692307691,368935.61976561579,0,-92233.904941403947,-2486.8297171731692,-89747.075224230779,0]
["P 052",1381.0961538461538,10.91512,1792.5179999999998,794.13137303092105,1,0.25,2,2762.1923076923076,411.42184615384599,1780.0887229103471,0.23112434838708146,0.23112434838708146,{"$f":"IF(A55=\"\",\"\",1 - (VLOOKUP(M55,'Normal Loss Table (Inverse)'!$A$4:$B$33,2)*K55/I55))","v":0.80228341862078256},1108.0305437517065,12094.286348715126,19565.549072159996,1.5517000000000001,{"$f":"IF(A55=\"\",\"\",VLOOKUP(R55,'Normal Loss Table'!$A$3:$B$32,2)*K55)","v":0},1381.0961538461538,628902.89013318659,0,-157225.72253329665,-898.14376427815341,-156327.5787690185,0]
["P 053",70.788461538461533,9.154656000000001,6052.5780000000004,83.980001479918528,1,0.25,4,283.15384615384613,5911.0010769230776,182.26784928025765,32.430300243649867,3,{"$f":"IF(A56=\"\",\"\",1 - (VLOOKUP(M56,'Normal Loss Table (Inverse)'!$A$4:$B$33,2)*K56/I56))","v":1},70.788461538461533,648.04401415384621,55409.269503168012,1.5535000000000001,{"$f":"IF(A56=\"\",\"\",VLOOKUP(R56,'Normal Loss Table'!$A$3:$B$32,2)*K56)","v":0},141.57692307692307,33698.288736000002,0,-8424.5721840000006,-10822.636294972064,2398.0641109720636,0]
["P 054",347.80769230769232,18.713480000000001,2228.1279999999997,169.05991958550203,1,0.25,2,695.61538461538464,1880.3203076923073,422.05770180025769,4.4551261585132371,3,{"$f":"IF(A57=\"\",\"\",1 - (VLOOKUP(M57,'Normal Loss Table (Inverse)'!$A$4:$B$33,2)*K57/I57))","v":1},347.80769230769232,6508.6922938461539,41696.028765439994,1.6482000000000001,{"$f":"IF(A57=\"\",\"\",VLOOKUP(R57,'Normal Loss Table'!$A$3:$B$32,2)*K57)","v":0},347.80769230769232,338451.99927999999,0,-84612.999819999997,-7037.4672943187679,-77575.532525681236,0]
["P 055",383.57692307692309,24.754568000000003,1173.4029999999998,164.5173983473309,1,0.25,2,767.15384615384619,789.8260769230767,448.62367819265683,1.7605537008322909,1.7605537008322909,{"$f":"IF(A58=\"\",\"\",1 - (VLOOKUP(M58,'Normal Loss Table (Inverse)'!$A$4:$B$33,2)*K58/I58))","v":0.99169598606293352},380.39169496175526,9416.4320795660296,29047.084354903996,1.71,{"$f":"IF(A58=\"\",\"\",VLOOKUP(R58,'Normal Loss Table'!$A$3:$B$32,2)*K58)","v":0},383.57692307692309,489654.46813743346,0,-122413.61703435837,-3910.3606658731064,-118503.25636848526,0]
["P 056",456.59615384615387,22.957243999999999,1621.0179999999998,226.14712022247167,1,0.25,2,913.19230769230774,1164.421846153846,557.46308189595368,2.0887873725980235,2.0887873725980235,{"$f":"IF(A59=\"\",\"\",1 - (VLOOKUP(M59,'Normal Loss Table (Inverse)'!$A$4:$B$33,2)*K59/I59))","v":0.99548263079826549},454.5335404431388,10434.837394137005,37214.105754391996,1.6380999999999999,{"$f":"IF(A59=\"\",\"\",VLOOKUP(R59,'Normal Loss Table'!$A$3:$B$32,2)*K59)","v":0},456.59615384615387,542611.54449512425,0,-135652.88612378106,-5346.3832882168608,-130306.5028355642,0]
["P 057",654.75,15.77684,2052.855,284.96314691208619,1,0.25,2,1309.5,1398.105,768.83389148507138,1.8184747257947165,1.8184747257947165,{"$f":"IF(A60=\"\",\"\",1 - (VLOOKUP(M60,'Normal Loss Table (Inverse)'!$A$4:$B$33,2)*K60/I60))","v":0.99354167788748704},650.52141359683219,10263.172258891045,32387.564878199999,1.7032,{"$f":"IF(A60=\"\",\"\",VLOOKUP(R60,'Normal Loss Table'!$A$3:$B$32,2)*K60)","v":0},654.75,533684.95746233442,0,-133421.23936558361,-4411.5357776399997,-129009.7035879436,0]
["P 058",1066.0192307692307,9.1139960000000002,3561.7119999999995,811.04192223517407,1,0.25,2,2132.0384615384614,2495.692769230769,1565.8783476425219,1.5937973553233631,1.5937973553233631,{"$f":"IF(A61=\"\",\"\",1 - (VLOOKUP(M61,'Normal Loss Table (Inverse)'!$A$4:$B$33,2)*K61/I61))","v":0.97848057790063547},1043.0791129762677,9506.6188633492511,32461.428921151997,1.3615999999999999,{"$f":"IF(A61=\"\",\"\",VLOOKUP(R61,'Normal Loss Table'!$A$3:$B$32,2)*K61)","v":0},1066.0192307692307,494344.18089416117,0,-123586.04522354029,-4549.1467831996297,-119036.89844034066,0]
["P 059",120.78846153846153,13.303040000000001,2177.364,307.18675015712597,1,0.25,4,483.15384615384613,1935.7870769230769,626.13469024580843,3.091646425409083,3,{"$f":"IF(A62=\"\",\"\",1 - (VLOOKUP(M62,'Normal Loss Table (Inverse)'!$A$4:$B$33,2)*K62/I62))","v":1},120.78846153846153,1606.8537353846154,28965.560386560002,0.77159999999999995,{"$f":"IF(A62=\"\",\"\",VLOOKUP(R62,'Normal Loss Table'!$A$3:$B$32,2)*K62)","v":0},241.57692307692307,83556.394240000009,0,-20889.098560000002,-5150.3705831581547,-15738.727976841848,0]
["P 060",64.269230769230774,20.884800000000002,1481.0740000000001,46.012835116683618,1,0.25,4,257.07692307692309,1352.5355384615386,112.24641644867373,12.049699057252351,3,{"$f":"IF(A63=\"\",\"\",1 - (VLOOKUP(M63,'Normal Loss Table (Inverse)'!$A$4:$B$33,2)*K63/I63))","v":1},64.269230769230774,1342.250030769231,30931.934275200005,2.2902999999999998,{"$f":"IF(A63=\"\",\"\",VLOOKUP(R63,'Normal Loss Table'!$A$3:$B$32,2)*K63)","v":0},128.53846153846155,69797.001600000018,0,-17449.250400000004,-5649.486842732309,-11799.763557267695,0]
["P 061",36.384615384615387,16.274640000000002,231.18199999999999,89.13245350867787,1,0.25,2,72.769230769230774,194.7973846153846,131.19843281701057,1.4847538986008992,1.4847538986008992,{"$f":"IF(A64=\"\",\"\",1 - (VLOOKUP(M64,'Normal Loss Table (Inverse)'!$A$4:$B$33,2)*K64/I64))","v":0.93401245842036618},33.983684064064093,553.07222401638012,3762.4038244800004,0.55469999999999997,{"$f":"IF(A64=\"\",\"\",VLOOKUP(R64,'Normal Loss Table'!$A$3:$B$32,2)*K64)","v":0},36.384615384615387,28759.755648851766,0,-7189.9389122129414,-634.05146151138479,-6555.8874507015571,0]
["P 062",227.32692307692307,18.032064000000002,1002.9319999999999,129.04957569254285,1,0.25,2,454.65384615384613,775.60507692307681,291.5220676526427,2.6605364155389895,2.6605364155389895,{"$f":"IF(A65=\"\",\"\",1 - (VLOOKUP(M65,'Normal Loss Table (Inverse)'!$A$4:$B$33,2)*K65/I65))","v":0.99910232609233096},227.12285762956623,4095.4939046392269,18084.934011648002,1.5596000000000001,{"$f":"IF(A65=\"\",\"\",VLOOKUP(R65,'Normal Loss Table'!$A$3:$B$32,2)*K65)","v":0},227.32692307692307,212965.68304123983,0,-53241.420760309957,-2797.15207716037,-50444.268683149588,0]
["P 063",217.09615384615384,23.674607999999999,1013.908,86.38792118168783,1,0.25,2,434.19230769230768,796.8118461538462,249.1113924873367,3.1986166437343937,3,{"$f":"IF(A66=\"\",\"\",1 - (VLOOKUP(M66,'Normal Loss Table (Inverse)'!$A$4:$B$33,2)*K66/I66))","v":1},217.09615384615384,5139.6663406153839,24003.874448063998,1.7430000000000001,{"$f":"IF(A66=\"\",\"\",VLOOKUP(R66,'Normal Loss Table'!$A$3:$B$32,2)*K66)","v":0},217.09615384615384,267262.64971199998,0,-66815.662427999996,-3772.8416214897225,-63042.820806510274,0]
["P 064",1205.5576923076924,8.4642719999999994,2907.2679999999996,746.6753609471458,1,0.25,2,2411.1153846153848,1701.7103076923072,1602.6283220926023,1.0618246815146324,1.0618246815146324,{"$f":"IF(A67=\"\",\"\",1 - (VLOOKUP(M67,'Normal Loss Table (Inverse)'!$A$4:$B$33,2)*K67/I67))","v":0.94463187449172648},1138.8082226925355,9639.1825527061919,24607.907128895993,1.5044999999999999,{"$f":"IF(A67=\"\",\"\",VLOOKUP(R67,'Normal Loss Table'!$A$3:$B$32,2)*K67)","v":0},1205.5576923076924,501237.49274072202,0,-125309.37318518051,-2880.7477819022756,-122428.62540327823,0]
["P 065",3723.2884615384614,10.3018,5044.1579999999994,1459.2545147052936,1,0.25,2,{"$f":"IF(A68=\"\",\"\",H68*B68)","v":7446.5769230769229},{"$f":"IF(A68=\"\",\"\",IF(D68-(I68/2) > 0, D68-(I68/2), 0))","v":1320.869538461538},4256.9618796978912,{"$f":"IF(A68=\"\",\"\",J68/K68)","v":0.31028455875091787},{"$f":"IF(A68=\"\",\"\",IF(L68 >3,3,L68))","v":0.31028455875091787},{"$f":"IF(A68=\"\",\"\",1 - (VLOOKUP(M68,'Normal Loss Table (Inverse)'!$A$4:$B$33,2)*K68/I68))","v":0.84753642579088417},{"$f":"IF(A68=\"\",\"\",B68*N68)","v":3155.6225948807473},{"$f":"IF(A68=\"\",\"\",O68*$C68)","v":32508.592847942484},{"$f":"IF(A68=\"\",\"\",C68*D68)","v":51963.906884399992},{"$f":"IF(A68=\"\",\"\",ROUND((1-$Z68)*(I68/K68),4))","v":1.7493000000000001},{"$f":"IF(A68=\"\",\"\",VLOOKUP(R68,'Normal Loss Table'!$A$3:$B$32,2)*K68)","v":0},{"$f":"IF(A68=\"\",\"\",I68/2+S68)","v":3723.2884615384614},{"$f":"IF(A68=\"\",\"\",B68*C68*52*N68)","v":1690446.8280930093},{"$f":"B68*C68*52*Z68","v":0},{"$f":"IF(A68=\"\",\"\",(V68-U68)*G68)","v":-422611.70702325233},{"$f":"IF(A68=\"\",\"\",(T68*C68-Q68)*0.2)","v":-2721.4667622646143},{"$f":"IF(A68=\"\",\"\",W68-X68)","v":-419890.24026098772},0]
["P 066",236.28846153846155,42.151347999999999,632.149,102.68137210798696,1,0.25,2,472.57692307692309,395.86053846153845,{"$f":"IF(A69=\"\",\"\",SQRT(($H69*POWER(E69,2)) + ((B69^2)*POWER(1,2))))","v":277.34304644640144},1.4273317594715373,1.4273317594715373,{"$f":"IF(A69=\"\",\"\",1 - (VLOOKUP(M69,'Normal Loss Table (Inverse)'!$A$4:$B$33,2)*K69/I69))","v":0.97852041645654797},231.21308378849241,9745.9431569219014,26645.932486851998,1.7039,{"$f":"IF(A69=\"\",\"\",VLOOKUP(R69,'Normal Loss Table'!$A$3:$B$32,2)*K69)","v":0},236.28846153846155,506789.04415993887,0,-126697.26103998472,-3337.2110632319382,-123360.04997675278,0]
["P 067",108.67307692307692,45.831648000000001,593.73299999999995,73.472075835665677,1,0.25,2,217.34615384615384,485.05992307692304,150.35334882579971,3.2261331514399214,3,{"$f":"IF(A70=\"\",\"\",1 - (VLOOKUP(M70,'Normal Loss Table (Inverse)'!$A$4:$B$33,2)*K70/I70))","v":1},108.67307692307692,4980.6662086153847,27211.761861984,1.4456,{"$f":"IF(A70=\"\",\"\",VLOOKUP(R70,'Normal Loss Table'!$A$3:$B$32,2)*K70)","v":0},108.67307692307692,258994.64284799999,0,-64748.660711999997,-4446.2191306737232,-60302.441581326275,0]
["P 068",322.44230769230768,16.045119999999997,1548.3019999999999,175.56535160664879,1,0.25,2,644.88461538461536,1225.8596923076923,406.9587536341653,3.0122455441999811,3,{"$f":"IF(A71=\"\",\"\",1 - (VLOOKUP(M71,'Normal Loss Table (Inverse)'!$A$4:$B$33,2)*K71/I71))","v":1},322.44230769230768,5173.6255199999987,24842.691386239992,1.5846,{"$f":"IF(A71=\"\",\"\",VLOOKUP(R71,'Normal Loss Table'!$A$3:$B$32,2)*K71)","v":0},322.44230769230768,269028.52703999996,0,-67257.131759999989,-3933.8131732479992,-63323.318586751993,0]
["P 069",166.76923076923077,39.000008000000001,798.16099999999994,67.005886596719009,1,0.25,2,333.53846153846155,631.39176923076911,191.81124578237242,3.2917348858009161,3,{"$f":"IF(A72=\"\",\"\",1 - (VLOOKUP(M72,'Normal Loss Table (Inverse)'!$A$4:$B$33,2)*K72/I72))","v":1},166.76923076923077,6504.0013341538461,31128.285385288,1.7388999999999999,{"$f":"IF(A72=\"\",\"\",VLOOKUP(R72,'Normal Loss Table'!$A$3:$B$32,2)*K72)","v":0},166.76923076923077,338208.06937599997,0,-84552.017343999993,-4924.8568102268309,-79627.16053377316,0]
["P 070",99.769230769230774,22.062800000000003,1096.914,48.409047681563585,1,0.25,4,399.07692307692309,897.37553846153844,139.02389362274246,6.454829562583476,3,{"$f":"IF(A73=\"\",\"\",1 - (VLOOKUP(M73,'Normal Loss Table (Inverse)'!$A$4:$B$33,2)*K73/I73))","v":1},99.769230769230774,2201.188584615385,24200.994199200002,2.8706,{"$f":"IF(A73=\"\",\"\",VLOOKUP(R73,'Normal Loss Table'!$A$3:$B$32,2)*K73)","v":0},199.53846153846155,114461.80640000002,0,-28615.451600000004,-3959.7234059938464,-24655.728194006158,0]
["P 071",43.42307692307692,78.845516000000003,288.80599999999998,31.496246993263078,1,0.25,2,86.84615384615384,245.38292307692308,62.206034745744098,3.9446803526359031,3,{"$f":"IF(A74=\"\",\"\",1 - (VLOOKUP(M74,'Normal Loss Table (Inverse)'!$A$4:$B$33,2)*K74/I74))","v":1},43.42307692307692,3423.7149063076922,22771.058093896001,1.3960999999999999,{"$f":"IF(A74=\"\",\"\",VLOOKUP(R74,'Normal Loss Table'!$A$3:$B$32,2)*K74)","v":0},43.42307692307692,178033.175128,0,-44508.293782000001,-3869.4686375176625,-40638.82514448234,0]
["P 072",131.63461538461539,20.884800000000002,952.16799999999989,100.94029080447663,1,0.25,4,526.53846153846155,688.89876923076918,241.00506467338994,2.8584410463089842,2.8584410463089842,{"$f":"IF(A75=\"\",\"\",1 - (VLOOKUP(M75,'Normal Loss Table (Inverse)'!$A$4:$B$33,2)*K75/I75))","v":0.99967959881833046},131.59243949829755,2748.2817804340448,19885.838246399999,2.1848000000000001,{"$f":"IF(A75=\"\",\"\",VLOOKUP(R75,'Normal Loss Table'!$A$3:$B$32,2)*K75)","v":0},263.26923076923077,142910.65258257033,0,-35727.663145642582,-2877.5026031261536,-32850.160542516431,{"$f":"IF(A75=\"\",\"\",0)","v":0}]
["P 073",379.15384615384613,10.804996000000001,2708.6709999999998,334.58451756870301,1,0.25,2,758.30769230769226,2329.5171538461536,606.34250869176071,3.8419162774391316,3,{"$f":"IF(A76=\"\",\"\",1 - (VLOOKUP(M76,'Normal Loss Table (Inverse)'!$A$4:$B$33,2)*K76/I76))","v":1},379.15384615384613,4096.7557910769228,29267.179320316001,1.2505999999999999,{"$f":"IF(A76=\"\",\"\",VLOOKUP(R76,'Normal Loss Table'!$A$3:$B$32,2)*K76)","v":0},379.15384615384613,213031.30113599999,0,-53257.825283999999,-5034.0847058478166,-48223.740578152181,0]
["P 074",304.34615384615387,21.174968,1282.4769999999999,316.78513065566204,1,0.25,2,608.69230769230774,978.13084615384605,541.60153191252743,1.8059971926220868,1.8059971926220868,{"$f":"IF(A77=\"\",\"\",1 - (VLOOKUP(M77,'Normal Loss Table (Inverse)'!$A$4:$B$33,2)*K77/I77))","v":0.99021243282402482},301.36734542063493,6381.4438955268915,27156.409435735997,1.1238999999999999,{"$f":"IF(A77=\"\",\"\",VLOOKUP(R77,'Normal Loss Table'!$A$3:$B$32,2)*K77)","v":0},304.34615384615387,331835.08256739838,0,-82958.770641849595,-4142.3778734241232,-78816.392768425474,0]
["P 075",795.90384615384619,11.82104,2794.4209999999998,354.40910555820102,1,0.25,2,1591.8076923076924,1998.5171538461536,940.57140107894702,2.1247904747620621,2.1247904747620621,{"$f":"IF(A78=\"\",\"\",1 - (VLOOKUP(M78,'Normal Loss Table (Inverse)'!$A$4:$B$33,2)*K78/I78))","v":0.99621835162878347},792.89401767039351,9372.8318986424292,33032.962417839997,1.6923999999999999,{"$f":"IF(A78=\"\",\"\",VLOOKUP(R78,'Normal Loss Table'!$A$3:$B$32,2)*K78)","v":0},795.90384615384619,487387.25872940628,0,-121846.81468235157,-4724.9102432603077,-117121.90443909126,0]
["P 076",339.5,12.319296,2001.7479999999998,168.86280543335624,1,0.25,2,679,1662.2479999999998,415.07775671269962,4.0046665308315763,3,{"$f":"IF(A79=\"\",\"\",1 - (VLOOKUP(M79,'Normal Loss Table (Inverse)'!$A$4:$B$33,2)*K79/I79))","v":1},339.5,4182.4009919999999,24660.126129407996,1.6357999999999999,{"$f":"IF(A79=\"\",\"\",VLOOKUP(R79,'Normal Loss Table'!$A$3:$B$32,2)*K79)","v":0},339.5,217484.85158399999,0,-54371.212895999997,-4095.5450274815994,-50275.667868518402,0]
["P 077",1180.9807692307693,11.02,3624.8239999999996,573.28422579423443,1,0.25,2,2361.9615384615386,2443.8432307692301,1432.4891568112791,1.7060116784473434,1.7060116784473434,{"$f":"IF(A80=\"\",\"\",1 - (VLOOKUP(M80,'Normal Loss Table (Inverse)'!$A$4:$B$33,2)*K80/I80))","v":0.99138794358185467},1170.8100962174092,12902.327260315849,39945.560479999993,1.6489,{"$f":"IF(A80=\"\",\"\",VLOOKUP(R80,'Normal Loss Table'!$A$3:$B$32,2)*K80)","v":0},1180.9807692307693,670921.0175364241,0,-167730.25438410603,-5386.2304806153834,-162344.02390349066,0]
["P 078",409.90384615384613,15.8232,1853.2289999999998,226.80960829799429,1,0.25,2,819.80769230769226,1443.3251538461536,520.48665681676721,2.7730300766466405,2.7730300766466405,{"$f":"IF(A81=\"\",\"\",1 - (VLOOKUP(M81,'Normal Loss Table (Inverse)'!$A$4:$B$33,2)*K81/I81))","v":0.99936511127951044},409.64360282543777,6481.8726562274669,29324.013112799996,1.5750999999999999,{"$f":"IF(A81=\"\",\"\",VLOOKUP(R81,'Normal Loss Table'!$A$3:$B$32,2)*K81)","v":0},409.90384615384613,337057.37812382827,0,-84264.344530957067,-4567.6045148676922,-79696.740016089374,0]
["P 079",68,21.910419999999998,3465.672,234.04683627134858,1,0.25,4,272,3329.672,473.00706789064981,7.039370499998018,3,{"$f":"IF(A82=\"\",\"\",1 - (VLOOKUP(M82,'Normal Loss Table (Inverse)'!$A$4:$B$33,2)*K82/I82))","v":1},68,1489.9085599999999,75934.329102239994,0.57499999999999996,{"$f":"IF(A82=\"\",\"\",VLOOKUP(R82,'Normal Loss Table'!$A$3:$B$32,2)*K82)","v":0},136,77475.245119999992,0,-19368.811279999998,-14590.902396447998,-4777.9088835519997,0]
["P 080",943.48076923076928,9.9159480000000002,2882.5719999999997,718.63990520177515,1,0.25,2,1886.9615384615386,1939.0912307692304,1386.7381110379554,1.3983110547945106,1.3983110547945106,{"$f":"IF(A83=\"\",\"\",1 - (VLOOKUP(M83,'Normal Loss Table (Inverse)'!$A$4:$B$33,2)*K83/I83))","v":0.96656180702884364},911.93247720465581,9042.6750234725532,28583.434058255996,1.3607,{"$f":"IF(A83=\"\",\"\",VLOOKUP(R83,'Normal Loss Table'!$A$3:$B$32,2)*K83)","v":0},943.48076923076928,470219.10122057272,0,-117554.77530514318,-3845.5855623127377,-113709.18974283044,0]
["P 081",546.11538461538464,12.723615999999998,1778.1119999999999,210.37274611434893,1,0.25,2,1092.2307692307693,1231.9966153846153,621.89661353716519,1.981031233435057,1.981031233435057,{"$f":"IF(A84=\"\",\"\",1 - (VLOOKUP(M84,'Normal Loss Table (Inverse)'!$A$4:$B$33,2)*K84/I84))","v":0.99521719063326586},543.50341883852855,6915.328795988602,22624.014292991993,1.7563,{"$f":"IF(A84=\"\",\"\",VLOOKUP(R84,'Normal Loss Table'!$A$3:$B$32,2)*K84)","v":0},546.11538461538464,359597.09739140735,0,-89899.274347851839,-3135.0903694907065,-86764.183978361136,0]
["P 082",1,42.900480000000002,0.49,0,1,0.25,2,2,0,1,0,0,{"$f":"IF(A85=\"\",\"\",1 - (VLOOKUP(M85,'Normal Loss Table (Inverse)'!$A$4:$B$33,2)*K85/I85))","v":0.80054999999999998},0.80054999999999998,34.343979263999998,21.0212352,2,{"$f":"IF(A85=\"\",\"\",VLOOKUP(R85,'Normal Loss Table'!$A$3:$B$32,2)*K85)","v":0},1,1785.8869217279998,0,-446.47173043199996,4.3758489600000008,-450.84757939199994,0]
["P 083",1183.8461538461538,8.8181279999999997,2675.0569999999998,438.60614270241314,1,0.25,2,2367.6923076923076,1491.210846153846,1336.5038020181275,1.1157550348170429,1.1157550348170429,{"$f":"IF(A86=\"\",\"\",1 - (VLOOKUP(M86,'Normal Loss Table (Inverse)'!$A$4:$B$33,2)*K86/I86))","v":0.96127699510592057},1138.004073436932,10035.065584088266,23588.995033295996,1.7716000000000001,{"$f":"IF(A86=\"\",\"\",VLOOKUP(R86,'Normal Loss Table'!$A$3:$B$32,2)*K86)","v":0},1183.8461538461538,521823.41037258989,0,-130455.85259314747,-2629.937623274584,-127825.91496987289,0]
["P 084",1540.0384615384614,11.967112,1495.8229999999999,645.44305991291264,1,0.25,2,3080.0769230769229,0,1790.2267873644496,0,0,{"$f":"IF(A87=\"\",\"\",1 - (VLOOKUP(M87,'Normal Loss Table (Inverse)'!$A$4:$B$33,2)*K87/I87))","v":0.76814817184296524},1182.9777287986219,14156.826974038735,17900.681373175998,1.7204999999999999,{"$f":"IF(A87=\"\",\"\",VLOOKUP(R87,'Normal Loss Table'!$A$3:$B$32,2)*K87)","v":0},1540.0384615384614,736155.00265001412,0,-184038.75066250353,105.82627607249233,-184144.57693857604,0]
["P 085",925.44230769230774,48.254604,1566.8240000000001,626.89879138944798,1,0.25,2,1850.8846153846155,641.38169230769233,1281.5801395769074,0.50046163521185183,0.50046163521185183,{"$f":"IF(A88=\"\",\"\",1 - (VLOOKUP(M88,'Normal Loss Table (Inverse)'!$A$4:$B$33,2)*K88/I88))","v":0.86310956853369036},798.75811089513047,38543.756333032608,75606.471657696005,1.4441999999999999,{"$f":"IF(A88=\"\",\"\",VLOOKUP(R88,'Normal Loss Table'!$A$3:$B$32,2)*K88)","v":0},925.44230769230774,2004275.3293176955,0,-501068.83232942387,-6189.9239150315088,-494878.90841439238,0]
["P 086",285.05769230769232,12.408672000000001,2066.9179999999997,128.33082454306708,1,0.25,2,570.11538461538464,1781.8603076923073,337.92823054547239,5.2728956820686106,3,{"$f":"IF(A89=\"\",\"\",1 - (VLOOKUP(M89,'Normal Loss Table (Inverse)'!$A$4:$B$33,2)*K89/I89))","v":1},285.05769230769232,3537.1874049230773,25647.707512895999,1.6871,{"$f":"IF(A89=\"\",\"\",VLOOKUP(R89,'Normal Loss Table'!$A$3:$B$32,2)*K89)","v":0},285.05769230769232,183933.74505600001,0,-45983.436264000004,-4422.104021594585,-41561.33224240542,0]
["P 087",383.96153846153845,9.0176280000000002,3346.3079999999995,290.57414170059542,1,0.25,4,1535.8461538461538,2578.3849230769229,696.53412717389688,3.7017352380685327,3,{"$f":"IF(A90=\"\",\"\",1 - (VLOOKUP(M90,'Normal Loss Table (Inverse)'!$A$4:$B$33,2)*K90/I90))","v":1},383.96153846153845,3462.4223201538462,30175.760717423997,2.2050000000000001,{"$f":"IF(A90=\"\",\"\",VLOOKUP(R90,'Normal Loss Table'!$A$3:$B$32,2)*K90)","v":0},767.92307692307691,180045.96064800001,0,-45011.490162000002,-4650.1832154232607,-40361.30694657674,0]
["P 088",5.75,39.83616,334.76799999999997,22.441099375397602,1,0.25,4,23,323.26799999999997,45.249025013870551,7.1441981324659709,3,{"$f":"IF(A91=\"\",\"\",1 - (VLOOKUP(M91,'Normal Loss Table (Inverse)'!$A$4:$B$33,2)*K91/I91))","v":1},5.75,229.05792,13335.871610879998,0.50829999999999997,{"$f":"IF(A91=\"\",\"\",VLOOKUP(R91,'Normal Loss Table'!$A$3:$B$32,2)*K91)","v":0},11.5,11911.011839999999,0,-2977.7529599999998,-2575.5511541759997,-402.20180582400008,0]
["P 089",277.07692307692309,38.0304,992.64199999999994,112.80137778219996,1,0.25,2,554.15384615384619,715.56507692307684,319.71850581550694,2.2381096618035383,2.2381096618035383,{"$f":"IF(A92=\"\",\"\",1 - (VLOOKUP(M92,'Normal Loss Table (Inverse)'!$A$4:$B$33,2)*K92/I92))","v":0.99723064481359136},276.30959866296587,10508.164560992058,37750.572316799997,1.7333000000000001,{"$f":"IF(A92=\"\",\"\",VLOOKUP(R92,'Normal Loss Table'!$A$3:$B$32,2)*K92)","v":0},277.07692307692309,546424.55717158702,0,-136606.13929289675,-5442.6452202830769,-131163.49407261368,0]
["P 090",690.40384615384619,5.0571159999999997,6403.4669999999996,560.42838165577336,1,0.25,4,2761.6153846153848,5022.6593076923073,1316.4259776551282,3.8153754126296362,3,{"$f":"IF(A93=\"\",\"\",1 - (VLOOKUP(M93,'Normal Loss Table (Inverse)'!$A$4:$B$33,2)*K93/I93))","v":1},690.40384615384619,3491.4523368461537,32383.075421171998,2.0977999999999999,{"$f":"IF(A93=\"\",\"\",VLOOKUP(R93,'Normal Loss Table'!$A$3:$B$32,2)*K93)","v":0},1380.8076923076924,181555.52151599998,0,-45388.880378999995,-5080.0341494959384,-40308.846229504059,0]
["P 091",135.69230769230768,43.740507999999998,729.904,250.64219778843545,1,0.25,2,271.38461538461536,594.21169230769237,379.54634103268376,1.5655840356435506,1.5655840356435506,{"$f":"IF(A94=\"\",\"\",1 - (VLOOKUP(M94,'Normal Loss Table (Inverse)'!$A$4:$B$33,2)*K94/I94))","v":0.95902233523261071},130.13195379617886,5692.037766077392,31926.371751232,0.71499999999999997,{"$f":"IF(A94=\"\",\"\",VLOOKUP(R94,'Normal Loss Table'!$A$3:$B$32,2)*K94)","v":0},135.69230769230768,295985.96383602434,0,-73996.490959006085,-5198.2242562156316,-68798.266702790454,0]
["P 092",41.57692307692308,32.132800000000003,534.05099999999993,27.000614483818158,1,0.25,4,166.30769230769232,450.89715384615374,68.152573411129993,6.615996011274869,3,{"$f":"IF(A95=\"\",\"\",1 - (VLOOKUP(M95,'Normal Loss Table (Inverse)'!$A$4:$B$33,2)*K95/I95))","v":1},41.57692307692308,1335.982953846154,17160.5539728,2.4401999999999999,{"$f":"IF(A95=\"\",\"\",VLOOKUP(R95,'Normal Loss Table'!$A$3:$B$32,2)*K95)","v":0},83.15384615384616,69471.113600000012,0,-17367.778400000003,-2897.7176130215385,-14470.060786978465,0]
["P 093",746.03846153846155,8.8222319999999996,2879.828,749.90268549151801,1,0.25,2,1492.0769230769231,2133.7895384615385,1296.6423799604331,1.6456268678543815,1.6456268678543815,{"$f":"IF(A96=\"\",\"\",1 - (VLOOKUP(M96,'Normal Loss Table (Inverse)'!$A$4:$B$33,2)*K96/I96))","v":0.97983877188245261},730.99740993092053,6449.028741809685,25406.510736095999,1.1507000000000001,{"$f":"IF(A96=\"\",\"\",VLOOKUP(R96,'Normal Loss Table'!$A$3:$B$32,2)*K96)","v":0},746.03846153846155,335349.49457410362,0,-83837.373643525905,-3764.957269496123,-80072.416374029781,0]
["P 094",764.51923076923072,11.658096,1985.2839999999999,364.88716979602015,1,0.25,2,1529.0384615384614,1220.7647692307692,922.37462431458709,1.3235021183913365,1.3235021183913365,{"$f":"IF(A97=\"\",\"\",1 - (VLOOKUP(M97,'Normal Loss Table (Inverse)'!$A$4:$B$33,2)*K97/I97))","v":0.97255265550083869},743.53520806607389,8668.204835014265,23144.631459264001,1.6577,{"$f":"IF(A97=\"\",\"\",VLOOKUP(R97,'Normal Loss Table'!$A$3:$B$32,2)*K97)","v":0},764.51923076923072,450746.65142074175,0,-112686.66285518544,-2846.358574622031,-109840.3042805634,0]
["P 095",242.67307692307693,18.355520000000002,1175.1179999999999,216.06922648420846,1,0.25,2,485.34615384615387,932.44492307692303,390.20769281279161,2.3896118406980724,2.3896118406980724,{"$f":"IF(A98=\"\",\"\",1 - (VLOOKUP(M98,'Normal Loss Table (Inverse)'!$A$4:$B$33,2)*K98/I98))","v":0.99710567873466383},241.9707030760139,4441.4980797258349,21569.90195136,1.2438,{"$f":"IF(A98=\"\",\"\",VLOOKUP(R98,'Normal Loss Table'!$A$3:$B$32,2)*K98)","v":0},242.67307692307693,230957.90014574342,0,-57739.475036435855,-3423.1022868873843,-54316.372749548471,0]
["P 096",380.82692307692309,17.112159999999999,1491.7070000000001,416.56041254558841,1,0.25,2,761.65384615384619,1110.880076923077,701.48007807815782,1.5836231300631527,1.5836231300631527,{"$f":"IF(A99=\"\",\"\",1 - (VLOOKUP(M99,'Normal Loss Table (Inverse)'!$A$4:$B$33,2)*K99/I99))","v":0.97301481980104321},370.55023993307805,6340.9149937732209,25526.328857119999,1.0858000000000001,{"$f":"IF(A99=\"\",\"\",VLOOKUP(R99,'Normal Loss Table'!$A$3:$B$32,2)*K99)","v":0},380.82692307692309,329727.57967620745,0,-82431.894919051862,-3801.9115234240003,-78629.98339562786,0]
["P 097",136.40384615384616,16.02384,1325.3519999999999,216.93997178359285,1,0.25,4,545.61538461538464,1052.5443076923075,454.81624275681531,2.3142188179393806,2.3142188179393806,{"$f":"IF(A100=\"\",\"\",1 - (VLOOKUP(M100,'Normal Loss Table (Inverse)'!$A$4:$B$33,2)*K100/I100))","v":0.99699909767925854},135.99451153536504,2179.1542937208437,21237.228391679997,1.1996,{"$f":"IF(A100=\"\",\"\",VLOOKUP(R100,'Normal Loss Table'!$A$3:$B$32,2)*K100)","v":0},272.80769230769232,113316.02327348386,0,-28329.005818370966,-3373.1603158744606,-24955.845502496504,0]
["P 098",196.288461538462,6.0309799999999996,3689.6509999999998,231.57274184630199,1,0.25,4,785.15384615384801,3297.0740769230761,503.02375609705791,6.5545096766501603,3,{"$f":"IF(A101=\"\",\"\",1 - (VLOOKUP(M101,'Normal Loss Table (Inverse)'!$A$4:$B$33,2)*K101/I101))","v":1},196.288461538462,1183.8117857692334,22252.211387979998,1.5609,{"$f":"IF(A101=\"\",\"\",VLOOKUP(R101,'Normal Loss Table'!$A$3:$B$32,2)*K101)","v":0},392.576923076924,61558.212860000138,0,-15389.553215000034,-3976.9175632883062,-11412.635651711727,0]
["P 099",48.903846153846153,32.132800000000003,655.13,42.825345077365988,1,0.25,4,195.61538461538461,557.32230769230773,98.628732591577759,5.6507094134544253,3,{"$f":"IF(A102=\"\",\"\",1 - (VLOOKUP(M102,'Normal Loss Table (Inverse)'!$A$4:$B$33,2)*K102/I102))","v":1},48.903846153846153,1571.4175076923079,21051.161264000002,1.9834000000000001,{"$f":"IF(A102=\"\",\"\",VLOOKUP(R102,'Normal Loss Table'!$A$3:$B$32,2)*K102)","v":0},97.807692307692307,81713.710400000011,0,-20428.427600000003,-3581.6652497230775,-16846.762350276924,0]
["P 100",289.90384615384613,33.381024000000004,1173.06,142.7804099836988,1,0.25,2,579.80769230769226,883.15615384615376,353.29411396882784,2.4997760192633076,2.4997760192633076,{"$f":"IF(A103=\"\",\"\",1 - (VLOOKUP(M103,'Normal Loss Table (Inverse)'!$A$4:$B$33,2)*K103/I103))","v":0.99835480949913025},289.42689909998819,9661.366265102286,39157.944013439999,1.6411,{"$f":"IF(A103=\"\",\"\",VLOOKUP(R103,'Normal Loss Table'!$A$3:$B$32,2)*K103)","v":0},289.90384615384613,502391.04578531889,0,-125597.76144632972,-5896.1313534572309,-119701.6300928725,0]
[null,null,null,null,null,null,null,null,"","","","","",{"$f":"IF(A104=\"\",\"\",1 - (VLOOKUP(M104,'Normal Loss Table (Inverse)'!$A$4:$B$33,2)*K104/I104))","v":""},"","","","",{"$f":"IF(A104=\"\",\"\",VLOOKUP(R104,'Normal Loss Table'!$A$3:$B$32,2)*K104)","v":""},"","",null,"","","",{"$f":"IF(A104=\"\",\"\",0)","v":""}]
[null,null,null,null,null,null,null,null,"","","","","",{"$f":"IF(A105=\"\",\"\",1 - (VLOOKUP(M105,'Normal Loss Table (Inverse)'!$A$4:$B$33,2)*K105/I105))","v":""},"","","","",{"$f":"IF(A105=\"\",\"\",VLOOKUP(R105,'Normal Loss Table'!$A$3:$B$32,2)*K105)","v":""},"","",null,"","","",""]
[null,null,null,null,null,null,null,null,"","","","","",{"$f":"IF(A106=\"\",\"\",1 - (VLOOKUP(M106,'Normal Loss Table (Inverse)'!$A$4:$B$33,2)*K106/I106))","v":""},"","","","",{"$f":"IF(A106=\"\",\"\",VLOOKUP(R106,'Normal Loss Table'!$A$3:$B$32,2)*K106)","v":""},"","",null,"","","",""]
[null,null,null,null,null,null,null,null,"","","","","",{"$f":"IF(A107=\"\",\"\",1 - (VLOOKUP(M107,'Normal Loss Table (Inverse)'!$A$4:$B$33,2)*K107/I107))","v":""},"","","","",{"$f":"IF(A107=\"\",\"\",VLOOKUP(R107,'Normal Loss Table'!$A$3:$B$32,2)*K107)","v":""},"","",null,"","","",""]
[null,null,null,null,null,null,null,null,"","","","","",{"$f":"IF(A108=\"\",\"\",1 - (VLOOKUP(M108,'Normal Loss Table (Inverse)'!$A$4:$B$33,2)*K108/I108))","v":""},"","","","",{"$f":"IF(A108=\"\",\"\",VLOOKUP(R108,'Normal Loss Table'!$A$3:$B$32,2)*K108)","v":""},"","",null,"","","",""]
[null,null,null,null,null,null,null,null,"","","","","",{"$f":"IF(A109=\"\",\"\",1 - (VLOOKUP(M109,'Normal Loss Table (Inverse)'!$A$4:$B$33,2)*K109/I109))","v":""},"","","","",{"$f":"IF(A109=\"\",\"\",VLOOKUP(R109,'Normal Loss Table'!$A$3:$B$32,2)*K109)","v":""},"","",null,"","","",""]
[null,null,null,null,null,null,null,null,"","","","","",{"$f":"IF(A110=\"\",\"\",1 - (VLOOKUP(M110,'Normal Loss Table (Inverse)'!$A$4:$B$33,2)*K110/I110))","v":""},"","","","",{"$f":"IF(A110=\"\",\"\",VLOOKUP(R110,'Normal Loss Table'!$A$3:$B$32,2)*K110)","v":""},"","",null,"","","",""]
[null,null,null,null,null,null,null,null,"","","","","",{"$f":"IF(A111=\"\",\"\",1 - (VLOOKUP(M111,'Normal Loss Table (Inverse)'!$A$4:$B$33,2)*K111/I111))","v":""},"","","","",{"$f":"IF(A111=\"\",\"\",VLOOKUP(R111,'Normal Loss Table'!$A$3:$B$32,2)*K111)","v":""},"","",null,"","","",""]
[null,null,null,null,null,null,null,null,"","","","","",{"$f":"IF(A112=\"\",\"\",1 - (VLOOKUP(M112,'Normal Loss Table (Inverse)'!$A$4:$B$33,2)*K112/I112))","v":""},"","","","",{"$f":"IF(A112=\"\",\"\",VLOOKUP(R112,'Normal Loss Table'!$A$3:$B$32,2)*K112)","v":""},"","",null,"","","",""]
[null,null,null,null,null,null,null,null,"","","","","",{"$f":"IF(A113=\"\",\"\",1 - (VLOOKUP(M113,'Normal Loss Table (Inverse)'!$A$4:$B$33,2)*K113/I113))","v":""},"","","","",{"$f":"IF(A113=\"\",\"\",VLOOKUP(R113,'Normal Loss Table'!$A$3:$B$32,2)*K113)","v":""},"","",null,"","","",""]
[null,null,null,null,null,null,null,null,"","","","","",{"$f":"IF(A114=\"\",\"\",1 - (VLOOKUP(M114,'Normal Loss Table (Inverse)'!$A$4:$B$33,2)*K114/I114))","v":""},"","","","",{"$f":"IF(A114=\"\",\"\",VLOOKUP(R114,'Normal Loss Table'!$A$3:$B$32,2)*K114)","v":""},"","",null,"","","",""]
[null,null,null,null,null,null,null,null,"","","","","",{"$f":"IF(A115=\"\",\"\",1 - (VLOOKUP(M115,'Normal Loss Table (Inverse)'!$A$4:$B$33,2)*K115/I115))","v":""},"","","","",{"$f":"IF(A115=\"\",\"\",VLOOKUP(R115,'Normal Loss Table'!$A$3:$B$32,2)*K115)","v":""},"","",null,"","","",""]
[null,null,null,null,null,null,null,null,"","","","","",{"$f":"IF(A116=\"\",\"\",1 - (VLOOKUP(M116,'Normal Loss Table (Inverse)'!$A$4:$B$33,2)*K116/I116))","v":""},"","","","",{"$f":"IF(A116=\"\",\"\",VLOOKUP(R116,'Normal Loss Table'!$A$3:$B$32,2)*K116)","v":""},"","",null,"","","",""]
[null,null,null,null,null,null,null,null,"","","","","",{"$f":"IF(A117=\"\",\"\",1 - (VLOOKUP(M117,'Normal Loss Table (Inverse)'!$A$4:$B$33,2)*K117/I117))","v":""},"","","","",{"$f":"IF(A117=\"\",\"\",VLOOKUP(R117,'Normal Loss Table'!$A$3:$B$32,2)*K117)","v":""},"","",null,"","","",""]
[null,null,null,null,null,null,null,null,"","","","","",{"$f":"IF(A118=\"\",\"\",1 - (VLOOKUP(M118,'Normal Loss Table (Inverse)'!$A$4:$B$33,2)*K118/I118))","v":""},"","","","",{"$f":"IF(A118=\"\",\"\",VLOOKUP(R118,'Normal Loss Table'!$A$3:$B$32,2)*K118)","v":""},"","",null,"","","",""]
[null,null,null,null,null,null,null,null,"","","","","",{"$f":"IF(A119=\"\",\"\",1 - (VLOOKUP(M119,'Normal Loss Table (Inverse)'!$A$4:$B$33,2)*K119/I119))","v":""},"","","","",{"$f":"IF(A119=\"\",\"\",VLOOKUP(R119,'Normal Loss Table'!$A$3:$B$32,2)*K119)","v":""},"","",null,"","","",""]
[null,null,null,null,null,null,null,null,"","","","","",{"$f":"IF(A120=\"\",\"\",1 - (VLOOKUP(M120,'Normal Loss Table (Inverse)'!$A$4:$B$33,2)*K120/I120))","v":""},"","","","",{"$f":"IF(A120=\"\",\"\",VLOOKUP(R120,'Normal Loss Table'!$A$3:$B$32,2)*K120)","v":""},"","",null,"","","",""]
[null,null,null,null,null,null,null,null,"","","","","",{"$f":"IF(A121=\"\",\"\",1 - (VLOOKUP(M121,'Normal Loss Table (Inverse)'!$A$4:$B$33,2)*K121/I121))","v":""},"","","","",{"$f":"IF(A121=\"\",\"\",VLOOKUP(R121,'Normal Loss Table'!$A$3:$B$32,2)*K121)","v":""},"","",null,"","","",""]
[null,null,null,null,null,null,null,null,"","","","","",{"$f":"IF(A122=\"\",\"\",1 - (VLOOKUP(M122,'Normal Loss Table (Inverse)'!$A$4:$B$33,2)*K122/I122))","v":""},"","","","",{"$f":"IF(A122=\"\",\"\",VLOOKUP(R122,'Normal Loss Table'!$A$3:$B$32,2)*K122)","v":""},"","",null,"","","",""]
[null,null,null,null,null,null,null,null,"","","","","",{"$f":"IF(A123=\"\",\"\",1 - (VLOOKUP(M123,'Normal Loss Table (Inverse)'!$A$4:$B$33,2)*K123/I123))","v":""},"","","","",{"$f":"IF(A123=\"\",\"\",VLOOKUP(R123,'Normal Loss Table'!$A$3:$B$32,2)*K123)","v":""},"","",null,"","","",""]
[null,null,null,null,null,null,null,null,"","","","","",{"$f":"IF(A124=\"\",\"\",1 - (VLOOKUP(M124,'Normal Loss Table (Inverse)'!$A$4:$B$33,2)*K124/I124))","v":""},"","","","",{"$f":"IF(A124=\"\",\"\",VLOOKUP(R124,'Normal Loss Table'!$A$3:$B$32,2)*K124)","v":""},"","",null,"","","",""]
[null,null,null,null,null,null,null,null,"","","","","",{"$f":"IF(A125=\"\",\"\",1 - (VLOOKUP(M125,'Normal Loss Table (Inverse)'!$A$4:$B$33,2)*K125/I125))","v":""},"","","","",{"$f":"IF(A125=\"\",\"\",VLOOKUP(R125,'Normal Loss Table'!$A$3:$B$32,2)*K125)","v":""},"","",null,"","","",""]
[null,null,null,null,null,null,null,null,"","","","","",{"$f":"IF(A126=\"\",\"\",1 - (VLOOKUP(M126,'Normal Loss Table (Inverse)'!$A$4:$B$33,2)*K126/I126))","v":""},"","","","",{"$f":"IF(A126=\"\",\"\",VLOOKUP(R126,'Normal Loss Table'!$A$3:$B$32,2)*K126)","v":""},"","",null,"","","",""]
[null,null,null,null,null,null,null,null,"","","","","",{"$f":"IF(A127=\"\",\"\",1 - (VLOOKUP(M127,'Normal Loss Table (Inverse)'!$A$4:$B$33,2)*K127/I127))","v":""},"","","","",{"$f":"IF(A127=\"\",\"\",VLOOKUP(R127,'Normal Loss Table'!$A$3:$B$32,2)*K127)","v":""},"","",null,"","","",""]
[null,null,null,null,null,null,null,null,"","","","","",{"$f":"IF(A128=\"\",\"\",1 - (VLOOKUP(M128,'Normal Loss Table (Inverse)'!$A$4:$B$33,2)*K128/I128))","v":""},"","","","",{"$f":"IF(A128=\"\",\"\",VLOOKUP(R128,'Normal Loss Table'!$A$3:$B$32,2)*K128)","v":""},"","",null,"","","",""]
[null,null,null,null,null,null,null,null,"","","","","",{"$f":"IF(A129=\"\",\"\",1 - (VLOOKUP(M129,'Normal Loss Table (Inverse)'!$A$4:$B$33,2)*K129/I129))","v":""},"","","","",{"$f":"IF(A129=\"\",\"\",VLOOKUP(R129,'Normal Loss Table'!$A$3:$B$32,2)*K129)","v":""},"","",null,"","","",""]
[null,null,null,null,null,null,null,null,"","","","","",{"$f":"IF(A130=\"\",\"\",1 - (VLOOKUP(M130,'Normal Loss Table (Inverse)'!$A$4:$B$33,2)*K130/I130))","v":""},"","","","",{"$f":"IF(A130=\"\",\"\",VLOOKUP(R130,'Normal Loss Table'!$A$3:$B$32,2)*K130)","v":""},"","",null,"","","",""]
[null,null,null,null,null,null,null,null,"","","","","",{"$f":"IF(A131=\"\",\"\",1 - (VLOOKUP(M131,'Normal Loss Table (Inverse)'!$A$4:$B$33,2)*K131/I131))","v":""},"","","","",{"$f":"IF(A131=\"\",\"\",VLOOKUP(R131,'Normal Loss Table'!$A$3:$B$32,2)*K131)","v":""},"","",null,"","","",""]
[null,null,null,null,null,null,null,null,{"$f":"IF(A132=\"\",\"\",H132*B132)","v":""},{"$f":"IF(A132=\"\",\"\",IF(D132-(I132/2) > 0, D132-(I132/2), 0))","v":""},"",{"$f":"IF(A132=\"\",\"\",J132/K132)","v":""},{"$f":"IF(A132=\"\",\"\",IF(L132 >3,3,L132))","v":""},{"$f":"IF(A132=\"\",\"\",1 - (VLOOKUP(M132,'Normal Loss Table (Inverse)'!$A$4:$B$33,2)*K132/I132))","v":""},{"$f":"IF(A132=\"\",\"\",B132*N132)","v":""},{"$f":"IF(A132=\"\",\"\",O132*$C132)","v":""},{"$f":"IF(A132=\"\",\"\",C132*D132)","v":""},{"$f":"IF(A132=\"\",\"\",ROUND((1-$Z132)*(I132/K132),4))","v":""},{"$f":"IF(A132=\"\",\"\",VLOOKUP(R132,'Normal Loss Table'!$A$3:$B$32,2)*K132)","v":""},{"$f":"IF(A132=\"\",\"\",I132/2+S132)","v":""},{"$f":"IF(A132=\"\",\"\",B132*C132*52*N132)","v":""},null,{"$f":"IF(A132=\"\",\"\",(V132-U132)*G132)","v":""},{"$f":"IF(A132=\"\",\"\",(T132*C132-Q132)*0.2)","v":""},{"$f":"IF(A132=\"\",\"\",W132-X132)","v":""},""]
[null,null,null,null,null,null,null,null,"","",{"$f":"IF(A133=\"\",\"\",SQRT(($H133*POWER(E133,2)) + ((B133^2)*POWER(1,2))))","v":""},"","",{"$f":"IF(A133=\"\",\"\",1 - (VLOOKUP(M133,'Normal Loss Table (Inverse)'!$A$4:$B$33,2)*K133/I133))","v":""},"","","","",{"$f":"IF(A133=\"\",\"\",VLOOKUP(R133,'Normal Loss Table'!$A$3:$B$32,2)*K133)","v":""},"","",null,"","","",""]
[null,null,null,null,null,null,null,null,"","","","","",{"$f":"IF(A134=\"\",\"\",1 - (VLOOKUP(M134,'Normal Loss Table (Inverse)'!$A$4:$B$33,2)*K134/I134))","v":""},"","","","",{"$f":"IF(A134=\"\",\"\",VLOOKUP(R134,'Normal Loss Table'!$A$3:$B$32,2)*K134)","v":""},"","",null,"","","",""]
[null,null,null,null,null,null,null,null,"","","","","",{"$f":"IF(A135=\"\",\"\",1 - (VLOOKUP(M135,'Normal Loss Table (Inverse)'!$A$4:$B$33,2)*K135/I135))","v":""},"","","","",{"$f":"IF(A135=\"\",\"\",VLOOKUP(R135,'Normal Loss Table'!$A$3:$B$32,2)*K135)","v":""},"","",null,"","","",""]
[null,null,null,null,null,null,null,null,"","","","","",{"$f":"IF(A136=\"\",\"\",1 - (VLOOKUP(M136,'Normal Loss Table (Inverse)'!$A$4:$B$33,2)*K136/I136))","v":""},"","","","",{"$f":"IF(A136=\"\",\"\",VLOOKUP(R136,'Normal Loss Table'!$A$3:$B$32,2)*K136)","v":""},"","",null,"","","",{"$f":"IF(A136=\"\",\"\",0)","v":""}]
[null,null,null,null,null,null,null,null,"","","","","",{"$f":"IF(A137=\"\",\"\",1 - (VLOOKUP(M137,'Normal Loss Table (Inverse)'!$A$4:$B$33,2)*K137/I137))","v":""},"","","","",{"$f":"IF(A137=\"\",\"\",VLOOKUP(R137,'Normal Loss Table'!$A$3:$B$32,2)*K137)","v":""},"","",null,"","","",""]
[null,null,null,null,null,null,null,null,"","","","","",{"$f":"IF(A138=\"\",\"\",1 - (VLOOKUP(M138,'Normal Loss Table (Inverse)'!$A$4:$B$33,2)*K138/I138))","v":""},"","","","",{"$f":"IF(A138=\"\",\"\",VLOOKUP(R138,'Normal Loss Table'!$A$3:$B$32,2)*K138)","v":""},"","",null,"","","",""]
[null,null,null,null,null,null,null,null,"","","","","",{"$f":"IF(A139=\"\",\"\",1 - (VLOOKUP(M139,'Normal Loss Table (Inverse)'!$A$4:$B$33,2)*K139/I139))","v":""},"","","","",{"$f":"IF(A139=\"\",\"\",VLOOKUP(R139,'Normal Loss Table'!$A$3:$B$32,2)*K139)","v":""},"","",null,"","","",""]
[null,null,null,null,null,null,null,null,"","","","","",{"$f":"IF(A140=\"\",\"\",1 - (VLOOKUP(M140,'Normal Loss Table (Inverse)'!$A$4:$B$33,2)*K140/I140))","v":""},"","","","",{"$f":"IF(A140=\"\",\"\",VLOOKUP(R140,'Normal Loss Table'!$A$3:$B$32,2)*K140)","v":""},"","",null,"","","",""]
[null,null,null,null,null,null,null,null,"","","","","",{"$f":"IF(A141=\"\",\"\",1 - (VLOOKUP(M141,'Normal Loss Table (Inverse)'!$A$4:$B$33,2)*K141/I141))","v":""},"","","","",{"$f":"IF(A141=\"\",\"\",VLOOKUP(R141,'Normal Loss Table'!$A$3:$B$32,2)*K141)","v":""},"","",null,"","","",""]
[null,null,null,null,null,null,null,null,"","","","","",{"$f":"IF(A142=\"\",\"\",1 - (VLOOKUP(M142,'Normal Loss Table (Inverse)'!$A$4:$B$33,2)*K142/I142))","v":""},"","","","",{"$f":"IF(A142=\"\",\"\",VLOOKUP(R142,'Normal Loss Table'!$A$3:$B$32,2)*K142)","v":""},"","",null,"","","",""]
[null,null,null,null,null,null,null,null,"","","","","",{"$f":"IF(A143=\"\",\"\",1 - (VLOOKUP(M143,'Normal Loss Table (Inverse)'!$A$4:$B$33,2)*K143/I143))","v":""},"","","","",{"$f":"IF(A143=\"\",\"\",VLOOKUP(R143,'Normal Loss Table'!$A$3:$B$32,2)*K143)","v":""},"","",null,"","","",""]
[null,null,null,null,null,null,null,null,"","","","","",{"$f":"IF(A144=\"\",\"\",1 - (VLOOKUP(M144,'Normal Loss Table (Inverse)'!$A$4:$B$33,2)*K144/I144))","v":""},"","","","",{"$f":"IF(A144=\"\",\"\",VLOOKUP(R144,'Normal Loss Table'!$A$3:$B$32,2)*K144)","v":""},"","",null,"","","",""]
[null,null,null,null,null,null,null,null,"","","","","",{"$f":"IF(A145=\"\",\"\",1 - (VLOOKUP(M145,'Normal Loss Table (Inverse)'!$A$4:$B$33,2)*K145/I145))","v":""},"","","","",{"$f":"IF(A145=\"\",\"\",VLOOKUP(R145,'Normal Loss Table'!$A$3:$B$32,2)*K145)","v":""},"","",null,"","","",""]
[null,null,null,null,null,null,null,null,"","","","","",{"$f":"IF(A146=\"\",\"\",1 - (VLOOKUP(M146,'Normal Loss Table (Inverse)'!$A$4:$B$33,2)*K146/I146))","v":""},"","","","",{"$f":"IF(A146=\"\",\"\",VLOOKUP(R146,'Normal Loss Table'!$A$3:$B$32,2)*K146)","v":""},"","",null,"","","",""]
[null,null,null,null,null,null,null,null,"","","","","",{"$f":"IF(A147=\"\",\"\",1 - (VLOOKUP(M147,'Normal Loss Table (Inverse)'!$A$4:$B$33,2)*K147/I147))","v":""},"","","","",{"$f":"IF(A147=\"\",\"\",VLOOKUP(R147,'Normal Loss Table'!$A$3:$B$32,2)*K147)","v":""},"","",null,"","","",""]
[null,null,null,null,null,null,null,null,"","","","","",{"$f":"IF(A148=\"\",\"\",1 - (VLOOKUP(M148,'Normal Loss Table (Inverse)'!$A$4:$B$33,2)*K148/I148))","v":""},"","","","",{"$f":"IF(A148=\"\",\"\",VLOOKUP(R148,'Normal Loss Table'!$A$3:$B$32,2)*K148)","v":""},"","",null,"","","",""]
[null,null,null,null,null,null,null,null,"","","","","",{"$f":"IF(A149=\"\",\"\",1 - (VLOOKUP(M149,'Normal Loss Table (Inverse)'!$A$4:$B$33,2)*K149/I149))","v":""},"","","","",{"$f":"IF(A149=\"\",\"\",VLOOKUP(R149,'Normal Loss Table'!$A$3:$B$32,2)*K149)","v":""},"","",null,"","","",""]
[null,null,null,null,null,null,null,null,"","","","","",{"$f":"IF(A150=\"\",\"\",1 - (VLOOKUP(M150,'Normal Loss Table (Inverse)'!$A$4:$B$33,2)*K150/I150))","v":""},"","","","",{"$f":"IF(A150=\"\",\"\",VLOOKUP(R150,'Normal Loss Table'!$A$3:$B$32,2)*K150)","v":""},"","",null,"","","",""]
[null,null,null,null,null,null,null,null,"","","","","",{"$f":"IF(A151=\"\",\"\",1 - (VLOOKUP(M151,'Normal Loss Table (Inverse)'!$A$4:$B$33,2)*K151/I151))","v":""},"","","","",{"$f":"IF(A151=\"\",\"\",VLOOKUP(R151,'Normal Loss Table'!$A$3:$B$32,2)*K151)","v":""},"","",null,"","","",""]
[null,null,null,null,null,null,null,null,"","","","","",{"$f":"IF(A152=\"\",\"\",1 - (VLOOKUP(M152,'Normal Loss Table (Inverse)'!$A$4:$B$33,2)*K152/I152))","v":""},"","","","",{"$f":"IF(A152=\"\",\"\",VLOOKUP(R152,'Normal Loss Table'!$A$3:$B$32,2)*K152)","v":""},"","",null,"","","",""]
[null,null,null,null,null,null,null,null,"","","","","",{"$f":"IF(A153=\"\",\"\",1 - (VLOOKUP(M153,'Normal Loss Table (Inverse)'!$A$4:$B$33,2)*K153/I153))","v":""},"","","","",{"$f":"IF(A153=\"\",\"\",VLOOKUP(R153,'Normal Loss Table'!$A$3:$B$32,2)*K153)","v":""},"","",null,"","","",""]
[null,null,null,null,null,null,null,null,"","","","","",{"$f":"IF(A154=\"\",\"\",1 - (VLOOKUP(M154,'Normal Loss Table (Inverse)'!$A$4:$B$33,2)*K154/I154))","v":""},"","","","",{"$f":"IF(A154=\"\",\"\",VLOOKUP(R154,'Normal Loss Table'!$A$3:$B$32,2)*K154)","v":""},"","",null,"","","",""]
[null,null,null,null,null,null,null,null,"","","","","",{"$f":"IF(A155=\"\",\"\",1 - (VLOOKUP(M155,'Normal Loss Table (Inverse)'!$A$4:$B$33,2)*K155/I155))","v":""},"","","","",{"$f":"IF(A155=\"\",\"\",VLOOKUP(R155,'Normal Loss Table'!$A$3:$B$32,2)*K155)","v":""},"","",null,"","","",""]
[null,null,null,null,null,null,null,null,"","","","","",{"$f":"IF(A156=\"\",\"\",1 - (VLOOKUP(M156,'Normal Loss Table (Inverse)'!$A$4:$B$33,2)*K156/I156))","v":""},"","","","",{"$f":"IF(A156=\"\",\"\",VLOOKUP(R156,'Normal Loss Table'!$A$3:$B$32,2)*K156)","v":""},"","",null,"","","",""]
[null,null,null,null,null,null,null,null,"","","","","",{"$f":"IF(A157=\"\",\"\",1 - (VLOOKUP(M157,'Normal Loss Table (Inverse)'!$A$4:$B$33,2)*K157/I157))","v":""},"","","","",{"$f":"IF(A157=\"\",\"\",VLOOKUP(R157,'Normal Loss Table'!$A$3:$B$32,2)*K157)","v":""},"","",null,"","","",""]
[null,null,null,null,null,null,null,null,"","","","","",{"$f":"IF(A158=\"\",\"\",1 - (VLOOKUP(M158,'Normal Loss Table (Inverse)'!$A$4:$B$33,2)*K158/I158))","v":""},"","","","",{"$f":"IF(A158=\"\",\"\",VLOOKUP(R158,'Normal Loss Table'!$A$3:$B$32,2)*K158)","v":""},"","",null,"","","",""]
[null,null,null,null,null,null,null,null,"","","","","",{"$f":"IF(A159=\"\",\"\",1 - (VLOOKUP(M159,'Normal Loss Table (Inverse)'!$A$4:$B$33,2)*K159/I159))","v":""},"","","","",{"$f":"IF(A159=\"\",\"\",VLOOKUP(R159,'Normal Loss Table'!$A$3:$B$32,2)*K159)","v":""},"","",null,"","","",""]
[null,null,null,null,null,null,null,null,"","","","","",{"$f":"IF(A160=\"\",\"\",1 - (VLOOKUP(M160,'Normal Loss Table (Inverse)'!$A$4:$B$33,2)*K160/I160))","v":""},"","","","",{"$f":"IF(A160=\"\",\"\",VLOOKUP(R160,'Normal Loss Table'!$A$3:$B$32,2)*K160)","v":""},"","",null,"","","",""]
[null,null,null,null,null,null,null,null,"","","","","",{"$f":"IF(A161=\"\",\"\",1 - (VLOOKUP(M161,'Normal Loss Table (Inverse)'!$A$4:$B$33,2)*K161/I161))","v":""},"","","","",{"$f":"IF(A161=\"\",\"\",VLOOKUP(R161,'Normal Loss Table'!$A$3:$B$32,2)*K161)","v":""},"","",null,"","","",""]
[null,null,null,null,null,null,null,null,"","","","","",{"$f":"IF(A162=\"\",\"\",1 - (VLOOKUP(M162,'Normal Loss Table (Inverse)'!$A$4:$B$33,2)*K162/I162))","v":""},"","","","",{"$f":"IF(A162=\"\",\"\",VLOOKUP(R162,'Normal Loss Table'!$A$3:$B$32,2)*K162)","v":""},"","",null,"","","",""]
[null,null,null,null,null,null,null,null,"","","","","",{"$f":"IF(A163=\"\",\"\",1 - (VLOOKUP(M163,'Normal Loss Table (Inverse)'!$A$4:$B$33,2)*K163/I163))","v":""},"","","","",{"$f":"IF(A163=\"\",\"\",VLOOKUP(R163,'Normal Loss Table'!$A$3:$B$32,2)*K163)","v":""},"","",null,"","","",""]
[null,null,null,null,null,null,null,null,"","","","","",{"$f":"IF(A164=\"\",\"\",1 - (VLOOKUP(M164,'Normal Loss Table (Inverse)'!$A$4:$B$33,2)*K164/I164))","v":""},"","","","",{"$f":"IF(A164=\"\",\"\",VLOOKUP(R164,'Normal Loss Table'!$A$3:$B$32,2)*K164)","v":""},"","",null,"","","",""]
[null,null,null,null,null,null,null,null,"","","","","",{"$f":"IF(A165=\"\",\"\",1 - (VLOOKUP(M165,'Normal Loss Table (Inverse)'!$A$4:$B$33,2)*K165/I165))","v":""},"","","","",{"$f":"IF(A165=\"\",\"\",VLOOKUP(R165,'Normal Loss Table'!$A$3:$B$32,2)*K165)","v":""},"","",null,"","","",""]
[null,null,null,null,null,null,null,null,"","","","","",{"$f":"IF(A166=\"\",\"\",1 - (VLOOKUP(M166,'Normal Loss Table (Inverse)'!$A$4:$B$33,2)*K166/I166))","v":""},"","","","",{"$f":"IF(A166=\"\",\"\",VLOOKUP(R166,'Normal Loss Table'!$A$3:$B$32,2)*K166)","v":""},"","",null,"","","",""]
[null,null,null,null,null,null,null,null,"","","","","",{"$f":"IF(A167=\"\",\"\",1 - (VLOOKUP(M167,'Normal Loss Table (Inverse)'!$A$4:$B$33,2)*K167/I167))","v":""},"","","","",{"$f":"IF(A167=\"\",\"\",VLOOKUP(R167,'Normal Loss Table'!$A$3:$B$32,2)*K167)","v":""},"","",null,"","","",""]
[null,null,null,null,null,null,null,null,"","","","","",{"$f":"IF(A168=\"\",\"\",1 - (VLOOKUP(M168,'Normal Loss Table (Inverse)'!$A$4:$B$33,2)*K168/I168))","v":""},"","","","",{"$f":"IF(A168=\"\",\"\",VLOOKUP(R168,'Normal Loss Table'!$A$3:$B$32,2)*K168)","v":""},"","",null,"","","",{"$f":"IF(A168=\"\",\"\",0)","v":""}]
[null,null,null,null,null,null,null,null,"","","","","",{"$f":"IF(A169=\"\",\"\",1 - (VLOOKUP(M169,'Normal Loss Table (Inverse)'!$A$4:$B$33,2)*K169/I169))","v":""},"","","","",{"$f":"IF(A169=\"\",\"\",VLOOKUP(R169,'Normal Loss Table'!$A$3:$B$32,2)*K169)","v":""},"","",null,"","","",""]
[null,null,null,null,null,null,null,null,"","","","","",{"$f":"IF(A170=\"\",\"\",1 - (VLOOKUP(M170,'Normal Loss Table (Inverse)'!$A$4:$B$33,2)*K170/I170))","v":""},"","","","",{"$f":"IF(A170=\"\",\"\",VLOOKUP(R170,'Normal Loss Table'!$A$3:$B$32,2)*K170)","v":""},"","",null,"","","",""]
[null,null,null,null,null,null,null,null,"","","","","",{"$f":"IF(A171=\"\",\"\",1 - (VLOOKUP(M171,'Normal Loss Table (Inverse)'!$A$4:$B$33,2)*K171/I171))","v":""},"","","","",{"$f":"IF(A171=\"\",\"\",VLOOKUP(R171,'Normal Loss Table'!$A$3:$B$32,2)*K171)","v":""},"","",null,"","","",""]
[null,null,null,null,null,null,null,null,"","","","","",{"$f":"IF(A172=\"\",\"\",1 - (VLOOKUP(M172,'Normal Loss Table (Inverse)'!$A$4:$B$33,2)*K172/I172))","v":""},"","","","",{"$f":"IF(A172=\"\",\"\",VLOOKUP(R172,'Normal Loss Table'!$A$3:$B$32,2)*K172)","v":""},"","",null,"","","",""]
[null,null,null,null,null,null,null,null,"","","","","",{"$f":"IF(A173=\"\",\"\",1 - (VLOOKUP(M173,'Normal Loss Table (Inverse)'!$A$4:$B$33,2)*K173/I173))","v":""},"","","","",{"$f":"IF(A173=\"\",\"\",VLOOKUP(R173,'Normal Loss Table'!$A$3:$B$32,2)*K173)","v":""},"","",null,"","","",""]
[null,null,null,null,null,null,null,null,"","","","","",{"$f":"IF(A174=\"\",\"\",1 - (VLOOKUP(M174,'Normal Loss Table (Inverse)'!$A$4:$B$33,2)*K174/I174))","v":""},"","","","",{"$f":"IF(A174=\"\",\"\",VLOOKUP(R174,'Normal Loss Table'!$A$3:$B$32,2)*K174)","v":""},"","",null,"","","",""]
[null,null,null,null,null,null,null,null,"","","","","",{"$f":"IF(A175=\"\",\"\",1 - (VLOOKUP(M175,'Normal Loss Table (Inverse)'!$A$4:$B$33,2)*K175/I175))","v":""},"","","","",{"$f":"IF(A175=\"\",\"\",VLOOKUP(R175,'Normal Loss Table'!$A$3:$B$32,2)*K175)","v":""},"","",null,"","","",""]
[null,null,null,null,null,null,null,null,"","","","","",{"$f":"IF(A176=\"\",\"\",1 - (VLOOKUP(M176,'Normal Loss Table (Inverse)'!$A$4:$B$33,2)*K176/I176))","v":""},"","","","",{"$f":"IF(A176=\"\",\"\",VLOOKUP(R176,'Normal Loss Table'!$A$3:$B$32,2)*K176)","v":""},"","",null,"","","",""]
[null,null,null,null,null,null,null,null,"","","","","",{"$f":"IF(A177=\"\",\"\",1 - (VLOOKUP(M177,'Normal Loss Table (Inverse)'!$A$4:$B$33,2)*K177/I177))","v":""},"","","","",{"$f":"IF(A177=\"\",\"\",VLOOKUP(R177,'Normal Loss Table'!$A$3:$B$32,2)*K177)","v":""},"","",null,"","","",""]
[null,null,null,null,null,null,null,null,"","","","","",{"$f":"IF(A178=\"\",\"\",1 - (VLOOKUP(M178,'Normal Loss Table (Inverse)'!$A$4:$B$33,2)*K178/I178))","v":""},"","","","",{"$f":"IF(A178=\"\",\"\",VLOOKUP(R178,'Normal Loss Table'!$A$3:$B$32,2)*K178)","v":""},"","",null,"","","",""]
[null,null,null,null,null,null,null,null,"","","","","",{"$f":"IF(A179=\"\",\"\",1 - (VLOOKUP(M179,'Normal Loss Table (Inverse)'!$A$4:$B$33,2)*K179/I179))","v":""},"","","","",{"$f":"IF(A179=\"\",\"\",VLOOKUP(R179,'Normal Loss Table'!$A$3:$B$32,2)*K179)","v":""},"","",null,"","","",""]
[null,null,null,null,null,null,null,null,"","","","","",{"$f":"IF(A180=\"\",\"\",1 - (VLOOKUP(M180,'Normal Loss Table (Inverse)'!$A$4:$B$33,2)*K180/I180))","v":""},"","","","",{"$f":"IF(A180=\"\",\"\",VLOOKUP(R180,'Normal Loss Table'!$A$3:$B$32,2)*K180)","v":""},"","",null,"","","",""]
[null,null,null,null,null,null,null,null,"","","","","",{"$f":"IF(A181=\"\",\"\",1 - (VLOOKUP(M181,'Normal Loss Table (Inverse)'!$A$4:$B$33,2)*K181/I181))","v":""},"","","","",{"$f":"IF(A181=\"\",\"\",VLOOKUP(R181,'Normal Loss Table'!$A$3:$B$32,2)*K181)","v":""},"","",null,"","","",""]
[null,null,null,null,null,null,null,null,"","","","","",{"$f":"IF(A182=\"\",\"\",1 - (VLOOKUP(M182,'Normal Loss Table (Inverse)'!$A$4:$B$33,2)*K182/I182))","v":""},"","","","",{"$f":"IF(A182=\"\",\"\",VLOOKUP(R182,'Normal Loss Table'!$A$3:$B$32,2)*K182)","v":""},"","",null,"","","",""]
[null,null,null,null,null,null,null,null,"","","","","",{"$f":"IF(A183=\"\",\"\",1 - (VLOOKUP(M183,'Normal Loss Table (Inverse)'!$A$4:$B$33,2)*K183/I183))","v":""},"","","","",{"$f":"IF(A183=\"\",\"\",VLOOKUP(R183,'Normal Loss Table'!$A$3:$B$32,2)*K183)","v":""},"","",null,"","","",""]
[null,null,null,null,null,null,null,null,"","","","","",{"$f":"IF(A184=\"\",\"\",1 - (VLOOKUP(M184,'Normal Loss Table (Inverse)'!$A$4:$B$33,2)*K184/I184))","v":""},"","","","",{"$f":"IF(A184=\"\",\"\",VLOOKUP(R184,'Normal Loss Table'!$A$3:$B$32,2)*K184)","v":""},"","",null,"","","",""]
[null,null,null,null,null,null,null,null,"","","","","",{"$f":"IF(A185=\"\",\"\",1 - (VLOOKUP(M185,'Normal Loss Table (Inverse)'!$A$4:$B$33,2)*K185/I185))","v":""},"","","","",{"$f":"IF(A185=\"\",\"\",VLOOKUP(R185,'Normal Loss Table'!$A$3:$B$32,2)*K185)","v":""},"","",null,"","","",""]
[null,null,null,null,null,null,null,null,"","","","","",{"$f":"IF(A186=\"\",\"\",1 - (VLOOKUP(M186,'Normal Loss Table (Inverse)'!$A$4:$B$33,2)*K186/I186))","v":""},"","","","",{"$f":"IF(A186=\"\",\"\",VLOOKUP(R186,'Normal Loss Table'!$A$3:$B$32,2)*K186)","v":""},"","",null,"","","",""]
[null,null,null,null,null,null,null,null,"","","","","",{"$f":"IF(A187=\"\",\"\",1 - (VLOOKUP(M187,'Normal Loss Table (Inverse)'!$A$4:$B$33,2)*K187/I187))","v":""},"","","","",{"$f":"IF(A187=\"\",\"\",VLOOKUP(R187,'Normal Loss Table'!$A$3:$B$32,2)*K187)","v":""},"","",null,"","","",""]
[null,null,null,null,null,null,null,null,"","","","","",{"$f":"IF(A188=\"\",\"\",1 - (VLOOKUP(M188,'Normal Loss Table (Inverse)'!$A$4:$B$33,2)*K188/I188))","v":""},"","","","",{"$f":"IF(A188=\"\",\"\",VLOOKUP(R188,'Normal Loss Table'!$A$3:$B$32,2)*K188)","v":""},"","",null,"","","",""]
[null,null,null,null,null,null,null,null,"","","","","",{"$f":"IF(A189=\"\",\"\",1 - (VLOOKUP(M189,'Normal Loss Table (Inverse)'!$A$4:$B$33,2)*K189/I189))","v":""},"","","","",{"$f":"IF(A189=\"\",\"\",VLOOKUP(R189,'Normal Loss Table'!$A$3:$B$32,2)*K189)","v":""},"","",null,"","","",""]
[null,null,null,null,null,null,null,null,"","","","","",{"$f":"IF(A190=\"\",\"\",1 - (VLOOKUP(M190,'Normal Loss Table (Inverse)'!$A$4:$B$33,2)*K190/I190))","v":""},"","","","",{"$f":"IF(A190=\"\",\"\",VLOOKUP(R190,'Normal Loss Table'!$A$3:$B$32,2)*K190)","v":""},"","",null,"","","",""]
[null,null,null,null,null,null,null,null,"","","","","",{"$f":"IF(A191=\"\",\"\",1 - (VLOOKUP(M191,'Normal Loss Table (Inverse)'!$A$4:$B$33,2)*K191/I191))","v":""},"","","","",{"$f":"IF(A191=\"\",\"\",VLOOKUP(R191,'Normal Loss Table'!$A$3:$B$32,2)*K191)","v":""},"","",null,"","","",""]
[null,null,null,null,null,null,null,null,"","","","","",{"$f":"IF(A192=\"\",\"\",1 - (VLOOKUP(M192,'Normal Loss Table (Inverse)'!$A$4:$B$33,2)*K192/I192))","v":""},"","","","",{"$f":"IF(A192=\"\",\"\",VLOOKUP(R192,'Normal Loss Table'!$A$3:$B$32,2)*K192)","v":""},"","",null,"","","",""]
[null,null,null,null,null,null,null,null,"","","","","",{"$f":"IF(A193=\"\",\"\",1 - (VLOOKUP(M193,'Normal Loss Table (Inverse)'!$A$4:$B$33,2)*K193/I193))","v":""},"","","","",{"$f":"IF(A193=\"\",\"\",VLOOKUP(R193,'Normal Loss Table'!$A$3:$B$32,2)*K193)","v":""},"","",null,"","","",""]
[null,null,null,null,null,null,null,null,"","","","","",{"$f":"IF(A194=\"\",\"\",1 - (VLOOKUP(M194,'Normal Loss Table (Inverse)'!$A$4:$B$33,2)*K194/I194))","v":""},"","","","",{"$f":"IF(A194=\"\",\"\",VLOOKUP(R194,'Normal Loss Table'!$A$3:$B$32,2)*K194)","v":""},"","",null,"","","",""]
[null,null,null,null,null,null,null,null,"","","","","",{"$f":"IF(A195=\"\",\"\",1 - (VLOOKUP(M195,'Normal Loss Table (Inverse)'!$A$4:$B$33,2)*K195/I195))","v":""},"","","","",{"$f":"IF(A195=\"\",\"\",VLOOKUP(R195,'Normal Loss Table'!$A$3:$B$32,2)*K195)","v":""},"","",null,"","","",""]
[null,null,null,null,null,null,null,null,{"$f":"IF(A196=\"\",\"\",H196*B196)","v":""},{"$f":"IF(A196=\"\",\"\",IF(D196-(I196/2) > 0, D196-(I196/2), 0))","v":""},"",{"$f":"IF(A196=\"\",\"\",J196/K196)","v":""},{"$f":"IF(A196=\"\",\"\",IF(L196 >3,3,L196))","v":""},{"$f":"IF(A196=\"\",\"\",1 - (VLOOKUP(M196,'Normal Loss Table (Inverse)'!$A$4:$B$33,2)*K196/I196))","v":""},{"$f":"IF(A196=\"\",\"\",B196*N196)","v":""},{"$f":"IF(A196=\"\",\"\",O196*$C196)","v":""},{"$f":"IF(A196=\"\",\"\",C196*D196)","v":""},{"$f":"IF(A196=\"\",\"\",ROUND((1-$Z196)*(I196/K196),4))","v":""},{"$f":"IF(A196=\"\",\"\",VLOOKUP(R196,'Normal Loss Table'!$A$3:$B$32,2)*K196)","v":""},{"$f":"IF(A196=\"\",\"\",I196/2+S196)","v":""},{"$f":"IF(A196=\"\",\"\",B196*C196*52*N196)","v":""},null,{"$f":"IF(A196=\"\",\"\",(V196-U196)*G196)","v":""},{"$f":"IF(A196=\"\",\"\",(T196*C196-Q196)*0.2)","v":""},{"$f":"IF(A196=\"\",\"\",W196-X196)","v":""},""]
[null,null,null,null,null,null,null,null,"","",{"$f":"IF(A197=\"\",\"\",SQRT(($H197*POWER(E197,2)) + ((B197^2)*POWER(1,2))))","v":""},"","",{"$f":"IF(A197=\"\",\"\",1 - (VLOOKUP(M197,'Normal Loss Table (Inverse)'!$A$4:$B$33,2)*K197/I197))","v":""},"","","","",{"$f":"IF(A197=\"\",\"\",VLOOKUP(R197,'Normal Loss Table'!$A$3:$B$32,2)*K197)","v":""},"","",null,"","","",""]
[null,null,null,null,null,null,null,null,"","","","","",{"$f":"IF(A198=\"\",\"\",1 - (VLOOKUP(M198,'Normal Loss Table (Inverse)'!$A$4:$B$33,2)*K198/I198))","v":""},"","","","",{"$f":"IF(A198=\"\",\"\",VLOOKUP(R198,'Normal Loss Table'!$A$3:$B$32,2)*K198)","v":""},"","",null,"","","",""]
[null,null,null,null,null,null,null,null,"","","","","",{"$f":"IF(A199=\"\",\"\",1 - (VLOOKUP(M199,'Normal Loss Table (Inverse)'!$A$4:$B$33,2)*K199/I199))","v":""},"","","","",{"$f":"IF(A199=\"\",\"\",VLOOKUP(R199,'Normal Loss Table'!$A$3:$B$32,2)*K199)","v":""},"","",null,"","","",""]
[null,null,null,null,null,null,null,null,"","","","","",{"$f":"IF(A200=\"\",\"\",1 - (VLOOKUP(M200,'Normal Loss Table (Inverse)'!$A$4:$B$33,2)*K200/I200))","v":""},"","","","",{"$f":"IF(A200=\"\",\"\",VLOOKUP(R200,'Normal Loss Table'!$A$3:$B$32,2)*K200)","v":""},"","",null,"","","",{"$f":"IF(A200=\"\",\"\",0)","v":""}]
[null,null,null,null,null,null,null,null,"","","","","",{"$f":"IF(A201=\"\",\"\",1 - (VLOOKUP(M201,'Normal Loss Table (Inverse)'!$A$4:$B$33,2)*K201/I201))","v":""},"","","","",{"$f":"IF(A201=\"\",\"\",VLOOKUP(R201,'Normal Loss Table'!$A$3:$B$32,2)*K201)","v":""},"","",null,"","","",""]
[null,null,null,null,null,null,null,null,"","","","","",{"$f":"IF(A202=\"\",\"\",1 - (VLOOKUP(M202,'Normal Loss Table (Inverse)'!$A$4:$B$33,2)*K202/I202))","v":""},"","","","",{"$f":"IF(A202=\"\",\"\",VLOOKUP(R202,'Normal Loss Table'!$A$3:$B$32,2)*K202)","v":""},"","",null,"","","",""]
[null,null,null,null,null,null,null,null,"","","","","",{"$f":"IF(A203=\"\",\"\",1 - (VLOOKUP(M203,'Normal Loss Table (Inverse)'!$A$4:$B$33,2)*K203/I203))","v":""},"","","","",{"$f":"IF(A203=\"\",\"\",VLOOKUP(R203,'Normal Loss Table'!$A$3:$B$32,2)*K203)","v":""},"","",null,"","","",""]
[null,null,null,null,null,null,null,null,"","","","","",{"$f":"IF(A204=\"\",\"\",1 - (VLOOKUP(M204,'Normal Loss Table (Inverse)'!$A$4:$B$33,2)*K204/I204))","v":""},"","","","",{"$f":"IF(A204=\"\",\"\",VLOOKUP(R204,'Normal Loss Table'!$A$3:$B$32,2)*K204)","v":""},"","",null,"","","",""]
[null,null,null,null,null,null,null,null,"","","","","",{"$f":"IF(A205=\"\",\"\",1 - (VLOOKUP(M205,'Normal Loss Table (Inverse)'!$A$4:$B$33,2)*K205/I205))","v":""},"","","","",{"$f":"IF(A205=\"\",\"\",VLOOKUP(R205,'Normal Loss Table'!$A$3:$B$32,2)*K205)","v":""},"","",null,"","","",""]
[null,null,null,null,null,null,null,null,"","","","","",{"$f":"IF(A206=\"\",\"\",1 - (VLOOKUP(M206,'Normal Loss Table (Inverse)'!$A$4:$B$33,2)*K206/I206))","v":""},"","","","",{"$f":"IF(A206=\"\",\"\",VLOOKUP(R206,'Normal Loss Table'!$A$3:$B$32,2)*K206)","v":""},"","",null,"","","",""]
[null,null,null,null,null,null,null,null,"","","","","",{"$f":"IF(A207=\"\",\"\",1 - (VLOOKUP(M207,'Normal Loss Table (Inverse)'!$A$4:$B$33,2)*K207/I207))","v":""},"","","","",{"$f":"IF(A207=\"\",\"\",VLOOKUP(R207,'Normal Loss Table'!$A$3:$B$32,2)*K207)","v":""},"","",null,"","","",""]
[null,null,null,null,null,null,null,null,"","","","","",{"$f":"IF(A208=\"\",\"\",1 - (VLOOKUP(M208,'Normal Loss Table (Inverse)'!$A$4:$B$33,2)*K208/I208))","v":""},"","","","",{"$f":"IF(A208=\"\",\"\",VLOOKUP(R208,'Normal Loss Table'!$A$3:$B$32,2)*K208)","v":""},"","",null,"","","",""]
[null,null,null,null,null,null,null,null,"","","","","",{"$f":"IF(A209=\"\",\"\",1 - (VLOOKUP(M209,'Normal Loss Table (Inverse)'!$A$4:$B$33,2)*K209/I209))","v":""},"","","","",{"$f":"IF(A209=\"\",\"\",VLOOKUP(R209,'Normal Loss Table'!$A$3:$B$32,2)*K209)","v":""},"","",null,"","","",""]
[null,null,null,null,null,null,null,null,"","","","","",{"$f":"IF(A210=\"\",\"\",1 - (VLOOKUP(M210,'Normal Loss Table (Inverse)'!$A$4:$B$33,2)*K210/I210))","v":""},"","","","",{"$f":"IF(A210=\"\",\"\",VLOOKUP(R210,'Normal Loss Table'!$A$3:$B$32,2)*K210)","v":""},"","",null,"","","",""]
[null,null,null,null,null,null,null,null,"","","","","",{"$f":"IF(A211=\"\",\"\",1 - (VLOOKUP(M211,'Normal Loss Table (Inverse)'!$A$4:$B$33,2)*K211/I211))","v":""},"","","","",{"$f":"IF(A211=\"\",\"\",VLOOKUP(R211,'Normal Loss Table'!$A$3:$B$32,2)*K211)","v":""},"","",null,"","","",""]
[null,null,null,null,null,null,null,null,"","","","","",{"$f":"IF(A212=\"\",\"\",1 - (VLOOKUP(M212,'Normal Loss Table (Inverse)'!$A$4:$B$33,2)*K212/I212))","v":""},"","","","",{"$f":"IF(A212=\"\",\"\",VLOOKUP(R212,'Normal Loss Table'!$A$3:$B$32,2)*K212)","v":""},"","",null,"","","",""]
[null,null,null,null,null,null,null,null,"","","","","",{"$f":"IF(A213=\"\",\"\",1 - (VLOOKUP(M213,'Normal Loss Table (Inverse)'!$A$4:$B$33,2)*K213/I213))","v":""},"","","","",{"$f":"IF(A213=\"\",\"\",VLOOKUP(R213,'Normal Loss Table'!$A$3:$B$32,2)*K213)","v":""},"","",null,"","","",""]
[null,null,null,null,null,null,null,null,"","","","","",{"$f":"IF(A214=\"\",\"\",1 - (VLOOKUP(M214,'Normal Loss Table (Inverse)'!$A$4:$B$33,2)*K214/I214))","v":""},"","","","",{"$f":"IF(A214=\"\",\"\",VLOOKUP(R214,'Normal Loss Table'!$A$3:$B$32,2)*K214)","v":""},"","",null,"","","",""]
[null,null,null,null,null,null,null,null,"","","","","",{"$f":"IF(A215=\"\",\"\",1 - (VLOOKUP(M215,'Normal Loss Table (Inverse)'!$A$4:$B$33,2)*K215/I215))","v":""},"","","","",{"$f":"IF(A215=\"\",\"\",VLOOKUP(R215,'Normal Loss Table'!$A$3:$B$32,2)*K215)","v":""},"","",null,"","","",""]
[null,null,null,null,null,null,null,null,"","","","","",{"$f":"IF(A216=\"\",\"\",1 - (VLOOKUP(M216,'Normal Loss Table (Inverse)'!$A$4:$B$33,2)*K216/I216))","v":""},"","","","",{"$f":"IF(A216=\"\",\"\",VLOOKUP(R216,'Normal Loss Table'!$A$3:$B$32,2)*K216)","v":""},"","",null,"","","",""]
[null,null,null,null,null,null,null,null,"","","","","",{"$f":"IF(A217=\"\",\"\",1 - (VLOOKUP(M217,'Normal Loss Table (Inverse)'!$A$4:$B$33,2)*K217/I217))","v":""},"","","","",{"$f":"IF(A217=\"\",\"\",VLOOKUP(R217,'Normal Loss Table'!$A$3:$B$32,2)*K217)","v":""},"","",null,"","","",""]
[null,null,null,null,null,null,null,null,"","","","","",{"$f":"IF(A218=\"\",\"\",1 - (VLOOKUP(M218,'Normal Loss Table (Inverse)'!$A$4:$B$33,2)*K218/I218))","v":""},"","","","",{"$f":"IF(A218=\"\",\"\",VLOOKUP(R218,'Normal Loss Table'!$A$3:$B$32,2)*K218)","v":""},"","",null,"","","",""]
[null,null,null,null,null,null,null,null,"","","","","",{"$f":"IF(A219=\"\",\"\",1 - (VLOOKUP(M219,'Normal Loss Table (Inverse)'!$A$4:$B$33,2)*K219/I219))","v":""},"","","","",{"$f":"IF(A219=\"\",\"\",VLOOKUP(R219,'Normal Loss Table'!$A$3:$B$32,2)*K219)","v":""},"","",null,"","","",""]
[null,null,null,null,null,null,null,null,"","","","","",{"$f":"IF(A220=\"\",\"\",1 - (VLOOKUP(M220,'Normal Loss Table (Inverse)'!$A$4:$B$33,2)*K220/I220))","v":""},"","","","",{"$f":"IF(A220=\"\",\"\",VLOOKUP(R220,'Normal Loss Table'!$A$3:$B$32,2)*K220)","v":""},"","",null,"","","",""]
[null,null,null,null,null,null,null,null,"","","","","",{"$f":"IF(A221=\"\",\"\",1 - (VLOOKUP(M221,'Normal Loss Table (Inverse)'!$A$4:$B$33,2)*K221/I221))","v":""},"","","","",{"$f":"IF(A221=\"\",\"\",VLOOKUP(R221,'Normal Loss Table'!$A$3:$B$32,2)*K221)","v":""},"","",null,"","","",""]
[null,null,null,null,null,null,null,null,"","","","","",{"$f":"IF(A222=\"\",\"\",1 - (VLOOKUP(M222,'Normal Loss Table (Inverse)'!$A$4:$B$33,2)*K222/I222))","v":""},"","","","",{"$f":"IF(A222=\"\",\"\",VLOOKUP(R222,'Normal Loss Table'!$A$3:$B$32,2)*K222)","v":""},"","",null,"","","",""]
[null,null,null,null,null,null,null,null,"","","","","",{"$f":"IF(A223=\"\",\"\",1 - (VLOOKUP(M223,'Normal Loss Table (Inverse)'!$A$4:$B$33,2)*K223/I223))","v":""},"","","","",{"$f":"IF(A223=\"\",\"\",VLOOKUP(R223,'Normal Loss Table'!$A$3:$B$32,2)*K223)","v":""},"","",null,"","","",""]
[null,null,null,null,null,null,null,null,"","","","","",{"$f":"IF(A224=\"\",\"\",1 - (VLOOKUP(M224,'Normal Loss Table (Inverse)'!$A$4:$B$33,2)*K224/I224))","v":""},"","","","",{"$f":"IF(A224=\"\",\"\",VLOOKUP(R224,'Normal Loss Table'!$A$3:$B$32,2)*K224)","v":""},"","",null,"","","",""]
[null,null,null,null,null,null,null,null,"","","","","",{"$f":"IF(A225=\"\",\"\",1 - (VLOOKUP(M225,'Normal Loss Table (Inverse)'!$A$4:$B$33,2)*K225/I225))","v":""},"","","","",{"$f":"IF(A225=\"\",\"\",VLOOKUP(R225,'Normal Loss Table'!$A$3:$B$32,2)*K225)","v":""},"","",null,"","","",""]
[null,null,null,null,null,null,null,null,"","","","","",{"$f":"IF(A226=\"\",\"\",1 - (VLOOKUP(M226,'Normal Loss Table (Inverse)'!$A$4:$B$33,2)*K226/I226))","v":""},"","","","",{"$f":"IF(A226=\"\",\"\",VLOOKUP(R226,'Normal Loss Table'!$A$3:$B$32,2)*K226)","v":""},"","",null,"","","",""]
[null,null,null,null,null,null,null,null,"","","","","",{"$f":"IF(A227=\"\",\"\",1 - (VLOOKUP(M227,'Normal Loss Table (Inverse)'!$A$4:$B$33,2)*K227/I227))","v":""},"","","","",{"$f":"IF(A227=\"\",\"\",VLOOKUP(R227,'Normal Loss Table'!$A$3:$B$32,2)*K227)","v":""},"","",null,"","","",""]
[null,null,null,null,null,null,null,null,"","","","","",{"$f":"IF(A228=\"\",\"\",1 - (VLOOKUP(M228,'Normal Loss Table (Inverse)'!$A$4:$B$33,2)*K228/I228))","v":""},"","","","",{"$f":"IF(A228=\"\",\"\",VLOOKUP(R228,'Normal Loss Table'!$A$3:$B$32,2)*K228)","v":""},"","",null,"","","",""]
[null,null,null,null,null,null,null,null,"","","","","",{"$f":"IF(A229=\"\",\"\",1 - (VLOOKUP(M229,'Normal Loss Table (Inverse)'!$A$4:$B$33,2)*K229/I229))","v":""},"","","","",{"$f":"IF(A229=\"\",\"\",VLOOKUP(R229,'Normal Loss Table'!$A$3:$B$32,2)*K229)","v":""},"","",null,"","","",""]
[null,null,null,null,null,null,null,null,"","","","","",{"$f":"IF(A230=\"\",\"\",1 - (VLOOKUP(M230,'Normal Loss Table (Inverse)'!$A$4:$B$33,2)*K230/I230))","v":""},"","","","",{"$f":"IF(A230=\"\",\"\",VLOOKUP(R230,'Normal Loss Table'!$A$3:$B$32,2)*K230)","v":""},"","",null,"","","",""]
[null,null,null,null,null,null,null,null,"","","","","",{"$f":"IF(A231=\"\",\"\",1 - (VLOOKUP(M231,'Normal Loss Table (Inverse)'!$A$4:$B$33,2)*K231/I231))","v":""},"","","","",{"$f":"IF(A231=\"\",\"\",VLOOKUP(R231,'Normal Loss Table'!$A$3:$B$32,2)*K231)","v":""},"","",null,"","","",""]
[null,null,null,null,null,null,null,null,"","","","","",{"$f":"IF(A232=\"\",\"\",1 - (VLOOKUP(M232,'Normal Loss Table (Inverse)'!$A$4:$B$33,2)*K232/I232))","v":""},"","","","",{"$f":"IF(A232=\"\",\"\",VLOOKUP(R232,'Normal Loss Table'!$A$3:$B$32,2)*K232)","v":""},"","",null,"","","",{"$f":"IF(A232=\"\",\"\",0)","v":""}]
[null,null,null,null,null,null,null,null,"","","","","",{"$f":"IF(A233=\"\",\"\",1 - (VLOOKUP(M233,'Normal Loss Table (Inverse)'!$A$4:$B$33,2)*K233/I233))","v":""},"","","","",{"$f":"IF(A233=\"\",\"\",VLOOKUP(R233,'Normal Loss Table'!$A$3:$B$32,2)*K233)","v":""},"","",null,"","","",""]
[null,null,null,null,null,null,null,null,"","","","","",{"$f":"IF(A234=\"\",\"\",1 - (VLOOKUP(M234,'Normal Loss Table (Inverse)'!$A$4:$B$33,2)*K234/I234))","v":""},"","","","",{"$f":"IF(A234=\"\",\"\",VLOOKUP(R234,'Normal Loss Table'!$A$3:$B$32,2)*K234)","v":""},"","",null,"","","",""]
[null,null,null,null,null,null,null,null,"","","","","",{"$f":"IF(A235=\"\",\"\",1 - (VLOOKUP(M235,'Normal Loss Table (Inverse)'!$A$4:$B$33,2)*K235/I235))","v":""},"","","","",{"$f":"IF(A235=\"\",\"\",VLOOKUP(R235,'Normal Loss Table'!$A$3:$B$32,2)*K235)","v":""},"","",null,"","","",""]
[null,null,null,null,null,null,null,null,"","","","","",{"$f":"IF(A236=\"\",\"\",1 - (VLOOKUP(M236,'Normal Loss Table (Inverse)'!$A$4:$B$33,2)*K236/I236))","v":""},"","","","",{"$f":"IF(A236=\"\",\"\",VLOOKUP(R236,'Normal Loss Table'!$A$3:$B$32,2)*K236)","v":""},"","",null,"","","",""]
[null,null,null,null,null,null,null,null,"","","","","",{"$f":"IF(A237=\"\",\"\",1 - (VLOOKUP(M237,'Normal Loss Table (Inverse)'!$A$4:$B$33,2)*K237/I237))","v":""},"","","","",{"$f":"IF(A237=\"\",\"\",VLOOKUP(R237,'Normal Loss Table'!$A$3:$B$32,2)*K237)","v":""},"","",null,"","","",""]
[null,null,null,null,null,null,null,null,"","","","","",{"$f":"IF(A238=\"\",\"\",1 - (VLOOKUP(M238,'Normal Loss Table (Inverse)'!$A$4:$B$33,2)*K238/I238))","v":""},"","","","",{"$f":"IF(A238=\"\",\"\",VLOOKUP(R238,'Normal Loss Table'!$A$3:$B$32,2)*K238)","v":""},"","",null,"","","",""]
[null,null,null,null,null,null,null,null,"","","","","",{"$f":"IF(A239=\"\",\"\",1 - (VLOOKUP(M239,'Normal Loss Table (Inverse)'!$A$4:$B$33,2)*K239/I239))","v":""},"","","","",{"$f":"IF(A239=\"\",\"\",VLOOKUP(R239,'Normal Loss Table'!$A$3:$B$32,2)*K239)","v":""},"","",null,"","","",""]
[null,null,null,null,null,null,null,null,"","","","","",{"$f":"IF(A240=\"\",\"\",1 - (VLOOKUP(M240,'Normal Loss Table (Inverse)'!$A$4:$B$33,2)*K240/I240))","v":""},"","","","",{"$f":"IF(A240=\"\",\"\",VLOOKUP(R240,'Normal Loss Table'!$A$3:$B$32,2)*K240)","v":""},"","",null,"","","",""]
[null,null,null,null,null,null,null,null,"","","","","",{"$f":"IF(A241=\"\",\"\",1 - (VLOOKUP(M241,'Normal Loss Table (Inverse)'!$A$4:$B$33,2)*K241/I241))","v":""},"","","","",{"$f":"IF(A241=\"\",\"\",VLOOKUP(R241,'Normal Loss Table'!$A$3:$B$32,2)*K241)","v":""},"","",null,"","","",""]
[null,null,null,null,null,null,null,null,"","","","","",{"$f":"IF(A242=\"\",\"\",1 - (VLOOKUP(M242,'Normal Loss Table (Inverse)'!$A$4:$B$33,2)*K242/I242))","v":""},"","","","",{"$f":"IF(A242=\"\",\"\",VLOOKUP(R242,'Normal Loss Table'!$A$3:$B$32,2)*K242)","v":""},"","",null,"","","",""]
[null,null,null,null,null,null,null,null,"","","","","",{"$f":"IF(A243=\"\",\"\",1 - (VLOOKUP(M243,'Normal Loss Table (Inverse)'!$A$4:$B$33,2)*K243/I243))","v":""},"","","","",{"$f":"IF(A243=\"\",\"\",VLOOKUP(R243,'Normal Loss Table'!$A$3:$B$32,2)*K243)","v":""},"","",null,"","","",""]
[null,null,null,null,null,null,null,null,"","","","","",{"$f":"IF(A244=\"\",\"\",1 - (VLOOKUP(M244,'Normal Loss Table (Inverse)'!$A$4:$B$33,2)*K244/I244))","v":""},"","","","",{"$f":"IF(A244=\"\",\"\",VLOOKUP(R244,'Normal Loss Table'!$A$3:$B$32,2)*K244)","v":""},"","",null,"","","",""]
[null,null,null,null,null,null,null,null,"","","","",null,{"$f":"IF(A245=\"\",\"\",1 - (VLOOKUP(M245,'Normal Loss Table (Inverse)'!$A$4:$B$33,2)*K245/I245))","v":""},"","","","",{"$f":"IF(A245=\"\",\"\",VLOOKUP(R245,'Normal Loss Table'!$A$3:$B$32,2)*K245)","v":""},"","",null,"","","",""]
[null,null,null,null,null,null,null,null,"","","","",null,{"$f":"IF(A246=\"\",\"\",1 - (VLOOKUP(M246,'Normal Loss Table (Inverse)'!$A$4:$B$33,2)*K246/I246))","v":""},"","","","",{"$f":"IF(A246=\"\",\"\",VLOOKUP(R246,'Normal Loss Table'!$A$3:$B$32,2)*K246)","v":""},"","",null,"","","",""]
[null,null,null,null,null,null,null,null,"","","","",null,{"$f":"IF(A247=\"\",\"\",1 - (VLOOKUP(M247,'Normal Loss Table (Inverse)'!$A$4:$B$33,2)*K247/I247))","v":""},"","","","",{"$f":"IF(A247=\"\",\"\",VLOOKUP(R247,'Normal Loss Table'!$A$3:$B$32,2)*K247)","v":""},"","",null,"","","",""]
[null,null,null,null,null,null,null,null,"","","","",null,{"$f":"IF(A248=\"\",\"\",1 - (VLOOKUP(M248,'Normal Loss Table (Inverse)'!$A$4:$B$33,2)*K248/I248))","v":""},"","","","",{"$f":"IF(A248=\"\",\"\",VLOOKUP(R248,'Normal Loss Table'!$A$3:$B$32,2)*K248)","v":""},"","",null,"","","",""]
[null,null,null,null,null,null,null,null,"","","","",null,{"$f":"IF(A249=\"\",\"\",1 - (VLOOKUP(M249,'Normal Loss Table (Inverse)'!$A$4:$B$33,2)*K249/I249))","v":""},"","","","",{"$f":"IF(A249=\"\",\"\",VLOOKUP(R249,'Normal Loss Table'!$A$3:$B$32,2)*K249)","v":""},"","",null,"","","",""]
[null,null,null,null,null,null,null,null,"","","","",null,{"$f":"IF(A250=\"\",\"\",1 - (VLOOKUP(M250,'Normal Loss Table (Inverse)'!$A$4:$B$33,2)*K250/I250))","v":""},"","","","",{"$f":"IF(A250=\"\",\"\",VLOOKUP(R250,'Normal Loss Table'!$A$3:$B$32,2)*K250)","v":""},"","",null,"","","",""]
[null,null,null,null,null,null,null,null,"","","","",null,{"$f":"IF(A251=\"\",\"\",1 - (VLOOKUP(M251,'Normal Loss Table (Inverse)'!$A$4:$B$33,2)*K251/I251))","v":""},"","","","",{"$f":"IF(A251=\"\",\"\",VLOOKUP(R251,'Normal Loss Table'!$A$3:$B$32,2)*K251)","v":""},"","",null,"","","",""]
[null,null,null,null,null,null,null,null,"","","","",null,{"$f":"IF(A252=\"\",\"\",1 - (VLOOKUP(M252,'Normal Loss Table (Inverse)'!$A$4:$B$33,2)*K252/I252))","v":""},"","","","",{"$f":"IF(A252=\"\",\"\",VLOOKUP(R252,'Normal Loss Table'!$A$3:$B$32,2)*K252)","v":""},"","",null,"","","",""]
[null,null,null,null,null,null,null,null,"","","","",null,{"$f":"IF(A253=\"\",\"\",1 - (VLOOKUP(M253,'Normal Loss Table (Inverse)'!$A$4:$B$33,2)*K253/I253))","v":""},"","","","",{"$f":"IF(A253=\"\",\"\",VLOOKUP(R253,'Normal Loss Table'!$A$3:$B$32,2)*K253)","v":""},"","",null,"","",""]
[null,null,null,null,null,null,null,null,"","","","",null,{"$f":"IF(A254=\"\",\"\",1 - (VLOOKUP(M254,'Normal Loss Table (Inverse)'!$A$4:$B$33,2)*K254/I254))","v":""},"","","","",null,"","",null,"","",""]
[null,null,null,null,null,null,null,null,"","","","",null,{"$f":"IF(A255=\"\",\"\",1 - (VLOOKUP(M255,'Normal Loss Table (Inverse)'!$A$4:$B$33,2)*K255/I255))","v":""},"","","","",null,"","",null,"","",""]
[null,null,null,null,null,null,null,null,"","","","",null,{"$f":"IF(A256=\"\",\"\",1 - (VLOOKUP(M256,'Normal Loss Table (Inverse)'!$A$4:$B$33,2)*K256/I256))","v":""},"","","","",null,"","",null,"","",""]
[null,null,null,null,null,null,null,null,"","","","",null,{"$f":"IF(A257=\"\",\"\",1 - (VLOOKUP(M257,'Normal Loss Table (Inverse)'!$A$4:$B$33,2)*K257/I257))","v":""},"","",null,"",null,"","",null,"","",""]
[null,null,null,null,null,null,null,null,"","","","",null,{"$f":"IF(A258=\"\",\"\",1 - (VLOOKUP(M258,'Normal Loss Table (Inverse)'!$A$4:$B$33,2)*K258/I258))","v":""},"","",null,"",null,"","",null,"","",""]
[null,null,null,null,null,null,null,null,"","","","",null,{"$f":"IF(A259=\"\",\"\",1 - (VLOOKUP(M259,'Normal Loss Table (Inverse)'!$A$4:$B$33,2)*K259/I259))","v":""},"","",null,"",null,"","",null,"","",""]
[null,null,null,null,null,null,null,null,{"$f":"IF(A260=\"\",\"\",H260*B260)","v":""},{"$f":"IF(A260=\"\",\"\",IF(D260-(I260/2) > 0, D260-(I260/2), 0))","v":""},"",{"$f":"IF(A260=\"\",\"\",J260/K260)","v":""},null,{"$f":"IF(A260=\"\",\"\",1 - (VLOOKUP(M260,'Normal Loss Table (Inverse)'!$A$4:$B$33,2)*K260/I260))","v":""},{"$f":"IF(A260=\"\",\"\",B260*N260)","v":""},{"$f":"IF(A260=\"\",\"\",O260*$C260)","v":""},null,null,null,{"$f":"IF(A260=\"\",\"\",I260/2+S260)","v":""},{"$f":"IF(A260=\"\",\"\",B260*C260*52*N260)","v":""},null,{"$f":"IF(A260=\"\",\"\",(V260-U260)*G260)","v":""},{"$f":"IF(A260=\"\",\"\",(T260*C260-Q260)*0.2)","v":""},{"$f":"IF(A260=\"\",\"\",W260-X260)","v":""}]
[null,null,null,null,null,null,null,null,"",null,{"$f":"IF(A261=\"\",\"\",SQRT(($H261*POWER(E261,2)) + ((B261^2)*POWER(1,2))))","v":""},"",null,{"$f":"IF(A261=\"\",\"\",1 - (VLOOKUP(M261,'Normal Loss Table (Inverse)'!$A$4:$B$33,2)*K261/I261))","v":""},"","",null,null,null,"","",null,"","",""]
[null,null,null,null,null,null,null,null,"",null,"","",null,{"$f":"IF(A262=\"\",\"\",1 - (VLOOKUP(M262,'Normal Loss Table (Inverse)'!$A$4:$B$33,2)*K262/I262))","v":""},"",null,null,null,null,"","",null,"","",""]
[null,null,null,null,null,null,null,null,"",null,"",null,null,{"$f":"IF(A263=\"\",\"\",1 - (VLOOKUP(M263,'Normal Loss Table (Inverse)'!$A$4:$B$33,2)*K263/I263))","v":""},"",null,null,null,null,"","",null,"",""]
[null,null,null,null,null,null,null,null,"",null,"",null,null,{"$f":"IF(A264=\"\",\"\",1 - (VLOOKUP(M264,'Normal Loss Table (Inverse)'!$A$4:$B$33,2)*K264/I264))","v":""},"",null,null,null,null,null,"",null,"",""]
[null,null,null,null,null,null,null,null,"",null,"",null,null,{"$f":"IF(A265=\"\",\"\",1 - (VLOOKUP(M265,'Normal Loss Table (Inverse)'!$A$4:$B$33,2)*K265/I265))","v":""},"",null,null,null,null,null,"",null,"",""]
[null,null,null,null,null,null,null,null,"",null,"",null,null,{"$f":"IF(A266=\"\",\"\",1 - (VLOOKUP(M266,'Normal Loss Table (Inverse)'!$A$4:$B$33,2)*K266/I266))","v":""},"",null,null,null,null,null,"",null,""]
[null,null,null,null,null,null,null,null,"",null,"",null,null,{"$f":"IF(A267=\"\",\"\",1 - (VLOOKUP(M267,'Normal Loss Table (Inverse)'!$A$4:$B$33,2)*K267/I267))","v":""},"",null,null,null,null,null,"",null,""]
[null,null,null,null,null,null,null,null,"",null,"",null,null,{"$f":"IF(A268=\"\",\"\",1 - (VLOOKUP(M268,'Normal Loss Table (Inverse)'!$A$4:$B$33,2)*K268/I268))","v":""},"",null,null,null,null,null,"",null,""]
[null,null,null,null,null,null,null,null,"",null,"",null,null,{"$f":"IF(A269=\"\",\"\",1 - (VLOOKUP(M269,'Normal Loss Table (Inverse)'!$A$4:$B$33,2)*K269/I269))","v":""},"",null,null,null,null,null,"",null,""]
[null,null,null,null,null,null,null,null,"",null,"",null,null,{"$f":"IF(A270=\"\",\"\",1 - (VLOOKUP(M270,'Normal Loss Table (Inverse)'!$A$4:$B$33,2)*K270/I270))","v":""},"",null,null,null,null,null,"",null,""]
[null,null,null,null,null,null,null,null,"",null,"",null,null,{"$f":"IF(A271=\"\",\"\",1 - (VLOOKUP(M271,'Normal Loss Table (Inverse)'!$A$4:$B$33,2)*K271/I271))","v":""},"",null,null,null,null,null,"",null,""]
[null,null,null,null,null,null,null,null,"",null,"",null,null,{"$f":"IF(A272=\"\",\"\",1 - (VLOOKUP(M272,'Normal Loss Table (Inverse)'!$A$4:$B$33,2)*K272/I272))","v":""},"",null,null,null,null,null,"",null,""]
[null,null,null,null,null,null,null,null,"",null,"",null,null,{"$f":"IF(A273=\"\",\"\",1 - (VLOOKUP(M273,'Normal Loss Table (Inverse)'!$A$4:$B$33,2)*K273/I273))","v":""},"",null,null,null,null,null,"",null,""]
[null,null,null,null,null,null,null,null,"",null,"",null,null,{"$f":"IF(A274=\"\",\"\",1 - (VLOOKUP(M274,'Normal Loss Table (Inverse)'!$A$4:$B$33,2)*K274/I274))","v":""},"",null,null,null,null,null,"",null,""]
[null,null,null,null,null,null,null,null,"",null,"",null,null,{"$f":"IF(A275=\"\",\"\",1 - (VLOOKUP(M275,'Normal Loss Table (Inverse)'!$A$4:$B$33,2)*K275/I275))","v":""},"",null,null,null,null,null,"",null,""]
[null,null,null,null,null,null,null,null,"",null,"",null,null,{"$f":"IF(A276=\"\",\"\",1 - (VLOOKUP(M276,'Normal Loss Table (Inverse)'!$A$4:$B$33,2)*K276/I276))","v":""},"",null,null,null,null,null,"",null,""]
[null,null,null,null,null,null,null,null,"",null,"",null,null,{"$f":"IF(A277=\"\",\"\",1 - (VLOOKUP(M277,'Normal Loss Table (Inverse)'!$A$4:$B$33,2)*K277/I277))","v":""},"",null,null,null,null,null,"",null,""]
[null,null,null,null,null,null,null,null,"",null,"",null,null,{"$f":"IF(A278=\"\",\"\",1 - (VLOOKUP(M278,'Normal Loss Table (Inverse)'!$A$4:$B$33,2)*K278/I278))","v":""},"",null,null,null,null,null,"",null,""]
[null,null,null,null,null,null,null,null,"",null,"",null,null,{"$f":"IF(A279=\"\",\"\",1 - (VLOOKUP(M279,'Normal Loss Table (Inverse)'!$A$4:$B$33,2)*K279/I279))","v":""},"",null,null,null,null,null,"",null,""]
[null,null,null,null,null,null,null,null,"",null,"",null,null,{"$f":"IF(A280=\"\",\"\",1 - (VLOOKUP(M280,'Normal Loss Table (Inverse)'!$A$4:$B$33,2)*K280/I280))","v":""},"",null,null,null,null,null,"",null,""]
[null,null,null,null,null,null,null,null,"",null,"",null,null,{"$f":"IF(A281=\"\",\"\",1 - (VLOOKUP(M281,'Normal Loss Table (Inverse)'!$A$4:$B$33,2)*K281/I281))","v":""},"",null,null,null,null,null,"",null,""]
[null,null,null,null,null,null,null,null,"",null,"",null,null,{"$f":"IF(A282=\"\",\"\",1 - (VLOOKUP(M282,'Normal Loss Table (Inverse)'!$A$4:$B$33,2)*K282/I282))","v":""},"",null,null,null,null,null,"",null,""]
[null,null,null,null,null,null,null,null,"",null,"",null,null,{"$f":"IF(A283=\"\",\"\",1 - (VLOOKUP(M283,'Normal Loss Table (Inverse)'!$A$4:$B$33,2)*K283/I283))","v":""},"",null,null,null,null,null,"",null,""]
[null,null,null,null,null,null,null,null,"",null,"",null,null,{"$f":"IF(A284=\"\",\"\",1 - (VLOOKUP(M284,'Normal Loss Table (Inverse)'!$A$4:$B$33,2)*K284/I284))","v":""},"",null,null,null,null,null,"",null,""]
[null,null,null,null,null,null,null,null,"",null,"",null,null,{"$f":"IF(A285=\"\",\"\",1 - (VLOOKUP(M285,'Normal Loss Table (Inverse)'!$A$4:$B$33,2)*K285/I285))","v":""},"",null,null,null,null,null,"",null,""]
[null,null,null,null,null,null,null,null,"",null,"",null,null,{"$f":"IF(A286=\"\",\"\",1 - (VLOOKUP(M286,'Normal Loss Table (Inverse)'!$A$4:$B$33,2)*K286/I286))","v":""},"",null,null,null,null,null,"",null,""]
[null,null,null,null,null,null,null,null,"",null,"",null,null,{"$f":"IF(A287=\"\",\"\",1 - (VLOOKUP(M287,'Normal Loss Table (Inverse)'!$A$4:$B$33,2)*K287/I287))","v":""},"",null,null,null,null,null,"",null,""]
[null,null,null,null,null,null,null,null,"",null,"",null,null,{"$f":"IF(A288=\"\",\"\",1 - (VLOOKUP(M288,'Normal Loss Table (Inverse)'!$A$4:$B$33,2)*K288/I288))","v":""},"",null,null,null,null,null,"",null,""]
[null,null,null,null,null,null,null,null,"",null,"",null,null,{"$f":"IF(A289=\"\",\"\",1 - (VLOOKUP(M289,'Normal Loss Table (Inverse)'!$A$4:$B$33,2)*K289/I289))","v":""},"",null,null,null,null,null,"",null,""]
[null,null,null,null,null,null,null,null,"",null,"",null,null,{"$f":"IF(A290=\"\",\"\",1 - (VLOOKUP(M290,'Normal Loss Table (Inverse)'!$A$4:$B$33,2)*K290/I290))","v":""},"",null,null,null,null,null,"",null,""]
[null,null,null,null,null,null,null,null,"",null,"",null,null,{"$f":"IF(A291=\"\",\"\",1 - (VLOOKUP(M291,'Normal Loss Table (Inverse)'!$A$4:$B$33,2)*K291/I291))","v":""},"",null,null,null,null,null,"",null,""]
[null,null,null,null,null,null,null,null,"",null,"",null,null,{"$f":"IF(A292=\"\",\"\",1 - (VLOOKUP(M292,'Normal Loss Table (Inverse)'!$A$4:$B$33,2)*K292/I292))","v":""},"",null,null,null,null,null,"",null,""]
[null,null,null,null,null,null,null,null,"",null,"",null,null,{"$f":"IF(A293=\"\",\"\",1 - (VLOOKUP(M293,'Normal Loss Table (Inverse)'!$A$4:$B$33,2)*K293/I293))","v":""},"",null,null,null,null,null,"",null,""]
[null,null,null,null,null,null,null,null,"",null,"",null,null,{"$f":"IF(A294=\"\",\"\",1 - (VLOOKUP(M294,'Normal Loss Table (Inverse)'!$A$4:$B$33,2)*K294/I294))","v":""},"",null,null,null,null,null,"",null,""]
[null,null,null,null,null,null,null,null,"",null,"",null,null,{"$f":"IF(A295=\"\",\"\",1 - (VLOOKUP(M295,'Normal Loss Table (Inverse)'!$A$4:$B$33,2)*K295/I295))","v":""},"",null,null,null,null,null,"",null,""]
[null,null,null,null,null,null,null,null,"",null,"",null,null,{"$f":"IF(A296=\"\",\"\",1 - (VLOOKUP(M296,'Normal Loss Table (Inverse)'!$A$4:$B$33,2)*K296/I296))","v":""},"",null,null,null,null,null,"",null,""]
[null,null,null,null,null,null,null,null,"",null,"",null,null,{"$f":"IF(A297=\"\",\"\",1 - (VLOOKUP(M297,'Normal Loss Table (Inverse)'!$A$4:$B$33,2)*K297/I297))","v":""},"",null,null,null,null,null,"",null,""]
[null,null,null,null,null,null,null,null,"",null,"",null,null,{"$f":"IF(A298=\"\",\"\",1 - (VLOOKUP(M298,'Normal Loss Table (Inverse)'!$A$4:$B$33,2)*K298/I298))","v":""},"",null,null,null,null,null,null,null,""]
[null,null,null,null,null,null,null,null,"",null,"",null,null,{"$f":"IF(A299=\"\",\"\",1 - (VLOOKUP(M299,'Normal Loss Table (Inverse)'!$A$4:$B$33,2)*K299/I299))","v":""},"",null,null,null,null,null,null,null,""]
[null,null,null,null,null,null,null,null,"",null,"",null,null,{"$f":"IF(A300=\"\",\"\",1 - (VLOOKUP(M300,'Normal Loss Table (Inverse)'!$A$4:$B$33,2)*K300/I300))","v":""},"",null,null,null,null,null,null,null,""]
[null,null,null,null,null,null,null,null,"",null,"",null,null,{"$f":"IF(A301=\"\",\"\",1 - (VLOOKUP(M301,'Normal Loss Table (Inverse)'!$A$4:$B$33,2)*K301/I301))","v":""},"",null,null,null,null,null,null,null,""]
[null,null,null,null,null,null,null,null,"",null,"",null,null,{"$f":"IF(A302=\"\",\"\",1 - (VLOOKUP(M302,'Normal Loss Table (Inverse)'!$A$4:$B$33,2)*K302/I302))","v":""},"",null,null,null,null,null,null,null,""]
[null,null,null,null,null,null,null,null,"",null,"",null,null,{"$f":"IF(A303=\"\",\"\",1 - (VLOOKUP(M303,'Normal Loss Table (Inverse)'!$A$4:$B$33,2)*K303/I303))","v":""},"",null,null,null,null,null,null,null,""]
[null,null,null,null,null,null,null,null,"",null,"",null,null,{"$f":"IF(A304=\"\",\"\",1 - (VLOOKUP(M304,'Normal Loss Table (Inverse)'!$A$4:$B$33,2)*K304/I304))","v":""},"",null,null,null,null,null,null,null,""]
[null,null,null,null,null,null,null,null,"",null,null,null,null,{"$f":"IF(A305=\"\",\"\",1 - (VLOOKUP(M305,'Normal Loss Table (Inverse)'!$A$4:$B$33,2)*K305/I305))","v":""},"",null,null,null,null,null,null,null,""]
[null,null,null,null,null,null,null,null,"",null,null,null,null,{"$f":"IF(A306=\"\",\"\",1 - (VLOOKUP(M306,'Normal Loss Table (Inverse)'!$A$4:$B$33,2)*K306/I306))","v":""},"",null,null,null,null,null,null,null,""]
[null,null,null,null,null,null,null,null,"",null,null,null,null,{"$f":"IF(A307=\"\",\"\",1 - (VLOOKUP(M307,'Normal Loss Table (Inverse)'!$A$4:$B$33,2)*K307/I307))","v":""},"",null,null,null,null,null,null,null,""]
[null,null,null,null,null,null,null,null,"",null,null,null,null,{"$f":"IF(A308=\"\",\"\",1 - (VLOOKUP(M308,'Normal Loss Table (Inverse)'!$A$4:$B$33,2)*K308/I308))","v":""},"",null,null,null,null,null,null,null,""]
[null,null,null,null,null,null,null,null,"",null,null,null,null,{"$f":"IF(A309=\"\",\"\",1 - (VLOOKUP(M309,'Normal Loss Table (Inverse)'!$A$4:$B$33,2)*K309/I309))","v":""},"",null,null,null,null,null,null,null,""]
[null,null,null,null,null,null,null,null,"",null,null,null,null,{"$f":"IF(A310=\"\",\"\",1 - (VLOOKUP(M310,'Normal Loss Table (Inverse)'!$A$4:$B$33,2)*K310/I310))","v":""},"",null,null,null,null,null,null,null,""]
[null,null,null,null,null,null,null,null,"",null,null,null,null,{"$f":"IF(A311=\"\",\"\",1 - (VLOOKUP(M311,'Normal Loss Table (Inverse)'!$A$4:$B$33,2)*K311/I311))","v":""},"",null,null,null,null,null,null,null,""]
[null,null,null,null,null,null,null,null,"",null,null,null,null,{"$f":"IF(A312=\"\",\"\",1 - (VLOOKUP(M312,'Normal Loss Table (Inverse)'!$A$4:$B$33,2)*K312/I312))","v":""},"",null,null,null,null,null,null,null,""]
[null,null,null,null,null,null,null,null,"",null,null,null,null,{"$f":"IF(A313=\"\",\"\",1 - (VLOOKUP(M313,'Normal Loss Table (Inverse)'!$A$4:$B$33,2)*K313/I313))","v":""},"",null,null,null,null,null,null,null,""]
[null,null,null,null,null,null,null,null,"",null,null,null,null,{"$f":"IF(A314=\"\",\"\",1 - (VLOOKUP(M314,'Normal Loss Table (Inverse)'!$A$4:$B$33,2)*K314/I314))","v":""},"",null,null,null,null,null,null,null,""]
[null,null,null,null,null,null,null,null,"",null,null,null,null,{"$f":"IF(A315=\"\",\"\",1 - (VLOOKUP(M315,'Normal Loss Table (Inverse)'!$A$4:$B$33,2)*K315/I315))","v":""},"",null,null,null,null,null,null,null,""]
[null,null,null,null,null,null,null,null,"",null,null,null,null,{"$f":"IF(A316=\"\",\"\",1 - (VLOOKUP(M316,'Normal Loss Table (Inverse)'!$A$4:$B$33,2)*K316/I316))","v":""},"",null,null,null,null,null,null,null,""]
[null,null,null,null,null,null,null,null,"",null,null,null,null,{"$f":"IF(A317=\"\",\"\",1 - (VLOOKUP(M317,'Normal Loss Table (Inverse)'!$A$4:$B$33,2)*K317/I317))","v":""},"",null,null,null,null,null,null,null,""]
[null,null,null,null,null,null,null,null,"",null,null,null,null,{"$f":"IF(A318=\"\",\"\",1 - (VLOOKUP(M318,'Normal Loss Table (Inverse)'!$A$4:$B$33,2)*K318/I318))","v":""},"",null,null,null,null,null,null,null,""]
[null,null,null,null,null,null,null,null,"",null,null,null,null,{"$f":"IF(A319=\"\",\"\",1 - (VLOOKUP(M319,'Normal Loss Table (Inverse)'!$A$4:$B$33,2)*K319/I319))","v":""},"",null,null,null,null,null,null,null,""]
[null,null,null,null,null,null,null,null,"",null,null,null,null,{"$f":"IF(A320=\"\",\"\",1 - (VLOOKUP(M320,'Normal Loss Table (Inverse)'!$A$4:$B$33,2)*K320/I320))","v":""},"",null,null,null,null,null,null,null,""]
[null,null,null,null,null,null,null,null,"",null,null,null,null,{"$f":"IF(A321=\"\",\"\",1 - (VLOOKUP(M321,'Normal Loss Table (Inverse)'!$A$4:$B$33,2)*K321/I321))","v":""},"",null,null,null,null,null,null,null,""]
[null,null,null,null,null,null,null,null,"",null,null,null,null,{"$f":"IF(A322=\"\",\"\",1 - (VLOOKUP(M322,'Normal Loss Table (Inverse)'!$A$4:$B$33,2)*K322/I322))","v":""},"",null,null,null,null,null,null,null,""]
[null,null,null,null,null,null,null,null,"",null,null,null,null,{"$f":"IF(A323=\"\",\"\",1 - (VLOOKUP(M323,'Normal Loss Table (Inverse)'!$A$4:$B$33,2)*K323/I323))","v":""},"",null,null,null,null,null,null,null,""]
[null,null,null,null,null,null,null,null,{"$f":"IF(A324=\"\",\"\",H324*B324)","v":""},null,null,null,null,{"$f":"IF(A324=\"\",\"\",1 - (VLOOKUP(M324,'Normal Loss Table (Inverse)'!$A$4:$B$33,2)*K324/I324))","v":""},{"$f":"IF(A324=\"\",\"\",B324*N324)","v":""},null,null,null,null,null,null,null,{"$f":"IF(A324=\"\",\"\",(V324-U324)*G324)","v":""}]
[null,null,null,null,null,null,null,null,"",null,null,null,null,null,"",null,null,null,null,null,null,null,""]
[null,null,null,null,null,null,null,null,"",null,null,null,null,null,"",null,null,null,null,null,null,null,""]
[null,null,null,null,null,null,null,null,"",null,null,null,null,null,"",null,null,null,null,null,null,null,""]
[null,null,null,null,null,null,null,null,"",null,null,null,null,null,"",null,null,null,null,null,null,null,""]
[null,null,null,null,null,null,null,null,"",null,null,null,null,null,"",null,null,null,null,null,null,null,""]
[null,null,null,null,null,null,null,null,"",null,null,null,null,null,"",null,null,null,null,null,null,null,""]
[null,null,null,null,null,null,null,null,"",null,null,null,null,null,"",null,null,null,null,null,null,null,""]
[null,null,null,null,null,null,null,null,"",null,null,null,null,null,"",null,null,null,null,null,null,null,""]
[null,null,null,null,null,null,null,null,"",null,null,null,null,null,"",null,null,null,null,null,null,null,""]
[null,null,null,null,null,null,null,null,"",null,null,null,null,null,"",null,null,null,null,null,null,null,""]
[null,null,null,null,null,null,null,null,"",null,null,null,null,null,"",null,null,null,null,null,null,null,""]
[null,null,null,null,null,null,null,null,"",null,null,null,null,null,"",null,null,null,null,null,null,null,""]
[null,null,null,null,null,null,null,null,"",null,null,null,null,null,"",null,null,null,null,null,null,null,""]
[null,null,null,null,null,null,null,null,"",null,null,null,null,null,"",null,null,null,null,null,null,null,""]
[null,null,null,null,null,null,null,null,"",null,null,null,null,null,"",null,null,null,null,null,null,null,""]
[null,null,null,null,null,null,null,null,"",null,null,null,null,null,"",null,null,null,null,null,null,null,""]
[null,null,null,null,null,null,null,null,"",null,null,null,null,null,"",null,null,null,null,null,null,null,""]
[null,null,null,null,null,null,null,null,"",null,null,null,null,null,"",null,null,null,null,null,null,null,""]
[null,null,null,null,null,null,null,null,"",null,null,null,null,null,"",null,null,null,null,null,null,null,""]
[null,null,null,null,null,null,null,null,"",null,null,null,null,null,"",null,null,null,null,null,null,null,""]
[null,null,null,null,null,null,null,null,"",null,null,null,null,null,"",null,null,null,null,null,null,null,""]
[null,null,null,null,null,null,null,null,"",null,null,null,null,null,"",null,null,null,null,null,null,null,""]
[null,null,null,null,null,null,null,null,"",null,null,null,null,null,"",null,null,null,null,null,null,null,""]
[null,null,null,null,null,null,null,null,"",null,null,null,null,null,"",null,null,null,null,null,null,null,""]
[null,null,null,null,null,null,null,null,"",null,null,null,null,null,"",null,null,null,null,null,null,null,""]
[null,null,null,null,null,null,null,null,"",null,null,null,null,null,"",null,null,null,null,null,null,null,""]
[null,null,null,null,null,null,null,null,"",null,null,null,null,null,"",null,null,null,null,null,null,null,""]
[null,null,null,null,null,null,null,null,"",null,null,null,null,null,"",null,null,null,null,null,null,null,""]
[null,null,null,null,null,null,null,null,"",null,null,null,null,null,"",null,null,null,null,null,null,null,""]
[null,null,null,null,null,null,null,null,"",null,null,null,null,null,"",null,null,null,null,null,null,null,""]
[null,null,null,null,null,null,null,null,"",null,null,null,null,null,"",null,null,null,null,null,null,null,""]
[null,null,null,null,null,null,null,null,"",null,null,null,null,null,"",null,null,null,null,null,null,null,""]
[null,null,null,null,null,null,null,null,"",null,null,null,null,null,"",null,null,null,null,null,null,null,""]
[null,null,null,null,null,null,null,null,"",null,null,null,null,null,"",null,null,null,null,null,null,null,""]
[null,null,null,null,null,null,null,null,"",null,null,null,null,null,"",null,null,null,null,null,null,null,""]
[null,null,null,null,null,null,null,null,"",null,null,null,null,null,"",null,null,null,null,null,null,null,""]
[null,null,null,null,null,null,null,null,"",null,null,null,null,null,"",null,null,null,null,null,null,null,""]
[null,null,null,null,null,null,null,null,"",null,null,null,null,null,"",null,null,null,null,null,null,null,""]
[null,null,null,null,null,null,null,null,"",null,null,null,null,null,"",null,null,null,null,null,null,null,""]
[null,null,null,null,null,null,null,null,"",null,null,null,null,null,"",null,null,null,null,null,null,null,""]
[null,null,null,null,null,null,null,null,"",null,null,null,null,null,"",null,null,null,null,null,null,null,""]
[null,null,null,null,null,null,null,null,"",null,null,null,null,null,"",null,null,null,null,null,null,null,""]
[null,null,null,null,null,null,null,null,"",null,null,null,null,null,"",null,null,null,null,null,null,null,""]
[null,null,null,null,null,null,null,null,"",null,null,null,null,null,"",null,null,null,null,null,null,null,""]
[null,null,null,null,null,null,null,null,"",null,null,null,null,null,"",null,null,null,null,null,null,null,""]
[null,null,null,null,null,null,null,null,"",null,null,null,null,null,"",null,null,null,null,null,null,null,""]
[null,null,null,null,null,null,null,null,"",null,null,null,null,null,"",null,null,null,null,null,null,null,""]
[null,null,null,null,null,null,null,null,"",null,null,null,null,null,"",null,null,null,null,null,null,null,""]
[null,null,null,null,null,null,null,null,"",null,null,null,null,null,"",null,null,null,null,null,null,null,""]
[null,null,null,null,null,null,null,null,"",null,null,null,null,null,"",null,null,null,null,null,null,null,""]
[null,null,null,null,null,null,null,null,"",null,null,null,null,null,"",null,null,null,null,null,null,null,""]
[null,null,null,null,null,null,null,null,"",null,null,null,null,null,"",null,null,null,null,null,null,null,""]
[null,null,null,null,null,null,null,null,"",null,null,null,null,null,"",null,null,null,null,null,null,null,""]
[null,null,null,null,null,null,null,null,"",null,null,null,null,null,"",null,null,null,null,null,null,null,""]
[null,null,null,null,null,null,null,null,"",null,null,null,null,null,null,null,null,null,null,null,null,null,""]
[null,null,null,null,null,null,null,null,"",null,null,null,null,null,null,null,null,null,null,null,null,null,""]
[null,null,null,null,null,null,null,null,""]
[null,null,null,null,null,null,null,null,""]
[null,null,null,null,null,null,null,null,""]
[null,null,null,null,null,null,null,null,""]

{"sheet":"Normal Loss Table","index":1,"n_rows":32,"n_cols":2,"rows_kept":32,"cut":false,"hidden":false,"merged":[]}
["f(k)","k"]
[]
[0,3]
[6.9999999999999999E-4,2.8]
[1E-3,2.7]
[1.4E-3,2.6]
[2E-3,2.5]
[2.7000000000000001E-3,2.4]
[3.5999999999999999E-3,2.2999999999999998]
[4.7999999999999996E-3,2.2000000000000002]
[6.4000000000000003E-3,2.1]
[7.4000000000000003E-3,2]
[8.3999999999999995E-3,1.9]
[1.0999999999999999E-2,1.8]
[1.4200000000000001E-2,1.7]
[2.3199999999999998E-2,1.6]
[2.93E-2,1.5]
[3.6600000000000001E-2,1.4]
[4.5499999999999999E-2,1.3]
[5.6099999999999997E-2,1.2]
[6.8599999999999994E-2,1.1000000000000001]
[8.3299999999999999E-2,1]
[0.1004,0.9]
[0.1202,0.8]
[0.14280000000000001,0.7]
[0.1686,0.6]
[0.19769999999999999,0.5]
[0.23039999999999999,0.4]
[0.26669999999999999,0.3]
[0.30680000000000002,0.2]
[0.35089999999999999,0.1]
[0.39889999999999998,0]

{"sheet":"Normal Loss Table (Inverse)","index":2,"n_rows":33,"n_cols":2,"rows_kept":33,"cut":false,"hidden":false,"merged":[]}
["k","f(k)"]
[]
["Column1","Column2"]
[0,0.39889999999999998]
[0.1,0.35089999999999999]
[0.2,0.30680000000000002]
[0.3,0.26669999999999999]
[0.4,0.23039999999999999]
[0.5,0.19769999999999999]
[0.6,0.1686]
[0.7,0.14280000000000001]
[0.8,0.1202]
[0.9,0.1004]
[1,8.3299999999999999E-2]
[1.1000000000000001,6.8599999999999994E-2]
[1.2,5.6099999999999997E-2]
[1.3,4.5499999999999999E-2]
[1.4,3.6600000000000001E-2]
[1.5,2.93E-2]
[1.6,2.3199999999999998E-2]
[1.7,1.4200000000000001E-2]
[1.8,1.0999999999999999E-2]
[1.9,8.3999999999999995E-3]
[2,7.4000000000000003E-3]
[2.1,6.4000000000000003E-3]
[2.2000000000000002,4.7999999999999996E-3]
[2.2999999999999998,3.5999999999999999E-3]
[2.4,2.7000000000000001E-3]
[2.5,2E-3]
[2.6,1.4E-3]
[2.7,1E-3]
[2.8,6.9999999999999999E-4]
[3,0]